Workbook

Sheet Intro
M12: Image Source: Neil Howard The River Itchen near Winchester Copyright: © Neil Howard 2012

Sheet Background
B3: Background
B7: There have been a series of court cases in recent years relating to how new plans or projects interact with the Habitats Regulations process where there are existing high levels of background nutrients. These decisions have led Natural England to review its advice on water quality effects on Habitats sites.
B8: The additional nutrient load from the increase in wastewater and/or the change in the land use of the development land created by a new residential development can create an impact pathway for potential negative effects on Habitats sites that are already suffering from problems related to nutrient loading. This impact pathway is shown diagrammatically in Figure 1.
B34: Habitats Regulations Assessments (HRAs) of new residential developments need to consider whether nutrient loading will result in ‘Likely Significant Effects’ (LSE) on a Habitats site. If an HRA finds LSE due to nutrient loading, the Appropriate Assessment will need to consider whether this nutrient load needs to be mitigated in order to remove adverse effects on the Habitats site.
B35: The first step in an HRA involving nutrient neutrality is understanding both whether a residential development will need mitigation to achieve nutrient neutrality and, if so, the amount of nutrients that require mitigating on an annual basis. In order to understand the amount of nutrients a new residential development will create, a nutrient budget for the development is required.
B36: This tool provides a step-by-step approach to calculating the nutrient budget for a new residential development. Before a nutrient budget can be completed using the methodology, certain site-specific details for the Habitats Site in question need to be determined. The required details for each stage of the nutrient budget methodology are shown in the instructions tab, with an associated guidance document that informs users of this calculator how to generate certain inputs to the calculator.

Sheet River Itchen SAC
B3: River Itchen Special Area of Conservation (SAC)
B6: The River Itchen SAC is a Habitats site with water pollution and eutrophication considered as a threat to its condition.
B7: The Itchen is a chalk river, which is a rare type of river habitat that can support a diverse ecology along its entire length.
B8: The river’s vegetation is exceptionally species rich, with many of the typical chalk stream plants present in abundance, including species such as river water-crowfoot and stream water-crowfoot.
B9: The river is rich in invertebrates, including Southern Damselfly, and supports diverse populations of aquatic molluscs. The Itchen supports one of the few populations of the native freshwater crayfish remaining in the rivers of southern England, along with fish species such as Atlantic salmon, bullhead and brook lamprey, along with a population of otters.
B10: Increased levels of nitrogen and phosphorous entering aquatic environments via surface water and groundwater can severely threaten these sensitive habitats and species within the SAC. The elevated levels of nutrients can cause eutrophication, leading to algal blooms which disrupt normal ecosystem function and cause major changes in the aquatic community. These algal blooms can result in reduced levels of oxygen within the water, which in turn can lead to the death of many aquatic organisms including invertebrates and fish.
B11: More detailed information on the qualifying features of the SAC and details of water quality data highlighting the current nutrient problems in the river are available in the Natural England River Itchen SAC evidence summary.

Sheet Instructions
B3: Instructions
B7: The nutrient budget for a site is calculated in four stages, with each stage implemented in the following worksheets.
B20: 1. General tips:
C22: Key:
D23: Values to be entered by the user
D24: Fixed or calculated values
D25: Lookup tables
B27: When a cell is selected, instructions are shown on how to fill out the cell:
B37: It is advisable to retain a blank copy of this workbook and "Save as" a new copy each time you calculate a budget, in case of any mistakes in data inputs or to ease calculation of new nutrient budgets .
B39: Note:
B40: The values already included in this tool have been chosen based on research to determine suitable inputs to the nutrient budget that meet the HRA tests of beyond reasonable scientific doubt, in perpetuity (practically speaking this is 80-125 years) and in accordance with the precautionary principle. If editing any values in this tool, you must make sure there is a sufficient evidence base to justify these changes and that the new inputs are selected in accordance with the precautionary principle.
B42: 2. Stage specific instructions:
B44: 2.1 Stage 1: calculate the new nutrient load associated with the additional wastewater:
B46: In this section the user will need to enter:
B47: The date of first occupancy. This is because some wastewater treatment works (WwTW) may be due an upgrade in 2025 which will change the nutrient concentration permit values. This will be shown through two values for the permits and nutrients load from before and after the upgrade.
B48: The average occupancy rate of the development will need to be entered. The default setting is the national occupancy rate of 2.4 people per dwelling/unit. Only change this value if there is sufficient evidence that the development will be different to the national average.
B49: The number of dwellings/units that will be in the development at the time of completion.
B50: The receiving WwTW that the development will drain to. If it is uncertain what WwTW the site will drain to, please find this information from your sewerage company before completing the calculator. If it is not feasable to connect to a WwTW and a septic tank or package treatment plant is being used, please select this option. Please be aware that if the total nitrogen (TN) or total phosphorus (TP) final effluent concentrations (in mg/l) are specified by the manufacturer, please select 'Septic Tank user defined' or 'Package Treatment Plant user defined' and enter the manufacturer specified value in the cell where prompted.
B51: 2.2 Stage 2 - calculate the annual nutrient load from existing (pre development) land use on the development site:
... B74: 3.1 Instructions for finding the Operational Catchment that the development is situated within:
B75: a) Go to this link: | D75: http://environment.data.gov.uk/catchment-planning/
B76: b) Search the location by place name, postcode etc. This will give a high-level view of the area. Use the zoom feature to find the exact location of the development.
B77: c) Click on the light blue area on the map in which the development is located. This will bring the user to the Operational Catchment page
B78: d) Make note of the name of the Operational Catchment and select it from the dropdown list in the relevant cell.
B80: 3.2 Instructions for finding the drainage associated with the predominant soil type within development site:
B81: a) Go to this link: | D81: http://www.landis.org.uk/soilscapes/#.
B82: b) Find the site location on the map by using the search bar on the right side of the map in the 'Search' tab. Searching an area will generate a pop up window in which you can view the soil information by clicking 'View soil information'. If this is not an option then click on the relevant soil type on the map and click on the 'Soil information' tab on the right hand side of the map, below the 'Search' tab.
B83: c) The 'Soil drainage type' value can be found In the 'Soil information' under the title 'Drainage:'
B84: d) Make a note of this soil type and select the relevant soil drainage type from the drop down list in the relevant cell.
B86: 3.3 Instructions for finding the annual average rainfall that the development will receive using the National River Flow Archive:
B87: a) Go to this link: | D87: https://nrfa.ceh.ac.uk/data/station/spatial/42023
B88: b) This link will bring the user to the Itchen at Riverside Park flow gauge catchment information page.
B89: c) Click on the dropdown list next to the title 'Select spatial data type to view:' on the left of the map and select 'Rainfall'. Next select the Legend tab.
B90: d) Zoom in on the map to find the location of the development and find the corresponding rainfall range from the Legend.
B91: e) Select the rainfall band from the drop down list in the table. If your rainfall band is not in the drop down list, please select the closest band shown in the list.
B93: 3.4 Instructions for finding out whether the development is in a Nitrate Vulnerable Zone (NVZ):
B94: a) Go to this link: | D94: http://mapapps2.bgs.ac.uk/ukso/home.html?layers=NVZEng
B95: b) Enter the location of the development site in the search bar.
B96: c) Once the area has been located, click on the map where the development is located to find out if is within an NVZ.
B97: d) Make note of this and select this in the dropdown list.

Sheet Development site details
B3: Development site details
C7: Date (dd/mm/yyyy): | D7: 44895
C8: Site Name: | D8: Costalot Stables
C9: Planning Application number: | D9: F/22/93119
C10: Site Address: | D10: Mobile Home at Costalot Stable, Blind Lane, Horton Heath, West End, Southampton, SO30 2HJ

Sheet Stage 1
B3: Stage 1
C7: User Inputs
C9: Date of first occupancy: | D9: 44927
C10: Average occupancy rate: | D10: 2.4 | G10: =IFERROR(IF(AND($D$9<DATE(2025,1,1),OR((VLOOKUP($D$13,Lookups!$C$8:$G$13,2,FALSE))>(VLOOKUP($D$13,Lookups!$C$8:$G$13,4,FALSE)),(VLOOKUP($D$13,Lookups!$C$8:$G$13,3,FALSE))>(VLOOKUP($D$13,Lookups!$C$8:$G$13,5,FALSE)))),"A nutrient permit is changing for the selected WwTW as of 01/01/2025. Therefore, two nutrient budgets will be calculated for the loading before and after the 2025 WwTW permit upgrade.",""),"") -> A nutrient permit is changing for the selected WwTW as of 01/01/2025. Therefore, two nutrient budgets will be calculated for the loading before and after the 2025 WwTW permit upgrade.
C11: Water usage (litres/person/day): | D11: 110
C12: Development Proposal (dwellings/units): | D12: 1
C13: Wastewater treatment works: | D13: Chickenhall Eastleigh WwTW
C14: Wastewater treatment works P permit (mg TP/litre): | D14: =(IFERROR(IF(OR(D13="Package Treatment Plant user defined",D13="Septic Tank user defined"),"Please enter value in cell to the right:",IF('Stage 1'!D9<DATE(2025,1,1),VLOOKUP('Stage 1'!D13,Lookups!C8:G16,2,FALSE),VLOOKUP('Stage 1'!D13,Lookups!C8:G15,4,FALSE))),"")) -> 1 | E14: 8 | F14: =IFERROR(IF(AND($D$9<DATE(2025,1,1),(VLOOKUP($D$13,Lookups!$C$8:$G$13,2,FALSE))>(VLOOKUP($D$13,Lookups!$C$8:$G$13,4,FALSE))), "Post 2025 WwTW P permit:",""),"") -> Post 2025 WwTW P permit: | G14: =IFERROR(IF(AND($D$9<DATE(2025,1,1),(VLOOKUP($D$13,Lookups!$C$8:$G$13,2,FALSE))>(VLOOKUP($D$13,Lookups!$C$8:$G$13,4,FALSE))), VLOOKUP('Stage 1'!D13,Lookups!C8:G16,4,FALSE),""),"") -> 0.6 | H14: =IFERROR(IF(AND($D$9<DATE(2025,1,1),(VLOOKUP($D$13,Lookups!$C$8:$G$13,2,FALSE))>(VLOOKUP($D$13,Lookups!$C$8:$G$13,4,FALSE))), "mg TP/litre",""),"") -> mg TP/litre
C15: Wastewater treatment works N permit (mg TN/litre): | D15: =IFERROR(IF(OR(D13="Package Treatment Plant user defined",D13="Septic Tank user defined"),"Please enter value in cell to the right:",IF('Stage 1'!D9<DATE(2025,1,1),VLOOKUP('Stage 1'!D13,Lookups!C8:G16, 3,FALSE), VLOOKUP('Stage 1'!D13,Lookups!C8:G15, 5,FALSE))),"") -> 27 | E15: 10 | F15: =IFERROR(IF(AND($D$9<DATE(2025,1,1),(VLOOKUP($D$13,Lookups!$C$8:$G$13,3,FALSE))>(VLOOKUP($D$13,Lookups!$C$8:$G$13,5,FALSE))), "Post 2025 WwTW N permit:",""),"") | G15: =IFERROR(IF(AND($D$9<DATE(2025,1,1),(VLOOKUP($D$13,Lookups!$C$8:$G$13,3,FALSE))>(VLOOKUP($D$13,Lookups!$C$8:$G$13,5,FALSE))), VLOOKUP('Stage 1'!D13,Lookups!$C$8:$G$16,5,FALSE),""),"") | H15: =IFERROR(IF(AND($D$9<DATE(2025,1,1),(VLOOKUP($D$13,Lookups!$C$8:$G$13,3,FALSE))>(VLOOKUP($D$13,Lookups!$C$8:$G$13,5,FALSE))), "mg TN/litre",""),"")
C17: Stage 1 Calculated Loading
N19: AND($C$9<DATE(2025,1,1),OR((VLOOKUP($C$13,Lookups!$A$9:$E$14,2,FALSE))>(VLOOKUP($C$13,Lookups!$A$9:$E$14,4,FALSE)),(VLOOKUP($C$13,Lookups!$A$9:$E$14,3,FALSE))>(VLOOKUP($C$13,Lookups!$A$9:$E$14,5,FALSE))))
C20: =IFERROR(IF(AND($D$9<DATE(2025,1,1),OR((VLOOKUP($D$13,Lookups!$C$8:$G$13,2,FALSE))>(VLOOKUP($D$13,Lookups!$C$8:$G$13,4,FALSE)),(VLOOKUP($D$13,Lookups!$C$8:$G$13,3,FALSE))>(VLOOKUP($D$13,Lookups!$C$8:$G$13,5,FALSE)))),"Post-2025 Stage 1 Nutrient Loading","Stage 1 Nutrient Loading"),"") -> Post-2025 Stage 1 Nutrient Loading | G20: =IFERROR(IF(AND($D$9<DATE(2025,1,1),OR((VLOOKUP($D$13,Lookups!$C$8:$G$13,2,FALSE))>(VLOOKUP($D$13,Lookups!$C$8:$G$13,4,FALSE)),(VLOOKUP($D$13,Lookups!$C$8:$G$13,3,FALSE))>(VLOOKUP($D$13,Lookups!$C$8:$G$13,5,FALSE)))),"Pre-2025 Stage 1 Nutrient Loading",""),"") -> Pre-2025 Stage 1 Nutrient Loading
C22: Additional population | D22: =IF(ISBLANK(D12),"",D10*D12) -> 2.4 | E22: people | G22: =IFERROR(IF(AND($D$9<DATE(2025,1,1),OR((VLOOKUP($D$13,Lookups!$C$8:$G$13,2,FALSE))>(VLOOKUP($D$13,Lookups!$C$8:$G$13,4,FALSE)),(VLOOKUP($D$13,Lookups!$C$8:$G$13,3,FALSE))>(VLOOKUP($D$13,Lookups!$C$8:$G$13,5,FALSE)))),"Annual wastewater TP load:",""),"") -> Annual wastewater TP load: | H22: =IFERROR(IF(AND($D$9<DATE(2025,1,1),OR((VLOOKUP($D$13,Lookups!$C$8:$G$13,2,FALSE))>(VLOOKUP($D$13,Lookups!$C$8:$G$13,4,FALSE)),(VLOOKUP($D$13,Lookups!$C$8:$G$13,3,FALSE))>(VLOOKUP($D$13,Lookups!$C$8:$G$13,5,FALSE)))),IF(D14=8,(D14*D$23)/1000000*365.25,(D14*D$23*0.9)/1000000*365.25),""),"") -> 0.0867834 | I22: =IFERROR(IF(AND($D$9<DATE(2025,1,1),OR((VLOOKUP($D$13,Lookups!$C$8:$G$13,2,FALSE))>(VLOOKUP($D$13,Lookups!$C$8:$G$13,4,FALSE)),(VLOOKUP($D$13,Lookups!$C$8:$G$13,3,FALSE))>(VLOOKUP($D$13,Lookups!$C$8:$G$13,5,FALSE)))),"kg TP/yr",""),"") -> kg TP/yr
C23: Wastewater by development | D23: =IFERROR(D22*D11,"") -> 264 | E23: litres/day | G23: =IFERROR(IF(AND($D$9<DATE(2025,1,1),OR((VLOOKUP($D$13,Lookups!$C$8:$G$13,2,FALSE))>(VLOOKUP($D$13,Lookups!$C$8:$G$13,4,FALSE)),(VLOOKUP($D$13,Lookups!$C$8:$G$13,3,FALSE))>(VLOOKUP($D$13,Lookups!$C$8:$G$13,5,FALSE)))),"Annual wastewater TN load:",""),"") -> Annual wastewater TN load: | H23: =IFERROR(IF(AND($D$9<DATE(2025,1,1),OR((VLOOKUP($D$13,Lookups!$C$8:$G$13,2,FALSE))>(VLOOKUP($D$13,Lookups!$C$8:$G$13,4,FALSE)),(VLOOKUP($D$13,Lookups!$C$8:$G$13,3,FALSE))>(VLOOKUP($D$13,Lookups!$C$8:$G$13,5,FALSE)))),IF(D15=27,(D15*D$23)/1000000*365.25,(D15*D$23*0.9)/1000000*365.25),""),"") -> 2.603502 | I23: =IFERROR(IF(AND($D$9<DATE(2025,1,1),OR((VLOOKUP($D$13,Lookups!$C$8:$G$13,2,FALSE))>(VLOOKUP($D$13,Lookups!$C$8:$G$13,4,FALSE)),(VLOOKUP($D$13,Lookups!$C$8:$G$13,3,FALSE))>(VLOOKUP($D$13,Lookups!$C$8:$G$13,5,FALSE)))),"kg TN/yr",""),"") -> kg TN/yr
C26: TP discharge from WwTW | D26: =IFERROR(IF(ISNUMBER(G14),G14*D23*0.9,IF(D14="Please enter value in cell to the right:",IF(AND(D14="Please enter value in cell to the right:",ISNUMBER(E14)),D23*E14, VLOOKUP((LEFT(D13,(LEN(D13)-13))&" default"),Lookups!C12:E13,2,FALSE)*D23),IF(OR(D13="Package Treatment Plant default",D13="Septic Tank default"),D14*D23,IF(D14=8,D14*D23,D14*D23*0.9)))),"") -> 142.56 | E26: mg TP/day
C27: Convert to kg/TP/d | D27: =IFERROR($D$26/1000000,"") -> 0.00014256 | E27: kg TP/day
C28: Convert to kg/TP/yr | D28: =IFERROR($D$27*365.25,"") -> 0.05207004 | E28: kg TP/yr
C29: Annual wastewater TP load | D29: =D28 -> 0.05207004 | E29: kg TP/yr
C32: TN discharge from WwTW | D32: =IFERROR(IF(ISNUMBER(G15),G15*D23*0.9,IF(D15="Please enter value in cell to the right:",IF(AND(D15="Please enter value in cell to the right:",ISNUMBER(E15)),D23*E15, VLOOKUP((LEFT(D13,(LEN(D13)-13))&" default"),Lookups!C12:E13,3,FALSE)*D23),IF(OR(D13="Package Treatment Plant default",D13="Septic Tank default"),D15*D23,IF(D15=27,D15*D23,D15*D23*0.9)))),"") -> 7128 | E32: mg TN/day
C33: Convert to kg/TN/d | D33: =IFERROR($D$32/1000000,"") -> 0.007128 | E33: kg TN/day
C34: Convert to kg/TN/yr | D34: =IFERROR($D$33*365.25,"") -> 2.603502 | E34: kg TN/yr
C35: Annual wastewater TN load | D35: =D34 -> 2.603502 | E35: kg TN/yr

Sheet Stage 2
B3: Stage 2
C7: User Inputs
C9: Catchment: | E9: Itchen
C10: Soil drainage type: | E10: Impeded drainage
C11: Annual average rainfall (mm): | E11: 800.1 - 850
C12: Within Nitrate Vulnerable Zone (NVZ): | E12: Yes
C14: Existing land use type(s) | D14: Area (ha) | E14: Annual phosphorus nutrient export (kg TP) | F14: Annual nitrogen nutrient export (kg TN)
C15: Residential urban land | D15: 0.0289 | E15: =IF(OR(ISBLANK($C15),ISBLANK($D15),ISBLANK($E$10),ISBLANK($E$11)),"",IFERROR($D15*VLOOKUP((IF(OR($C15="Residential urban land",$C15="Commercial/industrial urban land",$C15="Open urban land",$C15="Greenspace",$C15="Community food growing",$C15="Woodland",$C15="Shrub", $C15="Water"), "|||"&$C15, (VLOOKUP('Stage 2'!$E$9,Lookups!$C$130:$D$130,2,FALSE)&"|"&$C15&"|"&VLOOKUP('Stage 2'!$E$12,Lookups!$C$144:$D$145,2,FALSE)&"|"&VLOOKUP('Stage 2'!$E$11,Lookups!$C$104:$E$126,3,FALSE)&"|"&VLOOKUP($E$10,Lookups!$C$135:$D$140,2,FALSE)))),Lookups!$H$19:$J$100,2,FALSE), IFERROR(IFERROR($D15*VLOOKUP($C15&"|"&VLOOKUP('Stage 2'!$E$12,Lookups!$C$144:$D$145,2,FALSE)&"|"&VLOOKUP('Stage 2'!$E$11,Lookups!$C$104:$E$126,3,FALSE)&"|"&VLOOKUP($E$10,Lookups!$C$135:$D$140,2,FALSE),Lookups!$H$19:$J$100,2,FALSE),IFERROR($D15*VLOOKUP($C15&"|"&"TRUE"&"|"&VLOOKUP('Stage 2'!$E$11,Lookups!$C$104:$E$126,3,FALSE)&"|"&VLOOKUP($E$10,Lookups!$C$135:$D$140,2,FALSE),Lookups!$H$19:$J$100,2,FALSE),$D15*VLOOKUP($C15&"|"&VLOOKUP('Stage 2'!$E$12,Lookups!$C$144:$D$145,2,FALSE)&"|"&VLOOKUP('Stage 2'!$E$11,Lookups!$C$104:$E$126,3,FALSE)&"|"&"DrainedArGr",Lookups!$H$19:$J$100,2,FALSE))),IFERROR($D15*VLOOKUP($C15&"|"&VLOOKUP('Stage 2'!$E$11,Lookups!$C$104:$E$126,3,FALSE),Lookups!$K$19:$M$92,2,FALSE),$D15*VLOOKUP($C15,Lookups!$D$19:$O$92,11,FALSE))))) -> 0.047724562 | F15: =IF(OR(ISBLANK($C15),ISBLANK($D15),ISBLANK($E$10),ISBLANK($E$11)),"",IFERROR($D15*VLOOKUP((IF(OR($C15="Residential urban land",$C15="Commercial/industrial urban land",$C15="Open urban land",$C15="Greenspace",$C15="Community food growing",$C15="Woodland",$C15="Shrub", $C15="Water"), "|||"&$C15, (VLOOKUP('Stage 2'!$E$9,Lookups!$C$130:$D$130,2,FALSE)&"|"&$C15&"|"&VLOOKUP('Stage 2'!$E$12,Lookups!$C$144:$D$145,2,FALSE)&"|"&VLOOKUP('Stage 2'!$E$11,Lookups!$C$104:$E$126,3,FALSE)&"|"&VLOOKUP($E$10,Lookups!$C$135:$D$140,2,FALSE)))),Lookups!$H$19:$J$100,3,FALSE), IFERROR(IFERROR($D15*VLOOKUP($C15&"|"&VLOOKUP('Stage 2'!$E$12,Lookups!$C$144:$D$145,2,FALSE)&"|"&VLOOKUP('Stage 2'!$E$11,Lookups!$C$104:$E$126,3,FALSE)&"|"&VLOOKUP($E$10,Lookups!$C$135:$D$140,2,FALSE),Lookups!$H$19:$J$100,3,FALSE),IFERROR($D15*VLOOKUP($C15&"|"&"TRUE"&"|"&VLOOKUP('Stage 2'!$E$11,Lookups!$C$104:$E$126,3,FALSE)&"|"&VLOOKUP($E$10,Lookups!$C$135:$D$140,2,FALSE),Lookups!$H$19:$J$100,3,FALSE),$D15*VLOOKUP($C15&"|"&VLOOKUP('Stage 2'!$E$12,Lookups!$C$144:$D$145,2,FALSE)&"|"&VLOOKUP('Stage 2'!$E$11,Lookups!$C$104:$E$126,3,FALSE)&"|"&"DrainedArGr",Lookups!$H$19:$J$100,3,FALSE))),IFERROR($D15*VLOOKUP($C15&"|"&VLOOKUP('Stage 2'!$E$11,Lookups!$C$104:$E$126,3,FALSE),Lookups!$K$19:$M$92,3,FALSE),$D15*VLOOKUP($C15,Lookups!$D$19:$O$92,12,FALSE))))) -> 0.4444137
E16: =IF(OR(ISBLANK($C16),ISBLANK($D16),ISBLANK($E$10),ISBLANK($E$11)),"",IFERROR($D16*VLOOKUP((IF(OR($C16="Residential urban land",$C16="Commercial/industrial urban land",$C16="Open urban land",$C16="Greenspace",$C16="Community food growing",$C16="Woodland",$C16="Shrub", $C16="Water"), "|||"&$C16, (VLOOKUP('Stage 2'!$E$9,Lookups!$C$130:$D$130,2,FALSE)&"|"&$C16&"|"&VLOOKUP('Stage 2'!$E$12,Lookups!$C$144:$D$145,2,FALSE)&"|"&VLOOKUP('Stage 2'!$E$11,Lookups!$C$104:$E$126,3,FALSE)&"|"&VLOOKUP($E$10,Lookups!$C$135:$D$140,2,FALSE)))),Lookups!$H$19:$J$100,2,FALSE), IFERROR(IFERROR($D16*VLOOKUP($C16&"|"&VLOOKUP('Stage 2'!$E$12,Lookups!$C$144:$D$145,2,FALSE)&"|"&VLOOKUP('Stage 2'!$E$11,Lookups!$C$104:$E$126,3,FALSE)&"|"&VLOOKUP($E$10,Lookups!$C$135:$D$140,2,FALSE),Lookups!$H$19:$J$100,2,FALSE),IFERROR($D16*VLOOKUP($C16&"|"&"TRUE"&"|"&VLOOKUP('Stage 2'!$E$11,Lookups!$C$104:$E$126,3,FALSE)&"|"&VLOOKUP($E$10,Lookups!$C$135:$D$140,2,FALSE),Lookups!$H$19:$J$100,2,FALSE),$D16*VLOOKUP($C16&"|"&VLOOKUP('Stage 2'!$E$12,Lookups!$C$144:$D$145,2,FALSE)&"|"&VLOOKUP('Stage 2'!$E$11,Lookups!$C$104:$E$126,3,FALSE)&"|"&"DrainedArGr",Lookups!$H$19:$J$100,2,FALSE))),IFERROR($D16*VLOOKUP($C16&"|"&VLOOKUP('Stage 2'!$E$11,Lookups!$C$104:$E$126,3,FALSE),Lookups!$K$19:$M$92,2,FALSE),$D16*VLOOKUP($C16,Lookups!$D$19:$O$92,11,FALSE))))) | F16: =IF(OR(ISBLANK($C16),ISBLANK($D16),ISBLANK($E$10),ISBLANK($E$11)),"",IFERROR($D16*VLOOKUP((IF(OR($C16="Residential urban land",$C16="Commercial/industrial urban land",$C16="Open urban land",$C16="Greenspace",$C16="Community food growing",$C16="Woodland",$C16="Shrub", $C16="Water"), "|||"&$C16, (VLOOKUP('Stage 2'!$E$9,Lookups!$C$130:$D$130,2,FALSE)&"|"&$C16&"|"&VLOOKUP('Stage 2'!$E$12,Lookups!$C$144:$D$145,2,FALSE)&"|"&VLOOKUP('Stage 2'!$E$11,Lookups!$C$104:$E$126,3,FALSE)&"|"&VLOOKUP($E$10,Lookups!$C$135:$D$140,2,FALSE)))),Lookups!$H$19:$J$100,3,FALSE), IFERROR(IFERROR($D16*VLOOKUP($C16&"|"&VLOOKUP('Stage 2'!$E$12,Lookups!$C$144:$D$145,2,FALSE)&"|"&VLOOKUP('Stage 2'!$E$11,Lookups!$C$104:$E$126,3,FALSE)&"|"&VLOOKUP($E$10,Lookups!$C$135:$D$140,2,FALSE),Lookups!$H$19:$J$100,3,FALSE),IFERROR($D16*VLOOKUP($C16&"|"&"TRUE"&"|"&VLOOKUP('Stage 2'!$E$11,Lookups!$C$104:$E$126,3,FALSE)&"|"&VLOOKUP($E$10,Lookups!$C$135:$D$140,2,FALSE),Lookups!$H$19:$J$100,3,FALSE),$D16*VLOOKUP($C16&"|"&VLOOKUP('Stage 2'!$E$12,Lookups!$C$144:$D$145,2,FALSE)&"|"&VLOOKUP('Stage 2'!$E$11,Lookups!$C$104:$E$126,3,FALSE)&"|"&"DrainedArGr",Lookups!$H$19:$J$100,3,FALSE))),IFERROR($D16*VLOOKUP($C16&"|"&VLOOKUP('Stage 2'!$E$11,Lookups!$C$104:$E$126,3,FALSE),Lookups!$K$19:$M$92,3,FALSE),$D16*VLOOKUP($C16,Lookups!$D$19:$O$92,12,FALSE)))))
E17: =IF(OR(ISBLANK($C17),ISBLANK($D17),ISBLANK($E$10),ISBLANK($E$11)),"",IFERROR($D17*VLOOKUP((IF(OR($C17="Residential urban land",$C17="Commercial/industrial urban land",$C17="Open urban land",$C17="Greenspace",$C17="Community food growing",$C17="Woodland",$C17="Shrub", $C17="Water"), "|||"&$C17, (VLOOKUP('Stage 2'!$E$9,Lookups!$C$130:$D$130,2,FALSE)&"|"&$C17&"|"&VLOOKUP('Stage 2'!$E$12,Lookups!$C$144:$D$145,2,FALSE)&"|"&VLOOKUP('Stage 2'!$E$11,Lookups!$C$104:$E$126,3,FALSE)&"|"&VLOOKUP($E$10,Lookups!$C$135:$D$140,2,FALSE)))),Lookups!$H$19:$J$100,2,FALSE), IFERROR(IFERROR($D17*VLOOKUP($C17&"|"&VLOOKUP('Stage 2'!$E$12,Lookups!$C$144:$D$145,2,FALSE)&"|"&VLOOKUP('Stage 2'!$E$11,Lookups!$C$104:$E$126,3,FALSE)&"|"&VLOOKUP($E$10,Lookups!$C$135:$D$140,2,FALSE),Lookups!$H$19:$J$100,2,FALSE),IFERROR($D17*VLOOKUP($C17&"|"&"TRUE"&"|"&VLOOKUP('Stage 2'!$E$11,Lookups!$C$104:$E$126,3,FALSE)&"|"&VLOOKUP($E$10,Lookups!$C$135:$D$140,2,FALSE),Lookups!$H$19:$J$100,2,FALSE),$D17*VLOOKUP($C17&"|"&VLOOKUP('Stage 2'!$E$12,Lookups!$C$144:$D$145,2,FALSE)&"|"&VLOOKUP('Stage 2'!$E$11,Lookups!$C$104:$E$126,3,FALSE)&"|"&"DrainedArGr",Lookups!$H$19:$J$100,2,FALSE))),IFERROR($D17*VLOOKUP($C17&"|"&VLOOKUP('Stage 2'!$E$11,Lookups!$C$104:$E$126,3,FALSE),Lookups!$K$19:$M$92,2,FALSE),$D17*VLOOKUP($C17,Lookups!$D$19:$O$92,11,FALSE))))) | F17: =IF(OR(ISBLANK($C17),ISBLANK($D17),ISBLANK($E$10),ISBLANK($E$11)),"",IFERROR($D17*VLOOKUP((IF(OR($C17="Residential urban land",$C17="Commercial/industrial urban land",$C17="Open urban land",$C17="Greenspace",$C17="Community food growing",$C17="Woodland",$C17="Shrub", $C17="Water"), "|||"&$C17, (VLOOKUP('Stage 2'!$E$9,Lookups!$C$130:$D$130,2,FALSE)&"|"&$C17&"|"&VLOOKUP('Stage 2'!$E$12,Lookups!$C$144:$D$145,2,FALSE)&"|"&VLOOKUP('Stage 2'!$E$11,Lookups!$C$104:$E$126,3,FALSE)&"|"&VLOOKUP($E$10,Lookups!$C$135:$D$140,2,FALSE)))),Lookups!$H$19:$J$100,3,FALSE), IFERROR(IFERROR($D17*VLOOKUP($C17&"|"&VLOOKUP('Stage 2'!$E$12,Lookups!$C$144:$D$145,2,FALSE)&"|"&VLOOKUP('Stage 2'!$E$11,Lookups!$C$104:$E$126,3,FALSE)&"|"&VLOOKUP($E$10,Lookups!$C$135:$D$140,2,FALSE),Lookups!$H$19:$J$100,3,FALSE),IFERROR($D17*VLOOKUP($C17&"|"&"TRUE"&"|"&VLOOKUP('Stage 2'!$E$11,Lookups!$C$104:$E$126,3,FALSE)&"|"&VLOOKUP($E$10,Lookups!$C$135:$D$140,2,FALSE),Lookups!$H$19:$J$100,3,FALSE),$D17*VLOOKUP($C17&"|"&VLOOKUP('Stage 2'!$E$12,Lookups!$C$144:$D$145,2,FALSE)&"|"&VLOOKUP('Stage 2'!$E$11,Lookups!$C$104:$E$126,3,FALSE)&"|"&"DrainedArGr",Lookups!$H$19:$J$100,3,FALSE))),IFERROR($D17*VLOOKUP($C17&"|"&VLOOKUP('Stage 2'!$E$11,Lookups!$C$104:$E$126,3,FALSE),Lookups!$K$19:$M$92,3,FALSE),$D17*VLOOKUP($C17,Lookups!$D$19:$O$92,12,FALSE)))))
E18: =IF(OR(ISBLANK($C18),ISBLANK($D18),ISBLANK($E$10),ISBLANK($E$11)),"",IFERROR($D18*VLOOKUP((IF(OR($C18="Residential urban land",$C18="Commercial/industrial urban land",$C18="Open urban land",$C18="Greenspace",$C18="Community food growing",$C18="Woodland",$C18="Shrub", $C18="Water"), "|||"&$C18, (VLOOKUP('Stage 2'!$E$9,Lookups!$C$130:$D$130,2,FALSE)&"|"&$C18&"|"&VLOOKUP('Stage 2'!$E$12,Lookups!$C$144:$D$145,2,FALSE)&"|"&VLOOKUP('Stage 2'!$E$11,Lookups!$C$104:$E$126,3,FALSE)&"|"&VLOOKUP($E$10,Lookups!$C$135:$D$140,2,FALSE)))),Lookups!$H$19:$J$100,2,FALSE), IFERROR(IFERROR($D18*VLOOKUP($C18&"|"&VLOOKUP('Stage 2'!$E$12,Lookups!$C$144:$D$145,2,FALSE)&"|"&VLOOKUP('Stage 2'!$E$11,Lookups!$C$104:$E$126,3,FALSE)&"|"&VLOOKUP($E$10,Lookups!$C$135:$D$140,2,FALSE),Lookups!$H$19:$J$100,2,FALSE),IFERROR($D18*VLOOKUP($C18&"|"&"TRUE"&"|"&VLOOKUP('Stage 2'!$E$11,Lookups!$C$104:$E$126,3,FALSE)&"|"&VLOOKUP($E$10,Lookups!$C$135:$D$140,2,FALSE),Lookups!$H$19:$J$100,2,FALSE),$D18*VLOOKUP($C18&"|"&VLOOKUP('Stage 2'!$E$12,Lookups!$C$144:$D$145,2,FALSE)&"|"&VLOOKUP('Stage 2'!$E$11,Lookups!$C$104:$E$126,3,FALSE)&"|"&"DrainedArGr",Lookups!$H$19:$J$100,2,FALSE))),IFERROR($D18*VLOOKUP($C18&"|"&VLOOKUP('Stage 2'!$E$11,Lookups!$C$104:$E$126,3,FALSE),Lookups!$K$19:$M$92,2,FALSE),$D18*VLOOKUP($C18,Lookups!$D$19:$O$92,11,FALSE))))) | F18: =IF(OR(ISBLANK($C18),ISBLANK($D18),ISBLANK($E$10),ISBLANK($E$11)),"",IFERROR($D18*VLOOKUP((IF(OR($C18="Residential urban land",$C18="Commercial/industrial urban land",$C18="Open urban land",$C18="Greenspace",$C18="Community food growing",$C18="Woodland",$C18="Shrub", $C18="Water"), "|||"&$C18, (VLOOKUP('Stage 2'!$E$9,Lookups!$C$130:$D$130,2,FALSE)&"|"&$C18&"|"&VLOOKUP('Stage 2'!$E$12,Lookups!$C$144:$D$145,2,FALSE)&"|"&VLOOKUP('Stage 2'!$E$11,Lookups!$C$104:$E$126,3,FALSE)&"|"&VLOOKUP($E$10,Lookups!$C$135:$D$140,2,FALSE)))),Lookups!$H$19:$J$100,3,FALSE), IFERROR(IFERROR($D18*VLOOKUP($C18&"|"&VLOOKUP('Stage 2'!$E$12,Lookups!$C$144:$D$145,2,FALSE)&"|"&VLOOKUP('Stage 2'!$E$11,Lookups!$C$104:$E$126,3,FALSE)&"|"&VLOOKUP($E$10,Lookups!$C$135:$D$140,2,FALSE),Lookups!$H$19:$J$100,3,FALSE),IFERROR($D18*VLOOKUP($C18&"|"&"TRUE"&"|"&VLOOKUP('Stage 2'!$E$11,Lookups!$C$104:$E$126,3,FALSE)&"|"&VLOOKUP($E$10,Lookups!$C$135:$D$140,2,FALSE),Lookups!$H$19:$J$100,3,FALSE),$D18*VLOOKUP($C18&"|"&VLOOKUP('Stage 2'!$E$12,Lookups!$C$144:$D$145,2,FALSE)&"|"&VLOOKUP('Stage 2'!$E$11,Lookups!$C$104:$E$126,3,FALSE)&"|"&"DrainedArGr",Lookups!$H$19:$J$100,3,FALSE))),IFERROR($D18*VLOOKUP($C18&"|"&VLOOKUP('Stage 2'!$E$11,Lookups!$C$104:$E$126,3,FALSE),Lookups!$K$19:$M$92,3,FALSE),$D18*VLOOKUP($C18,Lookups!$D$19:$O$92,12,FALSE)))))
E19: =IF(OR(ISBLANK($C19),ISBLANK($D19),ISBLANK($E$10),ISBLANK($E$11)),"",IFERROR($D19*VLOOKUP((IF(OR($C19="Residential urban land",$C19="Commercial/industrial urban land",$C19="Open urban land",$C19="Greenspace",$C19="Community food growing",$C19="Woodland",$C19="Shrub", $C19="Water"), "|||"&$C19, (VLOOKUP('Stage 2'!$E$9,Lookups!$C$130:$D$130,2,FALSE)&"|"&$C19&"|"&VLOOKUP('Stage 2'!$E$12,Lookups!$C$144:$D$145,2,FALSE)&"|"&VLOOKUP('Stage 2'!$E$11,Lookups!$C$104:$E$126,3,FALSE)&"|"&VLOOKUP($E$10,Lookups!$C$135:$D$140,2,FALSE)))),Lookups!$H$19:$J$100,2,FALSE), IFERROR(IFERROR($D19*VLOOKUP($C19&"|"&VLOOKUP('Stage 2'!$E$12,Lookups!$C$144:$D$145,2,FALSE)&"|"&VLOOKUP('Stage 2'!$E$11,Lookups!$C$104:$E$126,3,FALSE)&"|"&VLOOKUP($E$10,Lookups!$C$135:$D$140,2,FALSE),Lookups!$H$19:$J$100,2,FALSE),IFERROR($D19*VLOOKUP($C19&"|"&"TRUE"&"|"&VLOOKUP('Stage 2'!$E$11,Lookups!$C$104:$E$126,3,FALSE)&"|"&VLOOKUP($E$10,Lookups!$C$135:$D$140,2,FALSE),Lookups!$H$19:$J$100,2,FALSE),$D19*VLOOKUP($C19&"|"&VLOOKUP('Stage 2'!$E$12,Lookups!$C$144:$D$145,2,FALSE)&"|"&VLOOKUP('Stage 2'!$E$11,Lookups!$C$104:$E$126,3,FALSE)&"|"&"DrainedArGr",Lookups!$H$19:$J$100,2,FALSE))),IFERROR($D19*VLOOKUP($C19&"|"&VLOOKUP('Stage 2'!$E$11,Lookups!$C$104:$E$126,3,FALSE),Lookups!$K$19:$M$92,2,FALSE),$D19*VLOOKUP($C19,Lookups!$D$19:$O$92,11,FALSE))))) | F19: =IF(OR(ISBLANK($C19),ISBLANK($D19),ISBLANK($E$10),ISBLANK($E$11)),"",IFERROR($D19*VLOOKUP((IF(OR($C19="Residential urban land",$C19="Commercial/industrial urban land",$C19="Open urban land",$C19="Greenspace",$C19="Community food growing",$C19="Woodland",$C19="Shrub", $C19="Water"), "|||"&$C19, (VLOOKUP('Stage 2'!$E$9,Lookups!$C$130:$D$130,2,FALSE)&"|"&$C19&"|"&VLOOKUP('Stage 2'!$E$12,Lookups!$C$144:$D$145,2,FALSE)&"|"&VLOOKUP('Stage 2'!$E$11,Lookups!$C$104:$E$126,3,FALSE)&"|"&VLOOKUP($E$10,Lookups!$C$135:$D$140,2,FALSE)))),Lookups!$H$19:$J$100,3,FALSE), IFERROR(IFERROR($D19*VLOOKUP($C19&"|"&VLOOKUP('Stage 2'!$E$12,Lookups!$C$144:$D$145,2,FALSE)&"|"&VLOOKUP('Stage 2'!$E$11,Lookups!$C$104:$E$126,3,FALSE)&"|"&VLOOKUP($E$10,Lookups!$C$135:$D$140,2,FALSE),Lookups!$H$19:$J$100,3,FALSE),IFERROR($D19*VLOOKUP($C19&"|"&"TRUE"&"|"&VLOOKUP('Stage 2'!$E$11,Lookups!$C$104:$E$126,3,FALSE)&"|"&VLOOKUP($E$10,Lookups!$C$135:$D$140,2,FALSE),Lookups!$H$19:$J$100,3,FALSE),$D19*VLOOKUP($C19&"|"&VLOOKUP('Stage 2'!$E$12,Lookups!$C$144:$D$145,2,FALSE)&"|"&VLOOKUP('Stage 2'!$E$11,Lookups!$C$104:$E$126,3,FALSE)&"|"&"DrainedArGr",Lookups!$H$19:$J$100,3,FALSE))),IFERROR($D19*VLOOKUP($C19&"|"&VLOOKUP('Stage 2'!$E$11,Lookups!$C$104:$E$126,3,FALSE),Lookups!$K$19:$M$92,3,FALSE),$D19*VLOOKUP($C19,Lookups!$D$19:$O$92,12,FALSE)))))
E20: =IF(OR(ISBLANK($C20),ISBLANK($D20),ISBLANK($E$10),ISBLANK($E$11)),"",IFERROR($D20*VLOOKUP((IF(OR($C20="Residential urban land",$C20="Commercial/industrial urban land",$C20="Open urban land",$C20="Greenspace",$C20="Community food growing",$C20="Woodland",$C20="Shrub", $C20="Water"), "|||"&$C20, (VLOOKUP('Stage 2'!$E$9,Lookups!$C$130:$D$130,2,FALSE)&"|"&$C20&"|"&VLOOKUP('Stage 2'!$E$12,Lookups!$C$144:$D$145,2,FALSE)&"|"&VLOOKUP('Stage 2'!$E$11,Lookups!$C$104:$E$126,3,FALSE)&"|"&VLOOKUP($E$10,Lookups!$C$135:$D$140,2,FALSE)))),Lookups!$H$19:$J$100,2,FALSE), IFERROR(IFERROR($D20*VLOOKUP($C20&"|"&VLOOKUP('Stage 2'!$E$12,Lookups!$C$144:$D$145,2,FALSE)&"|"&VLOOKUP('Stage 2'!$E$11,Lookups!$C$104:$E$126,3,FALSE)&"|"&VLOOKUP($E$10,Lookups!$C$135:$D$140,2,FALSE),Lookups!$H$19:$J$100,2,FALSE),IFERROR($D20*VLOOKUP($C20&"|"&"TRUE"&"|"&VLOOKUP('Stage 2'!$E$11,Lookups!$C$104:$E$126,3,FALSE)&"|"&VLOOKUP($E$10,Lookups!$C$135:$D$140,2,FALSE),Lookups!$H$19:$J$100,2,FALSE),$D20*VLOOKUP($C20&"|"&VLOOKUP('Stage 2'!$E$12,Lookups!$C$144:$D$145,2,FALSE)&"|"&VLOOKUP('Stage 2'!$E$11,Lookups!$C$104:$E$126,3,FALSE)&"|"&"DrainedArGr",Lookups!$H$19:$J$100,2,FALSE))),IFERROR($D20*VLOOKUP($C20&"|"&VLOOKUP('Stage 2'!$E$11,Lookups!$C$104:$E$126,3,FALSE),Lookups!$K$19:$M$92,2,FALSE),$D20*VLOOKUP($C20,Lookups!$D$19:$O$92,11,FALSE))))) | F20: =IF(OR(ISBLANK($C20),ISBLANK($D20),ISBLANK($E$10),ISBLANK($E$11)),"",IFERROR($D20*VLOOKUP((IF(OR($C20="Residential urban land",$C20="Commercial/industrial urban land",$C20="Open urban land",$C20="Greenspace",$C20="Community food growing",$C20="Woodland",$C20="Shrub", $C20="Water"), "|||"&$C20, (VLOOKUP('Stage 2'!$E$9,Lookups!$C$130:$D$130,2,FALSE)&"|"&$C20&"|"&VLOOKUP('Stage 2'!$E$12,Lookups!$C$144:$D$145,2,FALSE)&"|"&VLOOKUP('Stage 2'!$E$11,Lookups!$C$104:$E$126,3,FALSE)&"|"&VLOOKUP($E$10,Lookups!$C$135:$D$140,2,FALSE)))),Lookups!$H$19:$J$100,3,FALSE), IFERROR(IFERROR($D20*VLOOKUP($C20&"|"&VLOOKUP('Stage 2'!$E$12,Lookups!$C$144:$D$145,2,FALSE)&"|"&VLOOKUP('Stage 2'!$E$11,Lookups!$C$104:$E$126,3,FALSE)&"|"&VLOOKUP($E$10,Lookups!$C$135:$D$140,2,FALSE),Lookups!$H$19:$J$100,3,FALSE),IFERROR($D20*VLOOKUP($C20&"|"&"TRUE"&"|"&VLOOKUP('Stage 2'!$E$11,Lookups!$C$104:$E$126,3,FALSE)&"|"&VLOOKUP($E$10,Lookups!$C$135:$D$140,2,FALSE),Lookups!$H$19:$J$100,3,FALSE),$D20*VLOOKUP($C20&"|"&VLOOKUP('Stage 2'!$E$12,Lookups!$C$144:$D$145,2,FALSE)&"|"&VLOOKUP('Stage 2'!$E$11,Lookups!$C$104:$E$126,3,FALSE)&"|"&"DrainedArGr",Lookups!$H$19:$J$100,3,FALSE))),IFERROR($D20*VLOOKUP($C20&"|"&VLOOKUP('Stage 2'!$E$11,Lookups!$C$104:$E$126,3,FALSE),Lookups!$K$19:$M$92,3,FALSE),$D20*VLOOKUP($C20,Lookups!$D$19:$O$92,12,FALSE)))))
E21: =IF(OR(ISBLANK($C21),ISBLANK($D21),ISBLANK($E$10),ISBLANK($E$11)),"",IFERROR($D21*VLOOKUP((IF(OR($C21="Residential urban land",$C21="Commercial/industrial urban land",$C21="Open urban land",$C21="Greenspace",$C21="Community food growing",$C21="Woodland",$C21="Shrub", $C21="Water"), "|||"&$C21, (VLOOKUP('Stage 2'!$E$9,Lookups!$C$130:$D$130,2,FALSE)&"|"&$C21&"|"&VLOOKUP('Stage 2'!$E$12,Lookups!$C$144:$D$145,2,FALSE)&"|"&VLOOKUP('Stage 2'!$E$11,Lookups!$C$104:$E$126,3,FALSE)&"|"&VLOOKUP($E$10,Lookups!$C$135:$D$140,2,FALSE)))),Lookups!$H$19:$J$100,2,FALSE), IFERROR(IFERROR($D21*VLOOKUP($C21&"|"&VLOOKUP('Stage 2'!$E$12,Lookups!$C$144:$D$145,2,FALSE)&"|"&VLOOKUP('Stage 2'!$E$11,Lookups!$C$104:$E$126,3,FALSE)&"|"&VLOOKUP($E$10,Lookups!$C$135:$D$140,2,FALSE),Lookups!$H$19:$J$100,2,FALSE),IFERROR($D21*VLOOKUP($C21&"|"&"TRUE"&"|"&VLOOKUP('Stage 2'!$E$11,Lookups!$C$104:$E$126,3,FALSE)&"|"&VLOOKUP($E$10,Lookups!$C$135:$D$140,2,FALSE),Lookups!$H$19:$J$100,2,FALSE),$D21*VLOOKUP($C21&"|"&VLOOKUP('Stage 2'!$E$12,Lookups!$C$144:$D$145,2,FALSE)&"|"&VLOOKUP('Stage 2'!$E$11,Lookups!$C$104:$E$126,3,FALSE)&"|"&"DrainedArGr",Lookups!$H$19:$J$100,2,FALSE))),IFERROR($D21*VLOOKUP($C21&"|"&VLOOKUP('Stage 2'!$E$11,Lookups!$C$104:$E$126,3,FALSE),Lookups!$K$19:$M$92,2,FALSE),$D21*VLOOKUP($C21,Lookups!$D$19:$O$92,11,FALSE))))) | F21: =IF(OR(ISBLANK($C21),ISBLANK($D21),ISBLANK($E$10),ISBLANK($E$11)),"",IFERROR($D21*VLOOKUP((IF(OR($C21="Residential urban land",$C21="Commercial/industrial urban land",$C21="Open urban land",$C21="Greenspace",$C21="Community food growing",$C21="Woodland",$C21="Shrub", $C21="Water"), "|||"&$C21, (VLOOKUP('Stage 2'!$E$9,Lookups!$C$130:$D$130,2,FALSE)&"|"&$C21&"|"&VLOOKUP('Stage 2'!$E$12,Lookups!$C$144:$D$145,2,FALSE)&"|"&VLOOKUP('Stage 2'!$E$11,Lookups!$C$104:$E$126,3,FALSE)&"|"&VLOOKUP($E$10,Lookups!$C$135:$D$140,2,FALSE)))),Lookups!$H$19:$J$100,3,FALSE), IFERROR(IFERROR($D21*VLOOKUP($C21&"|"&VLOOKUP('Stage 2'!$E$12,Lookups!$C$144:$D$145,2,FALSE)&"|"&VLOOKUP('Stage 2'!$E$11,Lookups!$C$104:$E$126,3,FALSE)&"|"&VLOOKUP($E$10,Lookups!$C$135:$D$140,2,FALSE),Lookups!$H$19:$J$100,3,FALSE),IFERROR($D21*VLOOKUP($C21&"|"&"TRUE"&"|"&VLOOKUP('Stage 2'!$E$11,Lookups!$C$104:$E$126,3,FALSE)&"|"&VLOOKUP($E$10,Lookups!$C$135:$D$140,2,FALSE),Lookups!$H$19:$J$100,3,FALSE),$D21*VLOOKUP($C21&"|"&VLOOKUP('Stage 2'!$E$12,Lookups!$C$144:$D$145,2,FALSE)&"|"&VLOOKUP('Stage 2'!$E$11,Lookups!$C$104:$E$126,3,FALSE)&"|"&"DrainedArGr",Lookups!$H$19:$J$100,3,FALSE))),IFERROR($D21*VLOOKUP($C21&"|"&VLOOKUP('Stage 2'!$E$11,Lookups!$C$104:$E$126,3,FALSE),Lookups!$K$19:$M$92,3,FALSE),$D21*VLOOKUP($C21,Lookups!$D$19:$O$92,12,FALSE)))))
E22: =IF(OR(ISBLANK($C22),ISBLANK($D22),ISBLANK($E$10),ISBLANK($E$11)),"",IFERROR($D22*VLOOKUP((IF(OR($C22="Residential urban land",$C22="Commercial/industrial urban land",$C22="Open urban land",$C22="Greenspace",$C22="Community food growing",$C22="Woodland",$C22="Shrub", $C22="Water"), "|||"&$C22, (VLOOKUP('Stage 2'!$E$9,Lookups!$C$130:$D$130,2,FALSE)&"|"&$C22&"|"&VLOOKUP('Stage 2'!$E$12,Lookups!$C$144:$D$145,2,FALSE)&"|"&VLOOKUP('Stage 2'!$E$11,Lookups!$C$104:$E$126,3,FALSE)&"|"&VLOOKUP($E$10,Lookups!$C$135:$D$140,2,FALSE)))),Lookups!$H$19:$J$100,2,FALSE), IFERROR(IFERROR($D22*VLOOKUP($C22&"|"&VLOOKUP('Stage 2'!$E$12,Lookups!$C$144:$D$145,2,FALSE)&"|"&VLOOKUP('Stage 2'!$E$11,Lookups!$C$104:$E$126,3,FALSE)&"|"&VLOOKUP($E$10,Lookups!$C$135:$D$140,2,FALSE),Lookups!$H$19:$J$100,2,FALSE),IFERROR($D22*VLOOKUP($C22&"|"&"TRUE"&"|"&VLOOKUP('Stage 2'!$E$11,Lookups!$C$104:$E$126,3,FALSE)&"|"&VLOOKUP($E$10,Lookups!$C$135:$D$140,2,FALSE),Lookups!$H$19:$J$100,2,FALSE),$D22*VLOOKUP($C22&"|"&VLOOKUP('Stage 2'!$E$12,Lookups!$C$144:$D$145,2,FALSE)&"|"&VLOOKUP('Stage 2'!$E$11,Lookups!$C$104:$E$126,3,FALSE)&"|"&"DrainedArGr",Lookups!$H$19:$J$100,2,FALSE))),IFERROR($D22*VLOOKUP($C22&"|"&VLOOKUP('Stage 2'!$E$11,Lookups!$C$104:$E$126,3,FALSE),Lookups!$K$19:$M$92,2,FALSE),$D22*VLOOKUP($C22,Lookups!$D$19:$O$92,11,FALSE))))) | F22: =IF(OR(ISBLANK($C22),ISBLANK($D22),ISBLANK($E$10),ISBLANK($E$11)),"",IFERROR($D22*VLOOKUP((IF(OR($C22="Residential urban land",$C22="Commercial/industrial urban land",$C22="Open urban land",$C22="Greenspace",$C22="Community food growing",$C22="Woodland",$C22="Shrub", $C22="Water"), "|||"&$C22, (VLOOKUP('Stage 2'!$E$9,Lookups!$C$130:$D$130,2,FALSE)&"|"&$C22&"|"&VLOOKUP('Stage 2'!$E$12,Lookups!$C$144:$D$145,2,FALSE)&"|"&VLOOKUP('Stage 2'!$E$11,Lookups!$C$104:$E$126,3,FALSE)&"|"&VLOOKUP($E$10,Lookups!$C$135:$D$140,2,FALSE)))),Lookups!$H$19:$J$100,3,FALSE), IFERROR(IFERROR($D22*VLOOKUP($C22&"|"&VLOOKUP('Stage 2'!$E$12,Lookups!$C$144:$D$145,2,FALSE)&"|"&VLOOKUP('Stage 2'!$E$11,Lookups!$C$104:$E$126,3,FALSE)&"|"&VLOOKUP($E$10,Lookups!$C$135:$D$140,2,FALSE),Lookups!$H$19:$J$100,3,FALSE),IFERROR($D22*VLOOKUP($C22&"|"&"TRUE"&"|"&VLOOKUP('Stage 2'!$E$11,Lookups!$C$104:$E$126,3,FALSE)&"|"&VLOOKUP($E$10,Lookups!$C$135:$D$140,2,FALSE),Lookups!$H$19:$J$100,3,FALSE),$D22*VLOOKUP($C22&"|"&VLOOKUP('Stage 2'!$E$12,Lookups!$C$144:$D$145,2,FALSE)&"|"&VLOOKUP('Stage 2'!$E$11,Lookups!$C$104:$E$126,3,FALSE)&"|"&"DrainedArGr",Lookups!$H$19:$J$100,3,FALSE))),IFERROR($D22*VLOOKUP($C22&"|"&VLOOKUP('Stage 2'!$E$11,Lookups!$C$104:$E$126,3,FALSE),Lookups!$K$19:$M$92,3,FALSE),$D22*VLOOKUP($C22,Lookups!$D$19:$O$92,12,FALSE)))))
E23: =IF(OR(ISBLANK($C23),ISBLANK($D23),ISBLANK($E$10),ISBLANK($E$11)),"",IFERROR($D23*VLOOKUP((IF(OR($C23="Residential urban land",$C23="Commercial/industrial urban land",$C23="Open urban land",$C23="Greenspace",$C23="Community food growing",$C23="Woodland",$C23="Shrub", $C23="Water"), "|||"&$C23, (VLOOKUP('Stage 2'!$E$9,Lookups!$C$130:$D$130,2,FALSE)&"|"&$C23&"|"&VLOOKUP('Stage 2'!$E$12,Lookups!$C$144:$D$145,2,FALSE)&"|"&VLOOKUP('Stage 2'!$E$11,Lookups!$C$104:$E$126,3,FALSE)&"|"&VLOOKUP($E$10,Lookups!$C$135:$D$140,2,FALSE)))),Lookups!$H$19:$J$100,2,FALSE), IFERROR(IFERROR($D23*VLOOKUP($C23&"|"&VLOOKUP('Stage 2'!$E$12,Lookups!$C$144:$D$145,2,FALSE)&"|"&VLOOKUP('Stage 2'!$E$11,Lookups!$C$104:$E$126,3,FALSE)&"|"&VLOOKUP($E$10,Lookups!$C$135:$D$140,2,FALSE),Lookups!$H$19:$J$100,2,FALSE),IFERROR($D23*VLOOKUP($C23&"|"&"TRUE"&"|"&VLOOKUP('Stage 2'!$E$11,Lookups!$C$104:$E$126,3,FALSE)&"|"&VLOOKUP($E$10,Lookups!$C$135:$D$140,2,FALSE),Lookups!$H$19:$J$100,2,FALSE),$D23*VLOOKUP($C23&"|"&VLOOKUP('Stage 2'!$E$12,Lookups!$C$144:$D$145,2,FALSE)&"|"&VLOOKUP('Stage 2'!$E$11,Lookups!$C$104:$E$126,3,FALSE)&"|"&"DrainedArGr",Lookups!$H$19:$J$100,2,FALSE))),IFERROR($D23*VLOOKUP($C23&"|"&VLOOKUP('Stage 2'!$E$11,Lookups!$C$104:$E$126,3,FALSE),Lookups!$K$19:$M$92,2,FALSE),$D23*VLOOKUP($C23,Lookups!$D$19:$O$92,11,FALSE))))) | F23: =IF(OR(ISBLANK($C23),ISBLANK($D23),ISBLANK($E$10),ISBLANK($E$11)),"",IFERROR($D23*VLOOKUP((IF(OR($C23="Residential urban land",$C23="Commercial/industrial urban land",$C23="Open urban land",$C23="Greenspace",$C23="Community food growing",$C23="Woodland",$C23="Shrub", $C23="Water"), "|||"&$C23, (VLOOKUP('Stage 2'!$E$9,Lookups!$C$130:$D$130,2,FALSE)&"|"&$C23&"|"&VLOOKUP('Stage 2'!$E$12,Lookups!$C$144:$D$145,2,FALSE)&"|"&VLOOKUP('Stage 2'!$E$11,Lookups!$C$104:$E$126,3,FALSE)&"|"&VLOOKUP($E$10,Lookups!$C$135:$D$140,2,FALSE)))),Lookups!$H$19:$J$100,3,FALSE), IFERROR(IFERROR($D23*VLOOKUP($C23&"|"&VLOOKUP('Stage 2'!$E$12,Lookups!$C$144:$D$145,2,FALSE)&"|"&VLOOKUP('Stage 2'!$E$11,Lookups!$C$104:$E$126,3,FALSE)&"|"&VLOOKUP($E$10,Lookups!$C$135:$D$140,2,FALSE),Lookups!$H$19:$J$100,3,FALSE),IFERROR($D23*VLOOKUP($C23&"|"&"TRUE"&"|"&VLOOKUP('Stage 2'!$E$11,Lookups!$C$104:$E$126,3,FALSE)&"|"&VLOOKUP($E$10,Lookups!$C$135:$D$140,2,FALSE),Lookups!$H$19:$J$100,3,FALSE),$D23*VLOOKUP($C23&"|"&VLOOKUP('Stage 2'!$E$12,Lookups!$C$144:$D$145,2,FALSE)&"|"&VLOOKUP('Stage 2'!$E$11,Lookups!$C$104:$E$126,3,FALSE)&"|"&"DrainedArGr",Lookups!$H$19:$J$100,3,FALSE))),IFERROR($D23*VLOOKUP($C23&"|"&VLOOKUP('Stage 2'!$E$11,Lookups!$C$104:$E$126,3,FALSE),Lookups!$K$19:$M$92,3,FALSE),$D23*VLOOKUP($C23,Lookups!$D$19:$O$92,12,FALSE)))))
E24: =IF(OR(ISBLANK($C24),ISBLANK($D24),ISBLANK($E$10),ISBLANK($E$11)),"",IFERROR($D24*VLOOKUP((IF(OR($C24="Residential urban land",$C24="Commercial/industrial urban land",$C24="Open urban land",$C24="Greenspace",$C24="Community food growing",$C24="Woodland",$C24="Shrub", $C24="Water"), "|||"&$C24, (VLOOKUP('Stage 2'!$E$9,Lookups!$C$130:$D$130,2,FALSE)&"|"&$C24&"|"&VLOOKUP('Stage 2'!$E$12,Lookups!$C$144:$D$145,2,FALSE)&"|"&VLOOKUP('Stage 2'!$E$11,Lookups!$C$104:$E$126,3,FALSE)&"|"&VLOOKUP($E$10,Lookups!$C$135:$D$140,2,FALSE)))),Lookups!$H$19:$J$100,2,FALSE), IFERROR(IFERROR($D24*VLOOKUP($C24&"|"&VLOOKUP('Stage 2'!$E$12,Lookups!$C$144:$D$145,2,FALSE)&"|"&VLOOKUP('Stage 2'!$E$11,Lookups!$C$104:$E$126,3,FALSE)&"|"&VLOOKUP($E$10,Lookups!$C$135:$D$140,2,FALSE),Lookups!$H$19:$J$100,2,FALSE),IFERROR($D24*VLOOKUP($C24&"|"&"TRUE"&"|"&VLOOKUP('Stage 2'!$E$11,Lookups!$C$104:$E$126,3,FALSE)&"|"&VLOOKUP($E$10,Lookups!$C$135:$D$140,2,FALSE),Lookups!$H$19:$J$100,2,FALSE),$D24*VLOOKUP($C24&"|"&VLOOKUP('Stage 2'!$E$12,Lookups!$C$144:$D$145,2,FALSE)&"|"&VLOOKUP('Stage 2'!$E$11,Lookups!$C$104:$E$126,3,FALSE)&"|"&"DrainedArGr",Lookups!$H$19:$J$100,2,FALSE))),IFERROR($D24*VLOOKUP($C24&"|"&VLOOKUP('Stage 2'!$E$11,Lookups!$C$104:$E$126,3,FALSE),Lookups!$K$19:$M$92,2,FALSE),$D24*VLOOKUP($C24,Lookups!$D$19:$O$92,11,FALSE))))) | F24: =IF(OR(ISBLANK($C24),ISBLANK($D24),ISBLANK($E$10),ISBLANK($E$11)),"",IFERROR($D24*VLOOKUP((IF(OR($C24="Residential urban land",$C24="Commercial/industrial urban land",$C24="Open urban land",$C24="Greenspace",$C24="Community food growing",$C24="Woodland",$C24="Shrub", $C24="Water"), "|||"&$C24, (VLOOKUP('Stage 2'!$E$9,Lookups!$C$130:$D$130,2,FALSE)&"|"&$C24&"|"&VLOOKUP('Stage 2'!$E$12,Lookups!$C$144:$D$145,2,FALSE)&"|"&VLOOKUP('Stage 2'!$E$11,Lookups!$C$104:$E$126,3,FALSE)&"|"&VLOOKUP($E$10,Lookups!$C$135:$D$140,2,FALSE)))),Lookups!$H$19:$J$100,3,FALSE), IFERROR(IFERROR($D24*VLOOKUP($C24&"|"&VLOOKUP('Stage 2'!$E$12,Lookups!$C$144:$D$145,2,FALSE)&"|"&VLOOKUP('Stage 2'!$E$11,Lookups!$C$104:$E$126,3,FALSE)&"|"&VLOOKUP($E$10,Lookups!$C$135:$D$140,2,FALSE),Lookups!$H$19:$J$100,3,FALSE),IFERROR($D24*VLOOKUP($C24&"|"&"TRUE"&"|"&VLOOKUP('Stage 2'!$E$11,Lookups!$C$104:$E$126,3,FALSE)&"|"&VLOOKUP($E$10,Lookups!$C$135:$D$140,2,FALSE),Lookups!$H$19:$J$100,3,FALSE),$D24*VLOOKUP($C24&"|"&VLOOKUP('Stage 2'!$E$12,Lookups!$C$144:$D$145,2,FALSE)&"|"&VLOOKUP('Stage 2'!$E$11,Lookups!$C$104:$E$126,3,FALSE)&"|"&"DrainedArGr",Lookups!$H$19:$J$100,3,FALSE))),IFERROR($D24*VLOOKUP($C24&"|"&VLOOKUP('Stage 2'!$E$11,Lookups!$C$104:$E$126,3,FALSE),Lookups!$K$19:$M$92,3,FALSE),$D24*VLOOKUP($C24,Lookups!$D$19:$O$92,12,FALSE)))))
E25: =IF(OR(ISBLANK($C25),ISBLANK($D25),ISBLANK($E$10),ISBLANK($E$11)),"",IFERROR($D25*VLOOKUP((IF(OR($C25="Residential urban land",$C25="Commercial/industrial urban land",$C25="Open urban land",$C25="Greenspace",$C25="Community food growing",$C25="Woodland",$C25="Shrub", $C25="Water"), "|||"&$C25, (VLOOKUP('Stage 2'!$E$9,Lookups!$C$130:$D$130,2,FALSE)&"|"&$C25&"|"&VLOOKUP('Stage 2'!$E$12,Lookups!$C$144:$D$145,2,FALSE)&"|"&VLOOKUP('Stage 2'!$E$11,Lookups!$C$104:$E$126,3,FALSE)&"|"&VLOOKUP($E$10,Lookups!$C$135:$D$140,2,FALSE)))),Lookups!$H$19:$J$100,2,FALSE), IFERROR(IFERROR($D25*VLOOKUP($C25&"|"&VLOOKUP('Stage 2'!$E$12,Lookups!$C$144:$D$145,2,FALSE)&"|"&VLOOKUP('Stage 2'!$E$11,Lookups!$C$104:$E$126,3,FALSE)&"|"&VLOOKUP($E$10,Lookups!$C$135:$D$140,2,FALSE),Lookups!$H$19:$J$100,2,FALSE),IFERROR($D25*VLOOKUP($C25&"|"&"TRUE"&"|"&VLOOKUP('Stage 2'!$E$11,Lookups!$C$104:$E$126,3,FALSE)&"|"&VLOOKUP($E$10,Lookups!$C$135:$D$140,2,FALSE),Lookups!$H$19:$J$100,2,FALSE),$D25*VLOOKUP($C25&"|"&VLOOKUP('Stage 2'!$E$12,Lookups!$C$144:$D$145,2,FALSE)&"|"&VLOOKUP('Stage 2'!$E$11,Lookups!$C$104:$E$126,3,FALSE)&"|"&"DrainedArGr",Lookups!$H$19:$J$100,2,FALSE))),IFERROR($D25*VLOOKUP($C25&"|"&VLOOKUP('Stage 2'!$E$11,Lookups!$C$104:$E$126,3,FALSE),Lookups!$K$19:$M$92,2,FALSE),$D25*VLOOKUP($C25,Lookups!$D$19:$O$92,11,FALSE))))) | F25: =IF(OR(ISBLANK($C25),ISBLANK($D25),ISBLANK($E$10),ISBLANK($E$11)),"",IFERROR($D25*VLOOKUP((IF(OR($C25="Residential urban land",$C25="Commercial/industrial urban land",$C25="Open urban land",$C25="Greenspace",$C25="Community food growing",$C25="Woodland",$C25="Shrub", $C25="Water"), "|||"&$C25, (VLOOKUP('Stage 2'!$E$9,Lookups!$C$130:$D$130,2,FALSE)&"|"&$C25&"|"&VLOOKUP('Stage 2'!$E$12,Lookups!$C$144:$D$145,2,FALSE)&"|"&VLOOKUP('Stage 2'!$E$11,Lookups!$C$104:$E$126,3,FALSE)&"|"&VLOOKUP($E$10,Lookups!$C$135:$D$140,2,FALSE)))),Lookups!$H$19:$J$100,3,FALSE), IFERROR(IFERROR($D25*VLOOKUP($C25&"|"&VLOOKUP('Stage 2'!$E$12,Lookups!$C$144:$D$145,2,FALSE)&"|"&VLOOKUP('Stage 2'!$E$11,Lookups!$C$104:$E$126,3,FALSE)&"|"&VLOOKUP($E$10,Lookups!$C$135:$D$140,2,FALSE),Lookups!$H$19:$J$100,3,FALSE),IFERROR($D25*VLOOKUP($C25&"|"&"TRUE"&"|"&VLOOKUP('Stage 2'!$E$11,Lookups!$C$104:$E$126,3,FALSE)&"|"&VLOOKUP($E$10,Lookups!$C$135:$D$140,2,FALSE),Lookups!$H$19:$J$100,3,FALSE),$D25*VLOOKUP($C25&"|"&VLOOKUP('Stage 2'!$E$12,Lookups!$C$144:$D$145,2,FALSE)&"|"&VLOOKUP('Stage 2'!$E$11,Lookups!$C$104:$E$126,3,FALSE)&"|"&"DrainedArGr",Lookups!$H$19:$J$100,3,FALSE))),IFERROR($D25*VLOOKUP($C25&"|"&VLOOKUP('Stage 2'!$E$11,Lookups!$C$104:$E$126,3,FALSE),Lookups!$K$19:$M$92,3,FALSE),$D25*VLOOKUP($C25,Lookups!$D$19:$O$92,12,FALSE)))))
E26: =IF(OR(ISBLANK($C26),ISBLANK($D26),ISBLANK($E$10),ISBLANK($E$11)),"",IFERROR($D26*VLOOKUP((IF(OR($C26="Residential urban land",$C26="Commercial/industrial urban land",$C26="Open urban land",$C26="Greenspace",$C26="Community food growing",$C26="Woodland",$C26="Shrub", $C26="Water"), "|||"&$C26, (VLOOKUP('Stage 2'!$E$9,Lookups!$C$130:$D$130,2,FALSE)&"|"&$C26&"|"&VLOOKUP('Stage 2'!$E$12,Lookups!$C$144:$D$145,2,FALSE)&"|"&VLOOKUP('Stage 2'!$E$11,Lookups!$C$104:$E$126,3,FALSE)&"|"&VLOOKUP($E$10,Lookups!$C$135:$D$140,2,FALSE)))),Lookups!$H$19:$J$100,2,FALSE), IFERROR(IFERROR($D26*VLOOKUP($C26&"|"&VLOOKUP('Stage 2'!$E$12,Lookups!$C$144:$D$145,2,FALSE)&"|"&VLOOKUP('Stage 2'!$E$11,Lookups!$C$104:$E$126,3,FALSE)&"|"&VLOOKUP($E$10,Lookups!$C$135:$D$140,2,FALSE),Lookups!$H$19:$J$100,2,FALSE),IFERROR($D26*VLOOKUP($C26&"|"&"TRUE"&"|"&VLOOKUP('Stage 2'!$E$11,Lookups!$C$104:$E$126,3,FALSE)&"|"&VLOOKUP($E$10,Lookups!$C$135:$D$140,2,FALSE),Lookups!$H$19:$J$100,2,FALSE),$D26*VLOOKUP($C26&"|"&VLOOKUP('Stage 2'!$E$12,Lookups!$C$144:$D$145,2,FALSE)&"|"&VLOOKUP('Stage 2'!$E$11,Lookups!$C$104:$E$126,3,FALSE)&"|"&"DrainedArGr",Lookups!$H$19:$J$100,2,FALSE))),IFERROR($D26*VLOOKUP($C26&"|"&VLOOKUP('Stage 2'!$E$11,Lookups!$C$104:$E$126,3,FALSE),Lookups!$K$19:$M$92,2,FALSE),$D26*VLOOKUP($C26,Lookups!$D$19:$O$92,11,FALSE))))) | F26: =IF(OR(ISBLANK($C26),ISBLANK($D26),ISBLANK($E$10),ISBLANK($E$11)),"",IFERROR($D26*VLOOKUP((IF(OR($C26="Residential urban land",$C26="Commercial/industrial urban land",$C26="Open urban land",$C26="Greenspace",$C26="Community food growing",$C26="Woodland",$C26="Shrub", $C26="Water"), "|||"&$C26, (VLOOKUP('Stage 2'!$E$9,Lookups!$C$130:$D$130,2,FALSE)&"|"&$C26&"|"&VLOOKUP('Stage 2'!$E$12,Lookups!$C$144:$D$145,2,FALSE)&"|"&VLOOKUP('Stage 2'!$E$11,Lookups!$C$104:$E$126,3,FALSE)&"|"&VLOOKUP($E$10,Lookups!$C$135:$D$140,2,FALSE)))),Lookups!$H$19:$J$100,3,FALSE), IFERROR(IFERROR($D26*VLOOKUP($C26&"|"&VLOOKUP('Stage 2'!$E$12,Lookups!$C$144:$D$145,2,FALSE)&"|"&VLOOKUP('Stage 2'!$E$11,Lookups!$C$104:$E$126,3,FALSE)&"|"&VLOOKUP($E$10,Lookups!$C$135:$D$140,2,FALSE),Lookups!$H$19:$J$100,3,FALSE),IFERROR($D26*VLOOKUP($C26&"|"&"TRUE"&"|"&VLOOKUP('Stage 2'!$E$11,Lookups!$C$104:$E$126,3,FALSE)&"|"&VLOOKUP($E$10,Lookups!$C$135:$D$140,2,FALSE),Lookups!$H$19:$J$100,3,FALSE),$D26*VLOOKUP($C26&"|"&VLOOKUP('Stage 2'!$E$12,Lookups!$C$144:$D$145,2,FALSE)&"|"&VLOOKUP('Stage 2'!$E$11,Lookups!$C$104:$E$126,3,FALSE)&"|"&"DrainedArGr",Lookups!$H$19:$J$100,3,FALSE))),IFERROR($D26*VLOOKUP($C26&"|"&VLOOKUP('Stage 2'!$E$11,Lookups!$C$104:$E$126,3,FALSE),Lookups!$K$19:$M$92,3,FALSE),$D26*VLOOKUP($C26,Lookups!$D$19:$O$92,12,FALSE)))))
E27: =IF(OR(ISBLANK($C27),ISBLANK($D27),ISBLANK($E$10),ISBLANK($E$11)),"",IFERROR($D27*VLOOKUP((IF(OR($C27="Residential urban land",$C27="Commercial/industrial urban land",$C27="Open urban land",$C27="Greenspace",$C27="Community food growing",$C27="Woodland",$C27="Shrub", $C27="Water"), "|||"&$C27, (VLOOKUP('Stage 2'!$E$9,Lookups!$C$130:$D$130,2,FALSE)&"|"&$C27&"|"&VLOOKUP('Stage 2'!$E$12,Lookups!$C$144:$D$145,2,FALSE)&"|"&VLOOKUP('Stage 2'!$E$11,Lookups!$C$104:$E$126,3,FALSE)&"|"&VLOOKUP($E$10,Lookups!$C$135:$D$140,2,FALSE)))),Lookups!$H$19:$J$100,2,FALSE), IFERROR(IFERROR($D27*VLOOKUP($C27&"|"&VLOOKUP('Stage 2'!$E$12,Lookups!$C$144:$D$145,2,FALSE)&"|"&VLOOKUP('Stage 2'!$E$11,Lookups!$C$104:$E$126,3,FALSE)&"|"&VLOOKUP($E$10,Lookups!$C$135:$D$140,2,FALSE),Lookups!$H$19:$J$100,2,FALSE),IFERROR($D27*VLOOKUP($C27&"|"&"TRUE"&"|"&VLOOKUP('Stage 2'!$E$11,Lookups!$C$104:$E$126,3,FALSE)&"|"&VLOOKUP($E$10,Lookups!$C$135:$D$140,2,FALSE),Lookups!$H$19:$J$100,2,FALSE),$D27*VLOOKUP($C27&"|"&VLOOKUP('Stage 2'!$E$12,Lookups!$C$144:$D$145,2,FALSE)&"|"&VLOOKUP('Stage 2'!$E$11,Lookups!$C$104:$E$126,3,FALSE)&"|"&"DrainedArGr",Lookups!$H$19:$J$100,2,FALSE))),IFERROR($D27*VLOOKUP($C27&"|"&VLOOKUP('Stage 2'!$E$11,Lookups!$C$104:$E$126,3,FALSE),Lookups!$K$19:$M$92,2,FALSE),$D27*VLOOKUP($C27,Lookups!$D$19:$O$92,11,FALSE))))) | F27: =IF(OR(ISBLANK($C27),ISBLANK($D27),ISBLANK($E$10),ISBLANK($E$11)),"",IFERROR($D27*VLOOKUP((IF(OR($C27="Residential urban land",$C27="Commercial/industrial urban land",$C27="Open urban land",$C27="Greenspace",$C27="Community food growing",$C27="Woodland",$C27="Shrub", $C27="Water"), "|||"&$C27, (VLOOKUP('Stage 2'!$E$9,Lookups!$C$130:$D$130,2,FALSE)&"|"&$C27&"|"&VLOOKUP('Stage 2'!$E$12,Lookups!$C$144:$D$145,2,FALSE)&"|"&VLOOKUP('Stage 2'!$E$11,Lookups!$C$104:$E$126,3,FALSE)&"|"&VLOOKUP($E$10,Lookups!$C$135:$D$140,2,FALSE)))),Lookups!$H$19:$J$100,3,FALSE), IFERROR(IFERROR($D27*VLOOKUP($C27&"|"&VLOOKUP('Stage 2'!$E$12,Lookups!$C$144:$D$145,2,FALSE)&"|"&VLOOKUP('Stage 2'!$E$11,Lookups!$C$104:$E$126,3,FALSE)&"|"&VLOOKUP($E$10,Lookups!$C$135:$D$140,2,FALSE),Lookups!$H$19:$J$100,3,FALSE),IFERROR($D27*VLOOKUP($C27&"|"&"TRUE"&"|"&VLOOKUP('Stage 2'!$E$11,Lookups!$C$104:$E$126,3,FALSE)&"|"&VLOOKUP($E$10,Lookups!$C$135:$D$140,2,FALSE),Lookups!$H$19:$J$100,3,FALSE),$D27*VLOOKUP($C27&"|"&VLOOKUP('Stage 2'!$E$12,Lookups!$C$144:$D$145,2,FALSE)&"|"&VLOOKUP('Stage 2'!$E$11,Lookups!$C$104:$E$126,3,FALSE)&"|"&"DrainedArGr",Lookups!$H$19:$J$100,3,FALSE))),IFERROR($D27*VLOOKUP($C27&"|"&VLOOKUP('Stage 2'!$E$11,Lookups!$C$104:$E$126,3,FALSE),Lookups!$K$19:$M$92,3,FALSE),$D27*VLOOKUP($C27,Lookups!$D$19:$O$92,12,FALSE)))))
... E31: =IF(OR(ISBLANK($C31),ISBLANK($D31),ISBLANK($E$10),ISBLANK($E$11)),"",IFERROR($D31*VLOOKUP((IF(OR($C31="Residential urban land",$C31="Commercial/industrial urban land",$C31="Open urban land",$C31="Greenspace",$C31="Community food growing",$C31="Woodland",$C31="Shrub", $C31="Water"), "|||"&$C31, (VLOOKUP('Stage 2'!$E$9,Lookups!$C$130:$D$130,2,FALSE)&"|"&$C31&"|"&VLOOKUP('Stage 2'!$E$12,Lookups!$C$144:$D$145,2,FALSE)&"|"&VLOOKUP('Stage 2'!$E$11,Lookups!$C$104:$E$126,3,FALSE)&"|"&VLOOKUP($E$10,Lookups!$C$135:$D$140,2,FALSE)))),Lookups!$H$19:$J$100,2,FALSE), IFERROR(IFERROR($D31*VLOOKUP($C31&"|"&VLOOKUP('Stage 2'!$E$12,Lookups!$C$144:$D$145,2,FALSE)&"|"&VLOOKUP('Stage 2'!$E$11,Lookups!$C$104:$E$126,3,FALSE)&"|"&VLOOKUP($E$10,Lookups!$C$135:$D$140,2,FALSE),Lookups!$H$19:$J$100,2,FALSE),IFERROR($D31*VLOOKUP($C31&"|"&"TRUE"&"|"&VLOOKUP('Stage 2'!$E$11,Lookups!$C$104:$E$126,3,FALSE)&"|"&VLOOKUP($E$10,Lookups!$C$135:$D$140,2,FALSE),Lookups!$H$19:$J$100,2,FALSE),$D31*VLOOKUP($C31&"|"&VLOOKUP('Stage 2'!$E$12,Lookups!$C$144:$D$145,2,FALSE)&"|"&VLOOKUP('Stage 2'!$E$11,Lookups!$C$104:$E$126,3,FALSE)&"|"&"DrainedArGr",Lookups!$H$19:$J$100,2,FALSE))),IFERROR($D31*VLOOKUP($C31&"|"&VLOOKUP('Stage 2'!$E$11,Lookups!$C$104:$E$126,3,FALSE),Lookups!$K$19:$M$92,2,FALSE),$D31*VLOOKUP($C31,Lookups!$D$19:$O$92,11,FALSE))))) | F31: =IF(OR(ISBLANK($C31),ISBLANK($D31),ISBLANK($E$10),ISBLANK($E$11)),"",IFERROR($D31*VLOOKUP((IF(OR($C31="Residential urban land",$C31="Commercial/industrial urban land",$C31="Open urban land",$C31="Greenspace",$C31="Community food growing",$C31="Woodland",$C31="Shrub", $C31="Water"), "|||"&$C31, (VLOOKUP('Stage 2'!$E$9,Lookups!$C$130:$D$130,2,FALSE)&"|"&$C31&"|"&VLOOKUP('Stage 2'!$E$12,Lookups!$C$144:$D$145,2,FALSE)&"|"&VLOOKUP('Stage 2'!$E$11,Lookups!$C$104:$E$126,3,FALSE)&"|"&VLOOKUP($E$10,Lookups!$C$135:$D$140,2,FALSE)))),Lookups!$H$19:$J$100,3,FALSE), IFERROR(IFERROR($D31*VLOOKUP($C31&"|"&VLOOKUP('Stage 2'!$E$12,Lookups!$C$144:$D$145,2,FALSE)&"|"&VLOOKUP('Stage 2'!$E$11,Lookups!$C$104:$E$126,3,FALSE)&"|"&VLOOKUP($E$10,Lookups!$C$135:$D$140,2,FALSE),Lookups!$H$19:$J$100,3,FALSE),IFERROR($D31*VLOOKUP($C31&"|"&"TRUE"&"|"&VLOOKUP('Stage 2'!$E$11,Lookups!$C$104:$E$126,3,FALSE)&"|"&VLOOKUP($E$10,Lookups!$C$135:$D$140,2,FALSE),Lookups!$H$19:$J$100,3,FALSE),$D31*VLOOKUP($C31&"|"&VLOOKUP('Stage 2'!$E$12,Lookups!$C$144:$D$145,2,FALSE)&"|"&VLOOKUP('Stage 2'!$E$11,Lookups!$C$104:$E$126,3,FALSE)&"|"&"DrainedArGr",Lookups!$H$19:$J$100,3,FALSE))),IFERROR($D31*VLOOKUP($C31&"|"&VLOOKUP('Stage 2'!$E$11,Lookups!$C$104:$E$126,3,FALSE),Lookups!$K$19:$M$92,3,FALSE),$D31*VLOOKUP($C31,Lookups!$D$19:$O$92,12,FALSE)))))
C32: Total: | D32: =SUM(D15:D31) -> 0.0289 | E32: =SUM(E15:E31) -> 0.047724562 | F32: =SUM(F15:F31) -> 0.4444137

Sheet Stage 3
B3: Stage 3
C7: User Inputs
C9: New land use type(s) | D9: Area (ha) | E9: Annual phosphorus nutrient export (kg TP) | F9: Annual nitrogen nutrient export (kg TN)
C10: Residential urban land | D10: 0.03 | E10: =IF(OR(ISBLANK(C10),ISBLANK(D10)),"",D10*VLOOKUP((IF(OR(C10="Residential urban land",C10="Commercial/industrial urban land",C10="Open urban land",C10="Greenspace",C10="Community food growing",C10="Woodland",C10="Shrub", C10="Water"), "|||"&C10, (VLOOKUP('Stage 2'!$E$9,Lookups!$C$130:$D$130,2,FALSE)&"|"&C10&"|"&VLOOKUP('Stage 2'!$E$12,Lookups!$C$144:$D$145,2,FALSE)&"|"&VLOOKUP('Stage 2'!$E$11,Lookups!$C$104:$E$126,3,FALSE)&"|"&VLOOKUP('Stage 2'!$E$10,Lookups!$C$135:$D$140,2,FALSE)))),Lookups!$H$19:$J$100,2,FALSE)) -> 0.049541068 | F10: =IF(OR(ISBLANK(C10),ISBLANK(D10)),"",D10*VLOOKUP((IF(OR(C10="Residential urban land",C10="Commercial/industrial urban land",C10="Open urban land",C10="Greenspace",C10="Community food growing",C10="Woodland",C10="Shrub", C10="Water"), "|||"&C10, (VLOOKUP('Stage 2'!$E$9,Lookups!$C$130:$D$130,2,FALSE)&"|"&C10&"|"&VLOOKUP('Stage 2'!$E$12,Lookups!$C$144:$D$145,2,FALSE)&"|"&VLOOKUP('Stage 2'!$E$11,Lookups!$C$104:$E$126,3,FALSE)&"|"&VLOOKUP('Stage 2'!$E$10,Lookups!$C$135:$D$140,2,FALSE)))),Lookups!$H$19:$J$100,3,FALSE)) -> 0.4613291
E11: =IF(OR(ISBLANK(C11),ISBLANK(D11)),"",D11*VLOOKUP((IF(OR(C11="Residential urban land",C11="Commercial/industrial urban land",C11="Open urban land",C11="Greenspace",C11="Community food growing",C11="Woodland",C11="Shrub", C11="Water"), "|||"&C11, (VLOOKUP('Stage 2'!$E$9,Lookups!$C$130:$D$130,2,FALSE)&"|"&C11&"|"&VLOOKUP('Stage 2'!$E$12,Lookups!$C$144:$D$145,2,FALSE)&"|"&VLOOKUP('Stage 2'!$E$11,Lookups!$C$104:$E$126,3,FALSE)&"|"&VLOOKUP('Stage 2'!$E$10,Lookups!$C$135:$D$140,2,FALSE)))),Lookups!$H$19:$J$100,2,FALSE)) | F11: =IF(OR(ISBLANK(C11),ISBLANK(D11)),"",D11*VLOOKUP((IF(OR(C11="Residential urban land",C11="Commercial/industrial urban land",C11="Open urban land",C11="Greenspace",C11="Community food growing",C11="Woodland",C11="Shrub", C11="Water"), "|||"&C11, (VLOOKUP('Stage 2'!$E$9,Lookups!$C$130:$D$130,2,FALSE)&"|"&C11&"|"&VLOOKUP('Stage 2'!$E$12,Lookups!$C$144:$D$145,2,FALSE)&"|"&VLOOKUP('Stage 2'!$E$11,Lookups!$C$104:$E$126,3,FALSE)&"|"&VLOOKUP('Stage 2'!$E$10,Lookups!$C$135:$D$140,2,FALSE)))),Lookups!$H$19:$J$100,3,FALSE))
E12: =IF(OR(ISBLANK(C12),ISBLANK(D12)),"",D12*VLOOKUP((IF(OR(C12="Residential urban land",C12="Commercial/industrial urban land",C12="Open urban land",C12="Greenspace",C12="Community food growing",C12="Woodland",C12="Shrub", C12="Water"), "|||"&C12, (VLOOKUP('Stage 2'!$E$9,Lookups!$C$130:$D$130,2,FALSE)&"|"&C12&"|"&VLOOKUP('Stage 2'!$E$12,Lookups!$C$144:$D$145,2,FALSE)&"|"&VLOOKUP('Stage 2'!$E$11,Lookups!$C$104:$E$126,3,FALSE)&"|"&VLOOKUP('Stage 2'!$E$10,Lookups!$C$135:$D$140,2,FALSE)))),Lookups!$H$19:$J$100,2,FALSE)) | F12: =IF(OR(ISBLANK(C12),ISBLANK(D12)),"",D12*VLOOKUP((IF(OR(C12="Residential urban land",C12="Commercial/industrial urban land",C12="Open urban land",C12="Greenspace",C12="Community food growing",C12="Woodland",C12="Shrub", C12="Water"), "|||"&C12, (VLOOKUP('Stage 2'!$E$9,Lookups!$C$130:$D$130,2,FALSE)&"|"&C12&"|"&VLOOKUP('Stage 2'!$E$12,Lookups!$C$144:$D$145,2,FALSE)&"|"&VLOOKUP('Stage 2'!$E$11,Lookups!$C$104:$E$126,3,FALSE)&"|"&VLOOKUP('Stage 2'!$E$10,Lookups!$C$135:$D$140,2,FALSE)))),Lookups!$H$19:$J$100,3,FALSE))
E13: =IF(OR(ISBLANK(C13),ISBLANK(D13)),"",D13*VLOOKUP((IF(OR(C13="Residential urban land",C13="Commercial/industrial urban land",C13="Open urban land",C13="Greenspace",C13="Community food growing",C13="Woodland",C13="Shrub", C13="Water"), "|||"&C13, (VLOOKUP('Stage 2'!$E$9,Lookups!$C$130:$D$130,2,FALSE)&"|"&C13&"|"&VLOOKUP('Stage 2'!$E$12,Lookups!$C$144:$D$145,2,FALSE)&"|"&VLOOKUP('Stage 2'!$E$11,Lookups!$C$104:$E$126,3,FALSE)&"|"&VLOOKUP('Stage 2'!$E$10,Lookups!$C$135:$D$140,2,FALSE)))),Lookups!$H$19:$J$100,2,FALSE)) | F13: =IF(OR(ISBLANK(C13),ISBLANK(D13)),"",D13*VLOOKUP((IF(OR(C13="Residential urban land",C13="Commercial/industrial urban land",C13="Open urban land",C13="Greenspace",C13="Community food growing",C13="Woodland",C13="Shrub", C13="Water"), "|||"&C13, (VLOOKUP('Stage 2'!$E$9,Lookups!$C$130:$D$130,2,FALSE)&"|"&C13&"|"&VLOOKUP('Stage 2'!$E$12,Lookups!$C$144:$D$145,2,FALSE)&"|"&VLOOKUP('Stage 2'!$E$11,Lookups!$C$104:$E$126,3,FALSE)&"|"&VLOOKUP('Stage 2'!$E$10,Lookups!$C$135:$D$140,2,FALSE)))),Lookups!$H$19:$J$100,3,FALSE))
E14: =IF(OR(ISBLANK(C14),ISBLANK(D14)),"",D14*VLOOKUP((IF(OR(C14="Residential urban land",C14="Commercial/industrial urban land",C14="Open urban land",C14="Greenspace",C14="Community food growing",C14="Woodland",C14="Shrub", C14="Water"), "|||"&C14, (VLOOKUP('Stage 2'!$E$9,Lookups!$C$130:$D$130,2,FALSE)&"|"&C14&"|"&VLOOKUP('Stage 2'!$E$12,Lookups!$C$144:$D$145,2,FALSE)&"|"&VLOOKUP('Stage 2'!$E$11,Lookups!$C$104:$E$126,3,FALSE)&"|"&VLOOKUP('Stage 2'!$E$10,Lookups!$C$135:$D$140,2,FALSE)))),Lookups!$H$19:$J$100,2,FALSE)) | F14: =IF(OR(ISBLANK(C14),ISBLANK(D14)),"",D14*VLOOKUP((IF(OR(C14="Residential urban land",C14="Commercial/industrial urban land",C14="Open urban land",C14="Greenspace",C14="Community food growing",C14="Woodland",C14="Shrub", C14="Water"), "|||"&C14, (VLOOKUP('Stage 2'!$E$9,Lookups!$C$130:$D$130,2,FALSE)&"|"&C14&"|"&VLOOKUP('Stage 2'!$E$12,Lookups!$C$144:$D$145,2,FALSE)&"|"&VLOOKUP('Stage 2'!$E$11,Lookups!$C$104:$E$126,3,FALSE)&"|"&VLOOKUP('Stage 2'!$E$10,Lookups!$C$135:$D$140,2,FALSE)))),Lookups!$H$19:$J$100,3,FALSE))
E15: =IF(OR(ISBLANK(C15),ISBLANK(D15)),"",D15*VLOOKUP((IF(OR(C15="Residential urban land",C15="Commercial/industrial urban land",C15="Open urban land",C15="Greenspace",C15="Community food growing",C15="Woodland",C15="Shrub", C15="Water"), "|||"&C15, (VLOOKUP('Stage 2'!$E$9,Lookups!$C$130:$D$130,2,FALSE)&"|"&C15&"|"&VLOOKUP('Stage 2'!$E$12,Lookups!$C$144:$D$145,2,FALSE)&"|"&VLOOKUP('Stage 2'!$E$11,Lookups!$C$104:$E$126,3,FALSE)&"|"&VLOOKUP('Stage 2'!$E$10,Lookups!$C$135:$D$140,2,FALSE)))),Lookups!$H$19:$J$100,2,FALSE)) | F15: =IF(OR(ISBLANK(C15),ISBLANK(D15)),"",D15*VLOOKUP((IF(OR(C15="Residential urban land",C15="Commercial/industrial urban land",C15="Open urban land",C15="Greenspace",C15="Community food growing",C15="Woodland",C15="Shrub", C15="Water"), "|||"&C15, (VLOOKUP('Stage 2'!$E$9,Lookups!$C$130:$D$130,2,FALSE)&"|"&C15&"|"&VLOOKUP('Stage 2'!$E$12,Lookups!$C$144:$D$145,2,FALSE)&"|"&VLOOKUP('Stage 2'!$E$11,Lookups!$C$104:$E$126,3,FALSE)&"|"&VLOOKUP('Stage 2'!$E$10,Lookups!$C$135:$D$140,2,FALSE)))),Lookups!$H$19:$J$100,3,FALSE))
E16: =IF(OR(ISBLANK(C16),ISBLANK(D16)),"",D16*VLOOKUP((IF(OR(C16="Residential urban land",C16="Commercial/industrial urban land",C16="Open urban land",C16="Greenspace",C16="Community food growing",C16="Woodland",C16="Shrub", C16="Water"), "|||"&C16, (VLOOKUP('Stage 2'!$E$9,Lookups!$C$130:$D$130,2,FALSE)&"|"&C16&"|"&VLOOKUP('Stage 2'!$E$12,Lookups!$C$144:$D$145,2,FALSE)&"|"&VLOOKUP('Stage 2'!$E$11,Lookups!$C$104:$E$126,3,FALSE)&"|"&VLOOKUP('Stage 2'!$E$10,Lookups!$C$135:$D$140,2,FALSE)))),Lookups!$H$19:$J$100,2,FALSE)) | F16: =IF(OR(ISBLANK(C16),ISBLANK(D16)),"",D16*VLOOKUP((IF(OR(C16="Residential urban land",C16="Commercial/industrial urban land",C16="Open urban land",C16="Greenspace",C16="Community food growing",C16="Woodland",C16="Shrub", C16="Water"), "|||"&C16, (VLOOKUP('Stage 2'!$E$9,Lookups!$C$130:$D$130,2,FALSE)&"|"&C16&"|"&VLOOKUP('Stage 2'!$E$12,Lookups!$C$144:$D$145,2,FALSE)&"|"&VLOOKUP('Stage 2'!$E$11,Lookups!$C$104:$E$126,3,FALSE)&"|"&VLOOKUP('Stage 2'!$E$10,Lookups!$C$135:$D$140,2,FALSE)))),Lookups!$H$19:$J$100,3,FALSE))
E17: =IF(OR(ISBLANK(C17),ISBLANK(D17)),"",D17*VLOOKUP((IF(OR(C17="Residential urban land",C17="Commercial/industrial urban land",C17="Open urban land",C17="Greenspace",C17="Community food growing",C17="Woodland",C17="Shrub", C17="Water"), "|||"&C17, (VLOOKUP('Stage 2'!$E$9,Lookups!$C$130:$D$130,2,FALSE)&"|"&C17&"|"&VLOOKUP('Stage 2'!$E$12,Lookups!$C$144:$D$145,2,FALSE)&"|"&VLOOKUP('Stage 2'!$E$11,Lookups!$C$104:$E$126,3,FALSE)&"|"&VLOOKUP('Stage 2'!$E$10,Lookups!$C$135:$D$140,2,FALSE)))),Lookups!$H$19:$J$100,2,FALSE)) | F17: =IF(OR(ISBLANK(C17),ISBLANK(D17)),"",D17*VLOOKUP((IF(OR(C17="Residential urban land",C17="Commercial/industrial urban land",C17="Open urban land",C17="Greenspace",C17="Community food growing",C17="Woodland",C17="Shrub", C17="Water"), "|||"&C17, (VLOOKUP('Stage 2'!$E$9,Lookups!$C$130:$D$130,2,FALSE)&"|"&C17&"|"&VLOOKUP('Stage 2'!$E$12,Lookups!$C$144:$D$145,2,FALSE)&"|"&VLOOKUP('Stage 2'!$E$11,Lookups!$C$104:$E$126,3,FALSE)&"|"&VLOOKUP('Stage 2'!$E$10,Lookups!$C$135:$D$140,2,FALSE)))),Lookups!$H$19:$J$100,3,FALSE))
E18: =IF(OR(ISBLANK(C18),ISBLANK(D18)),"",D18*VLOOKUP((IF(OR(C18="Residential urban land",C18="Commercial/industrial urban land",C18="Open urban land",C18="Greenspace",C18="Community food growing",C18="Woodland",C18="Shrub", C18="Water"), "|||"&C18, (VLOOKUP('Stage 2'!$E$9,Lookups!$C$130:$D$130,2,FALSE)&"|"&C18&"|"&VLOOKUP('Stage 2'!$E$12,Lookups!$C$144:$D$145,2,FALSE)&"|"&VLOOKUP('Stage 2'!$E$11,Lookups!$C$104:$E$126,3,FALSE)&"|"&VLOOKUP('Stage 2'!$E$10,Lookups!$C$135:$D$140,2,FALSE)))),Lookups!$H$19:$J$100,2,FALSE)) | F18: =IF(OR(ISBLANK(C18),ISBLANK(D18)),"",D18*VLOOKUP((IF(OR(C18="Residential urban land",C18="Commercial/industrial urban land",C18="Open urban land",C18="Greenspace",C18="Community food growing",C18="Woodland",C18="Shrub", C18="Water"), "|||"&C18, (VLOOKUP('Stage 2'!$E$9,Lookups!$C$130:$D$130,2,FALSE)&"|"&C18&"|"&VLOOKUP('Stage 2'!$E$12,Lookups!$C$144:$D$145,2,FALSE)&"|"&VLOOKUP('Stage 2'!$E$11,Lookups!$C$104:$E$126,3,FALSE)&"|"&VLOOKUP('Stage 2'!$E$10,Lookups!$C$135:$D$140,2,FALSE)))),Lookups!$H$19:$J$100,3,FALSE))
E19: =IF(OR(ISBLANK(C19),ISBLANK(D19)),"",D19*VLOOKUP((IF(OR(C19="Residential urban land",C19="Commercial/industrial urban land",C19="Open urban land",C19="Greenspace",C19="Community food growing",C19="Woodland",C19="Shrub", C19="Water"), "|||"&C19, (VLOOKUP('Stage 2'!$E$9,Lookups!$C$130:$D$130,2,FALSE)&"|"&C19&"|"&VLOOKUP('Stage 2'!$E$12,Lookups!$C$144:$D$145,2,FALSE)&"|"&VLOOKUP('Stage 2'!$E$11,Lookups!$C$104:$E$126,3,FALSE)&"|"&VLOOKUP('Stage 2'!$E$10,Lookups!$C$135:$D$140,2,FALSE)))),Lookups!$H$19:$J$100,2,FALSE)) | F19: =IF(OR(ISBLANK(C19),ISBLANK(D19)),"",D19*VLOOKUP((IF(OR(C19="Residential urban land",C19="Commercial/industrial urban land",C19="Open urban land",C19="Greenspace",C19="Community food growing",C19="Woodland",C19="Shrub", C19="Water"), "|||"&C19, (VLOOKUP('Stage 2'!$E$9,Lookups!$C$130:$D$130,2,FALSE)&"|"&C19&"|"&VLOOKUP('Stage 2'!$E$12,Lookups!$C$144:$D$145,2,FALSE)&"|"&VLOOKUP('Stage 2'!$E$11,Lookups!$C$104:$E$126,3,FALSE)&"|"&VLOOKUP('Stage 2'!$E$10,Lookups!$C$135:$D$140,2,FALSE)))),Lookups!$H$19:$J$100,3,FALSE))
E20: =IF(OR(ISBLANK(C20),ISBLANK(D20)),"",D20*VLOOKUP((IF(OR(C20="Residential urban land",C20="Commercial/industrial urban land",C20="Open urban land",C20="Greenspace",C20="Community food growing",C20="Woodland",C20="Shrub", C20="Water"), "|||"&C20, (VLOOKUP('Stage 2'!$E$9,Lookups!$C$130:$D$130,2,FALSE)&"|"&C20&"|"&VLOOKUP('Stage 2'!$E$12,Lookups!$C$144:$D$145,2,FALSE)&"|"&VLOOKUP('Stage 2'!$E$11,Lookups!$C$104:$E$126,3,FALSE)&"|"&VLOOKUP('Stage 2'!$E$10,Lookups!$C$135:$D$140,2,FALSE)))),Lookups!$H$19:$J$100,2,FALSE)) | F20: =IF(OR(ISBLANK(C20),ISBLANK(D20)),"",D20*VLOOKUP((IF(OR(C20="Residential urban land",C20="Commercial/industrial urban land",C20="Open urban land",C20="Greenspace",C20="Community food growing",C20="Woodland",C20="Shrub", C20="Water"), "|||"&C20, (VLOOKUP('Stage 2'!$E$9,Lookups!$C$130:$D$130,2,FALSE)&"|"&C20&"|"&VLOOKUP('Stage 2'!$E$12,Lookups!$C$144:$D$145,2,FALSE)&"|"&VLOOKUP('Stage 2'!$E$11,Lookups!$C$104:$E$126,3,FALSE)&"|"&VLOOKUP('Stage 2'!$E$10,Lookups!$C$135:$D$140,2,FALSE)))),Lookups!$H$19:$J$100,3,FALSE))
E21: =IF(OR(ISBLANK(C21),ISBLANK(D21)),"",D21*VLOOKUP((IF(OR(C21="Residential urban land",C21="Commercial/industrial urban land",C21="Open urban land",C21="Greenspace",C21="Community food growing",C21="Woodland",C21="Shrub", C21="Water"), "|||"&C21, (VLOOKUP('Stage 2'!$E$9,Lookups!$C$130:$D$130,2,FALSE)&"|"&C21&"|"&VLOOKUP('Stage 2'!$E$12,Lookups!$C$144:$D$145,2,FALSE)&"|"&VLOOKUP('Stage 2'!$E$11,Lookups!$C$104:$E$126,3,FALSE)&"|"&VLOOKUP('Stage 2'!$E$10,Lookups!$C$135:$D$140,2,FALSE)))),Lookups!$H$19:$J$100,2,FALSE)) | F21: =IF(OR(ISBLANK(C21),ISBLANK(D21)),"",D21*VLOOKUP((IF(OR(C21="Residential urban land",C21="Commercial/industrial urban land",C21="Open urban land",C21="Greenspace",C21="Community food growing",C21="Woodland",C21="Shrub", C21="Water"), "|||"&C21, (VLOOKUP('Stage 2'!$E$9,Lookups!$C$130:$D$130,2,FALSE)&"|"&C21&"|"&VLOOKUP('Stage 2'!$E$12,Lookups!$C$144:$D$145,2,FALSE)&"|"&VLOOKUP('Stage 2'!$E$11,Lookups!$C$104:$E$126,3,FALSE)&"|"&VLOOKUP('Stage 2'!$E$10,Lookups!$C$135:$D$140,2,FALSE)))),Lookups!$H$19:$J$100,3,FALSE))
E22: =IF(OR(ISBLANK(C22),ISBLANK(D22)),"",D22*VLOOKUP((IF(OR(C22="Residential urban land",C22="Commercial/industrial urban land",C22="Open urban land",C22="Greenspace",C22="Community food growing",C22="Woodland",C22="Shrub", C22="Water"), "|||"&C22, (VLOOKUP('Stage 2'!$E$9,Lookups!$C$130:$D$130,2,FALSE)&"|"&C22&"|"&VLOOKUP('Stage 2'!$E$12,Lookups!$C$144:$D$145,2,FALSE)&"|"&VLOOKUP('Stage 2'!$E$11,Lookups!$C$104:$E$126,3,FALSE)&"|"&VLOOKUP('Stage 2'!$E$10,Lookups!$C$135:$D$140,2,FALSE)))),Lookups!$H$19:$J$100,2,FALSE)) | F22: =IF(OR(ISBLANK(C22),ISBLANK(D22)),"",D22*VLOOKUP((IF(OR(C22="Residential urban land",C22="Commercial/industrial urban land",C22="Open urban land",C22="Greenspace",C22="Community food growing",C22="Woodland",C22="Shrub", C22="Water"), "|||"&C22, (VLOOKUP('Stage 2'!$E$9,Lookups!$C$130:$D$130,2,FALSE)&"|"&C22&"|"&VLOOKUP('Stage 2'!$E$12,Lookups!$C$144:$D$145,2,FALSE)&"|"&VLOOKUP('Stage 2'!$E$11,Lookups!$C$104:$E$126,3,FALSE)&"|"&VLOOKUP('Stage 2'!$E$10,Lookups!$C$135:$D$140,2,FALSE)))),Lookups!$H$19:$J$100,3,FALSE))
... E26: =IF(OR(ISBLANK(C26),ISBLANK(D26)),"",D26*VLOOKUP((IF(OR(C26="Residential urban land",C26="Commercial/industrial urban land",C26="Open urban land",C26="Greenspace",C26="Community food growing",C26="Woodland",C26="Shrub", C26="Water"), "|||"&C26, (VLOOKUP('Stage 2'!$E$9,Lookups!$C$130:$D$130,2,FALSE)&"|"&C26&"|"&VLOOKUP('Stage 2'!$E$12,Lookups!$C$144:$D$145,2,FALSE)&"|"&VLOOKUP('Stage 2'!$E$11,Lookups!$C$104:$E$126,3,FALSE)&"|"&VLOOKUP('Stage 2'!$E$10,Lookups!$C$135:$D$140,2,FALSE)))),Lookups!$H$19:$J$100,2,FALSE)) | F26: =IF(OR(ISBLANK(C26),ISBLANK(D26)),"",D26*VLOOKUP((IF(OR(C26="Residential urban land",C26="Commercial/industrial urban land",C26="Open urban land",C26="Greenspace",C26="Community food growing",C26="Woodland",C26="Shrub", C26="Water"), "|||"&C26, (VLOOKUP('Stage 2'!$E$9,Lookups!$C$130:$D$130,2,FALSE)&"|"&C26&"|"&VLOOKUP('Stage 2'!$E$12,Lookups!$C$144:$D$145,2,FALSE)&"|"&VLOOKUP('Stage 2'!$E$11,Lookups!$C$104:$E$126,3,FALSE)&"|"&VLOOKUP('Stage 2'!$E$10,Lookups!$C$135:$D$140,2,FALSE)))),Lookups!$H$19:$J$100,3,FALSE))
C27: Total: | D27: =SUM(D10:D26) -> 0.03 | E27: =SUM(E10:E26) -> 0.049541068 | F27: =SUM(F10:F26) -> 0.4613291

Sheet Stage 4
B3: Stage 4
C7: Calculated Outputs
C10: P loading to WwTW: | D10: ='Stage 1'!D29 -> 0.05207004
C11: Net land use P change: | D11: ='Stage 3'!E27-'Stage 2'!E32 -> 0.0018165058
C12: P budget: | D12: =D10+D11 -> 0.053886546
C13: P budget + 20% buffer: | D13: =D12*1.2 -> 0.064663855
C16: N loading to WwTW: | D16: ='Stage 1'!D34 -> 2.603502
C17: Net land use N change: | D17: ='Stage 3'!F27-'Stage 2'!F32 -> 0.0169154
C18: N budget: | D18: =D16+D17 -> 2.6204174
C19: N budget + 20% buffer: | D19: =D18*1.2 -> 3.1445009
C21: =IFERROR(IF(AND('Stage 1'!$D$9<DATE(2025,1,1),OR((VLOOKUP('Stage 1'!$D$13,Lookups!$C$8:$G$13,2,FALSE))>(VLOOKUP('Stage 1'!$D$13,Lookups!$C$8:$G$13,4,FALSE)),(VLOOKUP('Stage 1'!$D$13,Lookups!$C$8:$G$13,3,FALSE))>(VLOOKUP('Stage 1'!$D$13,Lookups!$C$8:$G$13,5,FALSE)))),"Post-2025 Annual Nutrient Budget","Annual Nutrient Budget"),"") -> Post-2025 Annual Nutrient Budget | F21: =IFERROR(IF(AND('Stage 1'!$D$9<DATE(2025,1,1),OR((VLOOKUP('Stage 1'!$D$13,Lookups!$C$8:$G$13,2,FALSE))>(VLOOKUP('Stage 1'!$D$13,Lookups!$C$8:$G$13,4,FALSE)),(VLOOKUP('Stage 1'!$D$13,Lookups!$C$8:$G$13,3,FALSE))>(VLOOKUP('Stage 1'!$D$13,Lookups!$C$8:$G$13,5,FALSE)))),"Pre-2025 Annual Nutrient Budget",""),"") -> Pre-2025 Annual Nutrient Budget
C22: The total annual phosphorus load to mitigate is: | D22: =IF(ROUND(D13,2)<0,0&" kg TP/year",ROUND(D13,2)&" kg TP/year") -> 0.06 kg TP/year | F22: =IFERROR(IF(AND('Stage 1'!$D$9<DATE(2025,1,1),OR((VLOOKUP('Stage 1'!$D$13,Lookups!$C$8:$G$13,2,FALSE))>(VLOOKUP('Stage 1'!$D$13,Lookups!$C$8:$G$13,4,FALSE)),(VLOOKUP('Stage 1'!$D$13,Lookups!$C$8:$G$13,3,FALSE))>(VLOOKUP('Stage 1'!$D$13,Lookups!$C$8:$G$13,5,FALSE)))),"The pre-2025 annual phosphorus load to mitigate is:",""),"") -> The pre-2025 annual phosphorus load to mitigate is: | G22: =IFERROR(IF(AND('Stage 1'!$D$9<DATE(2025,1,1),OR((VLOOKUP('Stage 1'!$D$13,Lookups!$C$8:$G$13,2,FALSE))>(VLOOKUP('Stage 1'!$D$13,Lookups!$C$8:$G$13,4,FALSE)),(VLOOKUP('Stage 1'!$D$13,Lookups!$C$8:$G$13,3,FALSE))>(VLOOKUP('Stage 1'!$D$13,Lookups!$C$8:$G$13,5,FALSE)))),IF(ROUND(('Stage 3'!E27-'Stage 2'!E32+'Stage 1'!H22)*1.2,2)<0,0&" kg TP/year",ROUND(('Stage 3'!E27-'Stage 2'!E32+'Stage 1'!H22)*1.2,2)&" kg TP/year"),""),"") -> 0.11 kg TP/year
C28: The total annual nitrogen load to mitigate is: | D28: =IF(ROUND(D19,2)<0,0&" kg TN/year",ROUND(D19,2)&" kg TN/year") -> 3.14 kg TN/year | F28: =IFERROR(IF(AND('Stage 1'!$D$9<DATE(2025,1,1),OR((VLOOKUP('Stage 1'!$D$13,Lookups!$C$8:$G$13,2,FALSE))>(VLOOKUP('Stage 1'!$D$13,Lookups!$C$8:$G$13,4,FALSE)),(VLOOKUP('Stage 1'!$D$13,Lookups!$C$8:$G$13,3,FALSE))>(VLOOKUP('Stage 1'!$D$13,Lookups!$C$8:$G$13,5,FALSE)))),"The pre-2025 annual nitrogen load to mitigate is:",""),"") -> The pre-2025 annual nitrogen load to mitigate is: | G28: =IFERROR(IF(AND('Stage 1'!$D$9<DATE(2025,1,1),OR((VLOOKUP('Stage 1'!$D$13,Lookups!$C$8:$G$13,2,FALSE))>(VLOOKUP('Stage 1'!$D$13,Lookups!$C$8:$G$13,4,FALSE)),(VLOOKUP('Stage 1'!$D$13,Lookups!$C$8:$G$13,3,FALSE))>(VLOOKUP('Stage 1'!$D$13,Lookups!$C$8:$G$13,5,FALSE)))),IF(ROUND(('Stage 3'!F27-'Stage 2'!F32+'Stage 1'!H23)*1.2,2)<0,0&" kg TN/year",ROUND(('Stage 3'!F27-'Stage 2'!F32+'Stage 1'!H23)*1.2,2)&" kg TN/year"),""),"") -> 3.14 kg TN/year

Sheet Stage 4 (2)
B9: P loading to WwTW: | E9: Your final phosphorus budget is:
B10: Net land use P change: | H10: have pop up message if negative that says soemthing like "No P to mitigate
B11: P budget: | H11: =IF(C33<0,"Well done, you're in the clear…,""") -> FALSE
B12: P budget + 20% buffer: | H12: If positive have message similar to the right
B15: N loading to WwTW: | C15: ='Stage 1'!D34 -> 2.603502 | E15: The total amount of nitrogen to mitigate is:
B16: Net land use N change: | C16: ='Stage 3'!F27-'Stage 2'!F32 -> 0.0169154
B17: N budget: | C17: =C15+C16 -> 2.6204174
B18: N budget + 20% buffer: | C18: =C17*1.2 -> 3.1445009
C24: ='Stage 1'!D29 -> 0.05207004 | F24: =C33 -> 0.064663855
C27: ='Stage 3'!E27-'Stage 2'!E32 -> 0.0018165058
F29: =C18 -> 3.1445009
C30: =C24+C27 -> 0.053886546
C33: =C30*1.2 -> 0.064663855

Sheet Lookups
B2: Look Up Tables
C6: Table 1: Stage 1 WwTW lookup
C7: Discharge Site Name | D7: Phosphorus, Total as P (mg/l) | E7: Nitrogen, Total as N (mg/l) | F7: Phosphorus, Total as P (mg/l), permit post 2025 | G7: Nitogren, Total as N (mg/l), permit post 2025
C8: Chickenhall Eastleigh WwTW | D8: 1 | E8: 27 | F8: 0.6 | G8: 27
C9: Harestock WwTW | D9: 1 | E9: 27 | F9: 0.25 | G9: 27
C10: Morestead WwTW | D10: 1 | E10: 27 | F10: 1 | G10: 27
C11: New Alresford WwTW | D11: 8 | E11: 25 | F11: 8 | G11: 25
C12: Package Treatment Plant default | D12: 9.7 | E12: 72.9 | F12: 9.7 | G12: 72.9
C13: Septic Tank default | D13: 11.6 | E13: 96.3 | F13: 11.6 | G13: 96.3
C14: Package Treatment Plant user defined
C15: Septic Tank user defined
C17: Table 2: Stage 2 and 3 Landcover lookup
C18: Catchment | D18: Farmscoper Farm Term | E18: NVZ | F18: Climate | G18: Farmscoper Soil Drainage Term | H18: Lookup | I18: Phosphorus export coefficient | J18: Nitrogen export coefficient | K18: Farm Lookup | L18: Mean P export of farm type and climate combination | M18: Mean N export of farm type and climate combination | N18: Mean P export of farm type | O18: Mean N export of farm type
C19: Itchen | D19: Cereals | E19: TRUE | F19: 700to900 | G19: FreeDrain | H19: =C19&"|"&D19&"|"&E19&"|"&F19&"|"&G19 -> Itchen|Cereals|TRUE|700to900|FreeDrain | I19: 0.1 | J19: 28.76 | K19: =D19&"|"&F19 -> Cereals|700to900 | L19: =AVERAGE(I19:I21) -> 0.58333333 | M19: =AVERAGE(J19:J21) -> 23.81 | N19: =AVERAGE(I19:I22) -> 0.4825 | O19: =AVERAGE(J19:J22) -> 25.5
C20: Itchen | D20: Cereals | E20: TRUE | F20: 700to900 | G20: DrainedAr | H20: =C20&"|"&D20&"|"&E20&"|"&F20&"|"&G20 -> Itchen|Cereals|TRUE|700to900|DrainedAr | I20: 0.7 | J20: 22.06 | K20: =D20&"|"&F20 -> Cereals|700to900 | L20: =AVERAGE(I19:I21) -> 0.58333333 | M20: =AVERAGE(J19:J21) -> 23.81
C21: Itchen | D21: Cereals | E21: TRUE | F21: 700to900 | G21: DrainedArGr | H21: =C21&"|"&D21&"|"&E21&"|"&F21&"|"&G21 -> Itchen|Cereals|TRUE|700to900|DrainedArGr | I21: 0.95 | J21: 20.61 | K21: =D21&"|"&F21 -> Cereals|700to900 | L21: =AVERAGE(I19:I21) -> 0.58333333 | M21: =AVERAGE(J19:J21) -> 23.81
C22: Itchen | D22: Cereals | E22: TRUE | F22: 900to1200 | G22: FreeDrain | H22: =C22&"|"&D22&"|"&E22&"|"&F22&"|"&G22 -> Itchen|Cereals|TRUE|900to1200|FreeDrain | I22: 0.18 | J22: 30.57 | K22: =D22&"|"&F22 -> Cereals|900to1200 | L22: =AVERAGE(I22,I46) -> 0.68 | M22: =AVERAGE(J22,J46) -> 28.69
C23: Itchen | D23: General | E23: TRUE | F23: 700to900 | G23: FreeDrain | H23: =C23&"|"&D23&"|"&E23&"|"&F23&"|"&G23 -> Itchen|General|TRUE|700to900|FreeDrain | I23: 0.08 | J23: 21.65 | K23: =D23&"|"&F23 -> General|700to900 | L23: =AVERAGE(I23:I25) -> 0.43333333 | M23: =AVERAGE(J23:J25) -> 17.546667 | N23: =AVERAGE(I23:I26) -> 0.36 | O23: =AVERAGE(J23:J26) -> 18.955
C24: Itchen | D24: General | E24: TRUE | F24: 700to900 | G24: DrainedAr | H24: =C24&"|"&D24&"|"&E24&"|"&F24&"|"&G24 -> Itchen|General|TRUE|700to900|DrainedAr | I24: 0.49 | J24: 16.23 | K24: =D24&"|"&F24 -> General|700to900 | L24: =AVERAGE(I23:I25) -> 0.43333333 | M24: =AVERAGE(J23:J25) -> 17.546667
C25: Itchen | D25: General | E25: TRUE | F25: 700to900 | G25: DrainedArGr | H25: =C25&"|"&D25&"|"&E25&"|"&F25&"|"&G25 -> Itchen|General|TRUE|700to900|DrainedArGr | I25: 0.73 | J25: 14.76 | K25: =D25&"|"&F25 -> General|700to900 | L25: =AVERAGE(I23:I25) -> 0.43333333 | M25: =AVERAGE(J23:J25) -> 17.546667
C26: Itchen | D26: General | E26: TRUE | F26: 900to1200 | G26: FreeDrain | H26: =C26&"|"&D26&"|"&E26&"|"&F26&"|"&G26 -> Itchen|General|TRUE|900to1200|FreeDrain | I26: 0.14 | J26: 23.18 | K26: =D26&"|"&F26 -> General|900to1200 | L26: =AVERAGE(I26,I50:I51) -> 0.66 | M26: =AVERAGE(J26,J50:J51) -> 18.14
C27: Itchen | D27: Horticulture | E27: TRUE | F27: 700to900 | G27: FreeDrain | H27: =C27&"|"&D27&"|"&E27&"|"&F27&"|"&G27 -> Itchen|Horticulture|TRUE|700to900|FreeDrain | I27: 0.09 | J27: 21.82 | K27: =D27&"|"&F27 -> Horticulture|700to900 | L27: =AVERAGE(I27,I28) -> 0.47 | M27: =AVERAGE(J27,J28) -> 18.11 | N27: =AVERAGE(I27:I29) -> 0.36666667 | O27: =AVERAGE(J27:J29) -> 19.88
C28: Itchen | D28: Horticulture | E28: TRUE | F28: 700to900 | G28: DrainedArGr | H28: =C28&"|"&D28&"|"&E28&"|"&F28&"|"&G28 -> Itchen|Horticulture|TRUE|700to900|DrainedArGr | I28: 0.85 | J28: 14.4 | K28: =D28&"|"&F28 -> Horticulture|700to900 | L28: =AVERAGE(I27,I28) -> 0.47 | M28: =AVERAGE(J27,J28) -> 18.11
C29: Itchen | D29: Horticulture | E29: TRUE | F29: 900to1200 | G29: FreeDrain | H29: =C29&"|"&D29&"|"&E29&"|"&F29&"|"&G29 -> Itchen|Horticulture|TRUE|900to1200|FreeDrain | I29: 0.16 | J29: 23.42 | K29: =D29&"|"&F29 -> Horticulture|900to1200 | L29: =AVERAGE(I29,I55:I56) -> 0.8 | M29: =AVERAGE(J29,J55:J56) -> 19.103333
C30: Itchen | D30: Poultry | E30: TRUE | F30: 700to900 | G30: FreeDrain | H30: =C30&"|"&D30&"|"&E30&"|"&F30&"|"&G30 -> Itchen|Poultry|TRUE|700to900|FreeDrain | I30: 0.09 | J30: 78.56 | K30: =D30&"|"&F30 -> Poultry|700to900 | L30: =AVERAGE(I30,I61) -> 0.515 | M30: =AVERAGE(J30,J61) -> 85.43 | N30: =AVERAGE(I30:I32) -> 0.13 | O30: =AVERAGE(J30:J32) -> 81.136667
C31: Itchen | D31: Poultry | E31: FALSE | F31: 900to1200 | G31: FreeDrain | H31: =C31&"|"&D31&"|"&E31&"|"&F31&"|"&G31 -> Itchen|Poultry|FALSE|900to1200|FreeDrain | I31: 0.15 | J31: 82.28 | K31: =D31&"|"&F31 -> Poultry|900to1200 | L31: =AVERAGE(I31,I62:I63) -> 0.82666667 | M31: =AVERAGE(J31,J62:J63) -> 107.81
C32: Itchen | D32: Poultry | E32: TRUE | F32: 900to1200 | G32: FreeDrain | H32: =C32&"|"&D32&"|"&E32&"|"&F32&"|"&G32 -> Itchen|Poultry|TRUE|900to1200|FreeDrain | I32: 0.15 | J32: 82.57 | K32: =D32&"|"&F32 -> Poultry|900to1200 | L32: =AVERAGE(I32,I62:I63) -> 0.82666667 | M32: =AVERAGE(J32,J62:J63) -> 107.90667
C33: Itchen | D33: Dairy | E33: TRUE | F33: 700to900 | G33: FreeDrain | H33: =C33&"|"&D33&"|"&E33&"|"&F33&"|"&G33 -> Itchen|Dairy|TRUE|700to900|FreeDrain | I33: 0.12 | J33: 47.12 | K33: =D33&"|"&F33 -> Dairy|700to900 | L33: =AVERAGE(I33:I34) -> 0.68 | M33: =AVERAGE(J33:J34) -> 34.14 | N33: =AVERAGE(I33:I34) -> 0.68 | O33: =AVERAGE(J33:J34) -> 34.14
C34: Itchen | D34: Dairy | E34: TRUE | F34: 700to900 | G34: DrainedArGr | H34: =C34&"|"&D34&"|"&E34&"|"&F34&"|"&G34 -> Itchen|Dairy|TRUE|700to900|DrainedArGr | I34: 1.24 | J34: 21.16 | K34: =D34&"|"&F34 -> Dairy|700to900 | L34: =AVERAGE(I33:I34) -> 0.68 | M34: =AVERAGE(J33:J34) -> 34.14
C35: Itchen | D35: Lowland | E35: TRUE | F35: 700to900 | G35: FreeDrain | H35: =C35&"|"&D35&"|"&E35&"|"&F35&"|"&G35 -> Itchen|Lowland|TRUE|700to900|FreeDrain | I35: 0.06 | J35: 13.13 | K35: =D35&"|"&F35 -> Lowland|700to900 | L35: =AVERAGE(I35:I37) -> 0.28 | M35: =AVERAGE(J35:J37) -> 10.21 | N35: =AVERAGE(I35:I39) -> 0.212 | O35: =AVERAGE(J35:J39) -> 11.756
C36: Itchen | D36: Lowland | E36: TRUE | F36: 700to900 | G36: DrainedAr | H36: =C36&"|"&D36&"|"&E36&"|"&F36&"|"&G36 -> Itchen|Lowland|TRUE|700to900|DrainedAr | I36: 0.18 | J36: 10.16 | K36: =D36&"|"&F36 -> Lowland|700to900 | L36: =AVERAGE(I35:I37) -> 0.28 | M36: =AVERAGE(J35:J37) -> 10.21
C37: Itchen | D37: Lowland | E37: TRUE | F37: 700to900 | G37: DrainedArGr | H37: =C37&"|"&D37&"|"&E37&"|"&F37&"|"&G37 -> Itchen|Lowland|TRUE|700to900|DrainedArGr | I37: 0.6 | J37: 7.34 | K37: =D37&"|"&F37 -> Lowland|700to900 | L37: =AVERAGE(I35:I37) -> 0.28 | M37: =AVERAGE(J35:J37) -> 10.21
C38: Itchen | D38: Lowland | E38: FALSE | F38: 900to1200 | G38: FreeDrain | H38: =C38&"|"&D38&"|"&E38&"|"&F38&"|"&G38 -> Itchen|Lowland|FALSE|900to1200|FreeDrain | I38: 0.11 | J38: 14.12 | K38: =D38&"|"&F38 -> Lowland|900to1200 | L38: =AVERAGE(I38,I71:I72) -> 0.49666667 | M38: =AVERAGE(J38,J71:J72) -> 12.3
C39: Itchen | D39: Lowland | E39: TRUE | F39: 900to1200 | G39: FreeDrain | H39: =C39&"|"&D39&"|"&E39&"|"&F39&"|"&G39 -> Itchen|Lowland|TRUE|900to1200|FreeDrain | I39: 0.11 | J39: 14.03 | K39: =D39&"|"&F39 -> Lowland|900to1200 | L39: =AVERAGE(I39,I71:I72) -> 0.49666667 | M39: =AVERAGE(J39,J71:J72) -> 12.27
C40: Itchen | D40: Mixed | E40: TRUE | F40: 700to900 | G40: FreeDrain | H40: =C40&"|"&D40&"|"&E40&"|"&F40&"|"&G40 -> Itchen|Mixed|TRUE|700to900|FreeDrain | I40: 0.1 | J40: 26.32 | K40: =D40&"|"&F40 -> Mixed|700to900 | L40: =AVERAGE(I40:I41) -> 0.335 | M40: =AVERAGE(J40:J41) -> 23.26 | N40: =AVERAGE(I40:I42) -> 0.28 | O40: =AVERAGE(J40:J42) -> 24.823333
C41: Itchen | D41: Mixed | E41: TRUE | F41: 700to900 | G41: DrainedAr | H41: =C41&"|"&D41&"|"&E41&"|"&F41&"|"&G41 -> Itchen|Mixed|TRUE|700to900|DrainedAr | I41: 0.57 | J41: 20.2 | K41: =D41&"|"&F41 -> Mixed|700to900 | L41: =AVERAGE(I40:I41) -> 0.335 | M41: =AVERAGE(J40:J41) -> 23.26
C42: Itchen | D42: Mixed | E42: TRUE | F42: 900to1200 | G42: FreeDrain | H42: =C42&"|"&D42&"|"&E42&"|"&F42&"|"&G42 -> Itchen|Mixed|TRUE|900to1200|FreeDrain | I42: 0.17 | J42: 27.95 | K42: =D42&"|"&F42 -> Mixed|900to1200 | L42: =AVERAGE(I42,I75:I76) -> 0.79 | M42: =AVERAGE(J42,J75:J76) -> 23.653333
C43: Test Lower and Southampton Streams | D43: Cereals | E43: TRUE | F43: 700to900 | G43: FreeDrain | H43: =D43&"|"&E43&"|"&F43&"|"&G43 -> Cereals|TRUE|700to900|FreeDrain | I43: 0.13 | J43: 27.04 | K43: =D43&"|"&F43 -> Cereals|700to900 | L43: =I43 -> 0.13 | M43: =J43 -> 27.04
C44: Test Lower and Southampton Streams | D44: Cereals | E44: TRUE | F44: 700to900 | G44: DrainedAr | H44: =D44&"|"&E44&"|"&F44&"|"&G44 -> Cereals|TRUE|700to900|DrainedAr | I44: 0.62 | J44: 20.93 | K44: =D44&"|"&F44 -> Cereals|700to900 | L44: =I44 -> 0.62 | M44: =J44 -> 20.93
C45: Test Lower and Southampton Streams | D45: Cereals | E45: TRUE | F45: 700to900 | G45: DrainedArGr | H45: =D45&"|"&E45&"|"&F45&"|"&G45 -> Cereals|TRUE|700to900|DrainedArGr | I45: 0.87 | J45: 19.59 | K45: =D45&"|"&F45 -> Cereals|700to900 | L45: =I45 -> 0.87 | M45: =J45 -> 19.59
C46: Test Lower and Southampton Streams | D46: Cereals | E46: TRUE | F46: 900to1200 | G46: DrainedAr | H46: =D46&"|"&E46&"|"&F46&"|"&G46 -> Cereals|TRUE|900to1200|DrainedAr | I46: 1.18 | J46: 26.81 | K46: =D46&"|"&F46 -> Cereals|900to1200 | L46: =I46 -> 1.18 | M46: =J46 -> 26.81
C47: Test Lower and Southampton Streams | D47: General | E47: TRUE | F47: 700to900 | G47: FreeDrain | H47: =D47&"|"&E47&"|"&F47&"|"&G47 -> General|TRUE|700to900|FreeDrain | I47: 0.1 | J47: 17.95 | K47: =D47&"|"&F47 -> General|700to900 | L47: =I47 -> 0.1 | M47: =J47 -> 17.95
C48: Test Lower and Southampton Streams | D48: General | E48: TRUE | F48: 700to900 | G48: DrainedAr | H48: =D48&"|"&E48&"|"&F48&"|"&G48 -> General|TRUE|700to900|DrainedAr | I48: 0.4 | J48: 13.43 | K48: =D48&"|"&F48 -> General|700to900 | L48: =I48 -> 0.4 | M48: =J48 -> 13.43
C49: Test Lower and Southampton Streams | D49: General | E49: TRUE | F49: 700to900 | G49: DrainedArGr | H49: =D49&"|"&E49&"|"&F49&"|"&G49 -> General|TRUE|700to900|DrainedArGr | I49: 0.64 | J49: 12.05 | K49: =D49&"|"&F49 -> General|700to900 | L49: =I49 -> 0.64 | M49: =J49 -> 12.05
C50: Test Lower and Southampton Streams | D50: General | E50: TRUE | F50: 900to1200 | G50: DrainedAr | H50: =D50&"|"&E50&"|"&F50&"|"&G50 -> General|TRUE|900to1200|DrainedAr | I50: 0.76 | J50: 17.15 | K50: =D50&"|"&F50 -> General|900to1200 | L50: =I50 -> 0.76 | M50: =J50 -> 17.15
C51: Test Lower and Southampton Streams | D51: General | E51: TRUE | F51: 900to1200 | G51: DrainedArGr | H51: =D51&"|"&E51&"|"&F51&"|"&G51 -> General|TRUE|900to1200|DrainedArGr | I51: 1.08 | J51: 14.09 | K51: =D51&"|"&F51 -> General|900to1200 | L51: =I51 -> 1.08 | M51: =J51 -> 14.09
C52: Test Lower and Southampton Streams | D52: Horticulture | E52: TRUE | F52: 700to900 | G52: FreeDrain | H52: =D52&"|"&E52&"|"&F52&"|"&G52 -> Horticulture|TRUE|700to900|FreeDrain | I52: 0.11 | J52: 20.27 | K52: =D52&"|"&F52 -> Horticulture|700to900 | L52: =I52 -> 0.11 | M52: =J52 -> 20.27
C53: Test Lower and Southampton Streams | D53: Horticulture | E53: TRUE | F53: 700to900 | G53: DrainedAr | H53: =D53&"|"&E53&"|"&F53&"|"&G53 -> Horticulture|TRUE|700to900|DrainedAr | I53: 0.52 | J53: 14.82 | K53: =D53&"|"&F53 -> Horticulture|700to900 | L53: =I53 -> 0.52 | M53: =J53 -> 14.82
C54: Test Lower and Southampton Streams | D54: Horticulture | E54: TRUE | F54: 700to900 | G54: DrainedArGr | H54: =D54&"|"&E54&"|"&F54&"|"&G54 -> Horticulture|TRUE|700to900|DrainedArGr | I54: 0.77 | J54: 13.18 | K54: =D54&"|"&F54 -> Horticulture|700to900 | L54: =I54 -> 0.77 | M54: =J54 -> 13.18
... C56: Test Lower and Southampton Streams | D56: Horticulture | E56: TRUE | F56: 900to1200 | G56: DrainedArGr | H56: =D56&"|"&E56&"|"&F56&"|"&G56 -> Horticulture|TRUE|900to1200|DrainedArGr | I56: 1.26 | J56: 15.11 | K56: =D56&"|"&F56 -> Horticulture|900to1200 | L56: =I56 -> 1.26 | M56: =J56 -> 15.11
C57: Test Lower and Southampton Streams | D57: Pig | E57: TRUE | F57: 700to900 | G57: FreeDrain | H57: =D57&"|"&E57&"|"&F57&"|"&G57 -> Pig|TRUE|700to900|FreeDrain | I57: 0.14 | J57: 85.33 | K57: =D57&"|"&F57 -> Pig|700to900 | L57: =I57 -> 0.14 | M57: =J57 -> 85.33 | N57: =AVERAGE(I57:I59) -> 0.91 | O57: =AVERAGE(J57:J59) -> 61.013333
C58: Test Lower and Southampton Streams | D58: Pig | E58: TRUE | F58: 700to900 | G58: DrainedArGr | H58: =D58&"|"&E58&"|"&F58&"|"&G58 -> Pig|TRUE|700to900|DrainedArGr | I58: 1.02 | J58: 46.64 | K58: =D58&"|"&F58 -> Pig|700to900 | L58: =I58 -> 1.02 | M58: =J58 -> 46.64
C59: Test Lower and Southampton Streams | D59: Pig | E59: TRUE | F59: 900to1200 | G59: DrainedArGr | H59: =D59&"|"&E59&"|"&F59&"|"&G59 -> Pig|TRUE|900to1200|DrainedArGr | I59: 1.57 | J59: 51.07 | K59: =D59&"|"&F59 -> Pig|900to1200 | L59: =I59 -> 1.57 | M59: =J59 -> 51.07
C60: Test Lower and Southampton Streams | D60: Poultry | E60: TRUE | F60: 700to900 | G60: FreeDrain | H60: =D60&"|"&E60&"|"&F60&"|"&G60 -> Poultry|TRUE|700to900|FreeDrain | I60: 0.19 | J60: 181.05 | K60: =D60&"|"&F60 -> Poultry|700to900 | L60: =I60 -> 0.19 | M60: =J60 -> 181.05
C61: Test Lower and Southampton Streams | D61: Poultry | E61: TRUE | F61: 700to900 | G61: DrainedArGr | H61: =D61&"|"&E61&"|"&F61&"|"&G61 -> Poultry|TRUE|700to900|DrainedArGr | I61: 0.94 | J61: 92.3 | K61: =D61&"|"&F61 -> Poultry|700to900 | L61: =I61 -> 0.94 | M61: =J61 -> 92.3
C62: Test Lower and Southampton Streams | D62: Poultry | E62: TRUE | F62: 900to1200 | G62: DrainedAr | H62: =D62&"|"&E62&"|"&F62&"|"&G62 -> Poultry|TRUE|900to1200|DrainedAr | I62: 0.83 | J62: 141.51 | K62: =D62&"|"&F62 -> Poultry|900to1200 | L62: =I62 -> 0.83 | M62: =J62 -> 141.51
C63: Test Lower and Southampton Streams | D63: Poultry | E63: TRUE | F63: 900to1200 | G63: DrainedArGr | H63: =D63&"|"&E63&"|"&F63&"|"&G63 -> Poultry|TRUE|900to1200|DrainedArGr | I63: 1.5 | J63: 99.64 | K63: =D63&"|"&F63 -> Poultry|900to1200 | L63: =I63 -> 1.5 | M63: =J63 -> 99.64
C64: Test Lower and Southampton Streams | D64: Dairy | E64: TRUE | F64: 700to900 | G64: FreeDrain | H64: =D64&"|"&E64&"|"&F64&"|"&G64 -> Dairy|TRUE|700to900|FreeDrain | I64: 0.15 | J64: 35.34 | K64: =D64&"|"&F64 -> Dairy|700to900 | L64: =I64 -> 0.15 | M64: =J64 -> 35.34
C65: Test Lower and Southampton Streams | D65: Dairy | E65: TRUE | F65: 700to900 | G65: DrainedArGr | H65: =D65&"|"&E65&"|"&F65&"|"&G65 -> Dairy|TRUE|700to900|DrainedArGr | I65: 1.01 | J65: 16.37 | K65: =D65&"|"&F65 -> Dairy|700to900 | L65: =I65 -> 1.01 | M65: =J65 -> 16.37
C66: Test Lower and Southampton Streams | D66: Lowland | E66: TRUE | F66: 700to900 | G66: FreeDrain | H66: =D66&"|"&E66&"|"&F66&"|"&G66 -> Lowland|TRUE|700to900|FreeDrain | I66: 0.09 | J66: 13.36 | K66: =D66&"|"&F66 -> Lowland|700to900 | L66: =I66 -> 0.09 | M66: =J66 -> 13.36
C67: Test Lower and Southampton Streams | D67: Lowland | E67: FALSE | F67: 700to900 | G67: DrainedAr | H67: =D67&"|"&E67&"|"&F67&"|"&G67 -> Lowland|FALSE|700to900|DrainedAr | I67: 0.19 | J67: 10.51 | K67: =D67&"|"&F67 -> Lowland|700to900 | L67: =I67 -> 0.19 | M67: =J67 -> 10.51
C68: Test Lower and Southampton Streams | D68: Lowland | E68: TRUE | F68: 700to900 | G68: DrainedAr | H68: =D68&"|"&E68&"|"&F68&"|"&G68 -> Lowland|TRUE|700to900|DrainedAr | I68: 0.19 | J68: 10.44 | K68: =D68&"|"&F68 -> Lowland|700to900 | L68: =I68 -> 0.19 | M68: =J68 -> 10.44
C69: Test Lower and Southampton Streams | D69: Lowland | E69: FALSE | F69: 700to900 | G69: DrainedArGr | H69: =D69&"|"&E69&"|"&F69&"|"&G69 -> Lowland|FALSE|700to900|DrainedArGr | I69: 0.62 | J69: 7.3 | K69: =D69&"|"&F69 -> Lowland|700to900 | L69: =I69 -> 0.62 | M69: =J69 -> 7.3
... C92: Test Upper and Middle | D92: Mixed | E92: TRUE | F92: 900to1200 | G92: FreeDrain | H92: =D92&"|"&E92&"|"&F92&"|"&G92 -> Mixed|TRUE|900to1200|FreeDrain | I92: 0.13 | J92: 25.84 | K92: =D92&"|"&F92 -> Mixed|900to1200 | L92: =I92 -> 0.13 | M92: =J92 -> 25.84
C93: - | D93: - | E93: - | F93: - | G93: Greenspace | H93: ="|"&"|"&"|"&G93 -> |||Greenspace | I93: 0.02 | J93: 3
C94: - | D94: - | E94: - | F94: - | G94: Community food growing | H94: ="|"&"|"&"|"&G94 -> |||Community food growing | I94: =IFERROR(VLOOKUP((VLOOKUP('Stage 2'!$E$9,Lookups!$C$130:$D$130,2,FALSE)&"|"&"General"&"|"&"FALSE"&"|"&VLOOKUP('Stage 2'!$E$11,Lookups!$C$104:$E$126,3,FALSE)&"|"&"FreeDrain"),$H$19:$J$63,2,FALSE), IFERROR(VLOOKUP("General"&"|"&VLOOKUP('Stage 2'!$E$11,Lookups!$C$104:$E$126,3,FALSE),$K$19:$O$57,2,FALSE),VLOOKUP("General",$D$19:$O$57,11,FALSE))) -> 0.43333333 | J94: =IFERROR(VLOOKUP((VLOOKUP('Stage 2'!$E$9,Lookups!$C$130:$D$130,2,FALSE)&"|"&"General"&"|"&"FALSE"&"|"&VLOOKUP('Stage 2'!$E$11,Lookups!$C$104:$E$126,3,FALSE)&"|"&"FreeDrain"),$H$19:$J$63,3,FALSE), IFERROR(VLOOKUP("General"&"|"&VLOOKUP('Stage 2'!$E$11,Lookups!$C$104:$E$126,3,FALSE),$K$19:$O$57,3,FALSE),VLOOKUP("General",$D$19:$O$57,12,FALSE))) -> 17.546667
C95: - | D95: - | E95: - | F95: - | G95: Woodland | H95: ="|"&"|"&"|"&G95 -> |||Woodland | I95: 0.02 | J95: 3
C96: - | D96: - | E96: - | F96: - | G96: Shrub | H96: ="|"&"|"&"|"&G96 -> |||Shrub | I96: 0.02 | J96: 3
C97: - | D97: - | E97: - | F97: - | G97: Water | H97: ="|"&"|"&"|"&G97 -> |||Water | I97: 0 | J97: 0
C98: - | D98: - | E98: - | F98: - | G98: Residential urban land | H98: ="|"&"|"&"|"&G98 -> |||Residential urban land | I98: =VLOOKUP('Stage 2'!E11,Lookups!C104:H126,6,FALSE) -> 1.6513689 | J98: =VLOOKUP('Stage 2'!E11,Lookups!C104:K126,9,FALSE) -> 15.377637
C99: - | D99: - | E99: - | F99: - | G99: Commercial/industrial urban land | H99: ="|"&"|"&"|"&G99 -> |||Commercial/industrial urban land | I99: =VLOOKUP('Stage 2'!E11,Lookups!C104:I126,7,FALSE) -> 1.2083187 | J99: =VLOOKUP('Stage 2'!E11,Lookups!C104:M126,10,FALSE) -> 8.2014062
C100: - | D100: - | E100: - | F100: - | G100: Open urban land | H100: ="|"&"|"&"|"&G100 -> |||Open urban land | I100: =VLOOKUP('Stage 2'!E11,Lookups!C104:J126,8,FALSE) -> 0.8861004 | J100: =VLOOKUP('Stage 2'!E11,Lookups!C104:P126,11,FALSE) -> 9.0647121
C102: Table 3: Stage 2 and 3 Rainfall / Urban Lookup
C103: Rainfall band | D103: Mid | E103: Farmscoper Equivalent | F103: P Urban Runoff Coefficient | G103: N Urban Runoff Coefficient (kg/ha/yr) | H103: Residential P export coefficient (kg/ha/yr) | I103: Commercial / industrial P export coefficient (kg/ha/yr) | J103: Open urban P export coefficient (kg/ha/yr) | K103: Residential N export coefficient (kg/ha/yr) | L103: Commercial / industrial N export coefficient (kg/ha/yr) | M103: Open urban N export coefficient (kg/ha/yr)
C104: 508 - 525 | D104: 516.5 | E104: Under600 | F104: 47.366326 | G104: 63.946326 | H104: 1.003053 | I104: 0.73394123 | J104: 0.53822357 | K104: 9.4130591 | L104: 5.0202982 | M104: 5.5487506
C105: 525.1 - 550 | D105: 537.55 | E105: Under600 | F105: 47.60551 | G105: 64.18551 | H105: 1.049204 | I105: 0.76771025 | J105: 0.56298752 | K105: 9.8333324 | L105: 5.2444439 | M105: 5.7964907
C106: 550.1 - 575 | D106: 562.55 | E106: Under600 | F106: 47.862482 | G106: 64.442482 | H106: 1.1039266 | I106: 0.80775117 | J106: 0.59235086 | K106: 10.331854 | L106: 5.5103219 | M106: 6.0903558
C107: 575.1 - 600 | D107: 587.55 | E107: Under600 | F107: 48.08972 | G107: 64.66972 | H107: 1.1584597 | I107: 0.84765346 | J107: 0.62161254 | K107: 10.829058 | L107: 5.7754975 | M107: 6.3834446
C108: 600.1 - 625 | D108: 612.55 | E108: 600to700 | F108: 48.286892 | G108: 64.866892 | H108: 1.2127036 | I108: 0.88734408 | J108: 0.65071899 | K108: 11.324251 | L108: 6.0396007 | M108: 6.6753481
C109: 625.1 - 650 | D109: 637.55 | E109: 600to700 | F109: 48.453664 | G109: 65.033664 | H109: 1.266557 | I109: 0.92674901 | J109: 0.67961594 | K109: 11.816731 | L109: 6.3022563 | M109: 6.9656517
C110: 650.1 - 675 | D110: 662.55 | E110: 600to700 | F110: 48.589703 | G110: 65.169703 | H110: 1.3199174 | I110: 0.96579322 | J110: 0.70824836 | K110: 12.305783 | L110: 6.5630843 | M110: 7.2539353
C111: 675.1 - 700 | D111: 687.55 | E111: 600to700 | F111: 48.694674 | G111: 65.274674 | H111: 1.3726809 | I111: 1.0044007 | J111: 0.7365605 | K111: 12.790687 | L111: 6.8216995 | M111: 7.5397731
C112: 700.1 - 750 | D112: 725.05 | E112: 700to900 | F112: 48.79315 | G112: 65.37315 | H112: 1.4504764 | I112: 1.0613242 | J112: 0.77830442 | K112: 13.508659 | L112: 7.204618 | M112: 7.9629988
C113: 750.1 - 800 | D113: 775.05 | E113: 700to900 | F113: 48.818 | G113: 65.398 | H113: 1.551292 | I113: 1.1350917 | J113: 0.8324006 | K113: 14.445715 | L113: 7.7043814 | M113: 8.5153689
C114: 800.1 - 850 | D114: 825.05 | E114: 700to900 | F114: 48.818 | G114: 65.398 | H114: 1.6513689 | I114: 1.2083187 | J114: 0.8861004 | K114: 15.377637 | L114: 8.2014062 | M114: 9.0647121
C115: 850.1 - 900 | D115: 875.05 | E115: 700to900 | F115: 48.818 | G115: 65.398 | H115: 1.7514458 | I115: 1.2815457 | J115: 0.9398002 | K115: 16.309558 | L115: 8.698431 | M115: 9.6140553
... C126: 4,000.1 - 5,500 | D126: 4750.05 | E126: Over1500 | F126: 48.818 | G126: 65.398 | H126: 9.5074056 | I126: 6.9566382 | J126: 5.1015347 | K126: 88.533474 | L126: 47.217853 | M126: 52.188153
C128: Table 4: Stage 2 and 3 Catchment Lookup | G128: Table 7: Stage 2 and 3 Landcovers | I128: Table 8: Stage 2 and 3 Landcover lookup
C129: Operational Catchment | D129: Farmscoper equivalent | G129: All Possible Landcover Types | I129: Itchen Specific Landcover Types
C130: Itchen | D130: Itchen | G130: Cereals | I130: Cereals
G131: General | I131: General
G132: Horticulture | I132: Horticulture
C133: Table 5: Stage 2 and 3 Soil Drainage Lookup | G133: Pig | I133: Pig
C134: Soilscape drainage term | D134: Farmscoper term | E134: Definition | G134: Poultry | I134: Poultry
C135: Freely draining | D135: FreeDrain | E135: Free Draining | G135: Dairy | I135: Dairy
C136: Slightly impeded drainage | D136: DrainedAr | E136: Drained for arable | G136: LFA | I136: Lowland
C137: Impeded drainage | D137: DrainedArGr | E137: Drained for arable and grassland | G137: Lowland | I137: Mixed
C138: Variable | D138: DrainedAr | E138: Drained for arable | G138: Mixed | I138: Greenspace
C139: Surface Wetness | D139: DrainedAr | E139: Drained for arable | G139: Greenspace | I139: Woodland
C140: Naturally wet | D140: DrainedAr | E140: Drained for arable | G140: Woodland | I140: Shrub
...
