Workbook

Sheet Instructions
A1: Natural England Nutrient Neutrality budget calculator for the River Itchen SAC
A2: This calculator was created by Ricardo Energy and Environment.
A3: This calculator contains 6 worksheets with 9 tables in total.
A4: This is the instructions cover sheet. It tells you how to use the calculator and gives an overview of each worksheet.
A5: You can move between worksheets using the tabs at the bottom of the page.
A6: If you use screen reading software, you can use 'Ctrl' + 'Page Down' keys to move between the tabs.
A7: If you use a keyboard only, to open any link in this form first select the cell with the link and then press the 'Shift' + 'F10' keys or the 'Fn' + the 'Menu' keys, then press the letter 'O' twice to highlight 'Open Hyperlink' and press 'Enter'.
A8: If you use a keyboard only, access dropdown lists by clicking the dropdown arrow or pressing the 'Alt' + 'Down' keys when the cell is selected.
A9: Table of contents
A10: Topic of each table | B10: Link to each worksheet
A11: Worksheet 1 Nutrient loading from additional wastewater | B11: Nutrients from wastewater
A12: Worksheet 2 Nutrient loading from current land use | B12: Nutrients from current land use
A13: Worksheet 3 Nutrient loading from future land use | B13: Nutrients from future land use
A14: Worksheet 4 Nutrient loading from future land use after treatment through a sustainable urban drainage system (SuDS) | B14: SuDS
A15: Worksheet 5 Nutrient budget calculations | B15: Final_nutrient_budgets
A16: General information about the calculator
A17: This calculator helps you calculate the nutrient budget for a new residential development.
A18: The nutrient budget for a site is calculated in 4 key stages with an additional optional stage in which information about the SuDS features on the site can be entered. Each stage is implemented in worksheets 1-5 of this calculator.
A19: Each worksheet is connected through a set of formulas which calculate the nutrient budget. As such, all sheets which represent the four key stages require data inputs in order to calculate the nutrient budget.
A20: The total nutrient budget is calculated automatically by adding the values from the 'Nutrients_from_wastewater' and the outputs from the 'Nutrients_from_future_land_use' minus the 'SuDS' (if applicable), and then subtracting the values from the 'Nutrients_from_current_land_use', then adding a 20% precautionary buffer to the result. This calculation is completed in the 'Final_nutrient_budgets' worksheet.
A21: Before a nutrient budget can be completed using the methodology, certain site-specific details for the development site need to be determined.
A22: The guidance to this calculator and gives further information on the user inputs required.
A23: The instructions for completing each stage of the nutrient budget methodology are shown in cell A2 of each worksheet.
A24: This calculator uses a set of lookup tables to find relevant values in a hidden spreadsheet titled the 'Value_look_up_tables' worksheet.
A25: It is advisable to retain a blank copy of this calculator and 'Save as' a new copy each time you calculate a budget to minimise the risk of using incorrect data inputs and to ease the calculation of new nutrient budgets.
A26: The values already included have been chosen based on research to determine suitable inputs to the nutrient budget that meet the Habitat Regulations Assessment (HRA) tests of beyond reasonable scientific doubt, in perpetuity (practically speaking this is 80 to 125 years) and in accordance with the precautionary principle.
A27: If editing any values in this calculator, you must make sure there is a sufficient evidence base to justify these changes and that the new inputs are selected in accordance with the precautionary principle.
... A57: If there are 2 or 3 values due to changing permits, the calculator will show the total amount of nutrient mitigation that is needed before and after the changing permit date.

Sheet Nutrients_from_wastewater
A1: Nutrients from wastewater
A2: This sheet contains 2 tables. The tables are separated by a heading, which describes the following table. Note: You will need to fill in cells B5 to B10 in the first table 'Water infrastructure information'. Cells B11 to B12 are automatically calculated and will state '0.00' unless the user inputs have been entered. Cells A13 to A16 and B13 to B16 are automatically generated and will state 'Not applicable' depending on the inputs to cells B5 and B10. You may need to fill in cell C11 and cell C12 depending on the information you entered in cell B10. Cells C5 to C10 and cells C13 to C16 are intentionally blank cells. You do not need to fill in any cells in the second table 'Final calculation of nutrient load from wastewater'. Cells B20 to B23 are automatically calculated and will state '0.00' unless the user inputs have been entered to the first table 'Water infrastructure information'. Cells A24 to A29, cells B25 to B26 and cells B28 to B29 are automatically generated and will state 'Not applicable' depending on the user inputs to the first table 'Water infrastructure information'. Cell B19, cell B24 and cell B27 are intentionally blank cells. How to fill in the table 'Water infrastructure information' Cell B5: Enter the date of first occupancy. Cell B6: Enter the average occupancy rate of the development. The default rate is 2.4, this should not be edited without sufficient evidence. Cell B7: Enter the water usage. This value should be kept at 120 unless other efficiency measures are used. Cell B8: Enter the total number of dwellings or units that will be within the development site as of the project completion date. Cell B9: Choose whether the development can apply deductible acceptable loading from the dropdown list. Cell B10: Choose the receiving wastewater treatment works (WwTW) from the dropdown list. If you select 'Package Treatment Plant user defined' or 'Septic Tank user defined', you must enter their certified value of total phosphorus (TP) in cell C11 and their certified value of total nitrogen (TN) in cell C12. Otherwise the default values will be used in the calculation of the nutrient load associated with wastewater. Nutrient permits may be changing for the WwTW you select, from 01/01/2025, or 01/04/2030. If the date of first occupancy is in-between changing permit dates, multiple permit limits may be automatically generated in cells B11 to B16. If applicable, up to 6 values for the nutrient loading associated with wastewater will be presented in cell B22, B23, B25, B26, B28 or B29.
A3: Water infrastructure information
A4: Description of required information | B4: Data entry column - user inputs required | C4: Additional data entry column - user inputs may be required
A5: Date of first occupancy (dd/mm/yyyy): | B5: 46023
A6: Average occupancy rate (people/dwelling or people/unit): | B6: 2.4
A7: Water usage (litres/person/day): | B7: 120
A8: Development Proposal (dwellings/units): | B8: 1
A9: Include deductible acceptable loading? | B9: No
A10: Wastewater treatment works: | B10: Chickenhall Eastleigh WwTW
A11: Current wastewater treatment works P permit (mg TP/litre): | B11: =(IFERROR(IF(OR(B10="Package Treatment Plant user defined",B10="Septic Tank user defined"),"Enter value in cell C11",IF(Nutrients_from_wastewater!B5<DATE(2025,1,1),VLOOKUP(Nutrients_from_wastewater!B10,Value_look_up_tables!A5:J13,2,FALSE),IF(Nutrients_from_wastewater!B5<DATE(2030,4,1),VLOOKUP(Nutrients_from_wastewater!B10,Value_look_up_tables!A5:J13,4,FALSE),VLOOKUP(Nutrients_from_wastewater!B10,Value_look_up_tables!A5:J12,8,FALSE)))),0)) -> 0.6
A12: Current wastewater treatment works N permit (mg TN/litre): | B12: =IFERROR(IF(OR(B10="Package Treatment Plant user defined",B10="Septic Tank user defined"),"Enter value in cell C12",IF(AND(B5<DATE(2025,1,1),B9="Yes"),VLOOKUP(B10,Value_look_up_tables!$A$5:$J$12,6,FALSE),IF(AND(B5<DATE(2025,1,1),OR(B9="No",B9="")),VLOOKUP(B10,Value_look_up_tables!$A$5:$J$12,3,FALSE),IF(AND(B5<DATE(2030,4,1),B5>=DATE(2025,1,1),B9="Yes"),VLOOKUP(B10,Value_look_up_tables!$A$5:$J$12,7,FALSE),IF(AND(B5<DATE(2030,4,1),B5>=DATE(2025,1,1),OR(B9="No",B9="")),IF(AND(B5<DATE(2030,4,1),B9="Yes"),VLOOKUP(B10,Value_look_up_tables!$A$5:$J$12,6,FALSE),IF(AND(B5<DATE(2030,4,1),OR(B9="No",B9="")),VLOOKUP(B10,Value_look_up_tables!$A$5:$J$12,5,FALSE),IF(AND(B5>=DATE(2030,4,1),B9="Yes"),VLOOKUP(B10,Value_look_up_tables!$A$5:$J$12,10,FALSE),IF(AND(B5>=DATE(2030,4,1),OR(B9="No",B9="")),VLOOKUP(B10,Value_look_up_tables!$A$5:$J$12,9,FALSE),"")))),IF(B9="Yes",VLOOKUP(B10,Value_look_up_tables!$A$5:$J$12,10,FALSE),VLOOKUP(B10,Value_look_up_tables!$A$5:$J$12,9,FALSE))))))),0) -> 27
A13: =IFERROR(IF(AND($B$5<DATE(2025,1,1),(VLOOKUP($B$10,Value_look_up_tables!$A$5:$E$10,2,FALSE))>(VLOOKUP($B$10,Value_look_up_tables!$A$5:$E$10,4,FALSE))), "Post 2025 WwTW P permit (mg TP/litre):","Not applicable"),"Not applicable") -> Not applicable | B13: =IFERROR(IF(AND($B$5<DATE(2025,1,1),(VLOOKUP($B$10,Value_look_up_tables!$A$5:$E$10,2,FALSE))>(VLOOKUP($B$10,Value_look_up_tables!$A$5:$E$10,4,FALSE))), VLOOKUP($B$10,Value_look_up_tables!A5:E13,4,FALSE),"Not applicable"),"Not applicable") -> Not applicable
A14: =IFERROR(IF(AND($B$5<DATE(2025,1,1),(VLOOKUP($B$10,Value_look_up_tables!$A$5:$E$10,3,FALSE))>(VLOOKUP($B$10,Value_look_up_tables!$A$5:$E$10,5,FALSE))), "Post 2025 WwTW N permit (mg TN/litre):","Not applicable"),"Not applicable") -> Not applicable | B14: =IFERROR(IF(AND($B$5<DATE(2025,1,1),(VLOOKUP($B$10,Value_look_up_tables!$A$5:$J$10,3,FALSE))>(VLOOKUP($B$10,Value_look_up_tables!$A$5:$J$10,5,FALSE))), IF(B9="Yes",VLOOKUP(B10,Value_look_up_tables!$A$5:$J$13,7,FALSE),VLOOKUP(B10,Value_look_up_tables!$A$5:$J$13,5,FALSE)),"Not applicable"),"Not applicable") -> Not applicable
A15: =IFERROR(IF(AND($B$5<DATE(2030,4,1),(VLOOKUP($B$10,Value_look_up_tables!$A$5:$J$10,4,FALSE))>(VLOOKUP($B$10,Value_look_up_tables!$A$5:$J$10,8,FALSE))), "Post 2030 WwTW P permit (mg TP/litre):","Not applicable"),"Not applicable") -> Post 2030 WwTW P permit (mg TP/litre): | B15: =IFERROR(IF(AND($B$5<DATE(2030,4,1),(VLOOKUP($B$10,Value_look_up_tables!$A$5:$J$10,4,FALSE))>(VLOOKUP($B$10,Value_look_up_tables!$A$5:$J$10,8,FALSE))), VLOOKUP($B$10,Value_look_up_tables!A5:J13,8,FALSE),"Not applicable"),"Not applicable") -> 0.25
A16: =IFERROR(IF(AND($B$5<DATE(2030,4,1),(VLOOKUP($B$10,Value_look_up_tables!$A$5:$J$10,5,FALSE))>(VLOOKUP($B$10,Value_look_up_tables!$A$5:$J$10,9,FALSE))), "Post 2030 WwTW N permit (mg TN/litre):","Not applicable"),"Not applicable") -> Post 2030 WwTW N permit (mg TN/litre): | B16: =IFERROR(IF(AND($B$5<DATE(2030,4,1),(VLOOKUP($B$10,Value_look_up_tables!$A$5:$J$10,5,FALSE))>(VLOOKUP($B$10,Value_look_up_tables!$A$5:$J$10,9,FALSE))), IF(B9="Yes",VLOOKUP(B10,Value_look_up_tables!$A$5:$J$13,10,FALSE),VLOOKUP(B10,Value_look_up_tables!$A$5:$J$13,9,FALSE)),"Not applicable"),"Not applicable") -> 10
A17: Final calculation of nutrient load from wastewater
A18: Description of values generated | B18: Values generated
A19: =IFERROR(IF(AND($B$5<DATE(2030,4,1),OR((VLOOKUP($B$10,Value_look_up_tables!$A$5:$J$8,4,FALSE))>=(VLOOKUP($B$10,Value_look_up_tables!$A$5:$J$8,8,FALSE)),(VLOOKUP($B$10,Value_look_up_tables!$A$5:$J$8,5,FALSE))>=(VLOOKUP($B$10,Value_look_up_tables!$A$5:$J$8,9,FALSE)))),"Post-2030 wastewater nutrient loading",IF(AND($B$5<DATE(2025,1,1),OR((VLOOKUP($B$10,Value_look_up_tables!$A$5:$E$8,2,FALSE))>=(VLOOKUP($B$10,Value_look_up_tables!$A$5:$E$8,4,FALSE)),(VLOOKUP($B$10,Value_look_up_tables!$A$5:$E$8,3,FALSE))>=(VLOOKUP($B$10,Value_look_up_tables!$A$5:$E$8,5,FALSE)))),"Post-2025 wastewater nutrient loading","Wastewater nutrient loading")),"Wastewater nutrient loading") -> Post-2030 wastewater nutrient loading
A20: Additional population (people): | B20: =IF(ISBLANK(B8),0,B6*B8) -> 2.4
A21: Wastewater by development (litres/day): | B21: =IFERROR(B20*B7,0) -> 288
A22: Annual wastewater TP load (kg TP/yr): | B22: =IFERROR(ROUND(IF(ISNUMBER(B15),B15*B21*0.9/1000000*365.25,IF(ISNUMBER(B13),B13*B21*0.9/1000000*365.25,IF(B11="Enter value in cell C11",IF(AND(B11="Enter value in cell C11",ISNUMBER(C11)),B21*C11/1000000*365.25, VLOOKUP((LEFT(B10,(LEN(B10)-13))&" default"),Value_look_up_tables!$A$9:$C$10,2,FALSE)*B21/1000000*365.25),IF(OR(B10="Package Treatment Plant default",B10="Septic Tank default"),B11*B21/1000000*365.25,IF(B11=8,B11*B21/1000000*365.25,B11*B21*0.9/1000000*365.25))))),2),0) -> 0.02
A23: Annual wastewater TN load (kg TN/yr): | B23: =IFERROR(ROUND(IF(ISNUMBER(B16),B16*B21*0.9/1000000*365.25,IF(ISNUMBER(B14),B14*B21*0.9/1000000*365.25,IF(B12="Enter value in cell C12",IF(AND(B12="Enter value in cell C12",ISNUMBER(C12)),B21*(IF(C12-2<0,C12,C12-2))/1000000*365.25, VLOOKUP((LEFT(B10,(LEN(B10)-13))&" default"),Value_look_up_tables!$A$9:$C$10,3,FALSE)*B21/1000000*365.25),IF(OR(B10="Package Treatment Plant default",B10="Septic Tank default"),B12*B21/1000000*365.25,IF(OR(AND(B12=25,B10<>"New Alresford WwTW"),B12=27),B12*B21/1000000*365.25,B12*B21*0.9/1000000*365.25))))),2),0) -> 0.95
A24: =IFERROR(IF(AND($B$5<DATE(2030,4,1),OR((VLOOKUP($B$10,Value_look_up_tables!$A$5:$J$8,4,FALSE))>=(VLOOKUP($B$10,Value_look_up_tables!$A$5:$J$8,8,FALSE)),(VLOOKUP($B$10,Value_look_up_tables!$A$5:$J$8,5,FALSE))>=(VLOOKUP($B$10,Value_look_up_tables!$A$5:$J$8,9,FALSE)))),"Pre-2030 wastewater nutrient loading",IF(AND($B$5<DATE(2025,1,1),OR((VLOOKUP($B$10,Value_look_up_tables!$A$5:$E$8,2,FALSE))>=(VLOOKUP($B$10,Value_look_up_tables!$A$5:$E$8,4,FALSE)),(VLOOKUP($B$10,Value_look_up_tables!$A$5:$E$8,3,FALSE))>=(VLOOKUP($B$10,Value_look_up_tables!$A$5:$E$8,5,FALSE)))),"Pre-2025 wastewater nutrient loading","Not applicable")),"Not applicable") -> Pre-2030 wastewater nutrient loading
A25: =IFERROR(IF(AND($B$5<DATE(2030,4,1),OR((VLOOKUP($B$10,Value_look_up_tables!$A$5:$J$8,4,FALSE))>(VLOOKUP($B$10,Value_look_up_tables!$A$5:$J$8,8,FALSE)),(VLOOKUP($B$10,Value_look_up_tables!$A$5:$J$8,5,FALSE))>(VLOOKUP($B$10,Value_look_up_tables!$A$5:$J$8,9,FALSE)),(VLOOKUP($B$10,Value_look_up_tables!$A$5:$J$8,2,FALSE))>(VLOOKUP($B$10,Value_look_up_tables!$A$5:$J$8,8,FALSE)),(VLOOKUP($B$10,Value_look_up_tables!$A$5:$J$8,3,FALSE))>(VLOOKUP($B$10,Value_look_up_tables!$A$5:$J$8,9,FALSE)))),"Annual wastewater TP load (kg TP/yr):","Not applicable"),"Not applicable") -> Annual wastewater TP load (kg TP/yr): | B25: =IFERROR(ROUND(IF(AND($B$5<DATE(2030,4,1),OR((VLOOKUP($B$10,Value_look_up_tables!$A$5:$J$8,4,FALSE))>=(VLOOKUP($B$10,Value_look_up_tables!$A$5:$J$8,8,FALSE)),(VLOOKUP($B$10,Value_look_up_tables!$A$5:$J$8,5,FALSE))>=(VLOOKUP($B$10,Value_look_up_tables!$A$5:$J$8,9,FALSE)),(VLOOKUP($B$10,Value_look_up_tables!$A$5:$J$8,2,FALSE))>=(VLOOKUP($B$10,Value_look_up_tables!$A$5:$J$8,8,FALSE)),(VLOOKUP($B$10,Value_look_up_tables!$A$5:$J$8,3,FALSE))>=(VLOOKUP($B$10,Value_look_up_tables!$A$5:$J$8,9,FALSE)))),IF(ISNUMBER(B13),IF(B13=8,(B13*B$21)/1000000*365.25,(B13*B$21*0.9)/1000000*365.25),IF(B11=8,(B11*B$21)/1000000*365.25,(B11*B$21*0.9)/1000000*365.25)),"Not applicable"),2),"Not applicable") -> 0.06
A26: =IFERROR(IF(AND($B$5<DATE(2030,4,1),OR((VLOOKUP($B$10,Value_look_up_tables!$A$5:$J$8,4,FALSE))>(VLOOKUP($B$10,Value_look_up_tables!$A$5:$J$8,8,FALSE)),(VLOOKUP($B$10,Value_look_up_tables!$A$5:$J$8,5,FALSE))>(VLOOKUP($B$10,Value_look_up_tables!$A$5:$J$8,9,FALSE)),(VLOOKUP($B$10,Value_look_up_tables!$A$5:$J$8,2,FALSE))>(VLOOKUP($B$10,Value_look_up_tables!$A$5:$J$8,8,FALSE)),(VLOOKUP($B$10,Value_look_up_tables!$A$5:$J$8,3,FALSE))>(VLOOKUP($B$10,Value_look_up_tables!$A$5:$J$8,9,FALSE)))),"Annual wastewater TN load (kg TN/yr):","Not applicable"),"Not applicable") -> Annual wastewater TN load (kg TN/yr): | B26: =IFERROR(ROUND(IF(AND($B$5<DATE(2030,4,1),OR((VLOOKUP($B$10,Value_look_up_tables!$A$5:$J$8,4,FALSE))>=(VLOOKUP($B$10,Value_look_up_tables!$A$5:$J$8,8,FALSE)),(VLOOKUP($B$10,Value_look_up_tables!$A$5:$J$8,5,FALSE))>=(VLOOKUP($B$10,Value_look_up_tables!$A$5:$J$8,9,FALSE)),(VLOOKUP($B$10,Value_look_up_tables!$A$5:$J$8,2,FALSE))>=(VLOOKUP($B$10,Value_look_up_tables!$A$5:$J$8,8,FALSE)),(VLOOKUP($B$10,Value_look_up_tables!$A$5:$J$8,3,FALSE))>=(VLOOKUP($B$10,Value_look_up_tables!$A$5:$J$8,9,FALSE)))),IF(ISNUMBER(B14),IF(OR(B14=27,AND(B14=25,B10<>"New Alresford WwTW")),(B14*B$21)/1000000*365.25,(B14*B$21*0.9)/1000000*365.25),IF(OR(B12=27,AND(B12=25,B10<>"New Alresford WwTW")),(B12*B$21)/1000000*365.25,(B12*B$21*0.9)/1000000*365.25)),"Not applicable"),2),"Not applicable") -> 2.84
A27: =IFERROR(IF(AND($B$5<DATE(2025,1,1),$B$5<DATE(2030,4,1),OR((VLOOKUP($B$10,Value_look_up_tables!$A$5:$J$8,4,FALSE))>=(VLOOKUP($B$10,Value_look_up_tables!$A$5:$J$8,8,FALSE)),(VLOOKUP($B$10,Value_look_up_tables!$A$5:$J$8,5,FALSE))>=(VLOOKUP($B$10,Value_look_up_tables!$A$5:$J$8,9,FALSE)))),IF(AND(B28="Not applicable",B29="Not applicable"),"Not applicable","Pre-2025 wastewater nutrient loading"),IF(AND($B$5<DATE(2025,1,1),OR((VLOOKUP($B$10,Value_look_up_tables!$A$5:$E$8,2,FALSE))>=(VLOOKUP($B$10,Value_look_up_tables!$A$5:$E$8,4,FALSE)),(VLOOKUP($B$10,Value_look_up_tables!$A$5:$E$8,3,FALSE))>=(VLOOKUP($B$10,Value_look_up_tables!$A$5:$E$8,5,FALSE)))),"Wastewater nutrient loading","Not applicable")),"Not applicable") -> Not applicable
A28: =IFERROR(IF(AND($B$5<DATE(2025,1,1),OR((VLOOKUP($B$10,Value_look_up_tables!$A$5:$E$8,2,FALSE))>(VLOOKUP($B$10,Value_look_up_tables!$A$5:$E$8,4,FALSE)),(VLOOKUP($B$10,Value_look_up_tables!$A$5:$E$8,3,FALSE))>(VLOOKUP($B$10,Value_look_up_tables!$A$5:$E$8,5,FALSE)))),"Annual wastewater TP load (kg TP/yr):","Not applicable"),"Not applicable") -> Not applicable | B28: =IFERROR(ROUND(IF(AND($B$5<DATE(2025,1,1),$B$5<DATE(2030,4,1),OR((VLOOKUP($B$10,Value_look_up_tables!$A$5:$J$8,4,FALSE))>=(VLOOKUP($B$10,Value_look_up_tables!$A$5:$J$8,8,FALSE)),(VLOOKUP($B$10,Value_look_up_tables!$A$5:$J$8,5,FALSE))>=(VLOOKUP($B$10,Value_look_up_tables!$A$5:$J$8,9,FALSE)),(VLOOKUP($B$10,Value_look_up_tables!$A$5:$J$8,2,FALSE))>=(VLOOKUP($B$10,Value_look_up_tables!$A$5:$J$8,4,FALSE)),(VLOOKUP($B$10,Value_look_up_tables!$A$5:$J$8,3,FALSE))>=(VLOOKUP($B$10,Value_look_up_tables!$A$5:$J$8,5,FALSE)))),IF(ISNUMBER(B13),IF(B11=8,(B11*B$21)/1000000*365.25,(B11*B$21*0.9)/1000000*365.25),IF(B13=8,(B13*B$21)/1000000*365.25,(B13*B$21*0.9)/1000000*365.25)),"Not applicable"),2),IF(ISNUMBER(B14),B26,"Not applicable")) -> Not applicable
A29: =IFERROR(IF(AND($B$5<DATE(2025,1,1),OR((VLOOKUP($B$10,Value_look_up_tables!$A$5:$E$8,2,FALSE))>(VLOOKUP($B$10,Value_look_up_tables!$A$5:$E$8,4,FALSE)),(VLOOKUP($B$10,Value_look_up_tables!$A$5:$E$8,3,FALSE))>(VLOOKUP($B$10,Value_look_up_tables!$A$5:$E$8,5,FALSE)))),"Annual wastewater TN load (kg TN/yr):","Not applicable"),"Not applicable") -> Not applicable | B29: =IFERROR(ROUND(IF(AND($B$5<DATE(2025,1,1),$B$5<DATE(2030,4,1),OR((VLOOKUP($B$10,Value_look_up_tables!$A$5:$J$8,4,FALSE))>=(VLOOKUP($B$10,Value_look_up_tables!$A$5:$J$8,8,FALSE)),(VLOOKUP($B$10,Value_look_up_tables!$A$5:$J$8,5,FALSE))>=(VLOOKUP($B$10,Value_look_up_tables!$A$5:$J$8,9,FALSE)),(VLOOKUP($B$10,Value_look_up_tables!$A$5:$J$8,2,FALSE))>=(VLOOKUP($B$10,Value_look_up_tables!$A$5:$J$8,4,FALSE)),(VLOOKUP($B$10,Value_look_up_tables!$A$5:$J$8,3,FALSE))>=(VLOOKUP($B$10,Value_look_up_tables!$A$5:$J$8,5,FALSE)))),IF(ISNUMBER(B14),IF(OR(B12=27,AND(B12=25,B10<>"New Alresford WwTW")),(B12*B$21)/1000000*365.25,(B12*B$21*0.9)/1000000*365.25),IF(OR(B14=27,AND(B14=25,B10<>"New Alresford WwTW")),(B14*B$21)/1000000*365.25,(B14*B$21*0.9)/1000000*365.25)),"Not applicable"),2),IF(ISNUMBER(B13),B26,"Not applicable")) -> Not applicable

Sheet Nutrients_from_current_land_use
A1: Nutrients from current land use
A2: This sheet contains 2 tables. The tables are separated by a heading, which describes the following table. Note: You will need to fill in cells B5 to B8 in the first table 'Current land use information'. You will need to fill in cells A11 to A27, and B11 to B27 in the second table 'Current land uses'. Cells B28, C11 to C28 and D11 to D28 are automatically calculated and will state '0.00' unless the user inputs have been entered. Cells E11 to E27 are automatically generated and will state 'Not applicable' depending on automatically generated data in cells C11 to C27 and D11 and D27. Row 28 is a Total Row. The Total Row states 'Totals:' in cell A28 and automatically calculates the total sum of cells B11 to B27 in cell B28, C11 to C27 in cell C28 and D11 to D27 in cell D28. Cell E28 is intentionally blank. How to fill in the table 'Current land use information' Cell B5: Choose the operational catchment the site is located within from the dropdown list. Cell B6: Choose the soil drainage type associated with the predominant soil type within the development site from the dropdown list. Cell B7: Choose the annual average rainfall the development will receive from the dropdown list. If the rainfall volume is not on the list, select the nearest value. Cell B8: Choose whether the development is in a nitrate vulnerable zone (NVZ) from the dropdown list. How to fill in the table 'Current land uses' Cell A11-A27: Choose the existing (pre-development) land use type(s) from the dropdown list. Cells B11-B27: Enter the area in hectares of each land use type. The nutrient load from current land uses is shown in cells C11-C27 for total phosphorus (TP) and cells D11-D27 for total nitrogen (TN). The total nutrient load from current land uses is shown in cell C28 for TP and D28 for TN.
A3: Current land use information
A4: Description of required information | B4: Data entry column - user inputs required
A5: Operational catchment: | B5: Itchen
A6: Soil drainage type: | B6: Freely draining
A7: Annual average rainfall (mm): | B7: 750.1 - 800
A8: Within nitrate vulnerable zone (NVZ): | B8: Yes
A9: Current land uses
A10: Existing land use type(s) - user inputs required | B10: Area (ha) - user inputs required | C10: Annual phosphorus nutrient export (kg TP/yr) | D10: Annual nitrogen nutrient export (kg TN/yr) | E10: Notes on data
A11: Commercial/industrial urban land | B11: 0.03 | C11: =IF(OR(ISBLANK($A11),ISBLANK($B11),ISBLANK($B$6),ISBLANK($B$7)),0,IFERROR($B11*VLOOKUP((IF(OR($A11="Residential urban land",$A11="Commercial/industrial urban land",$A11="Open urban land",$A11="Greenspace",$A11="Community food growing",$A11="Woodland",$A11="Shrub", $A11="Water"), "|||"&$A11, (VLOOKUP(Nutrients_from_current_land_use!$B$5,Value_look_up_tables!$A$127:$B$127,2,FALSE)&"|"&$A11&"|"&VLOOKUP(Nutrients_from_current_land_use!$B$8,Value_look_up_tables!$A$140:$B$141,2,FALSE)&"|"&VLOOKUP(Nutrients_from_current_land_use!$B$7,Value_look_up_tables!$A$101:$C$123,3,FALSE)&"|"&VLOOKUP($B$6,Value_look_up_tables!$A$131:$B$136,2,FALSE)))),Value_look_up_tables!$F$16:$H$97,2,FALSE), IFERROR(IFERROR($B11*VLOOKUP($A11&"|"&VLOOKUP(Nutrients_from_current_land_use!$B$8,Value_look_up_tables!$A$140:$B$141,2,FALSE)&"|"&VLOOKUP(Nutrients_from_current_land_use!$B$7,Value_look_up_tables!$A$101:$C$123,3,FALSE)&"|"&VLOOKUP($B$6,Value_look_up_tables!$A$131:$B$136,2,FALSE),Value_look_up_tables!$F$16:$H$97,2,FALSE),IFERROR($B11*VLOOKUP($A11&"|"&"TRUE"&"|"&VLOOKUP(Nutrients_from_current_land_use!$B$7,Value_look_up_tables!$A$101:$C$123,3,FALSE)&"|"&VLOOKUP($B$6,Value_look_up_tables!$A$131:$B$136,2,FALSE),Value_look_up_tables!$F$16:$H$97,2,FALSE),$B11*VLOOKUP($A11&"|"&VLOOKUP(Nutrients_from_current_land_use!$B$8,Value_look_up_tables!$A$140:$B$141,2,FALSE)&"|"&VLOOKUP(Nutrients_from_current_land_use!$B$7,Value_look_up_tables!$A$101:$C$123,3,FALSE)&"|"&"DrainedArGr",Value_look_up_tables!$F$16:$H$97,2,FALSE))),IFERROR($B11*VLOOKUP($A11&"|"&VLOOKUP(Nutrients_from_current_land_use!$B$7,Value_look_up_tables!$A$101:$C$123,3,FALSE),Value_look_up_tables!$I$16:$K$89,2,FALSE),$B11*VLOOKUP($A11,Value_look_up_tables!$B$16:$M$89,11,FALSE))))) -> 0.034052752 | D11: =IF(OR(ISBLANK($A11),ISBLANK($B11),ISBLANK($B$6),ISBLANK($B$7)),0,IFERROR($B11*VLOOKUP((IF(OR($A11="Residential urban land",$A11="Commercial/industrial urban land",$A11="Open urban land",$A11="Greenspace",$A11="Community food growing",$A11="Woodland",$A11="Shrub", $A11="Water"), "|||"&$A11, (VLOOKUP(Nutrients_from_current_land_use!$B$5,Value_look_up_tables!$A$127:$B$127,2,FALSE)&"|"&$A11&"|"&VLOOKUP(Nutrients_from_current_land_use!$B$8,Value_look_up_tables!$A$140:$B$141,2,FALSE)&"|"&VLOOKUP(Nutrients_from_current_land_use!$B$7,Value_look_up_tables!$A$101:$C$123,3,FALSE)&"|"&VLOOKUP($B$6,Value_look_up_tables!$A$131:$B$136,2,FALSE)))),Value_look_up_tables!$F$16:$H$97,3,FALSE), IFERROR(IFERROR($B11*VLOOKUP($A11&"|"&VLOOKUP(Nutrients_from_current_land_use!$B$8,Value_look_up_tables!$A$140:$B$141,2,FALSE)&"|"&VLOOKUP(Nutrients_from_current_land_use!$B$7,Value_look_up_tables!$A$101:$C$123,3,FALSE)&"|"&VLOOKUP($B$6,Value_look_up_tables!$A$131:$B$136,2,FALSE),Value_look_up_tables!$F$16:$H$97,3,FALSE),IFERROR($B11*VLOOKUP($A11&"|"&"TRUE"&"|"&VLOOKUP(Nutrients_from_current_land_use!$B$7,Value_look_up_tables!$A$101:$C$123,3,FALSE)&"|"&VLOOKUP($B$6,Value_look_up_tables!$A$131:$B$136,2,FALSE),Value_look_up_tables!$F$16:$H$97,3,FALSE),$B11*VLOOKUP($A11&"|"&VLOOKUP(Nutrients_from_current_land_use!$B$8,Value_look_up_tables!$A$140:$B$141,2,FALSE)&"|"&VLOOKUP(Nutrients_from_current_land_use!$B$7,Value_look_up_tables!$A$101:$C$123,3,FALSE)&"|"&"DrainedArGr",Value_look_up_tables!$F$16:$H$97,3,FALSE))),IFERROR($B11*VLOOKUP($A11&"|"&VLOOKUP(Nutrients_from_current_land_use!$B$7,Value_look_up_tables!$A$101:$C$123,3,FALSE),Value_look_up_tables!$I$16:$K$89,3,FALSE),$B11*VLOOKUP($A11,Value_look_up_tables!$B$16:$M$89,12,FALSE))))) -> 0.23113144 | E11: =IF(OR(ISBLANK($A11),ISBLANK($B11),ISBLANK($B$6),ISBLANK($B$5),ISBLANK($B$7),$A11="Residential urban land",$A11="Commercial/industrial urban land",$A11="Open urban land",$A11="Greenspace",$A11="Community food growing",$A11="Woodland",$A11="Shrub",$A11="Water"),"Not applicable",IF(ISNUMBER(IFERROR($B11*VLOOKUP((IF(OR($A11="Residential urban land",$A11="Commercial/industrial urban land",$A11="Open urban land",$A11="Greenspace",$A11="Community food growing",$A11="Woodland",$A11="Shrub",$A11="Water"),"|||"&$A11,(VLOOKUP(Nutrients_from_current_land_use!$B$5,Value_look_up_tables!$A$127:$B$127,2,FALSE)&"|"&$A11&"|"&VLOOKUP(Nutrients_from_current_land_use!$B$8,Value_look_up_tables!$A$140:$B$141,2,FALSE)&"|"&VLOOKUP(Nutrients_from_current_land_use!$B$7, Value_look_up_tables!$A$101:$C$123,3,FALSE)&"|"&VLOOKUP($B$6,Value_look_up_tables!$A$131:$B$136,2,FALSE)))), Value_look_up_tables!$F$16:$H$89,3,FALSE),IFERROR($B11*VLOOKUP($A11&"|"&VLOOKUP(Nutrients_from_current_land_use!$B$8,Value_look_up_tables!$A$140:$B$141,2,FALSE)&"|"&VLOOKUP(Nutrients_from_current_land_use!$B$7, Value_look_up_tables!$A$101:$C$123,3,FALSE)&"|"&VLOOKUP($B$6,Value_look_up_tables!$A$131:$B$136,2,FALSE),Value_look_up_tables!$F$16:$H$89,3,FALSE),"In the absence of real world data, this figure has been generated using the most relevant average nutrient export coefficient."))),"Not applicable","In the absence of real world data, this figure has been generated using the most relevant average nutrient export coefficient.")) -> Not applicable
C12: =IF(OR(ISBLANK($A12),ISBLANK($B12),ISBLANK($B$6),ISBLANK($B$7)),0,IFERROR($B12*VLOOKUP((IF(OR($A12="Residential urban land",$A12="Commercial/industrial urban land",$A12="Open urban land",$A12="Greenspace",$A12="Community food growing",$A12="Woodland",$A12="Shrub", $A12="Water"), "|||"&$A12, (VLOOKUP(Nutrients_from_current_land_use!$B$5,Value_look_up_tables!$A$127:$B$127,2,FALSE)&"|"&$A12&"|"&VLOOKUP(Nutrients_from_current_land_use!$B$8,Value_look_up_tables!$A$140:$B$141,2,FALSE)&"|"&VLOOKUP(Nutrients_from_current_land_use!$B$7,Value_look_up_tables!$A$101:$C$123,3,FALSE)&"|"&VLOOKUP($B$6,Value_look_up_tables!$A$131:$B$136,2,FALSE)))),Value_look_up_tables!$F$16:$H$97,2,FALSE), IFERROR(IFERROR($B12*VLOOKUP($A12&"|"&VLOOKUP(Nutrients_from_current_land_use!$B$8,Value_look_up_tables!$A$140:$B$141,2,FALSE)&"|"&VLOOKUP(Nutrients_from_current_land_use!$B$7,Value_look_up_tables!$A$101:$C$123,3,FALSE)&"|"&VLOOKUP($B$6,Value_look_up_tables!$A$131:$B$136,2,FALSE),Value_look_up_tables!$F$16:$H$97,2,FALSE),IFERROR($B12*VLOOKUP($A12&"|"&"TRUE"&"|"&VLOOKUP(Nutrients_from_current_land_use!$B$7,Value_look_up_tables!$A$101:$C$123,3,FALSE)&"|"&VLOOKUP($B$6,Value_look_up_tables!$A$131:$B$136,2,FALSE),Value_look_up_tables!$F$16:$H$97,2,FALSE),$B12*VLOOKUP($A12&"|"&VLOOKUP(Nutrients_from_current_land_use!$B$8,Value_look_up_tables!$A$140:$B$141,2,FALSE)&"|"&VLOOKUP(Nutrients_from_current_land_use!$B$7,Value_look_up_tables!$A$101:$C$123,3,FALSE)&"|"&"DrainedArGr",Value_look_up_tables!$F$16:$H$97,2,FALSE))),IFERROR($B12*VLOOKUP($A12&"|"&VLOOKUP(Nutrients_from_current_land_use!$B$7,Value_look_up_tables!$A$101:$C$123,3,FALSE),Value_look_up_tables!$I$16:$K$89,2,FALSE),$B12*VLOOKUP($A12,Value_look_up_tables!$B$16:$M$89,11,FALSE))))) -> 0 | D12: =IF(OR(ISBLANK($A12),ISBLANK($B12),ISBLANK($B$6),ISBLANK($B$7)),0,IFERROR($B12*VLOOKUP((IF(OR($A12="Residential urban land",$A12="Commercial/industrial urban land",$A12="Open urban land",$A12="Greenspace",$A12="Community food growing",$A12="Woodland",$A12="Shrub", $A12="Water"), "|||"&$A12, (VLOOKUP(Nutrients_from_current_land_use!$B$5,Value_look_up_tables!$A$127:$B$127,2,FALSE)&"|"&$A12&"|"&VLOOKUP(Nutrients_from_current_land_use!$B$8,Value_look_up_tables!$A$140:$B$141,2,FALSE)&"|"&VLOOKUP(Nutrients_from_current_land_use!$B$7,Value_look_up_tables!$A$101:$C$123,3,FALSE)&"|"&VLOOKUP($B$6,Value_look_up_tables!$A$131:$B$136,2,FALSE)))),Value_look_up_tables!$F$16:$H$97,3,FALSE), IFERROR(IFERROR($B12*VLOOKUP($A12&"|"&VLOOKUP(Nutrients_from_current_land_use!$B$8,Value_look_up_tables!$A$140:$B$141,2,FALSE)&"|"&VLOOKUP(Nutrients_from_current_land_use!$B$7,Value_look_up_tables!$A$101:$C$123,3,FALSE)&"|"&VLOOKUP($B$6,Value_look_up_tables!$A$131:$B$136,2,FALSE),Value_look_up_tables!$F$16:$H$97,3,FALSE),IFERROR($B12*VLOOKUP($A12&"|"&"TRUE"&"|"&VLOOKUP(Nutrients_from_current_land_use!$B$7,Value_look_up_tables!$A$101:$C$123,3,FALSE)&"|"&VLOOKUP($B$6,Value_look_up_tables!$A$131:$B$136,2,FALSE),Value_look_up_tables!$F$16:$H$97,3,FALSE),$B12*VLOOKUP($A12&"|"&VLOOKUP(Nutrients_from_current_land_use!$B$8,Value_look_up_tables!$A$140:$B$141,2,FALSE)&"|"&VLOOKUP(Nutrients_from_current_land_use!$B$7,Value_look_up_tables!$A$101:$C$123,3,FALSE)&"|"&"DrainedArGr",Value_look_up_tables!$F$16:$H$97,3,FALSE))),IFERROR($B12*VLOOKUP($A12&"|"&VLOOKUP(Nutrients_from_current_land_use!$B$7,Value_look_up_tables!$A$101:$C$123,3,FALSE),Value_look_up_tables!$I$16:$K$89,3,FALSE),$B12*VLOOKUP($A12,Value_look_up_tables!$B$16:$M$89,12,FALSE))))) -> 0 | E12: =IF(OR(ISBLANK($A12),ISBLANK($B12),ISBLANK($B$6),ISBLANK($B$5),ISBLANK($B$7),$A12="Residential urban land",$A12="Commercial/industrial urban land",$A12="Open urban land",$A12="Greenspace",$A12="Community food growing",$A12="Woodland",$A12="Shrub",$A12="Water"),"Not applicable",IF(ISNUMBER(IFERROR($B12*VLOOKUP((IF(OR($A12="Residential urban land",$A12="Commercial/industrial urban land",$A12="Open urban land",$A12="Greenspace",$A12="Community food growing",$A12="Woodland",$A12="Shrub",$A12="Water"),"|||"&$A12,(VLOOKUP(Nutrients_from_current_land_use!$B$5,Value_look_up_tables!$A$127:$B$127,2,FALSE)&"|"&$A12&"|"&VLOOKUP(Nutrients_from_current_land_use!$B$8,Value_look_up_tables!$A$140:$B$141,2,FALSE)&"|"&VLOOKUP(Nutrients_from_current_land_use!$B$7, Value_look_up_tables!$A$101:$C$123,3,FALSE)&"|"&VLOOKUP($B$6,Value_look_up_tables!$A$131:$B$136,2,FALSE)))), Value_look_up_tables!$F$16:$H$89,3,FALSE),IFERROR($B12*VLOOKUP($A12&"|"&VLOOKUP(Nutrients_from_current_land_use!$B$8,Value_look_up_tables!$A$140:$B$141,2,FALSE)&"|"&VLOOKUP(Nutrients_from_current_land_use!$B$7, Value_look_up_tables!$A$101:$C$123,3,FALSE)&"|"&VLOOKUP($B$6,Value_look_up_tables!$A$131:$B$136,2,FALSE),Value_look_up_tables!$F$16:$H$89,3,FALSE),"In the absence of real world data, this figure has been generated using the most relevant average nutrient export coefficient."))),"Not applicable","In the absence of real world data, this figure has been generated using the most relevant average nutrient export coefficient.")) -> Not applicable
C13: =IF(OR(ISBLANK($A13),ISBLANK($B13),ISBLANK($B$6),ISBLANK($B$7)),0,IFERROR($B13*VLOOKUP((IF(OR($A13="Residential urban land",$A13="Commercial/industrial urban land",$A13="Open urban land",$A13="Greenspace",$A13="Community food growing",$A13="Woodland",$A13="Shrub", $A13="Water"), "|||"&$A13, (VLOOKUP(Nutrients_from_current_land_use!$B$5,Value_look_up_tables!$A$127:$B$127,2,FALSE)&"|"&$A13&"|"&VLOOKUP(Nutrients_from_current_land_use!$B$8,Value_look_up_tables!$A$140:$B$141,2,FALSE)&"|"&VLOOKUP(Nutrients_from_current_land_use!$B$7,Value_look_up_tables!$A$101:$C$123,3,FALSE)&"|"&VLOOKUP($B$6,Value_look_up_tables!$A$131:$B$136,2,FALSE)))),Value_look_up_tables!$F$16:$H$97,2,FALSE), IFERROR(IFERROR($B13*VLOOKUP($A13&"|"&VLOOKUP(Nutrients_from_current_land_use!$B$8,Value_look_up_tables!$A$140:$B$141,2,FALSE)&"|"&VLOOKUP(Nutrients_from_current_land_use!$B$7,Value_look_up_tables!$A$101:$C$123,3,FALSE)&"|"&VLOOKUP($B$6,Value_look_up_tables!$A$131:$B$136,2,FALSE),Value_look_up_tables!$F$16:$H$97,2,FALSE),IFERROR($B13*VLOOKUP($A13&"|"&"TRUE"&"|"&VLOOKUP(Nutrients_from_current_land_use!$B$7,Value_look_up_tables!$A$101:$C$123,3,FALSE)&"|"&VLOOKUP($B$6,Value_look_up_tables!$A$131:$B$136,2,FALSE),Value_look_up_tables!$F$16:$H$97,2,FALSE),$B13*VLOOKUP($A13&"|"&VLOOKUP(Nutrients_from_current_land_use!$B$8,Value_look_up_tables!$A$140:$B$141,2,FALSE)&"|"&VLOOKUP(Nutrients_from_current_land_use!$B$7,Value_look_up_tables!$A$101:$C$123,3,FALSE)&"|"&"DrainedArGr",Value_look_up_tables!$F$16:$H$97,2,FALSE))),IFERROR($B13*VLOOKUP($A13&"|"&VLOOKUP(Nutrients_from_current_land_use!$B$7,Value_look_up_tables!$A$101:$C$123,3,FALSE),Value_look_up_tables!$I$16:$K$89,2,FALSE),$B13*VLOOKUP($A13,Value_look_up_tables!$B$16:$M$89,11,FALSE))))) -> 0 | D13: =IF(OR(ISBLANK($A13),ISBLANK($B13),ISBLANK($B$6),ISBLANK($B$7)),0,IFERROR($B13*VLOOKUP((IF(OR($A13="Residential urban land",$A13="Commercial/industrial urban land",$A13="Open urban land",$A13="Greenspace",$A13="Community food growing",$A13="Woodland",$A13="Shrub", $A13="Water"), "|||"&$A13, (VLOOKUP(Nutrients_from_current_land_use!$B$5,Value_look_up_tables!$A$127:$B$127,2,FALSE)&"|"&$A13&"|"&VLOOKUP(Nutrients_from_current_land_use!$B$8,Value_look_up_tables!$A$140:$B$141,2,FALSE)&"|"&VLOOKUP(Nutrients_from_current_land_use!$B$7,Value_look_up_tables!$A$101:$C$123,3,FALSE)&"|"&VLOOKUP($B$6,Value_look_up_tables!$A$131:$B$136,2,FALSE)))),Value_look_up_tables!$F$16:$H$97,3,FALSE), IFERROR(IFERROR($B13*VLOOKUP($A13&"|"&VLOOKUP(Nutrients_from_current_land_use!$B$8,Value_look_up_tables!$A$140:$B$141,2,FALSE)&"|"&VLOOKUP(Nutrients_from_current_land_use!$B$7,Value_look_up_tables!$A$101:$C$123,3,FALSE)&"|"&VLOOKUP($B$6,Value_look_up_tables!$A$131:$B$136,2,FALSE),Value_look_up_tables!$F$16:$H$97,3,FALSE),IFERROR($B13*VLOOKUP($A13&"|"&"TRUE"&"|"&VLOOKUP(Nutrients_from_current_land_use!$B$7,Value_look_up_tables!$A$101:$C$123,3,FALSE)&"|"&VLOOKUP($B$6,Value_look_up_tables!$A$131:$B$136,2,FALSE),Value_look_up_tables!$F$16:$H$97,3,FALSE),$B13*VLOOKUP($A13&"|"&VLOOKUP(Nutrients_from_current_land_use!$B$8,Value_look_up_tables!$A$140:$B$141,2,FALSE)&"|"&VLOOKUP(Nutrients_from_current_land_use!$B$7,Value_look_up_tables!$A$101:$C$123,3,FALSE)&"|"&"DrainedArGr",Value_look_up_tables!$F$16:$H$97,3,FALSE))),IFERROR($B13*VLOOKUP($A13&"|"&VLOOKUP(Nutrients_from_current_land_use!$B$7,Value_look_up_tables!$A$101:$C$123,3,FALSE),Value_look_up_tables!$I$16:$K$89,3,FALSE),$B13*VLOOKUP($A13,Value_look_up_tables!$B$16:$M$89,12,FALSE))))) -> 0 | E13: =IF(OR(ISBLANK($A13),ISBLANK($B13),ISBLANK($B$6),ISBLANK($B$5),ISBLANK($B$7),$A13="Residential urban land",$A13="Commercial/industrial urban land",$A13="Open urban land",$A13="Greenspace",$A13="Community food growing",$A13="Woodland",$A13="Shrub",$A13="Water"),"Not applicable",IF(ISNUMBER(IFERROR($B13*VLOOKUP((IF(OR($A13="Residential urban land",$A13="Commercial/industrial urban land",$A13="Open urban land",$A13="Greenspace",$A13="Community food growing",$A13="Woodland",$A13="Shrub",$A13="Water"),"|||"&$A13,(VLOOKUP(Nutrients_from_current_land_use!$B$5,Value_look_up_tables!$A$127:$B$127,2,FALSE)&"|"&$A13&"|"&VLOOKUP(Nutrients_from_current_land_use!$B$8,Value_look_up_tables!$A$140:$B$141,2,FALSE)&"|"&VLOOKUP(Nutrients_from_current_land_use!$B$7, Value_look_up_tables!$A$101:$C$123,3,FALSE)&"|"&VLOOKUP($B$6,Value_look_up_tables!$A$131:$B$136,2,FALSE)))), Value_look_up_tables!$F$16:$H$89,3,FALSE),IFERROR($B13*VLOOKUP($A13&"|"&VLOOKUP(Nutrients_from_current_land_use!$B$8,Value_look_up_tables!$A$140:$B$141,2,FALSE)&"|"&VLOOKUP(Nutrients_from_current_land_use!$B$7, Value_look_up_tables!$A$101:$C$123,3,FALSE)&"|"&VLOOKUP($B$6,Value_look_up_tables!$A$131:$B$136,2,FALSE),Value_look_up_tables!$F$16:$H$89,3,FALSE),"In the absence of real world data, this figure has been generated using the most relevant average nutrient export coefficient."))),"Not applicable","In the absence of real world data, this figure has been generated using the most relevant average nutrient export coefficient.")) -> Not applicable
C14: =IF(OR(ISBLANK($A14),ISBLANK($B14),ISBLANK($B$6),ISBLANK($B$7)),0,IFERROR($B14*VLOOKUP((IF(OR($A14="Residential urban land",$A14="Commercial/industrial urban land",$A14="Open urban land",$A14="Greenspace",$A14="Community food growing",$A14="Woodland",$A14="Shrub", $A14="Water"), "|||"&$A14, (VLOOKUP(Nutrients_from_current_land_use!$B$5,Value_look_up_tables!$A$127:$B$127,2,FALSE)&"|"&$A14&"|"&VLOOKUP(Nutrients_from_current_land_use!$B$8,Value_look_up_tables!$A$140:$B$141,2,FALSE)&"|"&VLOOKUP(Nutrients_from_current_land_use!$B$7,Value_look_up_tables!$A$101:$C$123,3,FALSE)&"|"&VLOOKUP($B$6,Value_look_up_tables!$A$131:$B$136,2,FALSE)))),Value_look_up_tables!$F$16:$H$97,2,FALSE), IFERROR(IFERROR($B14*VLOOKUP($A14&"|"&VLOOKUP(Nutrients_from_current_land_use!$B$8,Value_look_up_tables!$A$140:$B$141,2,FALSE)&"|"&VLOOKUP(Nutrients_from_current_land_use!$B$7,Value_look_up_tables!$A$101:$C$123,3,FALSE)&"|"&VLOOKUP($B$6,Value_look_up_tables!$A$131:$B$136,2,FALSE),Value_look_up_tables!$F$16:$H$97,2,FALSE),IFERROR($B14*VLOOKUP($A14&"|"&"TRUE"&"|"&VLOOKUP(Nutrients_from_current_land_use!$B$7,Value_look_up_tables!$A$101:$C$123,3,FALSE)&"|"&VLOOKUP($B$6,Value_look_up_tables!$A$131:$B$136,2,FALSE),Value_look_up_tables!$F$16:$H$97,2,FALSE),$B14*VLOOKUP($A14&"|"&VLOOKUP(Nutrients_from_current_land_use!$B$8,Value_look_up_tables!$A$140:$B$141,2,FALSE)&"|"&VLOOKUP(Nutrients_from_current_land_use!$B$7,Value_look_up_tables!$A$101:$C$123,3,FALSE)&"|"&"DrainedArGr",Value_look_up_tables!$F$16:$H$97,2,FALSE))),IFERROR($B14*VLOOKUP($A14&"|"&VLOOKUP(Nutrients_from_current_land_use!$B$7,Value_look_up_tables!$A$101:$C$123,3,FALSE),Value_look_up_tables!$I$16:$K$89,2,FALSE),$B14*VLOOKUP($A14,Value_look_up_tables!$B$16:$M$89,11,FALSE))))) -> 0 | D14: =IF(OR(ISBLANK($A14),ISBLANK($B14),ISBLANK($B$6),ISBLANK($B$7)),0,IFERROR($B14*VLOOKUP((IF(OR($A14="Residential urban land",$A14="Commercial/industrial urban land",$A14="Open urban land",$A14="Greenspace",$A14="Community food growing",$A14="Woodland",$A14="Shrub", $A14="Water"), "|||"&$A14, (VLOOKUP(Nutrients_from_current_land_use!$B$5,Value_look_up_tables!$A$127:$B$127,2,FALSE)&"|"&$A14&"|"&VLOOKUP(Nutrients_from_current_land_use!$B$8,Value_look_up_tables!$A$140:$B$141,2,FALSE)&"|"&VLOOKUP(Nutrients_from_current_land_use!$B$7,Value_look_up_tables!$A$101:$C$123,3,FALSE)&"|"&VLOOKUP($B$6,Value_look_up_tables!$A$131:$B$136,2,FALSE)))),Value_look_up_tables!$F$16:$H$97,3,FALSE), IFERROR(IFERROR($B14*VLOOKUP($A14&"|"&VLOOKUP(Nutrients_from_current_land_use!$B$8,Value_look_up_tables!$A$140:$B$141,2,FALSE)&"|"&VLOOKUP(Nutrients_from_current_land_use!$B$7,Value_look_up_tables!$A$101:$C$123,3,FALSE)&"|"&VLOOKUP($B$6,Value_look_up_tables!$A$131:$B$136,2,FALSE),Value_look_up_tables!$F$16:$H$97,3,FALSE),IFERROR($B14*VLOOKUP($A14&"|"&"TRUE"&"|"&VLOOKUP(Nutrients_from_current_land_use!$B$7,Value_look_up_tables!$A$101:$C$123,3,FALSE)&"|"&VLOOKUP($B$6,Value_look_up_tables!$A$131:$B$136,2,FALSE),Value_look_up_tables!$F$16:$H$97,3,FALSE),$B14*VLOOKUP($A14&"|"&VLOOKUP(Nutrients_from_current_land_use!$B$8,Value_look_up_tables!$A$140:$B$141,2,FALSE)&"|"&VLOOKUP(Nutrients_from_current_land_use!$B$7,Value_look_up_tables!$A$101:$C$123,3,FALSE)&"|"&"DrainedArGr",Value_look_up_tables!$F$16:$H$97,3,FALSE))),IFERROR($B14*VLOOKUP($A14&"|"&VLOOKUP(Nutrients_from_current_land_use!$B$7,Value_look_up_tables!$A$101:$C$123,3,FALSE),Value_look_up_tables!$I$16:$K$89,3,FALSE),$B14*VLOOKUP($A14,Value_look_up_tables!$B$16:$M$89,12,FALSE))))) -> 0 | E14: =IF(OR(ISBLANK($A14),ISBLANK($B14),ISBLANK($B$6),ISBLANK($B$5),ISBLANK($B$7),$A14="Residential urban land",$A14="Commercial/industrial urban land",$A14="Open urban land",$A14="Greenspace",$A14="Community food growing",$A14="Woodland",$A14="Shrub",$A14="Water"),"Not applicable",IF(ISNUMBER(IFERROR($B14*VLOOKUP((IF(OR($A14="Residential urban land",$A14="Commercial/industrial urban land",$A14="Open urban land",$A14="Greenspace",$A14="Community food growing",$A14="Woodland",$A14="Shrub",$A14="Water"),"|||"&$A14,(VLOOKUP(Nutrients_from_current_land_use!$B$5,Value_look_up_tables!$A$127:$B$127,2,FALSE)&"|"&$A14&"|"&VLOOKUP(Nutrients_from_current_land_use!$B$8,Value_look_up_tables!$A$140:$B$141,2,FALSE)&"|"&VLOOKUP(Nutrients_from_current_land_use!$B$7, Value_look_up_tables!$A$101:$C$123,3,FALSE)&"|"&VLOOKUP($B$6,Value_look_up_tables!$A$131:$B$136,2,FALSE)))), Value_look_up_tables!$F$16:$H$89,3,FALSE),IFERROR($B14*VLOOKUP($A14&"|"&VLOOKUP(Nutrients_from_current_land_use!$B$8,Value_look_up_tables!$A$140:$B$141,2,FALSE)&"|"&VLOOKUP(Nutrients_from_current_land_use!$B$7, Value_look_up_tables!$A$101:$C$123,3,FALSE)&"|"&VLOOKUP($B$6,Value_look_up_tables!$A$131:$B$136,2,FALSE),Value_look_up_tables!$F$16:$H$89,3,FALSE),"In the absence of real world data, this figure has been generated using the most relevant average nutrient export coefficient."))),"Not applicable","In the absence of real world data, this figure has been generated using the most relevant average nutrient export coefficient.")) -> Not applicable
C15: =IF(OR(ISBLANK($A15),ISBLANK($B15),ISBLANK($B$6),ISBLANK($B$7)),0,IFERROR($B15*VLOOKUP((IF(OR($A15="Residential urban land",$A15="Commercial/industrial urban land",$A15="Open urban land",$A15="Greenspace",$A15="Community food growing",$A15="Woodland",$A15="Shrub", $A15="Water"), "|||"&$A15, (VLOOKUP(Nutrients_from_current_land_use!$B$5,Value_look_up_tables!$A$127:$B$127,2,FALSE)&"|"&$A15&"|"&VLOOKUP(Nutrients_from_current_land_use!$B$8,Value_look_up_tables!$A$140:$B$141,2,FALSE)&"|"&VLOOKUP(Nutrients_from_current_land_use!$B$7,Value_look_up_tables!$A$101:$C$123,3,FALSE)&"|"&VLOOKUP($B$6,Value_look_up_tables!$A$131:$B$136,2,FALSE)))),Value_look_up_tables!$F$16:$H$97,2,FALSE), IFERROR(IFERROR($B15*VLOOKUP($A15&"|"&VLOOKUP(Nutrients_from_current_land_use!$B$8,Value_look_up_tables!$A$140:$B$141,2,FALSE)&"|"&VLOOKUP(Nutrients_from_current_land_use!$B$7,Value_look_up_tables!$A$101:$C$123,3,FALSE)&"|"&VLOOKUP($B$6,Value_look_up_tables!$A$131:$B$136,2,FALSE),Value_look_up_tables!$F$16:$H$97,2,FALSE),IFERROR($B15*VLOOKUP($A15&"|"&"TRUE"&"|"&VLOOKUP(Nutrients_from_current_land_use!$B$7,Value_look_up_tables!$A$101:$C$123,3,FALSE)&"|"&VLOOKUP($B$6,Value_look_up_tables!$A$131:$B$136,2,FALSE),Value_look_up_tables!$F$16:$H$97,2,FALSE),$B15*VLOOKUP($A15&"|"&VLOOKUP(Nutrients_from_current_land_use!$B$8,Value_look_up_tables!$A$140:$B$141,2,FALSE)&"|"&VLOOKUP(Nutrients_from_current_land_use!$B$7,Value_look_up_tables!$A$101:$C$123,3,FALSE)&"|"&"DrainedArGr",Value_look_up_tables!$F$16:$H$97,2,FALSE))),IFERROR($B15*VLOOKUP($A15&"|"&VLOOKUP(Nutrients_from_current_land_use!$B$7,Value_look_up_tables!$A$101:$C$123,3,FALSE),Value_look_up_tables!$I$16:$K$89,2,FALSE),$B15*VLOOKUP($A15,Value_look_up_tables!$B$16:$M$89,11,FALSE))))) -> 0 | D15: =IF(OR(ISBLANK($A15),ISBLANK($B15),ISBLANK($B$6),ISBLANK($B$7)),0,IFERROR($B15*VLOOKUP((IF(OR($A15="Residential urban land",$A15="Commercial/industrial urban land",$A15="Open urban land",$A15="Greenspace",$A15="Community food growing",$A15="Woodland",$A15="Shrub", $A15="Water"), "|||"&$A15, (VLOOKUP(Nutrients_from_current_land_use!$B$5,Value_look_up_tables!$A$127:$B$127,2,FALSE)&"|"&$A15&"|"&VLOOKUP(Nutrients_from_current_land_use!$B$8,Value_look_up_tables!$A$140:$B$141,2,FALSE)&"|"&VLOOKUP(Nutrients_from_current_land_use!$B$7,Value_look_up_tables!$A$101:$C$123,3,FALSE)&"|"&VLOOKUP($B$6,Value_look_up_tables!$A$131:$B$136,2,FALSE)))),Value_look_up_tables!$F$16:$H$97,3,FALSE), IFERROR(IFERROR($B15*VLOOKUP($A15&"|"&VLOOKUP(Nutrients_from_current_land_use!$B$8,Value_look_up_tables!$A$140:$B$141,2,FALSE)&"|"&VLOOKUP(Nutrients_from_current_land_use!$B$7,Value_look_up_tables!$A$101:$C$123,3,FALSE)&"|"&VLOOKUP($B$6,Value_look_up_tables!$A$131:$B$136,2,FALSE),Value_look_up_tables!$F$16:$H$97,3,FALSE),IFERROR($B15*VLOOKUP($A15&"|"&"TRUE"&"|"&VLOOKUP(Nutrients_from_current_land_use!$B$7,Value_look_up_tables!$A$101:$C$123,3,FALSE)&"|"&VLOOKUP($B$6,Value_look_up_tables!$A$131:$B$136,2,FALSE),Value_look_up_tables!$F$16:$H$97,3,FALSE),$B15*VLOOKUP($A15&"|"&VLOOKUP(Nutrients_from_current_land_use!$B$8,Value_look_up_tables!$A$140:$B$141,2,FALSE)&"|"&VLOOKUP(Nutrients_from_current_land_use!$B$7,Value_look_up_tables!$A$101:$C$123,3,FALSE)&"|"&"DrainedArGr",Value_look_up_tables!$F$16:$H$97,3,FALSE))),IFERROR($B15*VLOOKUP($A15&"|"&VLOOKUP(Nutrients_from_current_land_use!$B$7,Value_look_up_tables!$A$101:$C$123,3,FALSE),Value_look_up_tables!$I$16:$K$89,3,FALSE),$B15*VLOOKUP($A15,Value_look_up_tables!$B$16:$M$89,12,FALSE))))) -> 0 | E15: =IF(OR(ISBLANK($A15),ISBLANK($B15),ISBLANK($B$6),ISBLANK($B$5),ISBLANK($B$7),$A15="Residential urban land",$A15="Commercial/industrial urban land",$A15="Open urban land",$A15="Greenspace",$A15="Community food growing",$A15="Woodland",$A15="Shrub",$A15="Water"),"Not applicable",IF(ISNUMBER(IFERROR($B15*VLOOKUP((IF(OR($A15="Residential urban land",$A15="Commercial/industrial urban land",$A15="Open urban land",$A15="Greenspace",$A15="Community food growing",$A15="Woodland",$A15="Shrub",$A15="Water"),"|||"&$A15,(VLOOKUP(Nutrients_from_current_land_use!$B$5,Value_look_up_tables!$A$127:$B$127,2,FALSE)&"|"&$A15&"|"&VLOOKUP(Nutrients_from_current_land_use!$B$8,Value_look_up_tables!$A$140:$B$141,2,FALSE)&"|"&VLOOKUP(Nutrients_from_current_land_use!$B$7, Value_look_up_tables!$A$101:$C$123,3,FALSE)&"|"&VLOOKUP($B$6,Value_look_up_tables!$A$131:$B$136,2,FALSE)))), Value_look_up_tables!$F$16:$H$89,3,FALSE),IFERROR($B15*VLOOKUP($A15&"|"&VLOOKUP(Nutrients_from_current_land_use!$B$8,Value_look_up_tables!$A$140:$B$141,2,FALSE)&"|"&VLOOKUP(Nutrients_from_current_land_use!$B$7, Value_look_up_tables!$A$101:$C$123,3,FALSE)&"|"&VLOOKUP($B$6,Value_look_up_tables!$A$131:$B$136,2,FALSE),Value_look_up_tables!$F$16:$H$89,3,FALSE),"In the absence of real world data, this figure has been generated using the most relevant average nutrient export coefficient."))),"Not applicable","In the absence of real world data, this figure has been generated using the most relevant average nutrient export coefficient.")) -> Not applicable
C16: =IF(OR(ISBLANK($A16),ISBLANK($B16),ISBLANK($B$6),ISBLANK($B$7)),0,IFERROR($B16*VLOOKUP((IF(OR($A16="Residential urban land",$A16="Commercial/industrial urban land",$A16="Open urban land",$A16="Greenspace",$A16="Community food growing",$A16="Woodland",$A16="Shrub", $A16="Water"), "|||"&$A16, (VLOOKUP(Nutrients_from_current_land_use!$B$5,Value_look_up_tables!$A$127:$B$127,2,FALSE)&"|"&$A16&"|"&VLOOKUP(Nutrients_from_current_land_use!$B$8,Value_look_up_tables!$A$140:$B$141,2,FALSE)&"|"&VLOOKUP(Nutrients_from_current_land_use!$B$7,Value_look_up_tables!$A$101:$C$123,3,FALSE)&"|"&VLOOKUP($B$6,Value_look_up_tables!$A$131:$B$136,2,FALSE)))),Value_look_up_tables!$F$16:$H$97,2,FALSE), IFERROR(IFERROR($B16*VLOOKUP($A16&"|"&VLOOKUP(Nutrients_from_current_land_use!$B$8,Value_look_up_tables!$A$140:$B$141,2,FALSE)&"|"&VLOOKUP(Nutrients_from_current_land_use!$B$7,Value_look_up_tables!$A$101:$C$123,3,FALSE)&"|"&VLOOKUP($B$6,Value_look_up_tables!$A$131:$B$136,2,FALSE),Value_look_up_tables!$F$16:$H$97,2,FALSE),IFERROR($B16*VLOOKUP($A16&"|"&"TRUE"&"|"&VLOOKUP(Nutrients_from_current_land_use!$B$7,Value_look_up_tables!$A$101:$C$123,3,FALSE)&"|"&VLOOKUP($B$6,Value_look_up_tables!$A$131:$B$136,2,FALSE),Value_look_up_tables!$F$16:$H$97,2,FALSE),$B16*VLOOKUP($A16&"|"&VLOOKUP(Nutrients_from_current_land_use!$B$8,Value_look_up_tables!$A$140:$B$141,2,FALSE)&"|"&VLOOKUP(Nutrients_from_current_land_use!$B$7,Value_look_up_tables!$A$101:$C$123,3,FALSE)&"|"&"DrainedArGr",Value_look_up_tables!$F$16:$H$97,2,FALSE))),IFERROR($B16*VLOOKUP($A16&"|"&VLOOKUP(Nutrients_from_current_land_use!$B$7,Value_look_up_tables!$A$101:$C$123,3,FALSE),Value_look_up_tables!$I$16:$K$89,2,FALSE),$B16*VLOOKUP($A16,Value_look_up_tables!$B$16:$M$89,11,FALSE))))) -> 0 | D16: =IF(OR(ISBLANK($A16),ISBLANK($B16),ISBLANK($B$6),ISBLANK($B$7)),0,IFERROR($B16*VLOOKUP((IF(OR($A16="Residential urban land",$A16="Commercial/industrial urban land",$A16="Open urban land",$A16="Greenspace",$A16="Community food growing",$A16="Woodland",$A16="Shrub", $A16="Water"), "|||"&$A16, (VLOOKUP(Nutrients_from_current_land_use!$B$5,Value_look_up_tables!$A$127:$B$127,2,FALSE)&"|"&$A16&"|"&VLOOKUP(Nutrients_from_current_land_use!$B$8,Value_look_up_tables!$A$140:$B$141,2,FALSE)&"|"&VLOOKUP(Nutrients_from_current_land_use!$B$7,Value_look_up_tables!$A$101:$C$123,3,FALSE)&"|"&VLOOKUP($B$6,Value_look_up_tables!$A$131:$B$136,2,FALSE)))),Value_look_up_tables!$F$16:$H$97,3,FALSE), IFERROR(IFERROR($B16*VLOOKUP($A16&"|"&VLOOKUP(Nutrients_from_current_land_use!$B$8,Value_look_up_tables!$A$140:$B$141,2,FALSE)&"|"&VLOOKUP(Nutrients_from_current_land_use!$B$7,Value_look_up_tables!$A$101:$C$123,3,FALSE)&"|"&VLOOKUP($B$6,Value_look_up_tables!$A$131:$B$136,2,FALSE),Value_look_up_tables!$F$16:$H$97,3,FALSE),IFERROR($B16*VLOOKUP($A16&"|"&"TRUE"&"|"&VLOOKUP(Nutrients_from_current_land_use!$B$7,Value_look_up_tables!$A$101:$C$123,3,FALSE)&"|"&VLOOKUP($B$6,Value_look_up_tables!$A$131:$B$136,2,FALSE),Value_look_up_tables!$F$16:$H$97,3,FALSE),$B16*VLOOKUP($A16&"|"&VLOOKUP(Nutrients_from_current_land_use!$B$8,Value_look_up_tables!$A$140:$B$141,2,FALSE)&"|"&VLOOKUP(Nutrients_from_current_land_use!$B$7,Value_look_up_tables!$A$101:$C$123,3,FALSE)&"|"&"DrainedArGr",Value_look_up_tables!$F$16:$H$97,3,FALSE))),IFERROR($B16*VLOOKUP($A16&"|"&VLOOKUP(Nutrients_from_current_land_use!$B$7,Value_look_up_tables!$A$101:$C$123,3,FALSE),Value_look_up_tables!$I$16:$K$89,3,FALSE),$B16*VLOOKUP($A16,Value_look_up_tables!$B$16:$M$89,12,FALSE))))) -> 0 | E16: =IF(OR(ISBLANK($A16),ISBLANK($B16),ISBLANK($B$6),ISBLANK($B$5),ISBLANK($B$7),$A16="Residential urban land",$A16="Commercial/industrial urban land",$A16="Open urban land",$A16="Greenspace",$A16="Community food growing",$A16="Woodland",$A16="Shrub",$A16="Water"),"Not applicable",IF(ISNUMBER(IFERROR($B16*VLOOKUP((IF(OR($A16="Residential urban land",$A16="Commercial/industrial urban land",$A16="Open urban land",$A16="Greenspace",$A16="Community food growing",$A16="Woodland",$A16="Shrub",$A16="Water"),"|||"&$A16,(VLOOKUP(Nutrients_from_current_land_use!$B$5,Value_look_up_tables!$A$127:$B$127,2,FALSE)&"|"&$A16&"|"&VLOOKUP(Nutrients_from_current_land_use!$B$8,Value_look_up_tables!$A$140:$B$141,2,FALSE)&"|"&VLOOKUP(Nutrients_from_current_land_use!$B$7, Value_look_up_tables!$A$101:$C$123,3,FALSE)&"|"&VLOOKUP($B$6,Value_look_up_tables!$A$131:$B$136,2,FALSE)))), Value_look_up_tables!$F$16:$H$89,3,FALSE),IFERROR($B16*VLOOKUP($A16&"|"&VLOOKUP(Nutrients_from_current_land_use!$B$8,Value_look_up_tables!$A$140:$B$141,2,FALSE)&"|"&VLOOKUP(Nutrients_from_current_land_use!$B$7, Value_look_up_tables!$A$101:$C$123,3,FALSE)&"|"&VLOOKUP($B$6,Value_look_up_tables!$A$131:$B$136,2,FALSE),Value_look_up_tables!$F$16:$H$89,3,FALSE),"In the absence of real world data, this figure has been generated using the most relevant average nutrient export coefficient."))),"Not applicable","In the absence of real world data, this figure has been generated using the most relevant average nutrient export coefficient.")) -> Not applicable
C17: =IF(OR(ISBLANK($A17),ISBLANK($B17),ISBLANK($B$6),ISBLANK($B$7)),0,IFERROR($B17*VLOOKUP((IF(OR($A17="Residential urban land",$A17="Commercial/industrial urban land",$A17="Open urban land",$A17="Greenspace",$A17="Community food growing",$A17="Woodland",$A17="Shrub", $A17="Water"), "|||"&$A17, (VLOOKUP(Nutrients_from_current_land_use!$B$5,Value_look_up_tables!$A$127:$B$127,2,FALSE)&"|"&$A17&"|"&VLOOKUP(Nutrients_from_current_land_use!$B$8,Value_look_up_tables!$A$140:$B$141,2,FALSE)&"|"&VLOOKUP(Nutrients_from_current_land_use!$B$7,Value_look_up_tables!$A$101:$C$123,3,FALSE)&"|"&VLOOKUP($B$6,Value_look_up_tables!$A$131:$B$136,2,FALSE)))),Value_look_up_tables!$F$16:$H$97,2,FALSE), IFERROR(IFERROR($B17*VLOOKUP($A17&"|"&VLOOKUP(Nutrients_from_current_land_use!$B$8,Value_look_up_tables!$A$140:$B$141,2,FALSE)&"|"&VLOOKUP(Nutrients_from_current_land_use!$B$7,Value_look_up_tables!$A$101:$C$123,3,FALSE)&"|"&VLOOKUP($B$6,Value_look_up_tables!$A$131:$B$136,2,FALSE),Value_look_up_tables!$F$16:$H$97,2,FALSE),IFERROR($B17*VLOOKUP($A17&"|"&"TRUE"&"|"&VLOOKUP(Nutrients_from_current_land_use!$B$7,Value_look_up_tables!$A$101:$C$123,3,FALSE)&"|"&VLOOKUP($B$6,Value_look_up_tables!$A$131:$B$136,2,FALSE),Value_look_up_tables!$F$16:$H$97,2,FALSE),$B17*VLOOKUP($A17&"|"&VLOOKUP(Nutrients_from_current_land_use!$B$8,Value_look_up_tables!$A$140:$B$141,2,FALSE)&"|"&VLOOKUP(Nutrients_from_current_land_use!$B$7,Value_look_up_tables!$A$101:$C$123,3,FALSE)&"|"&"DrainedArGr",Value_look_up_tables!$F$16:$H$97,2,FALSE))),IFERROR($B17*VLOOKUP($A17&"|"&VLOOKUP(Nutrients_from_current_land_use!$B$7,Value_look_up_tables!$A$101:$C$123,3,FALSE),Value_look_up_tables!$I$16:$K$89,2,FALSE),$B17*VLOOKUP($A17,Value_look_up_tables!$B$16:$M$89,11,FALSE))))) -> 0 | D17: =IF(OR(ISBLANK($A17),ISBLANK($B17),ISBLANK($B$6),ISBLANK($B$7)),0,IFERROR($B17*VLOOKUP((IF(OR($A17="Residential urban land",$A17="Commercial/industrial urban land",$A17="Open urban land",$A17="Greenspace",$A17="Community food growing",$A17="Woodland",$A17="Shrub", $A17="Water"), "|||"&$A17, (VLOOKUP(Nutrients_from_current_land_use!$B$5,Value_look_up_tables!$A$127:$B$127,2,FALSE)&"|"&$A17&"|"&VLOOKUP(Nutrients_from_current_land_use!$B$8,Value_look_up_tables!$A$140:$B$141,2,FALSE)&"|"&VLOOKUP(Nutrients_from_current_land_use!$B$7,Value_look_up_tables!$A$101:$C$123,3,FALSE)&"|"&VLOOKUP($B$6,Value_look_up_tables!$A$131:$B$136,2,FALSE)))),Value_look_up_tables!$F$16:$H$97,3,FALSE), IFERROR(IFERROR($B17*VLOOKUP($A17&"|"&VLOOKUP(Nutrients_from_current_land_use!$B$8,Value_look_up_tables!$A$140:$B$141,2,FALSE)&"|"&VLOOKUP(Nutrients_from_current_land_use!$B$7,Value_look_up_tables!$A$101:$C$123,3,FALSE)&"|"&VLOOKUP($B$6,Value_look_up_tables!$A$131:$B$136,2,FALSE),Value_look_up_tables!$F$16:$H$97,3,FALSE),IFERROR($B17*VLOOKUP($A17&"|"&"TRUE"&"|"&VLOOKUP(Nutrients_from_current_land_use!$B$7,Value_look_up_tables!$A$101:$C$123,3,FALSE)&"|"&VLOOKUP($B$6,Value_look_up_tables!$A$131:$B$136,2,FALSE),Value_look_up_tables!$F$16:$H$97,3,FALSE),$B17*VLOOKUP($A17&"|"&VLOOKUP(Nutrients_from_current_land_use!$B$8,Value_look_up_tables!$A$140:$B$141,2,FALSE)&"|"&VLOOKUP(Nutrients_from_current_land_use!$B$7,Value_look_up_tables!$A$101:$C$123,3,FALSE)&"|"&"DrainedArGr",Value_look_up_tables!$F$16:$H$97,3,FALSE))),IFERROR($B17*VLOOKUP($A17&"|"&VLOOKUP(Nutrients_from_current_land_use!$B$7,Value_look_up_tables!$A$101:$C$123,3,FALSE),Value_look_up_tables!$I$16:$K$89,3,FALSE),$B17*VLOOKUP($A17,Value_look_up_tables!$B$16:$M$89,12,FALSE))))) -> 0 | E17: =IF(OR(ISBLANK($A17),ISBLANK($B17),ISBLANK($B$6),ISBLANK($B$5),ISBLANK($B$7),$A17="Residential urban land",$A17="Commercial/industrial urban land",$A17="Open urban land",$A17="Greenspace",$A17="Community food growing",$A17="Woodland",$A17="Shrub",$A17="Water"),"Not applicable",IF(ISNUMBER(IFERROR($B17*VLOOKUP((IF(OR($A17="Residential urban land",$A17="Commercial/industrial urban land",$A17="Open urban land",$A17="Greenspace",$A17="Community food growing",$A17="Woodland",$A17="Shrub",$A17="Water"),"|||"&$A17,(VLOOKUP(Nutrients_from_current_land_use!$B$5,Value_look_up_tables!$A$127:$B$127,2,FALSE)&"|"&$A17&"|"&VLOOKUP(Nutrients_from_current_land_use!$B$8,Value_look_up_tables!$A$140:$B$141,2,FALSE)&"|"&VLOOKUP(Nutrients_from_current_land_use!$B$7, Value_look_up_tables!$A$101:$C$123,3,FALSE)&"|"&VLOOKUP($B$6,Value_look_up_tables!$A$131:$B$136,2,FALSE)))), Value_look_up_tables!$F$16:$H$89,3,FALSE),IFERROR($B17*VLOOKUP($A17&"|"&VLOOKUP(Nutrients_from_current_land_use!$B$8,Value_look_up_tables!$A$140:$B$141,2,FALSE)&"|"&VLOOKUP(Nutrients_from_current_land_use!$B$7, Value_look_up_tables!$A$101:$C$123,3,FALSE)&"|"&VLOOKUP($B$6,Value_look_up_tables!$A$131:$B$136,2,FALSE),Value_look_up_tables!$F$16:$H$89,3,FALSE),"In the absence of real world data, this figure has been generated using the most relevant average nutrient export coefficient."))),"Not applicable","In the absence of real world data, this figure has been generated using the most relevant average nutrient export coefficient.")) -> Not applicable
