Workbook

Sheet Instructions
A1: Natural England Nutrient Neutrality budget calculator for the River Itchen SAC
A2: This calculator was created by Ricardo Energy and Environment.
A3: This calculator contains 6 worksheets with 9 tables in total.
A4: This is the instructions cover sheet. It tells you how to use the calculator and gives an overview of each worksheet.
A5: You can move between worksheets using the tabs at the bottom of the page.
A6: If you use screen reading software, you can use 'Ctrl' + 'Page Down' keys to move between the tabs.
A7: If you use a keyboard only, to open any link in this form first select the cell with the link and then press the 'Shift' + 'F10' keys or the 'Fn' + the 'Menu' keys, then press the letter 'O' twice to highlight 'Open Hyperlink' and press 'Enter'.
A8: If you use a keyboard only, access dropdown lists by clicking the dropdown arrow or pressing the 'Alt' + 'Down' keys when the cell is selected.
A9: Table of contents
A10: Topic of each table | B10: Link to each worksheet
A11: Worksheet 1 Nutrient loading from additional wastewater | B11: Nutrients from wastewater
A12: Worksheet 2 Nutrient loading from current land use | B12: Nutrients from current land use
A13: Worksheet 3 Nutrient loading from future land use | B13: Nutrients from future land use
A14: Worksheet 4 Nutrient loading from future land use after treatment through a sustainable urban drainage system (SuDS) | B14: SuDS
A15: Worksheet 5 Nutrient budget calculations | B15: Final_nutrient_budgets
A16: General information about the calculator
A17: This calculator helps you calculate the nutrient budget for a new residential development.
A18: The nutrient budget for a site is calculated in 4 key stages with an additional optional stage in which information about the SuDS features on the site can be entered. Each stage is implemented in worksheets 1-5 of this calculator.
A19: Each worksheet is connected through a set of formulas which calculate the nutrient budget. As such, all sheets which represent the four key stages require data inputs in order to calculate the nutrient budget.
A20: The total nutrient budget is calculated automatically by adding the values from the 'Nutrients_from_wastewater' and the outputs from the 'Nutrients_from_future_land_use' minus the 'SuDS' (if applicable), and then subtracting the values from the 'Nutrients_from_current_land_use', then adding a 20% precautionary buffer to the result. This calculation is completed in the 'Final_nutrient_budgets' worksheet.
A21: Before a nutrient budget can be completed using the methodology, certain site-specific details for the development site need to be determined.
A22: The guidance to this calculator and gives further information on the user inputs required.
A23: The instructions for completing each stage of the nutrient budget methodology are shown in cell A2 of each worksheet.
A24: This calculator uses a set of lookup tables to find relevant values in a hidden spreadsheet titled the 'Value_look_up_tables' worksheet.
A25: It is advisable to retain a blank copy of this calculator and 'Save as' a new copy each time you calculate a budget to minimise the risk of using incorrect data inputs and to ease the calculation of new nutrient budgets.
A26: The values already included have been chosen based on research to determine suitable inputs to the nutrient budget that meet the Habitat Regulations Assessment (HRA) tests of beyond reasonable scientific doubt, in perpetuity (practically speaking this is 80 to 125 years) and in accordance with the precautionary principle.
A27: If editing any values in this calculator, you must make sure there is a sufficient evidence base to justify these changes and that the new inputs are selected in accordance with the precautionary principle.
... A57: If there are 2 or 3 values due to changing permits, the calculator will show the total amount of nutrient mitigation that is needed before and after the changing permit date.

Sheet Nutrients_from_wastewater
A1: Nutrients from wastewater
A2: This sheet contains 2 tables. The tables are separated by a heading, which describes the following table. Note: You will need to fill in cells B5 to B10 in the first table 'Water infrastructure information'. Cells B11 to B12 are automatically calculated and will state '0.00' unless the user inputs have been entered. Cells A13 to A16 and B13 to B16 are automatically generated and will state 'Not applicable' depending on the inputs to cells B5 and B10. You may need to fill in cell C11 and cell C12 depending on the information you entered in cell B10. Cells C5 to C10 and cells C13 to C16 are intentionally blank cells. You do not need to fill in any cells in the second table 'Final calculation of nutrient load from wastewater'. Cells B20 to B23 are automatically calculated and will state '0.00' unless the user inputs have been entered to the first table 'Water infrastructure information'. Cells A24 to A29, cells B25 to B26 and cells B28 to B29 are automatically generated and will state 'Not applicable' depending on the user inputs to the first table 'Water infrastructure information'. Cell B19, cell B24 and cell B27 are intentionally blank cells. How to fill in the table 'Water infrastructure information' Cell B5: Enter the date of first occupancy. Cell B6: Enter the average occupancy rate of the development. The default rate is 2.4, this should not be edited without sufficient evidence. Cell B7: Enter the water usage. This value should be kept at 120 unless other efficiency measures are used. Cell B8: Enter the total number of dwellings or units that will be within the development site as of the project completion date. Cell B9: Choose whether the development can apply deductible acceptable loading from the dropdown list. Cell B10: Choose the receiving wastewater treatment works (WwTW) from the dropdown list. If you select 'Package Treatment Plant user defined' or 'Septic Tank user defined', you must enter their certified value of total phosphorus (TP) in cell C11 and their certified value of total nitrogen (TN) in cell C12. Otherwise the default values will be used in the calculation of the nutrient load associated with wastewater. Nutrient permits may be changing for the WwTW you select, from 01/01/2025, or 01/04/2030. If the date of first occupancy is in-between changing permit dates, multiple permit limits may be automatically generated in cells B11 to B16. If applicable, up to 6 values for the nutrient loading associated with wastewater will be presented in cell B22, B23, B25, B26, B28 or B29.
A3: Water infrastructure information
A4: Description of required information | B4: Data entry column - user inputs required | C4: Additional data entry column - user inputs may be required
A5: Date of first occupancy (dd/mm/yyyy): | B5: 46023
A6: Average occupancy rate (people/dwelling or people/unit): | B6: 2.4
A7: Water usage (litres/person/day): | B7: 120
A8: Development Proposal (dwellings/units): | B8: 1
A9: Include deductible acceptable loading? | B9: No
A10: Wastewater treatment works: | B10: Chickenhall Eastleigh WwTW
A11: Current wastewater treatment works P permit (mg TP/litre): | B11: =(IFERROR(IF(OR(B10="Package Treatment Plant user defined",B10="Septic Tank user defined"),"Enter value in cell C11",IF(Nutrients_from_wastewater!B5<DATE(2025,1,1),VLOOKUP(Nutrients_from_wastewater!B10,Value_look_up_tables!A5:J13,2,FALSE),IF(Nutrients_from_wastewater!B5<DATE(2030,4,1),VLOOKUP(Nutrients_from_wastewater!B10,Value_look_up_tables!A5:J13,4,FALSE),VLOOKUP(Nutrients_from_wastewater!B10,Value_look_up_tables!A5:J12,8,FALSE)))),0)) -> 0.6
A12: Current wastewater treatment works N permit (mg TN/litre): | B12: =IFERROR(IF(OR(B10="Package Treatment Plant user defined",B10="Septic Tank user defined"),"Enter value in cell C12",IF(AND(B5<DATE(2025,1,1),B9="Yes"),VLOOKUP(B10,Value_look_up_tables!$A$5:$J$12,6,FALSE),IF(AND(B5<DATE(2025,1,1),OR(B9="No",B9="")),VLOOKUP(B10,Value_look_up_tables!$A$5:$J$12,3,FALSE),IF(AND(B5<DATE(2030,4,1),B5>=DATE(2025,1,1),B9="Yes"),VLOOKUP(B10,Value_look_up_tables!$A$5:$J$12,7,FALSE),IF(AND(B5<DATE(2030,4,1),B5>=DATE(2025,1,1),OR(B9="No",B9="")),IF(AND(B5<DATE(2030,4,1),B9="Yes"),VLOOKUP(B10,Value_look_up_tables!$A$5:$J$12,6,FALSE),IF(AND(B5<DATE(2030,4,1),OR(B9="No",B9="")),VLOOKUP(B10,Value_look_up_tables!$A$5:$J$12,5,FALSE),IF(AND(B5>=DATE(2030,4,1),B9="Yes"),VLOOKUP(B10,Value_look_up_tables!$A$5:$J$12,10,FALSE),IF(AND(B5>=DATE(2030,4,1),OR(B9="No",B9="")),VLOOKUP(B10,Value_look_up_tables!$A$5:$J$12,9,FALSE),"")))),IF(B9="Yes",VLOOKUP(B10,Value_look_up_tables!$A$5:$J$12,10,FALSE),VLOOKUP(B10,Value_look_up_tables!$A$5:$J$12,9,FALSE))))))),0) -> 27
A13: =IFERROR(IF(AND($B$5<DATE(2025,1,1),(VLOOKUP($B$10,Value_look_up_tables!$A$5:$E$10,2,FALSE))>(VLOOKUP($B$10,Value_look_up_tables!$A$5:$E$10,4,FALSE))), "Post 2025 WwTW P permit (mg TP/litre):","Not applicable"),"Not applicable") -> Not applicable | B13: =IFERROR(IF(AND($B$5<DATE(2025,1,1),(VLOOKUP($B$10,Value_look_up_tables!$A$5:$E$10,2,FALSE))>(VLOOKUP($B$10,Value_look_up_tables!$A$5:$E$10,4,FALSE))), VLOOKUP($B$10,Value_look_up_tables!A5:E13,4,FALSE),"Not applicable"),"Not applicable") -> Not applicable
A14: =IFERROR(IF(AND($B$5<DATE(2025,1,1),(VLOOKUP($B$10,Value_look_up_tables!$A$5:$E$10,3,FALSE))>(VLOOKUP($B$10,Value_look_up_tables!$A$5:$E$10,5,FALSE))), "Post 2025 WwTW N permit (mg TN/litre):","Not applicable"),"Not applicable") -> Not applicable | B14: =IFERROR(IF(AND($B$5<DATE(2025,1,1),(VLOOKUP($B$10,Value_look_up_tables!$A$5:$J$10,3,FALSE))>(VLOOKUP($B$10,Value_look_up_tables!$A$5:$J$10,5,FALSE))), IF(B9="Yes",VLOOKUP(B10,Value_look_up_tables!$A$5:$J$13,7,FALSE),VLOOKUP(B10,Value_look_up_tables!$A$5:$J$13,5,FALSE)),"Not applicable"),"Not applicable") -> Not applicable
A15: =IFERROR(IF(AND($B$5<DATE(2030,4,1),(VLOOKUP($B$10,Value_look_up_tables!$A$5:$J$10,4,FALSE))>(VLOOKUP($B$10,Value_look_up_tables!$A$5:$J$10,8,FALSE))), "Post 2030 WwTW P permit (mg TP/litre):","Not applicable"),"Not applicable") -> Post 2030 WwTW P permit (mg TP/litre): | B15: =IFERROR(IF(AND($B$5<DATE(2030,4,1),(VLOOKUP($B$10,Value_look_up_tables!$A$5:$J$10,4,FALSE))>(VLOOKUP($B$10,Value_look_up_tables!$A$5:$J$10,8,FALSE))), VLOOKUP($B$10,Value_look_up_tables!A5:J13,8,FALSE),"Not applicable"),"Not applicable") -> 0.25
A16: =IFERROR(IF(AND($B$5<DATE(2030,4,1),(VLOOKUP($B$10,Value_look_up_tables!$A$5:$J$10,5,FALSE))>(VLOOKUP($B$10,Value_look_up_tables!$A$5:$J$10,9,FALSE))), "Post 2030 WwTW N permit (mg TN/litre):","Not applicable"),"Not applicable") -> Post 2030 WwTW N permit (mg TN/litre): | B16: =IFERROR(IF(AND($B$5<DATE(2030,4,1),(VLOOKUP($B$10,Value_look_up_tables!$A$5:$J$10,5,FALSE))>(VLOOKUP($B$10,Value_look_up_tables!$A$5:$J$10,9,FALSE))), IF(B9="Yes",VLOOKUP(B10,Value_look_up_tables!$A$5:$J$13,10,FALSE),VLOOKUP(B10,Value_look_up_tables!$A$5:$J$13,9,FALSE)),"Not applicable"),"Not applicable") -> 10
A17: Final calculation of nutrient load from wastewater
A18: Description of values generated | B18: Values generated
A19: =IFERROR(IF(AND($B$5<DATE(2030,4,1),OR((VLOOKUP($B$10,Value_look_up_tables!$A$5:$J$8,4,FALSE))>=(VLOOKUP($B$10,Value_look_up_tables!$A$5:$J$8,8,FALSE)),(VLOOKUP($B$10,Value_look_up_tables!$A$5:$J$8,5,FALSE))>=(VLOOKUP($B$10,Value_look_up_tables!$A$5:$J$8,9,FALSE)))),"Post-2030 wastewater nutrient loading",IF(AND($B$5<DATE(2025,1,1),OR((VLOOKUP($B$10,Value_look_up_tables!$A$5:$E$8,2,FALSE))>=(VLOOKUP($B$10,Value_look_up_tables!$A$5:$E$8,4,FALSE)),(VLOOKUP($B$10,Value_look_up_tables!$A$5:$E$8,3,FALSE))>=(VLOOKUP($B$10,Value_look_up_tables!$A$5:$E$8,5,FALSE)))),"Post-2025 wastewater nutrient loading","Wastewater nutrient loading")),"Wastewater nutrient loading") -> Post-2030 wastewater nutrient loading
A20: Additional population (people): | B20: =IF(ISBLANK(B8),0,B6*B8) -> 2.4
A21: Wastewater by development (litres/day): | B21: =IFERROR(B20*B7,0) -> 288
A22: Annual wastewater TP load (kg TP/yr): | B22: =IFERROR(ROUND(IF(ISNUMBER(B15),B15*B21*0.9/1000000*365.25,IF(ISNUMBER(B13),B13*B21*0.9/1000000*365.25,IF(B11="Enter value in cell C11",IF(AND(B11="Enter value in cell C11",ISNUMBER(C11)),B21*C11/1000000*365.25, VLOOKUP((LEFT(B10,(LEN(B10)-13))&" default"),Value_look_up_tables!$A$9:$C$10,2,FALSE)*B21/1000000*365.25),IF(OR(B10="Package Treatment Plant default",B10="Septic Tank default"),B11*B21/1000000*365.25,IF(B11=8,B11*B21/1000000*365.25,B11*B21*0.9/1000000*365.25))))),2),0) -> 0.02
A23: Annual wastewater TN load (kg TN/yr): | B23: =IFERROR(ROUND(IF(ISNUMBER(B16),B16*B21*0.9/1000000*365.25,IF(ISNUMBER(B14),B14*B21*0.9/1000000*365.25,IF(B12="Enter value in cell C12",IF(AND(B12="Enter value in cell C12",ISNUMBER(C12)),B21*(IF(C12-2<0,C12,C12-2))/1000000*365.25, VLOOKUP((LEFT(B10,(LEN(B10)-13))&" default"),Value_look_up_tables!$A$9:$C$10,3,FALSE)*B21/1000000*365.25),IF(OR(B10="Package Treatment Plant default",B10="Septic Tank default"),B12*B21/1000000*365.25,IF(OR(AND(B12=25,B10<>"New Alresford WwTW"),B12=27),B12*B21/1000000*365.25,B12*B21*0.9/1000000*365.25))))),2),0) -> 0.95
A24: =IFERROR(IF(AND($B$5<DATE(2030,4,1),OR((VLOOKUP($B$10,Value_look_up_tables!$A$5:$J$8,4,FALSE))>=(VLOOKUP($B$10,Value_look_up_tables!$A$5:$J$8,8,FALSE)),(VLOOKUP($B$10,Value_look_up_tables!$A$5:$J$8,5,FALSE))>=(VLOOKUP($B$10,Value_look_up_tables!$A$5:$J$8,9,FALSE)))),"Pre-2030 wastewater nutrient loading",IF(AND($B$5<DATE(2025,1,1),OR((VLOOKUP($B$10,Value_look_up_tables!$A$5:$E$8,2,FALSE))>=(VLOOKUP($B$10,Value_look_up_tables!$A$5:$E$8,4,FALSE)),(VLOOKUP($B$10,Value_look_up_tables!$A$5:$E$8,3,FALSE))>=(VLOOKUP($B$10,Value_look_up_tables!$A$5:$E$8,5,FALSE)))),"Pre-2025 wastewater nutrient loading","Not applicable")),"Not applicable") -> Pre-2030 wastewater nutrient loading
A25: =IFERROR(IF(AND($B$5<DATE(2030,4,1),OR((VLOOKUP($B$10,Value_look_up_tables!$A$5:$J$8,4,FALSE))>(VLOOKUP($B$10,Value_look_up_tables!$A$5:$J$8,8,FALSE)),(VLOOKUP($B$10,Value_look_up_tables!$A$5:$J$8,5,FALSE))>(VLOOKUP($B$10,Value_look_up_tables!$A$5:$J$8,9,FALSE)),(VLOOKUP($B$10,Value_look_up_tables!$A$5:$J$8,2,FALSE))>(VLOOKUP($B$10,Value_look_up_tables!$A$5:$J$8,8,FALSE)),(VLOOKUP($B$10,Value_look_up_tables!$A$5:$J$8,3,FALSE))>(VLOOKUP($B$10,Value_look_up_tables!$A$5:$J$8,9,FALSE)))),"Annual wastewater TP load (kg TP/yr):","Not applicable"),"Not applicable") -> Annual wastewater TP load (kg TP/yr): | B25: =IFERROR(ROUND(IF(AND($B$5<DATE(2030,4,1),OR((VLOOKUP($B$10,Value_look_up_tables!$A$5:$J$8,4,FALSE))>=(VLOOKUP($B$10,Value_look_up_tables!$A$5:$J$8,8,FALSE)),(VLOOKUP($B$10,Value_look_up_tables!$A$5:$J$8,5,FALSE))>=(VLOOKUP($B$10,Value_look_up_tables!$A$5:$J$8,9,FALSE)),(VLOOKUP($B$10,Value_look_up_tables!$A$5:$J$8,2,FALSE))>=(VLOOKUP($B$10,Value_look_up_tables!$A$5:$J$8,8,FALSE)),(VLOOKUP($B$10,Value_look_up_tables!$A$5:$J$8,3,FALSE))>=(VLOOKUP($B$10,Value_look_up_tables!$A$5:$J$8,9,FALSE)))),IF(ISNUMBER(B13),IF(B13=8,(B13*B$21)/1000000*365.25,(B13*B$21*0.9)/1000000*365.25),IF(B11=8,(B11*B$21)/1000000*365.25,(B11*B$21*0.9)/1000000*365.25)),"Not applicable"),2),"Not applicable") -> 0.06
A26: =IFERROR(IF(AND($B$5<DATE(2030,4,1),OR((VLOOKUP($B$10,Value_look_up_tables!$A$5:$J$8,4,FALSE))>(VLOOKUP($B$10,Value_look_up_tables!$A$5:$J$8,8,FALSE)),(VLOOKUP($B$10,Value_look_up_tables!$A$5:$J$8,5,FALSE))>(VLOOKUP($B$10,Value_look_up_tables!$A$5:$J$8,9,FALSE)),(VLOOKUP($B$10,Value_look_up_tables!$A$5:$J$8,2,FALSE))>(VLOOKUP($B$10,Value_look_up_tables!$A$5:$J$8,8,FALSE)),(VLOOKUP($B$10,Value_look_up_tables!$A$5:$J$8,3,FALSE))>(VLOOKUP($B$10,Value_look_up_tables!$A$5:$J$8,9,FALSE)))),"Annual wastewater TN load (kg TN/yr):","Not applicable"),"Not applicable") -> Annual wastewater TN load (kg TN/yr): | B26: =IFERROR(ROUND(IF(AND($B$5<DATE(2030,4,1),OR((VLOOKUP($B$10,Value_look_up_tables!$A$5:$J$8,4,FALSE))>=(VLOOKUP($B$10,Value_look_up_tables!$A$5:$J$8,8,FALSE)),(VLOOKUP($B$10,Value_look_up_tables!$A$5:$J$8,5,FALSE))>=(VLOOKUP($B$10,Value_look_up_tables!$A$5:$J$8,9,FALSE)),(VLOOKUP($B$10,Value_look_up_tables!$A$5:$J$8,2,FALSE))>=(VLOOKUP($B$10,Value_look_up_tables!$A$5:$J$8,8,FALSE)),(VLOOKUP($B$10,Value_look_up_tables!$A$5:$J$8,3,FALSE))>=(VLOOKUP($B$10,Value_look_up_tables!$A$5:$J$8,9,FALSE)))),IF(ISNUMBER(B14),IF(OR(B14=27,AND(B14=25,B10<>"New Alresford WwTW")),(B14*B$21)/1000000*365.25,(B14*B$21*0.9)/1000000*365.25),IF(OR(B12=27,AND(B12=25,B10<>"New Alresford WwTW")),(B12*B$21)/1000000*365.25,(B12*B$21*0.9)/1000000*365.25)),"Not applicable"),2),"Not applicable") -> 2.84
A27: =IFERROR(IF(AND($B$5<DATE(2025,1,1),$B$5<DATE(2030,4,1),OR((VLOOKUP($B$10,Value_look_up_tables!$A$5:$J$8,4,FALSE))>=(VLOOKUP($B$10,Value_look_up_tables!$A$5:$J$8,8,FALSE)),(VLOOKUP($B$10,Value_look_up_tables!$A$5:$J$8,5,FALSE))>=(VLOOKUP($B$10,Value_look_up_tables!$A$5:$J$8,9,FALSE)))),IF(AND(B28="Not applicable",B29="Not applicable"),"Not applicable","Pre-2025 wastewater nutrient loading"),IF(AND($B$5<DATE(2025,1,1),OR((VLOOKUP($B$10,Value_look_up_tables!$A$5:$E$8,2,FALSE))>=(VLOOKUP($B$10,Value_look_up_tables!$A$5:$E$8,4,FALSE)),(VLOOKUP($B$10,Value_look_up_tables!$A$5:$E$8,3,FALSE))>=(VLOOKUP($B$10,Value_look_up_tables!$A$5:$E$8,5,FALSE)))),"Wastewater nutrient loading","Not applicable")),"Not applicable") -> Not applicable
A28: =IFERROR(IF(AND($B$5<DATE(2025,1,1),OR((VLOOKUP($B$10,Value_look_up_tables!$A$5:$E$8,2,FALSE))>(VLOOKUP($B$10,Value_look_up_tables!$A$5:$E$8,4,FALSE)),(VLOOKUP($B$10,Value_look_up_tables!$A$5:$E$8,3,FALSE))>(VLOOKUP($B$10,Value_look_up_tables!$A$5:$E$8,5,FALSE)))),"Annual wastewater TP load (kg TP/yr):","Not applicable"),"Not applicable") -> Not applicable | B28: =IFERROR(ROUND(IF(AND($B$5<DATE(2025,1,1),$B$5<DATE(2030,4,1),OR((VLOOKUP($B$10,Value_look_up_tables!$A$5:$J$8,4,FALSE))>=(VLOOKUP($B$10,Value_look_up_tables!$A$5:$J$8,8,FALSE)),(VLOOKUP($B$10,Value_look_up_tables!$A$5:$J$8,5,FALSE))>=(VLOOKUP($B$10,Value_look_up_tables!$A$5:$J$8,9,FALSE)),(VLOOKUP($B$10,Value_look_up_tables!$A$5:$J$8,2,FALSE))>=(VLOOKUP($B$10,Value_look_up_tables!$A$5:$J$8,4,FALSE)),(VLOOKUP($B$10,Value_look_up_tables!$A$5:$J$8,3,FALSE))>=(VLOOKUP($B$10,Value_look_up_tables!$A$5:$J$8,5,FALSE)))),IF(ISNUMBER(B13),IF(B11=8,(B11*B$21)/1000000*365.25,(B11*B$21*0.9)/1000000*365.25),IF(B13=8,(B13*B$21)/1000000*365.25,(B13*B$21*0.9)/1000000*365.25)),"Not applicable"),2),IF(ISNUMBER(B14),B26,"Not applicable")) -> Not applicable
A29: =IFERROR(IF(AND($B$5<DATE(2025,1,1),OR((VLOOKUP($B$10,Value_look_up_tables!$A$5:$E$8,2,FALSE))>(VLOOKUP($B$10,Value_look_up_tables!$A$5:$E$8,4,FALSE)),(VLOOKUP($B$10,Value_look_up_tables!$A$5:$E$8,3,FALSE))>(VLOOKUP($B$10,Value_look_up_tables!$A$5:$E$8,5,FALSE)))),"Annual wastewater TN load (kg TN/yr):","Not applicable"),"Not applicable") -> Not applicable | B29: =IFERROR(ROUND(IF(AND($B$5<DATE(2025,1,1),$B$5<DATE(2030,4,1),OR((VLOOKUP($B$10,Value_look_up_tables!$A$5:$J$8,4,FALSE))>=(VLOOKUP($B$10,Value_look_up_tables!$A$5:$J$8,8,FALSE)),(VLOOKUP($B$10,Value_look_up_tables!$A$5:$J$8,5,FALSE))>=(VLOOKUP($B$10,Value_look_up_tables!$A$5:$J$8,9,FALSE)),(VLOOKUP($B$10,Value_look_up_tables!$A$5:$J$8,2,FALSE))>=(VLOOKUP($B$10,Value_look_up_tables!$A$5:$J$8,4,FALSE)),(VLOOKUP($B$10,Value_look_up_tables!$A$5:$J$8,3,FALSE))>=(VLOOKUP($B$10,Value_look_up_tables!$A$5:$J$8,5,FALSE)))),IF(ISNUMBER(B14),IF(OR(B12=27,AND(B12=25,B10<>"New Alresford WwTW")),(B12*B$21)/1000000*365.25,(B12*B$21*0.9)/1000000*365.25),IF(OR(B14=27,AND(B14=25,B10<>"New Alresford WwTW")),(B14*B$21)/1000000*365.25,(B14*B$21*0.9)/1000000*365.25)),"Not applicable"),2),IF(ISNUMBER(B13),B26,"Not applicable")) -> Not applicable

Sheet Nutrients_from_current_land_use
A1: Nutrients from current land use
A2: This sheet contains 2 tables. The tables are separated by a heading, which describes the following table. Note: You will need to fill in cells B5 to B8 in the first table 'Current land use information'. You will need to fill in cells A11 to A27, and B11 to B27 in the second table 'Current land uses'. Cells B28, C11 to C28 and D11 to D28 are automatically calculated and will state '0.00' unless the user inputs have been entered. Cells E11 to E27 are automatically generated and will state 'Not applicable' depending on automatically generated data in cells C11 to C27 and D11 and D27. Row 28 is a Total Row. The Total Row states 'Totals:' in cell A28 and automatically calculates the total sum of cells B11 to B27 in cell B28, C11 to C27 in cell C28 and D11 to D27 in cell D28. Cell E28 is intentionally blank. How to fill in the table 'Current land use information' Cell B5: Choose the operational catchment the site is located within from the dropdown list. Cell B6: Choose the soil drainage type associated with the predominant soil type within the development site from the dropdown list. Cell B7: Choose the annual average rainfall the development will receive from the dropdown list. If the rainfall volume is not on the list, select the nearest value. Cell B8: Choose whether the development is in a nitrate vulnerable zone (NVZ) from the dropdown list. How to fill in the table 'Current land uses' Cell A11-A27: Choose the existing (pre-development) land use type(s) from the dropdown list. Cells B11-B27: Enter the area in hectares of each land use type. The nutrient load from current land uses is shown in cells C11-C27 for total phosphorus (TP) and cells D11-D27 for total nitrogen (TN). The total nutrient load from current land uses is shown in cell C28 for TP and D28 for TN.
A3: Current land use information
A4: Description of required information | B4: Data entry column - user inputs required
A5: Operational catchment: | B5: Itchen
A6: Soil drainage type: | B6: Freely draining
A7: Annual average rainfall (mm): | B7: 750.1 - 800
A8: Within nitrate vulnerable zone (NVZ): | B8: Yes
A9: Current land uses
A10: Existing land use type(s) - user inputs required | B10: Area (ha) - user inputs required | C10: Annual phosphorus nutrient export (kg TP/yr) | D10: Annual nitrogen nutrient export (kg TN/yr) | E10: Notes on data
A11: Commercial/industrial urban land | B11: 0.03 | C11: =IF(OR(ISBLANK($A11),ISBLANK($B11),ISBLANK($B$6),ISBLANK($B$7)),0,IFERROR($B11*VLOOKUP((IF(OR($A11="Residential urban land",$A11="Commercial/industrial urban land",$A11="Open urban land",$A11="Greenspace",$A11="Community food growing",$A11="Woodland",$A11="Shrub", $A11="Water"), "|||"&$A11, (VLOOKUP(Nutrients_from_current_land_use!$B$5,Value_look_up_tables!$A$127:$B$127,2,FALSE)&"|"&$A11&"|"&VLOOKUP(Nutrients_from_current_land_use!$B$8,Value_look_up_tables!$A$140:$B$141,2,FALSE)&"|"&VLOOKUP(Nutrients_from_current_land_use!$B$7,Value_look_up_tables!$A$101:$C$123,3,FALSE)&"|"&VLOOKUP($B$6,Value_look_up_tables!$A$131:$B$136,2,FALSE)))),Value_look_up_tables!$F$16:$H$97,2,FALSE), IFERROR(IFERROR($B11*VLOOKUP($A11&"|"&VLOOKUP(Nutrients_from_current_land_use!$B$8,Value_look_up_tables!$A$140:$B$141,2,FALSE)&"|"&VLOOKUP(Nutrients_from_current_land_use!$B$7,Value_look_up_tables!$A$101:$C$123,3,FALSE)&"|"&VLOOKUP($B$6,Value_look_up_tables!$A$131:$B$136,2,FALSE),Value_look_up_tables!$F$16:$H$97,2,FALSE),IFERROR($B11*VLOOKUP($A11&"|"&"TRUE"&"|"&VLOOKUP(Nutrients_from_current_land_use!$B$7,Value_look_up_tables!$A$101:$C$123,3,FALSE)&"|"&VLOOKUP($B$6,Value_look_up_tables!$A$131:$B$136,2,FALSE),Value_look_up_tables!$F$16:$H$97,2,FALSE),$B11*VLOOKUP($A11&"|"&VLOOKUP(Nutrients_from_current_land_use!$B$8,Value_look_up_tables!$A$140:$B$141,2,FALSE)&"|"&VLOOKUP(Nutrients_from_current_land_use!$B$7,Value_look_up_tables!$A$101:$C$123,3,FALSE)&"|"&"DrainedArGr",Value_look_up_tables!$F$16:$H$97,2,FALSE))),IFERROR($B11*VLOOKUP($A11&"|"&VLOOKUP(Nutrients_from_current_land_use!$B$7,Value_look_up_tables!$A$101:$C$123,3,FALSE),Value_look_up_tables!$I$16:$K$89,2,FALSE),$B11*VLOOKUP($A11,Value_look_up_tables!$B$16:$M$89,11,FALSE))))) -> 0.034052752 | D11: =IF(OR(ISBLANK($A11),ISBLANK($B11),ISBLANK($B$6),ISBLANK($B$7)),0,IFERROR($B11*VLOOKUP((IF(OR($A11="Residential urban land",$A11="Commercial/industrial urban land",$A11="Open urban land",$A11="Greenspace",$A11="Community food growing",$A11="Woodland",$A11="Shrub", $A11="Water"), "|||"&$A11, (VLOOKUP(Nutrients_from_current_land_use!$B$5,Value_look_up_tables!$A$127:$B$127,2,FALSE)&"|"&$A11&"|"&VLOOKUP(Nutrients_from_current_land_use!$B$8,Value_look_up_tables!$A$140:$B$141,2,FALSE)&"|"&VLOOKUP(Nutrients_from_current_land_use!$B$7,Value_look_up_tables!$A$101:$C$123,3,FALSE)&"|"&VLOOKUP($B$6,Value_look_up_tables!$A$131:$B$136,2,FALSE)))),Value_look_up_tables!$F$16:$H$97,3,FALSE), IFERROR(IFERROR($B11*VLOOKUP($A11&"|"&VLOOKUP(Nutrients_from_current_land_use!$B$8,Value_look_up_tables!$A$140:$B$141,2,FALSE)&"|"&VLOOKUP(Nutrients_from_current_land_use!$B$7,Value_look_up_tables!$A$101:$C$123,3,FALSE)&"|"&VLOOKUP($B$6,Value_look_up_tables!$A$131:$B$136,2,FALSE),Value_look_up_tables!$F$16:$H$97,3,FALSE),IFERROR($B11*VLOOKUP($A11&"|"&"TRUE"&"|"&VLOOKUP(Nutrients_from_current_land_use!$B$7,Value_look_up_tables!$A$101:$C$123,3,FALSE)&"|"&VLOOKUP($B$6,Value_look_up_tables!$A$131:$B$136,2,FALSE),Value_look_up_tables!$F$16:$H$97,3,FALSE),$B11*VLOOKUP($A11&"|"&VLOOKUP(Nutrients_from_current_land_use!$B$8,Value_look_up_tables!$A$140:$B$141,2,FALSE)&"|"&VLOOKUP(Nutrients_from_current_land_use!$B$7,Value_look_up_tables!$A$101:$C$123,3,FALSE)&"|"&"DrainedArGr",Value_look_up_tables!$F$16:$H$97,3,FALSE))),IFERROR($B11*VLOOKUP($A11&"|"&VLOOKUP(Nutrients_from_current_land_use!$B$7,Value_look_up_tables!$A$101:$C$123,3,FALSE),Value_look_up_tables!$I$16:$K$89,3,FALSE),$B11*VLOOKUP($A11,Value_look_up_tables!$B$16:$M$89,12,FALSE))))) -> 0.23113144 | E11: =IF(OR(ISBLANK($A11),ISBLANK($B11),ISBLANK($B$6),ISBLANK($B$5),ISBLANK($B$7),$A11="Residential urban land",$A11="Commercial/industrial urban land",$A11="Open urban land",$A11="Greenspace",$A11="Community food growing",$A11="Woodland",$A11="Shrub",$A11="Water"),"Not applicable",IF(ISNUMBER(IFERROR($B11*VLOOKUP((IF(OR($A11="Residential urban land",$A11="Commercial/industrial urban land",$A11="Open urban land",$A11="Greenspace",$A11="Community food growing",$A11="Woodland",$A11="Shrub",$A11="Water"),"|||"&$A11,(VLOOKUP(Nutrients_from_current_land_use!$B$5,Value_look_up_tables!$A$127:$B$127,2,FALSE)&"|"&$A11&"|"&VLOOKUP(Nutrients_from_current_land_use!$B$8,Value_look_up_tables!$A$140:$B$141,2,FALSE)&"|"&VLOOKUP(Nutrients_from_current_land_use!$B$7, Value_look_up_tables!$A$101:$C$123,3,FALSE)&"|"&VLOOKUP($B$6,Value_look_up_tables!$A$131:$B$136,2,FALSE)))), Value_look_up_tables!$F$16:$H$89,3,FALSE),IFERROR($B11*VLOOKUP($A11&"|"&VLOOKUP(Nutrients_from_current_land_use!$B$8,Value_look_up_tables!$A$140:$B$141,2,FALSE)&"|"&VLOOKUP(Nutrients_from_current_land_use!$B$7, Value_look_up_tables!$A$101:$C$123,3,FALSE)&"|"&VLOOKUP($B$6,Value_look_up_tables!$A$131:$B$136,2,FALSE),Value_look_up_tables!$F$16:$H$89,3,FALSE),"In the absence of real world data, this figure has been generated using the most relevant average nutrient export coefficient."))),"Not applicable","In the absence of real world data, this figure has been generated using the most relevant average nutrient export coefficient.")) -> Not applicable
C12: =IF(OR(ISBLANK($A12),ISBLANK($B12),ISBLANK($B$6),ISBLANK($B$7)),0,IFERROR($B12*VLOOKUP((IF(OR($A12="Residential urban land",$A12="Commercial/industrial urban land",$A12="Open urban land",$A12="Greenspace",$A12="Community food growing",$A12="Woodland",$A12="Shrub", $A12="Water"), "|||"&$A12, (VLOOKUP(Nutrients_from_current_land_use!$B$5,Value_look_up_tables!$A$127:$B$127,2,FALSE)&"|"&$A12&"|"&VLOOKUP(Nutrients_from_current_land_use!$B$8,Value_look_up_tables!$A$140:$B$141,2,FALSE)&"|"&VLOOKUP(Nutrients_from_current_land_use!$B$7,Value_look_up_tables!$A$101:$C$123,3,FALSE)&"|"&VLOOKUP($B$6,Value_look_up_tables!$A$131:$B$136,2,FALSE)))),Value_look_up_tables!$F$16:$H$97,2,FALSE), IFERROR(IFERROR($B12*VLOOKUP($A12&"|"&VLOOKUP(Nutrients_from_current_land_use!$B$8,Value_look_up_tables!$A$140:$B$141,2,FALSE)&"|"&VLOOKUP(Nutrients_from_current_land_use!$B$7,Value_look_up_tables!$A$101:$C$123,3,FALSE)&"|"&VLOOKUP($B$6,Value_look_up_tables!$A$131:$B$136,2,FALSE),Value_look_up_tables!$F$16:$H$97,2,FALSE),IFERROR($B12*VLOOKUP($A12&"|"&"TRUE"&"|"&VLOOKUP(Nutrients_from_current_land_use!$B$7,Value_look_up_tables!$A$101:$C$123,3,FALSE)&"|"&VLOOKUP($B$6,Value_look_up_tables!$A$131:$B$136,2,FALSE),Value_look_up_tables!$F$16:$H$97,2,FALSE),$B12*VLOOKUP($A12&"|"&VLOOKUP(Nutrients_from_current_land_use!$B$8,Value_look_up_tables!$A$140:$B$141,2,FALSE)&"|"&VLOOKUP(Nutrients_from_current_land_use!$B$7,Value_look_up_tables!$A$101:$C$123,3,FALSE)&"|"&"DrainedArGr",Value_look_up_tables!$F$16:$H$97,2,FALSE))),IFERROR($B12*VLOOKUP($A12&"|"&VLOOKUP(Nutrients_from_current_land_use!$B$7,Value_look_up_tables!$A$101:$C$123,3,FALSE),Value_look_up_tables!$I$16:$K$89,2,FALSE),$B12*VLOOKUP($A12,Value_look_up_tables!$B$16:$M$89,11,FALSE))))) -> 0 | D12: =IF(OR(ISBLANK($A12),ISBLANK($B12),ISBLANK($B$6),ISBLANK($B$7)),0,IFERROR($B12*VLOOKUP((IF(OR($A12="Residential urban land",$A12="Commercial/industrial urban land",$A12="Open urban land",$A12="Greenspace",$A12="Community food growing",$A12="Woodland",$A12="Shrub", $A12="Water"), "|||"&$A12, (VLOOKUP(Nutrients_from_current_land_use!$B$5,Value_look_up_tables!$A$127:$B$127,2,FALSE)&"|"&$A12&"|"&VLOOKUP(Nutrients_from_current_land_use!$B$8,Value_look_up_tables!$A$140:$B$141,2,FALSE)&"|"&VLOOKUP(Nutrients_from_current_land_use!$B$7,Value_look_up_tables!$A$101:$C$123,3,FALSE)&"|"&VLOOKUP($B$6,Value_look_up_tables!$A$131:$B$136,2,FALSE)))),Value_look_up_tables!$F$16:$H$97,3,FALSE), IFERROR(IFERROR($B12*VLOOKUP($A12&"|"&VLOOKUP(Nutrients_from_current_land_use!$B$8,Value_look_up_tables!$A$140:$B$141,2,FALSE)&"|"&VLOOKUP(Nutrients_from_current_land_use!$B$7,Value_look_up_tables!$A$101:$C$123,3,FALSE)&"|"&VLOOKUP($B$6,Value_look_up_tables!$A$131:$B$136,2,FALSE),Value_look_up_tables!$F$16:$H$97,3,FALSE),IFERROR($B12*VLOOKUP($A12&"|"&"TRUE"&"|"&VLOOKUP(Nutrients_from_current_land_use!$B$7,Value_look_up_tables!$A$101:$C$123,3,FALSE)&"|"&VLOOKUP($B$6,Value_look_up_tables!$A$131:$B$136,2,FALSE),Value_look_up_tables!$F$16:$H$97,3,FALSE),$B12*VLOOKUP($A12&"|"&VLOOKUP(Nutrients_from_current_land_use!$B$8,Value_look_up_tables!$A$140:$B$141,2,FALSE)&"|"&VLOOKUP(Nutrients_from_current_land_use!$B$7,Value_look_up_tables!$A$101:$C$123,3,FALSE)&"|"&"DrainedArGr",Value_look_up_tables!$F$16:$H$97,3,FALSE))),IFERROR($B12*VLOOKUP($A12&"|"&VLOOKUP(Nutrients_from_current_land_use!$B$7,Value_look_up_tables!$A$101:$C$123,3,FALSE),Value_look_up_tables!$I$16:$K$89,3,FALSE),$B12*VLOOKUP($A12,Value_look_up_tables!$B$16:$M$89,12,FALSE))))) -> 0 | E12: =IF(OR(ISBLANK($A12),ISBLANK($B12),ISBLANK($B$6),ISBLANK($B$5),ISBLANK($B$7),$A12="Residential urban land",$A12="Commercial/industrial urban land",$A12="Open urban land",$A12="Greenspace",$A12="Community food growing",$A12="Woodland",$A12="Shrub",$A12="Water"),"Not applicable",IF(ISNUMBER(IFERROR($B12*VLOOKUP((IF(OR($A12="Residential urban land",$A12="Commercial/industrial urban land",$A12="Open urban land",$A12="Greenspace",$A12="Community food growing",$A12="Woodland",$A12="Shrub",$A12="Water"),"|||"&$A12,(VLOOKUP(Nutrients_from_current_land_use!$B$5,Value_look_up_tables!$A$127:$B$127,2,FALSE)&"|"&$A12&"|"&VLOOKUP(Nutrients_from_current_land_use!$B$8,Value_look_up_tables!$A$140:$B$141,2,FALSE)&"|"&VLOOKUP(Nutrients_from_current_land_use!$B$7, Value_look_up_tables!$A$101:$C$123,3,FALSE)&"|"&VLOOKUP($B$6,Value_look_up_tables!$A$131:$B$136,2,FALSE)))), Value_look_up_tables!$F$16:$H$89,3,FALSE),IFERROR($B12*VLOOKUP($A12&"|"&VLOOKUP(Nutrients_from_current_land_use!$B$8,Value_look_up_tables!$A$140:$B$141,2,FALSE)&"|"&VLOOKUP(Nutrients_from_current_land_use!$B$7, Value_look_up_tables!$A$101:$C$123,3,FALSE)&"|"&VLOOKUP($B$6,Value_look_up_tables!$A$131:$B$136,2,FALSE),Value_look_up_tables!$F$16:$H$89,3,FALSE),"In the absence of real world data, this figure has been generated using the most relevant average nutrient export coefficient."))),"Not applicable","In the absence of real world data, this figure has been generated using the most relevant average nutrient export coefficient.")) -> Not applicable
C13: =IF(OR(ISBLANK($A13),ISBLANK($B13),ISBLANK($B$6),ISBLANK($B$7)),0,IFERROR($B13*VLOOKUP((IF(OR($A13="Residential urban land",$A13="Commercial/industrial urban land",$A13="Open urban land",$A13="Greenspace",$A13="Community food growing",$A13="Woodland",$A13="Shrub", $A13="Water"), "|||"&$A13, (VLOOKUP(Nutrients_from_current_land_use!$B$5,Value_look_up_tables!$A$127:$B$127,2,FALSE)&"|"&$A13&"|"&VLOOKUP(Nutrients_from_current_land_use!$B$8,Value_look_up_tables!$A$140:$B$141,2,FALSE)&"|"&VLOOKUP(Nutrients_from_current_land_use!$B$7,Value_look_up_tables!$A$101:$C$123,3,FALSE)&"|"&VLOOKUP($B$6,Value_look_up_tables!$A$131:$B$136,2,FALSE)))),Value_look_up_tables!$F$16:$H$97,2,FALSE), IFERROR(IFERROR($B13*VLOOKUP($A13&"|"&VLOOKUP(Nutrients_from_current_land_use!$B$8,Value_look_up_tables!$A$140:$B$141,2,FALSE)&"|"&VLOOKUP(Nutrients_from_current_land_use!$B$7,Value_look_up_tables!$A$101:$C$123,3,FALSE)&"|"&VLOOKUP($B$6,Value_look_up_tables!$A$131:$B$136,2,FALSE),Value_look_up_tables!$F$16:$H$97,2,FALSE),IFERROR($B13*VLOOKUP($A13&"|"&"TRUE"&"|"&VLOOKUP(Nutrients_from_current_land_use!$B$7,Value_look_up_tables!$A$101:$C$123,3,FALSE)&"|"&VLOOKUP($B$6,Value_look_up_tables!$A$131:$B$136,2,FALSE),Value_look_up_tables!$F$16:$H$97,2,FALSE),$B13*VLOOKUP($A13&"|"&VLOOKUP(Nutrients_from_current_land_use!$B$8,Value_look_up_tables!$A$140:$B$141,2,FALSE)&"|"&VLOOKUP(Nutrients_from_current_land_use!$B$7,Value_look_up_tables!$A$101:$C$123,3,FALSE)&"|"&"DrainedArGr",Value_look_up_tables!$F$16:$H$97,2,FALSE))),IFERROR($B13*VLOOKUP($A13&"|"&VLOOKUP(Nutrients_from_current_land_use!$B$7,Value_look_up_tables!$A$101:$C$123,3,FALSE),Value_look_up_tables!$I$16:$K$89,2,FALSE),$B13*VLOOKUP($A13,Value_look_up_tables!$B$16:$M$89,11,FALSE))))) -> 0 | D13: =IF(OR(ISBLANK($A13),ISBLANK($B13),ISBLANK($B$6),ISBLANK($B$7)),0,IFERROR($B13*VLOOKUP((IF(OR($A13="Residential urban land",$A13="Commercial/industrial urban land",$A13="Open urban land",$A13="Greenspace",$A13="Community food growing",$A13="Woodland",$A13="Shrub", $A13="Water"), "|||"&$A13, (VLOOKUP(Nutrients_from_current_land_use!$B$5,Value_look_up_tables!$A$127:$B$127,2,FALSE)&"|"&$A13&"|"&VLOOKUP(Nutrients_from_current_land_use!$B$8,Value_look_up_tables!$A$140:$B$141,2,FALSE)&"|"&VLOOKUP(Nutrients_from_current_land_use!$B$7,Value_look_up_tables!$A$101:$C$123,3,FALSE)&"|"&VLOOKUP($B$6,Value_look_up_tables!$A$131:$B$136,2,FALSE)))),Value_look_up_tables!$F$16:$H$97,3,FALSE), IFERROR(IFERROR($B13*VLOOKUP($A13&"|"&VLOOKUP(Nutrients_from_current_land_use!$B$8,Value_look_up_tables!$A$140:$B$141,2,FALSE)&"|"&VLOOKUP(Nutrients_from_current_land_use!$B$7,Value_look_up_tables!$A$101:$C$123,3,FALSE)&"|"&VLOOKUP($B$6,Value_look_up_tables!$A$131:$B$136,2,FALSE),Value_look_up_tables!$F$16:$H$97,3,FALSE),IFERROR($B13*VLOOKUP($A13&"|"&"TRUE"&"|"&VLOOKUP(Nutrients_from_current_land_use!$B$7,Value_look_up_tables!$A$101:$C$123,3,FALSE)&"|"&VLOOKUP($B$6,Value_look_up_tables!$A$131:$B$136,2,FALSE),Value_look_up_tables!$F$16:$H$97,3,FALSE),$B13*VLOOKUP($A13&"|"&VLOOKUP(Nutrients_from_current_land_use!$B$8,Value_look_up_tables!$A$140:$B$141,2,FALSE)&"|"&VLOOKUP(Nutrients_from_current_land_use!$B$7,Value_look_up_tables!$A$101:$C$123,3,FALSE)&"|"&"DrainedArGr",Value_look_up_tables!$F$16:$H$97,3,FALSE))),IFERROR($B13*VLOOKUP($A13&"|"&VLOOKUP(Nutrients_from_current_land_use!$B$7,Value_look_up_tables!$A$101:$C$123,3,FALSE),Value_look_up_tables!$I$16:$K$89,3,FALSE),$B13*VLOOKUP($A13,Value_look_up_tables!$B$16:$M$89,12,FALSE))))) -> 0 | E13: =IF(OR(ISBLANK($A13),ISBLANK($B13),ISBLANK($B$6),ISBLANK($B$5),ISBLANK($B$7),$A13="Residential urban land",$A13="Commercial/industrial urban land",$A13="Open urban land",$A13="Greenspace",$A13="Community food growing",$A13="Woodland",$A13="Shrub",$A13="Water"),"Not applicable",IF(ISNUMBER(IFERROR($B13*VLOOKUP((IF(OR($A13="Residential urban land",$A13="Commercial/industrial urban land",$A13="Open urban land",$A13="Greenspace",$A13="Community food growing",$A13="Woodland",$A13="Shrub",$A13="Water"),"|||"&$A13,(VLOOKUP(Nutrients_from_current_land_use!$B$5,Value_look_up_tables!$A$127:$B$127,2,FALSE)&"|"&$A13&"|"&VLOOKUP(Nutrients_from_current_land_use!$B$8,Value_look_up_tables!$A$140:$B$141,2,FALSE)&"|"&VLOOKUP(Nutrients_from_current_land_use!$B$7, Value_look_up_tables!$A$101:$C$123,3,FALSE)&"|"&VLOOKUP($B$6,Value_look_up_tables!$A$131:$B$136,2,FALSE)))), Value_look_up_tables!$F$16:$H$89,3,FALSE),IFERROR($B13*VLOOKUP($A13&"|"&VLOOKUP(Nutrients_from_current_land_use!$B$8,Value_look_up_tables!$A$140:$B$141,2,FALSE)&"|"&VLOOKUP(Nutrients_from_current_land_use!$B$7, Value_look_up_tables!$A$101:$C$123,3,FALSE)&"|"&VLOOKUP($B$6,Value_look_up_tables!$A$131:$B$136,2,FALSE),Value_look_up_tables!$F$16:$H$89,3,FALSE),"In the absence of real world data, this figure has been generated using the most relevant average nutrient export coefficient."))),"Not applicable","In the absence of real world data, this figure has been generated using the most relevant average nutrient export coefficient.")) -> Not applicable
C14: =IF(OR(ISBLANK($A14),ISBLANK($B14),ISBLANK($B$6),ISBLANK($B$7)),0,IFERROR($B14*VLOOKUP((IF(OR($A14="Residential urban land",$A14="Commercial/industrial urban land",$A14="Open urban land",$A14="Greenspace",$A14="Community food growing",$A14="Woodland",$A14="Shrub", $A14="Water"), "|||"&$A14, (VLOOKUP(Nutrients_from_current_land_use!$B$5,Value_look_up_tables!$A$127:$B$127,2,FALSE)&"|"&$A14&"|"&VLOOKUP(Nutrients_from_current_land_use!$B$8,Value_look_up_tables!$A$140:$B$141,2,FALSE)&"|"&VLOOKUP(Nutrients_from_current_land_use!$B$7,Value_look_up_tables!$A$101:$C$123,3,FALSE)&"|"&VLOOKUP($B$6,Value_look_up_tables!$A$131:$B$136,2,FALSE)))),Value_look_up_tables!$F$16:$H$97,2,FALSE), IFERROR(IFERROR($B14*VLOOKUP($A14&"|"&VLOOKUP(Nutrients_from_current_land_use!$B$8,Value_look_up_tables!$A$140:$B$141,2,FALSE)&"|"&VLOOKUP(Nutrients_from_current_land_use!$B$7,Value_look_up_tables!$A$101:$C$123,3,FALSE)&"|"&VLOOKUP($B$6,Value_look_up_tables!$A$131:$B$136,2,FALSE),Value_look_up_tables!$F$16:$H$97,2,FALSE),IFERROR($B14*VLOOKUP($A14&"|"&"TRUE"&"|"&VLOOKUP(Nutrients_from_current_land_use!$B$7,Value_look_up_tables!$A$101:$C$123,3,FALSE)&"|"&VLOOKUP($B$6,Value_look_up_tables!$A$131:$B$136,2,FALSE),Value_look_up_tables!$F$16:$H$97,2,FALSE),$B14*VLOOKUP($A14&"|"&VLOOKUP(Nutrients_from_current_land_use!$B$8,Value_look_up_tables!$A$140:$B$141,2,FALSE)&"|"&VLOOKUP(Nutrients_from_current_land_use!$B$7,Value_look_up_tables!$A$101:$C$123,3,FALSE)&"|"&"DrainedArGr",Value_look_up_tables!$F$16:$H$97,2,FALSE))),IFERROR($B14*VLOOKUP($A14&"|"&VLOOKUP(Nutrients_from_current_land_use!$B$7,Value_look_up_tables!$A$101:$C$123,3,FALSE),Value_look_up_tables!$I$16:$K$89,2,FALSE),$B14*VLOOKUP($A14,Value_look_up_tables!$B$16:$M$89,11,FALSE))))) -> 0 | D14: =IF(OR(ISBLANK($A14),ISBLANK($B14),ISBLANK($B$6),ISBLANK($B$7)),0,IFERROR($B14*VLOOKUP((IF(OR($A14="Residential urban land",$A14="Commercial/industrial urban land",$A14="Open urban land",$A14="Greenspace",$A14="Community food growing",$A14="Woodland",$A14="Shrub", $A14="Water"), "|||"&$A14, (VLOOKUP(Nutrients_from_current_land_use!$B$5,Value_look_up_tables!$A$127:$B$127,2,FALSE)&"|"&$A14&"|"&VLOOKUP(Nutrients_from_current_land_use!$B$8,Value_look_up_tables!$A$140:$B$141,2,FALSE)&"|"&VLOOKUP(Nutrients_from_current_land_use!$B$7,Value_look_up_tables!$A$101:$C$123,3,FALSE)&"|"&VLOOKUP($B$6,Value_look_up_tables!$A$131:$B$136,2,FALSE)))),Value_look_up_tables!$F$16:$H$97,3,FALSE), IFERROR(IFERROR($B14*VLOOKUP($A14&"|"&VLOOKUP(Nutrients_from_current_land_use!$B$8,Value_look_up_tables!$A$140:$B$141,2,FALSE)&"|"&VLOOKUP(Nutrients_from_current_land_use!$B$7,Value_look_up_tables!$A$101:$C$123,3,FALSE)&"|"&VLOOKUP($B$6,Value_look_up_tables!$A$131:$B$136,2,FALSE),Value_look_up_tables!$F$16:$H$97,3,FALSE),IFERROR($B14*VLOOKUP($A14&"|"&"TRUE"&"|"&VLOOKUP(Nutrients_from_current_land_use!$B$7,Value_look_up_tables!$A$101:$C$123,3,FALSE)&"|"&VLOOKUP($B$6,Value_look_up_tables!$A$131:$B$136,2,FALSE),Value_look_up_tables!$F$16:$H$97,3,FALSE),$B14*VLOOKUP($A14&"|"&VLOOKUP(Nutrients_from_current_land_use!$B$8,Value_look_up_tables!$A$140:$B$141,2,FALSE)&"|"&VLOOKUP(Nutrients_from_current_land_use!$B$7,Value_look_up_tables!$A$101:$C$123,3,FALSE)&"|"&"DrainedArGr",Value_look_up_tables!$F$16:$H$97,3,FALSE))),IFERROR($B14*VLOOKUP($A14&"|"&VLOOKUP(Nutrients_from_current_land_use!$B$7,Value_look_up_tables!$A$101:$C$123,3,FALSE),Value_look_up_tables!$I$16:$K$89,3,FALSE),$B14*VLOOKUP($A14,Value_look_up_tables!$B$16:$M$89,12,FALSE))))) -> 0 | E14: =IF(OR(ISBLANK($A14),ISBLANK($B14),ISBLANK($B$6),ISBLANK($B$5),ISBLANK($B$7),$A14="Residential urban land",$A14="Commercial/industrial urban land",$A14="Open urban land",$A14="Greenspace",$A14="Community food growing",$A14="Woodland",$A14="Shrub",$A14="Water"),"Not applicable",IF(ISNUMBER(IFERROR($B14*VLOOKUP((IF(OR($A14="Residential urban land",$A14="Commercial/industrial urban land",$A14="Open urban land",$A14="Greenspace",$A14="Community food growing",$A14="Woodland",$A14="Shrub",$A14="Water"),"|||"&$A14,(VLOOKUP(Nutrients_from_current_land_use!$B$5,Value_look_up_tables!$A$127:$B$127,2,FALSE)&"|"&$A14&"|"&VLOOKUP(Nutrients_from_current_land_use!$B$8,Value_look_up_tables!$A$140:$B$141,2,FALSE)&"|"&VLOOKUP(Nutrients_from_current_land_use!$B$7, Value_look_up_tables!$A$101:$C$123,3,FALSE)&"|"&VLOOKUP($B$6,Value_look_up_tables!$A$131:$B$136,2,FALSE)))), Value_look_up_tables!$F$16:$H$89,3,FALSE),IFERROR($B14*VLOOKUP($A14&"|"&VLOOKUP(Nutrients_from_current_land_use!$B$8,Value_look_up_tables!$A$140:$B$141,2,FALSE)&"|"&VLOOKUP(Nutrients_from_current_land_use!$B$7, Value_look_up_tables!$A$101:$C$123,3,FALSE)&"|"&VLOOKUP($B$6,Value_look_up_tables!$A$131:$B$136,2,FALSE),Value_look_up_tables!$F$16:$H$89,3,FALSE),"In the absence of real world data, this figure has been generated using the most relevant average nutrient export coefficient."))),"Not applicable","In the absence of real world data, this figure has been generated using the most relevant average nutrient export coefficient.")) -> Not applicable
C15: =IF(OR(ISBLANK($A15),ISBLANK($B15),ISBLANK($B$6),ISBLANK($B$7)),0,IFERROR($B15*VLOOKUP((IF(OR($A15="Residential urban land",$A15="Commercial/industrial urban land",$A15="Open urban land",$A15="Greenspace",$A15="Community food growing",$A15="Woodland",$A15="Shrub", $A15="Water"), "|||"&$A15, (VLOOKUP(Nutrients_from_current_land_use!$B$5,Value_look_up_tables!$A$127:$B$127,2,FALSE)&"|"&$A15&"|"&VLOOKUP(Nutrients_from_current_land_use!$B$8,Value_look_up_tables!$A$140:$B$141,2,FALSE)&"|"&VLOOKUP(Nutrients_from_current_land_use!$B$7,Value_look_up_tables!$A$101:$C$123,3,FALSE)&"|"&VLOOKUP($B$6,Value_look_up_tables!$A$131:$B$136,2,FALSE)))),Value_look_up_tables!$F$16:$H$97,2,FALSE), IFERROR(IFERROR($B15*VLOOKUP($A15&"|"&VLOOKUP(Nutrients_from_current_land_use!$B$8,Value_look_up_tables!$A$140:$B$141,2,FALSE)&"|"&VLOOKUP(Nutrients_from_current_land_use!$B$7,Value_look_up_tables!$A$101:$C$123,3,FALSE)&"|"&VLOOKUP($B$6,Value_look_up_tables!$A$131:$B$136,2,FALSE),Value_look_up_tables!$F$16:$H$97,2,FALSE),IFERROR($B15*VLOOKUP($A15&"|"&"TRUE"&"|"&VLOOKUP(Nutrients_from_current_land_use!$B$7,Value_look_up_tables!$A$101:$C$123,3,FALSE)&"|"&VLOOKUP($B$6,Value_look_up_tables!$A$131:$B$136,2,FALSE),Value_look_up_tables!$F$16:$H$97,2,FALSE),$B15*VLOOKUP($A15&"|"&VLOOKUP(Nutrients_from_current_land_use!$B$8,Value_look_up_tables!$A$140:$B$141,2,FALSE)&"|"&VLOOKUP(Nutrients_from_current_land_use!$B$7,Value_look_up_tables!$A$101:$C$123,3,FALSE)&"|"&"DrainedArGr",Value_look_up_tables!$F$16:$H$97,2,FALSE))),IFERROR($B15*VLOOKUP($A15&"|"&VLOOKUP(Nutrients_from_current_land_use!$B$7,Value_look_up_tables!$A$101:$C$123,3,FALSE),Value_look_up_tables!$I$16:$K$89,2,FALSE),$B15*VLOOKUP($A15,Value_look_up_tables!$B$16:$M$89,11,FALSE))))) -> 0 | D15: =IF(OR(ISBLANK($A15),ISBLANK($B15),ISBLANK($B$6),ISBLANK($B$7)),0,IFERROR($B15*VLOOKUP((IF(OR($A15="Residential urban land",$A15="Commercial/industrial urban land",$A15="Open urban land",$A15="Greenspace",$A15="Community food growing",$A15="Woodland",$A15="Shrub", $A15="Water"), "|||"&$A15, (VLOOKUP(Nutrients_from_current_land_use!$B$5,Value_look_up_tables!$A$127:$B$127,2,FALSE)&"|"&$A15&"|"&VLOOKUP(Nutrients_from_current_land_use!$B$8,Value_look_up_tables!$A$140:$B$141,2,FALSE)&"|"&VLOOKUP(Nutrients_from_current_land_use!$B$7,Value_look_up_tables!$A$101:$C$123,3,FALSE)&"|"&VLOOKUP($B$6,Value_look_up_tables!$A$131:$B$136,2,FALSE)))),Value_look_up_tables!$F$16:$H$97,3,FALSE), IFERROR(IFERROR($B15*VLOOKUP($A15&"|"&VLOOKUP(Nutrients_from_current_land_use!$B$8,Value_look_up_tables!$A$140:$B$141,2,FALSE)&"|"&VLOOKUP(Nutrients_from_current_land_use!$B$7,Value_look_up_tables!$A$101:$C$123,3,FALSE)&"|"&VLOOKUP($B$6,Value_look_up_tables!$A$131:$B$136,2,FALSE),Value_look_up_tables!$F$16:$H$97,3,FALSE),IFERROR($B15*VLOOKUP($A15&"|"&"TRUE"&"|"&VLOOKUP(Nutrients_from_current_land_use!$B$7,Value_look_up_tables!$A$101:$C$123,3,FALSE)&"|"&VLOOKUP($B$6,Value_look_up_tables!$A$131:$B$136,2,FALSE),Value_look_up_tables!$F$16:$H$97,3,FALSE),$B15*VLOOKUP($A15&"|"&VLOOKUP(Nutrients_from_current_land_use!$B$8,Value_look_up_tables!$A$140:$B$141,2,FALSE)&"|"&VLOOKUP(Nutrients_from_current_land_use!$B$7,Value_look_up_tables!$A$101:$C$123,3,FALSE)&"|"&"DrainedArGr",Value_look_up_tables!$F$16:$H$97,3,FALSE))),IFERROR($B15*VLOOKUP($A15&"|"&VLOOKUP(Nutrients_from_current_land_use!$B$7,Value_look_up_tables!$A$101:$C$123,3,FALSE),Value_look_up_tables!$I$16:$K$89,3,FALSE),$B15*VLOOKUP($A15,Value_look_up_tables!$B$16:$M$89,12,FALSE))))) -> 0 | E15: =IF(OR(ISBLANK($A15),ISBLANK($B15),ISBLANK($B$6),ISBLANK($B$5),ISBLANK($B$7),$A15="Residential urban land",$A15="Commercial/industrial urban land",$A15="Open urban land",$A15="Greenspace",$A15="Community food growing",$A15="Woodland",$A15="Shrub",$A15="Water"),"Not applicable",IF(ISNUMBER(IFERROR($B15*VLOOKUP((IF(OR($A15="Residential urban land",$A15="Commercial/industrial urban land",$A15="Open urban land",$A15="Greenspace",$A15="Community food growing",$A15="Woodland",$A15="Shrub",$A15="Water"),"|||"&$A15,(VLOOKUP(Nutrients_from_current_land_use!$B$5,Value_look_up_tables!$A$127:$B$127,2,FALSE)&"|"&$A15&"|"&VLOOKUP(Nutrients_from_current_land_use!$B$8,Value_look_up_tables!$A$140:$B$141,2,FALSE)&"|"&VLOOKUP(Nutrients_from_current_land_use!$B$7, Value_look_up_tables!$A$101:$C$123,3,FALSE)&"|"&VLOOKUP($B$6,Value_look_up_tables!$A$131:$B$136,2,FALSE)))), Value_look_up_tables!$F$16:$H$89,3,FALSE),IFERROR($B15*VLOOKUP($A15&"|"&VLOOKUP(Nutrients_from_current_land_use!$B$8,Value_look_up_tables!$A$140:$B$141,2,FALSE)&"|"&VLOOKUP(Nutrients_from_current_land_use!$B$7, Value_look_up_tables!$A$101:$C$123,3,FALSE)&"|"&VLOOKUP($B$6,Value_look_up_tables!$A$131:$B$136,2,FALSE),Value_look_up_tables!$F$16:$H$89,3,FALSE),"In the absence of real world data, this figure has been generated using the most relevant average nutrient export coefficient."))),"Not applicable","In the absence of real world data, this figure has been generated using the most relevant average nutrient export coefficient.")) -> Not applicable
C16: =IF(OR(ISBLANK($A16),ISBLANK($B16),ISBLANK($B$6),ISBLANK($B$7)),0,IFERROR($B16*VLOOKUP((IF(OR($A16="Residential urban land",$A16="Commercial/industrial urban land",$A16="Open urban land",$A16="Greenspace",$A16="Community food growing",$A16="Woodland",$A16="Shrub", $A16="Water"), "|||"&$A16, (VLOOKUP(Nutrients_from_current_land_use!$B$5,Value_look_up_tables!$A$127:$B$127,2,FALSE)&"|"&$A16&"|"&VLOOKUP(Nutrients_from_current_land_use!$B$8,Value_look_up_tables!$A$140:$B$141,2,FALSE)&"|"&VLOOKUP(Nutrients_from_current_land_use!$B$7,Value_look_up_tables!$A$101:$C$123,3,FALSE)&"|"&VLOOKUP($B$6,Value_look_up_tables!$A$131:$B$136,2,FALSE)))),Value_look_up_tables!$F$16:$H$97,2,FALSE), IFERROR(IFERROR($B16*VLOOKUP($A16&"|"&VLOOKUP(Nutrients_from_current_land_use!$B$8,Value_look_up_tables!$A$140:$B$141,2,FALSE)&"|"&VLOOKUP(Nutrients_from_current_land_use!$B$7,Value_look_up_tables!$A$101:$C$123,3,FALSE)&"|"&VLOOKUP($B$6,Value_look_up_tables!$A$131:$B$136,2,FALSE),Value_look_up_tables!$F$16:$H$97,2,FALSE),IFERROR($B16*VLOOKUP($A16&"|"&"TRUE"&"|"&VLOOKUP(Nutrients_from_current_land_use!$B$7,Value_look_up_tables!$A$101:$C$123,3,FALSE)&"|"&VLOOKUP($B$6,Value_look_up_tables!$A$131:$B$136,2,FALSE),Value_look_up_tables!$F$16:$H$97,2,FALSE),$B16*VLOOKUP($A16&"|"&VLOOKUP(Nutrients_from_current_land_use!$B$8,Value_look_up_tables!$A$140:$B$141,2,FALSE)&"|"&VLOOKUP(Nutrients_from_current_land_use!$B$7,Value_look_up_tables!$A$101:$C$123,3,FALSE)&"|"&"DrainedArGr",Value_look_up_tables!$F$16:$H$97,2,FALSE))),IFERROR($B16*VLOOKUP($A16&"|"&VLOOKUP(Nutrients_from_current_land_use!$B$7,Value_look_up_tables!$A$101:$C$123,3,FALSE),Value_look_up_tables!$I$16:$K$89,2,FALSE),$B16*VLOOKUP($A16,Value_look_up_tables!$B$16:$M$89,11,FALSE))))) -> 0 | D16: =IF(OR(ISBLANK($A16),ISBLANK($B16),ISBLANK($B$6),ISBLANK($B$7)),0,IFERROR($B16*VLOOKUP((IF(OR($A16="Residential urban land",$A16="Commercial/industrial urban land",$A16="Open urban land",$A16="Greenspace",$A16="Community food growing",$A16="Woodland",$A16="Shrub", $A16="Water"), "|||"&$A16, (VLOOKUP(Nutrients_from_current_land_use!$B$5,Value_look_up_tables!$A$127:$B$127,2,FALSE)&"|"&$A16&"|"&VLOOKUP(Nutrients_from_current_land_use!$B$8,Value_look_up_tables!$A$140:$B$141,2,FALSE)&"|"&VLOOKUP(Nutrients_from_current_land_use!$B$7,Value_look_up_tables!$A$101:$C$123,3,FALSE)&"|"&VLOOKUP($B$6,Value_look_up_tables!$A$131:$B$136,2,FALSE)))),Value_look_up_tables!$F$16:$H$97,3,FALSE), IFERROR(IFERROR($B16*VLOOKUP($A16&"|"&VLOOKUP(Nutrients_from_current_land_use!$B$8,Value_look_up_tables!$A$140:$B$141,2,FALSE)&"|"&VLOOKUP(Nutrients_from_current_land_use!$B$7,Value_look_up_tables!$A$101:$C$123,3,FALSE)&"|"&VLOOKUP($B$6,Value_look_up_tables!$A$131:$B$136,2,FALSE),Value_look_up_tables!$F$16:$H$97,3,FALSE),IFERROR($B16*VLOOKUP($A16&"|"&"TRUE"&"|"&VLOOKUP(Nutrients_from_current_land_use!$B$7,Value_look_up_tables!$A$101:$C$123,3,FALSE)&"|"&VLOOKUP($B$6,Value_look_up_tables!$A$131:$B$136,2,FALSE),Value_look_up_tables!$F$16:$H$97,3,FALSE),$B16*VLOOKUP($A16&"|"&VLOOKUP(Nutrients_from_current_land_use!$B$8,Value_look_up_tables!$A$140:$B$141,2,FALSE)&"|"&VLOOKUP(Nutrients_from_current_land_use!$B$7,Value_look_up_tables!$A$101:$C$123,3,FALSE)&"|"&"DrainedArGr",Value_look_up_tables!$F$16:$H$97,3,FALSE))),IFERROR($B16*VLOOKUP($A16&"|"&VLOOKUP(Nutrients_from_current_land_use!$B$7,Value_look_up_tables!$A$101:$C$123,3,FALSE),Value_look_up_tables!$I$16:$K$89,3,FALSE),$B16*VLOOKUP($A16,Value_look_up_tables!$B$16:$M$89,12,FALSE))))) -> 0 | E16: =IF(OR(ISBLANK($A16),ISBLANK($B16),ISBLANK($B$6),ISBLANK($B$5),ISBLANK($B$7),$A16="Residential urban land",$A16="Commercial/industrial urban land",$A16="Open urban land",$A16="Greenspace",$A16="Community food growing",$A16="Woodland",$A16="Shrub",$A16="Water"),"Not applicable",IF(ISNUMBER(IFERROR($B16*VLOOKUP((IF(OR($A16="Residential urban land",$A16="Commercial/industrial urban land",$A16="Open urban land",$A16="Greenspace",$A16="Community food growing",$A16="Woodland",$A16="Shrub",$A16="Water"),"|||"&$A16,(VLOOKUP(Nutrients_from_current_land_use!$B$5,Value_look_up_tables!$A$127:$B$127,2,FALSE)&"|"&$A16&"|"&VLOOKUP(Nutrients_from_current_land_use!$B$8,Value_look_up_tables!$A$140:$B$141,2,FALSE)&"|"&VLOOKUP(Nutrients_from_current_land_use!$B$7, Value_look_up_tables!$A$101:$C$123,3,FALSE)&"|"&VLOOKUP($B$6,Value_look_up_tables!$A$131:$B$136,2,FALSE)))), Value_look_up_tables!$F$16:$H$89,3,FALSE),IFERROR($B16*VLOOKUP($A16&"|"&VLOOKUP(Nutrients_from_current_land_use!$B$8,Value_look_up_tables!$A$140:$B$141,2,FALSE)&"|"&VLOOKUP(Nutrients_from_current_land_use!$B$7, Value_look_up_tables!$A$101:$C$123,3,FALSE)&"|"&VLOOKUP($B$6,Value_look_up_tables!$A$131:$B$136,2,FALSE),Value_look_up_tables!$F$16:$H$89,3,FALSE),"In the absence of real world data, this figure has been generated using the most relevant average nutrient export coefficient."))),"Not applicable","In the absence of real world data, this figure has been generated using the most relevant average nutrient export coefficient.")) -> Not applicable
C17: =IF(OR(ISBLANK($A17),ISBLANK($B17),ISBLANK($B$6),ISBLANK($B$7)),0,IFERROR($B17*VLOOKUP((IF(OR($A17="Residential urban land",$A17="Commercial/industrial urban land",$A17="Open urban land",$A17="Greenspace",$A17="Community food growing",$A17="Woodland",$A17="Shrub", $A17="Water"), "|||"&$A17, (VLOOKUP(Nutrients_from_current_land_use!$B$5,Value_look_up_tables!$A$127:$B$127,2,FALSE)&"|"&$A17&"|"&VLOOKUP(Nutrients_from_current_land_use!$B$8,Value_look_up_tables!$A$140:$B$141,2,FALSE)&"|"&VLOOKUP(Nutrients_from_current_land_use!$B$7,Value_look_up_tables!$A$101:$C$123,3,FALSE)&"|"&VLOOKUP($B$6,Value_look_up_tables!$A$131:$B$136,2,FALSE)))),Value_look_up_tables!$F$16:$H$97,2,FALSE), IFERROR(IFERROR($B17*VLOOKUP($A17&"|"&VLOOKUP(Nutrients_from_current_land_use!$B$8,Value_look_up_tables!$A$140:$B$141,2,FALSE)&"|"&VLOOKUP(Nutrients_from_current_land_use!$B$7,Value_look_up_tables!$A$101:$C$123,3,FALSE)&"|"&VLOOKUP($B$6,Value_look_up_tables!$A$131:$B$136,2,FALSE),Value_look_up_tables!$F$16:$H$97,2,FALSE),IFERROR($B17*VLOOKUP($A17&"|"&"TRUE"&"|"&VLOOKUP(Nutrients_from_current_land_use!$B$7,Value_look_up_tables!$A$101:$C$123,3,FALSE)&"|"&VLOOKUP($B$6,Value_look_up_tables!$A$131:$B$136,2,FALSE),Value_look_up_tables!$F$16:$H$97,2,FALSE),$B17*VLOOKUP($A17&"|"&VLOOKUP(Nutrients_from_current_land_use!$B$8,Value_look_up_tables!$A$140:$B$141,2,FALSE)&"|"&VLOOKUP(Nutrients_from_current_land_use!$B$7,Value_look_up_tables!$A$101:$C$123,3,FALSE)&"|"&"DrainedArGr",Value_look_up_tables!$F$16:$H$97,2,FALSE))),IFERROR($B17*VLOOKUP($A17&"|"&VLOOKUP(Nutrients_from_current_land_use!$B$7,Value_look_up_tables!$A$101:$C$123,3,FALSE),Value_look_up_tables!$I$16:$K$89,2,FALSE),$B17*VLOOKUP($A17,Value_look_up_tables!$B$16:$M$89,11,FALSE))))) -> 0 | D17: =IF(OR(ISBLANK($A17),ISBLANK($B17),ISBLANK($B$6),ISBLANK($B$7)),0,IFERROR($B17*VLOOKUP((IF(OR($A17="Residential urban land",$A17="Commercial/industrial urban land",$A17="Open urban land",$A17="Greenspace",$A17="Community food growing",$A17="Woodland",$A17="Shrub", $A17="Water"), "|||"&$A17, (VLOOKUP(Nutrients_from_current_land_use!$B$5,Value_look_up_tables!$A$127:$B$127,2,FALSE)&"|"&$A17&"|"&VLOOKUP(Nutrients_from_current_land_use!$B$8,Value_look_up_tables!$A$140:$B$141,2,FALSE)&"|"&VLOOKUP(Nutrients_from_current_land_use!$B$7,Value_look_up_tables!$A$101:$C$123,3,FALSE)&"|"&VLOOKUP($B$6,Value_look_up_tables!$A$131:$B$136,2,FALSE)))),Value_look_up_tables!$F$16:$H$97,3,FALSE), IFERROR(IFERROR($B17*VLOOKUP($A17&"|"&VLOOKUP(Nutrients_from_current_land_use!$B$8,Value_look_up_tables!$A$140:$B$141,2,FALSE)&"|"&VLOOKUP(Nutrients_from_current_land_use!$B$7,Value_look_up_tables!$A$101:$C$123,3,FALSE)&"|"&VLOOKUP($B$6,Value_look_up_tables!$A$131:$B$136,2,FALSE),Value_look_up_tables!$F$16:$H$97,3,FALSE),IFERROR($B17*VLOOKUP($A17&"|"&"TRUE"&"|"&VLOOKUP(Nutrients_from_current_land_use!$B$7,Value_look_up_tables!$A$101:$C$123,3,FALSE)&"|"&VLOOKUP($B$6,Value_look_up_tables!$A$131:$B$136,2,FALSE),Value_look_up_tables!$F$16:$H$97,3,FALSE),$B17*VLOOKUP($A17&"|"&VLOOKUP(Nutrients_from_current_land_use!$B$8,Value_look_up_tables!$A$140:$B$141,2,FALSE)&"|"&VLOOKUP(Nutrients_from_current_land_use!$B$7,Value_look_up_tables!$A$101:$C$123,3,FALSE)&"|"&"DrainedArGr",Value_look_up_tables!$F$16:$H$97,3,FALSE))),IFERROR($B17*VLOOKUP($A17&"|"&VLOOKUP(Nutrients_from_current_land_use!$B$7,Value_look_up_tables!$A$101:$C$123,3,FALSE),Value_look_up_tables!$I$16:$K$89,3,FALSE),$B17*VLOOKUP($A17,Value_look_up_tables!$B$16:$M$89,12,FALSE))))) -> 0 | E17: =IF(OR(ISBLANK($A17),ISBLANK($B17),ISBLANK($B$6),ISBLANK($B$5),ISBLANK($B$7),$A17="Residential urban land",$A17="Commercial/industrial urban land",$A17="Open urban land",$A17="Greenspace",$A17="Community food growing",$A17="Woodland",$A17="Shrub",$A17="Water"),"Not applicable",IF(ISNUMBER(IFERROR($B17*VLOOKUP((IF(OR($A17="Residential urban land",$A17="Commercial/industrial urban land",$A17="Open urban land",$A17="Greenspace",$A17="Community food growing",$A17="Woodland",$A17="Shrub",$A17="Water"),"|||"&$A17,(VLOOKUP(Nutrients_from_current_land_use!$B$5,Value_look_up_tables!$A$127:$B$127,2,FALSE)&"|"&$A17&"|"&VLOOKUP(Nutrients_from_current_land_use!$B$8,Value_look_up_tables!$A$140:$B$141,2,FALSE)&"|"&VLOOKUP(Nutrients_from_current_land_use!$B$7, Value_look_up_tables!$A$101:$C$123,3,FALSE)&"|"&VLOOKUP($B$6,Value_look_up_tables!$A$131:$B$136,2,FALSE)))), Value_look_up_tables!$F$16:$H$89,3,FALSE),IFERROR($B17*VLOOKUP($A17&"|"&VLOOKUP(Nutrients_from_current_land_use!$B$8,Value_look_up_tables!$A$140:$B$141,2,FALSE)&"|"&VLOOKUP(Nutrients_from_current_land_use!$B$7, Value_look_up_tables!$A$101:$C$123,3,FALSE)&"|"&VLOOKUP($B$6,Value_look_up_tables!$A$131:$B$136,2,FALSE),Value_look_up_tables!$F$16:$H$89,3,FALSE),"In the absence of real world data, this figure has been generated using the most relevant average nutrient export coefficient."))),"Not applicable","In the absence of real world data, this figure has been generated using the most relevant average nutrient export coefficient.")) -> Not applicable
C18: =IF(OR(ISBLANK($A18),ISBLANK($B18),ISBLANK($B$6),ISBLANK($B$7)),0,IFERROR($B18*VLOOKUP((IF(OR($A18="Residential urban land",$A18="Commercial/industrial urban land",$A18="Open urban land",$A18="Greenspace",$A18="Community food growing",$A18="Woodland",$A18="Shrub", $A18="Water"), "|||"&$A18, (VLOOKUP(Nutrients_from_current_land_use!$B$5,Value_look_up_tables!$A$127:$B$127,2,FALSE)&"|"&$A18&"|"&VLOOKUP(Nutrients_from_current_land_use!$B$8,Value_look_up_tables!$A$140:$B$141,2,FALSE)&"|"&VLOOKUP(Nutrients_from_current_land_use!$B$7,Value_look_up_tables!$A$101:$C$123,3,FALSE)&"|"&VLOOKUP($B$6,Value_look_up_tables!$A$131:$B$136,2,FALSE)))),Value_look_up_tables!$F$16:$H$97,2,FALSE), IFERROR(IFERROR($B18*VLOOKUP($A18&"|"&VLOOKUP(Nutrients_from_current_land_use!$B$8,Value_look_up_tables!$A$140:$B$141,2,FALSE)&"|"&VLOOKUP(Nutrients_from_current_land_use!$B$7,Value_look_up_tables!$A$101:$C$123,3,FALSE)&"|"&VLOOKUP($B$6,Value_look_up_tables!$A$131:$B$136,2,FALSE),Value_look_up_tables!$F$16:$H$97,2,FALSE),IFERROR($B18*VLOOKUP($A18&"|"&"TRUE"&"|"&VLOOKUP(Nutrients_from_current_land_use!$B$7,Value_look_up_tables!$A$101:$C$123,3,FALSE)&"|"&VLOOKUP($B$6,Value_look_up_tables!$A$131:$B$136,2,FALSE),Value_look_up_tables!$F$16:$H$97,2,FALSE),$B18*VLOOKUP($A18&"|"&VLOOKUP(Nutrients_from_current_land_use!$B$8,Value_look_up_tables!$A$140:$B$141,2,FALSE)&"|"&VLOOKUP(Nutrients_from_current_land_use!$B$7,Value_look_up_tables!$A$101:$C$123,3,FALSE)&"|"&"DrainedArGr",Value_look_up_tables!$F$16:$H$97,2,FALSE))),IFERROR($B18*VLOOKUP($A18&"|"&VLOOKUP(Nutrients_from_current_land_use!$B$7,Value_look_up_tables!$A$101:$C$123,3,FALSE),Value_look_up_tables!$I$16:$K$89,2,FALSE),$B18*VLOOKUP($A18,Value_look_up_tables!$B$16:$M$89,11,FALSE))))) -> 0 | D18: =IF(OR(ISBLANK($A18),ISBLANK($B18),ISBLANK($B$6),ISBLANK($B$7)),0,IFERROR($B18*VLOOKUP((IF(OR($A18="Residential urban land",$A18="Commercial/industrial urban land",$A18="Open urban land",$A18="Greenspace",$A18="Community food growing",$A18="Woodland",$A18="Shrub", $A18="Water"), "|||"&$A18, (VLOOKUP(Nutrients_from_current_land_use!$B$5,Value_look_up_tables!$A$127:$B$127,2,FALSE)&"|"&$A18&"|"&VLOOKUP(Nutrients_from_current_land_use!$B$8,Value_look_up_tables!$A$140:$B$141,2,FALSE)&"|"&VLOOKUP(Nutrients_from_current_land_use!$B$7,Value_look_up_tables!$A$101:$C$123,3,FALSE)&"|"&VLOOKUP($B$6,Value_look_up_tables!$A$131:$B$136,2,FALSE)))),Value_look_up_tables!$F$16:$H$97,3,FALSE), IFERROR(IFERROR($B18*VLOOKUP($A18&"|"&VLOOKUP(Nutrients_from_current_land_use!$B$8,Value_look_up_tables!$A$140:$B$141,2,FALSE)&"|"&VLOOKUP(Nutrients_from_current_land_use!$B$7,Value_look_up_tables!$A$101:$C$123,3,FALSE)&"|"&VLOOKUP($B$6,Value_look_up_tables!$A$131:$B$136,2,FALSE),Value_look_up_tables!$F$16:$H$97,3,FALSE),IFERROR($B18*VLOOKUP($A18&"|"&"TRUE"&"|"&VLOOKUP(Nutrients_from_current_land_use!$B$7,Value_look_up_tables!$A$101:$C$123,3,FALSE)&"|"&VLOOKUP($B$6,Value_look_up_tables!$A$131:$B$136,2,FALSE),Value_look_up_tables!$F$16:$H$97,3,FALSE),$B18*VLOOKUP($A18&"|"&VLOOKUP(Nutrients_from_current_land_use!$B$8,Value_look_up_tables!$A$140:$B$141,2,FALSE)&"|"&VLOOKUP(Nutrients_from_current_land_use!$B$7,Value_look_up_tables!$A$101:$C$123,3,FALSE)&"|"&"DrainedArGr",Value_look_up_tables!$F$16:$H$97,3,FALSE))),IFERROR($B18*VLOOKUP($A18&"|"&VLOOKUP(Nutrients_from_current_land_use!$B$7,Value_look_up_tables!$A$101:$C$123,3,FALSE),Value_look_up_tables!$I$16:$K$89,3,FALSE),$B18*VLOOKUP($A18,Value_look_up_tables!$B$16:$M$89,12,FALSE))))) -> 0 | E18: =IF(OR(ISBLANK($A18),ISBLANK($B18),ISBLANK($B$6),ISBLANK($B$5),ISBLANK($B$7),$A18="Residential urban land",$A18="Commercial/industrial urban land",$A18="Open urban land",$A18="Greenspace",$A18="Community food growing",$A18="Woodland",$A18="Shrub",$A18="Water"),"Not applicable",IF(ISNUMBER(IFERROR($B18*VLOOKUP((IF(OR($A18="Residential urban land",$A18="Commercial/industrial urban land",$A18="Open urban land",$A18="Greenspace",$A18="Community food growing",$A18="Woodland",$A18="Shrub",$A18="Water"),"|||"&$A18,(VLOOKUP(Nutrients_from_current_land_use!$B$5,Value_look_up_tables!$A$127:$B$127,2,FALSE)&"|"&$A18&"|"&VLOOKUP(Nutrients_from_current_land_use!$B$8,Value_look_up_tables!$A$140:$B$141,2,FALSE)&"|"&VLOOKUP(Nutrients_from_current_land_use!$B$7, Value_look_up_tables!$A$101:$C$123,3,FALSE)&"|"&VLOOKUP($B$6,Value_look_up_tables!$A$131:$B$136,2,FALSE)))), Value_look_up_tables!$F$16:$H$89,3,FALSE),IFERROR($B18*VLOOKUP($A18&"|"&VLOOKUP(Nutrients_from_current_land_use!$B$8,Value_look_up_tables!$A$140:$B$141,2,FALSE)&"|"&VLOOKUP(Nutrients_from_current_land_use!$B$7, Value_look_up_tables!$A$101:$C$123,3,FALSE)&"|"&VLOOKUP($B$6,Value_look_up_tables!$A$131:$B$136,2,FALSE),Value_look_up_tables!$F$16:$H$89,3,FALSE),"In the absence of real world data, this figure has been generated using the most relevant average nutrient export coefficient."))),"Not applicable","In the absence of real world data, this figure has been generated using the most relevant average nutrient export coefficient.")) -> Not applicable
C19: =IF(OR(ISBLANK($A19),ISBLANK($B19),ISBLANK($B$6),ISBLANK($B$7)),0,IFERROR($B19*VLOOKUP((IF(OR($A19="Residential urban land",$A19="Commercial/industrial urban land",$A19="Open urban land",$A19="Greenspace",$A19="Community food growing",$A19="Woodland",$A19="Shrub", $A19="Water"), "|||"&$A19, (VLOOKUP(Nutrients_from_current_land_use!$B$5,Value_look_up_tables!$A$127:$B$127,2,FALSE)&"|"&$A19&"|"&VLOOKUP(Nutrients_from_current_land_use!$B$8,Value_look_up_tables!$A$140:$B$141,2,FALSE)&"|"&VLOOKUP(Nutrients_from_current_land_use!$B$7,Value_look_up_tables!$A$101:$C$123,3,FALSE)&"|"&VLOOKUP($B$6,Value_look_up_tables!$A$131:$B$136,2,FALSE)))),Value_look_up_tables!$F$16:$H$97,2,FALSE), IFERROR(IFERROR($B19*VLOOKUP($A19&"|"&VLOOKUP(Nutrients_from_current_land_use!$B$8,Value_look_up_tables!$A$140:$B$141,2,FALSE)&"|"&VLOOKUP(Nutrients_from_current_land_use!$B$7,Value_look_up_tables!$A$101:$C$123,3,FALSE)&"|"&VLOOKUP($B$6,Value_look_up_tables!$A$131:$B$136,2,FALSE),Value_look_up_tables!$F$16:$H$97,2,FALSE),IFERROR($B19*VLOOKUP($A19&"|"&"TRUE"&"|"&VLOOKUP(Nutrients_from_current_land_use!$B$7,Value_look_up_tables!$A$101:$C$123,3,FALSE)&"|"&VLOOKUP($B$6,Value_look_up_tables!$A$131:$B$136,2,FALSE),Value_look_up_tables!$F$16:$H$97,2,FALSE),$B19*VLOOKUP($A19&"|"&VLOOKUP(Nutrients_from_current_land_use!$B$8,Value_look_up_tables!$A$140:$B$141,2,FALSE)&"|"&VLOOKUP(Nutrients_from_current_land_use!$B$7,Value_look_up_tables!$A$101:$C$123,3,FALSE)&"|"&"DrainedArGr",Value_look_up_tables!$F$16:$H$97,2,FALSE))),IFERROR($B19*VLOOKUP($A19&"|"&VLOOKUP(Nutrients_from_current_land_use!$B$7,Value_look_up_tables!$A$101:$C$123,3,FALSE),Value_look_up_tables!$I$16:$K$89,2,FALSE),$B19*VLOOKUP($A19,Value_look_up_tables!$B$16:$M$89,11,FALSE))))) -> 0 | D19: =IF(OR(ISBLANK($A19),ISBLANK($B19),ISBLANK($B$6),ISBLANK($B$7)),0,IFERROR($B19*VLOOKUP((IF(OR($A19="Residential urban land",$A19="Commercial/industrial urban land",$A19="Open urban land",$A19="Greenspace",$A19="Community food growing",$A19="Woodland",$A19="Shrub", $A19="Water"), "|||"&$A19, (VLOOKUP(Nutrients_from_current_land_use!$B$5,Value_look_up_tables!$A$127:$B$127,2,FALSE)&"|"&$A19&"|"&VLOOKUP(Nutrients_from_current_land_use!$B$8,Value_look_up_tables!$A$140:$B$141,2,FALSE)&"|"&VLOOKUP(Nutrients_from_current_land_use!$B$7,Value_look_up_tables!$A$101:$C$123,3,FALSE)&"|"&VLOOKUP($B$6,Value_look_up_tables!$A$131:$B$136,2,FALSE)))),Value_look_up_tables!$F$16:$H$97,3,FALSE), IFERROR(IFERROR($B19*VLOOKUP($A19&"|"&VLOOKUP(Nutrients_from_current_land_use!$B$8,Value_look_up_tables!$A$140:$B$141,2,FALSE)&"|"&VLOOKUP(Nutrients_from_current_land_use!$B$7,Value_look_up_tables!$A$101:$C$123,3,FALSE)&"|"&VLOOKUP($B$6,Value_look_up_tables!$A$131:$B$136,2,FALSE),Value_look_up_tables!$F$16:$H$97,3,FALSE),IFERROR($B19*VLOOKUP($A19&"|"&"TRUE"&"|"&VLOOKUP(Nutrients_from_current_land_use!$B$7,Value_look_up_tables!$A$101:$C$123,3,FALSE)&"|"&VLOOKUP($B$6,Value_look_up_tables!$A$131:$B$136,2,FALSE),Value_look_up_tables!$F$16:$H$97,3,FALSE),$B19*VLOOKUP($A19&"|"&VLOOKUP(Nutrients_from_current_land_use!$B$8,Value_look_up_tables!$A$140:$B$141,2,FALSE)&"|"&VLOOKUP(Nutrients_from_current_land_use!$B$7,Value_look_up_tables!$A$101:$C$123,3,FALSE)&"|"&"DrainedArGr",Value_look_up_tables!$F$16:$H$97,3,FALSE))),IFERROR($B19*VLOOKUP($A19&"|"&VLOOKUP(Nutrients_from_current_land_use!$B$7,Value_look_up_tables!$A$101:$C$123,3,FALSE),Value_look_up_tables!$I$16:$K$89,3,FALSE),$B19*VLOOKUP($A19,Value_look_up_tables!$B$16:$M$89,12,FALSE))))) -> 0 | E19: =IF(OR(ISBLANK($A19),ISBLANK($B19),ISBLANK($B$6),ISBLANK($B$5),ISBLANK($B$7),$A19="Residential urban land",$A19="Commercial/industrial urban land",$A19="Open urban land",$A19="Greenspace",$A19="Community food growing",$A19="Woodland",$A19="Shrub",$A19="Water"),"Not applicable",IF(ISNUMBER(IFERROR($B19*VLOOKUP((IF(OR($A19="Residential urban land",$A19="Commercial/industrial urban land",$A19="Open urban land",$A19="Greenspace",$A19="Community food growing",$A19="Woodland",$A19="Shrub",$A19="Water"),"|||"&$A19,(VLOOKUP(Nutrients_from_current_land_use!$B$5,Value_look_up_tables!$A$127:$B$127,2,FALSE)&"|"&$A19&"|"&VLOOKUP(Nutrients_from_current_land_use!$B$8,Value_look_up_tables!$A$140:$B$141,2,FALSE)&"|"&VLOOKUP(Nutrients_from_current_land_use!$B$7, Value_look_up_tables!$A$101:$C$123,3,FALSE)&"|"&VLOOKUP($B$6,Value_look_up_tables!$A$131:$B$136,2,FALSE)))), Value_look_up_tables!$F$16:$H$89,3,FALSE),IFERROR($B19*VLOOKUP($A19&"|"&VLOOKUP(Nutrients_from_current_land_use!$B$8,Value_look_up_tables!$A$140:$B$141,2,FALSE)&"|"&VLOOKUP(Nutrients_from_current_land_use!$B$7, Value_look_up_tables!$A$101:$C$123,3,FALSE)&"|"&VLOOKUP($B$6,Value_look_up_tables!$A$131:$B$136,2,FALSE),Value_look_up_tables!$F$16:$H$89,3,FALSE),"In the absence of real world data, this figure has been generated using the most relevant average nutrient export coefficient."))),"Not applicable","In the absence of real world data, this figure has been generated using the most relevant average nutrient export coefficient.")) -> Not applicable
C20: =IF(OR(ISBLANK($A20),ISBLANK($B20),ISBLANK($B$6),ISBLANK($B$7)),0,IFERROR($B20*VLOOKUP((IF(OR($A20="Residential urban land",$A20="Commercial/industrial urban land",$A20="Open urban land",$A20="Greenspace",$A20="Community food growing",$A20="Woodland",$A20="Shrub", $A20="Water"), "|||"&$A20, (VLOOKUP(Nutrients_from_current_land_use!$B$5,Value_look_up_tables!$A$127:$B$127,2,FALSE)&"|"&$A20&"|"&VLOOKUP(Nutrients_from_current_land_use!$B$8,Value_look_up_tables!$A$140:$B$141,2,FALSE)&"|"&VLOOKUP(Nutrients_from_current_land_use!$B$7,Value_look_up_tables!$A$101:$C$123,3,FALSE)&"|"&VLOOKUP($B$6,Value_look_up_tables!$A$131:$B$136,2,FALSE)))),Value_look_up_tables!$F$16:$H$97,2,FALSE), IFERROR(IFERROR($B20*VLOOKUP($A20&"|"&VLOOKUP(Nutrients_from_current_land_use!$B$8,Value_look_up_tables!$A$140:$B$141,2,FALSE)&"|"&VLOOKUP(Nutrients_from_current_land_use!$B$7,Value_look_up_tables!$A$101:$C$123,3,FALSE)&"|"&VLOOKUP($B$6,Value_look_up_tables!$A$131:$B$136,2,FALSE),Value_look_up_tables!$F$16:$H$97,2,FALSE),IFERROR($B20*VLOOKUP($A20&"|"&"TRUE"&"|"&VLOOKUP(Nutrients_from_current_land_use!$B$7,Value_look_up_tables!$A$101:$C$123,3,FALSE)&"|"&VLOOKUP($B$6,Value_look_up_tables!$A$131:$B$136,2,FALSE),Value_look_up_tables!$F$16:$H$97,2,FALSE),$B20*VLOOKUP($A20&"|"&VLOOKUP(Nutrients_from_current_land_use!$B$8,Value_look_up_tables!$A$140:$B$141,2,FALSE)&"|"&VLOOKUP(Nutrients_from_current_land_use!$B$7,Value_look_up_tables!$A$101:$C$123,3,FALSE)&"|"&"DrainedArGr",Value_look_up_tables!$F$16:$H$97,2,FALSE))),IFERROR($B20*VLOOKUP($A20&"|"&VLOOKUP(Nutrients_from_current_land_use!$B$7,Value_look_up_tables!$A$101:$C$123,3,FALSE),Value_look_up_tables!$I$16:$K$89,2,FALSE),$B20*VLOOKUP($A20,Value_look_up_tables!$B$16:$M$89,11,FALSE))))) -> 0 | D20: =IF(OR(ISBLANK($A20),ISBLANK($B20),ISBLANK($B$6),ISBLANK($B$7)),0,IFERROR($B20*VLOOKUP((IF(OR($A20="Residential urban land",$A20="Commercial/industrial urban land",$A20="Open urban land",$A20="Greenspace",$A20="Community food growing",$A20="Woodland",$A20="Shrub", $A20="Water"), "|||"&$A20, (VLOOKUP(Nutrients_from_current_land_use!$B$5,Value_look_up_tables!$A$127:$B$127,2,FALSE)&"|"&$A20&"|"&VLOOKUP(Nutrients_from_current_land_use!$B$8,Value_look_up_tables!$A$140:$B$141,2,FALSE)&"|"&VLOOKUP(Nutrients_from_current_land_use!$B$7,Value_look_up_tables!$A$101:$C$123,3,FALSE)&"|"&VLOOKUP($B$6,Value_look_up_tables!$A$131:$B$136,2,FALSE)))),Value_look_up_tables!$F$16:$H$97,3,FALSE), IFERROR(IFERROR($B20*VLOOKUP($A20&"|"&VLOOKUP(Nutrients_from_current_land_use!$B$8,Value_look_up_tables!$A$140:$B$141,2,FALSE)&"|"&VLOOKUP(Nutrients_from_current_land_use!$B$7,Value_look_up_tables!$A$101:$C$123,3,FALSE)&"|"&VLOOKUP($B$6,Value_look_up_tables!$A$131:$B$136,2,FALSE),Value_look_up_tables!$F$16:$H$97,3,FALSE),IFERROR($B20*VLOOKUP($A20&"|"&"TRUE"&"|"&VLOOKUP(Nutrients_from_current_land_use!$B$7,Value_look_up_tables!$A$101:$C$123,3,FALSE)&"|"&VLOOKUP($B$6,Value_look_up_tables!$A$131:$B$136,2,FALSE),Value_look_up_tables!$F$16:$H$97,3,FALSE),$B20*VLOOKUP($A20&"|"&VLOOKUP(Nutrients_from_current_land_use!$B$8,Value_look_up_tables!$A$140:$B$141,2,FALSE)&"|"&VLOOKUP(Nutrients_from_current_land_use!$B$7,Value_look_up_tables!$A$101:$C$123,3,FALSE)&"|"&"DrainedArGr",Value_look_up_tables!$F$16:$H$97,3,FALSE))),IFERROR($B20*VLOOKUP($A20&"|"&VLOOKUP(Nutrients_from_current_land_use!$B$7,Value_look_up_tables!$A$101:$C$123,3,FALSE),Value_look_up_tables!$I$16:$K$89,3,FALSE),$B20*VLOOKUP($A20,Value_look_up_tables!$B$16:$M$89,12,FALSE))))) -> 0 | E20: =IF(OR(ISBLANK($A20),ISBLANK($B20),ISBLANK($B$6),ISBLANK($B$5),ISBLANK($B$7),$A20="Residential urban land",$A20="Commercial/industrial urban land",$A20="Open urban land",$A20="Greenspace",$A20="Community food growing",$A20="Woodland",$A20="Shrub",$A20="Water"),"Not applicable",IF(ISNUMBER(IFERROR($B20*VLOOKUP((IF(OR($A20="Residential urban land",$A20="Commercial/industrial urban land",$A20="Open urban land",$A20="Greenspace",$A20="Community food growing",$A20="Woodland",$A20="Shrub",$A20="Water"),"|||"&$A20,(VLOOKUP(Nutrients_from_current_land_use!$B$5,Value_look_up_tables!$A$127:$B$127,2,FALSE)&"|"&$A20&"|"&VLOOKUP(Nutrients_from_current_land_use!$B$8,Value_look_up_tables!$A$140:$B$141,2,FALSE)&"|"&VLOOKUP(Nutrients_from_current_land_use!$B$7, Value_look_up_tables!$A$101:$C$123,3,FALSE)&"|"&VLOOKUP($B$6,Value_look_up_tables!$A$131:$B$136,2,FALSE)))), Value_look_up_tables!$F$16:$H$89,3,FALSE),IFERROR($B20*VLOOKUP($A20&"|"&VLOOKUP(Nutrients_from_current_land_use!$B$8,Value_look_up_tables!$A$140:$B$141,2,FALSE)&"|"&VLOOKUP(Nutrients_from_current_land_use!$B$7, Value_look_up_tables!$A$101:$C$123,3,FALSE)&"|"&VLOOKUP($B$6,Value_look_up_tables!$A$131:$B$136,2,FALSE),Value_look_up_tables!$F$16:$H$89,3,FALSE),"In the absence of real world data, this figure has been generated using the most relevant average nutrient export coefficient."))),"Not applicable","In the absence of real world data, this figure has been generated using the most relevant average nutrient export coefficient.")) -> Not applicable
C21: =IF(OR(ISBLANK($A21),ISBLANK($B21),ISBLANK($B$6),ISBLANK($B$7)),0,IFERROR($B21*VLOOKUP((IF(OR($A21="Residential urban land",$A21="Commercial/industrial urban land",$A21="Open urban land",$A21="Greenspace",$A21="Community food growing",$A21="Woodland",$A21="Shrub", $A21="Water"), "|||"&$A21, (VLOOKUP(Nutrients_from_current_land_use!$B$5,Value_look_up_tables!$A$127:$B$127,2,FALSE)&"|"&$A21&"|"&VLOOKUP(Nutrients_from_current_land_use!$B$8,Value_look_up_tables!$A$140:$B$141,2,FALSE)&"|"&VLOOKUP(Nutrients_from_current_land_use!$B$7,Value_look_up_tables!$A$101:$C$123,3,FALSE)&"|"&VLOOKUP($B$6,Value_look_up_tables!$A$131:$B$136,2,FALSE)))),Value_look_up_tables!$F$16:$H$97,2,FALSE), IFERROR(IFERROR($B21*VLOOKUP($A21&"|"&VLOOKUP(Nutrients_from_current_land_use!$B$8,Value_look_up_tables!$A$140:$B$141,2,FALSE)&"|"&VLOOKUP(Nutrients_from_current_land_use!$B$7,Value_look_up_tables!$A$101:$C$123,3,FALSE)&"|"&VLOOKUP($B$6,Value_look_up_tables!$A$131:$B$136,2,FALSE),Value_look_up_tables!$F$16:$H$97,2,FALSE),IFERROR($B21*VLOOKUP($A21&"|"&"TRUE"&"|"&VLOOKUP(Nutrients_from_current_land_use!$B$7,Value_look_up_tables!$A$101:$C$123,3,FALSE)&"|"&VLOOKUP($B$6,Value_look_up_tables!$A$131:$B$136,2,FALSE),Value_look_up_tables!$F$16:$H$97,2,FALSE),$B21*VLOOKUP($A21&"|"&VLOOKUP(Nutrients_from_current_land_use!$B$8,Value_look_up_tables!$A$140:$B$141,2,FALSE)&"|"&VLOOKUP(Nutrients_from_current_land_use!$B$7,Value_look_up_tables!$A$101:$C$123,3,FALSE)&"|"&"DrainedArGr",Value_look_up_tables!$F$16:$H$97,2,FALSE))),IFERROR($B21*VLOOKUP($A21&"|"&VLOOKUP(Nutrients_from_current_land_use!$B$7,Value_look_up_tables!$A$101:$C$123,3,FALSE),Value_look_up_tables!$I$16:$K$89,2,FALSE),$B21*VLOOKUP($A21,Value_look_up_tables!$B$16:$M$89,11,FALSE))))) -> 0 | D21: =IF(OR(ISBLANK($A21),ISBLANK($B21),ISBLANK($B$6),ISBLANK($B$7)),0,IFERROR($B21*VLOOKUP((IF(OR($A21="Residential urban land",$A21="Commercial/industrial urban land",$A21="Open urban land",$A21="Greenspace",$A21="Community food growing",$A21="Woodland",$A21="Shrub", $A21="Water"), "|||"&$A21, (VLOOKUP(Nutrients_from_current_land_use!$B$5,Value_look_up_tables!$A$127:$B$127,2,FALSE)&"|"&$A21&"|"&VLOOKUP(Nutrients_from_current_land_use!$B$8,Value_look_up_tables!$A$140:$B$141,2,FALSE)&"|"&VLOOKUP(Nutrients_from_current_land_use!$B$7,Value_look_up_tables!$A$101:$C$123,3,FALSE)&"|"&VLOOKUP($B$6,Value_look_up_tables!$A$131:$B$136,2,FALSE)))),Value_look_up_tables!$F$16:$H$97,3,FALSE), IFERROR(IFERROR($B21*VLOOKUP($A21&"|"&VLOOKUP(Nutrients_from_current_land_use!$B$8,Value_look_up_tables!$A$140:$B$141,2,FALSE)&"|"&VLOOKUP(Nutrients_from_current_land_use!$B$7,Value_look_up_tables!$A$101:$C$123,3,FALSE)&"|"&VLOOKUP($B$6,Value_look_up_tables!$A$131:$B$136,2,FALSE),Value_look_up_tables!$F$16:$H$97,3,FALSE),IFERROR($B21*VLOOKUP($A21&"|"&"TRUE"&"|"&VLOOKUP(Nutrients_from_current_land_use!$B$7,Value_look_up_tables!$A$101:$C$123,3,FALSE)&"|"&VLOOKUP($B$6,Value_look_up_tables!$A$131:$B$136,2,FALSE),Value_look_up_tables!$F$16:$H$97,3,FALSE),$B21*VLOOKUP($A21&"|"&VLOOKUP(Nutrients_from_current_land_use!$B$8,Value_look_up_tables!$A$140:$B$141,2,FALSE)&"|"&VLOOKUP(Nutrients_from_current_land_use!$B$7,Value_look_up_tables!$A$101:$C$123,3,FALSE)&"|"&"DrainedArGr",Value_look_up_tables!$F$16:$H$97,3,FALSE))),IFERROR($B21*VLOOKUP($A21&"|"&VLOOKUP(Nutrients_from_current_land_use!$B$7,Value_look_up_tables!$A$101:$C$123,3,FALSE),Value_look_up_tables!$I$16:$K$89,3,FALSE),$B21*VLOOKUP($A21,Value_look_up_tables!$B$16:$M$89,12,FALSE))))) -> 0 | E21: =IF(OR(ISBLANK($A21),ISBLANK($B21),ISBLANK($B$6),ISBLANK($B$5),ISBLANK($B$7),$A21="Residential urban land",$A21="Commercial/industrial urban land",$A21="Open urban land",$A21="Greenspace",$A21="Community food growing",$A21="Woodland",$A21="Shrub",$A21="Water"),"Not applicable",IF(ISNUMBER(IFERROR($B21*VLOOKUP((IF(OR($A21="Residential urban land",$A21="Commercial/industrial urban land",$A21="Open urban land",$A21="Greenspace",$A21="Community food growing",$A21="Woodland",$A21="Shrub",$A21="Water"),"|||"&$A21,(VLOOKUP(Nutrients_from_current_land_use!$B$5,Value_look_up_tables!$A$127:$B$127,2,FALSE)&"|"&$A21&"|"&VLOOKUP(Nutrients_from_current_land_use!$B$8,Value_look_up_tables!$A$140:$B$141,2,FALSE)&"|"&VLOOKUP(Nutrients_from_current_land_use!$B$7, Value_look_up_tables!$A$101:$C$123,3,FALSE)&"|"&VLOOKUP($B$6,Value_look_up_tables!$A$131:$B$136,2,FALSE)))), Value_look_up_tables!$F$16:$H$89,3,FALSE),IFERROR($B21*VLOOKUP($A21&"|"&VLOOKUP(Nutrients_from_current_land_use!$B$8,Value_look_up_tables!$A$140:$B$141,2,FALSE)&"|"&VLOOKUP(Nutrients_from_current_land_use!$B$7, Value_look_up_tables!$A$101:$C$123,3,FALSE)&"|"&VLOOKUP($B$6,Value_look_up_tables!$A$131:$B$136,2,FALSE),Value_look_up_tables!$F$16:$H$89,3,FALSE),"In the absence of real world data, this figure has been generated using the most relevant average nutrient export coefficient."))),"Not applicable","In the absence of real world data, this figure has been generated using the most relevant average nutrient export coefficient.")) -> Not applicable
C22: =IF(OR(ISBLANK($A22),ISBLANK($B22),ISBLANK($B$6),ISBLANK($B$7)),0,IFERROR($B22*VLOOKUP((IF(OR($A22="Residential urban land",$A22="Commercial/industrial urban land",$A22="Open urban land",$A22="Greenspace",$A22="Community food growing",$A22="Woodland",$A22="Shrub", $A22="Water"), "|||"&$A22, (VLOOKUP(Nutrients_from_current_land_use!$B$5,Value_look_up_tables!$A$127:$B$127,2,FALSE)&"|"&$A22&"|"&VLOOKUP(Nutrients_from_current_land_use!$B$8,Value_look_up_tables!$A$140:$B$141,2,FALSE)&"|"&VLOOKUP(Nutrients_from_current_land_use!$B$7,Value_look_up_tables!$A$101:$C$123,3,FALSE)&"|"&VLOOKUP($B$6,Value_look_up_tables!$A$131:$B$136,2,FALSE)))),Value_look_up_tables!$F$16:$H$97,2,FALSE), IFERROR(IFERROR($B22*VLOOKUP($A22&"|"&VLOOKUP(Nutrients_from_current_land_use!$B$8,Value_look_up_tables!$A$140:$B$141,2,FALSE)&"|"&VLOOKUP(Nutrients_from_current_land_use!$B$7,Value_look_up_tables!$A$101:$C$123,3,FALSE)&"|"&VLOOKUP($B$6,Value_look_up_tables!$A$131:$B$136,2,FALSE),Value_look_up_tables!$F$16:$H$97,2,FALSE),IFERROR($B22*VLOOKUP($A22&"|"&"TRUE"&"|"&VLOOKUP(Nutrients_from_current_land_use!$B$7,Value_look_up_tables!$A$101:$C$123,3,FALSE)&"|"&VLOOKUP($B$6,Value_look_up_tables!$A$131:$B$136,2,FALSE),Value_look_up_tables!$F$16:$H$97,2,FALSE),$B22*VLOOKUP($A22&"|"&VLOOKUP(Nutrients_from_current_land_use!$B$8,Value_look_up_tables!$A$140:$B$141,2,FALSE)&"|"&VLOOKUP(Nutrients_from_current_land_use!$B$7,Value_look_up_tables!$A$101:$C$123,3,FALSE)&"|"&"DrainedArGr",Value_look_up_tables!$F$16:$H$97,2,FALSE))),IFERROR($B22*VLOOKUP($A22&"|"&VLOOKUP(Nutrients_from_current_land_use!$B$7,Value_look_up_tables!$A$101:$C$123,3,FALSE),Value_look_up_tables!$I$16:$K$89,2,FALSE),$B22*VLOOKUP($A22,Value_look_up_tables!$B$16:$M$89,11,FALSE))))) -> 0 | D22: =IF(OR(ISBLANK($A22),ISBLANK($B22),ISBLANK($B$6),ISBLANK($B$7)),0,IFERROR($B22*VLOOKUP((IF(OR($A22="Residential urban land",$A22="Commercial/industrial urban land",$A22="Open urban land",$A22="Greenspace",$A22="Community food growing",$A22="Woodland",$A22="Shrub", $A22="Water"), "|||"&$A22, (VLOOKUP(Nutrients_from_current_land_use!$B$5,Value_look_up_tables!$A$127:$B$127,2,FALSE)&"|"&$A22&"|"&VLOOKUP(Nutrients_from_current_land_use!$B$8,Value_look_up_tables!$A$140:$B$141,2,FALSE)&"|"&VLOOKUP(Nutrients_from_current_land_use!$B$7,Value_look_up_tables!$A$101:$C$123,3,FALSE)&"|"&VLOOKUP($B$6,Value_look_up_tables!$A$131:$B$136,2,FALSE)))),Value_look_up_tables!$F$16:$H$97,3,FALSE), IFERROR(IFERROR($B22*VLOOKUP($A22&"|"&VLOOKUP(Nutrients_from_current_land_use!$B$8,Value_look_up_tables!$A$140:$B$141,2,FALSE)&"|"&VLOOKUP(Nutrients_from_current_land_use!$B$7,Value_look_up_tables!$A$101:$C$123,3,FALSE)&"|"&VLOOKUP($B$6,Value_look_up_tables!$A$131:$B$136,2,FALSE),Value_look_up_tables!$F$16:$H$97,3,FALSE),IFERROR($B22*VLOOKUP($A22&"|"&"TRUE"&"|"&VLOOKUP(Nutrients_from_current_land_use!$B$7,Value_look_up_tables!$A$101:$C$123,3,FALSE)&"|"&VLOOKUP($B$6,Value_look_up_tables!$A$131:$B$136,2,FALSE),Value_look_up_tables!$F$16:$H$97,3,FALSE),$B22*VLOOKUP($A22&"|"&VLOOKUP(Nutrients_from_current_land_use!$B$8,Value_look_up_tables!$A$140:$B$141,2,FALSE)&"|"&VLOOKUP(Nutrients_from_current_land_use!$B$7,Value_look_up_tables!$A$101:$C$123,3,FALSE)&"|"&"DrainedArGr",Value_look_up_tables!$F$16:$H$97,3,FALSE))),IFERROR($B22*VLOOKUP($A22&"|"&VLOOKUP(Nutrients_from_current_land_use!$B$7,Value_look_up_tables!$A$101:$C$123,3,FALSE),Value_look_up_tables!$I$16:$K$89,3,FALSE),$B22*VLOOKUP($A22,Value_look_up_tables!$B$16:$M$89,12,FALSE))))) -> 0 | E22: =IF(OR(ISBLANK($A22),ISBLANK($B22),ISBLANK($B$6),ISBLANK($B$5),ISBLANK($B$7),$A22="Residential urban land",$A22="Commercial/industrial urban land",$A22="Open urban land",$A22="Greenspace",$A22="Community food growing",$A22="Woodland",$A22="Shrub",$A22="Water"),"Not applicable",IF(ISNUMBER(IFERROR($B22*VLOOKUP((IF(OR($A22="Residential urban land",$A22="Commercial/industrial urban land",$A22="Open urban land",$A22="Greenspace",$A22="Community food growing",$A22="Woodland",$A22="Shrub",$A22="Water"),"|||"&$A22,(VLOOKUP(Nutrients_from_current_land_use!$B$5,Value_look_up_tables!$A$127:$B$127,2,FALSE)&"|"&$A22&"|"&VLOOKUP(Nutrients_from_current_land_use!$B$8,Value_look_up_tables!$A$140:$B$141,2,FALSE)&"|"&VLOOKUP(Nutrients_from_current_land_use!$B$7, Value_look_up_tables!$A$101:$C$123,3,FALSE)&"|"&VLOOKUP($B$6,Value_look_up_tables!$A$131:$B$136,2,FALSE)))), Value_look_up_tables!$F$16:$H$89,3,FALSE),IFERROR($B22*VLOOKUP($A22&"|"&VLOOKUP(Nutrients_from_current_land_use!$B$8,Value_look_up_tables!$A$140:$B$141,2,FALSE)&"|"&VLOOKUP(Nutrients_from_current_land_use!$B$7, Value_look_up_tables!$A$101:$C$123,3,FALSE)&"|"&VLOOKUP($B$6,Value_look_up_tables!$A$131:$B$136,2,FALSE),Value_look_up_tables!$F$16:$H$89,3,FALSE),"In the absence of real world data, this figure has been generated using the most relevant average nutrient export coefficient."))),"Not applicable","In the absence of real world data, this figure has been generated using the most relevant average nutrient export coefficient.")) -> Not applicable
C23: =IF(OR(ISBLANK($A23),ISBLANK($B23),ISBLANK($B$6),ISBLANK($B$7)),0,IFERROR($B23*VLOOKUP((IF(OR($A23="Residential urban land",$A23="Commercial/industrial urban land",$A23="Open urban land",$A23="Greenspace",$A23="Community food growing",$A23="Woodland",$A23="Shrub", $A23="Water"), "|||"&$A23, (VLOOKUP(Nutrients_from_current_land_use!$B$5,Value_look_up_tables!$A$127:$B$127,2,FALSE)&"|"&$A23&"|"&VLOOKUP(Nutrients_from_current_land_use!$B$8,Value_look_up_tables!$A$140:$B$141,2,FALSE)&"|"&VLOOKUP(Nutrients_from_current_land_use!$B$7,Value_look_up_tables!$A$101:$C$123,3,FALSE)&"|"&VLOOKUP($B$6,Value_look_up_tables!$A$131:$B$136,2,FALSE)))),Value_look_up_tables!$F$16:$H$97,2,FALSE), IFERROR(IFERROR($B23*VLOOKUP($A23&"|"&VLOOKUP(Nutrients_from_current_land_use!$B$8,Value_look_up_tables!$A$140:$B$141,2,FALSE)&"|"&VLOOKUP(Nutrients_from_current_land_use!$B$7,Value_look_up_tables!$A$101:$C$123,3,FALSE)&"|"&VLOOKUP($B$6,Value_look_up_tables!$A$131:$B$136,2,FALSE),Value_look_up_tables!$F$16:$H$97,2,FALSE),IFERROR($B23*VLOOKUP($A23&"|"&"TRUE"&"|"&VLOOKUP(Nutrients_from_current_land_use!$B$7,Value_look_up_tables!$A$101:$C$123,3,FALSE)&"|"&VLOOKUP($B$6,Value_look_up_tables!$A$131:$B$136,2,FALSE),Value_look_up_tables!$F$16:$H$97,2,FALSE),$B23*VLOOKUP($A23&"|"&VLOOKUP(Nutrients_from_current_land_use!$B$8,Value_look_up_tables!$A$140:$B$141,2,FALSE)&"|"&VLOOKUP(Nutrients_from_current_land_use!$B$7,Value_look_up_tables!$A$101:$C$123,3,FALSE)&"|"&"DrainedArGr",Value_look_up_tables!$F$16:$H$97,2,FALSE))),IFERROR($B23*VLOOKUP($A23&"|"&VLOOKUP(Nutrients_from_current_land_use!$B$7,Value_look_up_tables!$A$101:$C$123,3,FALSE),Value_look_up_tables!$I$16:$K$89,2,FALSE),$B23*VLOOKUP($A23,Value_look_up_tables!$B$16:$M$89,11,FALSE))))) -> 0 | D23: =IF(OR(ISBLANK($A23),ISBLANK($B23),ISBLANK($B$6),ISBLANK($B$7)),0,IFERROR($B23*VLOOKUP((IF(OR($A23="Residential urban land",$A23="Commercial/industrial urban land",$A23="Open urban land",$A23="Greenspace",$A23="Community food growing",$A23="Woodland",$A23="Shrub", $A23="Water"), "|||"&$A23, (VLOOKUP(Nutrients_from_current_land_use!$B$5,Value_look_up_tables!$A$127:$B$127,2,FALSE)&"|"&$A23&"|"&VLOOKUP(Nutrients_from_current_land_use!$B$8,Value_look_up_tables!$A$140:$B$141,2,FALSE)&"|"&VLOOKUP(Nutrients_from_current_land_use!$B$7,Value_look_up_tables!$A$101:$C$123,3,FALSE)&"|"&VLOOKUP($B$6,Value_look_up_tables!$A$131:$B$136,2,FALSE)))),Value_look_up_tables!$F$16:$H$97,3,FALSE), IFERROR(IFERROR($B23*VLOOKUP($A23&"|"&VLOOKUP(Nutrients_from_current_land_use!$B$8,Value_look_up_tables!$A$140:$B$141,2,FALSE)&"|"&VLOOKUP(Nutrients_from_current_land_use!$B$7,Value_look_up_tables!$A$101:$C$123,3,FALSE)&"|"&VLOOKUP($B$6,Value_look_up_tables!$A$131:$B$136,2,FALSE),Value_look_up_tables!$F$16:$H$97,3,FALSE),IFERROR($B23*VLOOKUP($A23&"|"&"TRUE"&"|"&VLOOKUP(Nutrients_from_current_land_use!$B$7,Value_look_up_tables!$A$101:$C$123,3,FALSE)&"|"&VLOOKUP($B$6,Value_look_up_tables!$A$131:$B$136,2,FALSE),Value_look_up_tables!$F$16:$H$97,3,FALSE),$B23*VLOOKUP($A23&"|"&VLOOKUP(Nutrients_from_current_land_use!$B$8,Value_look_up_tables!$A$140:$B$141,2,FALSE)&"|"&VLOOKUP(Nutrients_from_current_land_use!$B$7,Value_look_up_tables!$A$101:$C$123,3,FALSE)&"|"&"DrainedArGr",Value_look_up_tables!$F$16:$H$97,3,FALSE))),IFERROR($B23*VLOOKUP($A23&"|"&VLOOKUP(Nutrients_from_current_land_use!$B$7,Value_look_up_tables!$A$101:$C$123,3,FALSE),Value_look_up_tables!$I$16:$K$89,3,FALSE),$B23*VLOOKUP($A23,Value_look_up_tables!$B$16:$M$89,12,FALSE))))) -> 0 | E23: =IF(OR(ISBLANK($A23),ISBLANK($B23),ISBLANK($B$6),ISBLANK($B$5),ISBLANK($B$7),$A23="Residential urban land",$A23="Commercial/industrial urban land",$A23="Open urban land",$A23="Greenspace",$A23="Community food growing",$A23="Woodland",$A23="Shrub",$A23="Water"),"Not applicable",IF(ISNUMBER(IFERROR($B23*VLOOKUP((IF(OR($A23="Residential urban land",$A23="Commercial/industrial urban land",$A23="Open urban land",$A23="Greenspace",$A23="Community food growing",$A23="Woodland",$A23="Shrub",$A23="Water"),"|||"&$A23,(VLOOKUP(Nutrients_from_current_land_use!$B$5,Value_look_up_tables!$A$127:$B$127,2,FALSE)&"|"&$A23&"|"&VLOOKUP(Nutrients_from_current_land_use!$B$8,Value_look_up_tables!$A$140:$B$141,2,FALSE)&"|"&VLOOKUP(Nutrients_from_current_land_use!$B$7, Value_look_up_tables!$A$101:$C$123,3,FALSE)&"|"&VLOOKUP($B$6,Value_look_up_tables!$A$131:$B$136,2,FALSE)))), Value_look_up_tables!$F$16:$H$89,3,FALSE),IFERROR($B23*VLOOKUP($A23&"|"&VLOOKUP(Nutrients_from_current_land_use!$B$8,Value_look_up_tables!$A$140:$B$141,2,FALSE)&"|"&VLOOKUP(Nutrients_from_current_land_use!$B$7, Value_look_up_tables!$A$101:$C$123,3,FALSE)&"|"&VLOOKUP($B$6,Value_look_up_tables!$A$131:$B$136,2,FALSE),Value_look_up_tables!$F$16:$H$89,3,FALSE),"In the absence of real world data, this figure has been generated using the most relevant average nutrient export coefficient."))),"Not applicable","In the absence of real world data, this figure has been generated using the most relevant average nutrient export coefficient.")) -> Not applicable
... C27: =IF(OR(ISBLANK($A27),ISBLANK($B27),ISBLANK($B$6),ISBLANK($B$7)),0,IFERROR($B27*VLOOKUP((IF(OR($A27="Residential urban land",$A27="Commercial/industrial urban land",$A27="Open urban land",$A27="Greenspace",$A27="Community food growing",$A27="Woodland",$A27="Shrub", $A27="Water"), "|||"&$A27, (VLOOKUP(Nutrients_from_current_land_use!$B$5,Value_look_up_tables!$A$127:$B$127,2,FALSE)&"|"&$A27&"|"&VLOOKUP(Nutrients_from_current_land_use!$B$8,Value_look_up_tables!$A$140:$B$141,2,FALSE)&"|"&VLOOKUP(Nutrients_from_current_land_use!$B$7,Value_look_up_tables!$A$101:$C$123,3,FALSE)&"|"&VLOOKUP($B$6,Value_look_up_tables!$A$131:$B$136,2,FALSE)))),Value_look_up_tables!$F$16:$H$97,2,FALSE), IFERROR(IFERROR($B27*VLOOKUP($A27&"|"&VLOOKUP(Nutrients_from_current_land_use!$B$8,Value_look_up_tables!$A$140:$B$141,2,FALSE)&"|"&VLOOKUP(Nutrients_from_current_land_use!$B$7,Value_look_up_tables!$A$101:$C$123,3,FALSE)&"|"&VLOOKUP($B$6,Value_look_up_tables!$A$131:$B$136,2,FALSE),Value_look_up_tables!$F$16:$H$97,2,FALSE),IFERROR($B27*VLOOKUP($A27&"|"&"TRUE"&"|"&VLOOKUP(Nutrients_from_current_land_use!$B$7,Value_look_up_tables!$A$101:$C$123,3,FALSE)&"|"&VLOOKUP($B$6,Value_look_up_tables!$A$131:$B$136,2,FALSE),Value_look_up_tables!$F$16:$H$97,2,FALSE),$B27*VLOOKUP($A27&"|"&VLOOKUP(Nutrients_from_current_land_use!$B$8,Value_look_up_tables!$A$140:$B$141,2,FALSE)&"|"&VLOOKUP(Nutrients_from_current_land_use!$B$7,Value_look_up_tables!$A$101:$C$123,3,FALSE)&"|"&"DrainedArGr",Value_look_up_tables!$F$16:$H$97,2,FALSE))),IFERROR($B27*VLOOKUP($A27&"|"&VLOOKUP(Nutrients_from_current_land_use!$B$7,Value_look_up_tables!$A$101:$C$123,3,FALSE),Value_look_up_tables!$I$16:$K$89,2,FALSE),$B27*VLOOKUP($A27,Value_look_up_tables!$B$16:$M$89,11,FALSE))))) -> 0 | D27: =IF(OR(ISBLANK($A27),ISBLANK($B27),ISBLANK($B$6),ISBLANK($B$7)),0,IFERROR($B27*VLOOKUP((IF(OR($A27="Residential urban land",$A27="Commercial/industrial urban land",$A27="Open urban land",$A27="Greenspace",$A27="Community food growing",$A27="Woodland",$A27="Shrub", $A27="Water"), "|||"&$A27, (VLOOKUP(Nutrients_from_current_land_use!$B$5,Value_look_up_tables!$A$127:$B$127,2,FALSE)&"|"&$A27&"|"&VLOOKUP(Nutrients_from_current_land_use!$B$8,Value_look_up_tables!$A$140:$B$141,2,FALSE)&"|"&VLOOKUP(Nutrients_from_current_land_use!$B$7,Value_look_up_tables!$A$101:$C$123,3,FALSE)&"|"&VLOOKUP($B$6,Value_look_up_tables!$A$131:$B$136,2,FALSE)))),Value_look_up_tables!$F$16:$H$97,3,FALSE), IFERROR(IFERROR($B27*VLOOKUP($A27&"|"&VLOOKUP(Nutrients_from_current_land_use!$B$8,Value_look_up_tables!$A$140:$B$141,2,FALSE)&"|"&VLOOKUP(Nutrients_from_current_land_use!$B$7,Value_look_up_tables!$A$101:$C$123,3,FALSE)&"|"&VLOOKUP($B$6,Value_look_up_tables!$A$131:$B$136,2,FALSE),Value_look_up_tables!$F$16:$H$97,3,FALSE),IFERROR($B27*VLOOKUP($A27&"|"&"TRUE"&"|"&VLOOKUP(Nutrients_from_current_land_use!$B$7,Value_look_up_tables!$A$101:$C$123,3,FALSE)&"|"&VLOOKUP($B$6,Value_look_up_tables!$A$131:$B$136,2,FALSE),Value_look_up_tables!$F$16:$H$97,3,FALSE),$B27*VLOOKUP($A27&"|"&VLOOKUP(Nutrients_from_current_land_use!$B$8,Value_look_up_tables!$A$140:$B$141,2,FALSE)&"|"&VLOOKUP(Nutrients_from_current_land_use!$B$7,Value_look_up_tables!$A$101:$C$123,3,FALSE)&"|"&"DrainedArGr",Value_look_up_tables!$F$16:$H$97,3,FALSE))),IFERROR($B27*VLOOKUP($A27&"|"&VLOOKUP(Nutrients_from_current_land_use!$B$7,Value_look_up_tables!$A$101:$C$123,3,FALSE),Value_look_up_tables!$I$16:$K$89,3,FALSE),$B27*VLOOKUP($A27,Value_look_up_tables!$B$16:$M$89,12,FALSE))))) -> 0 | E27: =IF(OR(ISBLANK($A27),ISBLANK($B27),ISBLANK($B$6),ISBLANK($B$5),ISBLANK($B$7),$A27="Residential urban land",$A27="Commercial/industrial urban land",$A27="Open urban land",$A27="Greenspace",$A27="Community food growing",$A27="Woodland",$A27="Shrub",$A27="Water"),"Not applicable",IF(ISNUMBER(IFERROR($B27*VLOOKUP((IF(OR($A27="Residential urban land",$A27="Commercial/industrial urban land",$A27="Open urban land",$A27="Greenspace",$A27="Community food growing",$A27="Woodland",$A27="Shrub",$A27="Water"),"|||"&$A27,(VLOOKUP(Nutrients_from_current_land_use!$B$5,Value_look_up_tables!$A$127:$B$127,2,FALSE)&"|"&$A27&"|"&VLOOKUP(Nutrients_from_current_land_use!$B$8,Value_look_up_tables!$A$140:$B$141,2,FALSE)&"|"&VLOOKUP(Nutrients_from_current_land_use!$B$7, Value_look_up_tables!$A$101:$C$123,3,FALSE)&"|"&VLOOKUP($B$6,Value_look_up_tables!$A$131:$B$136,2,FALSE)))), Value_look_up_tables!$F$16:$H$89,3,FALSE),IFERROR($B27*VLOOKUP($A27&"|"&VLOOKUP(Nutrients_from_current_land_use!$B$8,Value_look_up_tables!$A$140:$B$141,2,FALSE)&"|"&VLOOKUP(Nutrients_from_current_land_use!$B$7, Value_look_up_tables!$A$101:$C$123,3,FALSE)&"|"&VLOOKUP($B$6,Value_look_up_tables!$A$131:$B$136,2,FALSE),Value_look_up_tables!$F$16:$H$89,3,FALSE),"In the absence of real world data, this figure has been generated using the most relevant average nutrient export coefficient."))),"Not applicable","In the absence of real world data, this figure has been generated using the most relevant average nutrient export coefficient.")) -> Not applicable
A28: Totals: | B28: =SUM(B11:B27) -> 0.03 | C28: =SUM(C11:C27) -> 0.034052752 | D28: =SUM(D11:D27) -> 0.23113144

Sheet Nutrients_from_future_land_use
A1: Nutrients from future land use
A2: This sheet contains one table. Note: You will need to fill in cells A5 to A21 and B5 to B21. Cells B22, C5 to C22 and D5 to D22 are automatically generated calculations and will state '0.00' unless the user inputs have been entered. Row 22 is a Total Row. The Total Row states 'Totals:' in cell A22 and automatically calculates the total sum of cells B5 to B21 in cell B22, C5 to C21 in cell C22, and D5 to D21 in cell D22. How to fill in the table 'Future land uses' Cells A5-A21: Choose the future (post-development) land use type(s) of landcover present on the new site from the dropdown list Cells B5-B21: Enter the area in hectares of each land use type. The nutrient load from future land uses is shown in cells C5 to C21 for total phosphorus (TP) and in cells D5 to D21 for total nitrogen (TN). The total nutrient load from future land uses is shown in cell C22 for TP and D22 for TN.
A3: Future land uses
A4: New land use type(s) - user inputs required | B4: Area (ha) - user inputs required | C4: Annual phosphorus nutrient export (kg TP/yr) | D4: Annual nitrogen nutrient export (kg TN/yr)
A5: Residential urban land | B5: 0.03 | C5: =IFERROR(IF(OR(ISBLANK(A5),ISBLANK(B5)),0,B5*VLOOKUP((IF(OR(A5="Residential urban land",A5="Commercial/industrial urban land",A5="Open urban land",A5="Greenspace",A5="Community food growing",A5="Woodland",A5="Shrub", A5="Water"), "|||"&A5, (VLOOKUP(Nutrients_from_current_land_use!$B$5,Value_look_up_tables!$A$127:$B$127,2,FALSE)&"|"&A5&"|"&VLOOKUP(Nutrients_from_current_land_use!$B$8,Value_look_up_tables!$A$140:$B$141,2,FALSE)&"|"&VLOOKUP(Nutrients_from_current_land_use!$B$7,Value_look_up_tables!$A$101:$C$123,3,FALSE)&"|"&VLOOKUP(Nutrients_from_current_land_use!$B$6,Value_look_up_tables!$A$131:$B$136,2,FALSE)))),Value_look_up_tables!$F$16:$H$97,2,FALSE)),0) -> 0.046538761 | D5: =IFERROR(IF(OR(ISBLANK(A5),ISBLANK(B5)),0,B5*VLOOKUP((IF(OR(A5="Residential urban land",A5="Commercial/industrial urban land",A5="Open urban land",A5="Greenspace",A5="Community food growing",A5="Woodland",A5="Shrub", A5="Water"), "|||"&A5, (VLOOKUP(Nutrients_from_current_land_use!$B$5,Value_look_up_tables!$A$127:$B$127,2,FALSE)&"|"&A5&"|"&VLOOKUP(Nutrients_from_current_land_use!$B$8,Value_look_up_tables!$A$140:$B$141,2,FALSE)&"|"&VLOOKUP(Nutrients_from_current_land_use!$B$7,Value_look_up_tables!$A$101:$C$123,3,FALSE)&"|"&VLOOKUP(Nutrients_from_current_land_use!$B$6,Value_look_up_tables!$A$131:$B$136,2,FALSE)))),Value_look_up_tables!$F$16:$H$97,3,FALSE)),0) -> 0.43337146
C6: =IFERROR(IF(OR(ISBLANK(A6),ISBLANK(B6)),0,B6*VLOOKUP((IF(OR(A6="Residential urban land",A6="Commercial/industrial urban land",A6="Open urban land",A6="Greenspace",A6="Community food growing",A6="Woodland",A6="Shrub", A6="Water"), "|||"&A6, (VLOOKUP(Nutrients_from_current_land_use!$B$5,Value_look_up_tables!$A$127:$B$127,2,FALSE)&"|"&A6&"|"&VLOOKUP(Nutrients_from_current_land_use!$B$8,Value_look_up_tables!$A$140:$B$141,2,FALSE)&"|"&VLOOKUP(Nutrients_from_current_land_use!$B$7,Value_look_up_tables!$A$101:$C$123,3,FALSE)&"|"&VLOOKUP(Nutrients_from_current_land_use!$B$6,Value_look_up_tables!$A$131:$B$136,2,FALSE)))),Value_look_up_tables!$F$16:$H$97,2,FALSE)),0) -> 0 | D6: =IFERROR(IF(OR(ISBLANK(A6),ISBLANK(B6)),0,B6*VLOOKUP((IF(OR(A6="Residential urban land",A6="Commercial/industrial urban land",A6="Open urban land",A6="Greenspace",A6="Community food growing",A6="Woodland",A6="Shrub", A6="Water"), "|||"&A6, (VLOOKUP(Nutrients_from_current_land_use!$B$5,Value_look_up_tables!$A$127:$B$127,2,FALSE)&"|"&A6&"|"&VLOOKUP(Nutrients_from_current_land_use!$B$8,Value_look_up_tables!$A$140:$B$141,2,FALSE)&"|"&VLOOKUP(Nutrients_from_current_land_use!$B$7,Value_look_up_tables!$A$101:$C$123,3,FALSE)&"|"&VLOOKUP(Nutrients_from_current_land_use!$B$6,Value_look_up_tables!$A$131:$B$136,2,FALSE)))),Value_look_up_tables!$F$16:$H$97,3,FALSE)),0) -> 0
C7: =IFERROR(IF(OR(ISBLANK(A7),ISBLANK(B7)),0,B7*VLOOKUP((IF(OR(A7="Residential urban land",A7="Commercial/industrial urban land",A7="Open urban land",A7="Greenspace",A7="Community food growing",A7="Woodland",A7="Shrub", A7="Water"), "|||"&A7, (VLOOKUP(Nutrients_from_current_land_use!$B$5,Value_look_up_tables!$A$127:$B$127,2,FALSE)&"|"&A7&"|"&VLOOKUP(Nutrients_from_current_land_use!$B$8,Value_look_up_tables!$A$140:$B$141,2,FALSE)&"|"&VLOOKUP(Nutrients_from_current_land_use!$B$7,Value_look_up_tables!$A$101:$C$123,3,FALSE)&"|"&VLOOKUP(Nutrients_from_current_land_use!$B$6,Value_look_up_tables!$A$131:$B$136,2,FALSE)))),Value_look_up_tables!$F$16:$H$97,2,FALSE)),0) -> 0 | D7: =IFERROR(IF(OR(ISBLANK(A7),ISBLANK(B7)),0,B7*VLOOKUP((IF(OR(A7="Residential urban land",A7="Commercial/industrial urban land",A7="Open urban land",A7="Greenspace",A7="Community food growing",A7="Woodland",A7="Shrub", A7="Water"), "|||"&A7, (VLOOKUP(Nutrients_from_current_land_use!$B$5,Value_look_up_tables!$A$127:$B$127,2,FALSE)&"|"&A7&"|"&VLOOKUP(Nutrients_from_current_land_use!$B$8,Value_look_up_tables!$A$140:$B$141,2,FALSE)&"|"&VLOOKUP(Nutrients_from_current_land_use!$B$7,Value_look_up_tables!$A$101:$C$123,3,FALSE)&"|"&VLOOKUP(Nutrients_from_current_land_use!$B$6,Value_look_up_tables!$A$131:$B$136,2,FALSE)))),Value_look_up_tables!$F$16:$H$97,3,FALSE)),0) -> 0
C8: =IFERROR(IF(OR(ISBLANK(A8),ISBLANK(B8)),0,B8*VLOOKUP((IF(OR(A8="Residential urban land",A8="Commercial/industrial urban land",A8="Open urban land",A8="Greenspace",A8="Community food growing",A8="Woodland",A8="Shrub", A8="Water"), "|||"&A8, (VLOOKUP(Nutrients_from_current_land_use!$B$5,Value_look_up_tables!$A$127:$B$127,2,FALSE)&"|"&A8&"|"&VLOOKUP(Nutrients_from_current_land_use!$B$8,Value_look_up_tables!$A$140:$B$141,2,FALSE)&"|"&VLOOKUP(Nutrients_from_current_land_use!$B$7,Value_look_up_tables!$A$101:$C$123,3,FALSE)&"|"&VLOOKUP(Nutrients_from_current_land_use!$B$6,Value_look_up_tables!$A$131:$B$136,2,FALSE)))),Value_look_up_tables!$F$16:$H$97,2,FALSE)),0) -> 0 | D8: =IFERROR(IF(OR(ISBLANK(A8),ISBLANK(B8)),0,B8*VLOOKUP((IF(OR(A8="Residential urban land",A8="Commercial/industrial urban land",A8="Open urban land",A8="Greenspace",A8="Community food growing",A8="Woodland",A8="Shrub", A8="Water"), "|||"&A8, (VLOOKUP(Nutrients_from_current_land_use!$B$5,Value_look_up_tables!$A$127:$B$127,2,FALSE)&"|"&A8&"|"&VLOOKUP(Nutrients_from_current_land_use!$B$8,Value_look_up_tables!$A$140:$B$141,2,FALSE)&"|"&VLOOKUP(Nutrients_from_current_land_use!$B$7,Value_look_up_tables!$A$101:$C$123,3,FALSE)&"|"&VLOOKUP(Nutrients_from_current_land_use!$B$6,Value_look_up_tables!$A$131:$B$136,2,FALSE)))),Value_look_up_tables!$F$16:$H$97,3,FALSE)),0) -> 0
C9: =IFERROR(IF(OR(ISBLANK(A9),ISBLANK(B9)),0,B9*VLOOKUP((IF(OR(A9="Residential urban land",A9="Commercial/industrial urban land",A9="Open urban land",A9="Greenspace",A9="Community food growing",A9="Woodland",A9="Shrub", A9="Water"), "|||"&A9, (VLOOKUP(Nutrients_from_current_land_use!$B$5,Value_look_up_tables!$A$127:$B$127,2,FALSE)&"|"&A9&"|"&VLOOKUP(Nutrients_from_current_land_use!$B$8,Value_look_up_tables!$A$140:$B$141,2,FALSE)&"|"&VLOOKUP(Nutrients_from_current_land_use!$B$7,Value_look_up_tables!$A$101:$C$123,3,FALSE)&"|"&VLOOKUP(Nutrients_from_current_land_use!$B$6,Value_look_up_tables!$A$131:$B$136,2,FALSE)))),Value_look_up_tables!$F$16:$H$97,2,FALSE)),0) -> 0 | D9: =IFERROR(IF(OR(ISBLANK(A9),ISBLANK(B9)),0,B9*VLOOKUP((IF(OR(A9="Residential urban land",A9="Commercial/industrial urban land",A9="Open urban land",A9="Greenspace",A9="Community food growing",A9="Woodland",A9="Shrub", A9="Water"), "|||"&A9, (VLOOKUP(Nutrients_from_current_land_use!$B$5,Value_look_up_tables!$A$127:$B$127,2,FALSE)&"|"&A9&"|"&VLOOKUP(Nutrients_from_current_land_use!$B$8,Value_look_up_tables!$A$140:$B$141,2,FALSE)&"|"&VLOOKUP(Nutrients_from_current_land_use!$B$7,Value_look_up_tables!$A$101:$C$123,3,FALSE)&"|"&VLOOKUP(Nutrients_from_current_land_use!$B$6,Value_look_up_tables!$A$131:$B$136,2,FALSE)))),Value_look_up_tables!$F$16:$H$97,3,FALSE)),0) -> 0
C10: =IFERROR(IF(OR(ISBLANK(A10),ISBLANK(B10)),0,B10*VLOOKUP((IF(OR(A10="Residential urban land",A10="Commercial/industrial urban land",A10="Open urban land",A10="Greenspace",A10="Community food growing",A10="Woodland",A10="Shrub", A10="Water"), "|||"&A10, (VLOOKUP(Nutrients_from_current_land_use!$B$5,Value_look_up_tables!$A$127:$B$127,2,FALSE)&"|"&A10&"|"&VLOOKUP(Nutrients_from_current_land_use!$B$8,Value_look_up_tables!$A$140:$B$141,2,FALSE)&"|"&VLOOKUP(Nutrients_from_current_land_use!$B$7,Value_look_up_tables!$A$101:$C$123,3,FALSE)&"|"&VLOOKUP(Nutrients_from_current_land_use!$B$6,Value_look_up_tables!$A$131:$B$136,2,FALSE)))),Value_look_up_tables!$F$16:$H$97,2,FALSE)),0) -> 0 | D10: =IFERROR(IF(OR(ISBLANK(A10),ISBLANK(B10)),0,B10*VLOOKUP((IF(OR(A10="Residential urban land",A10="Commercial/industrial urban land",A10="Open urban land",A10="Greenspace",A10="Community food growing",A10="Woodland",A10="Shrub", A10="Water"), "|||"&A10, (VLOOKUP(Nutrients_from_current_land_use!$B$5,Value_look_up_tables!$A$127:$B$127,2,FALSE)&"|"&A10&"|"&VLOOKUP(Nutrients_from_current_land_use!$B$8,Value_look_up_tables!$A$140:$B$141,2,FALSE)&"|"&VLOOKUP(Nutrients_from_current_land_use!$B$7,Value_look_up_tables!$A$101:$C$123,3,FALSE)&"|"&VLOOKUP(Nutrients_from_current_land_use!$B$6,Value_look_up_tables!$A$131:$B$136,2,FALSE)))),Value_look_up_tables!$F$16:$H$97,3,FALSE)),0) -> 0
C11: =IFERROR(IF(OR(ISBLANK(A11),ISBLANK(B11)),0,B11*VLOOKUP((IF(OR(A11="Residential urban land",A11="Commercial/industrial urban land",A11="Open urban land",A11="Greenspace",A11="Community food growing",A11="Woodland",A11="Shrub", A11="Water"), "|||"&A11, (VLOOKUP(Nutrients_from_current_land_use!$B$5,Value_look_up_tables!$A$127:$B$127,2,FALSE)&"|"&A11&"|"&VLOOKUP(Nutrients_from_current_land_use!$B$8,Value_look_up_tables!$A$140:$B$141,2,FALSE)&"|"&VLOOKUP(Nutrients_from_current_land_use!$B$7,Value_look_up_tables!$A$101:$C$123,3,FALSE)&"|"&VLOOKUP(Nutrients_from_current_land_use!$B$6,Value_look_up_tables!$A$131:$B$136,2,FALSE)))),Value_look_up_tables!$F$16:$H$97,2,FALSE)),0) -> 0 | D11: =IFERROR(IF(OR(ISBLANK(A11),ISBLANK(B11)),0,B11*VLOOKUP((IF(OR(A11="Residential urban land",A11="Commercial/industrial urban land",A11="Open urban land",A11="Greenspace",A11="Community food growing",A11="Woodland",A11="Shrub", A11="Water"), "|||"&A11, (VLOOKUP(Nutrients_from_current_land_use!$B$5,Value_look_up_tables!$A$127:$B$127,2,FALSE)&"|"&A11&"|"&VLOOKUP(Nutrients_from_current_land_use!$B$8,Value_look_up_tables!$A$140:$B$141,2,FALSE)&"|"&VLOOKUP(Nutrients_from_current_land_use!$B$7,Value_look_up_tables!$A$101:$C$123,3,FALSE)&"|"&VLOOKUP(Nutrients_from_current_land_use!$B$6,Value_look_up_tables!$A$131:$B$136,2,FALSE)))),Value_look_up_tables!$F$16:$H$97,3,FALSE)),0) -> 0
C12: =IFERROR(IF(OR(ISBLANK(A12),ISBLANK(B12)),0,B12*VLOOKUP((IF(OR(A12="Residential urban land",A12="Commercial/industrial urban land",A12="Open urban land",A12="Greenspace",A12="Community food growing",A12="Woodland",A12="Shrub", A12="Water"), "|||"&A12, (VLOOKUP(Nutrients_from_current_land_use!$B$5,Value_look_up_tables!$A$127:$B$127,2,FALSE)&"|"&A12&"|"&VLOOKUP(Nutrients_from_current_land_use!$B$8,Value_look_up_tables!$A$140:$B$141,2,FALSE)&"|"&VLOOKUP(Nutrients_from_current_land_use!$B$7,Value_look_up_tables!$A$101:$C$123,3,FALSE)&"|"&VLOOKUP(Nutrients_from_current_land_use!$B$6,Value_look_up_tables!$A$131:$B$136,2,FALSE)))),Value_look_up_tables!$F$16:$H$97,2,FALSE)),0) -> 0 | D12: =IFERROR(IF(OR(ISBLANK(A12),ISBLANK(B12)),0,B12*VLOOKUP((IF(OR(A12="Residential urban land",A12="Commercial/industrial urban land",A12="Open urban land",A12="Greenspace",A12="Community food growing",A12="Woodland",A12="Shrub", A12="Water"), "|||"&A12, (VLOOKUP(Nutrients_from_current_land_use!$B$5,Value_look_up_tables!$A$127:$B$127,2,FALSE)&"|"&A12&"|"&VLOOKUP(Nutrients_from_current_land_use!$B$8,Value_look_up_tables!$A$140:$B$141,2,FALSE)&"|"&VLOOKUP(Nutrients_from_current_land_use!$B$7,Value_look_up_tables!$A$101:$C$123,3,FALSE)&"|"&VLOOKUP(Nutrients_from_current_land_use!$B$6,Value_look_up_tables!$A$131:$B$136,2,FALSE)))),Value_look_up_tables!$F$16:$H$97,3,FALSE)),0) -> 0
C13: =IFERROR(IF(OR(ISBLANK(A13),ISBLANK(B13)),0,B13*VLOOKUP((IF(OR(A13="Residential urban land",A13="Commercial/industrial urban land",A13="Open urban land",A13="Greenspace",A13="Community food growing",A13="Woodland",A13="Shrub", A13="Water"), "|||"&A13, (VLOOKUP(Nutrients_from_current_land_use!$B$5,Value_look_up_tables!$A$127:$B$127,2,FALSE)&"|"&A13&"|"&VLOOKUP(Nutrients_from_current_land_use!$B$8,Value_look_up_tables!$A$140:$B$141,2,FALSE)&"|"&VLOOKUP(Nutrients_from_current_land_use!$B$7,Value_look_up_tables!$A$101:$C$123,3,FALSE)&"|"&VLOOKUP(Nutrients_from_current_land_use!$B$6,Value_look_up_tables!$A$131:$B$136,2,FALSE)))),Value_look_up_tables!$F$16:$H$97,2,FALSE)),0) -> 0 | D13: =IFERROR(IF(OR(ISBLANK(A13),ISBLANK(B13)),0,B13*VLOOKUP((IF(OR(A13="Residential urban land",A13="Commercial/industrial urban land",A13="Open urban land",A13="Greenspace",A13="Community food growing",A13="Woodland",A13="Shrub", A13="Water"), "|||"&A13, (VLOOKUP(Nutrients_from_current_land_use!$B$5,Value_look_up_tables!$A$127:$B$127,2,FALSE)&"|"&A13&"|"&VLOOKUP(Nutrients_from_current_land_use!$B$8,Value_look_up_tables!$A$140:$B$141,2,FALSE)&"|"&VLOOKUP(Nutrients_from_current_land_use!$B$7,Value_look_up_tables!$A$101:$C$123,3,FALSE)&"|"&VLOOKUP(Nutrients_from_current_land_use!$B$6,Value_look_up_tables!$A$131:$B$136,2,FALSE)))),Value_look_up_tables!$F$16:$H$97,3,FALSE)),0) -> 0
C14: =IFERROR(IF(OR(ISBLANK(A14),ISBLANK(B14)),0,B14*VLOOKUP((IF(OR(A14="Residential urban land",A14="Commercial/industrial urban land",A14="Open urban land",A14="Greenspace",A14="Community food growing",A14="Woodland",A14="Shrub", A14="Water"), "|||"&A14, (VLOOKUP(Nutrients_from_current_land_use!$B$5,Value_look_up_tables!$A$127:$B$127,2,FALSE)&"|"&A14&"|"&VLOOKUP(Nutrients_from_current_land_use!$B$8,Value_look_up_tables!$A$140:$B$141,2,FALSE)&"|"&VLOOKUP(Nutrients_from_current_land_use!$B$7,Value_look_up_tables!$A$101:$C$123,3,FALSE)&"|"&VLOOKUP(Nutrients_from_current_land_use!$B$6,Value_look_up_tables!$A$131:$B$136,2,FALSE)))),Value_look_up_tables!$F$16:$H$97,2,FALSE)),0) -> 0 | D14: =IFERROR(IF(OR(ISBLANK(A14),ISBLANK(B14)),0,B14*VLOOKUP((IF(OR(A14="Residential urban land",A14="Commercial/industrial urban land",A14="Open urban land",A14="Greenspace",A14="Community food growing",A14="Woodland",A14="Shrub", A14="Water"), "|||"&A14, (VLOOKUP(Nutrients_from_current_land_use!$B$5,Value_look_up_tables!$A$127:$B$127,2,FALSE)&"|"&A14&"|"&VLOOKUP(Nutrients_from_current_land_use!$B$8,Value_look_up_tables!$A$140:$B$141,2,FALSE)&"|"&VLOOKUP(Nutrients_from_current_land_use!$B$7,Value_look_up_tables!$A$101:$C$123,3,FALSE)&"|"&VLOOKUP(Nutrients_from_current_land_use!$B$6,Value_look_up_tables!$A$131:$B$136,2,FALSE)))),Value_look_up_tables!$F$16:$H$97,3,FALSE)),0) -> 0
C15: =IFERROR(IF(OR(ISBLANK(A15),ISBLANK(B15)),0,B15*VLOOKUP((IF(OR(A15="Residential urban land",A15="Commercial/industrial urban land",A15="Open urban land",A15="Greenspace",A15="Community food growing",A15="Woodland",A15="Shrub", A15="Water"), "|||"&A15, (VLOOKUP(Nutrients_from_current_land_use!$B$5,Value_look_up_tables!$A$127:$B$127,2,FALSE)&"|"&A15&"|"&VLOOKUP(Nutrients_from_current_land_use!$B$8,Value_look_up_tables!$A$140:$B$141,2,FALSE)&"|"&VLOOKUP(Nutrients_from_current_land_use!$B$7,Value_look_up_tables!$A$101:$C$123,3,FALSE)&"|"&VLOOKUP(Nutrients_from_current_land_use!$B$6,Value_look_up_tables!$A$131:$B$136,2,FALSE)))),Value_look_up_tables!$F$16:$H$97,2,FALSE)),0) -> 0 | D15: =IFERROR(IF(OR(ISBLANK(A15),ISBLANK(B15)),0,B15*VLOOKUP((IF(OR(A15="Residential urban land",A15="Commercial/industrial urban land",A15="Open urban land",A15="Greenspace",A15="Community food growing",A15="Woodland",A15="Shrub", A15="Water"), "|||"&A15, (VLOOKUP(Nutrients_from_current_land_use!$B$5,Value_look_up_tables!$A$127:$B$127,2,FALSE)&"|"&A15&"|"&VLOOKUP(Nutrients_from_current_land_use!$B$8,Value_look_up_tables!$A$140:$B$141,2,FALSE)&"|"&VLOOKUP(Nutrients_from_current_land_use!$B$7,Value_look_up_tables!$A$101:$C$123,3,FALSE)&"|"&VLOOKUP(Nutrients_from_current_land_use!$B$6,Value_look_up_tables!$A$131:$B$136,2,FALSE)))),Value_look_up_tables!$F$16:$H$97,3,FALSE)),0) -> 0
C16: =IFERROR(IF(OR(ISBLANK(A16),ISBLANK(B16)),0,B16*VLOOKUP((IF(OR(A16="Residential urban land",A16="Commercial/industrial urban land",A16="Open urban land",A16="Greenspace",A16="Community food growing",A16="Woodland",A16="Shrub", A16="Water"), "|||"&A16, (VLOOKUP(Nutrients_from_current_land_use!$B$5,Value_look_up_tables!$A$127:$B$127,2,FALSE)&"|"&A16&"|"&VLOOKUP(Nutrients_from_current_land_use!$B$8,Value_look_up_tables!$A$140:$B$141,2,FALSE)&"|"&VLOOKUP(Nutrients_from_current_land_use!$B$7,Value_look_up_tables!$A$101:$C$123,3,FALSE)&"|"&VLOOKUP(Nutrients_from_current_land_use!$B$6,Value_look_up_tables!$A$131:$B$136,2,FALSE)))),Value_look_up_tables!$F$16:$H$97,2,FALSE)),0) -> 0 | D16: =IFERROR(IF(OR(ISBLANK(A16),ISBLANK(B16)),0,B16*VLOOKUP((IF(OR(A16="Residential urban land",A16="Commercial/industrial urban land",A16="Open urban land",A16="Greenspace",A16="Community food growing",A16="Woodland",A16="Shrub", A16="Water"), "|||"&A16, (VLOOKUP(Nutrients_from_current_land_use!$B$5,Value_look_up_tables!$A$127:$B$127,2,FALSE)&"|"&A16&"|"&VLOOKUP(Nutrients_from_current_land_use!$B$8,Value_look_up_tables!$A$140:$B$141,2,FALSE)&"|"&VLOOKUP(Nutrients_from_current_land_use!$B$7,Value_look_up_tables!$A$101:$C$123,3,FALSE)&"|"&VLOOKUP(Nutrients_from_current_land_use!$B$6,Value_look_up_tables!$A$131:$B$136,2,FALSE)))),Value_look_up_tables!$F$16:$H$97,3,FALSE)),0) -> 0
C17: =IFERROR(IF(OR(ISBLANK(A17),ISBLANK(B17)),0,B17*VLOOKUP((IF(OR(A17="Residential urban land",A17="Commercial/industrial urban land",A17="Open urban land",A17="Greenspace",A17="Community food growing",A17="Woodland",A17="Shrub", A17="Water"), "|||"&A17, (VLOOKUP(Nutrients_from_current_land_use!$B$5,Value_look_up_tables!$A$127:$B$127,2,FALSE)&"|"&A17&"|"&VLOOKUP(Nutrients_from_current_land_use!$B$8,Value_look_up_tables!$A$140:$B$141,2,FALSE)&"|"&VLOOKUP(Nutrients_from_current_land_use!$B$7,Value_look_up_tables!$A$101:$C$123,3,FALSE)&"|"&VLOOKUP(Nutrients_from_current_land_use!$B$6,Value_look_up_tables!$A$131:$B$136,2,FALSE)))),Value_look_up_tables!$F$16:$H$97,2,FALSE)),0) -> 0 | D17: =IFERROR(IF(OR(ISBLANK(A17),ISBLANK(B17)),0,B17*VLOOKUP((IF(OR(A17="Residential urban land",A17="Commercial/industrial urban land",A17="Open urban land",A17="Greenspace",A17="Community food growing",A17="Woodland",A17="Shrub", A17="Water"), "|||"&A17, (VLOOKUP(Nutrients_from_current_land_use!$B$5,Value_look_up_tables!$A$127:$B$127,2,FALSE)&"|"&A17&"|"&VLOOKUP(Nutrients_from_current_land_use!$B$8,Value_look_up_tables!$A$140:$B$141,2,FALSE)&"|"&VLOOKUP(Nutrients_from_current_land_use!$B$7,Value_look_up_tables!$A$101:$C$123,3,FALSE)&"|"&VLOOKUP(Nutrients_from_current_land_use!$B$6,Value_look_up_tables!$A$131:$B$136,2,FALSE)))),Value_look_up_tables!$F$16:$H$97,3,FALSE)),0) -> 0
... C21: =IFERROR(IF(OR(ISBLANK(A21),ISBLANK(B21)),0,B21*VLOOKUP((IF(OR(A21="Residential urban land",A21="Commercial/industrial urban land",A21="Open urban land",A21="Greenspace",A21="Community food growing",A21="Woodland",A21="Shrub", A21="Water"), "|||"&A21, (VLOOKUP(Nutrients_from_current_land_use!$B$5,Value_look_up_tables!$A$127:$B$127,2,FALSE)&"|"&A21&"|"&VLOOKUP(Nutrients_from_current_land_use!$B$8,Value_look_up_tables!$A$140:$B$141,2,FALSE)&"|"&VLOOKUP(Nutrients_from_current_land_use!$B$7,Value_look_up_tables!$A$101:$C$123,3,FALSE)&"|"&VLOOKUP(Nutrients_from_current_land_use!$B$6,Value_look_up_tables!$A$131:$B$136,2,FALSE)))),Value_look_up_tables!$F$16:$H$97,2,FALSE)),0) -> 0 | D21: =IFERROR(IF(OR(ISBLANK(A21),ISBLANK(B21)),0,B21*VLOOKUP((IF(OR(A21="Residential urban land",A21="Commercial/industrial urban land",A21="Open urban land",A21="Greenspace",A21="Community food growing",A21="Woodland",A21="Shrub", A21="Water"), "|||"&A21, (VLOOKUP(Nutrients_from_current_land_use!$B$5,Value_look_up_tables!$A$127:$B$127,2,FALSE)&"|"&A21&"|"&VLOOKUP(Nutrients_from_current_land_use!$B$8,Value_look_up_tables!$A$140:$B$141,2,FALSE)&"|"&VLOOKUP(Nutrients_from_current_land_use!$B$7,Value_look_up_tables!$A$101:$C$123,3,FALSE)&"|"&VLOOKUP(Nutrients_from_current_land_use!$B$6,Value_look_up_tables!$A$131:$B$136,2,FALSE)))),Value_look_up_tables!$F$16:$H$97,3,FALSE)),0) -> 0
A22: Totals: | B22: =SUM(B5:B21) -> 0.03 | C22: =SUM(C5:C21) -> 0.046538761 | D22: =SUM(D5:D21) -> 0.43337146

Sheet SuDS
A1: Nutrients from future land use after sustainable urban drainage system (SuDS) treatment
A2: This sheet contains one table. Note: You will need to fill in cells A5 to A29, cells B5 to B29, cells C5 to C29,cells F5 to F29, cells G5 to G29 and cells H5 to H29 if you are including SuDS to remove nutrients from the surface runoff. Cell B30, cells D5 to D30, cells E5 to E30, cells I5 to I30 and cells J5 to J30 are automatically calculated and will state '0.00' unless the user inputs have been entered. Cells K5 to K29 are automatically generated and will state 'Not applicable' unless the total area of the landcover entered is larger than the total area of the landcover entered into the worksheet 'Nutrients_from_future_land_use'. Row 30 is a Total Row. The Total Row states 'Totals:' in cell A30 and automatically calculates the total sum of cells B5 to B29 in cell B30, cells D5 to D29 in cell D30, cells E5 to E29 in cell E30, cells I5 to I29 in cells I30, and cells J5 to J29 in cell J30. Cell C30, cell F30, cell G30, cell H30 and cell K30 are intentionally blank. How to fill in the table 'Suds information' Cells A5 to A29: Choose the future (post-development) land use type(s) of landcover present on the new site within the SuDS catchment area from the dropdown list. Only landcovers entered into the worksheet titled 'Nutrients_from_future_land_use' can be entered. Cells B5 to B29: Enter the area in hectares of each new land use type within the SuDS catchment area. Cells C5 to C29: Enter the percentage of the flow entering the SuDS feature. If all flow is being diverted to the SuDS feature then this value should be set to 100%. The annual total phosphorus (TP) and total nitrogen (TN) loads associated with the landcovers in the SuDS catchment area are automatically calculated in cells D5 to D29 and E5 to E29, respectively. Cells F5 to F29: Enter the name of the SuDS features used to intercept surface flows can be entered in. Any text can be entered into these cells. Cells G5 to G29: Enter the nutrient removal rates associated with the SuDS features for TP. Cells H5 to H29: Enter the nutrient removal rates associated with the SuDS features for TN. Values for columns G and H must be identified by the user and must be specific to the SuDS features being implemented. The annual TP and TN loads removed by the SuDS features are automatically calculated in cells I5-I29 for TP and J5-J29 for TN. These values are subtracted from the nutrient budget. You do not need to fill in column K 'Notes on data'. It will state 'Not applicable' unless the total area of each landcover within the SuDS catchment area exceeds the area of the landcovers entered into the worksheet titled 'Nutrients_from_future_land_use'. The total nutrient load removed through the SuDS features is shown in cell I30 for TP and J30 for TN.
A3: SuDS information
A4: New land use type(s) within SuDS catchment area - user inputs required | B4: SuDS catchment area (ha) - user inputs required | C4: Percentage of flow entering the SuDS (%) - user inputs required | D4: Annual phosphorus inputs to SuDS feature(s) (kg TP/yr) | E4: Annual nitrogen inputs to SuDS feature(s) (kg TN/yr) | F4: Name of SuDS feature(s) - user inputs required | G4: TP removal rate for features - user specified (%) - user inputs required | H4: TN removal rate for features - user specified (%) - user inputs required | I4: Annual phosphorus load removed by SuDS (kg TP/yr) | J4: Annual nitrogen load removed by SuDS (kg TP/yr) | K4: Notes on data
D5: =IFERROR(IF(ISBLANK(A5),0,IF(ISBLANK(B5),0,VLOOKUP(A5,Nutrients_from_future_land_use!$A$5:$D$21,3,FALSE)*(B5/VLOOKUP(A5,Nutrients_from_future_land_use!$A$5:$D$21,2,FALSE)))),0) -> 0 | E5: =IFERROR(IF(ISBLANK(A5),0,IF(ISBLANK(B5),0,VLOOKUP(A5,Nutrients_from_future_land_use!$A$5:$D$21,4,FALSE)*(B5/VLOOKUP(A5,Nutrients_from_future_land_use!$A$5:$D$21,2,FALSE)))),0) -> 0 | I5: =IFERROR(IF(OR(ISBLANK($A5),ISBLANK($B5),ISBLANK($G5)),0,$C5/100*D5*G5/100),0) -> 0 | J5: =IFERROR(IF(OR(ISBLANK($A5),ISBLANK($B5),ISBLANK($H5)),0,$C5/100*E5*H5/100),0) -> 0 | K5: =IF(SUMIFS($B$5:$B$29,$A$5:$A$29,A5)>SUMIFS(Nutrients_from_future_land_use!$B$5:$B$21,Nutrients_from_future_land_use!$A$5:$A$21,A5),"Area of new land covers within SuDS catchment area exceeds the area of new land covers proposed","Not applicable") -> Not applicable
D6: =IFERROR(IF(ISBLANK(A6),0,IF(ISBLANK(B6),0,VLOOKUP(A6,Nutrients_from_future_land_use!$A$5:$D$21,3,FALSE)*(B6/VLOOKUP(A6,Nutrients_from_future_land_use!$A$5:$D$21,2,FALSE)))),0) -> 0 | E6: =IFERROR(IF(ISBLANK(A6),0,IF(ISBLANK(B6),0,VLOOKUP(A6,Nutrients_from_future_land_use!$A$5:$D$21,4,FALSE)*(B6/VLOOKUP(A6,Nutrients_from_future_land_use!$A$5:$D$21,2,FALSE)))),0) -> 0 | I6: =IFERROR(IF(OR(ISBLANK($A6),ISBLANK($B6),ISBLANK($G6)),0,$C6/100*D6*G6/100),0) -> 0 | J6: =IFERROR(IF(OR(ISBLANK($A6),ISBLANK($B6),ISBLANK($H6)),0,$C6/100*E6*H6/100),0) -> 0 | K6: =IF(SUMIFS($B$5:$B$29,$A$5:$A$29,A6)>SUMIFS(Nutrients_from_future_land_use!$B$5:$B$21,Nutrients_from_future_land_use!$A$5:$A$21,A6),"Area of new land covers within SuDS catchment area exceeds the area of new land covers proposed","Not applicable") -> Not applicable
D7: =IFERROR(IF(ISBLANK(A7),0,IF(ISBLANK(B7),0,VLOOKUP(A7,Nutrients_from_future_land_use!$A$5:$D$21,3,FALSE)*(B7/VLOOKUP(A7,Nutrients_from_future_land_use!$A$5:$D$21,2,FALSE)))),0) -> 0 | E7: =IFERROR(IF(ISBLANK(A7),0,IF(ISBLANK(B7),0,VLOOKUP(A7,Nutrients_from_future_land_use!$A$5:$D$21,4,FALSE)*(B7/VLOOKUP(A7,Nutrients_from_future_land_use!$A$5:$D$21,2,FALSE)))),0) -> 0 | I7: =IFERROR(IF(OR(ISBLANK($A7),ISBLANK($B7),ISBLANK($G7)),0,$C7/100*D7*G7/100),0) -> 0 | J7: =IFERROR(IF(OR(ISBLANK($A7),ISBLANK($B7),ISBLANK($H7)),0,$C7/100*E7*H7/100),0) -> 0 | K7: =IF(SUMIFS($B$5:$B$29,$A$5:$A$29,A7)>SUMIFS(Nutrients_from_future_land_use!$B$5:$B$21,Nutrients_from_future_land_use!$A$5:$A$21,A7),"Area of new land covers within SuDS catchment area exceeds the area of new land covers proposed","Not applicable") -> Not applicable
D8: =IFERROR(IF(ISBLANK(A8),0,IF(ISBLANK(B8),0,VLOOKUP(A8,Nutrients_from_future_land_use!$A$5:$D$21,3,FALSE)*(B8/VLOOKUP(A8,Nutrients_from_future_land_use!$A$5:$D$21,2,FALSE)))),0) -> 0 | E8: =IFERROR(IF(ISBLANK(A8),0,IF(ISBLANK(B8),0,VLOOKUP(A8,Nutrients_from_future_land_use!$A$5:$D$21,4,FALSE)*(B8/VLOOKUP(A8,Nutrients_from_future_land_use!$A$5:$D$21,2,FALSE)))),0) -> 0 | I8: =IFERROR(IF(OR(ISBLANK($A8),ISBLANK($B8),ISBLANK($G8)),0,$C8/100*D8*G8/100),0) -> 0 | J8: =IFERROR(IF(OR(ISBLANK($A8),ISBLANK($B8),ISBLANK($H8)),0,$C8/100*E8*H8/100),0) -> 0 | K8: =IF(SUMIFS($B$5:$B$29,$A$5:$A$29,A8)>SUMIFS(Nutrients_from_future_land_use!$B$5:$B$21,Nutrients_from_future_land_use!$A$5:$A$21,A8),"Area of new land covers within SuDS catchment area exceeds the area of new land covers proposed","Not applicable") -> Not applicable
D9: =IFERROR(IF(ISBLANK(A9),0,IF(ISBLANK(B9),0,VLOOKUP(A9,Nutrients_from_future_land_use!$A$5:$D$21,3,FALSE)*(B9/VLOOKUP(A9,Nutrients_from_future_land_use!$A$5:$D$21,2,FALSE)))),0) -> 0 | E9: =IFERROR(IF(ISBLANK(A9),0,IF(ISBLANK(B9),0,VLOOKUP(A9,Nutrients_from_future_land_use!$A$5:$D$21,4,FALSE)*(B9/VLOOKUP(A9,Nutrients_from_future_land_use!$A$5:$D$21,2,FALSE)))),0) -> 0 | I9: =IFERROR(IF(OR(ISBLANK($A9),ISBLANK($B9),ISBLANK($G9)),0,$C9/100*D9*G9/100),0) -> 0 | J9: =IFERROR(IF(OR(ISBLANK($A9),ISBLANK($B9),ISBLANK($H9)),0,$C9/100*E9*H9/100),0) -> 0 | K9: =IF(SUMIFS($B$5:$B$29,$A$5:$A$29,A9)>SUMIFS(Nutrients_from_future_land_use!$B$5:$B$21,Nutrients_from_future_land_use!$A$5:$A$21,A9),"Area of new land covers within SuDS catchment area exceeds the area of new land covers proposed","Not applicable") -> Not applicable
D10: =IFERROR(IF(ISBLANK(A10),0,IF(ISBLANK(B10),0,VLOOKUP(A10,Nutrients_from_future_land_use!$A$5:$D$21,3,FALSE)*(B10/VLOOKUP(A10,Nutrients_from_future_land_use!$A$5:$D$21,2,FALSE)))),0) -> 0 | E10: =IFERROR(IF(ISBLANK(A10),0,IF(ISBLANK(B10),0,VLOOKUP(A10,Nutrients_from_future_land_use!$A$5:$D$21,4,FALSE)*(B10/VLOOKUP(A10,Nutrients_from_future_land_use!$A$5:$D$21,2,FALSE)))),0) -> 0 | I10: =IFERROR(IF(OR(ISBLANK($A10),ISBLANK($B10),ISBLANK($G10)),0,$C10/100*D10*G10/100),0) -> 0 | J10: =IFERROR(IF(OR(ISBLANK($A10),ISBLANK($B10),ISBLANK($H10)),0,$C10/100*E10*H10/100),0) -> 0 | K10: =IF(SUMIFS($B$5:$B$29,$A$5:$A$29,A10)>SUMIFS(Nutrients_from_future_land_use!$B$5:$B$21,Nutrients_from_future_land_use!$A$5:$A$21,A10),"Area of new land covers within SuDS catchment area exceeds the area of new land covers proposed","Not applicable") -> Not applicable
D11: =IFERROR(IF(ISBLANK(A11),0,IF(ISBLANK(B11),0,VLOOKUP(A11,Nutrients_from_future_land_use!$A$5:$D$21,3,FALSE)*(B11/VLOOKUP(A11,Nutrients_from_future_land_use!$A$5:$D$21,2,FALSE)))),0) -> 0 | E11: =IFERROR(IF(ISBLANK(A11),0,IF(ISBLANK(B11),0,VLOOKUP(A11,Nutrients_from_future_land_use!$A$5:$D$21,4,FALSE)*(B11/VLOOKUP(A11,Nutrients_from_future_land_use!$A$5:$D$21,2,FALSE)))),0) -> 0 | I11: =IFERROR(IF(OR(ISBLANK($A11),ISBLANK($B11),ISBLANK($G11)),0,$C11/100*D11*G11/100),0) -> 0 | J11: =IFERROR(IF(OR(ISBLANK($A11),ISBLANK($B11),ISBLANK($H11)),0,$C11/100*E11*H11/100),0) -> 0 | K11: =IF(SUMIFS($B$5:$B$29,$A$5:$A$29,A11)>SUMIFS(Nutrients_from_future_land_use!$B$5:$B$21,Nutrients_from_future_land_use!$A$5:$A$21,A11),"Area of new land covers within SuDS catchment area exceeds the area of new land covers proposed","Not applicable") -> Not applicable
D12: =IFERROR(IF(ISBLANK(A12),0,IF(ISBLANK(B12),0,VLOOKUP(A12,Nutrients_from_future_land_use!$A$5:$D$21,3,FALSE)*(B12/VLOOKUP(A12,Nutrients_from_future_land_use!$A$5:$D$21,2,FALSE)))),0) -> 0 | E12: =IFERROR(IF(ISBLANK(A12),0,IF(ISBLANK(B12),0,VLOOKUP(A12,Nutrients_from_future_land_use!$A$5:$D$21,4,FALSE)*(B12/VLOOKUP(A12,Nutrients_from_future_land_use!$A$5:$D$21,2,FALSE)))),0) -> 0 | I12: =IFERROR(IF(OR(ISBLANK($A12),ISBLANK($B12),ISBLANK($G12)),0,$C12/100*D12*G12/100),0) -> 0 | J12: =IFERROR(IF(OR(ISBLANK($A12),ISBLANK($B12),ISBLANK($H12)),0,$C12/100*E12*H12/100),0) -> 0 | K12: =IF(SUMIFS($B$5:$B$29,$A$5:$A$29,A12)>SUMIFS(Nutrients_from_future_land_use!$B$5:$B$21,Nutrients_from_future_land_use!$A$5:$A$21,A12),"Area of new land covers within SuDS catchment area exceeds the area of new land covers proposed","Not applicable") -> Not applicable
D13: =IFERROR(IF(ISBLANK(A13),0,IF(ISBLANK(B13),0,VLOOKUP(A13,Nutrients_from_future_land_use!$A$5:$D$21,3,FALSE)*(B13/VLOOKUP(A13,Nutrients_from_future_land_use!$A$5:$D$21,2,FALSE)))),0) -> 0 | E13: =IFERROR(IF(ISBLANK(A13),0,IF(ISBLANK(B13),0,VLOOKUP(A13,Nutrients_from_future_land_use!$A$5:$D$21,4,FALSE)*(B13/VLOOKUP(A13,Nutrients_from_future_land_use!$A$5:$D$21,2,FALSE)))),0) -> 0 | I13: =IFERROR(IF(OR(ISBLANK($A13),ISBLANK($B13),ISBLANK($G13)),0,$C13/100*D13*G13/100),0) -> 0 | J13: =IFERROR(IF(OR(ISBLANK($A13),ISBLANK($B13),ISBLANK($H13)),0,$C13/100*E13*H13/100),0) -> 0 | K13: =IF(SUMIFS($B$5:$B$29,$A$5:$A$29,A13)>SUMIFS(Nutrients_from_future_land_use!$B$5:$B$21,Nutrients_from_future_land_use!$A$5:$A$21,A13),"Area of new land covers within SuDS catchment area exceeds the area of new land covers proposed","Not applicable") -> Not applicable
D14: =IFERROR(IF(ISBLANK(A14),0,IF(ISBLANK(B14),0,VLOOKUP(A14,Nutrients_from_future_land_use!$A$5:$D$21,3,FALSE)*(B14/VLOOKUP(A14,Nutrients_from_future_land_use!$A$5:$D$21,2,FALSE)))),0) -> 0 | E14: =IFERROR(IF(ISBLANK(A14),0,IF(ISBLANK(B14),0,VLOOKUP(A14,Nutrients_from_future_land_use!$A$5:$D$21,4,FALSE)*(B14/VLOOKUP(A14,Nutrients_from_future_land_use!$A$5:$D$21,2,FALSE)))),0) -> 0 | I14: =IFERROR(IF(OR(ISBLANK($A14),ISBLANK($B14),ISBLANK($G14)),0,$C14/100*D14*G14/100),0) -> 0 | J14: =IFERROR(IF(OR(ISBLANK($A14),ISBLANK($B14),ISBLANK($H14)),0,$C14/100*E14*H14/100),0) -> 0 | K14: =IF(SUMIFS($B$5:$B$29,$A$5:$A$29,A14)>SUMIFS(Nutrients_from_future_land_use!$B$5:$B$21,Nutrients_from_future_land_use!$A$5:$A$21,A14),"Area of new land covers within SuDS catchment area exceeds the area of new land covers proposed","Not applicable") -> Not applicable
D15: =IFERROR(IF(ISBLANK(A15),0,IF(ISBLANK(B15),0,VLOOKUP(A15,Nutrients_from_future_land_use!$A$5:$D$21,3,FALSE)*(B15/VLOOKUP(A15,Nutrients_from_future_land_use!$A$5:$D$21,2,FALSE)))),0) -> 0 | E15: =IFERROR(IF(ISBLANK(A15),0,IF(ISBLANK(B15),0,VLOOKUP(A15,Nutrients_from_future_land_use!$A$5:$D$21,4,FALSE)*(B15/VLOOKUP(A15,Nutrients_from_future_land_use!$A$5:$D$21,2,FALSE)))),0) -> 0 | I15: =IFERROR(IF(OR(ISBLANK($A15),ISBLANK($B15),ISBLANK($G15)),0,$C15/100*D15*G15/100),0) -> 0 | J15: =IFERROR(IF(OR(ISBLANK($A15),ISBLANK($B15),ISBLANK($H15)),0,$C15/100*E15*H15/100),0) -> 0 | K15: =IF(SUMIFS($B$5:$B$29,$A$5:$A$29,A15)>SUMIFS(Nutrients_from_future_land_use!$B$5:$B$21,Nutrients_from_future_land_use!$A$5:$A$21,A15),"Area of new land covers within SuDS catchment area exceeds the area of new land covers proposed","Not applicable") -> Not applicable
D16: =IFERROR(IF(ISBLANK(A16),0,IF(ISBLANK(B16),0,VLOOKUP(A16,Nutrients_from_future_land_use!$A$5:$D$21,3,FALSE)*(B16/VLOOKUP(A16,Nutrients_from_future_land_use!$A$5:$D$21,2,FALSE)))),0) -> 0 | E16: =IFERROR(IF(ISBLANK(A16),0,IF(ISBLANK(B16),0,VLOOKUP(A16,Nutrients_from_future_land_use!$A$5:$D$21,4,FALSE)*(B16/VLOOKUP(A16,Nutrients_from_future_land_use!$A$5:$D$21,2,FALSE)))),0) -> 0 | I16: =IFERROR(IF(OR(ISBLANK($A16),ISBLANK($B16),ISBLANK($G16)),0,$C16/100*D16*G16/100),0) -> 0 | J16: =IFERROR(IF(OR(ISBLANK($A16),ISBLANK($B16),ISBLANK($H16)),0,$C16/100*E16*H16/100),0) -> 0 | K16: =IF(SUMIFS($B$5:$B$29,$A$5:$A$29,A16)>SUMIFS(Nutrients_from_future_land_use!$B$5:$B$21,Nutrients_from_future_land_use!$A$5:$A$21,A16),"Area of new land covers within SuDS catchment area exceeds the area of new land covers proposed","Not applicable") -> Not applicable
... D29: =IFERROR(IF(ISBLANK(A29),0,IF(ISBLANK(B29),0,VLOOKUP(A29,Nutrients_from_future_land_use!$A$5:$D$21,3,FALSE)*(B29/VLOOKUP(A29,Nutrients_from_future_land_use!$A$5:$D$21,2,FALSE)))),0) -> 0 | E29: =IFERROR(IF(ISBLANK(A29),0,IF(ISBLANK(B29),0,VLOOKUP(A29,Nutrients_from_future_land_use!$A$5:$D$21,4,FALSE)*(B29/VLOOKUP(A29,Nutrients_from_future_land_use!$A$5:$D$21,2,FALSE)))),0) -> 0 | I29: =IFERROR(IF(OR(ISBLANK($A29),ISBLANK($B29),ISBLANK($G29)),0,$C29/100*D29*G29/100),0) -> 0 | J29: =IFERROR(IF(OR(ISBLANK($A29),ISBLANK($B29),ISBLANK($H29)),0,$C29/100*E29*H29/100),0) -> 0 | K29: =IF(SUMIFS($B$5:$B$29,$A$5:$A$29,A29)>SUMIFS(Nutrients_from_future_land_use!$B$5:$B$21,Nutrients_from_future_land_use!$A$5:$A$21,A29),"Area of new land covers within SuDS catchment area exceeds the area of new land covers proposed","Not applicable") -> Not applicable
A30: Totals: | B30: =SUM(B5:B29) -> 0 | D30: =SUM(D5:D29) -> 0 | E30: =SUM(E5:E29) -> 0 | I30: =SUM(I5:I29) -> 0 | J30: =SUM(J5:J29) -> 0

Sheet Final_nutrient_budgets
A1: Final nutrient budgets
A2: This worksheet contains one table. This table is automatically populated using the outputs from the previous worksheets. Note: You do not need to fill in any cells in the table. Cells B5 to B12 and cells B14 to B15 are automatically calculated and will state '0.00' unless the user inputs have been entered to all of the required worksheets. Cells A16 to A21, cell B17 to B18 and cells B20 to B21 are automatically generated and will state 'Not applicable' depending on the user inputs to the worksheet 'Nutrients_from_wastewater'. Cell B13, B16 and B19 are intentionally blank. This table presents calculations that underpin the final annual nutrient budget for the development site. Up to 3 values for the nutrient budget may be presented in cells B14, B17 and B20 for total phosphorus (TP), or B15, B18 and B21 for total nitrogen (TN).
A3: Total nutrient budget calculations
A4: Description of values generated | B4: Values generated
A5: Wastewater TP load (kg TP/year): | B5: =Nutrients_from_wastewater!B22 -> 0.02
A6: Net land use TP change (kg TP/year): | B6: =IFERROR(Nutrients_from_future_land_use!C22-SuDS!I30-Nutrients_from_current_land_use!C28,0) -> 0.012486009
A7: P budget (kg TP/year): | B7: =IFERROR(B5+B6,0) -> 0.032486009
A8: P budget + 20% buffer (kg TP/year): | B8: =IFERROR(B7*1.2,0) -> 0.038983211
A9: Wastewater TN load (kg TN/year): | B9: =Nutrients_from_wastewater!B23 -> 0.95
A10: Net land use TN change (kg TN/year): | B10: =IFERROR(Nutrients_from_future_land_use!D22-SuDS!J30-Nutrients_from_current_land_use!D28,0) -> 0.20224001
A11: TN budget: | B11: =IFERROR(B9+B10,0) -> 1.15224
A12: TN budget + 20% buffer: | B12: =IFERROR(B11*1.2,0) -> 1.382688
A13: =IFERROR(IF(AND(Nutrients_from_wastewater!$B$5<DATE(2025,1,1),OR((VLOOKUP(Nutrients_from_wastewater!$B$10,Value_look_up_tables!$A$5:$E$10,2,FALSE))>(VLOOKUP(Nutrients_from_wastewater!$B$10,Value_look_up_tables!$A$5:$E$10,4,FALSE)),(VLOOKUP(Nutrients_from_wastewater!$B$10,Value_look_up_tables!$A$5:$E$10,3,FALSE))>(VLOOKUP(Nutrients_from_wastewater!$B$10,Value_look_up_tables!$A$5:$E$10,5,FALSE)))),"Post-2030 annual nutrient budget","Annual nutrient budget"),"Annual nutrient budget") -> Annual nutrient budget
A14: The total annual phosphorus load to mitigate is (kg TP/yr): | B14: =IFERROR(IF(ROUND(B8,2)<0,0,ROUND(B8,2)),0) -> 0.04
A15: The total annual nitrogen load to mitigate is (kg TN/yr): | B15: =IFERROR(IF(ROUND(B12,2)<0,0,ROUND(B12,2)),0) -> 1.38
A16: =IF(Nutrients_from_wastewater!A24="Not applicable","Not applicable",LEFT(Nutrients_from_wastewater!A24,9)&"nutrient budget") -> Pre-2030 nutrient budget
A17: =IF(A16<>"Not applicable","The total annual phosphorus load to mitigate is (kg TP/yr):","Not applicable") -> The total annual phosphorus load to mitigate is (kg TP/yr): | B17: =IFERROR(ROUND((Nutrients_from_wastewater!B25+$B$6)*1.2,2),"Not applicable") -> 0.09
A18: =IF(A16<>"Not applicable","The total annual nitrogen load to mitigate is (kg TN/yr):","Not applicable") -> The total annual nitrogen load to mitigate is (kg TN/yr): | B18: =IFERROR(ROUND((Nutrients_from_wastewater!B26+$B$10)*1.2,2),"Not applicable") -> 3.65
A19: =IF(Nutrients_from_wastewater!A27="Not applicable","Not applicable",LEFT(Nutrients_from_wastewater!A27,9)&"nutrient budget") -> Not applicable
A20: =IF(A19<>"Not applicable","The total annual phosphorus load to mitigate is (kg TP/yr):","Not applicable") -> Not applicable | B20: =IFERROR(IF(Nutrients_from_wastewater!$A$27="Not applicable","Not applicable",ROUND((Nutrients_from_wastewater!B28+$B$6)*1.2,2)),IFERROR(B17,"Not applicable")) -> Not applicable
A21: =IF(A19<>"Not applicable","The total annual nitrogen load to mitigate is (kg TN/yr):","Not applicable") -> Not applicable | B21: =IFERROR(IF(Nutrients_from_wastewater!$A$27="Not applicable","Not applicable",ROUND((Nutrients_from_wastewater!B29+$B$10)*1.2,2)),IFERROR(B18,"Not applicable")) -> Not applicable

Sheet Value_look_up_tables
A1: Nutrients from wastewater
A2: This sheet contains nine tables. A blank row seperates the end of each table from the header for the next table.
A3: Table 1: Stage 1 WwTW lookup
A4: Discharge Site Name | B4: Phosphorus, Total as P (mg/l) | C4: Nitrogen, Total as N (mg/l) | D4: Phosphorus, Total as P (mg/l), permit post 2025 | E4: Nitrogen, Total as N (mg/l), permit post 2025 | F4: Nitrogen Total as N (mg/l) with deductible acceptable loading | G4: Nitrogen Total as N (mg/l), permit post 2025 with deductible acceptable loading | H4: Phosphorus, Total as P (mg/l), permit post 2030 | I4: Nitrogen, Total as N (mg/l), permit post 2030 | J4: Nitrogen Total as N (mg/l), permit post 2030 with deductible acceptable loading
A5: Chickenhall Eastleigh WwTW | B5: 1 | C5: =F5+2 -> 27 | D5: 0.6 | E5: 27 | F5: 25 | G5: 25 | H5: 0.25 | I5: 10 | J5: 8
A6: Harestock WwTW | B6: 1 | C6: =F6+2 -> 27 | D6: 0.25 | E6: =G6+2 -> 27 | F6: 25 | G6: 25 | H6: 0.25 | I6: 10 | J6: 8
A7: Morestead WwTW | B7: 1 | C7: =F7+2 -> 27 | D7: 1 | E7: 27 | F7: 25 | G7: 25 | H7: 0.25 | I7: 10 | J7: 8
A8: New Alresford WwTW | B8: 8 | C8: 25 | D8: 8 | E8: 25 | F8: 23 | G8: 23 | H8: 0.25 | I8: 10 | J8: 8
A9: Package Treatment Plant default | B9: 9.7 | C9: =F9+2 -> 72.9 | D9: 9.7 | E9: =G9+2 -> 72.9 | F9: 70.9 | G9: 70.9 | H9: 9.7 | I9: =J9+2 -> 72.9 | J9: 70.9
A10: Septic Tank default | B10: 11.6 | C10: =F10+2 -> 96.3 | D10: 11.6 | E10: =G10+2 -> 96.3 | F10: 94.3 | G10: 94.3 | H10: 11.6 | I10: =J10+2 -> 96.3 | J10: 94.3
A11: Package Treatment Plant user defined
A12: Septic Tank user defined
A14: Table 2: Stage 2 and 3 Landcover lookup
A15: Catchment | B15: Farmscoper Farm Term | C15: NVZ | D15: Climate | E15: Farmscoper Soil Drainage Term | F15: Lookup | G15: Phosphorus export coefficient | H15: Nitrogen export coefficient | I15: Farm Lookup | J15: Mean P export of farm type and climate combination | K15: Mean N export of farm type and climate combination | L15: Mean P export of farm type | M15: Mean N export of farm type
A16: Itchen | B16: Cereals | C16: TRUE | D16: 700to900 | E16: FreeDrain | F16: =A16&"|"&B16&"|"&C16&"|"&D16&"|"&E16 -> Itchen|Cereals|TRUE|700to900|FreeDrain | G16: 0.1 | H16: 28.76 | I16: =B16&"|"&D16 -> Cereals|700to900 | J16: =AVERAGE(G16:G18) -> 0.58333333 | K16: =AVERAGE(H16:H18) -> 23.81 | L16: =AVERAGE(G16:G19) -> 0.4825 | M16: =AVERAGE(H16:H19) -> 25.5
A17: Itchen | B17: Cereals | C17: TRUE | D17: 700to900 | E17: DrainedAr | F17: =A17&"|"&B17&"|"&C17&"|"&D17&"|"&E17 -> Itchen|Cereals|TRUE|700to900|DrainedAr | G17: 0.7 | H17: 22.06 | I17: =B17&"|"&D17 -> Cereals|700to900 | J17: =AVERAGE(G16:G18) -> 0.58333333 | K17: =AVERAGE(H16:H18) -> 23.81
A18: Itchen | B18: Cereals | C18: TRUE | D18: 700to900 | E18: DrainedArGr | F18: =A18&"|"&B18&"|"&C18&"|"&D18&"|"&E18 -> Itchen|Cereals|TRUE|700to900|DrainedArGr | G18: 0.95 | H18: 20.61 | I18: =B18&"|"&D18 -> Cereals|700to900 | J18: =AVERAGE(G16:G18) -> 0.58333333 | K18: =AVERAGE(H16:H18) -> 23.81
A19: Itchen | B19: Cereals | C19: TRUE | D19: 900to1200 | E19: FreeDrain | F19: =A19&"|"&B19&"|"&C19&"|"&D19&"|"&E19 -> Itchen|Cereals|TRUE|900to1200|FreeDrain | G19: 0.18 | H19: 30.57 | I19: =B19&"|"&D19 -> Cereals|900to1200 | J19: =AVERAGE(G43) -> 1.18 | K19: =AVERAGE(H43) -> 26.81
A20: Itchen | B20: General | C20: TRUE | D20: 700to900 | E20: FreeDrain | F20: =A20&"|"&B20&"|"&C20&"|"&D20&"|"&E20 -> Itchen|General|TRUE|700to900|FreeDrain | G20: 0.08 | H20: 21.65 | I20: =B20&"|"&D20 -> General|700to900 | J20: =AVERAGE(G20:G22) -> 0.43333333 | K20: =AVERAGE(H20:H22) -> 17.546667 | L20: =AVERAGE(G20:G23) -> 0.36 | M20: =AVERAGE(H20:H23) -> 18.955
A21: Itchen | B21: General | C21: TRUE | D21: 700to900 | E21: DrainedAr | F21: =A21&"|"&B21&"|"&C21&"|"&D21&"|"&E21 -> Itchen|General|TRUE|700to900|DrainedAr | G21: 0.49 | H21: 16.23 | I21: =B21&"|"&D21 -> General|700to900 | J21: =AVERAGE(G20:G22) -> 0.43333333 | K21: =AVERAGE(H20:H22) -> 17.546667
A22: Itchen | B22: General | C22: TRUE | D22: 700to900 | E22: DrainedArGr | F22: =A22&"|"&B22&"|"&C22&"|"&D22&"|"&E22 -> Itchen|General|TRUE|700to900|DrainedArGr | G22: 0.73 | H22: 14.76 | I22: =B22&"|"&D22 -> General|700to900 | J22: =AVERAGE(G20:G22) -> 0.43333333 | K22: =AVERAGE(H20:H22) -> 17.546667
A23: Itchen | B23: General | C23: TRUE | D23: 900to1200 | E23: FreeDrain | F23: =A23&"|"&B23&"|"&C23&"|"&D23&"|"&E23 -> Itchen|General|TRUE|900to1200|FreeDrain | G23: 0.14 | H23: 23.18 | I23: =B23&"|"&D23 -> General|900to1200 | J23: =AVERAGE(G23,G47:G48) -> 0.66 | K23: =AVERAGE(H23,H47:H48) -> 18.14
A24: Itchen | B24: Horticulture | C24: TRUE | D24: 700to900 | E24: FreeDrain | F24: =A24&"|"&B24&"|"&C24&"|"&D24&"|"&E24 -> Itchen|Horticulture|TRUE|700to900|FreeDrain | G24: 0.09 | H24: 21.82 | I24: =B24&"|"&D24 -> Horticulture|700to900 | J24: =AVERAGE(G24,G25) -> 0.47 | K24: =AVERAGE(H24,H25) -> 18.11 | L24: =AVERAGE(G24:G26) -> 0.36666667 | M24: =AVERAGE(H24:H26) -> 19.88
A25: Itchen | B25: Horticulture | C25: TRUE | D25: 700to900 | E25: DrainedArGr | F25: =A25&"|"&B25&"|"&C25&"|"&D25&"|"&E25 -> Itchen|Horticulture|TRUE|700to900|DrainedArGr | G25: 0.85 | H25: 14.4 | I25: =B25&"|"&D25 -> Horticulture|700to900 | J25: =AVERAGE(G24,G25) -> 0.47 | K25: =AVERAGE(H24,H25) -> 18.11
A26: Itchen | B26: Horticulture | C26: TRUE | D26: 900to1200 | E26: FreeDrain | F26: =A26&"|"&B26&"|"&C26&"|"&D26&"|"&E26 -> Itchen|Horticulture|TRUE|900to1200|FreeDrain | G26: 0.16 | H26: 23.42 | I26: =B26&"|"&D26 -> Horticulture|900to1200 | J26: =AVERAGE(G26,G52:G53) -> 0.8 | K26: =AVERAGE(H26,H52:H53) -> 19.103333
A27: Itchen | B27: Poultry | C27: TRUE | D27: 700to900 | E27: FreeDrain | F27: =A27&"|"&B27&"|"&C27&"|"&D27&"|"&E27 -> Itchen|Poultry|TRUE|700to900|FreeDrain | G27: 0.09 | H27: 78.56 | I27: =B27&"|"&D27 -> Poultry|700to900 | J27: =AVERAGE(G27,G58) -> 0.515 | K27: =AVERAGE(H27,H58) -> 85.43 | L27: =AVERAGE(G27:G29) -> 0.13 | M27: =AVERAGE(H27:H29) -> 81.136667
A28: Itchen | B28: Poultry | C28: FALSE | D28: 900to1200 | E28: FreeDrain | F28: =A28&"|"&B28&"|"&C28&"|"&D28&"|"&E28 -> Itchen|Poultry|FALSE|900to1200|FreeDrain | G28: 0.15 | H28: 82.28 | I28: =B28&"|"&D28 -> Poultry|900to1200 | J28: =AVERAGE(G28,G59:G60) -> 0.82666667 | K28: =AVERAGE(H28,H59:H60) -> 107.81
A29: Itchen | B29: Poultry | C29: TRUE | D29: 900to1200 | E29: FreeDrain | F29: =A29&"|"&B29&"|"&C29&"|"&D29&"|"&E29 -> Itchen|Poultry|TRUE|900to1200|FreeDrain | G29: 0.15 | H29: 82.57 | I29: =B29&"|"&D29 -> Poultry|900to1200 | J29: =AVERAGE(G29,G59:G60) -> 0.82666667 | K29: =AVERAGE(H29,H59:H60) -> 107.90667
A30: Itchen | B30: Dairy | C30: TRUE | D30: 700to900 | E30: FreeDrain | F30: =A30&"|"&B30&"|"&C30&"|"&D30&"|"&E30 -> Itchen|Dairy|TRUE|700to900|FreeDrain | G30: 0.12 | H30: 47.12 | I30: =B30&"|"&D30 -> Dairy|700to900 | J30: =AVERAGE(G30:G31) -> 0.68 | K30: =AVERAGE(H30:H31) -> 34.14 | L30: =AVERAGE(G30:G31) -> 0.68 | M30: =AVERAGE(H30:H31) -> 34.14
A31: Itchen | B31: Dairy | C31: TRUE | D31: 700to900 | E31: DrainedArGr | F31: =A31&"|"&B31&"|"&C31&"|"&D31&"|"&E31 -> Itchen|Dairy|TRUE|700to900|DrainedArGr | G31: 1.24 | H31: 21.16 | I31: =B31&"|"&D31 -> Dairy|700to900 | J31: =AVERAGE(G30:G31) -> 0.68 | K31: =AVERAGE(H30:H31) -> 34.14
A32: Itchen | B32: Lowland | C32: TRUE | D32: 700to900 | E32: FreeDrain | F32: =A32&"|"&B32&"|"&C32&"|"&D32&"|"&E32 -> Itchen|Lowland|TRUE|700to900|FreeDrain | G32: 0.06 | H32: 13.13 | I32: =B32&"|"&D32 -> Lowland|700to900 | J32: =AVERAGE(G32:G34) -> 0.28 | K32: =AVERAGE(H32:H34) -> 10.21 | L32: =AVERAGE(G32:G36) -> 0.212 | M32: =AVERAGE(H32:H36) -> 11.756
A33: Itchen | B33: Lowland | C33: TRUE | D33: 700to900 | E33: DrainedAr | F33: =A33&"|"&B33&"|"&C33&"|"&D33&"|"&E33 -> Itchen|Lowland|TRUE|700to900|DrainedAr | G33: 0.18 | H33: 10.16 | I33: =B33&"|"&D33 -> Lowland|700to900 | J33: =AVERAGE(G32:G34) -> 0.28 | K33: =AVERAGE(H32:H34) -> 10.21
A34: Itchen | B34: Lowland | C34: TRUE | D34: 700to900 | E34: DrainedArGr | F34: =A34&"|"&B34&"|"&C34&"|"&D34&"|"&E34 -> Itchen|Lowland|TRUE|700to900|DrainedArGr | G34: 0.6 | H34: 7.34 | I34: =B34&"|"&D34 -> Lowland|700to900 | J34: =AVERAGE(G32:G34) -> 0.28 | K34: =AVERAGE(H32:H34) -> 10.21
A35: Itchen | B35: Lowland | C35: FALSE | D35: 900to1200 | E35: FreeDrain | F35: =A35&"|"&B35&"|"&C35&"|"&D35&"|"&E35 -> Itchen|Lowland|FALSE|900to1200|FreeDrain | G35: 0.11 | H35: 14.12 | I35: =B35&"|"&D35 -> Lowland|900to1200 | J35: =AVERAGE(G35,G68:G69) -> 0.49666667 | K35: =AVERAGE(H35,H68:H69) -> 12.3
A36: Itchen | B36: Lowland | C36: TRUE | D36: 900to1200 | E36: FreeDrain | F36: =A36&"|"&B36&"|"&C36&"|"&D36&"|"&E36 -> Itchen|Lowland|TRUE|900to1200|FreeDrain | G36: 0.11 | H36: 14.03 | I36: =B36&"|"&D36 -> Lowland|900to1200 | J36: =AVERAGE(G36,G68:G69) -> 0.49666667 | K36: =AVERAGE(H36,H68:H69) -> 12.27
A37: Itchen | B37: Mixed | C37: TRUE | D37: 700to900 | E37: FreeDrain | F37: =A37&"|"&B37&"|"&C37&"|"&D37&"|"&E37 -> Itchen|Mixed|TRUE|700to900|FreeDrain | G37: 0.1 | H37: 26.32 | I37: =B37&"|"&D37 -> Mixed|700to900 | J37: =AVERAGE(G37:G38) -> 0.335 | K37: =AVERAGE(H37:H38) -> 23.26 | L37: =AVERAGE(G37:G39) -> 0.28 | M37: =AVERAGE(H37:H39) -> 24.823333
A38: Itchen | B38: Mixed | C38: TRUE | D38: 700to900 | E38: DrainedAr | F38: =A38&"|"&B38&"|"&C38&"|"&D38&"|"&E38 -> Itchen|Mixed|TRUE|700to900|DrainedAr | G38: 0.57 | H38: 20.2 | I38: =B38&"|"&D38 -> Mixed|700to900 | J38: =AVERAGE(G37:G38) -> 0.335 | K38: =AVERAGE(H37:H38) -> 23.26
A39: Itchen | B39: Mixed | C39: TRUE | D39: 900to1200 | E39: FreeDrain | F39: =A39&"|"&B39&"|"&C39&"|"&D39&"|"&E39 -> Itchen|Mixed|TRUE|900to1200|FreeDrain | G39: 0.17 | H39: 27.95 | I39: =B39&"|"&D39 -> Mixed|900to1200 | J39: =AVERAGE(G39,G72:G73) -> 0.79 | K39: =AVERAGE(H39,H72:H73) -> 23.653333
A40: Test Lower and Southampton Streams | B40: Cereals | C40: TRUE | D40: 700to900 | E40: FreeDrain | F40: =B40&"|"&C40&"|"&D40&"|"&E40 -> Cereals|TRUE|700to900|FreeDrain | G40: 0.13 | H40: 27.04 | I40: =B40&"|"&D40 -> Cereals|700to900 | J40: =G40 -> 0.13 | K40: =H40 -> 27.04
A41: Test Lower and Southampton Streams | B41: Cereals | C41: TRUE | D41: 700to900 | E41: DrainedAr | F41: =B41&"|"&C41&"|"&D41&"|"&E41 -> Cereals|TRUE|700to900|DrainedAr | G41: 0.62 | H41: 20.93 | I41: =B41&"|"&D41 -> Cereals|700to900 | J41: =G41 -> 0.62 | K41: =H41 -> 20.93
A42: Test Lower and Southampton Streams | B42: Cereals | C42: TRUE | D42: 700to900 | E42: DrainedArGr | F42: =B42&"|"&C42&"|"&D42&"|"&E42 -> Cereals|TRUE|700to900|DrainedArGr | G42: 0.87 | H42: 19.59 | I42: =B42&"|"&D42 -> Cereals|700to900 | J42: =G42 -> 0.87 | K42: =H42 -> 19.59
A43: Test Lower and Southampton Streams | B43: Cereals | C43: TRUE | D43: 900to1200 | E43: DrainedAr | F43: =B43&"|"&C43&"|"&D43&"|"&E43 -> Cereals|TRUE|900to1200|DrainedAr | G43: 1.18 | H43: 26.81 | I43: =B43&"|"&D43 -> Cereals|900to1200 | J43: =G43 -> 1.18 | K43: =H43 -> 26.81
A44: Test Lower and Southampton Streams | B44: General | C44: TRUE | D44: 700to900 | E44: FreeDrain | F44: =B44&"|"&C44&"|"&D44&"|"&E44 -> General|TRUE|700to900|FreeDrain | G44: 0.1 | H44: 17.95 | I44: =B44&"|"&D44 -> General|700to900 | J44: =G44 -> 0.1 | K44: =H44 -> 17.95
A45: Test Lower and Southampton Streams | B45: General | C45: TRUE | D45: 700to900 | E45: DrainedAr | F45: =B45&"|"&C45&"|"&D45&"|"&E45 -> General|TRUE|700to900|DrainedAr | G45: 0.4 | H45: 13.43 | I45: =B45&"|"&D45 -> General|700to900 | J45: =G45 -> 0.4 | K45: =H45 -> 13.43
A46: Test Lower and Southampton Streams | B46: General | C46: TRUE | D46: 700to900 | E46: DrainedArGr | F46: =B46&"|"&C46&"|"&D46&"|"&E46 -> General|TRUE|700to900|DrainedArGr | G46: 0.64 | H46: 12.05 | I46: =B46&"|"&D46 -> General|700to900 | J46: =G46 -> 0.64 | K46: =H46 -> 12.05
A47: Test Lower and Southampton Streams | B47: General | C47: TRUE | D47: 900to1200 | E47: DrainedAr | F47: =B47&"|"&C47&"|"&D47&"|"&E47 -> General|TRUE|900to1200|DrainedAr | G47: 0.76 | H47: 17.15 | I47: =B47&"|"&D47 -> General|900to1200 | J47: =G47 -> 0.76 | K47: =H47 -> 17.15
A48: Test Lower and Southampton Streams | B48: General | C48: TRUE | D48: 900to1200 | E48: DrainedArGr | F48: =B48&"|"&C48&"|"&D48&"|"&E48 -> General|TRUE|900to1200|DrainedArGr | G48: 1.08 | H48: 14.09 | I48: =B48&"|"&D48 -> General|900to1200 | J48: =G48 -> 1.08 | K48: =H48 -> 14.09
A49: Test Lower and Southampton Streams | B49: Horticulture | C49: TRUE | D49: 700to900 | E49: FreeDrain | F49: =B49&"|"&C49&"|"&D49&"|"&E49 -> Horticulture|TRUE|700to900|FreeDrain | G49: 0.11 | H49: 20.27 | I49: =B49&"|"&D49 -> Horticulture|700to900 | J49: =G49 -> 0.11 | K49: =H49 -> 20.27
A50: Test Lower and Southampton Streams | B50: Horticulture | C50: TRUE | D50: 700to900 | E50: DrainedAr | F50: =B50&"|"&C50&"|"&D50&"|"&E50 -> Horticulture|TRUE|700to900|DrainedAr | G50: 0.52 | H50: 14.82 | I50: =B50&"|"&D50 -> Horticulture|700to900 | J50: =G50 -> 0.52 | K50: =H50 -> 14.82
A51: Test Lower and Southampton Streams | B51: Horticulture | C51: TRUE | D51: 700to900 | E51: DrainedArGr | F51: =B51&"|"&C51&"|"&D51&"|"&E51 -> Horticulture|TRUE|700to900|DrainedArGr | G51: 0.77 | H51: 13.18 | I51: =B51&"|"&D51 -> Horticulture|700to900 | J51: =G51 -> 0.77 | K51: =H51 -> 13.18
... A53: Test Lower and Southampton Streams | B53: Horticulture | C53: TRUE | D53: 900to1200 | E53: DrainedArGr | F53: =B53&"|"&C53&"|"&D53&"|"&E53 -> Horticulture|TRUE|900to1200|DrainedArGr | G53: 1.26 | H53: 15.11 | I53: =B53&"|"&D53 -> Horticulture|900to1200 | J53: =G53 -> 1.26 | K53: =H53 -> 15.11
A54: Test Lower and Southampton Streams | B54: Pig | C54: TRUE | D54: 700to900 | E54: FreeDrain | F54: =B54&"|"&C54&"|"&D54&"|"&E54 -> Pig|TRUE|700to900|FreeDrain | G54: 0.14 | H54: 85.33 | I54: =B54&"|"&D54 -> Pig|700to900 | J54: =G54 -> 0.14 | K54: =H54 -> 85.33 | L54: =AVERAGE(G54:G56) -> 0.91 | M54: =AVERAGE(H54:H56) -> 61.013333
A55: Test Lower and Southampton Streams | B55: Pig | C55: TRUE | D55: 700to900 | E55: DrainedArGr | F55: =B55&"|"&C55&"|"&D55&"|"&E55 -> Pig|TRUE|700to900|DrainedArGr | G55: 1.02 | H55: 46.64 | I55: =B55&"|"&D55 -> Pig|700to900 | J55: =G55 -> 1.02 | K55: =H55 -> 46.64
A56: Test Lower and Southampton Streams | B56: Pig | C56: TRUE | D56: 900to1200 | E56: DrainedArGr | F56: =B56&"|"&C56&"|"&D56&"|"&E56 -> Pig|TRUE|900to1200|DrainedArGr | G56: 1.57 | H56: 51.07 | I56: =B56&"|"&D56 -> Pig|900to1200 | J56: =G56 -> 1.57 | K56: =H56 -> 51.07
A57: Test Lower and Southampton Streams | B57: Poultry | C57: TRUE | D57: 700to900 | E57: FreeDrain | F57: =B57&"|"&C57&"|"&D57&"|"&E57 -> Poultry|TRUE|700to900|FreeDrain | G57: 0.19 | H57: 181.05 | I57: =B57&"|"&D57 -> Poultry|700to900 | J57: =G57 -> 0.19 | K57: =H57 -> 181.05
A58: Test Lower and Southampton Streams | B58: Poultry | C58: TRUE | D58: 700to900 | E58: DrainedArGr | F58: =B58&"|"&C58&"|"&D58&"|"&E58 -> Poultry|TRUE|700to900|DrainedArGr | G58: 0.94 | H58: 92.3 | I58: =B58&"|"&D58 -> Poultry|700to900 | J58: =G58 -> 0.94 | K58: =H58 -> 92.3
A59: Test Lower and Southampton Streams | B59: Poultry | C59: TRUE | D59: 900to1200 | E59: DrainedAr | F59: =B59&"|"&C59&"|"&D59&"|"&E59 -> Poultry|TRUE|900to1200|DrainedAr | G59: 0.83 | H59: 141.51 | I59: =B59&"|"&D59 -> Poultry|900to1200 | J59: =G59 -> 0.83 | K59: =H59 -> 141.51
A60: Test Lower and Southampton Streams | B60: Poultry | C60: TRUE | D60: 900to1200 | E60: DrainedArGr | F60: =B60&"|"&C60&"|"&D60&"|"&E60 -> Poultry|TRUE|900to1200|DrainedArGr | G60: 1.5 | H60: 99.64 | I60: =B60&"|"&D60 -> Poultry|900to1200 | J60: =G60 -> 1.5 | K60: =H60 -> 99.64
A61: Test Lower and Southampton Streams | B61: Dairy | C61: TRUE | D61: 700to900 | E61: FreeDrain | F61: =B61&"|"&C61&"|"&D61&"|"&E61 -> Dairy|TRUE|700to900|FreeDrain | G61: 0.15 | H61: 35.34 | I61: =B61&"|"&D61 -> Dairy|700to900 | J61: =G61 -> 0.15 | K61: =H61 -> 35.34
A62: Test Lower and Southampton Streams | B62: Dairy | C62: TRUE | D62: 700to900 | E62: DrainedArGr | F62: =B62&"|"&C62&"|"&D62&"|"&E62 -> Dairy|TRUE|700to900|DrainedArGr | G62: 1.01 | H62: 16.37 | I62: =B62&"|"&D62 -> Dairy|700to900 | J62: =G62 -> 1.01 | K62: =H62 -> 16.37
A63: Test Lower and Southampton Streams | B63: Lowland | C63: TRUE | D63: 700to900 | E63: FreeDrain | F63: =B63&"|"&C63&"|"&D63&"|"&E63 -> Lowland|TRUE|700to900|FreeDrain | G63: 0.09 | H63: 13.36 | I63: =B63&"|"&D63 -> Lowland|700to900 | J63: =G63 -> 0.09 | K63: =H63 -> 13.36
A64: Test Lower and Southampton Streams | B64: Lowland | C64: FALSE | D64: 700to900 | E64: DrainedAr | F64: =B64&"|"&C64&"|"&D64&"|"&E64 -> Lowland|FALSE|700to900|DrainedAr | G64: 0.19 | H64: 10.51 | I64: =B64&"|"&D64 -> Lowland|700to900 | J64: =G64 -> 0.19 | K64: =H64 -> 10.51
A65: Test Lower and Southampton Streams | B65: Lowland | C65: TRUE | D65: 700to900 | E65: DrainedAr | F65: =B65&"|"&C65&"|"&D65&"|"&E65 -> Lowland|TRUE|700to900|DrainedAr | G65: 0.19 | H65: 10.44 | I65: =B65&"|"&D65 -> Lowland|700to900 | J65: =G65 -> 0.19 | K65: =H65 -> 10.44
A66: Test Lower and Southampton Streams | B66: Lowland | C66: FALSE | D66: 700to900 | E66: DrainedArGr | F66: =B66&"|"&C66&"|"&D66&"|"&E66 -> Lowland|FALSE|700to900|DrainedArGr | G66: 0.62 | H66: 7.3 | I66: =B66&"|"&D66 -> Lowland|700to900 | J66: =G66 -> 0.62 | K66: =H66 -> 7.3
... A89: Test Upper and Middle | B89: Mixed | C89: TRUE | D89: 900to1200 | E89: FreeDrain | F89: =B89&"|"&C89&"|"&D89&"|"&E89 -> Mixed|TRUE|900to1200|FreeDrain | G89: 0.13 | H89: 25.84 | I89: =B89&"|"&D89 -> Mixed|900to1200 | J89: =G89 -> 0.13 | K89: =H89 -> 25.84
A90: - | B90: - | C90: - | D90: - | E90: Greenspace | F90: ="|"&"|"&"|"&E90 -> |||Greenspace | G90: 0.02 | H90: 3
A91: - | B91: - | C91: - | D91: - | E91: Community food growing | F91: ="|"&"|"&"|"&E91 -> |||Community food growing | G91: =IFERROR(VLOOKUP((VLOOKUP(Nutrients_from_current_land_use!$B$5,Value_look_up_tables!$A$127:$B$127,2,FALSE)&"|"&"General"&"|"&"FALSE"&"|"&VLOOKUP(Nutrients_from_current_land_use!$B$7,Value_look_up_tables!$A$101:$C$123,3,FALSE)&"|"&"FreeDrain"),$F$16:$H$89,2,FALSE), IFERROR(VLOOKUP("General"&"|"&VLOOKUP(Nutrients_from_current_land_use!$B$7,Value_look_up_tables!$A$101:$C$123,3,FALSE),$I$16:$M$89,2,FALSE),VLOOKUP("General",$B$16:$M$89,11,FALSE))) -> 0.43333333 | H91: =IFERROR(VLOOKUP((VLOOKUP(Nutrients_from_current_land_use!$B$5,$A$127:$B$127,2,FALSE)&"|"&"General"&"|"&"FALSE"&"|"&VLOOKUP(Nutrients_from_current_land_use!$B$7,$A$101:$C$123,3,FALSE)&"|"&"FreeDrain"),$F$16:$H$89,3,FALSE), IFERROR(VLOOKUP("General"&"|"&VLOOKUP(Nutrients_from_current_land_use!$B$7,$A$101:$C$123,3,FALSE),$I$16:$M$89,3,FALSE),VLOOKUP("General",$B$16:$M$89,12,FALSE))) -> 17.546667
A92: - | B92: - | C92: - | D92: - | E92: Woodland | F92: ="|"&"|"&"|"&E92 -> |||Woodland | G92: 0.02 | H92: 3
A93: - | B93: - | C93: - | D93: - | E93: Shrub | F93: ="|"&"|"&"|"&E93 -> |||Shrub | G93: 0.02 | H93: 3
A94: - | B94: - | C94: - | D94: - | E94: Water | F94: ="|"&"|"&"|"&E94 -> |||Water | G94: 0 | H94: 0
A95: - | B95: - | C95: - | D95: - | E95: Residential urban land | F95: ="|"&"|"&"|"&E95 -> |||Residential urban land | G95: =VLOOKUP(Nutrients_from_current_land_use!B7,Value_look_up_tables!A101:F123,6,FALSE) -> 1.551292 | H95: =VLOOKUP(Nutrients_from_current_land_use!B7,Value_look_up_tables!A101:I123,9,FALSE) -> 14.445715
A96: - | B96: - | C96: - | D96: - | E96: Commercial/industrial urban land | F96: ="|"&"|"&"|"&E96 -> |||Commercial/industrial urban land | G96: =VLOOKUP(Nutrients_from_current_land_use!B7,Value_look_up_tables!A101:G123,7,FALSE) -> 1.1350917 | H96: =VLOOKUP(Nutrients_from_current_land_use!B7,Value_look_up_tables!A101:K123,10,FALSE) -> 7.7043814
A97: - | B97: - | C97: - | D97: - | E97: Open urban land | F97: ="|"&"|"&"|"&E97 -> |||Open urban land | G97: =VLOOKUP(Nutrients_from_current_land_use!B7,Value_look_up_tables!A101:H123,8,FALSE) -> 0.8324006 | H97: =VLOOKUP(Nutrients_from_current_land_use!B7,Value_look_up_tables!A101:N123,11,FALSE) -> 8.5153689
A99: Table 3: Stage 2 and 3 Rainfall / Urban Lookup
A100: Rainfall band | B100: Mid | C100: Farmscoper Equivalent | D100: P Urban Runoff Coefficient | E100: N Urban Runoff Coefficient (kg/ha/yr) | F100: Residential P export coefficient (kg/ha/yr) | G100: Commercial / industrial P export coefficient (kg/ha/yr) | H100: Open urban P export coefficient (kg/ha/yr) | I100: Residential N export coefficient (kg/ha/yr) | J100: Commercial / industrial N export coefficient (kg/ha/yr) | K100: Open urban N export coefficient (kg/ha/yr)
A101: 508 - 525 | B101: 516.5 | C101: Under600 | D101: 47.366326 | E101: 63.946326 | F101: 1.003053 | G101: 0.73394123 | H101: 0.53822357 | I101: 9.4130591 | J101: 5.0202982 | K101: 5.5487506
A102: 525.1 - 550 | B102: 537.55 | C102: Under600 | D102: 47.60551 | E102: 64.18551 | F102: 1.049204 | G102: 0.76771025 | H102: 0.56298752 | I102: 9.8333324 | J102: 5.2444439 | K102: 5.7964907
A103: 550.1 - 575 | B103: 562.55 | C103: Under600 | D103: 47.862482 | E103: 64.442482 | F103: 1.1039266 | G103: 0.80775117 | H103: 0.59235086 | I103: 10.331854 | J103: 5.5103219 | K103: 6.0903558
A104: 575.1 - 600 | B104: 587.55 | C104: Under600 | D104: 48.08972 | E104: 64.66972 | F104: 1.1584597 | G104: 0.84765346 | H104: 0.62161254 | I104: 10.829058 | J104: 5.7754975 | K104: 6.3834446
A105: 600.1 - 625 | B105: 612.55 | C105: 600to700 | D105: 48.286892 | E105: 64.866892 | F105: 1.2127036 | G105: 0.88734408 | H105: 0.65071899 | I105: 11.324251 | J105: 6.0396007 | K105: 6.6753481
A106: 625.1 - 650 | B106: 637.55 | C106: 600to700 | D106: 48.453664 | E106: 65.033664 | F106: 1.266557 | G106: 0.92674901 | H106: 0.67961594 | I106: 11.816731 | J106: 6.3022563 | K106: 6.9656517
A107: 650.1 - 675 | B107: 662.55 | C107: 600to700 | D107: 48.589703 | E107: 65.169703 | F107: 1.3199174 | G107: 0.96579322 | H107: 0.70824836 | I107: 12.305783 | J107: 6.5630843 | K107: 7.2539353
A108: 675.1 - 700 | B108: 687.55 | C108: 600to700 | D108: 48.694674 | E108: 65.274674 | F108: 1.3726809 | G108: 1.0044007 | H108: 0.7365605 | I108: 12.790687 | J108: 6.8216995 | K108: 7.5397731
A109: 700.1 - 750 | B109: 725.05 | C109: 700to900 | D109: 48.79315 | E109: 65.37315 | F109: 1.4504764 | G109: 1.0613242 | H109: 0.77830442 | I109: 13.508659 | J109: 7.204618 | K109: 7.9629988
A110: 750.1 - 800 | B110: 775.05 | C110: 700to900 | D110: 48.818 | E110: 65.398 | F110: 1.551292 | G110: 1.1350917 | H110: 0.8324006 | I110: 14.445715 | J110: 7.7043814 | K110: 8.5153689
A111: 800.1 - 850 | B111: 825.05 | C111: 700to900 | D111: 48.818 | E111: 65.398 | F111: 1.6513689 | G111: 1.2083187 | H111: 0.8861004 | I111: 15.377637 | J111: 8.2014062 | K111: 9.0647121
A112: 850.1 - 900 | B112: 875.05 | C112: 700to900 | D112: 48.818 | E112: 65.398 | F112: 1.7514458 | G112: 1.2815457 | H112: 0.9398002 | I112: 16.309558 | J112: 8.698431 | K112: 9.6140553
... A123: 4,000.1 - 5,500 | B123: 4750.05 | C123: Over1500 | D123: 48.818 | E123: 65.398 | F123: 9.5074056 | G123: 6.9566382 | H123: 5.1015347 | I123: 88.533474 | J123: 47.217853 | K123: 52.188153
A125: Table 4: Stage 2 and 3 Catchment Lookup
A126: Operational Catchment | B126: Farmscoper equivalent
A127: Itchen | B127: Itchen
A129: Table 5: Stage 2 and 3 Soil Drainage Lookup
A130: Soilscape drainage term | B130: Farmscoper term | C130: Definition
A131: Freely draining | B131: FreeDrain | C131: Free Draining
A132: Slightly impeded drainage | B132: DrainedAr | C132: Drained for arable
A133: Impeded drainage | B133: DrainedArGr | C133: Drained for arable and grassland
A134: Variable | B134: DrainedAr | C134: Drained for arable
A135: Surface Wetness | B135: DrainedAr | C135: Drained for arable
A136: Naturally wet | B136: DrainedAr | C136: Drained for arable
A138: Table 6: Stage 2 and 3 NVZ Lookup
...
