Workbook
Name AA: 'G-7 WaterC'' Data'!$B$4
Name AllHabsSummaryData: 'G-2 Habitat groups'!$A$3:$AF$135
Name AllHabsSummaryData: 'G-2 Habitat groups'!$A$3:$AF$135
Name BaselineHabOffsite: 'D-1 Off-Site Habitat Baseline'!$D$11:$AA$258
Name BaselineHabOffsite: 'D-1 Off-Site Habitat Baseline'!$D$11:$AA$258
Name BaselineHabSite: 'A-1 On-Site Habitat Baseline'!$D$11:$X$258
Name BaselineHabSite: 'A-1 On-Site Habitat Baseline'!$D$11:$X$258
Name baselineimage: Start!$D$39:$G$53
Name baselineimageOS: Start!$D$60:$G$65
Name Coastal_lagoons: 'G-1 All Habitats'!$A$104
Name Coastal_saltmarsh: 'G-1 All Habitats'!$A$113:$A$114
Name Cond1: 'G-8 Condition Look up'!$J$5
Name Cond2: 'G-8 Condition Look up'!$K$5
Name Cond3: 'G-8 Condition Look up'!$L$5
Name Cond4: 'G-8 Condition Look up'!$M$5:$M$9
Name Cond5: 'G-8 Condition Look up'!$N$5
Name Condition: 'G-8 Condition Look up'!$B$3:$H$3
Name ConditionData: 'G-8 Condition Look up'!$A$4:$H$102
Name ConditionHabitats: 'G-8 Condition Look up'!$A$4:$A$128
Name Cropland: 'G-1 All Habitats'!$A$3:$A$12
Name Difficulty: 'G-3 Multipliers'!$P$3:$Q$6
Name Difficulty: 'G-3 Multipliers'!$P$3:$Q$6
Name Encroachment1: 'G-7 WaterC'' Data'!$AD$4:$AD$13
Name Encroachment1: 'G-7 WaterC'' Data'!$AD$4:$AD$13
Name Encroachment2: 'G-7 WaterC'' Data'!$AD$14
Name Encroachment2: 'G-7 WaterC'' Data'!$AD$14
Name EnhanceCondition: 'G-5 Enhancement Temporal'!$C$4:$X$4
Name EnhanceCondition: 'G-5 Enhancement Temporal'!$C$4:$X$4
Name EnhanceHabitat: 'G-5 Enhancement Temporal'!$C$4:$C$136
Name EnhanceHabitat: 'G-5 Enhancement Temporal'!$C$4:$C$136
Name EnhanceTemporal: 'G-5 Enhancement Temporal'!$C$4:$X$136
Name EnhanceTemporal: 'G-5 Enhancement Temporal'!$C$4:$X$136
Name Grassland: 'G-1 All Habitats'!$A$13:$A$25
Name Heathland_and_shrub: 'G-1 All Habitats'!$A$26:$A$38
Name HedgeCond: 'G-6 Hedgerow Data'!$B$2:$T$2
Name Hedgecond1: 'G-6 Hedgerow Data'!$BK$3:$BK$5
Name Hedgecond2: 'G-6 Hedgerow Data'!$BL$3
Name HedgeData: 'G-6 Hedgerow Data'!$B$2:$T$15
Name HedgeType: 'G-6 Hedgerow Data'!$B$2:$B$15
Name Individual_trees: 'G-1 All Habitats'!$A$80:$A$81
Name Individualtrees: 'G-1 All Habitats'!$A$79:$A$80
Name Intertidal_hard_structures: 'G-1 All Habitats'!$A$132:$A$134
Name Intertidal_sediment: 'G-1 All Habitats'!$A$115:$A$131
Name Lakes: 'G-1 All Habitats'!$A$39:$A$49
Name LPAList: Lists!$A$1:$A$378
Name postdevelopmentimage: Start!$I$39:$O$53
Name postdevelopmentimageOS: Start!$I$60:$O$65
Name RetCatChecks: 'A-1 On-Site Habitat Baseline'!$AE$11:$AH$258
Name riparianencroachment1: 'G-7 WaterC'' Data'!$AA$4:$AA$6
Name riparianencroachment1: 'G-7 WaterC'' Data'!$AA$4:$AA$6
Name riparianencroachment2: 'G-7 WaterC'' Data'!$AA$7
Name riparianencroachment2: 'G-7 WaterC'' Data'!$AA$7
Name Rivercond1: 'G-7 WaterC'' Data'!$BB$3:$BB$7
Name Rivercond2: 'G-7 WaterC'' Data'!$BC$3
Name RiverCondition: 'G-7 WaterC'' Data'!$B$3:$X$3
Name RiverEnhanceTemporal: 'G-7 WaterC'' Data'!$B$4:$X$12
Name RiverHabitat: 'G-7 WaterC'' Data'!$B$4:$B$14
Name RiversEnhancment: 'G-7 WaterC'' Data'!$O$3:$X$5
Name Rocky_shore: 'G-1 All Habitats'!$A$105:$A$112
Name Sparsely_vegetated_land: 'G-1 All Habitats'!$A$50:$A$58

Sheet Introduction

Sheet Start
D8: 4.1 | E8: =IF(OR(F16="",F17=""), "'Completed by' and 'Date of metric completion' fields must be filled in ▲","")
D9: Project details
D11: Planning authority: | F11: Eastleigh Borough Council
D12: Project name: | F12: Chickenhall Lane
D13: Applicant: | F13: Highwood Group
D14: Application type: | F14: Full
D15: Planning application reference: | F15: TBC
D16: Completed by: | F16: FPCR Environment and Design Ltd
D17: Date of metric completion: | F17: 19.06.25
D18: Reviewer: | F18: APD / AU
D19: Calculation iteration: | F19: Issue
D20: Planning authority reviewer:
D21: Date of planning authority review:
D22: Target % net gain: | F22: 0.1 | I22: =IF(OR(F22>=10%,F22=""),"","Target set below 10% ▲")
D23: Irreplaceable habitat present at baseline: | F23: =IF(AND('Irreplaceable Habitats'!K32=0,'Irreplaceable Habitats'!K65=0,'Irreplaceable Habitats'!AP65=0,'Irreplaceable Habitats'!AP32=0),"No ✓","Yes ⚠") -> No ✓
D24: Total site area - including irreplaceable habitat area (hectares): | F24: ='A-1 On-Site Habitat Baseline'!H260 -> 0.6178 | I24: Irreplaceable habitat site area (hectares): | J24: ='Irreplaceable Habitats'!K33 -> 0
D25: Total off-site area - including irreplaceable habitat area (hectares): | F25: =IF('D-1 Off-Site Habitat Baseline'!H261=0, "N/A", 'D-1 Off-Site Habitat Baseline'!H261) -> 0.448 | I25: Irreplaceable habitat area off-site (hectares): | J25: =IF('Irreplaceable Habitats'!K66=0, "N/A", 'Irreplaceable Habitats'!K66) -> N/A
D27: Contains deviations from the statutory metric - this must be agreed with consenting body | I27: =IF(F27="Yes", "Only acceptable in exceptionally rare circumstances, ensure any deviations have been agreed with the consenting body ⚠", "")
D29: Cell style conventions
D30: ⚠ | F30: Attention required
D31: ▲ | F31: Input error/rules and principles not met
F32: Use of this cell is not appropriate
F33: Enter data
F34: Automatic lookup
F35: Result
D55: On-site baseline map reference number | I55: On-site post-intervention map reference number
D66: Off-site baseline map reference number | I66: Off-site post-intervention reference number

Sheet Main Menu
Q3: Tree helper
Q4: Tree size | R4: Number of trees and area (ha) for each condition state
R5: Poor | S5: Area | T5: Moderate | U5: Area | V5: Good | W5: Area
Q6: Small | R6: 29 | S6: =R6*'G-3 Multipliers'!$Z$4 -> 0.11807362 | U6: =T6*'G-3 Multipliers'!$Z$4 -> 0 | V6: 5 | W6: =V6*'G-3 Multipliers'!$Z$4 -> 0.02035752
Q7: Medium | S7: =R7*'G-3 Multipliers'!$Z$5 -> 0 | T7: 3 | U7: =T7*'G-3 Multipliers'!$Z$5 -> 0.048858049 | V7: 3 | W7: =V7*'G-3 Multipliers'!$Z$5 -> 0.048858049
Q8: Large | S8: =R8*'G-3 Multipliers'!$Z6 -> 0 | T8: 2 | U8: =T8*'G-3 Multipliers'!$Z6 -> 0.073287073 | V8: 2 | W8: =V8*'G-3 Multipliers'!$Z6 -> 0.073287073
Q9: Very large | S9: =R9*'G-3 Multipliers'!$Z7 -> 0 | U9: =T9*'G-3 Multipliers'!$Z7 -> 0 | W9: =V9*'G-3 Multipliers'!$Z7 -> 0
Q10: Total | R10: =SUM(R6:R9) -> 29 | S10: =SUM(S6:S9) -> 0.11807362 | T10: =SUM(T6:T9) -> 5 | U10: =SUM(U6:U9) -> 0.12214512 | V10: =SUM(V6:V9) -> 10 | W10: =SUM(W6:W9) -> 0.14250264

Sheet Unit shortfall summary
C2: Unit Shortfall by Tier/Module
C4: Tier | D4: Unit Shortfall
C5: A1 | D5: =IFERROR(IF(OR('Trading Summary Area Habitats'!$K$13<0,'Trading Summary WaterC''s'!$I$13<0),"ERROR",'Unit shortfall calculations'!G9),"Error") -> 0 | E5: =IF(D5=0,"",IF(D5>0,"▲","✓"))
C6: A2 | D6: =IFERROR(IF(OR('Trading Summary Area Habitats'!$K$13<0,'Trading Summary WaterC''s'!$I$13<0),"ERROR",'Unit shortfall calculations'!G10),"Error") -> 0 | E6: =IF(D6=0,"",IF(D6>0,"▲","✓"))
C7: A3 | D7: =IFERROR(IF(OR('Trading Summary Area Habitats'!$K$13<0,'Trading Summary WaterC''s'!$I$13<0),"ERROR",'Unit shortfall calculations'!G11),"Error") -> 0 | E7: =IF(D7=0,"",IF(D7>0,"▲","✓"))
C8: A4 | D8: =IFERROR(IF(OR('Trading Summary Area Habitats'!$K$13<0,'Trading Summary WaterC''s'!$I$13<0),"ERROR",'Unit shortfall calculations'!G12),"Error") -> 0 | E8: =IF(D8=0,"",IF(D8>0,"▲","✓"))
C9: A5 | D9: =IFERROR(IF(OR('Trading Summary Area Habitats'!$K$13<0,'Trading Summary WaterC''s'!$I$13<0),"ERROR",'Unit shortfall calculations'!G13),"Error") -> 0 | E9: =IF(D9=0,"",IF(D9>0,"▲","✓"))
C10: H | D10: =IFERROR(IF(OR('Trading Summary Area Habitats'!K13<0,'Trading Summary WaterC''s'!I13<0),"ERROR",'Unit shortfall calculations'!G14),"Error") -> 0 | E10: =IF(D10=0,"",IF(D10>0,"▲","✓"))
C11: W | D11: =IFERROR(IF(OR('Trading Summary Area Habitats'!K13<0,'Trading Summary WaterC''s'!I13<0),"ERROR",'Unit shortfall calculations'!G15),"Error") -> 0 | E11: =IF(D11=0,"",IF(D11>0,"▲","✓"))
D13: *The spatial risk multiplier has been applied to all unit shortfall values.
C15: =IF(OR('Trading Summary Area Habitats'!$K$13<0,'Trading Summary WaterC''s'!$I$13<0), "ERROR - This metric still includes losses of very high distinctiveness habitat. Losses of very high distinctiveness units must be compensated for through this metric or through bespoke compensation ▲", " ")

Sheet Results

Sheet Headline Results
B2: =IF(Start!$F$12="","",Start!$F$12) -> Chickenhall Lane | F2: =IF(OR(B56="This metric contains deviations from the statutory metric - these deviations are only acceptable in extremely rare circumstances and must be agreed with the consenting body ⚠",B57="You must specify if irreplaceable habitats are on-site at baseline ▲",B58="Unacceptable loss of irreplaceable habitat recorded - no bespoke compensation for lossess has been agreed ▲",),"Errors flagged below - please investigate further ▲","")
B3: =MID(CELL("filename",A1),FIND("]",CELL("filename",A1))+1,256) -> Headline Results
B5: Scroll down for final results ⚠
B8: On-site baseline | F8: Habitat units | H8: =IFERROR('A-1 On-Site Habitat Baseline'!Q259,"Check Data ⚠") -> 2.68433
F9: Hedgerow units | H9: =IFERROR('B-1 On-Site Hedge Baseline'!N258,"Check Data ⚠") -> 0.233
F10: Watercourse units | H10: ='C-1 On-Site WaterC'' Baseline'!R258 -> 0
B12: On-site post-intervention (Including habitat retention, creation & enhancement) | F12: Habitat units | H12: =IFERROR('A-2 On-Site Habitat Creation'!Y257+'A-3 On-Site Habitat Enhancement'!AN258+'A-1 On-Site Habitat Baseline'!U259+'A-1 On-Site Habitat Baseline'!AT259,"Check Data ⚠") -> 1.7006929
F13: Hedgerow units | H13: =IFERROR('B-2 On-Site Hedge Creation'!W260+'B-3 On-Site Hedge Enhancement'!AH258+'B-1 On-Site Hedge Baseline'!R258,"Check Data⚠") -> 0.52141468
F14: Watercourse units | H14: =IFERROR('C-2 On-Site WaterC'' Creation'!Z260 + 'C-3 On-Site WaterC'' Enhancement'!AM258+'C-1 On-Site WaterC'' Baseline'!W258+'C-1 On-Site WaterC'' Baseline'!AT258,"Check Data ⚠") -> 0
B16: On-site net change (units & percentage) | F16: Habitat units | H16: =IFERROR(H12-H8, "Error ▲") -> -0.9836371 | J16: =IF(AND(H8=0, H12=0),0,IF(AND(H8=0,H12>0),"N/A",IFERROR((H12/H8)-1,"Check Data ⚠"))) -> -0.36643673 | K16: =IF(J16="N/A","Zero baseline units - % cannot be calculated",IF(OR(AND(H8=0,H12=0),J16>=Start!$F$22)," ","On-site net gain is less than target set ⚠")) -> On-site net gain is less than target set ⚠
F17: Hedgerow units | H17: =IFERROR(H13-H9, "Error ▲") -> 0.28841468 | J17: =IF(AND(H9=0, H13=0),0,IF(AND(H9=0,H13>0),"N/A",IFERROR((H13/H9)-1,"Check Data ⚠"))) -> 1.2378312 | K17: =IF(J17="N/A","Zero baseline units - % cannot be calculated",IF(OR(AND(H9=0,H13=0),J17>=Start!$F$22)," ","On-site net gain is less than target set ⚠"))
F18: Watercourse units | H18: =IFERROR(H14-H10, "Error ▲") -> 0 | J18: =IF(AND(H10=0, H14=0),0,IF(AND(H10=0,H14>0),"N/A",IFERROR((H14/H10)-1,"Check Data ⚠"))) -> 0 | K18: =IF(J18="N/A","Zero baseline units - % cannot be calculated",IF(OR(AND(H10=0,H14=0),J18>=Start!$F$22)," ","On-site net gain is less than target set ⚠"))
B19: {=IF(OR('Off-site gain site summary'!M7:M107="Error - gain sites must be postive ▲",'Off-site gain site summary'!Z7:Z107="Error - gain sites must be positive ▲",'Off-site gain site summary'!AM7:AM107="Error - gain sites must be postive ▲"),"Error - off-site gain sites must be postive ▲","")}
B20: Off-site baseline | F20: Habitat units | H20: =IFERROR('D-1 Off-Site Habitat Baseline'!T259,"Check Data ⚠") -> 3.38146 | L20: =IFERROR('D-1 Off-Site Habitat Baseline'!Q259,"Check Data ⚠") -> 3.38146
F21: Hedgerow units | H21: =IFERROR('E-1 Off-Site Hedge Baseline'!Q258,"Check Data ⚠") -> 0 | L21: =IFERROR('E-1 Off-Site Hedge Baseline'!N258,"Check Data ⚠") -> 0
F22: Watercourse units | H22: =IFERROR('F-1 Off-Site WaterC'' Baseline'!U258,"Check Data ⚠") -> 1.598868 | L22: =IFERROR('F-1 Off-Site WaterC'' Baseline'!R258,"Check Data ⚠") -> 1.598868
B24: Off-site post-intervention (Including habitat retention, creation & enhancement) | F24: Habitat units | H24: =IFERROR('D-1 Off-Site Habitat Baseline'!$X$259+'D-2 Off-Site Habitat Creation'!AB257+'D-3 Off-Site Habitat Enhancment'!AQ259+'D-1 Off-Site Habitat Baseline'!AS259,"Check Data ⚠") -> 5.2082928 | L24: =IFERROR('D-1 Off-Site Habitat Baseline'!$AY$259+'D-2 Off-Site Habitat Creation'!AA257+'D-3 Off-Site Habitat Enhancment'!AP259,"Check Data ⚠") -> 5.2082928
F25: Hedgerow units | H25: =IFERROR('E-1 Off-Site Hedge Baseline'!U258+'E-2 Off-Site Hedge Creation'!Z260+'E-3 Off-Site Hedge Enhancement'!AK258,"Check Data ⚠") -> 0 | L25: =IFERROR('E-1 Off-Site Hedge Baseline'!AY258+'E-2 Off-Site Hedge Creation'!Y260+'E-3 Off-Site Hedge Enhancement'!AJ258,"Check Data ⚠") -> 0
F26: Watercourse units | H26: =IFERROR('F-1 Off-Site WaterC'' Baseline'!Z258+'F-2 Off-Site WaterC'' Creation'!AC260+'F-3 Off-Site WaterC Enhancement'!AP258+'F-1 Off-Site WaterC'' Baseline'!AT258,"Check Data ⚠") -> 1.864656 | L26: =IFERROR('F-1 Off-Site WaterC'' Baseline'!BA258+'F-2 Off-Site WaterC'' Creation'!AB260+'F-3 Off-Site WaterC Enhancement'!AO258,"Check Data ⚠") -> 1.864656
B28: Off-site net change (units & percentage) | F28: Habitat units | H28: =IFERROR(H24-H20, "Error ▲") -> 1.8268328 | J28: =IF(AND(H20=0, H24=0), 0,IF(AND(H20=0,H24>0),"N/A",IFERROR((H24/H20)-1,"Check Data ⚠"))) -> 0.54024972 | K28: =IF(J28="N/A","Zero baseline units - % cannot be calculated","")
F29: Hedgerow units | H29: =IFERROR(H25-H21, "Error ▲") -> 0 | J29: =IF(AND(H21=0, H25=0), 0,IF(AND(H21=0,H25>0),"N/A",IFERROR((H25/H21)-1,"Check Data ⚠"))) -> 0 | K29: =IF(J29="N/A","Zero baseline units - % cannot be calculated","")
F30: Watercourse units | H30: =IFERROR(H26-H22, "Error ▲") -> 0.265788 | J30: =IF(AND(H22=0, H26=0), 0,IF(AND(H22=0,H26>0),"N/A",IFERROR((H26/H22)-1,"Check Data ⚠"))) -> 0.16623511 | K30: =IF(J30="N/A","Zero baseline units - % cannot be calculated","")
B32: Off-site unit change (with Spatial Risk Multiplier applied) | F32: Habitat units | H32: =IF((H28<=0),"N/A",(L24-L20)) -> 1.8268328 | J32: =IF(H32="N/A", "SRM only applies where unit change is positive (uplift)", " ")
F33: Hedgerow units | H33: =IF((H29<=0),"N/A",(L25-L21)) -> N/A | J33: =IF(H33="N/A", "SRM only applies where unit change is positive", " ") -> SRM only applies where unit change is positive
F34: Watercourse units | H34: =IF((H30<=0),"N/A",(L26-L22)) -> 0.265788 | J34: =IF(H34="N/A", "SRM only applies where unit change is positive", " ")
B37: Combined net unit change (Including all on-site & off-site habitat retention, creation & enhancement) | F37: Habitat units | H37: =IFERROR((H16)+(H28),"Check Data ⚠") -> 0.84319572
F38: Hedgerow units | H38: =IFERROR((H17)+(H29),"Check Data ⚠") -> 0.28841468
F39: Watercourse units | H39: =IFERROR((H18)+(H30),"Check Data ⚠") -> 0.265788
B41: Spatial risk multiplier (SRM) deductions | F41: Habitat units | H41: =IFERROR(H28-H32, "0.00") -> 0
F42: Hedgerow units | H42: =IFERROR(H29-H33, "0.00") -> 0.00
F43: Watercourse units | H43: =IFERROR(H30-H34, "0.00") -> 0
B44: {=IF(OR('A-1 On-Site Habitat Baseline'!Y11:Y258="Yes",'D-1 Off-Site Habitat Baseline'!AB14:AB258="Yes", 'C-1 On-Site WaterC'' Baseline'!AA10:AA257="Yes", 'F-1 Off-Site WaterC'' Baseline'!AD10:AD257="Yes"),"Ensure bespoke compensation has been agreed where stated ⚠","")}
B45: FINAL RESULTS
B47: Total net unit change (Including all on-site & off-site habitat retention, creation & enhancement) | F47: Habitat units | H47: =IFERROR(IF(H32="N/A",(H12-H8)+(H28),(H12-H8)+(H32)),"Check Data ⚠") -> 0.84319572
F48: Hedgerow units | H48: =IFERROR(IF(H33="N/A",(H13-H9)+(H29),(H13-H9)+(H33)),"Check Data ⚠") -> 0.28841468
F49: Watercourse units | H49: =IFERROR(IF(H34="N/A",(H14-H10)+(H30),(H14-H10)+(H34)),"Check Data ⚠") -> 0.265788
B51: Total net % change (Including all on-site & off-site habitat retention, creation & enhancement) | F51: Habitat units | H51: =IF(H47=0,0,IF(H8=0,"N/A",IFERROR((H47/H8),"Check Data ⚠"))) -> 0.31411776 | J51: =IF(H51="N/A","0 baseline units - % cannot be calculated",IF(OR(AND(H8=0,H12=0),H51>=Start!$F$22)," ","Total net gain achieved is less than target set ▲"))
F52: Hedgerow units | H52: =IF(AND(H48=0,H9=0),0,IF(H9=0,"N/A",IFERROR((H48/H9),"Check Data ⚠"))) -> 1.2378312 | J52: =IF(H52="N/A","0 baseline units - % cannot be calculated",IF(OR(AND(H9=0,H13=0),H52>=Start!$F$22)," ","Total net gain achieved is less than target set ▲"))
F53: Watercourse units | H53: =IF(H49=0,0,IF(H10=0,"N/A",IFERROR((H49/H10),"Check Data ⚠"))) -> N/A | J53: =IF(H53="N/A","0 baseline units - % cannot be calculated",IF(OR(AND(H10=0,H14=0),H53>=Start!$F$22)," ","Total net gain achieved is less than target set ▲")) -> 0 baseline units - % cannot be calculated
B55: Trading rules satisfied? | F55: {=IF(OR('Trading Summary Area Habitats'!G5="No ▲",'Trading Summary Area Habitats'!G6="No ▲",'Trading Summary Area Habitats'!G7="No ▲",'Trading Summary Area Habitats'!G8="No ▲",'Trading Summary Hedgerows'!F5="No ▲",'Trading Summary Hedgerows'!F6:H6="No ▲", 'Trading Summary Hedgerows'!F7="No ▲", 'Trading Summary Hedgerows'!F8="No ▲", 'Trading Summary Hedgerows'!F9="No ▲", 'Trading Summary WaterC''s'!G5="No ▲", 'Trading Summary WaterC''s'!G6="No ▲", 'Trading Summary WaterC''s'!G7="No ▲", 'Trading Summary WaterC''s'!G8="No ▲", B58="Unacceptable loss of irreplaceable habitat recorded - no bespoke compensation for lossess has been agreed ▲"),"No - Check Trading Summaries ▲","Yes ✓")} -> Yes ✓
B56: =IF(Start!F27="Yes", "This metric contains deviations from the statutory metric - these deviations are only acceptable in extremely rare circumstances and must be agreed with the consenting body ⚠", "")
B57: =IF(Start!I23="You must specify if irreplaceable habitats are on-site at baseline ▲", "You must specify if irreplaceable habitats are on-site at baseline ▲", "")
B58: {=IF(OR('A-1 On-Site Habitat Baseline'!X11:X258="Any Loss Unacceptable ▲",'D-1 Off-Site Habitat Baseline'!AA11:AA258="Any Loss Unacceptable ▲",'C-1 On-Site WaterC'' Baseline'!Z10:Z257="Any Loss Unacceptable ▲",'F-1 Off-Site WaterC'' Baseline'!AC10:AC256="Any Loss Unacceptable ▲", 'A-1 On-Site Habitat Baseline'!X11:X258="Bespoke compensation must be agreed ▲", 'D-1 Off-Site Habitat Baseline'!AA11:AA258="Bespoke compensation must be agreed ▲"), "Unacceptable loss of irreplaceable habitat recorded - no bespoke compensation for losses has been agreed ▲", "")}
B59: {=IF(OR('A-2 On-Site Habitat Creation'!K6:L6="Error - Area created does not equal area lost ▲", 'D-2 Off-Site Habitat Creation'!L6="Error - Area created does not equal area lost ▲"), "Area created must match area lost for both onsite and offsite ▲", "")}
B60: Unit Type | D60: Target | E60: Baseline Units | F60: Units Required | H60: Unit Deficit
B61: Habitat units | D61: =Start!F22 -> 0.1 | E61: =H8 -> 2.68433 | F61: =IFERROR(E61*(1+D61), "Error ▲") -> 2.952763 | H61: =IF(B19="Error - off-site gain sites must be postive ▲","Error ▲",IFERROR(IF(H32="N/A",(IF(F61-(H12+(H28))<0,0,F61-(H12+(H28)))),(IF(F61-(H12+H32)<0,0,F61-(H12+H32)))),"Error ▲")) -> 0 | J61: =IF(H61=0, "No additional area habitat units required to meet target ✓", " ") -> No additional area habitat units required to meet target ✓
B62: Hedgerow units | D62: =Start!F22 -> 0.1 | E62: =H9 -> 0.233 | F62: =IFERROR(E62*(1+D62), "Error ▲") -> 0.2563 | H62: =IF(B19="Error - off-site gain sites must be postive ▲","Error ▲",IFERROR(IF(H33="N/A",(IF(F62-(H13+(H29))<0,0,F62-(H13+(H29)))),(IF(F62-(H13+H33)<0,0,F62-(H13+H33)))),"Error ▲")) -> 0 | J62: =IF(H62=0, "No additional hedgerow units required to meet target ✓", " ") -> No additional hedgerow units required to meet target ✓
B63: Watercourse units | D63: =Start!F22 -> 0.1 | E63: =H10 -> 0 | F63: =IFERROR(E63*(1+D63), "Error ▲") -> 0 | H63: =IF(B19="Error - off-site gain sites must be postive ▲","Error ▲",IFERROR(IF(H34="N/A",(IF(F63-(H14+(H30))<0,0,F63-(H14+(H30)))),(IF(F63-(H14+H34)<0,0,F63-(H14+H34)))),"Error ▲")) -> 0 | J63: =IF(H63=0, "No additional watercourse units required to meet target ✓", " ") -> No additional watercourse units required to meet target ✓
B94: {=IF(OR(ISNUMBER(SEARCH("▲",A1:K64))),"Input errors/rule breaks present in metric ▲",IF(OR(ISNUMBER(SEARCH("▲",'A-1 On-Site Habitat Baseline'!D1:AB261))),"Input errors/rule breaks present in metric ▲",IF(OR(ISNUMBER(SEARCH("▲",'A-2 On-Site Habitat Creation'!D1:AB259))),"Input errors/rule breaks present in metric ▲",IF(OR(ISNUMBER(SEARCH("▲",'A-3 On-Site Habitat Enhancement'!E1:AR261))),"Input errors/rule breaks present in metric ▲",IF(OR(ISNUMBER(SEARCH("▲",'D-1 Off-Site Habitat Baseline'!D1:AF264))),"Input errors/rule breaks present in metric ▲",IF(OR(ISNUMBER(SEARCH("▲",'D-2 Off-Site Habitat Creation'!D1:AG262))),"Input errors/rule breaks present in metric ▲",IF(OR(ISNUMBER(SEARCH("▲",'D-3 Off-Site Habitat Enhancment'!E1:AU262))),"Input errors/rule breaks present in metric ▲",IF(OR(ISNUMBER(SEARCH("▲",'B-1 On-Site Hedge Baseline'!A1:X263))),"Input errors/rule breaks present in metric ▲",IF(OR(ISNUMBER(SEARCH("▲",'B-3 On-Site Hedge Enhancement'!A1:AK264))),"Input errors/rule breaks present in metric ▲",IF(OR(ISNUMBER(SEARCH("▲",'B-2 On-Site Hedge Creation'!A1:Z262))),"Input errors/rule breaks present in metric ▲",IF(OR(ISNUMBER(SEARCH("▲",'E-1 Off-Site Hedge Baseline'!A1:XAB261))),"Input errors/rule breaks present in metric ▲",IF(OR(ISNUMBER(SEARCH("▲",'E-2 Off-Site Hedge Creation'!A1:AE262))),"Input errors/rule breaks present in metric ▲",IF(OR(ISNUMBER(SEARCH("▲",'E-3 Off-Site Hedge Enhancement'!A1:AO261))),"Input errors/rule breaks present in metric ▲",IF(OR(ISNUMBER(SEARCH("▲",'C-1 On-Site WaterC'' Baseline'!A1:AD264))),"Input errors/rule breaks present in metric ▲",IF(OR(ISNUMBER(SEARCH("▲",'C-2 On-Site WaterC'' Creation'!A2:AC261))),"Input errors/rule breaks present in metric ▲",IF(OR(ISNUMBER(SEARCH("▲",'C-3 On-Site WaterC'' Enhancement'!A1:AP262))),"Input errors/rule breaks present in metric ▲",IF(OR(ISNUMBER(SEARCH("▲",'F-1 Off-Site WaterC'' Baseline'!A1:AH263))),"Input errors/rule breaks present in metric ▲",IF(OR(ISNUMBER(SEARCH("▲",'F-2 Off-Site WaterC'' Creation'!A1:AH262))),"Input errors/rule breaks present in metric ▲",IF(OR(ISNUMBER(SEARCH("▲",'F-3 Off-Site WaterC Enhancement'!B1:AT260))),"Input errors/rule breaks present in metric ▲",IF(OR(ISNUMBER(SEARCH("▲",Start!A1:R28))),"Input errors/rule breaks present in metric ▲",""))))))))))))))))))))}

Sheet Detailed Results
B2: =IF(Start!$F$12="","",Start!$F$12) -> Chickenhall Lane
B3: =MID(CELL("filename",A1),FIND("]",CELL("filename",A1))+1,256) -> Detailed Results
B7: Summary Figures
B10: Net project biodiversity units (Including all on-site & off-site habitat retention / creation) | F10: Habitat units | H10: =IFERROR('Headline Results'!$H$47:$I$47,"Check Data ⚠") -> 0.84319572
F11: Hedgerow units | H11: =IFERROR('Headline Results'!$H$48:$I$48,"Check Data ⚠") -> 0.28841468
F12: Watercourse units | H12: =IFERROR('Headline Results'!$H$49:$I$49,"Check Data ⚠") -> 0.265788
B14: Total project biodiversity % change (Including all on-site & off-site habitat creation + retained habitats) | F14: Habitat units | H14: =IFERROR('Headline Results'!$H$51:$I$51,"Check Data ⚠") -> 0.31411776
F15: Hedgerow units | H15: =IFERROR('Headline Results'!$H$52:$I$52,"Check Data ⚠") -> 1.2378312
F16: Watercourse units | H16: =IFERROR('Headline Results'!$H$53:$I$53,"Check Data ⚠") -> N/A
B18: Combined habitat retention and enhancement
D20: Habitats | F20: Hedgerows | H20: Watercourses
B21: Total on-site and off-site baseline area / length | D21: =IFERROR('A-1 On-Site Habitat Baseline'!$H259+'D-1 Off-Site Habitat Baseline'!H259,"Error ▲") -> 1.3631 | F21: ='B-1 On-Site Hedge Baseline'!$E$258+'E-1 Off-Site Hedge Baseline'!$E$258 -> 0.123 | H21: ='C-1 On-Site WaterC'' Baseline'!$E$258+'F-1 Off-Site WaterC'' Baseline'!$E$258 -> 0.149
B22: Total on-site and off-site baseline units | D22: =IFERROR('A-1 On-Site Habitat Baseline'!$Q259+'D-1 Off-Site Habitat Baseline'!T259,"Error ▲") -> 6.06579 | F22: ='B-1 On-Site Hedge Baseline'!$N$258+'E-1 Off-Site Hedge Baseline'!$Q$258 -> 0.233 | H22: ='C-1 On-Site WaterC'' Baseline'!$R$258+'F-1 Off-Site WaterC'' Baseline'!$U$258 -> 1.598868
B24: Total on-site and off-site baseline area / length retained | D24: =IFERROR('A-1 On-Site Habitat Baseline'!$S259+'D-1 Off-Site Habitat Baseline'!V259,"Error ▲") -> 0.3583 | F24: ='B-1 On-Site Hedge Baseline'!$P$258+'E-1 Off-Site Hedge Baseline'!$S$258 -> 0 | H24: ='C-1 On-Site WaterC'' Baseline'!U258+'F-1 Off-Site WaterC'' Baseline'!X258 -> 0
B25: Total on-site and off-site baseline units retained | D25: =IFERROR('A-1 On-Site Habitat Baseline'!$U259+'D-1 Off-Site Habitat Baseline'!X259,"Error ▲") -> 2.77449 | F25: ='B-1 On-Site Hedge Baseline'!R258+'E-1 Off-Site Hedge Baseline'!U258 -> 0 | H25: ='C-1 On-Site WaterC'' Baseline'!W258+'F-1 Off-Site WaterC'' Baseline'!Z258 -> 0
B27: Total on-site and off-site area / length proposed for enhancement | D27: =IFERROR('A-1 On-Site Habitat Baseline'!$T259+'D-1 Off-Site Habitat Baseline'!W259,"Error ▲") -> 0 | F27: ='B-1 On-Site Hedge Baseline'!$Q$258+'E-1 Off-Site Hedge Baseline'!$T$258 -> 0.11 | H27: ='C-1 On-Site WaterC'' Baseline'!V258+'F-1 Off-Site WaterC'' Baseline'!Y258 -> 0.149
B28: Total on-site and off-site baseline units proposed for enhancement | D28: =IFERROR('A-1 On-Site Habitat Baseline'!$V259+'D-1 Off-Site Habitat Baseline'!Y259,"Error ▲") -> 0 | F28: ='B-1 On-Site Hedge Baseline'!$S$258+'E-1 Off-Site Hedge Baseline'!$V$258 -> 0.22 | H28: ='C-1 On-Site WaterC'' Baseline'!X258+'F-1 Off-Site WaterC'' Baseline'!AA258 -> 1.598868
B30: Total on-site and off-site baseline area / length lost | D30: =IFERROR('A-1 On-Site Habitat Baseline'!$W259+'D-1 Off-Site Habitat Baseline'!Z259,"Error ▲") -> 1.0048 | F30: ='B-1 On-Site Hedge Baseline'!$T$258+'E-1 Off-Site Hedge Baseline'!$W$258 -> 0.013 | H30: ='C-1 On-Site WaterC'' Baseline'!Y258+'F-1 Off-Site WaterC'' Baseline'!AB258 -> 0
B31: Total on-site and off-site baseline units lost | D31: =IFERROR('A-1 On-Site Habitat Baseline'!$X259+'D-1 Off-Site Habitat Baseline'!AA259,"Error ▲") -> 3.2913 | F31: ='B-1 On-Site Hedge Baseline'!$U$258+'E-1 Off-Site Hedge Baseline'!$X$258 -> 0.013 | H31: ='C-1 On-Site WaterC'' Baseline'!Z258+'F-1 Off-Site WaterC'' Baseline'!AC258 -> 0
A33: Area Habitats Area Habitats Area Habitats
B34: Area habitats
B36: On-site change by broad habitat type | J36: Combined area lost from baseline(s) by distinctiveness band
C37: Baseline | E37: Post-development on-site | G37: On-site change
B38: Habitat group | C38: On-site existing area | D38: On-site existing value | E38: On-site proposed area | F38: On-site proposed value | G38: On-site area change | H38: On-site unit change | J38: Category | K38: Area lost (hectares) | L38: Area lost (%)
B39: Cropland | C39: ='G-2 Habitat groups'!$AK$4 -> 0 | D39: ='G-2 Habitat groups'!$AL$4 -> 0 | E39: ='G-2 Habitat groups'!$AM$4 -> 0 | F39: ='G-2 Habitat groups'!$AN$4 -> 0 | G39: =E39-C39 -> 0 | H39: =F39-D39 -> 0
B40: Grassland | C40: ='G-2 Habitat groups'!$AK$5 -> 0.4638 | D40: ='G-2 Habitat groups'!$AL$5 -> 1.45889 | E40: ='G-2 Habitat groups'!$AM$5 -> 0.1669 | F40: ='G-2 Habitat groups'!$AN$5 -> 0.65982628 | G40: =E40-C40 -> -0.2969 | H40: =F40-D40 -> -0.79906372 | J40: ='G-1 All Habitats'!$V$3 -> V.High | K40: =SUMIF('A-1 On-Site Habitat Baseline'!$I$11:$I$258,'Detailed Results'!J40,'A-1 On-Site Habitat Baseline'!$W$11:$W$258)+SUMIF('D-1 Off-Site Habitat Baseline'!$I$11:$I$258,'Detailed Results'!J40,'D-1 Off-Site Habitat Baseline'!$Z$11:$Z$258) -> 0 | L40: =IF(K40=0,"",(K40/(SUM($K$40:$K$49)))*100)
B41: Heathland and shrub | C41: ='G-2 Habitat groups'!$AK$6 -> 0 | D41: ='G-2 Habitat groups'!$AL$6 -> 0 | E41: ='G-2 Habitat groups'!$AM$6 -> 0.0298 | F41: ='G-2 Habitat groups'!$AN$6 -> 0.1322822 | G41: =E41-C41 -> 0.0298 | H41: =F41-D41 -> 0.1322822
B42: Lakes | C42: ='G-2 Habitat groups'!$AK$7 -> 0 | D42: ='G-2 Habitat groups'!$AL$7 -> 0 | E42: ='G-2 Habitat groups'!$AM$7 -> 0 | F42: ='G-2 Habitat groups'!$AN$7 -> 0 | G42: =E42-C42 -> 0 | H42: =F42-D42 -> 0 | J42: ='G-1 All Habitats'!$V$4 -> High | K42: =SUMIF('A-1 On-Site Habitat Baseline'!$I$11:$I$258,'Detailed Results'!J42,'A-1 On-Site Habitat Baseline'!$W$11:$W$258)+SUMIF('D-1 Off-Site Habitat Baseline'!$I$11:$I$258,'Detailed Results'!J42,'D-1 Off-Site Habitat Baseline'!$Z$11:$Z$258) -> 0 | L42: =IF(K42=0,"",(K42/(SUM($K$40:$K$49)))*100)
B43: Sparsely vegetated land | C43: ='G-2 Habitat groups'!$AK$8 -> 0.076 | D43: ='G-2 Habitat groups'!$AL$8 -> 0.1748 | E43: ='G-2 Habitat groups'!$AM$8 -> 0.0215 | F43: ='G-2 Habitat groups'!$AN$8 -> 0.04945 | G43: =E43-C43 -> -0.0545 | H43: =F43-D43 -> -0.12535
B44: Urban | C44: ='G-2 Habitat groups'!$AK$9 -> 0.078 | D44: ='G-2 Habitat groups'!$AL$9 -> 0.07636 | E44: ='G-2 Habitat groups'!$AM$9 -> 0.3996 | F44: ='G-2 Habitat groups'!$AN$9 -> 0.19772406 | G44: =E44-C44 -> 0.3216 | H44: =F44-D44 -> 0.12136406 | J44: ='G-1 All Habitats'!$V5 -> Medium | K44: =SUMIF('A-1 On-Site Habitat Baseline'!$I$11:$I$258,'Detailed Results'!J44,'A-1 On-Site Habitat Baseline'!$W$11:$W$258)+SUMIF('D-1 Off-Site Habitat Baseline'!$I$11:$I$258,'Detailed Results'!J44,'D-1 Off-Site Habitat Baseline'!$Z$11:$Z$258) -> 0.3244 | L44: =IF(K44=0,"",(K44/(SUM($K$40:$K$49)))*100) -> 32.285032
B45: Wetland | C45: ='G-2 Habitat groups'!$AK$10 -> 0 | D45: ='G-2 Habitat groups'!$AL$10 -> 0 | E45: ='G-2 Habitat groups'!$AM$10 -> 0 | F45: ='G-2 Habitat groups'!$AN$10 -> 0 | G45: =E45-C45 -> 0 | H45: =F45-D45 -> 0
B46: Woodland and forest | C46: ='G-2 Habitat groups'!$AK$11 -> 0 | D46: ='G-2 Habitat groups'!$AL$11 -> 0 | E46: ='G-2 Habitat groups'!$AM$11 -> 0 | F46: ='G-2 Habitat groups'!$AN$11 -> 0 | G46: =E46-C46 -> 0 | H46: =F46-D46 -> 0 | J46: ='G-1 All Habitats'!$V$6 -> Low | K46: =SUMIF('A-1 On-Site Habitat Baseline'!$I$11:$I$258,'Detailed Results'!J46,'A-1 On-Site Habitat Baseline'!$W$11:$W$258)+SUMIF('D-1 Off-Site Habitat Baseline'!$I$11:$I$258,'Detailed Results'!J46,'D-1 Off-Site Habitat Baseline'!$Z$11:$Z$258) -> 0.6356 | L46: =IF(K46=0,"",(K46/(SUM($K$40:$K$49)))*100) -> 63.256369
B47: Intertidal sediment | C47: ='G-2 Habitat groups'!$AK$12 -> 0 | D47: ='G-2 Habitat groups'!$AL$12 -> 0 | E47: ='G-2 Habitat groups'!$AM$12 -> 0 | F47: ='G-2 Habitat groups'!$AN$12 -> 0 | G47: =E47-C47 -> 0 | H47: =F47-D47 -> 0
B48: Coastal saltmarsh | C48: ='G-2 Habitat groups'!$AK$13 -> 0 | D48: ='G-2 Habitat groups'!$AL$13 -> 0 | E48: ='G-2 Habitat groups'!$AM$13 -> 0 | F48: ='G-2 Habitat groups'!$AN$13 -> 0 | G48: =E48-C48 -> 0 | H48: =F48-D48 -> 0 | J48: ='G-1 All Habitats'!$V$7 -> V.Low | K48: =SUMIF('A-1 On-Site Habitat Baseline'!$I$11:$I$258,'Detailed Results'!J48,'A-1 On-Site Habitat Baseline'!$W$11:$W$258)+SUMIF('D-1 Off-Site Habitat Baseline'!$I$11:$I$258,'Detailed Results'!J48,'D-1 Off-Site Habitat Baseline'!$Z$11:$Z$258) -> 0.0448 | L48: =IF(K48=0,"",(K48/(SUM($K$40:$K$49)))*100) -> 4.4585987
B49: Rocky shore | C49: ='G-2 Habitat groups'!$AK$14 -> 0 | D49: ='G-2 Habitat groups'!$AL$14 -> 0 | E49: ='G-2 Habitat groups'!$AM$14 -> 0 | F49: ='G-2 Habitat groups'!$AN$14 -> 0 | G49: =E49-C49 -> 0 | H49: =F49-D49 -> 0
B50: Coastal lagoons | C50: ='G-2 Habitat groups'!$AK$15 -> 0 | D50: ='G-2 Habitat groups'!$AL$15 -> 0 | E50: ='G-2 Habitat groups'!$AM$15 -> 0 | F50: ='G-2 Habitat groups'!$AN$15 -> 0 | G50: =E50-C50 -> 0 | H50: =F50-D50 -> 0
B51: Intertidal hard structures | C51: ='G-2 Habitat groups'!$AK$16 -> 0 | D51: ='G-2 Habitat groups'!$AL$16 -> 0 | E51: ='G-2 Habitat groups'!$AM$16 -> 0 | F51: ='G-2 Habitat groups'!$AN$16 -> 0 | G51: =E51-C51 -> 0 | H51: =F51-D51 -> 0
B52: Watercourse footprint | C52: ='G-2 Habitat groups'!$AK$18 -> 0 | D52: ='G-2 Habitat groups'!$AL$18 -> 0 | E52: ='G-2 Habitat groups'!$AM$18 -> 0 | F52: ='G-2 Habitat groups'!$AN$18 -> 0 | G52: =E52-C52 -> 0 | H52: =F52-D52 -> 0
B53: Individual trees | C53: ='G-2 Habitat groups'!$AK$17 -> 0.1059 | D53: ='G-2 Habitat groups'!$AL$17 -> 0.97428 | E53: ='G-2 Habitat groups'!$AM$17 -> 0.14657362 | F53: ='G-2 Habitat groups'!$AN$17 -> 0.66141036 | G53: =E53-C53 -> 0.040673618 | H53: =F53-D53 -> -0.31286964
B56: Off-site change by broad habitat type
C57: Baseline | E57: Post-development off-site | G57: Off-site change
B58: Habitat group | C58: Off-site existing area | D58: Off-site existing value | E58: Off-site proposed area | F58: Off-site proposed value | G58: Off-site area change | H58: Off-site unit change
B59: Cropland | C59: ='G-2 Habitat groups'!$AK$21 -> 0 | D59: ='G-2 Habitat groups'!$AL$21 -> 0 | E59: ='G-2 Habitat groups'!$AM$21 -> 0 | F59: ='G-2 Habitat groups'!$AN$21 -> 0 | G59: =E59-C59 -> 0 | H59: =F59-D59 -> 0
B60: Grassland | C60: ='G-2 Habitat groups'!$AK$22 -> 0.2539 | D60: ='G-2 Habitat groups'!$AL$22 -> 0.75992 | E60: ='G-2 Habitat groups'!$AM$22 -> 0.1331 | F60: ='G-2 Habitat groups'!$AN$22 -> 1.2862645 | G60: =E60-C60 -> -0.1208 | H60: =F60-D60 -> 0.52634448
B61: Heathland and shrub | C61: ='G-2 Habitat groups'!$AK$23 -> 0 | D61: ='G-2 Habitat groups'!$AL$23 -> 0 | E61: ='G-2 Habitat groups'!$AM$23 -> 0.1943 | F61: ='G-2 Habitat groups'!$AN$23 -> 1.099816 | G61: =E61-C61 -> 0.1943 | H61: =F61-D61 -> 1.099816
B62: Lakes | C62: ='G-2 Habitat groups'!$AK$24 -> 0 | D62: ='G-2 Habitat groups'!$AL$24 -> 0 | E62: ='G-2 Habitat groups'!$AM$24 -> 0 | F62: ='G-2 Habitat groups'!$AN$24 -> 0 | G62: =E62-C62 -> 0 | H62: =F62-D62 -> 0
B63: Sparsely vegetated land | C63: ='G-2 Habitat groups'!$AK$25 -> 0.012 | D63: ='G-2 Habitat groups'!$AL$25 -> 0.0276 | E63: ='G-2 Habitat groups'!$AM$25 -> 0.012 | F63: ='G-2 Habitat groups'!$AN$25 -> 0.0276 | G63: =E63-C63 -> 0 | H63: =F63-D63 -> 0
B64: Urban | C64: ='G-2 Habitat groups'!$AK$26 -> 0.0772 | D64: ='G-2 Habitat groups'!$AL$26 -> 0.17756 | E64: ='G-2 Habitat groups'!$AM$26 -> 0.0037 | F64: ='G-2 Habitat groups'!$AN$26 -> 0.011004281 | G64: =E64-C64 -> -0.0735 | H64: =F64-D64 -> -0.16655572
B65: Wetland | C65: ='G-2 Habitat groups'!$AK$27 -> 0 | D65: ='G-2 Habitat groups'!$AL$27 -> 0 | E65: ='G-2 Habitat groups'!$AM$27 -> 0 | F65: ='G-2 Habitat groups'!$AN$27 -> 0 | G65: =E65-C65 -> 0 | H65: =F65-D65 -> 0
B66: Woodland and forest | C66: ='G-2 Habitat groups'!$AK$28 -> 0 | D66: ='G-2 Habitat groups'!$AL$28 -> 0 | E66: ='G-2 Habitat groups'!$AM$28 -> 0 | F66: ='G-2 Habitat groups'!$AN$28 -> 0 | G66: =E66-C66 -> 0 | H66: =F66-D66 -> 0
B67: Intertidal sediment | C67: ='G-2 Habitat groups'!$AK$29 -> 0 | D67: ='G-2 Habitat groups'!$AL$29 -> 0 | E67: ='G-2 Habitat groups'!$AM$29 -> 0 | F67: ='G-2 Habitat groups'!$AN$29 -> 0 | G67: =E67-C67 -> 0 | H67: =F67-D67 -> 0
B68: Coastal saltmarsh | C68: ='G-2 Habitat groups'!$AK$30 -> 0 | D68: ='G-2 Habitat groups'!$AL$30 -> 0 | E68: ='G-2 Habitat groups'!$AM$30 -> 0 | F68: ='G-2 Habitat groups'!$AN$30 -> 0 | G68: =E68-C68 -> 0 | H68: =F68-D68 -> 0
B69: Rocky shore | C69: ='G-2 Habitat groups'!$AK$31 -> 0 | D69: ='G-2 Habitat groups'!$AL$31 -> 0 | E69: ='G-2 Habitat groups'!$AM$31 -> 0 | F69: ='G-2 Habitat groups'!$AN$31 -> 0 | G69: =E69-C69 -> 0 | H69: =F69-D69 -> 0
B70: Coastal lagoons | C70: ='G-2 Habitat groups'!$AK$32 -> 0 | D70: ='G-2 Habitat groups'!$AL$32 -> 0 | E70: ='G-2 Habitat groups'!$AM$32 -> 0 | F70: ='G-2 Habitat groups'!$AN$32 -> 0 | G70: =E70-C70 -> 0 | H70: =F70-D70 -> 0
B71: Intertidal hard structures | C71: ='G-2 Habitat groups'!$AK$33 -> 0 | D71: ='G-2 Habitat groups'!$AL$33 -> 0 | E71: ='G-2 Habitat groups'!$AM$33 -> 0 | F71: ='G-2 Habitat groups'!$AN$33 -> 0 | G71: =E71-C71 -> 0 | H71: =F71-D71 -> 0
B72: Watercourse footprint | C72: ='G-2 Habitat groups'!$AK$35 -> 0.1049 | D72: ='G-2 Habitat groups'!$AL$35 -> 0 | E72: ='G-2 Habitat groups'!$AM$35 -> 0.1049 | F72: ='G-2 Habitat groups'!$AN$35 -> 0 | G72: =E72-C72 -> 0 | H72: =F72-D72 -> 0
B73: Individual trees | C73: ='G-2 Habitat groups'!$AK$34 -> 0.1914 | D73: ='G-2 Habitat groups'!$AL$34 -> 2.41638 | E73: ='G-2 Habitat groups'!$AM$34 -> 0.3054 | F73: ='G-2 Habitat groups'!$AN$34 -> 2.783608 | G73: =E73-C73 -> 0.114 | H73: =F73-D73 -> 0.36722802
B75: Combined on-site and off-site change by broad habitat type
C76: Baseline | E76: On-site and off-site post-development | G76: Combined change
B77: Habitat group | C77: Combined existing area | D77: Combined existing value | E77: Combined proposed area | F77: Combined proposed value | G77: Combined area change | H77: Combined unit change
B78: Cropland | C78: =C39+C59 -> 0 | D78: =D39+D59 -> 0 | E78: =E39+E59 -> 0 | F78: =F39+F59 -> 0 | G78: =G39+G59 -> 0 | H78: =H39+H59 -> 0
B79: Grassland | C79: =C40+C60 -> 0.7177 | D79: =D40+D60 -> 2.21881 | E79: =E40+E60 -> 0.3 | F79: =F40+F60 -> 1.9460908 | G79: =G40+G60 -> -0.4177 | H79: =H40+H60 -> -0.27271925
B80: Heathland and shrub | C80: =C41+C61 -> 0 | D80: =D41+D61 -> 0 | E80: =E41+E61 -> 0.2241 | F80: =F41+F61 -> 1.2320982 | G80: =G41+G61 -> 0.2241 | H80: =H41+H61 -> 1.2320982
B81: Lakes | C81: =C42+C62 -> 0 | D81: =D42+D62 -> 0 | E81: =E42+E62 -> 0 | F81: =F42+F62 -> 0 | G81: =G42+G62 -> 0 | H81: =H42+H62 -> 0
B82: Sparsely vegetated land | C82: =C43+C63 -> 0.088 | D82: =D43+D63 -> 0.2024 | E82: =E43+E63 -> 0.0335 | F82: =F43+F63 -> 0.07705 | G82: =G43+G63 -> -0.0545 | H82: =H43+H63 -> -0.12535
B83: Urban | C83: =C44+C64 -> 0.1552 | D83: =D44+D64 -> 0.25392 | E83: =E44+E64 -> 0.4033 | F83: =F44+F64 -> 0.20872834 | G83: =G44+G64 -> 0.2481 | H83: =H44+H64 -> -0.045191661
B84: Wetland | C84: =C45+C65 -> 0 | D84: =D45+D65 -> 0 | E84: =E45+E65 -> 0 | F84: =F45+F65 -> 0 | G84: =G45+G65 -> 0 | H84: =H45+H65 -> 0
B85: Woodland and forest | C85: =C46+C66 -> 0 | D85: =D46+D66 -> 0 | E85: =E46+E66 -> 0 | F85: =F46+F66 -> 0 | G85: =G46+G66 -> 0 | H85: =H46+H66 -> 0
B86: Intertidal sediment | C86: =C47+C67 -> 0 | D86: =D47+D67 -> 0 | E86: =E47+E67 -> 0 | F86: =F47+F67 -> 0 | G86: =G47+G67 -> 0 | H86: =H47+H67 -> 0
B87: Coastal saltmarsh | C87: =C48+C68 -> 0 | D87: =D48+D68 -> 0 | E87: =E48+E68 -> 0 | F87: =F48+F68 -> 0 | G87: =G48+G68 -> 0 | H87: =H48+H68 -> 0
B88: Rocky shore | C88: =C49+C69 -> 0 | D88: =D49+D69 -> 0 | E88: =E49+E69 -> 0 | F88: =F49+F69 -> 0 | G88: =G49+G69 -> 0 | H88: =H49+H69 -> 0
B89: Coastal lagoons | C89: =C50+C70 -> 0 | D89: =D50+D70 -> 0 | E89: =E50+E70 -> 0 | F89: =F50+F70 -> 0 | G89: =G50+G70 -> 0 | H89: =H50+H70 -> 0
... B92: Individual trees | C92: =C53+C73 -> 0.2973 | D92: =D53+D73 -> 3.39066 | E92: =E53+E73 -> 0.45197362 | F92: =F53+F73 -> 3.4450184 | G92: =G53+G73 -> 0.15467362 | H92: =H53+H73 -> 0.05435839
A93: Hedgerows and Lines of Trees Hedgerows and Lines of Trees Hedgerows and Lines of Trees
B94: Hedgerows and lines of trees
B97: On-site change by hedgerow type | J97: Combined length lost from baseline(s) by distinctiveness band
C98: Baseline | E98: Post-development on-site | G98: On-site change
B99: Hedgerow type | C99: On-site existing length | D99: On-site existing value | E99: On-site proposed length | F99: On-site proposed value | G99: On-site length change | H99: On-site unit change | J99: Category | K99: Length lost (km) | L99: Length lost (%)
B100: Species-rich native hedgerow with trees - associated with bank or ditch | C100: ='G-2 Habitat groups'!E150 -> 0 | D100: ='G-2 Habitat groups'!F150 -> 0 | E100: ='G-2 Habitat groups'!O150 -> 0 | F100: ='G-2 Habitat groups'!P150 -> 0 | G100: =E100-C100 -> 0 | H100: =F100-D100 -> 0
B101: Species-rich native hedgerow with trees | C101: ='G-2 Habitat groups'!E151 -> 0 | D101: ='G-2 Habitat groups'!F151 -> 0 | E101: ='G-2 Habitat groups'!O151 -> 0 | F101: ='G-2 Habitat groups'!P151 -> 0 | G101: =E101-C101 -> 0 | H101: =F101-D101 -> 0 | J101: ='G-1 All Habitats'!$V$3 -> V.High | K101: =SUMIF('B-1 On-Site Hedge Baseline'!$F$10:$F$257,'Detailed Results'!J101,'B-1 On-Site Hedge Baseline'!$T$10:$T$257)+SUMIF('E-1 Off-Site Hedge Baseline'!$F$10:$F$257,'Detailed Results'!J101,'E-1 Off-Site Hedge Baseline'!$W$10:$W$257) -> 0 | L101: =IF(K101=0,"",(K101/(SUM($K$101:$K$110)))*100)
B102: Species-rich native hedgerow - associated with bank or ditch | C102: ='G-2 Habitat groups'!E152 -> 0 | D102: ='G-2 Habitat groups'!F152 -> 0 | E102: ='G-2 Habitat groups'!O152 -> 0 | F102: ='G-2 Habitat groups'!P152 -> 0 | G102: =E102-C102 -> 0 | H102: =F102-D102 -> 0
B103: Native hedgerow with trees - associated with bank or ditch | C103: ='G-2 Habitat groups'!E153 -> 0 | D103: ='G-2 Habitat groups'!F153 -> 0 | E103: ='G-2 Habitat groups'!O153 -> 0 | F103: ='G-2 Habitat groups'!P153 -> 0 | G103: =E103-C103 -> 0 | H103: =F103-D103 -> 0 | J103: ='G-1 All Habitats'!$V$4 -> High | K103: =SUMIF('B-1 On-Site Hedge Baseline'!$F$10:$F$257,'Detailed Results'!J103,'B-1 On-Site Hedge Baseline'!$T$10:$T$257)+SUMIF('E-1 Off-Site Hedge Baseline'!$F$10:$F$257,'Detailed Results'!J103,'E-1 Off-Site Hedge Baseline'!$W$10:$W$257) -> 0 | L103: =IF(K103=0,"",(K103/(SUM($K$101:$K$110)))*100)
B104: Species-rich native hedgerow | C104: ='G-2 Habitat groups'!E154 -> 0 | D104: ='G-2 Habitat groups'!F154 -> 0 | E104: ='G-2 Habitat groups'!O154 -> 0 | F104: ='G-2 Habitat groups'!P154 -> 0 | G104: =E104-C104 -> 0 | H104: =F104-D104 -> 0
B105: Native hedgerow - associated with bank or ditch | C105: ='G-2 Habitat groups'!E155 -> 0 | D105: ='G-2 Habitat groups'!F155 -> 0 | E105: ='G-2 Habitat groups'!O155 -> 0 | F105: ='G-2 Habitat groups'!P155 -> 0 | G105: =E105-C105 -> 0 | H105: =F105-D105 -> 0 | J105: ='G-1 All Habitats'!$V$5 -> Medium | K105: =SUMIF('B-1 On-Site Hedge Baseline'!$F$10:$F$257,'Detailed Results'!J105,'B-1 On-Site Hedge Baseline'!$T$10:$T$257)+SUMIF('E-1 Off-Site Hedge Baseline'!$F$10:$F$257,'Detailed Results'!J105,'E-1 Off-Site Hedge Baseline'!$W$10:$W$257) -> 0 | L105: =IF(K105=0,"",(K105/(SUM($K$101:$K$110)))*100)
B106: Native hedgerow with trees | C106: ='G-2 Habitat groups'!E156 -> 0 | D106: ='G-2 Habitat groups'!F156 -> 0 | E106: ='G-2 Habitat groups'!O156 -> 0 | F106: ='G-2 Habitat groups'!P156 -> 0 | G106: =E106-C106 -> 0 | H106: =F106-D106 -> 0
B107: Ecologically valuable line of trees | C107: ='G-2 Habitat groups'!E157 -> 0 | D107: ='G-2 Habitat groups'!F157 -> 0 | E107: ='G-2 Habitat groups'!O157 -> 0 | F107: ='G-2 Habitat groups'!P157 -> 0 | G107: =E107-C107 -> 0 | H107: =F107-D107 -> 0 | J107: ='G-1 All Habitats'!$V$6 -> Low | K107: =SUMIF('B-1 On-Site Hedge Baseline'!$F$10:$F$257,'Detailed Results'!J107,'B-1 On-Site Hedge Baseline'!$T$10:$T$257)+SUMIF('E-1 Off-Site Hedge Baseline'!$F$10:$F$257,'Detailed Results'!J107,'E-1 Off-Site Hedge Baseline'!$W$10:$W$257) -> 0 | L107: =IF(K107=0,"",(K107/(SUM($K$101:$K$110)))*100)
B108: Ecologically valuable line of trees - associated with bank or ditch | C108: ='G-2 Habitat groups'!E158 -> 0 | D108: ='G-2 Habitat groups'!F158 -> 0 | E108: ='G-2 Habitat groups'!O158 -> 0 | F108: ='G-2 Habitat groups'!P158 -> 0 | G108: =E108-C108 -> 0 | H108: =F108-D108 -> 0
B109: Native hedgerow | C109: ='G-2 Habitat groups'!E159 -> 0.11 | D109: ='G-2 Habitat groups'!F159 -> 0.22 | E109: ='G-2 Habitat groups'!O159 -> 0.11 | F109: ='G-2 Habitat groups'!P159 -> 0.48035393 | G109: =E109-C109 -> 0 | H109: =F109-D109 -> 0.26035393 | J109: ='G-1 All Habitats'!$V$7 -> V.Low | K109: =SUMIF('B-1 On-Site Hedge Baseline'!$F$10:$F$257,'Detailed Results'!J109,'B-1 On-Site Hedge Baseline'!$T$10:$T$257)+SUMIF('E-1 Off-Site Hedge Baseline'!$F$10:$F$257,'Detailed Results'!J109,'E-1 Off-Site Hedge Baseline'!$W$10:$W$257) -> 0.013 | L109: =IF(K109=0,"",(K109/(SUM($K$101:$K$110)))*100) -> 100
B110: Line of trees | C110: ='G-2 Habitat groups'!E160 -> 0 | D110: ='G-2 Habitat groups'!F160 -> 0 | E110: ='G-2 Habitat groups'!O160 -> 0 | F110: ='G-2 Habitat groups'!P160 -> 0 | G110: =E110-C110 -> 0 | H110: =F110-D110 -> 0
B111: Line of trees - associated with bank or ditch | C111: ='G-2 Habitat groups'!E161 -> 0 | D111: ='G-2 Habitat groups'!F161 -> 0 | E111: ='G-2 Habitat groups'!O161 -> 0 | F111: ='G-2 Habitat groups'!P161 -> 0 | G111: =E111-C111 -> 0 | H111: =F111-D111 -> 0
B112: Non-native and ornamental hedgerow | C112: ='G-2 Habitat groups'!E162 -> 0.013 | D112: ='G-2 Habitat groups'!F162 -> 0.013 | E112: ='G-2 Habitat groups'!O162 -> 0.037 | F112: ='G-2 Habitat groups'!P162 -> 0.04106075 | G112: =E112-C112 -> 0.024 | H112: =F112-D112 -> 0.02806075
B117: Off-site change by hedgerow type
C118: Off-site baseline | E118: Post-development off-site | G118: Off-site change
B119: Hedgerow type | C119: Off-site existing length | D119: Off-site existing value | E119: Off-site proposed length | F119: Off-site proposed value | G119: Off-site length change | H119: Off-site unit change
B120: Species-rich native hedgerow with trees - associated with bank or ditch | C120: ='G-2 Habitat groups'!S150 -> 0 | D120: ='G-2 Habitat groups'!T150 -> 0 | E120: ='G-2 Habitat groups'!AA150 -> 0 | F120: ='G-2 Habitat groups'!AB150 -> 0 | G120: =E120-C120 -> 0 | H120: =F120-D120 -> 0
B121: Species-rich native hedgerow with trees | C121: ='G-2 Habitat groups'!S151 -> 0 | D121: ='G-2 Habitat groups'!T151 -> 0 | E121: ='G-2 Habitat groups'!AA151 -> 0 | F121: ='G-2 Habitat groups'!AB151 -> 0 | G121: =E121-C121 -> 0 | H121: =F121-D121 -> 0
B122: Species-rich native hedgerow - associated with bank or ditch | C122: ='G-2 Habitat groups'!S152 -> 0 | D122: ='G-2 Habitat groups'!T152 -> 0 | E122: ='G-2 Habitat groups'!AA152 -> 0 | F122: ='G-2 Habitat groups'!AB152 -> 0 | G122: =E122-C122 -> 0 | H122: =F122-D122 -> 0
B123: Native hedgerow with trees - associated with bank or ditch | C123: ='G-2 Habitat groups'!S153 -> 0 | D123: ='G-2 Habitat groups'!T153 -> 0 | E123: ='G-2 Habitat groups'!AA153 -> 0 | F123: ='G-2 Habitat groups'!AB153 -> 0 | G123: =E123-C123 -> 0 | H123: =F123-D123 -> 0
B124: Species-rich native hedgerow | C124: ='G-2 Habitat groups'!S154 -> 0 | D124: ='G-2 Habitat groups'!T154 -> 0 | E124: ='G-2 Habitat groups'!AA154 -> 0 | F124: ='G-2 Habitat groups'!AB154 -> 0 | G124: =E124-C124 -> 0 | H124: =F124-D124 -> 0
B125: Native hedgerow - associated with bank or ditch | C125: ='G-2 Habitat groups'!S155 -> 0 | D125: ='G-2 Habitat groups'!T155 -> 0 | E125: ='G-2 Habitat groups'!AA155 -> 0 | F125: ='G-2 Habitat groups'!AB155 -> 0 | G125: =E125-C125 -> 0 | H125: =F125-D125 -> 0
...

Sheet D-3 Off-Site Habitat Enhancment
E2: =CONCATENATE("Project Name:", " ", Start!F12, " ", "Map Reference:", " ", Start!K66) -> Project Name: Chickenhall Lane Map Reference: | R2: Area habitat summary | V2: {=IF(OR(Y12:Y258 = "Fairly Good", Y12:Y258 = "Fairly Poor"),"A 'Fairly' Category has been used - check evidence to ensure this is appropriate ⚠", "")} | AD2: =IF(OR(COUNTIF($AD$12:AD257,"*30+*")>0,COUNTIF(AH12:AH257,"*30+*")>0),"Note; Habitat selected has a time to target condition greater than 30 years. Non standard agreement may be required. ⚠","")
E3: =MID(CELL("filename",E1),FIND("]",CELL("filename",E1))+1,256) -> D-3 Off-Site Habitat Enhancment | R3: Total Net Unit Change | T3: ='Headline Results'!H47 -> 0.84319572
R4: Total Net % Change | T4: ='Headline Results'!H51 -> 0.31411776
H5: {=IF(OR(AY12:AY257="Yes"), "👁 Enhanced irreplaceable habitats highlighted below ", "")} | R5: Trading Rules Satisfied | T5: {=IF(OR('Trading Summary Area Habitats'!G5:G8="No ▲"), "No - check trading summaries ▲", "Yes ✓")} -> Yes ✓ | AD5: =IF(Q12<>A12,"Change in broad habitat type detected. Check compliance with guidance.","")
R6: {=IF(OR(E11:E258="watercourse footprint"),"Please ensure the watercourse details for any watercourse footprints recorded are included in the watercourse tabs ⚠","")}
Q9: Post intervention habitats
F10: Baseline habitats | Q10: Proposed Habitat (Broad habitat pre-populated but can be overridden) | T10: Change in distinctiveness and condition | V10: Area (hectares) | W10: Distinctiveness | X10: Score | Y10: Condition | Z10: Score | AA10: Strategic significance | AD10: Temporal multiplier | AJ10: Difficulty multipliers | AN10: Spatial risk multiplier | AP10: Habitat units delivered (inc SRM) | AQ10: Habitat units delivered | AR10: Comments
A11: Broad Habitat | B11: Habitat | C11: Condition Group | E11: Baseline ref | F11: Baseline habitat | G11: Total habitat area (hectares) | H11: Baseline distinctiveness band | I11: Baseline distinctiveness score | J11: Baseline condition category | K11: Baseline condition score | L11: Baseline strategic significance category | M11: Baseline strategic significance score | N11: Baseline habitat units | O11: Required Action to Meet Trading Rules | P11: Conditional Data Validation | Q11: Proposed Broad Habitat | R11: Proposed Habitat | S11: Proposed habitat (Pre-Populated but can be overridden) | T11: Distinctiveness change | U11: Condition change | AA11: Strategic significance | AB11: Strategic significance | AC11: Strategic significance multiplier | AD11: Standard time to target condition (years) | AE11: Habitat enhanced in advance (years) | AF11: Delay in starting habitat enhancement (years) | AG11: Standard or adjusted time to target condition | AH11: Final time to target condition (years) | AI11: Final time to target multiplier | AJ11: Difficulty of enhancement category | AK11: Applied difficulty multiplier | AL11: Difficulty | AM11: Difficulty multiplier applied | AN11: Spatial risk category | AO11: Spatial risk multiplier | AR11: User comments | AS11: Planning authority comments | AT11: Habitat reference | AU11: Off-site reference | AY11: Irreplaceable habitat
A12: =IF(E12="","",IF(ISNA(VLOOKUP($E12,'D-1 Off-Site Habitat Baseline'!$D$1:$O$258,2,FALSE)),"",(VLOOKUP($E12,'D-1 Off-Site Habitat Baseline'!$D$1:$O$258,2,FALSE)))) | B12: =IF(E12="","",IF(ISNA(VLOOKUP($E12,'D-1 Off-Site Habitat Baseline'!$D$1:$O$258,3,FALSE)),"",(VLOOKUP($E12,'D-1 Off-Site Habitat Baseline'!$D$1:$O$258,3,FALSE)))) | C12: =IFERROR(INDEX('G-8 Condition Look up'!$I$4:$I$135,MATCH(S12,'G-8 Condition Look up'!$A$4:$A$135,0)),"") | E12: ='D-1 Off-Site Habitat Baseline'!AP11 | F12: =IF(E12="","",IF(ISNA(VLOOKUP($E12,'D-1 Off-Site Habitat Baseline'!$D$1:$ZZ$258,45,FALSE)),"",(VLOOKUP($E12,'D-1 Off-Site Habitat Baseline'!$D$1:$ZZ$258,45,FALSE)))) | G12: =IF(E12="","",IF(ISNA(VLOOKUP($E12,'D-1 Off-Site Habitat Baseline'!$D$1:$O$258,5,FALSE)),"",(VLOOKUP($E12,'D-1 Off-Site Habitat Baseline'!$D$1:$O$258,5,FALSE)))) | H12: =IF(E12="","",IF(ISNA(VLOOKUP($E12,'D-1 Off-Site Habitat Baseline'!$D$1:$O$258,6,FALSE)),"",(VLOOKUP($E12,'D-1 Off-Site Habitat Baseline'!$D$1:$O$258,6,FALSE)))) | I12: =IF(E12="","",IF(ISNA(VLOOKUP($E12,'D-1 Off-Site Habitat Baseline'!$D$1:$O$258,7,FALSE)),"",(VLOOKUP($E12,'D-1 Off-Site Habitat Baseline'!$D$1:$O$258,7,FALSE)))) | J12: =IF(E12="","",IF(ISNA(VLOOKUP($E12,'D-1 Off-Site Habitat Baseline'!$D$1:$O$258,8,FALSE)),"",(VLOOKUP($E12,'D-1 Off-Site Habitat Baseline'!$D$1:$O$258,8,FALSE)))) | K12: =IF(E12="","",IF(ISNA(VLOOKUP($E12,'D-1 Off-Site Habitat Baseline'!$D$1:$O$258,9,FALSE)),"",(VLOOKUP($E12,'D-1 Off-Site Habitat Baseline'!$D$1:$O$258,9,FALSE)))) | L12: =IF(E12="","",IF(ISNA(VLOOKUP($E12,'D-1 Off-Site Habitat Baseline'!$D$1:$O$258,11,FALSE)),"",(VLOOKUP($E12,'D-1 Off-Site Habitat Baseline'!$D$1:$O$258,11,FALSE)))) | M12: =IF(E12="","",IF(ISNA(VLOOKUP($E12,'D-1 Off-Site Habitat Baseline'!$D$1:$O$258,12,FALSE)),"",(VLOOKUP($E12,'D-1 Off-Site Habitat Baseline'!$D$1:$O$258,12,FALSE)))) | N12: =IF(E12="","",IF(ISNA(VLOOKUP($E12,'D-1 Off-Site Habitat Baseline'!$D$1:$AA$258,17,FALSE)),"",(VLOOKUP($E12,'D-1 Off-Site Habitat Baseline'!$D$1:$AA$258,17,FALSE)))) | O12: =IF(E12="","",IF(ISNA(VLOOKUP($E12,'D-1 Off-Site Habitat Baseline'!$D$1:$AA$258,13,FALSE)),"",(VLOOKUP($E12,'D-1 Off-Site Habitat Baseline'!$D$1:$AA$258,13,FALSE)))) | P12: =IFERROR(INDEX('G-1 All Habitats'!$AG$49:$AG$63,MATCH(Q12,'G-1 All Habitats'!$AF$27:$AF$41,0)),"") | S12: =IFERROR(INDEX('G-1 All Habitats'!$B$3:$B$135,MATCH(R12,'G-1 All Habitats'!$A$3:$A$135,0)),"") | T12: =IF(E12="","",IF(AND(LEFT(O12,6)="Same d",I12>X12),"Error - Trading rules not satisfied ▲",IF(AND(LEFT(O12,6)="Same b",AND(LEFT(F12,5)<>LEFT(S12,5),I12>X12)),"Error - Trading rules not satisfied ▲",IF(AND(LEFT(O12,6)="Same h",F12<>S12),"Error - Trading rules not satisfied ▲",IF(AND(LEFT(O12,6)="Bespok",F12<>S12),"Error - Trading rules not satisfied ▲",IF(X12<I12,"Error Trading Down ▲", IF(AND(R12="Littoral seagrass",F12<>"Intertidal sediment - Littoral seagrass", F12<>"Intertidal sediment - Littoral sand"),"Error - Enhancement not possible ▲",IF(AND(R12="Artificial hard structures with integrated greening of grey infrastructure (IGGI)",F12<>"Intertidal hard structures - Artificial hard structures with integrated greening of grey infrastructure (IGGI)", F12<>"Intertidal hard structures - Artificial hard structures", F12<>"Intertidal hard structures - Artificial features of hard structures"),"Error - Enhancement not possible ▲",H12&" - "&W12)))))))) | U12: =IF(F12="","",IF(AND(S12<>F12,AY12="Yes"),"Error you cannot replace an irreplaceable habitat ▲",IF(AND(LEFT(F12,55)<>LEFT(S12,55),T12= "High - High"),"Error - Not like for like ▲",IF(AND(I12=X12,K12>Z12),"Error - Can not reduce condition ▲",IF(K12>Z12, "Error - condition cannot be reduced ▲", IF(AND(I12=X12,K12=Z12),"Error - No enhancement ▲",IF(X12<I12,"Error Trading Down ▲",IF(AND(F12<>S12,I12<X12),"Lower Distinctiveness Habitat"&" - "&Y12,J12&" - "&Y12)))))))) | V12: =IF(S12="","",VLOOKUP(E12,BaselineHabOffsite,20,FALSE)) | W12: =IF(S12="","",VLOOKUP(S12,'G-1 All Habitats'!$B$2:$M$135,10,FALSE)) | X12: =IFERROR(VLOOKUP(W12,'G-1 All Habitats'!$V$3:$W$7,2,FALSE),"") | Z12: =IFERROR(INDEX('G-8 Condition Look up'!$A$3:$H$135,MATCH(S12,'G-8 Condition Look up'!$A$3:$A$135,0),MATCH(Y12,'G-8 Condition Look up'!$A$3:$H$3,0)),"") | AB12: =IF(AA12="","",IF(VLOOKUP(AA12,'G-3 Multipliers'!$L$3:$N$6,2,FALSE)=0,"Spatial Data Missing ⚠",VLOOKUP(AA12,'G-3 Multipliers'!$L$3:$N$6,2,FALSE))) | AC12: =IF(AA12="","",IF(VLOOKUP(AA12,'G-3 Multipliers'!$L$3:$N$6,3,FALSE)=0,"Spatial Data Missing ⚠",VLOOKUP(AA12,'G-3 Multipliers'!$L$3:$N$6,3,FALSE))) | AD12: =IFERROR(IF(OR(LEFT(U12,5)="Error",LEFT(T12,5)="Error"),"Check Data ⚠",INDEX(EnhanceTemporal,MATCH(S12,EnhanceHabitat,0),MATCH(U12,EnhanceCondition,0))),"") | AG12: =IF(AD12="","",IF(AD12="Check Data ⚠","Check Data ⚠",IF(R12="","",IF(AND(AE12>0,AF12>0),"Error -both advance and delayed habitat creation ▲",IF(AND(OR(AE12="Habitat already in target condition",AD12<=AE12),AF12=0),"Check details - Is there evidence that habitat has reached target condition? ⚠",IF(O11="","",IF(AE12>0,"Check details - Is there evidence habitat creation started/in place? ⚠",IF(AF12>0,"Check details- Delay in starting habitat in required condition? ⚠","Standard time to target condition applied")))))))) | AH12: =IF(AG12="Error -both advance and delayed habitat creation ▲","Check Data ⚠",IF(AG12="Check Data ⚠","Check Data ⚠",IF(AD12="","",IF(AD12="Not Possible ▲","CheckData ⚠",IF(AND(AD12="30+",AE12=0),"30+",IF(AND(AD12="30+",AE12="30+"),0,IF(AND(AD12="30+",AE12<30),30-AE12,IF(AD12="30+",30-AE12,IF(AF12="30+","30+",IF(AE12>AD12,0,IF(AD12+AF12>30,"30+",IF(AD12+AF12>30,"30+",IF(AD12-AE12>30,"30+",IF(AD12+AF12-AE12>0,AD12+AF12-AE12,IF(AD12-AE12>0,AD12-AE12,AD12+AF12-AE12))))))))))))))) | AI12: =IF(AH12="Check Data ⚠","Check Data ⚠",IFERROR(VLOOKUP(AH12,'G-4 Temporal multipliers'!$A$4:$C$36,3,FALSE),"")) | AJ12: =IF(S12="","",VLOOKUP(S12,'G-3 Multipliers'!$A$2:$E$134,4,FALSE)) | AK12: =IF(E12="","",IF(AG12="Check details - Is there evidence that habitat has reached target condition? ⚠","Low Difficulty - only applicable if all habitat created before losses ⚠","Standard difficulty applied")) | AL12: =(IF(AND(AK12="Standard difficulty applied",AD12>AE12),AJ12,IF(AND(AK12="Low Difficulty - only applicable if all habitat created before losses ⚠",AE12>=AD12),"Low", AJ12))) | AM12: =IFERROR(IF(F12="","",IF(AH12="Check Data ⚠","Check Data ⚠",VLOOKUP(AL12, 'G-3 Multipliers'!$P$2:$Q$6,2,FALSE))),"") | AO12: =IF(AN12="","",IF(VLOOKUP(AN12,'G-3 Multipliers'!$S$3:$T$10,2,FALSE)=0,"Spatial Data Missing ⚠",VLOOKUP(AN12,'G-3 Multipliers'!$S$3:$T$10,2,FALSE))) | AP12: =IFERROR(IF(N12="Check Data ⚠", "Check Data ⚠",(((((V12*X12*Z12)-(V12*I12*K12))*(AM12*AI12))+(V12*I12*K12))*(AC12)*AO12)),"") | AQ12: =IFERROR(IF(AN12="","", (IF(AND(AN12<>"",AU12=""), "Off-site reference required ▲",IF(N12="Error - you cannot enhance irreplaceable individual trees ▲", "Error - you cannot enhance irreplaceable individual trees ▲", IF(N12="Check Data ⚠", "Check Data ⚠",((((V12*X12*Z12)-(V12*I12*K12))*(AM12*AI12))+(V12*I12*K12))*(AC12)))))),"") | AY12: =IF(E12="","",IF(ISNA(VLOOKUP($E12,'D-1 Off-Site Habitat Baseline'!$D$1:$AV$258,4,FALSE)),"",(VLOOKUP($E12,'D-1 Off-Site Habitat Baseline'!$D$1:$AV$258,4,FALSE))))
A13: =IF(E13="","",IF(ISNA(VLOOKUP($E13,'D-1 Off-Site Habitat Baseline'!$D$1:$O$258,2,FALSE)),"",(VLOOKUP($E13,'D-1 Off-Site Habitat Baseline'!$D$1:$O$258,2,FALSE)))) | B13: =IF(E13="","",IF(ISNA(VLOOKUP($E13,'D-1 Off-Site Habitat Baseline'!$D$1:$O$258,3,FALSE)),"",(VLOOKUP($E13,'D-1 Off-Site Habitat Baseline'!$D$1:$O$258,3,FALSE)))) | C13: =IFERROR(INDEX('G-8 Condition Look up'!$I$4:$I$135,MATCH(S13,'G-8 Condition Look up'!$A$4:$A$135,0)),"") | E13: ='D-1 Off-Site Habitat Baseline'!AP12 | F13: =IF(E13="","",IF(ISNA(VLOOKUP($E13,'D-1 Off-Site Habitat Baseline'!$D$1:$ZZ$258,45,FALSE)),"",(VLOOKUP($E13,'D-1 Off-Site Habitat Baseline'!$D$1:$ZZ$258,45,FALSE)))) | G13: =IF(E13="","",IF(ISNA(VLOOKUP($E13,'D-1 Off-Site Habitat Baseline'!$D$1:$O$258,5,FALSE)),"",(VLOOKUP($E13,'D-1 Off-Site Habitat Baseline'!$D$1:$O$258,5,FALSE)))) | H13: =IF(E13="","",IF(ISNA(VLOOKUP($E13,'D-1 Off-Site Habitat Baseline'!$D$1:$O$258,6,FALSE)),"",(VLOOKUP($E13,'D-1 Off-Site Habitat Baseline'!$D$1:$O$258,6,FALSE)))) | I13: =IF(E13="","",IF(ISNA(VLOOKUP($E13,'D-1 Off-Site Habitat Baseline'!$D$1:$O$258,7,FALSE)),"",(VLOOKUP($E13,'D-1 Off-Site Habitat Baseline'!$D$1:$O$258,7,FALSE)))) | J13: =IF(E13="","",IF(ISNA(VLOOKUP($E13,'D-1 Off-Site Habitat Baseline'!$D$1:$O$258,8,FALSE)),"",(VLOOKUP($E13,'D-1 Off-Site Habitat Baseline'!$D$1:$O$258,8,FALSE)))) | K13: =IF(E13="","",IF(ISNA(VLOOKUP($E13,'D-1 Off-Site Habitat Baseline'!$D$1:$O$258,9,FALSE)),"",(VLOOKUP($E13,'D-1 Off-Site Habitat Baseline'!$D$1:$O$258,9,FALSE)))) | L13: =IF(E13="","",IF(ISNA(VLOOKUP($E13,'D-1 Off-Site Habitat Baseline'!$D$1:$O$258,11,FALSE)),"",(VLOOKUP($E13,'D-1 Off-Site Habitat Baseline'!$D$1:$O$258,11,FALSE)))) | M13: =IF(E13="","",IF(ISNA(VLOOKUP($E13,'D-1 Off-Site Habitat Baseline'!$D$1:$O$258,12,FALSE)),"",(VLOOKUP($E13,'D-1 Off-Site Habitat Baseline'!$D$1:$O$258,12,FALSE)))) | N13: =IF(E13="","",IF(ISNA(VLOOKUP($E13,'D-1 Off-Site Habitat Baseline'!$D$1:$AA$258,17,FALSE)),"",(VLOOKUP($E13,'D-1 Off-Site Habitat Baseline'!$D$1:$AA$258,17,FALSE)))) | O13: =IF(E13="","",IF(ISNA(VLOOKUP($E13,'D-1 Off-Site Habitat Baseline'!$D$1:$AA$258,13,FALSE)),"",(VLOOKUP($E13,'D-1 Off-Site Habitat Baseline'!$D$1:$AA$258,13,FALSE)))) | P13: =IFERROR(INDEX('G-1 All Habitats'!$AG$49:$AG$63,MATCH(Q13,'G-1 All Habitats'!$AF$27:$AF$41,0)),"") | S13: =IFERROR(INDEX('G-1 All Habitats'!$B$3:$B$135,MATCH(R13,'G-1 All Habitats'!$A$3:$A$135,0)),"") | T13: =IF(E13="","",IF(AND(LEFT(O13,6)="Same d",I13>X13),"Error - Trading rules not satisfied ▲",IF(AND(LEFT(O13,6)="Same b",AND(LEFT(F13,5)<>LEFT(S13,5),I13>X13)),"Error - Trading rules not satisfied ▲",IF(AND(LEFT(O13,6)="Same h",F13<>S13),"Error - Trading rules not satisfied ▲",IF(AND(LEFT(O13,6)="Bespok",F13<>S13),"Error - Trading rules not satisfied ▲",IF(X13<I13,"Error Trading Down ▲", IF(AND(R13="Littoral seagrass",F13<>"Intertidal sediment - Littoral seagrass", F13<>"Intertidal sediment - Littoral sand"),"Error - Enhancement not possible ▲",IF(AND(R13="Artificial hard structures with integrated greening of grey infrastructure (IGGI)",F13<>"Intertidal hard structures - Artificial hard structures with integrated greening of grey infrastructure (IGGI)", F13<>"Intertidal hard structures - Artificial hard structures", F13<>"Intertidal hard structures - Artificial features of hard structures"),"Error - Enhancement not possible ▲",H13&" - "&W13)))))))) | U13: =IF(F13="","",IF(AND(S13<>F13,AY13="Yes"),"Error you cannot replace an irreplaceable habitat ▲",IF(AND(LEFT(F13,55)<>LEFT(S13,55),T13= "High - High"),"Error - Not like for like ▲",IF(AND(I13=X13,K13>Z13),"Error - Can not reduce condition ▲",IF(K13>Z13, "Error - condition cannot be reduced ▲", IF(AND(I13=X13,K13=Z13),"Error - No enhancement ▲",IF(X13<I13,"Error Trading Down ▲",IF(AND(F13<>S13,I13<X13),"Lower Distinctiveness Habitat"&" - "&Y13,J13&" - "&Y13)))))))) | V13: =IF(S13="","",VLOOKUP(E13,BaselineHabOffsite,20,FALSE)) | W13: =IF(S13="","",VLOOKUP(S13,'G-1 All Habitats'!$B$2:$M$135,10,FALSE)) | X13: =IFERROR(VLOOKUP(W13,'G-1 All Habitats'!$V$3:$W$7,2,FALSE),"") | Z13: =IFERROR(INDEX('G-8 Condition Look up'!$A$3:$H$135,MATCH(S13,'G-8 Condition Look up'!$A$3:$A$135,0),MATCH(Y13,'G-8 Condition Look up'!$A$3:$H$3,0)),"") | AB13: =IF(AA13="","",IF(VLOOKUP(AA13,'G-3 Multipliers'!$L$3:$N$6,2,FALSE)=0,"Spatial Data Missing ⚠",VLOOKUP(AA13,'G-3 Multipliers'!$L$3:$N$6,2,FALSE))) | AC13: =IF(AA13="","",IF(VLOOKUP(AA13,'G-3 Multipliers'!$L$3:$N$6,3,FALSE)=0,"Spatial Data Missing ⚠",VLOOKUP(AA13,'G-3 Multipliers'!$L$3:$N$6,3,FALSE))) | AD13: =IFERROR(IF(OR(LEFT(U13,5)="Error",LEFT(T13,5)="Error"),"Check Data ⚠",INDEX(EnhanceTemporal,MATCH(S13,EnhanceHabitat,0),MATCH(U13,EnhanceCondition,0))),"") | AG13: =IF(AD13="","",IF(AD13="Check Data ⚠","Check Data ⚠",IF(R13="","",IF(AND(AE13>0,AF13>0),"Error -both advance and delayed habitat creation ▲",IF(AND(OR(AE13="Habitat already in target condition",AD13<=AE13),AF13=0),"Check details - Is there evidence that habitat has reached target condition? ⚠",IF(O12="","",IF(AE13>0,"Check details - Is there evidence habitat creation started/in place? ⚠",IF(AF13>0,"Check details- Delay in starting habitat in required condition? ⚠","Standard time to target condition applied")))))))) | AH13: =IF(AG13="Error -both advance and delayed habitat creation ▲","Check Data ⚠",IF(AG13="Check Data ⚠","Check Data ⚠",IF(AD13="","",IF(AD13="Not Possible ▲","CheckData ⚠",IF(AND(AD13="30+",AE13=0),"30+",IF(AND(AD13="30+",AE13="30+"),0,IF(AND(AD13="30+",AE13<30),30-AE13,IF(AD13="30+",30-AE13,IF(AF13="30+","30+",IF(AE13>AD13,0,IF(AD13+AF13>30,"30+",IF(AD13+AF13>30,"30+",IF(AD13-AE13>30,"30+",IF(AD13+AF13-AE13>0,AD13+AF13-AE13,IF(AD13-AE13>0,AD13-AE13,AD13+AF13-AE13))))))))))))))) | AI13: =IF(AH13="Check Data ⚠","Check Data ⚠",IFERROR(VLOOKUP(AH13,'G-4 Temporal multipliers'!$A$4:$C$36,3,FALSE),"")) | AJ13: =IF(S13="","",VLOOKUP(S13,'G-3 Multipliers'!$A$2:$E$134,4,FALSE)) | AK13: =IF(E13="","",IF(AG13="Check details - Is there evidence that habitat has reached target condition? ⚠","Low Difficulty - only applicable if all habitat created before losses ⚠","Standard difficulty applied")) | AL13: =(IF(AND(AK13="Standard difficulty applied",AD13>AE13),AJ13,IF(AND(AK13="Low Difficulty - only applicable if all habitat created before losses ⚠",AE13>=AD13),"Low", AJ13))) | AM13: =IFERROR(IF(F13="","",IF(AH13="Check Data ⚠","Check Data ⚠",VLOOKUP(AL13, 'G-3 Multipliers'!$P$2:$Q$6,2,FALSE))),"") | AO13: =IF(AN13="","",IF(VLOOKUP(AN13,'G-3 Multipliers'!$S$3:$T$10,2,FALSE)=0,"Spatial Data Missing ⚠",VLOOKUP(AN13,'G-3 Multipliers'!$S$3:$T$10,2,FALSE))) | AP13: =IFERROR(IF(N13="Check Data ⚠", "Check Data ⚠",(((((V13*X13*Z13)-(V13*I13*K13))*(AM13*AI13))+(V13*I13*K13))*(AC13)*AO13)),"") | AQ13: =IFERROR(IF(AN13="","", (IF(AND(AN13<>"",AU13=""), "Off-site reference required ▲",IF(N13="Error - you cannot enhance irreplaceable individual trees ▲", "Error - you cannot enhance irreplaceable individual trees ▲", IF(N13="Check Data ⚠", "Check Data ⚠",((((V13*X13*Z13)-(V13*I13*K13))*(AM13*AI13))+(V13*I13*K13))*(AC13)))))),"") | AY13: =IF(E13="","",IF(ISNA(VLOOKUP($E13,'D-1 Off-Site Habitat Baseline'!$D$1:$AV$258,4,FALSE)),"",(VLOOKUP($E13,'D-1 Off-Site Habitat Baseline'!$D$1:$AV$258,4,FALSE))))
A14: =IF(E14="","",IF(ISNA(VLOOKUP($E14,'D-1 Off-Site Habitat Baseline'!$D$1:$O$258,2,FALSE)),"",(VLOOKUP($E14,'D-1 Off-Site Habitat Baseline'!$D$1:$O$258,2,FALSE)))) | B14: =IF(E14="","",IF(ISNA(VLOOKUP($E14,'D-1 Off-Site Habitat Baseline'!$D$1:$O$258,3,FALSE)),"",(VLOOKUP($E14,'D-1 Off-Site Habitat Baseline'!$D$1:$O$258,3,FALSE)))) | C14: =IFERROR(INDEX('G-8 Condition Look up'!$I$4:$I$135,MATCH(S14,'G-8 Condition Look up'!$A$4:$A$135,0)),"") | E14: ='D-1 Off-Site Habitat Baseline'!AP13 | F14: =IF(E14="","",IF(ISNA(VLOOKUP($E14,'D-1 Off-Site Habitat Baseline'!$D$1:$ZZ$258,45,FALSE)),"",(VLOOKUP($E14,'D-1 Off-Site Habitat Baseline'!$D$1:$ZZ$258,45,FALSE)))) | G14: =IF(E14="","",IF(ISNA(VLOOKUP($E14,'D-1 Off-Site Habitat Baseline'!$D$1:$O$258,5,FALSE)),"",(VLOOKUP($E14,'D-1 Off-Site Habitat Baseline'!$D$1:$O$258,5,FALSE)))) | H14: =IF(E14="","",IF(ISNA(VLOOKUP($E14,'D-1 Off-Site Habitat Baseline'!$D$1:$O$258,6,FALSE)),"",(VLOOKUP($E14,'D-1 Off-Site Habitat Baseline'!$D$1:$O$258,6,FALSE)))) | I14: =IF(E14="","",IF(ISNA(VLOOKUP($E14,'D-1 Off-Site Habitat Baseline'!$D$1:$O$258,7,FALSE)),"",(VLOOKUP($E14,'D-1 Off-Site Habitat Baseline'!$D$1:$O$258,7,FALSE)))) | J14: =IF(E14="","",IF(ISNA(VLOOKUP($E14,'D-1 Off-Site Habitat Baseline'!$D$1:$O$258,8,FALSE)),"",(VLOOKUP($E14,'D-1 Off-Site Habitat Baseline'!$D$1:$O$258,8,FALSE)))) | K14: =IF(E14="","",IF(ISNA(VLOOKUP($E14,'D-1 Off-Site Habitat Baseline'!$D$1:$O$258,9,FALSE)),"",(VLOOKUP($E14,'D-1 Off-Site Habitat Baseline'!$D$1:$O$258,9,FALSE)))) | L14: =IF(E14="","",IF(ISNA(VLOOKUP($E14,'D-1 Off-Site Habitat Baseline'!$D$1:$O$258,11,FALSE)),"",(VLOOKUP($E14,'D-1 Off-Site Habitat Baseline'!$D$1:$O$258,11,FALSE)))) | M14: =IF(E14="","",IF(ISNA(VLOOKUP($E14,'D-1 Off-Site Habitat Baseline'!$D$1:$O$258,12,FALSE)),"",(VLOOKUP($E14,'D-1 Off-Site Habitat Baseline'!$D$1:$O$258,12,FALSE)))) | N14: =IF(E14="","",IF(ISNA(VLOOKUP($E14,'D-1 Off-Site Habitat Baseline'!$D$1:$AA$258,17,FALSE)),"",(VLOOKUP($E14,'D-1 Off-Site Habitat Baseline'!$D$1:$AA$258,17,FALSE)))) | O14: =IF(E14="","",IF(ISNA(VLOOKUP($E14,'D-1 Off-Site Habitat Baseline'!$D$1:$AA$258,13,FALSE)),"",(VLOOKUP($E14,'D-1 Off-Site Habitat Baseline'!$D$1:$AA$258,13,FALSE)))) | P14: =IFERROR(INDEX('G-1 All Habitats'!$AG$49:$AG$63,MATCH(Q14,'G-1 All Habitats'!$AF$27:$AF$41,0)),"") | S14: =IFERROR(INDEX('G-1 All Habitats'!$B$3:$B$135,MATCH(R14,'G-1 All Habitats'!$A$3:$A$135,0)),"") | T14: =IF(E14="","",IF(AND(LEFT(O14,6)="Same d",I14>X14),"Error - Trading rules not satisfied ▲",IF(AND(LEFT(O14,6)="Same b",AND(LEFT(F14,5)<>LEFT(S14,5),I14>X14)),"Error - Trading rules not satisfied ▲",IF(AND(LEFT(O14,6)="Same h",F14<>S14),"Error - Trading rules not satisfied ▲",IF(AND(LEFT(O14,6)="Bespok",F14<>S14),"Error - Trading rules not satisfied ▲",IF(X14<I14,"Error Trading Down ▲", IF(AND(R14="Littoral seagrass",F14<>"Intertidal sediment - Littoral seagrass", F14<>"Intertidal sediment - Littoral sand"),"Error - Enhancement not possible ▲",IF(AND(R14="Artificial hard structures with integrated greening of grey infrastructure (IGGI)",F14<>"Intertidal hard structures - Artificial hard structures with integrated greening of grey infrastructure (IGGI)", F14<>"Intertidal hard structures - Artificial hard structures", F14<>"Intertidal hard structures - Artificial features of hard structures"),"Error - Enhancement not possible ▲",H14&" - "&W14)))))))) | U14: =IF(F14="","",IF(AND(S14<>F14,AY14="Yes"),"Error you cannot replace an irreplaceable habitat ▲",IF(AND(LEFT(F14,55)<>LEFT(S14,55),T14= "High - High"),"Error - Not like for like ▲",IF(AND(I14=X14,K14>Z14),"Error - Can not reduce condition ▲",IF(K14>Z14, "Error - condition cannot be reduced ▲", IF(AND(I14=X14,K14=Z14),"Error - No enhancement ▲",IF(X14<I14,"Error Trading Down ▲",IF(AND(F14<>S14,I14<X14),"Lower Distinctiveness Habitat"&" - "&Y14,J14&" - "&Y14)))))))) | V14: =IF(S14="","",VLOOKUP(E14,BaselineHabOffsite,20,FALSE)) | W14: =IF(S14="","",VLOOKUP(S14,'G-1 All Habitats'!$B$2:$M$135,10,FALSE)) | X14: =IFERROR(VLOOKUP(W14,'G-1 All Habitats'!$V$3:$W$7,2,FALSE),"") | Z14: =IFERROR(INDEX('G-8 Condition Look up'!$A$3:$H$135,MATCH(S14,'G-8 Condition Look up'!$A$3:$A$135,0),MATCH(Y14,'G-8 Condition Look up'!$A$3:$H$3,0)),"") | AB14: =IF(AA14="","",IF(VLOOKUP(AA14,'G-3 Multipliers'!$L$3:$N$6,2,FALSE)=0,"Spatial Data Missing ⚠",VLOOKUP(AA14,'G-3 Multipliers'!$L$3:$N$6,2,FALSE))) | AC14: =IF(AA14="","",IF(VLOOKUP(AA14,'G-3 Multipliers'!$L$3:$N$6,3,FALSE)=0,"Spatial Data Missing ⚠",VLOOKUP(AA14,'G-3 Multipliers'!$L$3:$N$6,3,FALSE))) | AD14: =IFERROR(IF(OR(LEFT(U14,5)="Error",LEFT(T14,5)="Error"),"Check Data ⚠",INDEX(EnhanceTemporal,MATCH(S14,EnhanceHabitat,0),MATCH(U14,EnhanceCondition,0))),"") | AG14: =IF(AD14="","",IF(AD14="Check Data ⚠","Check Data ⚠",IF(R14="","",IF(AND(AE14>0,AF14>0),"Error -both advance and delayed habitat creation ▲",IF(AND(OR(AE14="Habitat already in target condition",AD14<=AE14),AF14=0),"Check details - Is there evidence that habitat has reached target condition? ⚠",IF(O13="","",IF(AE14>0,"Check details - Is there evidence habitat creation started/in place? ⚠",IF(AF14>0,"Check details- Delay in starting habitat in required condition? ⚠","Standard time to target condition applied")))))))) | AH14: =IF(AG14="Error -both advance and delayed habitat creation ▲","Check Data ⚠",IF(AG14="Check Data ⚠","Check Data ⚠",IF(AD14="","",IF(AD14="Not Possible ▲","CheckData ⚠",IF(AND(AD14="30+",AE14=0),"30+",IF(AND(AD14="30+",AE14="30+"),0,IF(AND(AD14="30+",AE14<30),30-AE14,IF(AD14="30+",30-AE14,IF(AF14="30+","30+",IF(AE14>AD14,0,IF(AD14+AF14>30,"30+",IF(AD14+AF14>30,"30+",IF(AD14-AE14>30,"30+",IF(AD14+AF14-AE14>0,AD14+AF14-AE14,IF(AD14-AE14>0,AD14-AE14,AD14+AF14-AE14))))))))))))))) | AI14: =IF(AH14="Check Data ⚠","Check Data ⚠",IFERROR(VLOOKUP(AH14,'G-4 Temporal multipliers'!$A$4:$C$36,3,FALSE),"")) | AJ14: =IF(S14="","",VLOOKUP(S14,'G-3 Multipliers'!$A$2:$E$134,4,FALSE)) | AK14: =IF(E14="","",IF(AG14="Check details - Is there evidence that habitat has reached target condition? ⚠","Low Difficulty - only applicable if all habitat created before losses ⚠","Standard difficulty applied")) | AL14: =(IF(AND(AK14="Standard difficulty applied",AD14>AE14),AJ14,IF(AND(AK14="Low Difficulty - only applicable if all habitat created before losses ⚠",AE14>=AD14),"Low", AJ14))) | AM14: =IFERROR(IF(F14="","",IF(AH14="Check Data ⚠","Check Data ⚠",VLOOKUP(AL14, 'G-3 Multipliers'!$P$2:$Q$6,2,FALSE))),"") | AO14: =IF(AN14="","",IF(VLOOKUP(AN14,'G-3 Multipliers'!$S$3:$T$10,2,FALSE)=0,"Spatial Data Missing ⚠",VLOOKUP(AN14,'G-3 Multipliers'!$S$3:$T$10,2,FALSE))) | AP14: =IFERROR(IF(N14="Check Data ⚠", "Check Data ⚠",(((((V14*X14*Z14)-(V14*I14*K14))*(AM14*AI14))+(V14*I14*K14))*(AC14)*AO14)),"") | AQ14: =IFERROR(IF(AN14="","", (IF(AND(AN14<>"",AU14=""), "Off-site reference required ▲",IF(N14="Error - you cannot enhance irreplaceable individual trees ▲", "Error - you cannot enhance irreplaceable individual trees ▲", IF(N14="Check Data ⚠", "Check Data ⚠",((((V14*X14*Z14)-(V14*I14*K14))*(AM14*AI14))+(V14*I14*K14))*(AC14)))))),"") | AY14: =IF(E14="","",IF(ISNA(VLOOKUP($E14,'D-1 Off-Site Habitat Baseline'!$D$1:$AV$258,4,FALSE)),"",(VLOOKUP($E14,'D-1 Off-Site Habitat Baseline'!$D$1:$AV$258,4,FALSE))))
A15: =IF(E15="","",IF(ISNA(VLOOKUP($E15,'D-1 Off-Site Habitat Baseline'!$D$1:$O$258,2,FALSE)),"",(VLOOKUP($E15,'D-1 Off-Site Habitat Baseline'!$D$1:$O$258,2,FALSE)))) | B15: =IF(E15="","",IF(ISNA(VLOOKUP($E15,'D-1 Off-Site Habitat Baseline'!$D$1:$O$258,3,FALSE)),"",(VLOOKUP($E15,'D-1 Off-Site Habitat Baseline'!$D$1:$O$258,3,FALSE)))) | C15: =IFERROR(INDEX('G-8 Condition Look up'!$I$4:$I$135,MATCH(S15,'G-8 Condition Look up'!$A$4:$A$135,0)),"") | E15: ='D-1 Off-Site Habitat Baseline'!AP14 | F15: =IF(E15="","",IF(ISNA(VLOOKUP($E15,'D-1 Off-Site Habitat Baseline'!$D$1:$ZZ$258,45,FALSE)),"",(VLOOKUP($E15,'D-1 Off-Site Habitat Baseline'!$D$1:$ZZ$258,45,FALSE)))) | G15: =IF(E15="","",IF(ISNA(VLOOKUP($E15,'D-1 Off-Site Habitat Baseline'!$D$1:$O$258,5,FALSE)),"",(VLOOKUP($E15,'D-1 Off-Site Habitat Baseline'!$D$1:$O$258,5,FALSE)))) | H15: =IF(E15="","",IF(ISNA(VLOOKUP($E15,'D-1 Off-Site Habitat Baseline'!$D$1:$O$258,6,FALSE)),"",(VLOOKUP($E15,'D-1 Off-Site Habitat Baseline'!$D$1:$O$258,6,FALSE)))) | I15: =IF(E15="","",IF(ISNA(VLOOKUP($E15,'D-1 Off-Site Habitat Baseline'!$D$1:$O$258,7,FALSE)),"",(VLOOKUP($E15,'D-1 Off-Site Habitat Baseline'!$D$1:$O$258,7,FALSE)))) | J15: =IF(E15="","",IF(ISNA(VLOOKUP($E15,'D-1 Off-Site Habitat Baseline'!$D$1:$O$258,8,FALSE)),"",(VLOOKUP($E15,'D-1 Off-Site Habitat Baseline'!$D$1:$O$258,8,FALSE)))) | K15: =IF(E15="","",IF(ISNA(VLOOKUP($E15,'D-1 Off-Site Habitat Baseline'!$D$1:$O$258,9,FALSE)),"",(VLOOKUP($E15,'D-1 Off-Site Habitat Baseline'!$D$1:$O$258,9,FALSE)))) | L15: =IF(E15="","",IF(ISNA(VLOOKUP($E15,'D-1 Off-Site Habitat Baseline'!$D$1:$O$258,11,FALSE)),"",(VLOOKUP($E15,'D-1 Off-Site Habitat Baseline'!$D$1:$O$258,11,FALSE)))) | M15: =IF(E15="","",IF(ISNA(VLOOKUP($E15,'D-1 Off-Site Habitat Baseline'!$D$1:$O$258,12,FALSE)),"",(VLOOKUP($E15,'D-1 Off-Site Habitat Baseline'!$D$1:$O$258,12,FALSE)))) | N15: =IF(E15="","",IF(ISNA(VLOOKUP($E15,'D-1 Off-Site Habitat Baseline'!$D$1:$AA$258,17,FALSE)),"",(VLOOKUP($E15,'D-1 Off-Site Habitat Baseline'!$D$1:$AA$258,17,FALSE)))) | O15: =IF(E15="","",IF(ISNA(VLOOKUP($E15,'D-1 Off-Site Habitat Baseline'!$D$1:$AA$258,13,FALSE)),"",(VLOOKUP($E15,'D-1 Off-Site Habitat Baseline'!$D$1:$AA$258,13,FALSE)))) | P15: =IFERROR(INDEX('G-1 All Habitats'!$AG$49:$AG$63,MATCH(Q15,'G-1 All Habitats'!$AF$27:$AF$41,0)),"") | S15: =IFERROR(INDEX('G-1 All Habitats'!$B$3:$B$135,MATCH(R15,'G-1 All Habitats'!$A$3:$A$135,0)),"") | T15: =IF(E15="","",IF(AND(LEFT(O15,6)="Same d",I15>X15),"Error - Trading rules not satisfied ▲",IF(AND(LEFT(O15,6)="Same b",AND(LEFT(F15,5)<>LEFT(S15,5),I15>X15)),"Error - Trading rules not satisfied ▲",IF(AND(LEFT(O15,6)="Same h",F15<>S15),"Error - Trading rules not satisfied ▲",IF(AND(LEFT(O15,6)="Bespok",F15<>S15),"Error - Trading rules not satisfied ▲",IF(X15<I15,"Error Trading Down ▲", IF(AND(R15="Littoral seagrass",F15<>"Intertidal sediment - Littoral seagrass", F15<>"Intertidal sediment - Littoral sand"),"Error - Enhancement not possible ▲",IF(AND(R15="Artificial hard structures with integrated greening of grey infrastructure (IGGI)",F15<>"Intertidal hard structures - Artificial hard structures with integrated greening of grey infrastructure (IGGI)", F15<>"Intertidal hard structures - Artificial hard structures", F15<>"Intertidal hard structures - Artificial features of hard structures"),"Error - Enhancement not possible ▲",H15&" - "&W15)))))))) | U15: =IF(F15="","",IF(AND(S15<>F15,AY15="Yes"),"Error you cannot replace an irreplaceable habitat ▲",IF(AND(LEFT(F15,55)<>LEFT(S15,55),T15= "High - High"),"Error - Not like for like ▲",IF(AND(I15=X15,K15>Z15),"Error - Can not reduce condition ▲",IF(K15>Z15, "Error - condition cannot be reduced ▲", IF(AND(I15=X15,K15=Z15),"Error - No enhancement ▲",IF(X15<I15,"Error Trading Down ▲",IF(AND(F15<>S15,I15<X15),"Lower Distinctiveness Habitat"&" - "&Y15,J15&" - "&Y15)))))))) | V15: =IF(S15="","",VLOOKUP(E15,BaselineHabOffsite,20,FALSE)) | W15: =IF(S15="","",VLOOKUP(S15,'G-1 All Habitats'!$B$2:$M$135,10,FALSE)) | X15: =IFERROR(VLOOKUP(W15,'G-1 All Habitats'!$V$3:$W$7,2,FALSE),"") | Z15: =IFERROR(INDEX('G-8 Condition Look up'!$A$3:$H$135,MATCH(S15,'G-8 Condition Look up'!$A$3:$A$135,0),MATCH(Y15,'G-8 Condition Look up'!$A$3:$H$3,0)),"") | AB15: =IF(AA15="","",IF(VLOOKUP(AA15,'G-3 Multipliers'!$L$3:$N$6,2,FALSE)=0,"Spatial Data Missing ⚠",VLOOKUP(AA15,'G-3 Multipliers'!$L$3:$N$6,2,FALSE))) | AC15: =IF(AA15="","",IF(VLOOKUP(AA15,'G-3 Multipliers'!$L$3:$N$6,3,FALSE)=0,"Spatial Data Missing ⚠",VLOOKUP(AA15,'G-3 Multipliers'!$L$3:$N$6,3,FALSE))) | AD15: =IFERROR(IF(OR(LEFT(U15,5)="Error",LEFT(T15,5)="Error"),"Check Data ⚠",INDEX(EnhanceTemporal,MATCH(S15,EnhanceHabitat,0),MATCH(U15,EnhanceCondition,0))),"") | AG15: =IF(AD15="","",IF(AD15="Check Data ⚠","Check Data ⚠",IF(R15="","",IF(AND(AE15>0,AF15>0),"Error -both advance and delayed habitat creation ▲",IF(AND(OR(AE15="Habitat already in target condition",AD15<=AE15),AF15=0),"Check details - Is there evidence that habitat has reached target condition? ⚠",IF(O14="","",IF(AE15>0,"Check details - Is there evidence habitat creation started/in place? ⚠",IF(AF15>0,"Check details- Delay in starting habitat in required condition? ⚠","Standard time to target condition applied")))))))) | AH15: =IF(AG15="Error -both advance and delayed habitat creation ▲","Check Data ⚠",IF(AG15="Check Data ⚠","Check Data ⚠",IF(AD15="","",IF(AD15="Not Possible ▲","CheckData ⚠",IF(AND(AD15="30+",AE15=0),"30+",IF(AND(AD15="30+",AE15="30+"),0,IF(AND(AD15="30+",AE15<30),30-AE15,IF(AD15="30+",30-AE15,IF(AF15="30+","30+",IF(AE15>AD15,0,IF(AD15+AF15>30,"30+",IF(AD15+AF15>30,"30+",IF(AD15-AE15>30,"30+",IF(AD15+AF15-AE15>0,AD15+AF15-AE15,IF(AD15-AE15>0,AD15-AE15,AD15+AF15-AE15))))))))))))))) | AI15: =IF(AH15="Check Data ⚠","Check Data ⚠",IFERROR(VLOOKUP(AH15,'G-4 Temporal multipliers'!$A$4:$C$36,3,FALSE),"")) | AJ15: =IF(S15="","",VLOOKUP(S15,'G-3 Multipliers'!$A$2:$E$134,4,FALSE)) | AK15: =IF(E15="","",IF(AG15="Check details - Is there evidence that habitat has reached target condition? ⚠","Low Difficulty - only applicable if all habitat created before losses ⚠","Standard difficulty applied")) | AL15: =(IF(AND(AK15="Standard difficulty applied",AD15>AE15),AJ15,IF(AND(AK15="Low Difficulty - only applicable if all habitat created before losses ⚠",AE15>=AD15),"Low", AJ15))) | AM15: =IFERROR(IF(F15="","",IF(AH15="Check Data ⚠","Check Data ⚠",VLOOKUP(AL15, 'G-3 Multipliers'!$P$2:$Q$6,2,FALSE))),"") | AO15: =IF(AN15="","",IF(VLOOKUP(AN15,'G-3 Multipliers'!$S$3:$T$10,2,FALSE)=0,"Spatial Data Missing ⚠",VLOOKUP(AN15,'G-3 Multipliers'!$S$3:$T$10,2,FALSE))) | AP15: =IFERROR(IF(N15="Check Data ⚠", "Check Data ⚠",(((((V15*X15*Z15)-(V15*I15*K15))*(AM15*AI15))+(V15*I15*K15))*(AC15)*AO15)),"") | AQ15: =IFERROR(IF(AN15="","", (IF(AND(AN15<>"",AU15=""), "Off-site reference required ▲",IF(N15="Error - you cannot enhance irreplaceable individual trees ▲", "Error - you cannot enhance irreplaceable individual trees ▲", IF(N15="Check Data ⚠", "Check Data ⚠",((((V15*X15*Z15)-(V15*I15*K15))*(AM15*AI15))+(V15*I15*K15))*(AC15)))))),"") | AY15: =IF(E15="","",IF(ISNA(VLOOKUP($E15,'D-1 Off-Site Habitat Baseline'!$D$1:$AV$258,4,FALSE)),"",(VLOOKUP($E15,'D-1 Off-Site Habitat Baseline'!$D$1:$AV$258,4,FALSE))))
A16: =IF(E16="","",IF(ISNA(VLOOKUP($E16,'D-1 Off-Site Habitat Baseline'!$D$1:$O$258,2,FALSE)),"",(VLOOKUP($E16,'D-1 Off-Site Habitat Baseline'!$D$1:$O$258,2,FALSE)))) | B16: =IF(E16="","",IF(ISNA(VLOOKUP($E16,'D-1 Off-Site Habitat Baseline'!$D$1:$O$258,3,FALSE)),"",(VLOOKUP($E16,'D-1 Off-Site Habitat Baseline'!$D$1:$O$258,3,FALSE)))) | C16: =IFERROR(INDEX('G-8 Condition Look up'!$I$4:$I$135,MATCH(S16,'G-8 Condition Look up'!$A$4:$A$135,0)),"") | E16: ='D-1 Off-Site Habitat Baseline'!AP15 | F16: =IF(E16="","",IF(ISNA(VLOOKUP($E16,'D-1 Off-Site Habitat Baseline'!$D$1:$ZZ$258,45,FALSE)),"",(VLOOKUP($E16,'D-1 Off-Site Habitat Baseline'!$D$1:$ZZ$258,45,FALSE)))) | G16: =IF(E16="","",IF(ISNA(VLOOKUP($E16,'D-1 Off-Site Habitat Baseline'!$D$1:$O$258,5,FALSE)),"",(VLOOKUP($E16,'D-1 Off-Site Habitat Baseline'!$D$1:$O$258,5,FALSE)))) | H16: =IF(E16="","",IF(ISNA(VLOOKUP($E16,'D-1 Off-Site Habitat Baseline'!$D$1:$O$258,6,FALSE)),"",(VLOOKUP($E16,'D-1 Off-Site Habitat Baseline'!$D$1:$O$258,6,FALSE)))) | I16: =IF(E16="","",IF(ISNA(VLOOKUP($E16,'D-1 Off-Site Habitat Baseline'!$D$1:$O$258,7,FALSE)),"",(VLOOKUP($E16,'D-1 Off-Site Habitat Baseline'!$D$1:$O$258,7,FALSE)))) | J16: =IF(E16="","",IF(ISNA(VLOOKUP($E16,'D-1 Off-Site Habitat Baseline'!$D$1:$O$258,8,FALSE)),"",(VLOOKUP($E16,'D-1 Off-Site Habitat Baseline'!$D$1:$O$258,8,FALSE)))) | K16: =IF(E16="","",IF(ISNA(VLOOKUP($E16,'D-1 Off-Site Habitat Baseline'!$D$1:$O$258,9,FALSE)),"",(VLOOKUP($E16,'D-1 Off-Site Habitat Baseline'!$D$1:$O$258,9,FALSE)))) | L16: =IF(E16="","",IF(ISNA(VLOOKUP($E16,'D-1 Off-Site Habitat Baseline'!$D$1:$O$258,11,FALSE)),"",(VLOOKUP($E16,'D-1 Off-Site Habitat Baseline'!$D$1:$O$258,11,FALSE)))) | M16: =IF(E16="","",IF(ISNA(VLOOKUP($E16,'D-1 Off-Site Habitat Baseline'!$D$1:$O$258,12,FALSE)),"",(VLOOKUP($E16,'D-1 Off-Site Habitat Baseline'!$D$1:$O$258,12,FALSE)))) | N16: =IF(E16="","",IF(ISNA(VLOOKUP($E16,'D-1 Off-Site Habitat Baseline'!$D$1:$AA$258,17,FALSE)),"",(VLOOKUP($E16,'D-1 Off-Site Habitat Baseline'!$D$1:$AA$258,17,FALSE)))) | O16: =IF(E16="","",IF(ISNA(VLOOKUP($E16,'D-1 Off-Site Habitat Baseline'!$D$1:$AA$258,13,FALSE)),"",(VLOOKUP($E16,'D-1 Off-Site Habitat Baseline'!$D$1:$AA$258,13,FALSE)))) | P16: =IFERROR(INDEX('G-1 All Habitats'!$AG$49:$AG$63,MATCH(Q16,'G-1 All Habitats'!$AF$27:$AF$41,0)),"") | S16: =IFERROR(INDEX('G-1 All Habitats'!$B$3:$B$135,MATCH(R16,'G-1 All Habitats'!$A$3:$A$135,0)),"") | T16: =IF(E16="","",IF(AND(LEFT(O16,6)="Same d",I16>X16),"Error - Trading rules not satisfied ▲",IF(AND(LEFT(O16,6)="Same b",AND(LEFT(F16,5)<>LEFT(S16,5),I16>X16)),"Error - Trading rules not satisfied ▲",IF(AND(LEFT(O16,6)="Same h",F16<>S16),"Error - Trading rules not satisfied ▲",IF(AND(LEFT(O16,6)="Bespok",F16<>S16),"Error - Trading rules not satisfied ▲",IF(X16<I16,"Error Trading Down ▲", IF(AND(R16="Littoral seagrass",F16<>"Intertidal sediment - Littoral seagrass", F16<>"Intertidal sediment - Littoral sand"),"Error - Enhancement not possible ▲",IF(AND(R16="Artificial hard structures with integrated greening of grey infrastructure (IGGI)",F16<>"Intertidal hard structures - Artificial hard structures with integrated greening of grey infrastructure (IGGI)", F16<>"Intertidal hard structures - Artificial hard structures", F16<>"Intertidal hard structures - Artificial features of hard structures"),"Error - Enhancement not possible ▲",H16&" - "&W16)))))))) | U16: =IF(F16="","",IF(AND(S16<>F16,AY16="Yes"),"Error you cannot replace an irreplaceable habitat ▲",IF(AND(LEFT(F16,55)<>LEFT(S16,55),T16= "High - High"),"Error - Not like for like ▲",IF(AND(I16=X16,K16>Z16),"Error - Can not reduce condition ▲",IF(K16>Z16, "Error - condition cannot be reduced ▲", IF(AND(I16=X16,K16=Z16),"Error - No enhancement ▲",IF(X16<I16,"Error Trading Down ▲",IF(AND(F16<>S16,I16<X16),"Lower Distinctiveness Habitat"&" - "&Y16,J16&" - "&Y16)))))))) | V16: =IF(S16="","",VLOOKUP(E16,BaselineHabOffsite,20,FALSE)) | W16: =IF(S16="","",VLOOKUP(S16,'G-1 All Habitats'!$B$2:$M$135,10,FALSE)) | X16: =IFERROR(VLOOKUP(W16,'G-1 All Habitats'!$V$3:$W$7,2,FALSE),"") | Z16: =IFERROR(INDEX('G-8 Condition Look up'!$A$3:$H$135,MATCH(S16,'G-8 Condition Look up'!$A$3:$A$135,0),MATCH(Y16,'G-8 Condition Look up'!$A$3:$H$3,0)),"") | AB16: =IF(AA16="","",IF(VLOOKUP(AA16,'G-3 Multipliers'!$L$3:$N$6,2,FALSE)=0,"Spatial Data Missing ⚠",VLOOKUP(AA16,'G-3 Multipliers'!$L$3:$N$6,2,FALSE))) | AC16: =IF(AA16="","",IF(VLOOKUP(AA16,'G-3 Multipliers'!$L$3:$N$6,3,FALSE)=0,"Spatial Data Missing ⚠",VLOOKUP(AA16,'G-3 Multipliers'!$L$3:$N$6,3,FALSE))) | AD16: =IFERROR(IF(OR(LEFT(U16,5)="Error",LEFT(T16,5)="Error"),"Check Data ⚠",INDEX(EnhanceTemporal,MATCH(S16,EnhanceHabitat,0),MATCH(U16,EnhanceCondition,0))),"") | AG16: =IF(AD16="","",IF(AD16="Check Data ⚠","Check Data ⚠",IF(R16="","",IF(AND(AE16>0,AF16>0),"Error -both advance and delayed habitat creation ▲",IF(AND(OR(AE16="Habitat already in target condition",AD16<=AE16),AF16=0),"Check details - Is there evidence that habitat has reached target condition? ⚠",IF(O15="","",IF(AE16>0,"Check details - Is there evidence habitat creation started/in place? ⚠",IF(AF16>0,"Check details- Delay in starting habitat in required condition? ⚠","Standard time to target condition applied")))))))) | AH16: =IF(AG16="Error -both advance and delayed habitat creation ▲","Check Data ⚠",IF(AG16="Check Data ⚠","Check Data ⚠",IF(AD16="","",IF(AD16="Not Possible ▲","CheckData ⚠",IF(AND(AD16="30+",AE16=0),"30+",IF(AND(AD16="30+",AE16="30+"),0,IF(AND(AD16="30+",AE16<30),30-AE16,IF(AD16="30+",30-AE16,IF(AF16="30+","30+",IF(AE16>AD16,0,IF(AD16+AF16>30,"30+",IF(AD16+AF16>30,"30+",IF(AD16-AE16>30,"30+",IF(AD16+AF16-AE16>0,AD16+AF16-AE16,IF(AD16-AE16>0,AD16-AE16,AD16+AF16-AE16))))))))))))))) | AI16: =IF(AH16="Check Data ⚠","Check Data ⚠",IFERROR(VLOOKUP(AH16,'G-4 Temporal multipliers'!$A$4:$C$36,3,FALSE),"")) | AJ16: =IF(S16="","",VLOOKUP(S16,'G-3 Multipliers'!$A$2:$E$134,4,FALSE)) | AK16: =IF(E16="","",IF(AG16="Check details - Is there evidence that habitat has reached target condition? ⚠","Low Difficulty - only applicable if all habitat created before losses ⚠","Standard difficulty applied")) | AL16: =(IF(AND(AK16="Standard difficulty applied",AD16>AE16),AJ16,IF(AND(AK16="Low Difficulty - only applicable if all habitat created before losses ⚠",AE16>=AD16),"Low", AJ16))) | AM16: =IFERROR(IF(F16="","",IF(AH16="Check Data ⚠","Check Data ⚠",VLOOKUP(AL16, 'G-3 Multipliers'!$P$2:$Q$6,2,FALSE))),"") | AO16: =IF(AN16="","",IF(VLOOKUP(AN16,'G-3 Multipliers'!$S$3:$T$10,2,FALSE)=0,"Spatial Data Missing ⚠",VLOOKUP(AN16,'G-3 Multipliers'!$S$3:$T$10,2,FALSE))) | AP16: =IFERROR(IF(N16="Check Data ⚠", "Check Data ⚠",(((((V16*X16*Z16)-(V16*I16*K16))*(AM16*AI16))+(V16*I16*K16))*(AC16)*AO16)),"") | AQ16: =IFERROR(IF(AN16="","", (IF(AND(AN16<>"",AU16=""), "Off-site reference required ▲",IF(N16="Error - you cannot enhance irreplaceable individual trees ▲", "Error - you cannot enhance irreplaceable individual trees ▲", IF(N16="Check Data ⚠", "Check Data ⚠",((((V16*X16*Z16)-(V16*I16*K16))*(AM16*AI16))+(V16*I16*K16))*(AC16)))))),"") | AY16: =IF(E16="","",IF(ISNA(VLOOKUP($E16,'D-1 Off-Site Habitat Baseline'!$D$1:$AV$258,4,FALSE)),"",(VLOOKUP($E16,'D-1 Off-Site Habitat Baseline'!$D$1:$AV$258,4,FALSE))))
A17: =IF(E17="","",IF(ISNA(VLOOKUP($E17,'D-1 Off-Site Habitat Baseline'!$D$1:$O$258,2,FALSE)),"",(VLOOKUP($E17,'D-1 Off-Site Habitat Baseline'!$D$1:$O$258,2,FALSE)))) | B17: =IF(E17="","",IF(ISNA(VLOOKUP($E17,'D-1 Off-Site Habitat Baseline'!$D$1:$O$258,3,FALSE)),"",(VLOOKUP($E17,'D-1 Off-Site Habitat Baseline'!$D$1:$O$258,3,FALSE)))) | C17: =IFERROR(INDEX('G-8 Condition Look up'!$I$4:$I$135,MATCH(S17,'G-8 Condition Look up'!$A$4:$A$135,0)),"") | E17: ='D-1 Off-Site Habitat Baseline'!AP16 | F17: =IF(E17="","",IF(ISNA(VLOOKUP($E17,'D-1 Off-Site Habitat Baseline'!$D$1:$ZZ$258,45,FALSE)),"",(VLOOKUP($E17,'D-1 Off-Site Habitat Baseline'!$D$1:$ZZ$258,45,FALSE)))) | G17: =IF(E17="","",IF(ISNA(VLOOKUP($E17,'D-1 Off-Site Habitat Baseline'!$D$1:$O$258,5,FALSE)),"",(VLOOKUP($E17,'D-1 Off-Site Habitat Baseline'!$D$1:$O$258,5,FALSE)))) | H17: =IF(E17="","",IF(ISNA(VLOOKUP($E17,'D-1 Off-Site Habitat Baseline'!$D$1:$O$258,6,FALSE)),"",(VLOOKUP($E17,'D-1 Off-Site Habitat Baseline'!$D$1:$O$258,6,FALSE)))) | I17: =IF(E17="","",IF(ISNA(VLOOKUP($E17,'D-1 Off-Site Habitat Baseline'!$D$1:$O$258,7,FALSE)),"",(VLOOKUP($E17,'D-1 Off-Site Habitat Baseline'!$D$1:$O$258,7,FALSE)))) | J17: =IF(E17="","",IF(ISNA(VLOOKUP($E17,'D-1 Off-Site Habitat Baseline'!$D$1:$O$258,8,FALSE)),"",(VLOOKUP($E17,'D-1 Off-Site Habitat Baseline'!$D$1:$O$258,8,FALSE)))) | K17: =IF(E17="","",IF(ISNA(VLOOKUP($E17,'D-1 Off-Site Habitat Baseline'!$D$1:$O$258,9,FALSE)),"",(VLOOKUP($E17,'D-1 Off-Site Habitat Baseline'!$D$1:$O$258,9,FALSE)))) | L17: =IF(E17="","",IF(ISNA(VLOOKUP($E17,'D-1 Off-Site Habitat Baseline'!$D$1:$O$258,11,FALSE)),"",(VLOOKUP($E17,'D-1 Off-Site Habitat Baseline'!$D$1:$O$258,11,FALSE)))) | M17: =IF(E17="","",IF(ISNA(VLOOKUP($E17,'D-1 Off-Site Habitat Baseline'!$D$1:$O$258,12,FALSE)),"",(VLOOKUP($E17,'D-1 Off-Site Habitat Baseline'!$D$1:$O$258,12,FALSE)))) | N17: =IF(E17="","",IF(ISNA(VLOOKUP($E17,'D-1 Off-Site Habitat Baseline'!$D$1:$AA$258,17,FALSE)),"",(VLOOKUP($E17,'D-1 Off-Site Habitat Baseline'!$D$1:$AA$258,17,FALSE)))) | O17: =IF(E17="","",IF(ISNA(VLOOKUP($E17,'D-1 Off-Site Habitat Baseline'!$D$1:$AA$258,13,FALSE)),"",(VLOOKUP($E17,'D-1 Off-Site Habitat Baseline'!$D$1:$AA$258,13,FALSE)))) | P17: =IFERROR(INDEX('G-1 All Habitats'!$AG$49:$AG$63,MATCH(Q17,'G-1 All Habitats'!$AF$27:$AF$41,0)),"") | S17: =IFERROR(INDEX('G-1 All Habitats'!$B$3:$B$135,MATCH(R17,'G-1 All Habitats'!$A$3:$A$135,0)),"") | T17: =IF(E17="","",IF(AND(LEFT(O17,6)="Same d",I17>X17),"Error - Trading rules not satisfied ▲",IF(AND(LEFT(O17,6)="Same b",AND(LEFT(F17,5)<>LEFT(S17,5),I17>X17)),"Error - Trading rules not satisfied ▲",IF(AND(LEFT(O17,6)="Same h",F17<>S17),"Error - Trading rules not satisfied ▲",IF(AND(LEFT(O17,6)="Bespok",F17<>S17),"Error - Trading rules not satisfied ▲",IF(X17<I17,"Error Trading Down ▲", IF(AND(R17="Littoral seagrass",F17<>"Intertidal sediment - Littoral seagrass", F17<>"Intertidal sediment - Littoral sand"),"Error - Enhancement not possible ▲",IF(AND(R17="Artificial hard structures with integrated greening of grey infrastructure (IGGI)",F17<>"Intertidal hard structures - Artificial hard structures with integrated greening of grey infrastructure (IGGI)", F17<>"Intertidal hard structures - Artificial hard structures", F17<>"Intertidal hard structures - Artificial features of hard structures"),"Error - Enhancement not possible ▲",H17&" - "&W17)))))))) | U17: =IF(F17="","",IF(AND(S17<>F17,AY17="Yes"),"Error you cannot replace an irreplaceable habitat ▲",IF(AND(LEFT(F17,55)<>LEFT(S17,55),T17= "High - High"),"Error - Not like for like ▲",IF(AND(I17=X17,K17>Z17),"Error - Can not reduce condition ▲",IF(K17>Z17, "Error - condition cannot be reduced ▲", IF(AND(I17=X17,K17=Z17),"Error - No enhancement ▲",IF(X17<I17,"Error Trading Down ▲",IF(AND(F17<>S17,I17<X17),"Lower Distinctiveness Habitat"&" - "&Y17,J17&" - "&Y17)))))))) | V17: =IF(S17="","",VLOOKUP(E17,BaselineHabOffsite,20,FALSE)) | W17: =IF(S17="","",VLOOKUP(S17,'G-1 All Habitats'!$B$2:$M$135,10,FALSE)) | X17: =IFERROR(VLOOKUP(W17,'G-1 All Habitats'!$V$3:$W$7,2,FALSE),"") | Z17: =IFERROR(INDEX('G-8 Condition Look up'!$A$3:$H$135,MATCH(S17,'G-8 Condition Look up'!$A$3:$A$135,0),MATCH(Y17,'G-8 Condition Look up'!$A$3:$H$3,0)),"") | AB17: =IF(AA17="","",IF(VLOOKUP(AA17,'G-3 Multipliers'!$L$3:$N$6,2,FALSE)=0,"Spatial Data Missing ⚠",VLOOKUP(AA17,'G-3 Multipliers'!$L$3:$N$6,2,FALSE))) | AC17: =IF(AA17="","",IF(VLOOKUP(AA17,'G-3 Multipliers'!$L$3:$N$6,3,FALSE)=0,"Spatial Data Missing ⚠",VLOOKUP(AA17,'G-3 Multipliers'!$L$3:$N$6,3,FALSE))) | AD17: =IFERROR(IF(OR(LEFT(U17,5)="Error",LEFT(T17,5)="Error"),"Check Data ⚠",INDEX(EnhanceTemporal,MATCH(S17,EnhanceHabitat,0),MATCH(U17,EnhanceCondition,0))),"") | AG17: =IF(AD17="","",IF(AD17="Check Data ⚠","Check Data ⚠",IF(R17="","",IF(AND(AE17>0,AF17>0),"Error -both advance and delayed habitat creation ▲",IF(AND(OR(AE17="Habitat already in target condition",AD17<=AE17),AF17=0),"Check details - Is there evidence that habitat has reached target condition? ⚠",IF(O16="","",IF(AE17>0,"Check details - Is there evidence habitat creation started/in place? ⚠",IF(AF17>0,"Check details- Delay in starting habitat in required condition? ⚠","Standard time to target condition applied")))))))) | AH17: =IF(AG17="Error -both advance and delayed habitat creation ▲","Check Data ⚠",IF(AG17="Check Data ⚠","Check Data ⚠",IF(AD17="","",IF(AD17="Not Possible ▲","CheckData ⚠",IF(AND(AD17="30+",AE17=0),"30+",IF(AND(AD17="30+",AE17="30+"),0,IF(AND(AD17="30+",AE17<30),30-AE17,IF(AD17="30+",30-AE17,IF(AF17="30+","30+",IF(AE17>AD17,0,IF(AD17+AF17>30,"30+",IF(AD17+AF17>30,"30+",IF(AD17-AE17>30,"30+",IF(AD17+AF17-AE17>0,AD17+AF17-AE17,IF(AD17-AE17>0,AD17-AE17,AD17+AF17-AE17))))))))))))))) | AI17: =IF(AH17="Check Data ⚠","Check Data ⚠",IFERROR(VLOOKUP(AH17,'G-4 Temporal multipliers'!$A$4:$C$36,3,FALSE),"")) | AJ17: =IF(S17="","",VLOOKUP(S17,'G-3 Multipliers'!$A$2:$E$134,4,FALSE)) | AK17: =IF(E17="","",IF(AG17="Check details - Is there evidence that habitat has reached target condition? ⚠","Low Difficulty - only applicable if all habitat created before losses ⚠","Standard difficulty applied")) | AL17: =(IF(AND(AK17="Standard difficulty applied",AD17>AE17),AJ17,IF(AND(AK17="Low Difficulty - only applicable if all habitat created before losses ⚠",AE17>=AD17),"Low", AJ17))) | AM17: =IFERROR(IF(F17="","",IF(AH17="Check Data ⚠","Check Data ⚠",VLOOKUP(AL17, 'G-3 Multipliers'!$P$2:$Q$6,2,FALSE))),"") | AO17: =IF(AN17="","",IF(VLOOKUP(AN17,'G-3 Multipliers'!$S$3:$T$10,2,FALSE)=0,"Spatial Data Missing ⚠",VLOOKUP(AN17,'G-3 Multipliers'!$S$3:$T$10,2,FALSE))) | AP17: =IFERROR(IF(N17="Check Data ⚠", "Check Data ⚠",(((((V17*X17*Z17)-(V17*I17*K17))*(AM17*AI17))+(V17*I17*K17))*(AC17)*AO17)),"") | AQ17: =IFERROR(IF(AN17="","", (IF(AND(AN17<>"",AU17=""), "Off-site reference required ▲",IF(N17="Error - you cannot enhance irreplaceable individual trees ▲", "Error - you cannot enhance irreplaceable individual trees ▲", IF(N17="Check Data ⚠", "Check Data ⚠",((((V17*X17*Z17)-(V17*I17*K17))*(AM17*AI17))+(V17*I17*K17))*(AC17)))))),"") | AY17: =IF(E17="","",IF(ISNA(VLOOKUP($E17,'D-1 Off-Site Habitat Baseline'!$D$1:$AV$258,4,FALSE)),"",(VLOOKUP($E17,'D-1 Off-Site Habitat Baseline'!$D$1:$AV$258,4,FALSE))))
A18: =IF(E18="","",IF(ISNA(VLOOKUP($E18,'D-1 Off-Site Habitat Baseline'!$D$1:$O$258,2,FALSE)),"",(VLOOKUP($E18,'D-1 Off-Site Habitat Baseline'!$D$1:$O$258,2,FALSE)))) | B18: =IF(E18="","",IF(ISNA(VLOOKUP($E18,'D-1 Off-Site Habitat Baseline'!$D$1:$O$258,3,FALSE)),"",(VLOOKUP($E18,'D-1 Off-Site Habitat Baseline'!$D$1:$O$258,3,FALSE)))) | C18: =IFERROR(INDEX('G-8 Condition Look up'!$I$4:$I$135,MATCH(S18,'G-8 Condition Look up'!$A$4:$A$135,0)),"") | E18: ='D-1 Off-Site Habitat Baseline'!AP17 | F18: =IF(E18="","",IF(ISNA(VLOOKUP($E18,'D-1 Off-Site Habitat Baseline'!$D$1:$ZZ$258,45,FALSE)),"",(VLOOKUP($E18,'D-1 Off-Site Habitat Baseline'!$D$1:$ZZ$258,45,FALSE)))) | G18: =IF(E18="","",IF(ISNA(VLOOKUP($E18,'D-1 Off-Site Habitat Baseline'!$D$1:$O$258,5,FALSE)),"",(VLOOKUP($E18,'D-1 Off-Site Habitat Baseline'!$D$1:$O$258,5,FALSE)))) | H18: =IF(E18="","",IF(ISNA(VLOOKUP($E18,'D-1 Off-Site Habitat Baseline'!$D$1:$O$258,6,FALSE)),"",(VLOOKUP($E18,'D-1 Off-Site Habitat Baseline'!$D$1:$O$258,6,FALSE)))) | I18: =IF(E18="","",IF(ISNA(VLOOKUP($E18,'D-1 Off-Site Habitat Baseline'!$D$1:$O$258,7,FALSE)),"",(VLOOKUP($E18,'D-1 Off-Site Habitat Baseline'!$D$1:$O$258,7,FALSE)))) | J18: =IF(E18="","",IF(ISNA(VLOOKUP($E18,'D-1 Off-Site Habitat Baseline'!$D$1:$O$258,8,FALSE)),"",(VLOOKUP($E18,'D-1 Off-Site Habitat Baseline'!$D$1:$O$258,8,FALSE)))) | K18: =IF(E18="","",IF(ISNA(VLOOKUP($E18,'D-1 Off-Site Habitat Baseline'!$D$1:$O$258,9,FALSE)),"",(VLOOKUP($E18,'D-1 Off-Site Habitat Baseline'!$D$1:$O$258,9,FALSE)))) | L18: =IF(E18="","",IF(ISNA(VLOOKUP($E18,'D-1 Off-Site Habitat Baseline'!$D$1:$O$258,11,FALSE)),"",(VLOOKUP($E18,'D-1 Off-Site Habitat Baseline'!$D$1:$O$258,11,FALSE)))) | M18: =IF(E18="","",IF(ISNA(VLOOKUP($E18,'D-1 Off-Site Habitat Baseline'!$D$1:$O$258,12,FALSE)),"",(VLOOKUP($E18,'D-1 Off-Site Habitat Baseline'!$D$1:$O$258,12,FALSE)))) | N18: =IF(E18="","",IF(ISNA(VLOOKUP($E18,'D-1 Off-Site Habitat Baseline'!$D$1:$AA$258,17,FALSE)),"",(VLOOKUP($E18,'D-1 Off-Site Habitat Baseline'!$D$1:$AA$258,17,FALSE)))) | O18: =IF(E18="","",IF(ISNA(VLOOKUP($E18,'D-1 Off-Site Habitat Baseline'!$D$1:$AA$258,13,FALSE)),"",(VLOOKUP($E18,'D-1 Off-Site Habitat Baseline'!$D$1:$AA$258,13,FALSE)))) | P18: =IFERROR(INDEX('G-1 All Habitats'!$AG$49:$AG$63,MATCH(Q18,'G-1 All Habitats'!$AF$27:$AF$41,0)),"") | S18: =IFERROR(INDEX('G-1 All Habitats'!$B$3:$B$135,MATCH(R18,'G-1 All Habitats'!$A$3:$A$135,0)),"") | T18: =IF(E18="","",IF(AND(LEFT(O18,6)="Same d",I18>X18),"Error - Trading rules not satisfied ▲",IF(AND(LEFT(O18,6)="Same b",AND(LEFT(F18,5)<>LEFT(S18,5),I18>X18)),"Error - Trading rules not satisfied ▲",IF(AND(LEFT(O18,6)="Same h",F18<>S18),"Error - Trading rules not satisfied ▲",IF(AND(LEFT(O18,6)="Bespok",F18<>S18),"Error - Trading rules not satisfied ▲",IF(X18<I18,"Error Trading Down ▲", IF(AND(R18="Littoral seagrass",F18<>"Intertidal sediment - Littoral seagrass", F18<>"Intertidal sediment - Littoral sand"),"Error - Enhancement not possible ▲",IF(AND(R18="Artificial hard structures with integrated greening of grey infrastructure (IGGI)",F18<>"Intertidal hard structures - Artificial hard structures with integrated greening of grey infrastructure (IGGI)", F18<>"Intertidal hard structures - Artificial hard structures", F18<>"Intertidal hard structures - Artificial features of hard structures"),"Error - Enhancement not possible ▲",H18&" - "&W18)))))))) | U18: =IF(F18="","",IF(AND(S18<>F18,AY18="Yes"),"Error you cannot replace an irreplaceable habitat ▲",IF(AND(LEFT(F18,55)<>LEFT(S18,55),T18= "High - High"),"Error - Not like for like ▲",IF(AND(I18=X18,K18>Z18),"Error - Can not reduce condition ▲",IF(K18>Z18, "Error - condition cannot be reduced ▲", IF(AND(I18=X18,K18=Z18),"Error - No enhancement ▲",IF(X18<I18,"Error Trading Down ▲",IF(AND(F18<>S18,I18<X18),"Lower Distinctiveness Habitat"&" - "&Y18,J18&" - "&Y18)))))))) | V18: =IF(S18="","",VLOOKUP(E18,BaselineHabOffsite,20,FALSE)) | W18: =IF(S18="","",VLOOKUP(S18,'G-1 All Habitats'!$B$2:$M$135,10,FALSE)) | X18: =IFERROR(VLOOKUP(W18,'G-1 All Habitats'!$V$3:$W$7,2,FALSE),"") | Z18: =IFERROR(INDEX('G-8 Condition Look up'!$A$3:$H$135,MATCH(S18,'G-8 Condition Look up'!$A$3:$A$135,0),MATCH(Y18,'G-8 Condition Look up'!$A$3:$H$3,0)),"") | AB18: =IF(AA18="","",IF(VLOOKUP(AA18,'G-3 Multipliers'!$L$3:$N$6,2,FALSE)=0,"Spatial Data Missing ⚠",VLOOKUP(AA18,'G-3 Multipliers'!$L$3:$N$6,2,FALSE))) | AC18: =IF(AA18="","",IF(VLOOKUP(AA18,'G-3 Multipliers'!$L$3:$N$6,3,FALSE)=0,"Spatial Data Missing ⚠",VLOOKUP(AA18,'G-3 Multipliers'!$L$3:$N$6,3,FALSE))) | AD18: =IFERROR(IF(OR(LEFT(U18,5)="Error",LEFT(T18,5)="Error"),"Check Data ⚠",INDEX(EnhanceTemporal,MATCH(S18,EnhanceHabitat,0),MATCH(U18,EnhanceCondition,0))),"") | AG18: =IF(AD18="","",IF(AD18="Check Data ⚠","Check Data ⚠",IF(R18="","",IF(AND(AE18>0,AF18>0),"Error -both advance and delayed habitat creation ▲",IF(AND(OR(AE18="Habitat already in target condition",AD18<=AE18),AF18=0),"Check details - Is there evidence that habitat has reached target condition? ⚠",IF(O17="","",IF(AE18>0,"Check details - Is there evidence habitat creation started/in place? ⚠",IF(AF18>0,"Check details- Delay in starting habitat in required condition? ⚠","Standard time to target condition applied")))))))) | AH18: =IF(AG18="Error -both advance and delayed habitat creation ▲","Check Data ⚠",IF(AG18="Check Data ⚠","Check Data ⚠",IF(AD18="","",IF(AD18="Not Possible ▲","CheckData ⚠",IF(AND(AD18="30+",AE18=0),"30+",IF(AND(AD18="30+",AE18="30+"),0,IF(AND(AD18="30+",AE18<30),30-AE18,IF(AD18="30+",30-AE18,IF(AF18="30+","30+",IF(AE18>AD18,0,IF(AD18+AF18>30,"30+",IF(AD18+AF18>30,"30+",IF(AD18-AE18>30,"30+",IF(AD18+AF18-AE18>0,AD18+AF18-AE18,IF(AD18-AE18>0,AD18-AE18,AD18+AF18-AE18))))))))))))))) | AI18: =IF(AH18="Check Data ⚠","Check Data ⚠",IFERROR(VLOOKUP(AH18,'G-4 Temporal multipliers'!$A$4:$C$36,3,FALSE),"")) | AJ18: =IF(S18="","",VLOOKUP(S18,'G-3 Multipliers'!$A$2:$E$134,4,FALSE)) | AK18: =IF(E18="","",IF(AG18="Check details - Is there evidence that habitat has reached target condition? ⚠","Low Difficulty - only applicable if all habitat created before losses ⚠","Standard difficulty applied")) | AL18: =(IF(AND(AK18="Standard difficulty applied",AD18>AE18),AJ18,IF(AND(AK18="Low Difficulty - only applicable if all habitat created before losses ⚠",AE18>=AD18),"Low", AJ18))) | AM18: =IFERROR(IF(F18="","",IF(AH18="Check Data ⚠","Check Data ⚠",VLOOKUP(AL18, 'G-3 Multipliers'!$P$2:$Q$6,2,FALSE))),"") | AO18: =IF(AN18="","",IF(VLOOKUP(AN18,'G-3 Multipliers'!$S$3:$T$10,2,FALSE)=0,"Spatial Data Missing ⚠",VLOOKUP(AN18,'G-3 Multipliers'!$S$3:$T$10,2,FALSE))) | AP18: =IFERROR(IF(N18="Check Data ⚠", "Check Data ⚠",(((((V18*X18*Z18)-(V18*I18*K18))*(AM18*AI18))+(V18*I18*K18))*(AC18)*AO18)),"") | AQ18: =IFERROR(IF(AN18="","", (IF(AND(AN18<>"",AU18=""), "Off-site reference required ▲",IF(N18="Error - you cannot enhance irreplaceable individual trees ▲", "Error - you cannot enhance irreplaceable individual trees ▲", IF(N18="Check Data ⚠", "Check Data ⚠",((((V18*X18*Z18)-(V18*I18*K18))*(AM18*AI18))+(V18*I18*K18))*(AC18)))))),"") | AY18: =IF(E18="","",IF(ISNA(VLOOKUP($E18,'D-1 Off-Site Habitat Baseline'!$D$1:$AV$258,4,FALSE)),"",(VLOOKUP($E18,'D-1 Off-Site Habitat Baseline'!$D$1:$AV$258,4,FALSE))))
A19: =IF(E19="","",IF(ISNA(VLOOKUP($E19,'D-1 Off-Site Habitat Baseline'!$D$1:$O$258,2,FALSE)),"",(VLOOKUP($E19,'D-1 Off-Site Habitat Baseline'!$D$1:$O$258,2,FALSE)))) | B19: =IF(E19="","",IF(ISNA(VLOOKUP($E19,'D-1 Off-Site Habitat Baseline'!$D$1:$O$258,3,FALSE)),"",(VLOOKUP($E19,'D-1 Off-Site Habitat Baseline'!$D$1:$O$258,3,FALSE)))) | C19: =IFERROR(INDEX('G-8 Condition Look up'!$I$4:$I$135,MATCH(S19,'G-8 Condition Look up'!$A$4:$A$135,0)),"") | E19: ='D-1 Off-Site Habitat Baseline'!AP18 | F19: =IF(E19="","",IF(ISNA(VLOOKUP($E19,'D-1 Off-Site Habitat Baseline'!$D$1:$ZZ$258,45,FALSE)),"",(VLOOKUP($E19,'D-1 Off-Site Habitat Baseline'!$D$1:$ZZ$258,45,FALSE)))) | G19: =IF(E19="","",IF(ISNA(VLOOKUP($E19,'D-1 Off-Site Habitat Baseline'!$D$1:$O$258,5,FALSE)),"",(VLOOKUP($E19,'D-1 Off-Site Habitat Baseline'!$D$1:$O$258,5,FALSE)))) | H19: =IF(E19="","",IF(ISNA(VLOOKUP($E19,'D-1 Off-Site Habitat Baseline'!$D$1:$O$258,6,FALSE)),"",(VLOOKUP($E19,'D-1 Off-Site Habitat Baseline'!$D$1:$O$258,6,FALSE)))) | I19: =IF(E19="","",IF(ISNA(VLOOKUP($E19,'D-1 Off-Site Habitat Baseline'!$D$1:$O$258,7,FALSE)),"",(VLOOKUP($E19,'D-1 Off-Site Habitat Baseline'!$D$1:$O$258,7,FALSE)))) | J19: =IF(E19="","",IF(ISNA(VLOOKUP($E19,'D-1 Off-Site Habitat Baseline'!$D$1:$O$258,8,FALSE)),"",(VLOOKUP($E19,'D-1 Off-Site Habitat Baseline'!$D$1:$O$258,8,FALSE)))) | K19: =IF(E19="","",IF(ISNA(VLOOKUP($E19,'D-1 Off-Site Habitat Baseline'!$D$1:$O$258,9,FALSE)),"",(VLOOKUP($E19,'D-1 Off-Site Habitat Baseline'!$D$1:$O$258,9,FALSE)))) | L19: =IF(E19="","",IF(ISNA(VLOOKUP($E19,'D-1 Off-Site Habitat Baseline'!$D$1:$O$258,11,FALSE)),"",(VLOOKUP($E19,'D-1 Off-Site Habitat Baseline'!$D$1:$O$258,11,FALSE)))) | M19: =IF(E19="","",IF(ISNA(VLOOKUP($E19,'D-1 Off-Site Habitat Baseline'!$D$1:$O$258,12,FALSE)),"",(VLOOKUP($E19,'D-1 Off-Site Habitat Baseline'!$D$1:$O$258,12,FALSE)))) | N19: =IF(E19="","",IF(ISNA(VLOOKUP($E19,'D-1 Off-Site Habitat Baseline'!$D$1:$AA$258,17,FALSE)),"",(VLOOKUP($E19,'D-1 Off-Site Habitat Baseline'!$D$1:$AA$258,17,FALSE)))) | O19: =IF(E19="","",IF(ISNA(VLOOKUP($E19,'D-1 Off-Site Habitat Baseline'!$D$1:$AA$258,13,FALSE)),"",(VLOOKUP($E19,'D-1 Off-Site Habitat Baseline'!$D$1:$AA$258,13,FALSE)))) | P19: =IFERROR(INDEX('G-1 All Habitats'!$AG$49:$AG$63,MATCH(Q19,'G-1 All Habitats'!$AF$27:$AF$41,0)),"") | S19: =IFERROR(INDEX('G-1 All Habitats'!$B$3:$B$135,MATCH(R19,'G-1 All Habitats'!$A$3:$A$135,0)),"") | T19: =IF(E19="","",IF(AND(LEFT(O19,6)="Same d",I19>X19),"Error - Trading rules not satisfied ▲",IF(AND(LEFT(O19,6)="Same b",AND(LEFT(F19,5)<>LEFT(S19,5),I19>X19)),"Error - Trading rules not satisfied ▲",IF(AND(LEFT(O19,6)="Same h",F19<>S19),"Error - Trading rules not satisfied ▲",IF(AND(LEFT(O19,6)="Bespok",F19<>S19),"Error - Trading rules not satisfied ▲",IF(X19<I19,"Error Trading Down ▲", IF(AND(R19="Littoral seagrass",F19<>"Intertidal sediment - Littoral seagrass", F19<>"Intertidal sediment - Littoral sand"),"Error - Enhancement not possible ▲",IF(AND(R19="Artificial hard structures with integrated greening of grey infrastructure (IGGI)",F19<>"Intertidal hard structures - Artificial hard structures with integrated greening of grey infrastructure (IGGI)", F19<>"Intertidal hard structures - Artificial hard structures", F19<>"Intertidal hard structures - Artificial features of hard structures"),"Error - Enhancement not possible ▲",H19&" - "&W19)))))))) | U19: =IF(F19="","",IF(AND(S19<>F19,AY19="Yes"),"Error you cannot replace an irreplaceable habitat ▲",IF(AND(LEFT(F19,55)<>LEFT(S19,55),T19= "High - High"),"Error - Not like for like ▲",IF(AND(I19=X19,K19>Z19),"Error - Can not reduce condition ▲",IF(K19>Z19, "Error - condition cannot be reduced ▲", IF(AND(I19=X19,K19=Z19),"Error - No enhancement ▲",IF(X19<I19,"Error Trading Down ▲",IF(AND(F19<>S19,I19<X19),"Lower Distinctiveness Habitat"&" - "&Y19,J19&" - "&Y19)))))))) | V19: =IF(S19="","",VLOOKUP(E19,BaselineHabOffsite,20,FALSE)) | W19: =IF(S19="","",VLOOKUP(S19,'G-1 All Habitats'!$B$2:$M$135,10,FALSE)) | X19: =IFERROR(VLOOKUP(W19,'G-1 All Habitats'!$V$3:$W$7,2,FALSE),"") | Z19: =IFERROR(INDEX('G-8 Condition Look up'!$A$3:$H$135,MATCH(S19,'G-8 Condition Look up'!$A$3:$A$135,0),MATCH(Y19,'G-8 Condition Look up'!$A$3:$H$3,0)),"") | AB19: =IF(AA19="","",IF(VLOOKUP(AA19,'G-3 Multipliers'!$L$3:$N$6,2,FALSE)=0,"Spatial Data Missing ⚠",VLOOKUP(AA19,'G-3 Multipliers'!$L$3:$N$6,2,FALSE))) | AC19: =IF(AA19="","",IF(VLOOKUP(AA19,'G-3 Multipliers'!$L$3:$N$6,3,FALSE)=0,"Spatial Data Missing ⚠",VLOOKUP(AA19,'G-3 Multipliers'!$L$3:$N$6,3,FALSE))) | AD19: =IFERROR(IF(OR(LEFT(U19,5)="Error",LEFT(T19,5)="Error"),"Check Data ⚠",INDEX(EnhanceTemporal,MATCH(S19,EnhanceHabitat,0),MATCH(U19,EnhanceCondition,0))),"") | AG19: =IF(AD19="","",IF(AD19="Check Data ⚠","Check Data ⚠",IF(R19="","",IF(AND(AE19>0,AF19>0),"Error -both advance and delayed habitat creation ▲",IF(AND(OR(AE19="Habitat already in target condition",AD19<=AE19),AF19=0),"Check details - Is there evidence that habitat has reached target condition? ⚠",IF(O18="","",IF(AE19>0,"Check details - Is there evidence habitat creation started/in place? ⚠",IF(AF19>0,"Check details- Delay in starting habitat in required condition? ⚠","Standard time to target condition applied")))))))) | AH19: =IF(AG19="Error -both advance and delayed habitat creation ▲","Check Data ⚠",IF(AG19="Check Data ⚠","Check Data ⚠",IF(AD19="","",IF(AD19="Not Possible ▲","CheckData ⚠",IF(AND(AD19="30+",AE19=0),"30+",IF(AND(AD19="30+",AE19="30+"),0,IF(AND(AD19="30+",AE19<30),30-AE19,IF(AD19="30+",30-AE19,IF(AF19="30+","30+",IF(AE19>AD19,0,IF(AD19+AF19>30,"30+",IF(AD19+AF19>30,"30+",IF(AD19-AE19>30,"30+",IF(AD19+AF19-AE19>0,AD19+AF19-AE19,IF(AD19-AE19>0,AD19-AE19,AD19+AF19-AE19))))))))))))))) | AI19: =IF(AH19="Check Data ⚠","Check Data ⚠",IFERROR(VLOOKUP(AH19,'G-4 Temporal multipliers'!$A$4:$C$36,3,FALSE),"")) | AJ19: =IF(S19="","",VLOOKUP(S19,'G-3 Multipliers'!$A$2:$E$134,4,FALSE)) | AK19: =IF(E19="","",IF(AG19="Check details - Is there evidence that habitat has reached target condition? ⚠","Low Difficulty - only applicable if all habitat created before losses ⚠","Standard difficulty applied")) | AL19: =(IF(AND(AK19="Standard difficulty applied",AD19>AE19),AJ19,IF(AND(AK19="Low Difficulty - only applicable if all habitat created before losses ⚠",AE19>=AD19),"Low", AJ19))) | AM19: =IFERROR(IF(F19="","",IF(AH19="Check Data ⚠","Check Data ⚠",VLOOKUP(AL19, 'G-3 Multipliers'!$P$2:$Q$6,2,FALSE))),"") | AO19: =IF(AN19="","",IF(VLOOKUP(AN19,'G-3 Multipliers'!$S$3:$T$10,2,FALSE)=0,"Spatial Data Missing ⚠",VLOOKUP(AN19,'G-3 Multipliers'!$S$3:$T$10,2,FALSE))) | AP19: =IFERROR(IF(N19="Check Data ⚠", "Check Data ⚠",(((((V19*X19*Z19)-(V19*I19*K19))*(AM19*AI19))+(V19*I19*K19))*(AC19)*AO19)),"") | AQ19: =IFERROR(IF(AN19="","", (IF(AND(AN19<>"",AU19=""), "Off-site reference required ▲",IF(N19="Error - you cannot enhance irreplaceable individual trees ▲", "Error - you cannot enhance irreplaceable individual trees ▲", IF(N19="Check Data ⚠", "Check Data ⚠",((((V19*X19*Z19)-(V19*I19*K19))*(AM19*AI19))+(V19*I19*K19))*(AC19)))))),"") | AY19: =IF(E19="","",IF(ISNA(VLOOKUP($E19,'D-1 Off-Site Habitat Baseline'!$D$1:$AV$258,4,FALSE)),"",(VLOOKUP($E19,'D-1 Off-Site Habitat Baseline'!$D$1:$AV$258,4,FALSE))))
A20: =IF(E20="","",IF(ISNA(VLOOKUP($E20,'D-1 Off-Site Habitat Baseline'!$D$1:$O$258,2,FALSE)),"",(VLOOKUP($E20,'D-1 Off-Site Habitat Baseline'!$D$1:$O$258,2,FALSE)))) | B20: =IF(E20="","",IF(ISNA(VLOOKUP($E20,'D-1 Off-Site Habitat Baseline'!$D$1:$O$258,3,FALSE)),"",(VLOOKUP($E20,'D-1 Off-Site Habitat Baseline'!$D$1:$O$258,3,FALSE)))) | C20: =IFERROR(INDEX('G-8 Condition Look up'!$I$4:$I$135,MATCH(S20,'G-8 Condition Look up'!$A$4:$A$135,0)),"") | E20: ='D-1 Off-Site Habitat Baseline'!AP19 | F20: =IF(E20="","",IF(ISNA(VLOOKUP($E20,'D-1 Off-Site Habitat Baseline'!$D$1:$ZZ$258,45,FALSE)),"",(VLOOKUP($E20,'D-1 Off-Site Habitat Baseline'!$D$1:$ZZ$258,45,FALSE)))) | G20: =IF(E20="","",IF(ISNA(VLOOKUP($E20,'D-1 Off-Site Habitat Baseline'!$D$1:$O$258,5,FALSE)),"",(VLOOKUP($E20,'D-1 Off-Site Habitat Baseline'!$D$1:$O$258,5,FALSE)))) | H20: =IF(E20="","",IF(ISNA(VLOOKUP($E20,'D-1 Off-Site Habitat Baseline'!$D$1:$O$258,6,FALSE)),"",(VLOOKUP($E20,'D-1 Off-Site Habitat Baseline'!$D$1:$O$258,6,FALSE)))) | I20: =IF(E20="","",IF(ISNA(VLOOKUP($E20,'D-1 Off-Site Habitat Baseline'!$D$1:$O$258,7,FALSE)),"",(VLOOKUP($E20,'D-1 Off-Site Habitat Baseline'!$D$1:$O$258,7,FALSE)))) | J20: =IF(E20="","",IF(ISNA(VLOOKUP($E20,'D-1 Off-Site Habitat Baseline'!$D$1:$O$258,8,FALSE)),"",(VLOOKUP($E20,'D-1 Off-Site Habitat Baseline'!$D$1:$O$258,8,FALSE)))) | K20: =IF(E20="","",IF(ISNA(VLOOKUP($E20,'D-1 Off-Site Habitat Baseline'!$D$1:$O$258,9,FALSE)),"",(VLOOKUP($E20,'D-1 Off-Site Habitat Baseline'!$D$1:$O$258,9,FALSE)))) | L20: =IF(E20="","",IF(ISNA(VLOOKUP($E20,'D-1 Off-Site Habitat Baseline'!$D$1:$O$258,11,FALSE)),"",(VLOOKUP($E20,'D-1 Off-Site Habitat Baseline'!$D$1:$O$258,11,FALSE)))) | M20: =IF(E20="","",IF(ISNA(VLOOKUP($E20,'D-1 Off-Site Habitat Baseline'!$D$1:$O$258,12,FALSE)),"",(VLOOKUP($E20,'D-1 Off-Site Habitat Baseline'!$D$1:$O$258,12,FALSE)))) | N20: =IF(E20="","",IF(ISNA(VLOOKUP($E20,'D-1 Off-Site Habitat Baseline'!$D$1:$AA$258,17,FALSE)),"",(VLOOKUP($E20,'D-1 Off-Site Habitat Baseline'!$D$1:$AA$258,17,FALSE)))) | O20: =IF(E20="","",IF(ISNA(VLOOKUP($E20,'D-1 Off-Site Habitat Baseline'!$D$1:$AA$258,13,FALSE)),"",(VLOOKUP($E20,'D-1 Off-Site Habitat Baseline'!$D$1:$AA$258,13,FALSE)))) | P20: =IFERROR(INDEX('G-1 All Habitats'!$AG$49:$AG$63,MATCH(Q20,'G-1 All Habitats'!$AF$27:$AF$41,0)),"") | S20: =IFERROR(INDEX('G-1 All Habitats'!$B$3:$B$135,MATCH(R20,'G-1 All Habitats'!$A$3:$A$135,0)),"") | T20: =IF(E20="","",IF(AND(LEFT(O20,6)="Same d",I20>X20),"Error - Trading rules not satisfied ▲",IF(AND(LEFT(O20,6)="Same b",AND(LEFT(F20,5)<>LEFT(S20,5),I20>X20)),"Error - Trading rules not satisfied ▲",IF(AND(LEFT(O20,6)="Same h",F20<>S20),"Error - Trading rules not satisfied ▲",IF(AND(LEFT(O20,6)="Bespok",F20<>S20),"Error - Trading rules not satisfied ▲",IF(X20<I20,"Error Trading Down ▲", IF(AND(R20="Littoral seagrass",F20<>"Intertidal sediment - Littoral seagrass", F20<>"Intertidal sediment - Littoral sand"),"Error - Enhancement not possible ▲",IF(AND(R20="Artificial hard structures with integrated greening of grey infrastructure (IGGI)",F20<>"Intertidal hard structures - Artificial hard structures with integrated greening of grey infrastructure (IGGI)", F20<>"Intertidal hard structures - Artificial hard structures", F20<>"Intertidal hard structures - Artificial features of hard structures"),"Error - Enhancement not possible ▲",H20&" - "&W20)))))))) | U20: =IF(F20="","",IF(AND(S20<>F20,AY20="Yes"),"Error you cannot replace an irreplaceable habitat ▲",IF(AND(LEFT(F20,55)<>LEFT(S20,55),T20= "High - High"),"Error - Not like for like ▲",IF(AND(I20=X20,K20>Z20),"Error - Can not reduce condition ▲",IF(K20>Z20, "Error - condition cannot be reduced ▲", IF(AND(I20=X20,K20=Z20),"Error - No enhancement ▲",IF(X20<I20,"Error Trading Down ▲",IF(AND(F20<>S20,I20<X20),"Lower Distinctiveness Habitat"&" - "&Y20,J20&" - "&Y20)))))))) | V20: =IF(S20="","",VLOOKUP(E20,BaselineHabOffsite,20,FALSE)) | W20: =IF(S20="","",VLOOKUP(S20,'G-1 All Habitats'!$B$2:$M$135,10,FALSE)) | X20: =IFERROR(VLOOKUP(W20,'G-1 All Habitats'!$V$3:$W$7,2,FALSE),"") | Z20: =IFERROR(INDEX('G-8 Condition Look up'!$A$3:$H$135,MATCH(S20,'G-8 Condition Look up'!$A$3:$A$135,0),MATCH(Y20,'G-8 Condition Look up'!$A$3:$H$3,0)),"") | AB20: =IF(AA20="","",IF(VLOOKUP(AA20,'G-3 Multipliers'!$L$3:$N$6,2,FALSE)=0,"Spatial Data Missing ⚠",VLOOKUP(AA20,'G-3 Multipliers'!$L$3:$N$6,2,FALSE))) | AC20: =IF(AA20="","",IF(VLOOKUP(AA20,'G-3 Multipliers'!$L$3:$N$6,3,FALSE)=0,"Spatial Data Missing ⚠",VLOOKUP(AA20,'G-3 Multipliers'!$L$3:$N$6,3,FALSE))) | AD20: =IFERROR(IF(OR(LEFT(U20,5)="Error",LEFT(T20,5)="Error"),"Check Data ⚠",INDEX(EnhanceTemporal,MATCH(S20,EnhanceHabitat,0),MATCH(U20,EnhanceCondition,0))),"") | AG20: =IF(AD20="","",IF(AD20="Check Data ⚠","Check Data ⚠",IF(R20="","",IF(AND(AE20>0,AF20>0),"Error -both advance and delayed habitat creation ▲",IF(AND(OR(AE20="Habitat already in target condition",AD20<=AE20),AF20=0),"Check details - Is there evidence that habitat has reached target condition? ⚠",IF(O19="","",IF(AE20>0,"Check details - Is there evidence habitat creation started/in place? ⚠",IF(AF20>0,"Check details- Delay in starting habitat in required condition? ⚠","Standard time to target condition applied")))))))) | AH20: =IF(AG20="Error -both advance and delayed habitat creation ▲","Check Data ⚠",IF(AG20="Check Data ⚠","Check Data ⚠",IF(AD20="","",IF(AD20="Not Possible ▲","CheckData ⚠",IF(AND(AD20="30+",AE20=0),"30+",IF(AND(AD20="30+",AE20="30+"),0,IF(AND(AD20="30+",AE20<30),30-AE20,IF(AD20="30+",30-AE20,IF(AF20="30+","30+",IF(AE20>AD20,0,IF(AD20+AF20>30,"30+",IF(AD20+AF20>30,"30+",IF(AD20-AE20>30,"30+",IF(AD20+AF20-AE20>0,AD20+AF20-AE20,IF(AD20-AE20>0,AD20-AE20,AD20+AF20-AE20))))))))))))))) | AI20: =IF(AH20="Check Data ⚠","Check Data ⚠",IFERROR(VLOOKUP(AH20,'G-4 Temporal multipliers'!$A$4:$C$36,3,FALSE),"")) | AJ20: =IF(S20="","",VLOOKUP(S20,'G-3 Multipliers'!$A$2:$E$134,4,FALSE)) | AK20: =IF(E20="","",IF(AG20="Check details - Is there evidence that habitat has reached target condition? ⚠","Low Difficulty - only applicable if all habitat created before losses ⚠","Standard difficulty applied")) | AL20: =(IF(AND(AK20="Standard difficulty applied",AD20>AE20),AJ20,IF(AND(AK20="Low Difficulty - only applicable if all habitat created before losses ⚠",AE20>=AD20),"Low", AJ20))) | AM20: =IFERROR(IF(F20="","",IF(AH20="Check Data ⚠","Check Data ⚠",VLOOKUP(AL20, 'G-3 Multipliers'!$P$2:$Q$6,2,FALSE))),"") | AO20: =IF(AN20="","",IF(VLOOKUP(AN20,'G-3 Multipliers'!$S$3:$T$10,2,FALSE)=0,"Spatial Data Missing ⚠",VLOOKUP(AN20,'G-3 Multipliers'!$S$3:$T$10,2,FALSE))) | AP20: =IFERROR(IF(N20="Check Data ⚠", "Check Data ⚠",(((((V20*X20*Z20)-(V20*I20*K20))*(AM20*AI20))+(V20*I20*K20))*(AC20)*AO20)),"") | AQ20: =IFERROR(IF(AN20="","", (IF(AND(AN20<>"",AU20=""), "Off-site reference required ▲",IF(N20="Error - you cannot enhance irreplaceable individual trees ▲", "Error - you cannot enhance irreplaceable individual trees ▲", IF(N20="Check Data ⚠", "Check Data ⚠",((((V20*X20*Z20)-(V20*I20*K20))*(AM20*AI20))+(V20*I20*K20))*(AC20)))))),"") | AY20: =IF(E20="","",IF(ISNA(VLOOKUP($E20,'D-1 Off-Site Habitat Baseline'!$D$1:$AV$258,4,FALSE)),"",(VLOOKUP($E20,'D-1 Off-Site Habitat Baseline'!$D$1:$AV$258,4,FALSE))))
A21: =IF(E21="","",IF(ISNA(VLOOKUP($E21,'D-1 Off-Site Habitat Baseline'!$D$1:$O$258,2,FALSE)),"",(VLOOKUP($E21,'D-1 Off-Site Habitat Baseline'!$D$1:$O$258,2,FALSE)))) | B21: =IF(E21="","",IF(ISNA(VLOOKUP($E21,'D-1 Off-Site Habitat Baseline'!$D$1:$O$258,3,FALSE)),"",(VLOOKUP($E21,'D-1 Off-Site Habitat Baseline'!$D$1:$O$258,3,FALSE)))) | C21: =IFERROR(INDEX('G-8 Condition Look up'!$I$4:$I$135,MATCH(S21,'G-8 Condition Look up'!$A$4:$A$135,0)),"") | E21: ='D-1 Off-Site Habitat Baseline'!AP20 | F21: =IF(E21="","",IF(ISNA(VLOOKUP($E21,'D-1 Off-Site Habitat Baseline'!$D$1:$ZZ$258,45,FALSE)),"",(VLOOKUP($E21,'D-1 Off-Site Habitat Baseline'!$D$1:$ZZ$258,45,FALSE)))) | G21: =IF(E21="","",IF(ISNA(VLOOKUP($E21,'D-1 Off-Site Habitat Baseline'!$D$1:$O$258,5,FALSE)),"",(VLOOKUP($E21,'D-1 Off-Site Habitat Baseline'!$D$1:$O$258,5,FALSE)))) | H21: =IF(E21="","",IF(ISNA(VLOOKUP($E21,'D-1 Off-Site Habitat Baseline'!$D$1:$O$258,6,FALSE)),"",(VLOOKUP($E21,'D-1 Off-Site Habitat Baseline'!$D$1:$O$258,6,FALSE)))) | I21: =IF(E21="","",IF(ISNA(VLOOKUP($E21,'D-1 Off-Site Habitat Baseline'!$D$1:$O$258,7,FALSE)),"",(VLOOKUP($E21,'D-1 Off-Site Habitat Baseline'!$D$1:$O$258,7,FALSE)))) | J21: =IF(E21="","",IF(ISNA(VLOOKUP($E21,'D-1 Off-Site Habitat Baseline'!$D$1:$O$258,8,FALSE)),"",(VLOOKUP($E21,'D-1 Off-Site Habitat Baseline'!$D$1:$O$258,8,FALSE)))) | K21: =IF(E21="","",IF(ISNA(VLOOKUP($E21,'D-1 Off-Site Habitat Baseline'!$D$1:$O$258,9,FALSE)),"",(VLOOKUP($E21,'D-1 Off-Site Habitat Baseline'!$D$1:$O$258,9,FALSE)))) | L21: =IF(E21="","",IF(ISNA(VLOOKUP($E21,'D-1 Off-Site Habitat Baseline'!$D$1:$O$258,11,FALSE)),"",(VLOOKUP($E21,'D-1 Off-Site Habitat Baseline'!$D$1:$O$258,11,FALSE)))) | M21: =IF(E21="","",IF(ISNA(VLOOKUP($E21,'D-1 Off-Site Habitat Baseline'!$D$1:$O$258,12,FALSE)),"",(VLOOKUP($E21,'D-1 Off-Site Habitat Baseline'!$D$1:$O$258,12,FALSE)))) | N21: =IF(E21="","",IF(ISNA(VLOOKUP($E21,'D-1 Off-Site Habitat Baseline'!$D$1:$AA$258,17,FALSE)),"",(VLOOKUP($E21,'D-1 Off-Site Habitat Baseline'!$D$1:$AA$258,17,FALSE)))) | O21: =IF(E21="","",IF(ISNA(VLOOKUP($E21,'D-1 Off-Site Habitat Baseline'!$D$1:$AA$258,13,FALSE)),"",(VLOOKUP($E21,'D-1 Off-Site Habitat Baseline'!$D$1:$AA$258,13,FALSE)))) | P21: =IFERROR(INDEX('G-1 All Habitats'!$AG$49:$AG$63,MATCH(Q21,'G-1 All Habitats'!$AF$27:$AF$41,0)),"") | S21: =IFERROR(INDEX('G-1 All Habitats'!$B$3:$B$135,MATCH(R21,'G-1 All Habitats'!$A$3:$A$135,0)),"") | T21: =IF(E21="","",IF(AND(LEFT(O21,6)="Same d",I21>X21),"Error - Trading rules not satisfied ▲",IF(AND(LEFT(O21,6)="Same b",AND(LEFT(F21,5)<>LEFT(S21,5),I21>X21)),"Error - Trading rules not satisfied ▲",IF(AND(LEFT(O21,6)="Same h",F21<>S21),"Error - Trading rules not satisfied ▲",IF(AND(LEFT(O21,6)="Bespok",F21<>S21),"Error - Trading rules not satisfied ▲",IF(X21<I21,"Error Trading Down ▲", IF(AND(R21="Littoral seagrass",F21<>"Intertidal sediment - Littoral seagrass", F21<>"Intertidal sediment - Littoral sand"),"Error - Enhancement not possible ▲",IF(AND(R21="Artificial hard structures with integrated greening of grey infrastructure (IGGI)",F21<>"Intertidal hard structures - Artificial hard structures with integrated greening of grey infrastructure (IGGI)", F21<>"Intertidal hard structures - Artificial hard structures", F21<>"Intertidal hard structures - Artificial features of hard structures"),"Error - Enhancement not possible ▲",H21&" - "&W21)))))))) | U21: =IF(F21="","",IF(AND(S21<>F21,AY21="Yes"),"Error you cannot replace an irreplaceable habitat ▲",IF(AND(LEFT(F21,55)<>LEFT(S21,55),T21= "High - High"),"Error - Not like for like ▲",IF(AND(I21=X21,K21>Z21),"Error - Can not reduce condition ▲",IF(K21>Z21, "Error - condition cannot be reduced ▲", IF(AND(I21=X21,K21=Z21),"Error - No enhancement ▲",IF(X21<I21,"Error Trading Down ▲",IF(AND(F21<>S21,I21<X21),"Lower Distinctiveness Habitat"&" - "&Y21,J21&" - "&Y21)))))))) | V21: =IF(S21="","",VLOOKUP(E21,BaselineHabOffsite,20,FALSE)) | W21: =IF(S21="","",VLOOKUP(S21,'G-1 All Habitats'!$B$2:$M$135,10,FALSE)) | X21: =IFERROR(VLOOKUP(W21,'G-1 All Habitats'!$V$3:$W$7,2,FALSE),"") | Z21: =IFERROR(INDEX('G-8 Condition Look up'!$A$3:$H$135,MATCH(S21,'G-8 Condition Look up'!$A$3:$A$135,0),MATCH(Y21,'G-8 Condition Look up'!$A$3:$H$3,0)),"") | AB21: =IF(AA21="","",IF(VLOOKUP(AA21,'G-3 Multipliers'!$L$3:$N$6,2,FALSE)=0,"Spatial Data Missing ⚠",VLOOKUP(AA21,'G-3 Multipliers'!$L$3:$N$6,2,FALSE))) | AC21: =IF(AA21="","",IF(VLOOKUP(AA21,'G-3 Multipliers'!$L$3:$N$6,3,FALSE)=0,"Spatial Data Missing ⚠",VLOOKUP(AA21,'G-3 Multipliers'!$L$3:$N$6,3,FALSE))) | AD21: =IFERROR(IF(OR(LEFT(U21,5)="Error",LEFT(T21,5)="Error"),"Check Data ⚠",INDEX(EnhanceTemporal,MATCH(S21,EnhanceHabitat,0),MATCH(U21,EnhanceCondition,0))),"") | AG21: =IF(AD21="","",IF(AD21="Check Data ⚠","Check Data ⚠",IF(R21="","",IF(AND(AE21>0,AF21>0),"Error -both advance and delayed habitat creation ▲",IF(AND(OR(AE21="Habitat already in target condition",AD21<=AE21),AF21=0),"Check details - Is there evidence that habitat has reached target condition? ⚠",IF(O20="","",IF(AE21>0,"Check details - Is there evidence habitat creation started/in place? ⚠",IF(AF21>0,"Check details- Delay in starting habitat in required condition? ⚠","Standard time to target condition applied")))))))) | AH21: =IF(AG21="Error -both advance and delayed habitat creation ▲","Check Data ⚠",IF(AG21="Check Data ⚠","Check Data ⚠",IF(AD21="","",IF(AD21="Not Possible ▲","CheckData ⚠",IF(AND(AD21="30+",AE21=0),"30+",IF(AND(AD21="30+",AE21="30+"),0,IF(AND(AD21="30+",AE21<30),30-AE21,IF(AD21="30+",30-AE21,IF(AF21="30+","30+",IF(AE21>AD21,0,IF(AD21+AF21>30,"30+",IF(AD21+AF21>30,"30+",IF(AD21-AE21>30,"30+",IF(AD21+AF21-AE21>0,AD21+AF21-AE21,IF(AD21-AE21>0,AD21-AE21,AD21+AF21-AE21))))))))))))))) | AI21: =IF(AH21="Check Data ⚠","Check Data ⚠",IFERROR(VLOOKUP(AH21,'G-4 Temporal multipliers'!$A$4:$C$36,3,FALSE),"")) | AJ21: =IF(S21="","",VLOOKUP(S21,'G-3 Multipliers'!$A$2:$E$134,4,FALSE)) | AK21: =IF(E21="","",IF(AG21="Check details - Is there evidence that habitat has reached target condition? ⚠","Low Difficulty - only applicable if all habitat created before losses ⚠","Standard difficulty applied")) | AL21: =(IF(AND(AK21="Standard difficulty applied",AD21>AE21),AJ21,IF(AND(AK21="Low Difficulty - only applicable if all habitat created before losses ⚠",AE21>=AD21),"Low", AJ21))) | AM21: =IFERROR(IF(F21="","",IF(AH21="Check Data ⚠","Check Data ⚠",VLOOKUP(AL21, 'G-3 Multipliers'!$P$2:$Q$6,2,FALSE))),"") | AO21: =IF(AN21="","",IF(VLOOKUP(AN21,'G-3 Multipliers'!$S$3:$T$10,2,FALSE)=0,"Spatial Data Missing ⚠",VLOOKUP(AN21,'G-3 Multipliers'!$S$3:$T$10,2,FALSE))) | AP21: =IFERROR(IF(N21="Check Data ⚠", "Check Data ⚠",(((((V21*X21*Z21)-(V21*I21*K21))*(AM21*AI21))+(V21*I21*K21))*(AC21)*AO21)),"") | AQ21: =IFERROR(IF(AN21="","", (IF(AND(AN21<>"",AU21=""), "Off-site reference required ▲",IF(N21="Error - you cannot enhance irreplaceable individual trees ▲", "Error - you cannot enhance irreplaceable individual trees ▲", IF(N21="Check Data ⚠", "Check Data ⚠",((((V21*X21*Z21)-(V21*I21*K21))*(AM21*AI21))+(V21*I21*K21))*(AC21)))))),"") | AY21: =IF(E21="","",IF(ISNA(VLOOKUP($E21,'D-1 Off-Site Habitat Baseline'!$D$1:$AV$258,4,FALSE)),"",(VLOOKUP($E21,'D-1 Off-Site Habitat Baseline'!$D$1:$AV$258,4,FALSE))))
A22: =IF(E22="","",IF(ISNA(VLOOKUP($E22,'D-1 Off-Site Habitat Baseline'!$D$1:$O$258,2,FALSE)),"",(VLOOKUP($E22,'D-1 Off-Site Habitat Baseline'!$D$1:$O$258,2,FALSE)))) | B22: =IF(E22="","",IF(ISNA(VLOOKUP($E22,'D-1 Off-Site Habitat Baseline'!$D$1:$O$258,3,FALSE)),"",(VLOOKUP($E22,'D-1 Off-Site Habitat Baseline'!$D$1:$O$258,3,FALSE)))) | C22: =IFERROR(INDEX('G-8 Condition Look up'!$I$4:$I$135,MATCH(S22,'G-8 Condition Look up'!$A$4:$A$135,0)),"") | E22: ='D-1 Off-Site Habitat Baseline'!AP21 | F22: =IF(E22="","",IF(ISNA(VLOOKUP($E22,'D-1 Off-Site Habitat Baseline'!$D$1:$ZZ$258,45,FALSE)),"",(VLOOKUP($E22,'D-1 Off-Site Habitat Baseline'!$D$1:$ZZ$258,45,FALSE)))) | G22: =IF(E22="","",IF(ISNA(VLOOKUP($E22,'D-1 Off-Site Habitat Baseline'!$D$1:$O$258,5,FALSE)),"",(VLOOKUP($E22,'D-1 Off-Site Habitat Baseline'!$D$1:$O$258,5,FALSE)))) | H22: =IF(E22="","",IF(ISNA(VLOOKUP($E22,'D-1 Off-Site Habitat Baseline'!$D$1:$O$258,6,FALSE)),"",(VLOOKUP($E22,'D-1 Off-Site Habitat Baseline'!$D$1:$O$258,6,FALSE)))) | I22: =IF(E22="","",IF(ISNA(VLOOKUP($E22,'D-1 Off-Site Habitat Baseline'!$D$1:$O$258,7,FALSE)),"",(VLOOKUP($E22,'D-1 Off-Site Habitat Baseline'!$D$1:$O$258,7,FALSE)))) | J22: =IF(E22="","",IF(ISNA(VLOOKUP($E22,'D-1 Off-Site Habitat Baseline'!$D$1:$O$258,8,FALSE)),"",(VLOOKUP($E22,'D-1 Off-Site Habitat Baseline'!$D$1:$O$258,8,FALSE)))) | K22: =IF(E22="","",IF(ISNA(VLOOKUP($E22,'D-1 Off-Site Habitat Baseline'!$D$1:$O$258,9,FALSE)),"",(VLOOKUP($E22,'D-1 Off-Site Habitat Baseline'!$D$1:$O$258,9,FALSE)))) | L22: =IF(E22="","",IF(ISNA(VLOOKUP($E22,'D-1 Off-Site Habitat Baseline'!$D$1:$O$258,11,FALSE)),"",(VLOOKUP($E22,'D-1 Off-Site Habitat Baseline'!$D$1:$O$258,11,FALSE)))) | M22: =IF(E22="","",IF(ISNA(VLOOKUP($E22,'D-1 Off-Site Habitat Baseline'!$D$1:$O$258,12,FALSE)),"",(VLOOKUP($E22,'D-1 Off-Site Habitat Baseline'!$D$1:$O$258,12,FALSE)))) | N22: =IF(E22="","",IF(ISNA(VLOOKUP($E22,'D-1 Off-Site Habitat Baseline'!$D$1:$AA$258,17,FALSE)),"",(VLOOKUP($E22,'D-1 Off-Site Habitat Baseline'!$D$1:$AA$258,17,FALSE)))) | O22: =IF(E22="","",IF(ISNA(VLOOKUP($E22,'D-1 Off-Site Habitat Baseline'!$D$1:$AA$258,13,FALSE)),"",(VLOOKUP($E22,'D-1 Off-Site Habitat Baseline'!$D$1:$AA$258,13,FALSE)))) | P22: =IFERROR(INDEX('G-1 All Habitats'!$AG$49:$AG$63,MATCH(Q22,'G-1 All Habitats'!$AF$27:$AF$41,0)),"") | S22: =IFERROR(INDEX('G-1 All Habitats'!$B$3:$B$135,MATCH(R22,'G-1 All Habitats'!$A$3:$A$135,0)),"") | T22: =IF(E22="","",IF(AND(LEFT(O22,6)="Same d",I22>X22),"Error - Trading rules not satisfied ▲",IF(AND(LEFT(O22,6)="Same b",AND(LEFT(F22,5)<>LEFT(S22,5),I22>X22)),"Error - Trading rules not satisfied ▲",IF(AND(LEFT(O22,6)="Same h",F22<>S22),"Error - Trading rules not satisfied ▲",IF(AND(LEFT(O22,6)="Bespok",F22<>S22),"Error - Trading rules not satisfied ▲",IF(X22<I22,"Error Trading Down ▲", IF(AND(R22="Littoral seagrass",F22<>"Intertidal sediment - Littoral seagrass", F22<>"Intertidal sediment - Littoral sand"),"Error - Enhancement not possible ▲",IF(AND(R22="Artificial hard structures with integrated greening of grey infrastructure (IGGI)",F22<>"Intertidal hard structures - Artificial hard structures with integrated greening of grey infrastructure (IGGI)", F22<>"Intertidal hard structures - Artificial hard structures", F22<>"Intertidal hard structures - Artificial features of hard structures"),"Error - Enhancement not possible ▲",H22&" - "&W22)))))))) | U22: =IF(F22="","",IF(AND(S22<>F22,AY22="Yes"),"Error you cannot replace an irreplaceable habitat ▲",IF(AND(LEFT(F22,55)<>LEFT(S22,55),T22= "High - High"),"Error - Not like for like ▲",IF(AND(I22=X22,K22>Z22),"Error - Can not reduce condition ▲",IF(K22>Z22, "Error - condition cannot be reduced ▲", IF(AND(I22=X22,K22=Z22),"Error - No enhancement ▲",IF(X22<I22,"Error Trading Down ▲",IF(AND(F22<>S22,I22<X22),"Lower Distinctiveness Habitat"&" - "&Y22,J22&" - "&Y22)))))))) | V22: =IF(S22="","",VLOOKUP(E22,BaselineHabOffsite,20,FALSE)) | W22: =IF(S22="","",VLOOKUP(S22,'G-1 All Habitats'!$B$2:$M$135,10,FALSE)) | X22: =IFERROR(VLOOKUP(W22,'G-1 All Habitats'!$V$3:$W$7,2,FALSE),"") | Z22: =IFERROR(INDEX('G-8 Condition Look up'!$A$3:$H$135,MATCH(S22,'G-8 Condition Look up'!$A$3:$A$135,0),MATCH(Y22,'G-8 Condition Look up'!$A$3:$H$3,0)),"") | AB22: =IF(AA22="","",IF(VLOOKUP(AA22,'G-3 Multipliers'!$L$3:$N$6,2,FALSE)=0,"Spatial Data Missing ⚠",VLOOKUP(AA22,'G-3 Multipliers'!$L$3:$N$6,2,FALSE))) | AC22: =IF(AA22="","",IF(VLOOKUP(AA22,'G-3 Multipliers'!$L$3:$N$6,3,FALSE)=0,"Spatial Data Missing ⚠",VLOOKUP(AA22,'G-3 Multipliers'!$L$3:$N$6,3,FALSE))) | AD22: =IFERROR(IF(OR(LEFT(U22,5)="Error",LEFT(T22,5)="Error"),"Check Data ⚠",INDEX(EnhanceTemporal,MATCH(S22,EnhanceHabitat,0),MATCH(U22,EnhanceCondition,0))),"") | AG22: =IF(AD22="","",IF(AD22="Check Data ⚠","Check Data ⚠",IF(R22="","",IF(AND(AE22>0,AF22>0),"Error -both advance and delayed habitat creation ▲",IF(AND(OR(AE22="Habitat already in target condition",AD22<=AE22),AF22=0),"Check details - Is there evidence that habitat has reached target condition? ⚠",IF(O21="","",IF(AE22>0,"Check details - Is there evidence habitat creation started/in place? ⚠",IF(AF22>0,"Check details- Delay in starting habitat in required condition? ⚠","Standard time to target condition applied")))))))) | AH22: =IF(AG22="Error -both advance and delayed habitat creation ▲","Check Data ⚠",IF(AG22="Check Data ⚠","Check Data ⚠",IF(AD22="","",IF(AD22="Not Possible ▲","CheckData ⚠",IF(AND(AD22="30+",AE22=0),"30+",IF(AND(AD22="30+",AE22="30+"),0,IF(AND(AD22="30+",AE22<30),30-AE22,IF(AD22="30+",30-AE22,IF(AF22="30+","30+",IF(AE22>AD22,0,IF(AD22+AF22>30,"30+",IF(AD22+AF22>30,"30+",IF(AD22-AE22>30,"30+",IF(AD22+AF22-AE22>0,AD22+AF22-AE22,IF(AD22-AE22>0,AD22-AE22,AD22+AF22-AE22))))))))))))))) | AI22: =IF(AH22="Check Data ⚠","Check Data ⚠",IFERROR(VLOOKUP(AH22,'G-4 Temporal multipliers'!$A$4:$C$36,3,FALSE),"")) | AJ22: =IF(S22="","",VLOOKUP(S22,'G-3 Multipliers'!$A$2:$E$134,4,FALSE)) | AK22: =IF(E22="","",IF(AG22="Check details - Is there evidence that habitat has reached target condition? ⚠","Low Difficulty - only applicable if all habitat created before losses ⚠","Standard difficulty applied")) | AL22: =(IF(AND(AK22="Standard difficulty applied",AD22>AE22),AJ22,IF(AND(AK22="Low Difficulty - only applicable if all habitat created before losses ⚠",AE22>=AD22),"Low", AJ22))) | AM22: =IFERROR(IF(F22="","",IF(AH22="Check Data ⚠","Check Data ⚠",VLOOKUP(AL22, 'G-3 Multipliers'!$P$2:$Q$6,2,FALSE))),"") | AO22: =IF(AN22="","",IF(VLOOKUP(AN22,'G-3 Multipliers'!$S$3:$T$10,2,FALSE)=0,"Spatial Data Missing ⚠",VLOOKUP(AN22,'G-3 Multipliers'!$S$3:$T$10,2,FALSE))) | AP22: =IFERROR(IF(N22="Check Data ⚠", "Check Data ⚠",(((((V22*X22*Z22)-(V22*I22*K22))*(AM22*AI22))+(V22*I22*K22))*(AC22)*AO22)),"") | AQ22: =IFERROR(IF(AN22="","", (IF(AND(AN22<>"",AU22=""), "Off-site reference required ▲",IF(N22="Error - you cannot enhance irreplaceable individual trees ▲", "Error - you cannot enhance irreplaceable individual trees ▲", IF(N22="Check Data ⚠", "Check Data ⚠",((((V22*X22*Z22)-(V22*I22*K22))*(AM22*AI22))+(V22*I22*K22))*(AC22)))))),"") | AY22: =IF(E22="","",IF(ISNA(VLOOKUP($E22,'D-1 Off-Site Habitat Baseline'!$D$1:$AV$258,4,FALSE)),"",(VLOOKUP($E22,'D-1 Off-Site Habitat Baseline'!$D$1:$AV$258,4,FALSE))))
A23: =IF(E23="","",IF(ISNA(VLOOKUP($E23,'D-1 Off-Site Habitat Baseline'!$D$1:$O$258,2,FALSE)),"",(VLOOKUP($E23,'D-1 Off-Site Habitat Baseline'!$D$1:$O$258,2,FALSE)))) | B23: =IF(E23="","",IF(ISNA(VLOOKUP($E23,'D-1 Off-Site Habitat Baseline'!$D$1:$O$258,3,FALSE)),"",(VLOOKUP($E23,'D-1 Off-Site Habitat Baseline'!$D$1:$O$258,3,FALSE)))) | C23: =IFERROR(INDEX('G-8 Condition Look up'!$I$4:$I$135,MATCH(S23,'G-8 Condition Look up'!$A$4:$A$135,0)),"") | E23: ='D-1 Off-Site Habitat Baseline'!AP22 | F23: =IF(E23="","",IF(ISNA(VLOOKUP($E23,'D-1 Off-Site Habitat Baseline'!$D$1:$ZZ$258,45,FALSE)),"",(VLOOKUP($E23,'D-1 Off-Site Habitat Baseline'!$D$1:$ZZ$258,45,FALSE)))) | G23: =IF(E23="","",IF(ISNA(VLOOKUP($E23,'D-1 Off-Site Habitat Baseline'!$D$1:$O$258,5,FALSE)),"",(VLOOKUP($E23,'D-1 Off-Site Habitat Baseline'!$D$1:$O$258,5,FALSE)))) | H23: =IF(E23="","",IF(ISNA(VLOOKUP($E23,'D-1 Off-Site Habitat Baseline'!$D$1:$O$258,6,FALSE)),"",(VLOOKUP($E23,'D-1 Off-Site Habitat Baseline'!$D$1:$O$258,6,FALSE)))) | I23: =IF(E23="","",IF(ISNA(VLOOKUP($E23,'D-1 Off-Site Habitat Baseline'!$D$1:$O$258,7,FALSE)),"",(VLOOKUP($E23,'D-1 Off-Site Habitat Baseline'!$D$1:$O$258,7,FALSE)))) | J23: =IF(E23="","",IF(ISNA(VLOOKUP($E23,'D-1 Off-Site Habitat Baseline'!$D$1:$O$258,8,FALSE)),"",(VLOOKUP($E23,'D-1 Off-Site Habitat Baseline'!$D$1:$O$258,8,FALSE)))) | K23: =IF(E23="","",IF(ISNA(VLOOKUP($E23,'D-1 Off-Site Habitat Baseline'!$D$1:$O$258,9,FALSE)),"",(VLOOKUP($E23,'D-1 Off-Site Habitat Baseline'!$D$1:$O$258,9,FALSE)))) | L23: =IF(E23="","",IF(ISNA(VLOOKUP($E23,'D-1 Off-Site Habitat Baseline'!$D$1:$O$258,11,FALSE)),"",(VLOOKUP($E23,'D-1 Off-Site Habitat Baseline'!$D$1:$O$258,11,FALSE)))) | M23: =IF(E23="","",IF(ISNA(VLOOKUP($E23,'D-1 Off-Site Habitat Baseline'!$D$1:$O$258,12,FALSE)),"",(VLOOKUP($E23,'D-1 Off-Site Habitat Baseline'!$D$1:$O$258,12,FALSE)))) | N23: =IF(E23="","",IF(ISNA(VLOOKUP($E23,'D-1 Off-Site Habitat Baseline'!$D$1:$AA$258,17,FALSE)),"",(VLOOKUP($E23,'D-1 Off-Site Habitat Baseline'!$D$1:$AA$258,17,FALSE)))) | O23: =IF(E23="","",IF(ISNA(VLOOKUP($E23,'D-1 Off-Site Habitat Baseline'!$D$1:$AA$258,13,FALSE)),"",(VLOOKUP($E23,'D-1 Off-Site Habitat Baseline'!$D$1:$AA$258,13,FALSE)))) | P23: =IFERROR(INDEX('G-1 All Habitats'!$AG$49:$AG$63,MATCH(Q23,'G-1 All Habitats'!$AF$27:$AF$41,0)),"") | S23: =IFERROR(INDEX('G-1 All Habitats'!$B$3:$B$135,MATCH(R23,'G-1 All Habitats'!$A$3:$A$135,0)),"") | T23: =IF(E23="","",IF(AND(LEFT(O23,6)="Same d",I23>X23),"Error - Trading rules not satisfied ▲",IF(AND(LEFT(O23,6)="Same b",AND(LEFT(F23,5)<>LEFT(S23,5),I23>X23)),"Error - Trading rules not satisfied ▲",IF(AND(LEFT(O23,6)="Same h",F23<>S23),"Error - Trading rules not satisfied ▲",IF(AND(LEFT(O23,6)="Bespok",F23<>S23),"Error - Trading rules not satisfied ▲",IF(X23<I23,"Error Trading Down ▲", IF(AND(R23="Littoral seagrass",F23<>"Intertidal sediment - Littoral seagrass", F23<>"Intertidal sediment - Littoral sand"),"Error - Enhancement not possible ▲",IF(AND(R23="Artificial hard structures with integrated greening of grey infrastructure (IGGI)",F23<>"Intertidal hard structures - Artificial hard structures with integrated greening of grey infrastructure (IGGI)", F23<>"Intertidal hard structures - Artificial hard structures", F23<>"Intertidal hard structures - Artificial features of hard structures"),"Error - Enhancement not possible ▲",H23&" - "&W23)))))))) | U23: =IF(F23="","",IF(AND(S23<>F23,AY23="Yes"),"Error you cannot replace an irreplaceable habitat ▲",IF(AND(LEFT(F23,55)<>LEFT(S23,55),T23= "High - High"),"Error - Not like for like ▲",IF(AND(I23=X23,K23>Z23),"Error - Can not reduce condition ▲",IF(K23>Z23, "Error - condition cannot be reduced ▲", IF(AND(I23=X23,K23=Z23),"Error - No enhancement ▲",IF(X23<I23,"Error Trading Down ▲",IF(AND(F23<>S23,I23<X23),"Lower Distinctiveness Habitat"&" - "&Y23,J23&" - "&Y23)))))))) | V23: =IF(S23="","",VLOOKUP(E23,BaselineHabOffsite,20,FALSE)) | W23: =IF(S23="","",VLOOKUP(S23,'G-1 All Habitats'!$B$2:$M$135,10,FALSE)) | X23: =IFERROR(VLOOKUP(W23,'G-1 All Habitats'!$V$3:$W$7,2,FALSE),"") | Z23: =IFERROR(INDEX('G-8 Condition Look up'!$A$3:$H$135,MATCH(S23,'G-8 Condition Look up'!$A$3:$A$135,0),MATCH(Y23,'G-8 Condition Look up'!$A$3:$H$3,0)),"") | AB23: =IF(AA23="","",IF(VLOOKUP(AA23,'G-3 Multipliers'!$L$3:$N$6,2,FALSE)=0,"Spatial Data Missing ⚠",VLOOKUP(AA23,'G-3 Multipliers'!$L$3:$N$6,2,FALSE))) | AC23: =IF(AA23="","",IF(VLOOKUP(AA23,'G-3 Multipliers'!$L$3:$N$6,3,FALSE)=0,"Spatial Data Missing ⚠",VLOOKUP(AA23,'G-3 Multipliers'!$L$3:$N$6,3,FALSE))) | AD23: =IFERROR(IF(OR(LEFT(U23,5)="Error",LEFT(T23,5)="Error"),"Check Data ⚠",INDEX(EnhanceTemporal,MATCH(S23,EnhanceHabitat,0),MATCH(U23,EnhanceCondition,0))),"") | AG23: =IF(AD23="","",IF(AD23="Check Data ⚠","Check Data ⚠",IF(R23="","",IF(AND(AE23>0,AF23>0),"Error -both advance and delayed habitat creation ▲",IF(AND(OR(AE23="Habitat already in target condition",AD23<=AE23),AF23=0),"Check details - Is there evidence that habitat has reached target condition? ⚠",IF(O22="","",IF(AE23>0,"Check details - Is there evidence habitat creation started/in place? ⚠",IF(AF23>0,"Check details- Delay in starting habitat in required condition? ⚠","Standard time to target condition applied")))))))) | AH23: =IF(AG23="Error -both advance and delayed habitat creation ▲","Check Data ⚠",IF(AG23="Check Data ⚠","Check Data ⚠",IF(AD23="","",IF(AD23="Not Possible ▲","CheckData ⚠",IF(AND(AD23="30+",AE23=0),"30+",IF(AND(AD23="30+",AE23="30+"),0,IF(AND(AD23="30+",AE23<30),30-AE23,IF(AD23="30+",30-AE23,IF(AF23="30+","30+",IF(AE23>AD23,0,IF(AD23+AF23>30,"30+",IF(AD23+AF23>30,"30+",IF(AD23-AE23>30,"30+",IF(AD23+AF23-AE23>0,AD23+AF23-AE23,IF(AD23-AE23>0,AD23-AE23,AD23+AF23-AE23))))))))))))))) | AI23: =IF(AH23="Check Data ⚠","Check Data ⚠",IFERROR(VLOOKUP(AH23,'G-4 Temporal multipliers'!$A$4:$C$36,3,FALSE),"")) | AJ23: =IF(S23="","",VLOOKUP(S23,'G-3 Multipliers'!$A$2:$E$134,4,FALSE)) | AK23: =IF(E23="","",IF(AG23="Check details - Is there evidence that habitat has reached target condition? ⚠","Low Difficulty - only applicable if all habitat created before losses ⚠","Standard difficulty applied")) | AL23: =(IF(AND(AK23="Standard difficulty applied",AD23>AE23),AJ23,IF(AND(AK23="Low Difficulty - only applicable if all habitat created before losses ⚠",AE23>=AD23),"Low", AJ23))) | AM23: =IFERROR(IF(F23="","",IF(AH23="Check Data ⚠","Check Data ⚠",VLOOKUP(AL23, 'G-3 Multipliers'!$P$2:$Q$6,2,FALSE))),"") | AO23: =IF(AN23="","",IF(VLOOKUP(AN23,'G-3 Multipliers'!$S$3:$T$10,2,FALSE)=0,"Spatial Data Missing ⚠",VLOOKUP(AN23,'G-3 Multipliers'!$S$3:$T$10,2,FALSE))) | AP23: =IFERROR(IF(N23="Check Data ⚠", "Check Data ⚠",(((((V23*X23*Z23)-(V23*I23*K23))*(AM23*AI23))+(V23*I23*K23))*(AC23)*AO23)),"") | AQ23: =IFERROR(IF(AN23="","", (IF(AND(AN23<>"",AU23=""), "Off-site reference required ▲",IF(N23="Error - you cannot enhance irreplaceable individual trees ▲", "Error - you cannot enhance irreplaceable individual trees ▲", IF(N23="Check Data ⚠", "Check Data ⚠",((((V23*X23*Z23)-(V23*I23*K23))*(AM23*AI23))+(V23*I23*K23))*(AC23)))))),"") | AY23: =IF(E23="","",IF(ISNA(VLOOKUP($E23,'D-1 Off-Site Habitat Baseline'!$D$1:$AV$258,4,FALSE)),"",(VLOOKUP($E23,'D-1 Off-Site Habitat Baseline'!$D$1:$AV$258,4,FALSE))))
... A258: =IF(E258="","",IF(ISNA(VLOOKUP($E258,'D-1 Off-Site Habitat Baseline'!$D$1:$O$258,2,FALSE)),"",(VLOOKUP($E258,'D-1 Off-Site Habitat Baseline'!$D$1:$O$258,2,FALSE)))) | B258: =IF(E258="","",IF(ISNA(VLOOKUP($E258,'D-1 Off-Site Habitat Baseline'!$D$1:$O$258,3,FALSE)),"",(VLOOKUP($E258,'D-1 Off-Site Habitat Baseline'!$D$1:$O$258,3,FALSE)))) | C258: =IFERROR(INDEX('G-8 Condition Look up'!$I$4:$I$135,MATCH(S258,'G-8 Condition Look up'!$A$4:$A$135,0)),"") | E258: ='D-1 Off-Site Habitat Baseline'!AP257 | F258: =IF(E258="","",IF(ISNA(VLOOKUP($E258,'D-1 Off-Site Habitat Baseline'!$D$1:$ZZ$258,45,FALSE)),"",(VLOOKUP($E258,'D-1 Off-Site Habitat Baseline'!$D$1:$ZZ$258,45,FALSE)))) | G258: =IF(E258="","",IF(ISNA(VLOOKUP($E258,'D-1 Off-Site Habitat Baseline'!$D$1:$O$258,5,FALSE)),"",(VLOOKUP($E258,'D-1 Off-Site Habitat Baseline'!$D$1:$O$258,5,FALSE)))) | H258: =IF(E258="","",IF(ISNA(VLOOKUP($E258,'D-1 Off-Site Habitat Baseline'!$D$1:$O$258,6,FALSE)),"",(VLOOKUP($E258,'D-1 Off-Site Habitat Baseline'!$D$1:$O$258,6,FALSE)))) | I258: =IF(E258="","",IF(ISNA(VLOOKUP($E258,'D-1 Off-Site Habitat Baseline'!$D$1:$O$258,7,FALSE)),"",(VLOOKUP($E258,'D-1 Off-Site Habitat Baseline'!$D$1:$O$258,7,FALSE)))) | J258: =IF(E258="","",IF(ISNA(VLOOKUP($E258,'D-1 Off-Site Habitat Baseline'!$D$1:$O$258,8,FALSE)),"",(VLOOKUP($E258,'D-1 Off-Site Habitat Baseline'!$D$1:$O$258,8,FALSE)))) | K258: =IF(E258="","",IF(ISNA(VLOOKUP($E258,'D-1 Off-Site Habitat Baseline'!$D$1:$O$258,9,FALSE)),"",(VLOOKUP($E258,'D-1 Off-Site Habitat Baseline'!$D$1:$O$258,9,FALSE)))) | L258: =IF(E258="","",IF(ISNA(VLOOKUP($E258,'D-1 Off-Site Habitat Baseline'!$D$1:$O$258,11,FALSE)),"",(VLOOKUP($E258,'D-1 Off-Site Habitat Baseline'!$D$1:$O$258,11,FALSE)))) | M258: =IF(E258="","",IF(ISNA(VLOOKUP($E258,'D-1 Off-Site Habitat Baseline'!$D$1:$O$258,12,FALSE)),"",(VLOOKUP($E258,'D-1 Off-Site Habitat Baseline'!$D$1:$O$258,12,FALSE)))) | N258: =IF(E258="","",IF(ISNA(VLOOKUP($E258,'D-1 Off-Site Habitat Baseline'!$D$1:$AA$258,17,FALSE)),"",(VLOOKUP($E258,'D-1 Off-Site Habitat Baseline'!$D$1:$AA$258,17,FALSE)))) | O258: =IF(E258="","",IF(ISNA(VLOOKUP($E258,'D-1 Off-Site Habitat Baseline'!$D$1:$AA$258,13,FALSE)),"",(VLOOKUP($E258,'D-1 Off-Site Habitat Baseline'!$D$1:$AA$258,13,FALSE)))) | P258: =IFERROR(INDEX('G-1 All Habitats'!$AG$49:$AG$63,MATCH(Q258,'G-1 All Habitats'!$AF$27:$AF$41,0)),"") | S258: =IFERROR(INDEX('G-1 All Habitats'!$B$3:$B$135,MATCH(R258,'G-1 All Habitats'!$A$3:$A$135,0)),"") | T258: =IF(E258="","",IF(AND(LEFT(O258,6)="Same d",I258>X258),"Error - Trading rules not satisfied ▲",IF(AND(LEFT(O258,6)="Same b",AND(LEFT(F258,5)<>LEFT(S258,5),I258>X258)),"Error - Trading rules not satisfied ▲",IF(AND(LEFT(O258,6)="Same h",F258<>S258),"Error - Trading rules not satisfied ▲",IF(AND(LEFT(O258,6)="Bespok",F258<>S258),"Error - Trading rules not satisfied ▲",IF(X258<I258,"Error Trading Down ▲", IF(AND(R258="Littoral seagrass",F258<>"Intertidal sediment - Littoral seagrass", F258<>"Intertidal sediment - Littoral sand"),"Error - Enhancement not possible ▲",IF(AND(R258="Artificial hard structures with integrated greening of grey infrastructure (IGGI)",F258<>"Intertidal hard structures - Artificial hard structures with integrated greening of grey infrastructure (IGGI)", F258<>"Intertidal hard structures - Artificial hard structures", F258<>"Intertidal hard structures - Artificial features of hard structures"),"Error - Enhancement not possible ▲",H258&" - "&W258)))))))) | U258: =IF(F258="","",IF(AND(S258<>F258,AY258="Yes"),"Error you cannot replace an irreplaceable habitat ▲",IF(AND(LEFT(F258,55)<>LEFT(S258,55),T258= "High - High"),"Error - Not like for like ▲",IF(AND(I258=X258,K258>Z258),"Error - Can not reduce condition ▲",IF(K258>Z258, "Error - condition cannot be reduced ▲", IF(AND(I258=X258,K258=Z258),"Error - No enhancement ▲",IF(X258<I258,"Error Trading Down ▲",IF(AND(F258<>S258,I258<X258),"Lower Distinctiveness Habitat"&" - "&Y258,J258&" - "&Y258)))))))) | V258: =IF(S258="","",VLOOKUP(E258,BaselineHabOffsite,20,FALSE)) | W258: =IF(S258="","",VLOOKUP(S258,'G-1 All Habitats'!$B$2:$M$135,10,FALSE)) | X258: =IFERROR(VLOOKUP(W258,'G-1 All Habitats'!$V$3:$W$7,2,FALSE),"") | Z258: =IFERROR(INDEX('G-8 Condition Look up'!$A$3:$H$135,MATCH(S258,'G-8 Condition Look up'!$A$3:$A$135,0),MATCH(Y258,'G-8 Condition Look up'!$A$3:$H$3,0)),"") | AB258: =IF(AA258="","",IF(VLOOKUP(AA258,'G-3 Multipliers'!$L$3:$N$6,2,FALSE)=0,"Spatial Data Missing ⚠",VLOOKUP(AA258,'G-3 Multipliers'!$L$3:$N$6,2,FALSE))) | AC258: =IF(AA258="","",IF(VLOOKUP(AA258,'G-3 Multipliers'!$L$3:$N$6,3,FALSE)=0,"Spatial Data Missing ⚠",VLOOKUP(AA258,'G-3 Multipliers'!$L$3:$N$6,3,FALSE))) | AD258: =IFERROR(IF(OR(LEFT(U258,5)="Error",LEFT(T258,5)="Error"),"Check Data ⚠",INDEX(EnhanceTemporal,MATCH(S258,EnhanceHabitat,0),MATCH(U258,EnhanceCondition,0))),"") | AG258: =IF(AD258="","",IF(AD258="Check Data ⚠","Check Data ⚠",IF(R258="","",IF(AND(AE258>0,AF258>0),"Error -both advance and delayed habitat creation ▲",IF(AND(OR(AE258="Habitat already in target condition",AD258<=AE258),AF258=0),"Check details - Is there evidence that habitat has reached target condition? ⚠",IF(O257="","",IF(AE258>0,"Check details - Is there evidence habitat creation started/in place? ⚠",IF(AF258>0,"Check details- Delay in starting habitat in required condition? ⚠","Standard time to target condition applied")))))))) | AH258: =IF(AG258="Error -both advance and delayed habitat creation ▲","Check Data ⚠",IF(AG258="Check Data ⚠","Check Data ⚠",IF(AD258="","",IF(AD258="Not Possible ▲","CheckData ⚠",IF(AND(AD258="30+",AE258=0),"30+",IF(AND(AD258="30+",AE258="30+"),0,IF(AND(AD258="30+",AE258<30),30-AE258,IF(AD258="30+",30-AE258,IF(AF258="30+","30+",IF(AE258>AD258,0,IF(AD258+AF258>30,"30+",IF(AD258+AF258>30,"30+",IF(AD258-AE258>30,"30+",IF(AD258+AF258-AE258>0,AD258+AF258-AE258,IF(AD258-AE258>0,AD258-AE258,AD258+AF258-AE258))))))))))))))) | AI258: =IF(AH258="Check Data ⚠","Check Data ⚠",IFERROR(VLOOKUP(AH258,'G-4 Temporal multipliers'!$A$4:$C$36,3,FALSE),"")) | AJ258: =IF(S258="","",VLOOKUP(S258,'G-3 Multipliers'!$A$2:$E$134,4,FALSE)) | AK258: =IF(E258="","",IF(AG258="Check details - Is there evidence that habitat has reached target condition? ⚠","Low Difficulty - only applicable if all habitat created before losses ⚠","Standard difficulty applied")) | AL258: =(IF(AND(AK258="Standard difficulty applied",AD258>AE258),AJ258,IF(AND(AK258="Low Difficulty - only applicable if all habitat created before losses ⚠",AE258>=AD258),"Low", AJ258))) | AM258: =IFERROR(IF(F258="","",IF(AH258="Check Data ⚠","Check Data ⚠",VLOOKUP(AL258, 'G-3 Multipliers'!$P$2:$Q$6,2,FALSE))),"") | AO258: =IF(AN258="","",IF(VLOOKUP(AN258,'G-3 Multipliers'!$S$3:$T$10,2,FALSE)=0,"Spatial Data Missing ⚠",VLOOKUP(AN258,'G-3 Multipliers'!$S$3:$T$10,2,FALSE))) | AP258: =IFERROR(IF(N258="Check Data ⚠", "Check Data ⚠",(((((V258*X258*Z258)-(V258*I258*K258))*(AM258*AI258))+(V258*I258*K258))*(AC258)*AO258)),"") | AQ258: =IFERROR(IF(AN258="","", (IF(AND(AN258<>"",AU258=""), "Off-site reference required ▲",IF(N258="Error - you cannot enhance irreplaceable individual trees ▲", "Error - you cannot enhance irreplaceable individual trees ▲", IF(N258="Check Data ⚠", "Check Data ⚠",((((V258*X258*Z258)-(V258*I258*K258))*(AM258*AI258))+(V258*I258*K258))*(AC258)))))),"") | AY258: =IF(E258="","",IF(ISNA(VLOOKUP($E258,'D-1 Off-Site Habitat Baseline'!$D$1:$AV$258,4,FALSE)),"",(VLOOKUP($E258,'D-1 Off-Site Habitat Baseline'!$D$1:$AV$258,4,FALSE))))
U259: Total habitat area | V259: =SUM(V12:V258) -> 0 | AP259: =SUM(AP12:AP258) -> 0 | AQ259: =SUM(AQ12:AQ258) -> 0
V260: =IF(V259<>'D-1 Off-Site Habitat Baseline'!W259,"Error - Area of habitat enhancement must match the area from sheet D1 ▲","")

Sheet B-1 On-Site Hedge Baseline
B2: =CONCATENATE("Project Name:", " ", Start!F12, " ", "Map Reference:", " ", Start!F55) -> Project Name: Chickenhall Lane Map Reference: | F2: Hedgerow summary
B3: =MID(CELL("filename",A1),FIND("]",CELL("filename",A1))+1,256) -> B-1 On-Site Hedge Baseline | F3: Total Net Unit Change | J3: ='Headline Results'!H48 -> 0.28841468
F4: Total Net % Change | J4: ='Headline Results'!H52 -> 1.2378312
F5: Trading Rules Satisfied | J5: {=IF(OR('Trading Summary Hedgerows'!F5:H9="No ▲"), "No - check trading summary ▲", "Yes ✓")} -> Yes ✓
C8: Existing hedgerow habitats | F8: Distinctiveness | H8: Condition | J8: Strategic significance | M8: Required Action to Meet Trading Rules | N8: Ecological baseline | V8: Comments
B9: Ref | C9: Hedge number | D9: Habitat type | E9: Length (km) | F9: Distinctiveness | G9: Score | H9: Condition | I9: Score | J9: Strategic significance | K9: Strategic significance | L9: Strategic significance multiplier | N9: Total hedgerow units | P9: Length retained | Q9: Length enhanced | R9: Units retained | S9: Units enhanced | T9: Length lost | U9: Units lost | V9: User comments | W9: Planning authority comments | X9: Habitat reference number | AE9: Retained | AF9: Enhanced | AH9: line number | AJ9: Retained | AK9: Enhanced | AL9: Condition Group
B10: 1 | C10: H1 | D10: Native hedgerow | E10: 0.066 | F10: =IF(D10="","",VLOOKUP(D10,'G-6 Hedgerow Data'!$B$2:$AG$15,2,FALSE)) -> Low | G10: =IF(D10="","",VLOOKUP(D10,'G-6 Hedgerow Data'!$B$2:$AG$15,3,FALSE)) -> 2 | H10: Poor | I10: =IFERROR(IF(AND(D10<>"",H10=""),"Check data ⚠", IF(H10="","",IF(AND(D10="Non-native and ornamental hedgerow", H10<>"Poor"),"Not possible ▲", (VLOOKUP(H10,'G-1 All Habitats'!$Z$2:$AA$9,2,FALSE))))),"") -> 1 | J10: Area/compensation not in local strategy/ no local strategy | K10: =IF(AND(D10<>"",J10=""),"Check data ⚠", IF(J10="","",IF(VLOOKUP(J10,'G-3 Multipliers'!$L$3:$N$6,2,FALSE)=0,"Spatial Data Missing",VLOOKUP(J10,'G-3 Multipliers'!$L$3:$N$6,2,FALSE)))) -> Low Strategic Significance | L10: =IF(J10="","",IF(VLOOKUP(J10,'G-3 Multipliers'!$L$3:$N$6,3,FALSE)=0,"Spatial Data Missing ⚠",VLOOKUP(J10,'G-3 Multipliers'!$L$3:$N$6,3,FALSE))) -> 1 | M10: =IF(D10="","",VLOOKUP(D10,'G-6 Hedgerow Data'!$B$1:$AH$15,33,FALSE)) -> Same distinctiveness band or better | N10: =IFERROR(IF(OR(K10="Check data ⚠",I10="Check data ⚠",R10="Error in lengths ▲"), "Check data ▲", (E10*G10*I10*L10)),"") -> 0.132 | P10: 0 | Q10: 0.066 | R10: =IFERROR(P10*G10*I10*L10,"") -> 0 | S10: =IFERROR(Q10*G10*I10*L10,"") -> 0.132 | T10: =IF(D10="","",IF(E10-P10-Q10=0<0,"Error in lengths ▲",IF(P10+Q10>E10,"Error in Lengths ▲",E10-P10-Q10))) -> 0 | U10: =IFERROR(IF(OR(E10="",N10=""),"",IF(E10-P10-Q10=0<0,"Error in Lengths ▲",IF(P10+Q10>E10,"Error in Lengths ▲",N10-R10-S10))),"Check data ⚠") -> 0 | AE10: =IF(D10="","",IF(P10>0,TRUE,FALSE)) -> FALSE | AF10: =IF(D10="","",IF(Q10>0,TRUE,FALSE)) -> TRUE | AH10: 1 | AJ10: {=IFERROR(INDEX($AH$10:$AH$258, MATCH(0, IF(TRUE=$AE$10:$AE$258, COUNTIF($AJ9:$AJ$9, $AH$10:$AH$258), ""), 0)),"")} | AK10: {=IFERROR(INDEX($AH$10:$AH$258, MATCH(0, IF(TRUE=$AF$10:$AF$258, COUNTIF($AK9:$AK$9, $AH$10:$AH$258), ""), 0)),"")} -> 1 | AL10: =IFERROR(INDEX('G-6 Hedgerow Data'!$BJ$3:$BJ$15,MATCH(D10,'G-6 Hedgerow Data'!$B$3:$B$15,0)),"") -> Hedgecond1
B11: 2 | C11: H3 | D11: Native hedgerow | E11: 0.044 | F11: =IF(D11="","",VLOOKUP(D11,'G-6 Hedgerow Data'!$B$2:$AG$15,2,FALSE)) -> Low | G11: =IF(D11="","",VLOOKUP(D11,'G-6 Hedgerow Data'!$B$2:$AG$15,3,FALSE)) -> 2 | H11: Poor | I11: =IFERROR(IF(AND(D11<>"",H11=""),"Check data ⚠", IF(H11="","",IF(AND(D11="Non-native and ornamental hedgerow", H11<>"Poor"),"Not possible ▲", (VLOOKUP(H11,'G-1 All Habitats'!$Z$2:$AA$9,2,FALSE))))),"") -> 1 | J11: Area/compensation not in local strategy/ no local strategy | K11: =IF(AND(D11<>"",J11=""),"Check data ⚠", IF(J11="","",IF(VLOOKUP(J11,'G-3 Multipliers'!$L$3:$N$6,2,FALSE)=0,"Spatial Data Missing",VLOOKUP(J11,'G-3 Multipliers'!$L$3:$N$6,2,FALSE)))) -> Low Strategic Significance | L11: =IF(J11="","",IF(VLOOKUP(J11,'G-3 Multipliers'!$L$3:$N$6,3,FALSE)=0,"Spatial Data Missing ⚠",VLOOKUP(J11,'G-3 Multipliers'!$L$3:$N$6,3,FALSE))) -> 1 | M11: =IF(D11="","",VLOOKUP(D11,'G-6 Hedgerow Data'!$B$1:$AH$15,33,FALSE)) -> Same distinctiveness band or better | N11: =IFERROR(IF(OR(K11="Check data ⚠",I11="Check data ⚠",R11="Error in lengths ▲"), "Check data ▲", (E11*G11*I11*L11)),"") -> 0.088 | P11: 0 | Q11: 0.044 | R11: =IFERROR(P11*G11*I11*L11,"") -> 0 | S11: =IFERROR(Q11*G11*I11*L11,"") -> 0.088 | T11: =IF(D11="","",IF(E11-P11-Q11=0<0,"Error in lengths ▲",IF(P11+Q11>E11,"Error in Lengths ▲",E11-P11-Q11))) -> 0 | U11: =IFERROR(IF(OR(E11="",N11=""),"",IF(E11-P11-Q11=0<0,"Error in Lengths ▲",IF(P11+Q11>E11,"Error in Lengths ▲",N11-R11-S11))),"Check data ⚠") -> 0 | AE11: =IF(D11="","",IF(P11>0,TRUE,FALSE)) -> FALSE | AF11: =IF(D11="","",IF(Q11>0,TRUE,FALSE)) -> TRUE | AH11: 2 | AJ11: {=IFERROR(INDEX($AH$10:$AH$258, MATCH(0, IF(TRUE=$AE$10:$AE$258, COUNTIF($AJ$9:$AJ10, $AH$10:$AH$258), ""), 0)),"")} | AK11: {=IFERROR(INDEX($AH$10:$AH$258, MATCH(0, IF(TRUE=$AF$10:$AF$258, COUNTIF($AK$9:$AK10, $AH$10:$AH$258), ""), 0)),"")} -> 2 | AL11: =IFERROR(INDEX('G-6 Hedgerow Data'!$BJ$3:$BJ$15,MATCH(D11,'G-6 Hedgerow Data'!$B$3:$B$15,0)),"") -> Hedgecond1
B12: 3 | C12: H2 | D12: Non-native and ornamental hedgerow | E12: 0.013 | F12: =IF(D12="","",VLOOKUP(D12,'G-6 Hedgerow Data'!$B$2:$AG$15,2,FALSE)) -> V.Low | G12: =IF(D12="","",VLOOKUP(D12,'G-6 Hedgerow Data'!$B$2:$AG$15,3,FALSE)) -> 1 | H12: Poor | I12: =IFERROR(IF(AND(D12<>"",H12=""),"Check data ⚠", IF(H12="","",IF(AND(D12="Non-native and ornamental hedgerow", H12<>"Poor"),"Not possible ▲", (VLOOKUP(H12,'G-1 All Habitats'!$Z$2:$AA$9,2,FALSE))))),"") -> 1 | J12: Area/compensation not in local strategy/ no local strategy | K12: =IF(AND(D12<>"",J12=""),"Check data ⚠", IF(J12="","",IF(VLOOKUP(J12,'G-3 Multipliers'!$L$3:$N$6,2,FALSE)=0,"Spatial Data Missing",VLOOKUP(J12,'G-3 Multipliers'!$L$3:$N$6,2,FALSE)))) -> Low Strategic Significance | L12: =IF(J12="","",IF(VLOOKUP(J12,'G-3 Multipliers'!$L$3:$N$6,3,FALSE)=0,"Spatial Data Missing ⚠",VLOOKUP(J12,'G-3 Multipliers'!$L$3:$N$6,3,FALSE))) -> 1 | M12: =IF(D12="","",VLOOKUP(D12,'G-6 Hedgerow Data'!$B$1:$AH$15,33,FALSE)) -> Same distinctiveness band or better | N12: =IFERROR(IF(OR(K12="Check data ⚠",I12="Check data ⚠",R12="Error in lengths ▲"), "Check data ▲", (E12*G12*I12*L12)),"") -> 0.013 | P12: 0 | Q12: 0 | R12: =IFERROR(P12*G12*I12*L12,"") -> 0 | S12: =IFERROR(Q12*G12*I12*L12,"") -> 0 | T12: =IF(D12="","",IF(E12-P12-Q12=0<0,"Error in lengths ▲",IF(P12+Q12>E12,"Error in Lengths ▲",E12-P12-Q12))) -> 0.013 | U12: =IFERROR(IF(OR(E12="",N12=""),"",IF(E12-P12-Q12=0<0,"Error in Lengths ▲",IF(P12+Q12>E12,"Error in Lengths ▲",N12-R12-S12))),"Check data ⚠") -> 0.013 | AE12: =IF(D12="","",IF(P12>0,TRUE,FALSE)) -> FALSE | AF12: =IF(D12="","",IF(Q12>0,TRUE,FALSE)) -> FALSE | AH12: 3 | AJ12: {=IFERROR(INDEX($AH$10:$AH$258, MATCH(0, IF(TRUE=$AE$10:$AE$258, COUNTIF($AJ$9:$AJ11, $AH$10:$AH$258), ""), 0)),"")} | AK12: {=IFERROR(INDEX($AH$10:$AH$258, MATCH(0, IF(TRUE=$AF$10:$AF$258, COUNTIF($AK$9:$AK11, $AH$10:$AH$258), ""), 0)),"")} | AL12: =IFERROR(INDEX('G-6 Hedgerow Data'!$BJ$3:$BJ$15,MATCH(D12,'G-6 Hedgerow Data'!$B$3:$B$15,0)),"") -> Hedgecond2
B13: 4 | F13: =IF(D13="","",VLOOKUP(D13,'G-6 Hedgerow Data'!$B$2:$AG$15,2,FALSE)) | G13: =IF(D13="","",VLOOKUP(D13,'G-6 Hedgerow Data'!$B$2:$AG$15,3,FALSE)) | I13: =IFERROR(IF(AND(D13<>"",H13=""),"Check data ⚠", IF(H13="","",IF(AND(D13="Non-native and ornamental hedgerow", H13<>"Poor"),"Not possible ▲", (VLOOKUP(H13,'G-1 All Habitats'!$Z$2:$AA$9,2,FALSE))))),"") | K13: =IF(AND(D13<>"",J13=""),"Check data ⚠", IF(J13="","",IF(VLOOKUP(J13,'G-3 Multipliers'!$L$3:$N$6,2,FALSE)=0,"Spatial Data Missing",VLOOKUP(J13,'G-3 Multipliers'!$L$3:$N$6,2,FALSE)))) | L13: =IF(J13="","",IF(VLOOKUP(J13,'G-3 Multipliers'!$L$3:$N$6,3,FALSE)=0,"Spatial Data Missing ⚠",VLOOKUP(J13,'G-3 Multipliers'!$L$3:$N$6,3,FALSE))) | M13: =IF(D13="","",VLOOKUP(D13,'G-6 Hedgerow Data'!$B$1:$AH$15,33,FALSE)) | N13: =IFERROR(IF(OR(K13="Check data ⚠",I13="Check data ⚠",R13="Error in lengths ▲"), "Check data ▲", (E13*G13*I13*L13)),"") | R13: =IFERROR(P13*G13*I13*L13,"") | S13: =IFERROR(Q13*G13*I13*L13,"") | T13: =IF(D13="","",IF(E13-P13-Q13=0<0,"Error in lengths ▲",IF(P13+Q13>E13,"Error in Lengths ▲",E13-P13-Q13))) | U13: =IFERROR(IF(OR(E13="",N13=""),"",IF(E13-P13-Q13=0<0,"Error in Lengths ▲",IF(P13+Q13>E13,"Error in Lengths ▲",N13-R13-S13))),"Check data ⚠") | AE13: =IF(D13="","",IF(P13>0,TRUE,FALSE)) | AF13: =IF(D13="","",IF(Q13>0,TRUE,FALSE)) | AH13: 4 | AJ13: {=IFERROR(INDEX($AH$10:$AH$258, MATCH(0, IF(TRUE=$AE$10:$AE$258, COUNTIF($AJ$9:$AJ12, $AH$10:$AH$258), ""), 0)),"")} | AK13: {=IFERROR(INDEX($AH$10:$AH$258, MATCH(0, IF(TRUE=$AF$10:$AF$258, COUNTIF($AK$9:$AK12, $AH$10:$AH$258), ""), 0)),"")} | AL13: =IFERROR(INDEX('G-6 Hedgerow Data'!$BJ$3:$BJ$15,MATCH(D13,'G-6 Hedgerow Data'!$B$3:$B$15,0)),"")
B14: 5 | F14: =IF(D14="","",VLOOKUP(D14,'G-6 Hedgerow Data'!$B$2:$AG$15,2,FALSE)) | G14: =IF(D14="","",VLOOKUP(D14,'G-6 Hedgerow Data'!$B$2:$AG$15,3,FALSE)) | I14: =IFERROR(IF(AND(D14<>"",H14=""),"Check data ⚠", IF(H14="","",IF(AND(D14="Non-native and ornamental hedgerow", H14<>"Poor"),"Not possible ▲", (VLOOKUP(H14,'G-1 All Habitats'!$Z$2:$AA$9,2,FALSE))))),"") | K14: =IF(AND(D14<>"",J14=""),"Check data ⚠", IF(J14="","",IF(VLOOKUP(J14,'G-3 Multipliers'!$L$3:$N$6,2,FALSE)=0,"Spatial Data Missing",VLOOKUP(J14,'G-3 Multipliers'!$L$3:$N$6,2,FALSE)))) | L14: =IF(J14="","",IF(VLOOKUP(J14,'G-3 Multipliers'!$L$3:$N$6,3,FALSE)=0,"Spatial Data Missing ⚠",VLOOKUP(J14,'G-3 Multipliers'!$L$3:$N$6,3,FALSE))) | M14: =IF(D14="","",VLOOKUP(D14,'G-6 Hedgerow Data'!$B$1:$AH$15,33,FALSE)) | N14: =IFERROR(IF(OR(K14="Check data ⚠",I14="Check data ⚠",R14="Error in lengths ▲"), "Check data ▲", (E14*G14*I14*L14)),"") | R14: =IFERROR(P14*G14*I14*L14,"") | S14: =IFERROR(Q14*G14*I14*L14,"") | T14: =IF(D14="","",IF(E14-P14-Q14=0<0,"Error in lengths ▲",IF(P14+Q14>E14,"Error in Lengths ▲",E14-P14-Q14))) | U14: =IFERROR(IF(OR(E14="",N14=""),"",IF(E14-P14-Q14=0<0,"Error in Lengths ▲",IF(P14+Q14>E14,"Error in Lengths ▲",N14-R14-S14))),"Check data ⚠") | AE14: =IF(D14="","",IF(P14>0,TRUE,FALSE)) | AF14: =IF(D14="","",IF(Q14>0,TRUE,FALSE)) | AH14: 5 | AJ14: {=IFERROR(INDEX($AH$10:$AH$258, MATCH(0, IF(TRUE=$AE$10:$AE$258, COUNTIF($AJ$9:$AJ13, $AH$10:$AH$258), ""), 0)),"")} | AK14: {=IFERROR(INDEX($AH$10:$AH$258, MATCH(0, IF(TRUE=$AF$10:$AF$258, COUNTIF($AK$9:$AK13, $AH$10:$AH$258), ""), 0)),"")} | AL14: =IFERROR(INDEX('G-6 Hedgerow Data'!$BJ$3:$BJ$15,MATCH(D14,'G-6 Hedgerow Data'!$B$3:$B$15,0)),"")
B15: 6 | F15: =IF(D15="","",VLOOKUP(D15,'G-6 Hedgerow Data'!$B$2:$AG$15,2,FALSE)) | G15: =IF(D15="","",VLOOKUP(D15,'G-6 Hedgerow Data'!$B$2:$AG$15,3,FALSE)) | I15: =IFERROR(IF(AND(D15<>"",H15=""),"Check data ⚠", IF(H15="","",IF(AND(D15="Non-native and ornamental hedgerow", H15<>"Poor"),"Not possible ▲", (VLOOKUP(H15,'G-1 All Habitats'!$Z$2:$AA$9,2,FALSE))))),"") | K15: =IF(AND(D15<>"",J15=""),"Check data ⚠", IF(J15="","",IF(VLOOKUP(J15,'G-3 Multipliers'!$L$3:$N$6,2,FALSE)=0,"Spatial Data Missing",VLOOKUP(J15,'G-3 Multipliers'!$L$3:$N$6,2,FALSE)))) | L15: =IF(J15="","",IF(VLOOKUP(J15,'G-3 Multipliers'!$L$3:$N$6,3,FALSE)=0,"Spatial Data Missing ⚠",VLOOKUP(J15,'G-3 Multipliers'!$L$3:$N$6,3,FALSE))) | M15: =IF(D15="","",VLOOKUP(D15,'G-6 Hedgerow Data'!$B$1:$AH$15,33,FALSE)) | N15: =IFERROR(IF(OR(K15="Check data ⚠",I15="Check data ⚠",R15="Error in lengths ▲"), "Check data ▲", (E15*G15*I15*L15)),"") | R15: =IFERROR(P15*G15*I15*L15,"") | S15: =IFERROR(Q15*G15*I15*L15,"") | T15: =IF(D15="","",IF(E15-P15-Q15=0<0,"Error in lengths ▲",IF(P15+Q15>E15,"Error in Lengths ▲",E15-P15-Q15))) | U15: =IFERROR(IF(OR(E15="",N15=""),"",IF(E15-P15-Q15=0<0,"Error in Lengths ▲",IF(P15+Q15>E15,"Error in Lengths ▲",N15-R15-S15))),"Check data ⚠") | AE15: =IF(D15="","",IF(P15>0,TRUE,FALSE)) | AF15: =IF(D15="","",IF(Q15>0,TRUE,FALSE)) | AH15: 6 | AJ15: {=IFERROR(INDEX($AH$10:$AH$258, MATCH(0, IF(TRUE=$AE$10:$AE$258, COUNTIF($AJ$9:$AJ14, $AH$10:$AH$258), ""), 0)),"")} | AK15: {=IFERROR(INDEX($AH$10:$AH$258, MATCH(0, IF(TRUE=$AF$10:$AF$258, COUNTIF($AK$9:$AK14, $AH$10:$AH$258), ""), 0)),"")} | AL15: =IFERROR(INDEX('G-6 Hedgerow Data'!$BJ$3:$BJ$15,MATCH(D15,'G-6 Hedgerow Data'!$B$3:$B$15,0)),"")
B16: 7 | F16: =IF(D16="","",VLOOKUP(D16,'G-6 Hedgerow Data'!$B$2:$AG$15,2,FALSE)) | G16: =IF(D16="","",VLOOKUP(D16,'G-6 Hedgerow Data'!$B$2:$AG$15,3,FALSE)) | I16: =IFERROR(IF(AND(D16<>"",H16=""),"Check data ⚠", IF(H16="","",IF(AND(D16="Non-native and ornamental hedgerow", H16<>"Poor"),"Not possible ▲", (VLOOKUP(H16,'G-1 All Habitats'!$Z$2:$AA$9,2,FALSE))))),"") | K16: =IF(AND(D16<>"",J16=""),"Check data ⚠", IF(J16="","",IF(VLOOKUP(J16,'G-3 Multipliers'!$L$3:$N$6,2,FALSE)=0,"Spatial Data Missing",VLOOKUP(J16,'G-3 Multipliers'!$L$3:$N$6,2,FALSE)))) | L16: =IF(J16="","",IF(VLOOKUP(J16,'G-3 Multipliers'!$L$3:$N$6,3,FALSE)=0,"Spatial Data Missing ⚠",VLOOKUP(J16,'G-3 Multipliers'!$L$3:$N$6,3,FALSE))) | M16: =IF(D16="","",VLOOKUP(D16,'G-6 Hedgerow Data'!$B$1:$AH$15,33,FALSE)) | N16: =IFERROR(IF(OR(K16="Check data ⚠",I16="Check data ⚠",R16="Error in lengths ▲"), "Check data ▲", (E16*G16*I16*L16)),"") | R16: =IFERROR(P16*G16*I16*L16,"") | S16: =IFERROR(Q16*G16*I16*L16,"") | T16: =IF(D16="","",IF(E16-P16-Q16=0<0,"Error in lengths ▲",IF(P16+Q16>E16,"Error in Lengths ▲",E16-P16-Q16))) | U16: =IFERROR(IF(OR(E16="",N16=""),"",IF(E16-P16-Q16=0<0,"Error in Lengths ▲",IF(P16+Q16>E16,"Error in Lengths ▲",N16-R16-S16))),"Check data ⚠") | AE16: =IF(D16="","",IF(P16>0,TRUE,FALSE)) | AF16: =IF(D16="","",IF(Q16>0,TRUE,FALSE)) | AH16: 7 | AJ16: {=IFERROR(INDEX($AH$10:$AH$258, MATCH(0, IF(TRUE=$AE$10:$AE$258, COUNTIF($AJ$9:$AJ15, $AH$10:$AH$258), ""), 0)),"")} | AK16: {=IFERROR(INDEX($AH$10:$AH$258, MATCH(0, IF(TRUE=$AF$10:$AF$258, COUNTIF($AK$9:$AK15, $AH$10:$AH$258), ""), 0)),"")} | AL16: =IFERROR(INDEX('G-6 Hedgerow Data'!$BJ$3:$BJ$15,MATCH(D16,'G-6 Hedgerow Data'!$B$3:$B$15,0)),"")
B17: 8 | F17: =IF(D17="","",VLOOKUP(D17,'G-6 Hedgerow Data'!$B$2:$AG$15,2,FALSE)) | G17: =IF(D17="","",VLOOKUP(D17,'G-6 Hedgerow Data'!$B$2:$AG$15,3,FALSE)) | I17: =IFERROR(IF(AND(D17<>"",H17=""),"Check data ⚠", IF(H17="","",IF(AND(D17="Non-native and ornamental hedgerow", H17<>"Poor"),"Not possible ▲", (VLOOKUP(H17,'G-1 All Habitats'!$Z$2:$AA$9,2,FALSE))))),"") | K17: =IF(AND(D17<>"",J17=""),"Check data ⚠", IF(J17="","",IF(VLOOKUP(J17,'G-3 Multipliers'!$L$3:$N$6,2,FALSE)=0,"Spatial Data Missing",VLOOKUP(J17,'G-3 Multipliers'!$L$3:$N$6,2,FALSE)))) | L17: =IF(J17="","",IF(VLOOKUP(J17,'G-3 Multipliers'!$L$3:$N$6,3,FALSE)=0,"Spatial Data Missing ⚠",VLOOKUP(J17,'G-3 Multipliers'!$L$3:$N$6,3,FALSE))) | M17: =IF(D17="","",VLOOKUP(D17,'G-6 Hedgerow Data'!$B$1:$AH$15,33,FALSE)) | N17: =IFERROR(IF(OR(K17="Check data ⚠",I17="Check data ⚠",R17="Error in lengths ▲"), "Check data ▲", (E17*G17*I17*L17)),"") | R17: =IFERROR(P17*G17*I17*L17,"") | S17: =IFERROR(Q17*G17*I17*L17,"") | T17: =IF(D17="","",IF(E17-P17-Q17=0<0,"Error in lengths ▲",IF(P17+Q17>E17,"Error in Lengths ▲",E17-P17-Q17))) | U17: =IFERROR(IF(OR(E17="",N17=""),"",IF(E17-P17-Q17=0<0,"Error in Lengths ▲",IF(P17+Q17>E17,"Error in Lengths ▲",N17-R17-S17))),"Check data ⚠") | AE17: =IF(D17="","",IF(P17>0,TRUE,FALSE)) | AF17: =IF(D17="","",IF(Q17>0,TRUE,FALSE)) | AH17: 8 | AJ17: {=IFERROR(INDEX($AH$10:$AH$258, MATCH(0, IF(TRUE=$AE$10:$AE$258, COUNTIF($AJ$9:$AJ16, $AH$10:$AH$258), ""), 0)),"")} | AK17: {=IFERROR(INDEX($AH$10:$AH$258, MATCH(0, IF(TRUE=$AF$10:$AF$258, COUNTIF($AK$9:$AK16, $AH$10:$AH$258), ""), 0)),"")} | AL17: =IFERROR(INDEX('G-6 Hedgerow Data'!$BJ$3:$BJ$15,MATCH(D17,'G-6 Hedgerow Data'!$B$3:$B$15,0)),"")
B18: 9 | F18: =IF(D18="","",VLOOKUP(D18,'G-6 Hedgerow Data'!$B$2:$AG$15,2,FALSE)) | G18: =IF(D18="","",VLOOKUP(D18,'G-6 Hedgerow Data'!$B$2:$AG$15,3,FALSE)) | I18: =IFERROR(IF(AND(D18<>"",H18=""),"Check data ⚠", IF(H18="","",IF(AND(D18="Non-native and ornamental hedgerow", H18<>"Poor"),"Not possible ▲", (VLOOKUP(H18,'G-1 All Habitats'!$Z$2:$AA$9,2,FALSE))))),"") | K18: =IF(AND(D18<>"",J18=""),"Check data ⚠", IF(J18="","",IF(VLOOKUP(J18,'G-3 Multipliers'!$L$3:$N$6,2,FALSE)=0,"Spatial Data Missing",VLOOKUP(J18,'G-3 Multipliers'!$L$3:$N$6,2,FALSE)))) | L18: =IF(J18="","",IF(VLOOKUP(J18,'G-3 Multipliers'!$L$3:$N$6,3,FALSE)=0,"Spatial Data Missing ⚠",VLOOKUP(J18,'G-3 Multipliers'!$L$3:$N$6,3,FALSE))) | M18: =IF(D18="","",VLOOKUP(D18,'G-6 Hedgerow Data'!$B$1:$AH$15,33,FALSE)) | N18: =IFERROR(IF(OR(K18="Check data ⚠",I18="Check data ⚠",R18="Error in lengths ▲"), "Check data ▲", (E18*G18*I18*L18)),"") | R18: =IFERROR(P18*G18*I18*L18,"") | S18: =IFERROR(Q18*G18*I18*L18,"") | T18: =IF(D18="","",IF(E18-P18-Q18=0<0,"Error in lengths ▲",IF(P18+Q18>E18,"Error in Lengths ▲",E18-P18-Q18))) | U18: =IFERROR(IF(OR(E18="",N18=""),"",IF(E18-P18-Q18=0<0,"Error in Lengths ▲",IF(P18+Q18>E18,"Error in Lengths ▲",N18-R18-S18))),"Check data ⚠") | AE18: =IF(D18="","",IF(P18>0,TRUE,FALSE)) | AF18: =IF(D18="","",IF(Q18>0,TRUE,FALSE)) | AH18: 9 | AJ18: {=IFERROR(INDEX($AH$10:$AH$258, MATCH(0, IF(TRUE=$AE$10:$AE$258, COUNTIF($AJ$9:$AJ17, $AH$10:$AH$258), ""), 0)),"")} | AK18: {=IFERROR(INDEX($AH$10:$AH$258, MATCH(0, IF(TRUE=$AF$10:$AF$258, COUNTIF($AK$9:$AK17, $AH$10:$AH$258), ""), 0)),"")} | AL18: =IFERROR(INDEX('G-6 Hedgerow Data'!$BJ$3:$BJ$15,MATCH(D18,'G-6 Hedgerow Data'!$B$3:$B$15,0)),"")
B19: 10 | F19: =IF(D19="","",VLOOKUP(D19,'G-6 Hedgerow Data'!$B$2:$AG$15,2,FALSE)) | G19: =IF(D19="","",VLOOKUP(D19,'G-6 Hedgerow Data'!$B$2:$AG$15,3,FALSE)) | I19: =IFERROR(IF(AND(D19<>"",H19=""),"Check data ⚠", IF(H19="","",IF(AND(D19="Non-native and ornamental hedgerow", H19<>"Poor"),"Not possible ▲", (VLOOKUP(H19,'G-1 All Habitats'!$Z$2:$AA$9,2,FALSE))))),"") | K19: =IF(AND(D19<>"",J19=""),"Check data ⚠", IF(J19="","",IF(VLOOKUP(J19,'G-3 Multipliers'!$L$3:$N$6,2,FALSE)=0,"Spatial Data Missing",VLOOKUP(J19,'G-3 Multipliers'!$L$3:$N$6,2,FALSE)))) | L19: =IF(J19="","",IF(VLOOKUP(J19,'G-3 Multipliers'!$L$3:$N$6,3,FALSE)=0,"Spatial Data Missing ⚠",VLOOKUP(J19,'G-3 Multipliers'!$L$3:$N$6,3,FALSE))) | M19: =IF(D19="","",VLOOKUP(D19,'G-6 Hedgerow Data'!$B$1:$AH$15,33,FALSE)) | N19: =IFERROR(IF(OR(K19="Check data ⚠",I19="Check data ⚠",R19="Error in lengths ▲"), "Check data ▲", (E19*G19*I19*L19)),"") | R19: =IFERROR(P19*G19*I19*L19,"") | S19: =IFERROR(Q19*G19*I19*L19,"") | T19: =IF(D19="","",IF(E19-P19-Q19=0<0,"Error in lengths ▲",IF(P19+Q19>E19,"Error in Lengths ▲",E19-P19-Q19))) | U19: =IFERROR(IF(OR(E19="",N19=""),"",IF(E19-P19-Q19=0<0,"Error in Lengths ▲",IF(P19+Q19>E19,"Error in Lengths ▲",N19-R19-S19))),"Check data ⚠") | AE19: =IF(D19="","",IF(P19>0,TRUE,FALSE)) | AF19: =IF(D19="","",IF(Q19>0,TRUE,FALSE)) | AH19: 10 | AJ19: {=IFERROR(INDEX($AH$10:$AH$258, MATCH(0, IF(TRUE=$AE$10:$AE$258, COUNTIF($AJ$9:$AJ18, $AH$10:$AH$258), ""), 0)),"")} | AK19: {=IFERROR(INDEX($AH$10:$AH$258, MATCH(0, IF(TRUE=$AF$10:$AF$258, COUNTIF($AK$9:$AK18, $AH$10:$AH$258), ""), 0)),"")} | AL19: =IFERROR(INDEX('G-6 Hedgerow Data'!$BJ$3:$BJ$15,MATCH(D19,'G-6 Hedgerow Data'!$B$3:$B$15,0)),"")
B20: 11 | F20: =IF(D20="","",VLOOKUP(D20,'G-6 Hedgerow Data'!$B$2:$AG$15,2,FALSE)) | G20: =IF(D20="","",VLOOKUP(D20,'G-6 Hedgerow Data'!$B$2:$AG$15,3,FALSE)) | I20: =IFERROR(IF(AND(D20<>"",H20=""),"Check data ⚠", IF(H20="","",IF(AND(D20="Non-native and ornamental hedgerow", H20<>"Poor"),"Not possible ▲", (VLOOKUP(H20,'G-1 All Habitats'!$Z$2:$AA$9,2,FALSE))))),"") | K20: =IF(AND(D20<>"",J20=""),"Check data ⚠", IF(J20="","",IF(VLOOKUP(J20,'G-3 Multipliers'!$L$3:$N$6,2,FALSE)=0,"Spatial Data Missing",VLOOKUP(J20,'G-3 Multipliers'!$L$3:$N$6,2,FALSE)))) | L20: =IF(J20="","",IF(VLOOKUP(J20,'G-3 Multipliers'!$L$3:$N$6,3,FALSE)=0,"Spatial Data Missing ⚠",VLOOKUP(J20,'G-3 Multipliers'!$L$3:$N$6,3,FALSE))) | M20: =IF(D20="","",VLOOKUP(D20,'G-6 Hedgerow Data'!$B$1:$AH$15,33,FALSE)) | N20: =IFERROR(IF(OR(K20="Check data ⚠",I20="Check data ⚠",R20="Error in lengths ▲"), "Check data ▲", (E20*G20*I20*L20)),"") | R20: =IFERROR(P20*G20*I20*L20,"") | S20: =IFERROR(Q20*G20*I20*L20,"") | T20: =IF(D20="","",IF(E20-P20-Q20=0<0,"Error in lengths ▲",IF(P20+Q20>E20,"Error in Lengths ▲",E20-P20-Q20))) | U20: =IFERROR(IF(OR(E20="",N20=""),"",IF(E20-P20-Q20=0<0,"Error in Lengths ▲",IF(P20+Q20>E20,"Error in Lengths ▲",N20-R20-S20))),"Check data ⚠") | AE20: =IF(D20="","",IF(P20>0,TRUE,FALSE)) | AF20: =IF(D20="","",IF(Q20>0,TRUE,FALSE)) | AH20: 11 | AJ20: {=IFERROR(INDEX($AH$10:$AH$258, MATCH(0, IF(TRUE=$AE$10:$AE$258, COUNTIF($AJ$9:$AJ19, $AH$10:$AH$258), ""), 0)),"")} | AK20: {=IFERROR(INDEX($AH$10:$AH$258, MATCH(0, IF(TRUE=$AF$10:$AF$258, COUNTIF($AK$9:$AK19, $AH$10:$AH$258), ""), 0)),"")} | AL20: =IFERROR(INDEX('G-6 Hedgerow Data'!$BJ$3:$BJ$15,MATCH(D20,'G-6 Hedgerow Data'!$B$3:$B$15,0)),"")
B21: 12 | F21: =IF(D21="","",VLOOKUP(D21,'G-6 Hedgerow Data'!$B$2:$AG$15,2,FALSE)) | G21: =IF(D21="","",VLOOKUP(D21,'G-6 Hedgerow Data'!$B$2:$AG$15,3,FALSE)) | I21: =IFERROR(IF(AND(D21<>"",H21=""),"Check data ⚠", IF(H21="","",IF(AND(D21="Non-native and ornamental hedgerow", H21<>"Poor"),"Not possible ▲", (VLOOKUP(H21,'G-1 All Habitats'!$Z$2:$AA$9,2,FALSE))))),"") | K21: =IF(AND(D21<>"",J21=""),"Check data ⚠", IF(J21="","",IF(VLOOKUP(J21,'G-3 Multipliers'!$L$3:$N$6,2,FALSE)=0,"Spatial Data Missing",VLOOKUP(J21,'G-3 Multipliers'!$L$3:$N$6,2,FALSE)))) | L21: =IF(J21="","",IF(VLOOKUP(J21,'G-3 Multipliers'!$L$3:$N$6,3,FALSE)=0,"Spatial Data Missing ⚠",VLOOKUP(J21,'G-3 Multipliers'!$L$3:$N$6,3,FALSE))) | M21: =IF(D21="","",VLOOKUP(D21,'G-6 Hedgerow Data'!$B$1:$AH$15,33,FALSE)) | N21: =IFERROR(IF(OR(K21="Check data ⚠",I21="Check data ⚠",R21="Error in lengths ▲"), "Check data ▲", (E21*G21*I21*L21)),"") | R21: =IFERROR(P21*G21*I21*L21,"") | S21: =IFERROR(Q21*G21*I21*L21,"") | T21: =IF(D21="","",IF(E21-P21-Q21=0<0,"Error in lengths ▲",IF(P21+Q21>E21,"Error in Lengths ▲",E21-P21-Q21))) | U21: =IFERROR(IF(OR(E21="",N21=""),"",IF(E21-P21-Q21=0<0,"Error in Lengths ▲",IF(P21+Q21>E21,"Error in Lengths ▲",N21-R21-S21))),"Check data ⚠") | AE21: =IF(D21="","",IF(P21>0,TRUE,FALSE)) | AF21: =IF(D21="","",IF(Q21>0,TRUE,FALSE)) | AH21: 12 | AJ21: {=IFERROR(INDEX($AH$10:$AH$258, MATCH(0, IF(TRUE=$AE$10:$AE$258, COUNTIF($AJ$9:$AJ20, $AH$10:$AH$258), ""), 0)),"")} | AK21: {=IFERROR(INDEX($AH$10:$AH$258, MATCH(0, IF(TRUE=$AF$10:$AF$258, COUNTIF($AK$9:$AK20, $AH$10:$AH$258), ""), 0)),"")} | AL21: =IFERROR(INDEX('G-6 Hedgerow Data'!$BJ$3:$BJ$15,MATCH(D21,'G-6 Hedgerow Data'!$B$3:$B$15,0)),"")
B22: 13 | F22: =IF(D22="","",VLOOKUP(D22,'G-6 Hedgerow Data'!$B$2:$AG$15,2,FALSE)) | G22: =IF(D22="","",VLOOKUP(D22,'G-6 Hedgerow Data'!$B$2:$AG$15,3,FALSE)) | I22: =IFERROR(IF(AND(D22<>"",H22=""),"Check data ⚠", IF(H22="","",IF(AND(D22="Non-native and ornamental hedgerow", H22<>"Poor"),"Not possible ▲", (VLOOKUP(H22,'G-1 All Habitats'!$Z$2:$AA$9,2,FALSE))))),"") | K22: =IF(AND(D22<>"",J22=""),"Check data ⚠", IF(J22="","",IF(VLOOKUP(J22,'G-3 Multipliers'!$L$3:$N$6,2,FALSE)=0,"Spatial Data Missing",VLOOKUP(J22,'G-3 Multipliers'!$L$3:$N$6,2,FALSE)))) | L22: =IF(J22="","",IF(VLOOKUP(J22,'G-3 Multipliers'!$L$3:$N$6,3,FALSE)=0,"Spatial Data Missing ⚠",VLOOKUP(J22,'G-3 Multipliers'!$L$3:$N$6,3,FALSE))) | M22: =IF(D22="","",VLOOKUP(D22,'G-6 Hedgerow Data'!$B$1:$AH$15,33,FALSE)) | N22: =IFERROR(IF(OR(K22="Check data ⚠",I22="Check data ⚠",R22="Error in lengths ▲"), "Check data ▲", (E22*G22*I22*L22)),"") | R22: =IFERROR(P22*G22*I22*L22,"") | S22: =IFERROR(Q22*G22*I22*L22,"") | T22: =IF(D22="","",IF(E22-P22-Q22=0<0,"Error in lengths ▲",IF(P22+Q22>E22,"Error in Lengths ▲",E22-P22-Q22))) | U22: =IFERROR(IF(OR(E22="",N22=""),"",IF(E22-P22-Q22=0<0,"Error in Lengths ▲",IF(P22+Q22>E22,"Error in Lengths ▲",N22-R22-S22))),"Check data ⚠") | AE22: =IF(D22="","",IF(P22>0,TRUE,FALSE)) | AF22: =IF(D22="","",IF(Q22>0,TRUE,FALSE)) | AH22: 13 | AJ22: {=IFERROR(INDEX($AH$10:$AH$258, MATCH(0, IF(TRUE=$AE$10:$AE$258, COUNTIF($AJ$9:$AJ21, $AH$10:$AH$258), ""), 0)),"")} | AK22: {=IFERROR(INDEX($AH$10:$AH$258, MATCH(0, IF(TRUE=$AF$10:$AF$258, COUNTIF($AK$9:$AK21, $AH$10:$AH$258), ""), 0)),"")} | AL22: =IFERROR(INDEX('G-6 Hedgerow Data'!$BJ$3:$BJ$15,MATCH(D22,'G-6 Hedgerow Data'!$B$3:$B$15,0)),"")
B23: 14 | F23: =IF(D23="","",VLOOKUP(D23,'G-6 Hedgerow Data'!$B$2:$AG$15,2,FALSE)) | G23: =IF(D23="","",VLOOKUP(D23,'G-6 Hedgerow Data'!$B$2:$AG$15,3,FALSE)) | I23: =IFERROR(IF(AND(D23<>"",H23=""),"Check data ⚠", IF(H23="","",IF(AND(D23="Non-native and ornamental hedgerow", H23<>"Poor"),"Not possible ▲", (VLOOKUP(H23,'G-1 All Habitats'!$Z$2:$AA$9,2,FALSE))))),"") | K23: =IF(AND(D23<>"",J23=""),"Check data ⚠", IF(J23="","",IF(VLOOKUP(J23,'G-3 Multipliers'!$L$3:$N$6,2,FALSE)=0,"Spatial Data Missing",VLOOKUP(J23,'G-3 Multipliers'!$L$3:$N$6,2,FALSE)))) | L23: =IF(J23="","",IF(VLOOKUP(J23,'G-3 Multipliers'!$L$3:$N$6,3,FALSE)=0,"Spatial Data Missing ⚠",VLOOKUP(J23,'G-3 Multipliers'!$L$3:$N$6,3,FALSE))) | M23: =IF(D23="","",VLOOKUP(D23,'G-6 Hedgerow Data'!$B$1:$AH$15,33,FALSE)) | N23: =IFERROR(IF(OR(K23="Check data ⚠",I23="Check data ⚠",R23="Error in lengths ▲"), "Check data ▲", (E23*G23*I23*L23)),"") | R23: =IFERROR(P23*G23*I23*L23,"") | S23: =IFERROR(Q23*G23*I23*L23,"") | T23: =IF(D23="","",IF(E23-P23-Q23=0<0,"Error in lengths ▲",IF(P23+Q23>E23,"Error in Lengths ▲",E23-P23-Q23))) | U23: =IFERROR(IF(OR(E23="",N23=""),"",IF(E23-P23-Q23=0<0,"Error in Lengths ▲",IF(P23+Q23>E23,"Error in Lengths ▲",N23-R23-S23))),"Check data ⚠") | AE23: =IF(D23="","",IF(P23>0,TRUE,FALSE)) | AF23: =IF(D23="","",IF(Q23>0,TRUE,FALSE)) | AH23: 14 | AJ23: {=IFERROR(INDEX($AH$10:$AH$258, MATCH(0, IF(TRUE=$AE$10:$AE$258, COUNTIF($AJ$9:$AJ22, $AH$10:$AH$258), ""), 0)),"")} | AK23: {=IFERROR(INDEX($AH$10:$AH$258, MATCH(0, IF(TRUE=$AF$10:$AF$258, COUNTIF($AK$9:$AK22, $AH$10:$AH$258), ""), 0)),"")} | AL23: =IFERROR(INDEX('G-6 Hedgerow Data'!$BJ$3:$BJ$15,MATCH(D23,'G-6 Hedgerow Data'!$B$3:$B$15,0)),"")
B24: 15 | F24: =IF(D24="","",VLOOKUP(D24,'G-6 Hedgerow Data'!$B$2:$AG$15,2,FALSE)) | G24: =IF(D24="","",VLOOKUP(D24,'G-6 Hedgerow Data'!$B$2:$AG$15,3,FALSE)) | I24: =IFERROR(IF(AND(D24<>"",H24=""),"Check data ⚠", IF(H24="","",IF(AND(D24="Non-native and ornamental hedgerow", H24<>"Poor"),"Not possible ▲", (VLOOKUP(H24,'G-1 All Habitats'!$Z$2:$AA$9,2,FALSE))))),"") | K24: =IF(AND(D24<>"",J24=""),"Check data ⚠", IF(J24="","",IF(VLOOKUP(J24,'G-3 Multipliers'!$L$3:$N$6,2,FALSE)=0,"Spatial Data Missing",VLOOKUP(J24,'G-3 Multipliers'!$L$3:$N$6,2,FALSE)))) | L24: =IF(J24="","",IF(VLOOKUP(J24,'G-3 Multipliers'!$L$3:$N$6,3,FALSE)=0,"Spatial Data Missing ⚠",VLOOKUP(J24,'G-3 Multipliers'!$L$3:$N$6,3,FALSE))) | M24: =IF(D24="","",VLOOKUP(D24,'G-6 Hedgerow Data'!$B$1:$AH$15,33,FALSE)) | N24: =IFERROR(IF(OR(K24="Check data ⚠",I24="Check data ⚠",R24="Error in lengths ▲"), "Check data ▲", (E24*G24*I24*L24)),"") | R24: =IFERROR(P24*G24*I24*L24,"") | S24: =IFERROR(Q24*G24*I24*L24,"") | T24: =IF(D24="","",IF(E24-P24-Q24=0<0,"Error in lengths ▲",IF(P24+Q24>E24,"Error in Lengths ▲",E24-P24-Q24))) | U24: =IFERROR(IF(OR(E24="",N24=""),"",IF(E24-P24-Q24=0<0,"Error in Lengths ▲",IF(P24+Q24>E24,"Error in Lengths ▲",N24-R24-S24))),"Check data ⚠") | AE24: =IF(D24="","",IF(P24>0,TRUE,FALSE)) | AF24: =IF(D24="","",IF(Q24>0,TRUE,FALSE)) | AH24: 15 | AJ24: {=IFERROR(INDEX($AH$10:$AH$258, MATCH(0, IF(TRUE=$AE$10:$AE$258, COUNTIF($AJ$9:$AJ23, $AH$10:$AH$258), ""), 0)),"")} | AK24: {=IFERROR(INDEX($AH$10:$AH$258, MATCH(0, IF(TRUE=$AF$10:$AF$258, COUNTIF($AK$9:$AK23, $AH$10:$AH$258), ""), 0)),"")} | AL24: =IFERROR(INDEX('G-6 Hedgerow Data'!$BJ$3:$BJ$15,MATCH(D24,'G-6 Hedgerow Data'!$B$3:$B$15,0)),"")
... B257: 248 | F257: =IF(D257="","",VLOOKUP(D257,'G-6 Hedgerow Data'!$B$2:$AG$15,2,FALSE)) | G257: =IF(D257="","",VLOOKUP(D257,'G-6 Hedgerow Data'!$B$2:$AG$15,3,FALSE)) | I257: =IFERROR(IF(AND(D257<>"",H257=""),"Check data ⚠", IF(H257="","",IF(AND(D257="Non-native and ornamental hedgerow", H257<>"Poor"),"Not possible ▲", (VLOOKUP(H257,'G-1 All Habitats'!$Z$2:$AA$9,2,FALSE))))),"") | K257: =IF(AND(D257<>"",J257=""),"Check data ⚠", IF(J257="","",IF(VLOOKUP(J257,'G-3 Multipliers'!$L$3:$N$6,2,FALSE)=0,"Spatial Data Missing",VLOOKUP(J257,'G-3 Multipliers'!$L$3:$N$6,2,FALSE)))) | L257: =IF(J257="","",IF(VLOOKUP(J257,'G-3 Multipliers'!$L$3:$N$6,3,FALSE)=0,"Spatial Data Missing ⚠",VLOOKUP(J257,'G-3 Multipliers'!$L$3:$N$6,3,FALSE))) | M257: =IF(D257="","",VLOOKUP(D257,'G-6 Hedgerow Data'!$B$1:$AH$15,33,FALSE)) | N257: =IFERROR(IF(OR(K257="Check data ⚠",I257="Check data ⚠",R257="Error in lengths ▲"), "Check data ▲", (E257*G257*I257*L257)),"") | R257: =IFERROR(P257*G257*I257*L257,"") | S257: =IFERROR(Q257*G257*I257*L257,"") | T257: =IF(D257="","",IF(E257-P257-Q257=0<0,"Error in lengths ▲",IF(P257+Q257>E257,"Error in Lengths ▲",E257-P257-Q257))) | U257: =IFERROR(IF(OR(E257="",N257=""),"",IF(E257-P257-Q257=0<0,"Error in Lengths ▲",IF(P257+Q257>E257,"Error in Lengths ▲",N257-R257-S257))),"Check data ⚠") | AE257: =IF(D257="","",IF(P257>0,TRUE,FALSE)) | AF257: =IF(D257="","",IF(Q257>0,TRUE,FALSE)) | AH257: 248 | AJ257: {=IFERROR(INDEX($AH$10:$AH$258, MATCH(0, IF(TRUE=$AE$10:$AE$258, COUNTIF($AJ$9:$AJ256, $AH$10:$AH$258), ""), 0)),"")} | AK257: {=IFERROR(INDEX($AH$10:$AH$258, MATCH(0, IF(TRUE=$AF$10:$AF$258, COUNTIF($AK$9:$AK256, $AH$10:$AH$258), ""), 0)),"")} | AL257: =IFERROR(INDEX('G-6 Hedgerow Data'!$BJ$3:$BJ$15,MATCH(D257,'G-6 Hedgerow Data'!$B$3:$B$15,0)),"")
E258: =SUM(E10:E257) -> 0.123 | N258: =SUM(N10:N257) -> 0.233 | P258: =SUM(P10:P257) -> 0 | Q258: =SUM(Q10:Q257) -> 0.11 | R258: {=IF(OR(T10:T257="Error in Lengths ▲", R10:R27 = "Error"), "Error ▲", SUM(R10:R257))} -> 0 | S258: {=IF(OR(T10:T257="Error in lengths ▲",S10:S257="Error"),"Error ▲",SUM(S10:S257))} -> 0.22 | T258: =SUM(T10:T257) -> 0.013 | U258: =SUM(U10:U257) -> 0.013

Sheet B-2 On-Site Hedge Creation
B2: =CONCATENATE("Project Name:", " ", Start!F12, " ", "Map Reference:", " ", Start!K55) -> Project Name: Chickenhall Lane Map Reference: | F2: Hedgerow summary
B3: =MID(CELL("filename",A1),FIND("]",CELL("filename",A1))+1,256) -> B-2 On-Site Hedge Creation | F3: Total Net Unit Change | I3: ='Headline Results'!H48 -> 0.28841468 | M3: =IF(OR(COUNTIF($M$12:M259,"*30+*")>0,COUNTIF($Q$12:Q259,"*30+*")>0),"Note; Habitat selected has a time to target condition greater than 30 years. Non standard agreement may be required. ⚠","")
F4: Total Net % Change | I4: ='Headline Results'!H52 -> 1.2378312
F5: Trading Rules Satisfied | I5: {=IF(OR('Trading Summary Hedgerows'!F5:H9="No ▲"), "No - check trading summary ▲", "Yes ✓")} -> Yes ✓
D10: Proposed habitats | F10: Distinctiveness | H10: Condition | J10: Strategic significance | M10: Temporal multiplier | S10: Difficulty risk multipliers | W10: Hedge units delivered | X10: Comments
B11: Ref | C11: New hedge number | D11: Habitat type | E11: Length (km) | F11: Distinctiveness | G11: Score | H11: Condition | I11: Score | J11: Strategic significance | K11: Strategic significance | L11: Strategic significance multiplier | M11: Standard Time to target condition (years) | N11: Habitat created in advance (years) | O11: Delay in starting habitat creation (years) | P11: Standard or adjusted time to target condition | Q11: Final time to target condition (years) | R11: Final time to target multiplier | S11: Standard difficulty of creation | T11: Applied difficulty multiplier | U11: Final difficulty of creation | V11: Difficulty multiplier applied | X11: User comments | Y11: Planning authority comments | Z11: Habitat reference number | AG11: Condition Group
B12: 1 | D12: Non-native and ornamental hedgerow | E12: 0.02 | F12: =IF(D12="","",VLOOKUP(D12,'G-6 Hedgerow Data'!$B$2:$AG$15,2,FALSE)) -> V.Low | G12: =IF(D12="","",VLOOKUP(D12,'G-6 Hedgerow Data'!$B$2:$AG$15,3,FALSE)) -> 1 | H12: Poor | I12: =IFERROR(IF(H12="","",IF(AND(D12="Non-native and ornamental hedgerow", H12<>"Poor"),"Not possible ▲", (VLOOKUP(H12,'G-1 All Habitats'!$Z$2:$AA$9,2,FALSE)))),"") -> 1 | J12: Formally identified in local strategy | K12: =IF(J12="","",IF(VLOOKUP(J12,'G-3 Multipliers'!$L$3:$N$6,2,FALSE)=0,"Spatial Data Missing ⚠",VLOOKUP(J12,'G-3 Multipliers'!$L$3:$N$6,2,FALSE))) -> High strategic significance | L12: =IF(J12="","",IF(VLOOKUP(J12,'G-3 Multipliers'!$L$3:$N$6,3,FALSE)=0,"Spatial Data Missing ⚠",VLOOKUP(J12,'G-3 Multipliers'!$L$3:$N$6,3,FALSE))) -> 1.15 | M12: =IF(OR(D12="",H12=""),"",(INDEX('G-6 Hedgerow Data'!$E$3:$I$15,MATCH(D12,'G-6 Hedgerow Data'!$B$3:$B$15,0),MATCH(H12,'G-6 Hedgerow Data'!$E$2:$I$2,0)))) -> 1 | N12: 0 | O12: 0 | P12: =IF(M12="","",IF(AND(N12>0,O12>0),"Error -both advance and delayed habitat creation ▲",IF(AND(OR(N12="Habitat already in target condition",M12<=N12),O12=0),"Check details - Is there evidence that habitat has reached target condition? ⚠",IF(M12="","",IF(N12>0,"Check details - Is there evidence habitat creation started/in place? ⚠",IF(O12>0,"Check details- Delay in starting habitat in required condition? ⚠","Standard time to target condition applied")))))) -> Standard time to target condition applied | Q12: =IF(M12="","",IF(P12="Error -both advance and delayed habitat creation ▲","Check Data ⚠", IF(M12="Not possible ▲", "Check Data ⚠", IF(OR(N12="30+",N12="Habitat already in target condition"),0,IF(O12="30+","30+",IF(AND(M12="30+",OR(N12="",N12=0)),"30+",IF(AND(M12="30+",N12>0),30-N12,IF(M12+O12>30,"30+",IF(M12+O12-N12>0,M12+O12-N12,IF(M12-N12<0,0,M12+O12-N12)))))))))) -> 1 | R12: =IF(M12="","",IF(Q12="Check Data ⚠","Check Data ⚠",VLOOKUP(Q12,TemporalMultipliers,3,FALSE))) -> 0.965 | S12: =IF(D12="","",VLOOKUP(D12,'G-6 Hedgerow Data'!$B$3:$AG$15,31,FALSE)) -> Low | T12: =IF(D12="","",IF(Q12="Check Data ⚠","Check Data ⚠",IF(H12="","",IF($P12="Check details - Is there evidence that habitat has reached target condition? ⚠","Low Difficulty - only applicable if all habitat created before losses ⚠","Standard difficulty applied")))) -> Standard difficulty applied | U12: =(IF(AND(T12="Standard difficulty applied",M12>N12),S12,IF(Q12="Check data ⚠", "Check data ⚠", IF(AND(T12="Low Difficulty - only applicable if all habitat created before losses ⚠",Q12<=0),"Low",S12)))) -> Low | V12: =IF(D12="","",VLOOKUP(S12,'G-3 Multipliers'!$P$3:$Q$6,2,FALSE)) -> 1 | W12: =IFERROR(E12*G12*I12*L12*R12*V12,"") -> 0.022195 | AG12: =IFERROR(INDEX('G-6 Hedgerow Data'!$BJ$3:$BJ$15,MATCH(D12,'G-6 Hedgerow Data'!$B$3:$B$15,0)),"") -> Hedgecond2
B13: 2 | D13: Non-native and ornamental hedgerow | E13: 0.002 | F13: =IF(D13="","",VLOOKUP(D13,'G-6 Hedgerow Data'!$B$2:$AG$15,2,FALSE)) -> V.Low | G13: =IF(D13="","",VLOOKUP(D13,'G-6 Hedgerow Data'!$B$2:$AG$15,3,FALSE)) -> 1 | H13: Poor | I13: =IFERROR(IF(H13="","",IF(AND(D13="Non-native and ornamental hedgerow", H13<>"Poor"),"Not possible ▲", (VLOOKUP(H13,'G-1 All Habitats'!$Z$2:$AA$9,2,FALSE)))),"") -> 1 | J13: Formally identified in local strategy | K13: =IF(J13="","",IF(VLOOKUP(J13,'G-3 Multipliers'!$L$3:$N$6,2,FALSE)=0,"Spatial Data Missing ⚠",VLOOKUP(J13,'G-3 Multipliers'!$L$3:$N$6,2,FALSE))) -> High strategic significance | L13: =IF(J13="","",IF(VLOOKUP(J13,'G-3 Multipliers'!$L$3:$N$6,3,FALSE)=0,"Spatial Data Missing ⚠",VLOOKUP(J13,'G-3 Multipliers'!$L$3:$N$6,3,FALSE))) -> 1.15 | M13: =IF(OR(D13="",H13=""),"",(INDEX('G-6 Hedgerow Data'!$E$3:$I$15,MATCH(D13,'G-6 Hedgerow Data'!$B$3:$B$15,0),MATCH(H13,'G-6 Hedgerow Data'!$E$2:$I$2,0)))) -> 1 | N13: 0 | O13: 0 | P13: =IF(M13="","",IF(AND(N13>0,O13>0),"Error -both advance and delayed habitat creation ▲",IF(AND(OR(N13="Habitat already in target condition",M13<=N13),O13=0),"Check details - Is there evidence that habitat has reached target condition? ⚠",IF(M13="","",IF(N13>0,"Check details - Is there evidence habitat creation started/in place? ⚠",IF(O13>0,"Check details- Delay in starting habitat in required condition? ⚠","Standard time to target condition applied")))))) -> Standard time to target condition applied | Q13: =IF(M13="","",IF(P13="Error -both advance and delayed habitat creation ▲","Check Data ⚠", IF(M13="Not possible ▲", "Check Data ⚠", IF(OR(N13="30+",N13="Habitat already in target condition"),0,IF(O13="30+","30+",IF(AND(M13="30+",OR(N13="",N13=0)),"30+",IF(AND(M13="30+",N13>0),30-N13,IF(M13+O13>30,"30+",IF(M13+O13-N13>0,M13+O13-N13,IF(M13-N13<0,0,M13+O13-N13)))))))))) -> 1 | R13: =IF(M13="","",IF(Q13="Check Data ⚠","Check Data ⚠",VLOOKUP(Q13,TemporalMultipliers,3,FALSE))) -> 0.965 | S13: =IF(D13="","",VLOOKUP(D13,'G-6 Hedgerow Data'!$B$3:$AG$15,31,FALSE)) -> Low | T13: =IF(D13="","",IF(Q13="Check Data ⚠","Check Data ⚠",IF(H13="","",IF($P13="Check details - Is there evidence that habitat has reached target condition? ⚠","Low Difficulty - only applicable if all habitat created before losses ⚠","Standard difficulty applied")))) -> Standard difficulty applied | U13: =(IF(AND(T13="Standard difficulty applied",M13>N13),S13,IF(Q13="Check data ⚠", "Check data ⚠", IF(AND(T13="Low Difficulty - only applicable if all habitat created before losses ⚠",Q13<=0),"Low",S13)))) -> Low | V13: =IF(D13="","",VLOOKUP(S13,'G-3 Multipliers'!$P$3:$Q$6,2,FALSE)) -> 1 | W13: =IFERROR(E13*G13*I13*L13*R13*V13,"") -> 0.0022195 | AG13: =IFERROR(INDEX('G-6 Hedgerow Data'!$BJ$3:$BJ$15,MATCH(D13,'G-6 Hedgerow Data'!$B$3:$B$15,0)),"") -> Hedgecond2
B14: 3 | D14: Non-native and ornamental hedgerow | E14: 0.003 | F14: =IF(D14="","",VLOOKUP(D14,'G-6 Hedgerow Data'!$B$2:$AG$15,2,FALSE)) -> V.Low | G14: =IF(D14="","",VLOOKUP(D14,'G-6 Hedgerow Data'!$B$2:$AG$15,3,FALSE)) -> 1 | H14: Poor | I14: =IFERROR(IF(H14="","",IF(AND(D14="Non-native and ornamental hedgerow", H14<>"Poor"),"Not possible ▲", (VLOOKUP(H14,'G-1 All Habitats'!$Z$2:$AA$9,2,FALSE)))),"") -> 1 | J14: Formally identified in local strategy | K14: =IF(J14="","",IF(VLOOKUP(J14,'G-3 Multipliers'!$L$3:$N$6,2,FALSE)=0,"Spatial Data Missing ⚠",VLOOKUP(J14,'G-3 Multipliers'!$L$3:$N$6,2,FALSE))) -> High strategic significance | L14: =IF(J14="","",IF(VLOOKUP(J14,'G-3 Multipliers'!$L$3:$N$6,3,FALSE)=0,"Spatial Data Missing ⚠",VLOOKUP(J14,'G-3 Multipliers'!$L$3:$N$6,3,FALSE))) -> 1.15 | M14: =IF(OR(D14="",H14=""),"",(INDEX('G-6 Hedgerow Data'!$E$3:$I$15,MATCH(D14,'G-6 Hedgerow Data'!$B$3:$B$15,0),MATCH(H14,'G-6 Hedgerow Data'!$E$2:$I$2,0)))) -> 1 | N14: 0 | O14: 0 | P14: =IF(M14="","",IF(AND(N14>0,O14>0),"Error -both advance and delayed habitat creation ▲",IF(AND(OR(N14="Habitat already in target condition",M14<=N14),O14=0),"Check details - Is there evidence that habitat has reached target condition? ⚠",IF(M14="","",IF(N14>0,"Check details - Is there evidence habitat creation started/in place? ⚠",IF(O14>0,"Check details- Delay in starting habitat in required condition? ⚠","Standard time to target condition applied")))))) -> Standard time to target condition applied | Q14: =IF(M14="","",IF(P14="Error -both advance and delayed habitat creation ▲","Check Data ⚠", IF(M14="Not possible ▲", "Check Data ⚠", IF(OR(N14="30+",N14="Habitat already in target condition"),0,IF(O14="30+","30+",IF(AND(M14="30+",OR(N14="",N14=0)),"30+",IF(AND(M14="30+",N14>0),30-N14,IF(M14+O14>30,"30+",IF(M14+O14-N14>0,M14+O14-N14,IF(M14-N14<0,0,M14+O14-N14)))))))))) -> 1 | R14: =IF(M14="","",IF(Q14="Check Data ⚠","Check Data ⚠",VLOOKUP(Q14,TemporalMultipliers,3,FALSE))) -> 0.965 | S14: =IF(D14="","",VLOOKUP(D14,'G-6 Hedgerow Data'!$B$3:$AG$15,31,FALSE)) -> Low | T14: =IF(D14="","",IF(Q14="Check Data ⚠","Check Data ⚠",IF(H14="","",IF($P14="Check details - Is there evidence that habitat has reached target condition? ⚠","Low Difficulty - only applicable if all habitat created before losses ⚠","Standard difficulty applied")))) -> Standard difficulty applied | U14: =(IF(AND(T14="Standard difficulty applied",M14>N14),S14,IF(Q14="Check data ⚠", "Check data ⚠", IF(AND(T14="Low Difficulty - only applicable if all habitat created before losses ⚠",Q14<=0),"Low",S14)))) -> Low | V14: =IF(D14="","",VLOOKUP(S14,'G-3 Multipliers'!$P$3:$Q$6,2,FALSE)) -> 1 | W14: =IFERROR(E14*G14*I14*L14*R14*V14,"") -> 0.00332925 | AG14: =IFERROR(INDEX('G-6 Hedgerow Data'!$BJ$3:$BJ$15,MATCH(D14,'G-6 Hedgerow Data'!$B$3:$B$15,0)),"") -> Hedgecond2
B15: 4 | D15: Non-native and ornamental hedgerow | E15: 0.002 | F15: =IF(D15="","",VLOOKUP(D15,'G-6 Hedgerow Data'!$B$2:$AG$15,2,FALSE)) -> V.Low | G15: =IF(D15="","",VLOOKUP(D15,'G-6 Hedgerow Data'!$B$2:$AG$15,3,FALSE)) -> 1 | H15: Poor | I15: =IFERROR(IF(H15="","",IF(AND(D15="Non-native and ornamental hedgerow", H15<>"Poor"),"Not possible ▲", (VLOOKUP(H15,'G-1 All Habitats'!$Z$2:$AA$9,2,FALSE)))),"") -> 1 | J15: Formally identified in local strategy | K15: =IF(J15="","",IF(VLOOKUP(J15,'G-3 Multipliers'!$L$3:$N$6,2,FALSE)=0,"Spatial Data Missing ⚠",VLOOKUP(J15,'G-3 Multipliers'!$L$3:$N$6,2,FALSE))) -> High strategic significance | L15: =IF(J15="","",IF(VLOOKUP(J15,'G-3 Multipliers'!$L$3:$N$6,3,FALSE)=0,"Spatial Data Missing ⚠",VLOOKUP(J15,'G-3 Multipliers'!$L$3:$N$6,3,FALSE))) -> 1.15 | M15: =IF(OR(D15="",H15=""),"",(INDEX('G-6 Hedgerow Data'!$E$3:$I$15,MATCH(D15,'G-6 Hedgerow Data'!$B$3:$B$15,0),MATCH(H15,'G-6 Hedgerow Data'!$E$2:$I$2,0)))) -> 1 | N15: 0 | O15: 0 | P15: =IF(M15="","",IF(AND(N15>0,O15>0),"Error -both advance and delayed habitat creation ▲",IF(AND(OR(N15="Habitat already in target condition",M15<=N15),O15=0),"Check details - Is there evidence that habitat has reached target condition? ⚠",IF(M15="","",IF(N15>0,"Check details - Is there evidence habitat creation started/in place? ⚠",IF(O15>0,"Check details- Delay in starting habitat in required condition? ⚠","Standard time to target condition applied")))))) -> Standard time to target condition applied | Q15: =IF(M15="","",IF(P15="Error -both advance and delayed habitat creation ▲","Check Data ⚠", IF(M15="Not possible ▲", "Check Data ⚠", IF(OR(N15="30+",N15="Habitat already in target condition"),0,IF(O15="30+","30+",IF(AND(M15="30+",OR(N15="",N15=0)),"30+",IF(AND(M15="30+",N15>0),30-N15,IF(M15+O15>30,"30+",IF(M15+O15-N15>0,M15+O15-N15,IF(M15-N15<0,0,M15+O15-N15)))))))))) -> 1 | R15: =IF(M15="","",IF(Q15="Check Data ⚠","Check Data ⚠",VLOOKUP(Q15,TemporalMultipliers,3,FALSE))) -> 0.965 | S15: =IF(D15="","",VLOOKUP(D15,'G-6 Hedgerow Data'!$B$3:$AG$15,31,FALSE)) -> Low | T15: =IF(D15="","",IF(Q15="Check Data ⚠","Check Data ⚠",IF(H15="","",IF($P15="Check details - Is there evidence that habitat has reached target condition? ⚠","Low Difficulty - only applicable if all habitat created before losses ⚠","Standard difficulty applied")))) -> Standard difficulty applied | U15: =(IF(AND(T15="Standard difficulty applied",M15>N15),S15,IF(Q15="Check data ⚠", "Check data ⚠", IF(AND(T15="Low Difficulty - only applicable if all habitat created before losses ⚠",Q15<=0),"Low",S15)))) -> Low | V15: =IF(D15="","",VLOOKUP(S15,'G-3 Multipliers'!$P$3:$Q$6,2,FALSE)) -> 1 | W15: =IFERROR(E15*G15*I15*L15*R15*V15,"") -> 0.0022195 | AG15: =IFERROR(INDEX('G-6 Hedgerow Data'!$BJ$3:$BJ$15,MATCH(D15,'G-6 Hedgerow Data'!$B$3:$B$15,0)),"") -> Hedgecond2
B16: 5 | D16: Non-native and ornamental hedgerow | E16: 0.01 | F16: =IF(D16="","",VLOOKUP(D16,'G-6 Hedgerow Data'!$B$2:$AG$15,2,FALSE)) -> V.Low | G16: =IF(D16="","",VLOOKUP(D16,'G-6 Hedgerow Data'!$B$2:$AG$15,3,FALSE)) -> 1 | H16: Poor | I16: =IFERROR(IF(H16="","",IF(AND(D16="Non-native and ornamental hedgerow", H16<>"Poor"),"Not possible ▲", (VLOOKUP(H16,'G-1 All Habitats'!$Z$2:$AA$9,2,FALSE)))),"") -> 1 | J16: Formally identified in local strategy | K16: =IF(J16="","",IF(VLOOKUP(J16,'G-3 Multipliers'!$L$3:$N$6,2,FALSE)=0,"Spatial Data Missing ⚠",VLOOKUP(J16,'G-3 Multipliers'!$L$3:$N$6,2,FALSE))) -> High strategic significance | L16: =IF(J16="","",IF(VLOOKUP(J16,'G-3 Multipliers'!$L$3:$N$6,3,FALSE)=0,"Spatial Data Missing ⚠",VLOOKUP(J16,'G-3 Multipliers'!$L$3:$N$6,3,FALSE))) -> 1.15 | M16: =IF(OR(D16="",H16=""),"",(INDEX('G-6 Hedgerow Data'!$E$3:$I$15,MATCH(D16,'G-6 Hedgerow Data'!$B$3:$B$15,0),MATCH(H16,'G-6 Hedgerow Data'!$E$2:$I$2,0)))) -> 1 | N16: 0 | O16: 0 | P16: =IF(M16="","",IF(AND(N16>0,O16>0),"Error -both advance and delayed habitat creation ▲",IF(AND(OR(N16="Habitat already in target condition",M16<=N16),O16=0),"Check details - Is there evidence that habitat has reached target condition? ⚠",IF(M16="","",IF(N16>0,"Check details - Is there evidence habitat creation started/in place? ⚠",IF(O16>0,"Check details- Delay in starting habitat in required condition? ⚠","Standard time to target condition applied")))))) -> Standard time to target condition applied | Q16: =IF(M16="","",IF(P16="Error -both advance and delayed habitat creation ▲","Check Data ⚠", IF(M16="Not possible ▲", "Check Data ⚠", IF(OR(N16="30+",N16="Habitat already in target condition"),0,IF(O16="30+","30+",IF(AND(M16="30+",OR(N16="",N16=0)),"30+",IF(AND(M16="30+",N16>0),30-N16,IF(M16+O16>30,"30+",IF(M16+O16-N16>0,M16+O16-N16,IF(M16-N16<0,0,M16+O16-N16)))))))))) -> 1 | R16: =IF(M16="","",IF(Q16="Check Data ⚠","Check Data ⚠",VLOOKUP(Q16,TemporalMultipliers,3,FALSE))) -> 0.965 | S16: =IF(D16="","",VLOOKUP(D16,'G-6 Hedgerow Data'!$B$3:$AG$15,31,FALSE)) -> Low | T16: =IF(D16="","",IF(Q16="Check Data ⚠","Check Data ⚠",IF(H16="","",IF($P16="Check details - Is there evidence that habitat has reached target condition? ⚠","Low Difficulty - only applicable if all habitat created before losses ⚠","Standard difficulty applied")))) -> Standard difficulty applied | U16: =(IF(AND(T16="Standard difficulty applied",M16>N16),S16,IF(Q16="Check data ⚠", "Check data ⚠", IF(AND(T16="Low Difficulty - only applicable if all habitat created before losses ⚠",Q16<=0),"Low",S16)))) -> Low | V16: =IF(D16="","",VLOOKUP(S16,'G-3 Multipliers'!$P$3:$Q$6,2,FALSE)) -> 1 | W16: =IFERROR(E16*G16*I16*L16*R16*V16,"") -> 0.0110975 | AG16: =IFERROR(INDEX('G-6 Hedgerow Data'!$BJ$3:$BJ$15,MATCH(D16,'G-6 Hedgerow Data'!$B$3:$B$15,0)),"") -> Hedgecond2
B17: 6 | F17: =IF(D17="","",VLOOKUP(D17,'G-6 Hedgerow Data'!$B$2:$AG$15,2,FALSE)) | G17: =IF(D17="","",VLOOKUP(D17,'G-6 Hedgerow Data'!$B$2:$AG$15,3,FALSE)) | I17: =IFERROR(IF(H17="","",IF(AND(D17="Non-native and ornamental hedgerow", H17<>"Poor"),"Not possible ▲", (VLOOKUP(H17,'G-1 All Habitats'!$Z$2:$AA$9,2,FALSE)))),"") | K17: =IF(J17="","",IF(VLOOKUP(J17,'G-3 Multipliers'!$L$3:$N$6,2,FALSE)=0,"Spatial Data Missing ⚠",VLOOKUP(J17,'G-3 Multipliers'!$L$3:$N$6,2,FALSE))) | L17: =IF(J17="","",IF(VLOOKUP(J17,'G-3 Multipliers'!$L$3:$N$6,3,FALSE)=0,"Spatial Data Missing ⚠",VLOOKUP(J17,'G-3 Multipliers'!$L$3:$N$6,3,FALSE))) | M17: =IF(OR(D17="",H17=""),"",(INDEX('G-6 Hedgerow Data'!$E$3:$I$15,MATCH(D17,'G-6 Hedgerow Data'!$B$3:$B$15,0),MATCH(H17,'G-6 Hedgerow Data'!$E$2:$I$2,0)))) | P17: =IF(M17="","",IF(AND(N17>0,O17>0),"Error -both advance and delayed habitat creation ▲",IF(AND(OR(N17="Habitat already in target condition",M17<=N17),O17=0),"Check details - Is there evidence that habitat has reached target condition? ⚠",IF(M17="","",IF(N17>0,"Check details - Is there evidence habitat creation started/in place? ⚠",IF(O17>0,"Check details- Delay in starting habitat in required condition? ⚠","Standard time to target condition applied")))))) | Q17: =IF(M17="","",IF(P17="Error -both advance and delayed habitat creation ▲","Check Data ⚠", IF(M17="Not possible ▲", "Check Data ⚠", IF(OR(N17="30+",N17="Habitat already in target condition"),0,IF(O17="30+","30+",IF(AND(M17="30+",OR(N17="",N17=0)),"30+",IF(AND(M17="30+",N17>0),30-N17,IF(M17+O17>30,"30+",IF(M17+O17-N17>0,M17+O17-N17,IF(M17-N17<0,0,M17+O17-N17)))))))))) | R17: =IF(M17="","",IF(Q17="Check Data ⚠","Check Data ⚠",VLOOKUP(Q17,TemporalMultipliers,3,FALSE))) | S17: =IF(D17="","",VLOOKUP(D17,'G-6 Hedgerow Data'!$B$3:$AG$15,31,FALSE)) | T17: =IF(D17="","",IF(Q17="Check Data ⚠","Check Data ⚠",IF(H17="","",IF($P17="Check details - Is there evidence that habitat has reached target condition? ⚠","Low Difficulty - only applicable if all habitat created before losses ⚠","Standard difficulty applied")))) | U17: =(IF(AND(T17="Standard difficulty applied",M17>N17),S17,IF(Q17="Check data ⚠", "Check data ⚠", IF(AND(T17="Low Difficulty - only applicable if all habitat created before losses ⚠",Q17<=0),"Low",S17)))) | V17: =IF(D17="","",VLOOKUP(S17,'G-3 Multipliers'!$P$3:$Q$6,2,FALSE)) | W17: =IFERROR(E17*G17*I17*L17*R17*V17,"") | AG17: =IFERROR(INDEX('G-6 Hedgerow Data'!$BJ$3:$BJ$15,MATCH(D17,'G-6 Hedgerow Data'!$B$3:$B$15,0)),"")
B18: 7 | F18: =IF(D18="","",VLOOKUP(D18,'G-6 Hedgerow Data'!$B$2:$AG$15,2,FALSE)) | G18: =IF(D18="","",VLOOKUP(D18,'G-6 Hedgerow Data'!$B$2:$AG$15,3,FALSE)) | I18: =IFERROR(IF(H18="","",IF(AND(D18="Non-native and ornamental hedgerow", H18<>"Poor"),"Not possible ▲", (VLOOKUP(H18,'G-1 All Habitats'!$Z$2:$AA$9,2,FALSE)))),"") | K18: =IF(J18="","",IF(VLOOKUP(J18,'G-3 Multipliers'!$L$3:$N$6,2,FALSE)=0,"Spatial Data Missing ⚠",VLOOKUP(J18,'G-3 Multipliers'!$L$3:$N$6,2,FALSE))) | L18: =IF(J18="","",IF(VLOOKUP(J18,'G-3 Multipliers'!$L$3:$N$6,3,FALSE)=0,"Spatial Data Missing ⚠",VLOOKUP(J18,'G-3 Multipliers'!$L$3:$N$6,3,FALSE))) | M18: =IF(OR(D18="",H18=""),"",(INDEX('G-6 Hedgerow Data'!$E$3:$I$15,MATCH(D18,'G-6 Hedgerow Data'!$B$3:$B$15,0),MATCH(H18,'G-6 Hedgerow Data'!$E$2:$I$2,0)))) | P18: =IF(M18="","",IF(AND(N18>0,O18>0),"Error -both advance and delayed habitat creation ▲",IF(AND(OR(N18="Habitat already in target condition",M18<=N18),O18=0),"Check details - Is there evidence that habitat has reached target condition? ⚠",IF(M18="","",IF(N18>0,"Check details - Is there evidence habitat creation started/in place? ⚠",IF(O18>0,"Check details- Delay in starting habitat in required condition? ⚠","Standard time to target condition applied")))))) | Q18: =IF(M18="","",IF(P18="Error -both advance and delayed habitat creation ▲","Check Data ⚠", IF(M18="Not possible ▲", "Check Data ⚠", IF(OR(N18="30+",N18="Habitat already in target condition"),0,IF(O18="30+","30+",IF(AND(M18="30+",OR(N18="",N18=0)),"30+",IF(AND(M18="30+",N18>0),30-N18,IF(M18+O18>30,"30+",IF(M18+O18-N18>0,M18+O18-N18,IF(M18-N18<0,0,M18+O18-N18)))))))))) | R18: =IF(M18="","",IF(Q18="Check Data ⚠","Check Data ⚠",VLOOKUP(Q18,TemporalMultipliers,3,FALSE))) | S18: =IF(D18="","",VLOOKUP(D18,'G-6 Hedgerow Data'!$B$3:$AG$15,31,FALSE)) | T18: =IF(D18="","",IF(Q18="Check Data ⚠","Check Data ⚠",IF(H18="","",IF($P18="Check details - Is there evidence that habitat has reached target condition? ⚠","Low Difficulty - only applicable if all habitat created before losses ⚠","Standard difficulty applied")))) | U18: =(IF(AND(T18="Standard difficulty applied",M18>N18),S18,IF(Q18="Check data ⚠", "Check data ⚠", IF(AND(T18="Low Difficulty - only applicable if all habitat created before losses ⚠",Q18<=0),"Low",S18)))) | V18: =IF(D18="","",VLOOKUP(S18,'G-3 Multipliers'!$P$3:$Q$6,2,FALSE)) | W18: =IFERROR(E18*G18*I18*L18*R18*V18,"") | AG18: =IFERROR(INDEX('G-6 Hedgerow Data'!$BJ$3:$BJ$15,MATCH(D18,'G-6 Hedgerow Data'!$B$3:$B$15,0)),"")
B19: 8 | F19: =IF(D19="","",VLOOKUP(D19,'G-6 Hedgerow Data'!$B$2:$AG$15,2,FALSE)) | G19: =IF(D19="","",VLOOKUP(D19,'G-6 Hedgerow Data'!$B$2:$AG$15,3,FALSE)) | I19: =IFERROR(IF(H19="","",IF(AND(D19="Non-native and ornamental hedgerow", H19<>"Poor"),"Not possible ▲", (VLOOKUP(H19,'G-1 All Habitats'!$Z$2:$AA$9,2,FALSE)))),"") | K19: =IF(J19="","",IF(VLOOKUP(J19,'G-3 Multipliers'!$L$3:$N$6,2,FALSE)=0,"Spatial Data Missing ⚠",VLOOKUP(J19,'G-3 Multipliers'!$L$3:$N$6,2,FALSE))) | L19: =IF(J19="","",IF(VLOOKUP(J19,'G-3 Multipliers'!$L$3:$N$6,3,FALSE)=0,"Spatial Data Missing ⚠",VLOOKUP(J19,'G-3 Multipliers'!$L$3:$N$6,3,FALSE))) | M19: =IF(OR(D19="",H19=""),"",(INDEX('G-6 Hedgerow Data'!$E$3:$I$15,MATCH(D19,'G-6 Hedgerow Data'!$B$3:$B$15,0),MATCH(H19,'G-6 Hedgerow Data'!$E$2:$I$2,0)))) | P19: =IF(M19="","",IF(AND(N19>0,O19>0),"Error -both advance and delayed habitat creation ▲",IF(AND(OR(N19="Habitat already in target condition",M19<=N19),O19=0),"Check details - Is there evidence that habitat has reached target condition? ⚠",IF(M19="","",IF(N19>0,"Check details - Is there evidence habitat creation started/in place? ⚠",IF(O19>0,"Check details- Delay in starting habitat in required condition? ⚠","Standard time to target condition applied")))))) | Q19: =IF(M19="","",IF(P19="Error -both advance and delayed habitat creation ▲","Check Data ⚠", IF(M19="Not possible ▲", "Check Data ⚠", IF(OR(N19="30+",N19="Habitat already in target condition"),0,IF(O19="30+","30+",IF(AND(M19="30+",OR(N19="",N19=0)),"30+",IF(AND(M19="30+",N19>0),30-N19,IF(M19+O19>30,"30+",IF(M19+O19-N19>0,M19+O19-N19,IF(M19-N19<0,0,M19+O19-N19)))))))))) | R19: =IF(M19="","",IF(Q19="Check Data ⚠","Check Data ⚠",VLOOKUP(Q19,TemporalMultipliers,3,FALSE))) | S19: =IF(D19="","",VLOOKUP(D19,'G-6 Hedgerow Data'!$B$3:$AG$15,31,FALSE)) | T19: =IF(D19="","",IF(Q19="Check Data ⚠","Check Data ⚠",IF(H19="","",IF($P19="Check details - Is there evidence that habitat has reached target condition? ⚠","Low Difficulty - only applicable if all habitat created before losses ⚠","Standard difficulty applied")))) | U19: =(IF(AND(T19="Standard difficulty applied",M19>N19),S19,IF(Q19="Check data ⚠", "Check data ⚠", IF(AND(T19="Low Difficulty - only applicable if all habitat created before losses ⚠",Q19<=0),"Low",S19)))) | V19: =IF(D19="","",VLOOKUP(S19,'G-3 Multipliers'!$P$3:$Q$6,2,FALSE)) | W19: =IFERROR(E19*G19*I19*L19*R19*V19,"") | AG19: =IFERROR(INDEX('G-6 Hedgerow Data'!$BJ$3:$BJ$15,MATCH(D19,'G-6 Hedgerow Data'!$B$3:$B$15,0)),"")
B20: 9 | F20: =IF(D20="","",VLOOKUP(D20,'G-6 Hedgerow Data'!$B$2:$AG$15,2,FALSE)) | G20: =IF(D20="","",VLOOKUP(D20,'G-6 Hedgerow Data'!$B$2:$AG$15,3,FALSE)) | I20: =IFERROR(IF(H20="","",IF(AND(D20="Non-native and ornamental hedgerow", H20<>"Poor"),"Not possible ▲", (VLOOKUP(H20,'G-1 All Habitats'!$Z$2:$AA$9,2,FALSE)))),"") | K20: =IF(J20="","",IF(VLOOKUP(J20,'G-3 Multipliers'!$L$3:$N$6,2,FALSE)=0,"Spatial Data Missing ⚠",VLOOKUP(J20,'G-3 Multipliers'!$L$3:$N$6,2,FALSE))) | L20: =IF(J20="","",IF(VLOOKUP(J20,'G-3 Multipliers'!$L$3:$N$6,3,FALSE)=0,"Spatial Data Missing ⚠",VLOOKUP(J20,'G-3 Multipliers'!$L$3:$N$6,3,FALSE))) | M20: =IF(OR(D20="",H20=""),"",(INDEX('G-6 Hedgerow Data'!$E$3:$I$15,MATCH(D20,'G-6 Hedgerow Data'!$B$3:$B$15,0),MATCH(H20,'G-6 Hedgerow Data'!$E$2:$I$2,0)))) | P20: =IF(M20="","",IF(AND(N20>0,O20>0),"Error -both advance and delayed habitat creation ▲",IF(AND(OR(N20="Habitat already in target condition",M20<=N20),O20=0),"Check details - Is there evidence that habitat has reached target condition? ⚠",IF(M20="","",IF(N20>0,"Check details - Is there evidence habitat creation started/in place? ⚠",IF(O20>0,"Check details- Delay in starting habitat in required condition? ⚠","Standard time to target condition applied")))))) | Q20: =IF(M20="","",IF(P20="Error -both advance and delayed habitat creation ▲","Check Data ⚠", IF(M20="Not possible ▲", "Check Data ⚠", IF(OR(N20="30+",N20="Habitat already in target condition"),0,IF(O20="30+","30+",IF(AND(M20="30+",OR(N20="",N20=0)),"30+",IF(AND(M20="30+",N20>0),30-N20,IF(M20+O20>30,"30+",IF(M20+O20-N20>0,M20+O20-N20,IF(M20-N20<0,0,M20+O20-N20)))))))))) | R20: =IF(M20="","",IF(Q20="Check Data ⚠","Check Data ⚠",VLOOKUP(Q20,TemporalMultipliers,3,FALSE))) | S20: =IF(D20="","",VLOOKUP(D20,'G-6 Hedgerow Data'!$B$3:$AG$15,31,FALSE)) | T20: =IF(D20="","",IF(Q20="Check Data ⚠","Check Data ⚠",IF(H20="","",IF($P20="Check details - Is there evidence that habitat has reached target condition? ⚠","Low Difficulty - only applicable if all habitat created before losses ⚠","Standard difficulty applied")))) | U20: =(IF(AND(T20="Standard difficulty applied",M20>N20),S20,IF(Q20="Check data ⚠", "Check data ⚠", IF(AND(T20="Low Difficulty - only applicable if all habitat created before losses ⚠",Q20<=0),"Low",S20)))) | V20: =IF(D20="","",VLOOKUP(S20,'G-3 Multipliers'!$P$3:$Q$6,2,FALSE)) | W20: =IFERROR(E20*G20*I20*L20*R20*V20,"") | AG20: =IFERROR(INDEX('G-6 Hedgerow Data'!$BJ$3:$BJ$15,MATCH(D20,'G-6 Hedgerow Data'!$B$3:$B$15,0)),"")
