Workbook
Name AA: 'G-7 WaterC'' Data'!$B$4
Name AllHabsSummaryData: 'G-2 Habitat groups'!$A$3:$AF$135
Name AllHabsSummaryData: 'G-2 Habitat groups'!$A$3:$AF$135
Name BaselineHabOffsite: 'D-1 Off-Site Habitat Baseline'!$D$11:$AA$258
Name BaselineHabOffsite: 'D-1 Off-Site Habitat Baseline'!$D$11:$AA$258
Name BaselineHabSite: 'A-1 On-Site Habitat Baseline'!$D$11:$X$258
Name BaselineHabSite: 'A-1 On-Site Habitat Baseline'!$D$11:$X$258
Name baselineimage: Start!$D$39:$G$53
Name baselineimageOS: Start!$D$60:$G$65
Name Coastal_lagoons: 'G-1 All Habitats'!$A$104
Name Coastal_saltmarsh: 'G-1 All Habitats'!$A$113:$A$114
Name Cond1: 'G-8 Condition Look up'!$J$5
Name Cond2: 'G-8 Condition Look up'!$K$5
Name Cond3: 'G-8 Condition Look up'!$L$5
Name Cond4: 'G-8 Condition Look up'!$M$5:$M$9
Name Cond5: 'G-8 Condition Look up'!$N$5
Name Condition: 'G-8 Condition Look up'!$B$3:$H$3
Name ConditionData: 'G-8 Condition Look up'!$A$4:$H$102
Name ConditionHabitats: 'G-8 Condition Look up'!$A$4:$A$128
Name Cropland: 'G-1 All Habitats'!$A$3:$A$12
Name Difficulty: 'G-3 Multipliers'!$P$3:$Q$6
Name Difficulty: 'G-3 Multipliers'!$P$3:$Q$6
Name Encroachment1: 'G-7 WaterC'' Data'!$AD$4:$AD$13
Name Encroachment1: 'G-7 WaterC'' Data'!$AD$4:$AD$13
Name Encroachment2: 'G-7 WaterC'' Data'!$AD$14
Name Encroachment2: 'G-7 WaterC'' Data'!$AD$14
Name EnhanceCondition: 'G-5 Enhancement Temporal'!$C$4:$X$4
Name EnhanceCondition: 'G-5 Enhancement Temporal'!$C$4:$X$4
Name EnhanceHabitat: 'G-5 Enhancement Temporal'!$C$4:$C$136
Name EnhanceHabitat: 'G-5 Enhancement Temporal'!$C$4:$C$136
Name EnhanceTemporal: 'G-5 Enhancement Temporal'!$C$4:$X$136
Name EnhanceTemporal: 'G-5 Enhancement Temporal'!$C$4:$X$136
Name Grassland: 'G-1 All Habitats'!$A$13:$A$25
Name Heathland_and_shrub: 'G-1 All Habitats'!$A$26:$A$38
Name HedgeCond: 'G-6 Hedgerow Data'!$B$2:$T$2
Name Hedgecond1: 'G-6 Hedgerow Data'!$BK$3:$BK$5
Name Hedgecond2: 'G-6 Hedgerow Data'!$BL$3
Name HedgeData: 'G-6 Hedgerow Data'!$B$2:$T$15
Name HedgeType: 'G-6 Hedgerow Data'!$B$2:$B$15
Name Individual_trees: 'G-1 All Habitats'!$A$80:$A$81
Name Individualtrees: 'G-1 All Habitats'!$A$79:$A$80
Name Intertidal_hard_structures: 'G-1 All Habitats'!$A$132:$A$134
Name Intertidal_sediment: 'G-1 All Habitats'!$A$115:$A$131
Name Lakes: 'G-1 All Habitats'!$A$39:$A$49
Name LPAList: Lists!$A$1:$A$378
Name postdevelopmentimage: Start!$I$39:$O$53
Name postdevelopmentimageOS: Start!$I$60:$O$65
Name RetCatChecks: 'A-1 On-Site Habitat Baseline'!$AE$11:$AH$258
Name riparianencroachment1: 'G-7 WaterC'' Data'!$AA$4:$AA$6
Name riparianencroachment1: 'G-7 WaterC'' Data'!$AA$4:$AA$6
Name riparianencroachment2: 'G-7 WaterC'' Data'!$AA$7
Name riparianencroachment2: 'G-7 WaterC'' Data'!$AA$7
Name Rivercond1: 'G-7 WaterC'' Data'!$BB$3:$BB$7
Name Rivercond2: 'G-7 WaterC'' Data'!$BC$3
Name RiverCondition: 'G-7 WaterC'' Data'!$B$3:$X$3
Name RiverEnhanceTemporal: 'G-7 WaterC'' Data'!$B$4:$X$12
Name RiverHabitat: 'G-7 WaterC'' Data'!$B$4:$B$14
Name RiversEnhancment: 'G-7 WaterC'' Data'!$O$3:$X$5
Name Rocky_shore: 'G-1 All Habitats'!$A$105:$A$112
Name Sparsely_vegetated_land: 'G-1 All Habitats'!$A$50:$A$58

Sheet Introduction

Sheet Start
D8: 4.1 | E8: =IF(OR(F16="",F17=""), "'Completed by' and 'Date of metric completion' fields must be filled in ▲","")
D9: Project details
D11: Planning authority: | F11: Eastleigh Borough Council
D12: Project name: | F12: Chickenhall Lane
D13: Applicant: | F13: Highwood Group
D14: Application type: | F14: Full
D15: Planning application reference: | F15: TBC
D16: Completed by: | F16: FPCR Environment and Design Ltd
D17: Date of metric completion: | F17: 19.06.25
D18: Reviewer: | F18: APD / AU
D19: Calculation iteration: | F19: Issue
D20: Planning authority reviewer:
D21: Date of planning authority review:
D22: Target % net gain: | F22: 0.1 | I22: =IF(OR(F22>=10%,F22=""),"","Target set below 10% ▲")
D23: Irreplaceable habitat present at baseline: | F23: =IF(AND('Irreplaceable Habitats'!K32=0,'Irreplaceable Habitats'!K65=0,'Irreplaceable Habitats'!AP65=0,'Irreplaceable Habitats'!AP32=0),"No ✓","Yes ⚠") -> No ✓
D24: Total site area - including irreplaceable habitat area (hectares): | F24: ='A-1 On-Site Habitat Baseline'!H260 -> 0.6178 | I24: Irreplaceable habitat site area (hectares): | J24: ='Irreplaceable Habitats'!K33 -> 0
D25: Total off-site area - including irreplaceable habitat area (hectares): | F25: =IF('D-1 Off-Site Habitat Baseline'!H261=0, "N/A", 'D-1 Off-Site Habitat Baseline'!H261) -> 0.448 | I25: Irreplaceable habitat area off-site (hectares): | J25: =IF('Irreplaceable Habitats'!K66=0, "N/A", 'Irreplaceable Habitats'!K66) -> N/A
D27: Contains deviations from the statutory metric - this must be agreed with consenting body | I27: =IF(F27="Yes", "Only acceptable in exceptionally rare circumstances, ensure any deviations have been agreed with the consenting body ⚠", "")
D29: Cell style conventions
D30: ⚠ | F30: Attention required
D31: ▲ | F31: Input error/rules and principles not met
F32: Use of this cell is not appropriate
F33: Enter data
F34: Automatic lookup
F35: Result
D55: On-site baseline map reference number | I55: On-site post-intervention map reference number
D66: Off-site baseline map reference number | I66: Off-site post-intervention reference number

Sheet Main Menu
Q3: Tree helper
Q4: Tree size | R4: Number of trees and area (ha) for each condition state
R5: Poor | S5: Area | T5: Moderate | U5: Area | V5: Good | W5: Area
Q6: Small | R6: 29 | S6: =R6*'G-3 Multipliers'!$Z$4 -> 0.11807362 | U6: =T6*'G-3 Multipliers'!$Z$4 -> 0 | V6: 5 | W6: =V6*'G-3 Multipliers'!$Z$4 -> 0.02035752
Q7: Medium | S7: =R7*'G-3 Multipliers'!$Z$5 -> 0 | T7: 3 | U7: =T7*'G-3 Multipliers'!$Z$5 -> 0.048858049 | V7: 3 | W7: =V7*'G-3 Multipliers'!$Z$5 -> 0.048858049
Q8: Large | S8: =R8*'G-3 Multipliers'!$Z6 -> 0 | T8: 2 | U8: =T8*'G-3 Multipliers'!$Z6 -> 0.073287073 | V8: 2 | W8: =V8*'G-3 Multipliers'!$Z6 -> 0.073287073
Q9: Very large | S9: =R9*'G-3 Multipliers'!$Z7 -> 0 | U9: =T9*'G-3 Multipliers'!$Z7 -> 0 | W9: =V9*'G-3 Multipliers'!$Z7 -> 0
Q10: Total | R10: =SUM(R6:R9) -> 29 | S10: =SUM(S6:S9) -> 0.11807362 | T10: =SUM(T6:T9) -> 5 | U10: =SUM(U6:U9) -> 0.12214512 | V10: =SUM(V6:V9) -> 10 | W10: =SUM(W6:W9) -> 0.14250264

Sheet Unit shortfall summary
C2: Unit Shortfall by Tier/Module
C4: Tier | D4: Unit Shortfall
C5: A1 | D5: =IFERROR(IF(OR('Trading Summary Area Habitats'!$K$13<0,'Trading Summary WaterC''s'!$I$13<0),"ERROR",'Unit shortfall calculations'!G9),"Error") -> 0 | E5: =IF(D5=0,"",IF(D5>0,"▲","✓"))
C6: A2 | D6: =IFERROR(IF(OR('Trading Summary Area Habitats'!$K$13<0,'Trading Summary WaterC''s'!$I$13<0),"ERROR",'Unit shortfall calculations'!G10),"Error") -> 0 | E6: =IF(D6=0,"",IF(D6>0,"▲","✓"))
C7: A3 | D7: =IFERROR(IF(OR('Trading Summary Area Habitats'!$K$13<0,'Trading Summary WaterC''s'!$I$13<0),"ERROR",'Unit shortfall calculations'!G11),"Error") -> 0 | E7: =IF(D7=0,"",IF(D7>0,"▲","✓"))
C8: A4 | D8: =IFERROR(IF(OR('Trading Summary Area Habitats'!$K$13<0,'Trading Summary WaterC''s'!$I$13<0),"ERROR",'Unit shortfall calculations'!G12),"Error") -> 0 | E8: =IF(D8=0,"",IF(D8>0,"▲","✓"))
C9: A5 | D9: =IFERROR(IF(OR('Trading Summary Area Habitats'!$K$13<0,'Trading Summary WaterC''s'!$I$13<0),"ERROR",'Unit shortfall calculations'!G13),"Error") -> 0 | E9: =IF(D9=0,"",IF(D9>0,"▲","✓"))
C10: H | D10: =IFERROR(IF(OR('Trading Summary Area Habitats'!K13<0,'Trading Summary WaterC''s'!I13<0),"ERROR",'Unit shortfall calculations'!G14),"Error") -> 0 | E10: =IF(D10=0,"",IF(D10>0,"▲","✓"))
C11: W | D11: =IFERROR(IF(OR('Trading Summary Area Habitats'!K13<0,'Trading Summary WaterC''s'!I13<0),"ERROR",'Unit shortfall calculations'!G15),"Error") -> 0 | E11: =IF(D11=0,"",IF(D11>0,"▲","✓"))
D13: *The spatial risk multiplier has been applied to all unit shortfall values.
C15: =IF(OR('Trading Summary Area Habitats'!$K$13<0,'Trading Summary WaterC''s'!$I$13<0), "ERROR - This metric still includes losses of very high distinctiveness habitat. Losses of very high distinctiveness units must be compensated for through this metric or through bespoke compensation ▲", " ")

Sheet Results

Sheet Headline Results
B2: =IF(Start!$F$12="","",Start!$F$12) -> Chickenhall Lane | F2: =IF(OR(B56="This metric contains deviations from the statutory metric - these deviations are only acceptable in extremely rare circumstances and must be agreed with the consenting body ⚠",B57="You must specify if irreplaceable habitats are on-site at baseline ▲",B58="Unacceptable loss of irreplaceable habitat recorded - no bespoke compensation for lossess has been agreed ▲",),"Errors flagged below - please investigate further ▲","")
B3: =MID(CELL("filename",A1),FIND("]",CELL("filename",A1))+1,256) -> Headline Results
B5: Scroll down for final results ⚠
B8: On-site baseline | F8: Habitat units | H8: =IFERROR('A-1 On-Site Habitat Baseline'!Q259,"Check Data ⚠") -> 2.68433
F9: Hedgerow units | H9: =IFERROR('B-1 On-Site Hedge Baseline'!N258,"Check Data ⚠") -> 0.233
F10: Watercourse units | H10: ='C-1 On-Site WaterC'' Baseline'!R258 -> 0
B12: On-site post-intervention (Including habitat retention, creation & enhancement) | F12: Habitat units | H12: =IFERROR('A-2 On-Site Habitat Creation'!Y257+'A-3 On-Site Habitat Enhancement'!AN258+'A-1 On-Site Habitat Baseline'!U259+'A-1 On-Site Habitat Baseline'!AT259,"Check Data ⚠") -> 1.7006929
F13: Hedgerow units | H13: =IFERROR('B-2 On-Site Hedge Creation'!W260+'B-3 On-Site Hedge Enhancement'!AH258+'B-1 On-Site Hedge Baseline'!R258,"Check Data⚠") -> 0.52141468
F14: Watercourse units | H14: =IFERROR('C-2 On-Site WaterC'' Creation'!Z260 + 'C-3 On-Site WaterC'' Enhancement'!AM258+'C-1 On-Site WaterC'' Baseline'!W258+'C-1 On-Site WaterC'' Baseline'!AT258,"Check Data ⚠") -> 0
B16: On-site net change (units & percentage) | F16: Habitat units | H16: =IFERROR(H12-H8, "Error ▲") -> -0.9836371 | J16: =IF(AND(H8=0, H12=0),0,IF(AND(H8=0,H12>0),"N/A",IFERROR((H12/H8)-1,"Check Data ⚠"))) -> -0.36643673 | K16: =IF(J16="N/A","Zero baseline units - % cannot be calculated",IF(OR(AND(H8=0,H12=0),J16>=Start!$F$22)," ","On-site net gain is less than target set ⚠")) -> On-site net gain is less than target set ⚠
F17: Hedgerow units | H17: =IFERROR(H13-H9, "Error ▲") -> 0.28841468 | J17: =IF(AND(H9=0, H13=0),0,IF(AND(H9=0,H13>0),"N/A",IFERROR((H13/H9)-1,"Check Data ⚠"))) -> 1.2378312 | K17: =IF(J17="N/A","Zero baseline units - % cannot be calculated",IF(OR(AND(H9=0,H13=0),J17>=Start!$F$22)," ","On-site net gain is less than target set ⚠"))
F18: Watercourse units | H18: =IFERROR(H14-H10, "Error ▲") -> 0 | J18: =IF(AND(H10=0, H14=0),0,IF(AND(H10=0,H14>0),"N/A",IFERROR((H14/H10)-1,"Check Data ⚠"))) -> 0 | K18: =IF(J18="N/A","Zero baseline units - % cannot be calculated",IF(OR(AND(H10=0,H14=0),J18>=Start!$F$22)," ","On-site net gain is less than target set ⚠"))
B19: {=IF(OR('Off-site gain site summary'!M7:M107="Error - gain sites must be postive ▲",'Off-site gain site summary'!Z7:Z107="Error - gain sites must be positive ▲",'Off-site gain site summary'!AM7:AM107="Error - gain sites must be postive ▲"),"Error - off-site gain sites must be postive ▲","")}
B20: Off-site baseline | F20: Habitat units | H20: =IFERROR('D-1 Off-Site Habitat Baseline'!T259,"Check Data ⚠") -> 3.38146 | L20: =IFERROR('D-1 Off-Site Habitat Baseline'!Q259,"Check Data ⚠") -> 3.38146
F21: Hedgerow units | H21: =IFERROR('E-1 Off-Site Hedge Baseline'!Q258,"Check Data ⚠") -> 0 | L21: =IFERROR('E-1 Off-Site Hedge Baseline'!N258,"Check Data ⚠") -> 0
F22: Watercourse units | H22: =IFERROR('F-1 Off-Site WaterC'' Baseline'!U258,"Check Data ⚠") -> 1.598868 | L22: =IFERROR('F-1 Off-Site WaterC'' Baseline'!R258,"Check Data ⚠") -> 1.598868
B24: Off-site post-intervention (Including habitat retention, creation & enhancement) | F24: Habitat units | H24: =IFERROR('D-1 Off-Site Habitat Baseline'!$X$259+'D-2 Off-Site Habitat Creation'!AB257+'D-3 Off-Site Habitat Enhancment'!AQ259+'D-1 Off-Site Habitat Baseline'!AS259,"Check Data ⚠") -> 5.2082928 | L24: =IFERROR('D-1 Off-Site Habitat Baseline'!$AY$259+'D-2 Off-Site Habitat Creation'!AA257+'D-3 Off-Site Habitat Enhancment'!AP259,"Check Data ⚠") -> 5.2082928
F25: Hedgerow units | H25: =IFERROR('E-1 Off-Site Hedge Baseline'!U258+'E-2 Off-Site Hedge Creation'!Z260+'E-3 Off-Site Hedge Enhancement'!AK258,"Check Data ⚠") -> 0 | L25: =IFERROR('E-1 Off-Site Hedge Baseline'!AY258+'E-2 Off-Site Hedge Creation'!Y260+'E-3 Off-Site Hedge Enhancement'!AJ258,"Check Data ⚠") -> 0
F26: Watercourse units | H26: =IFERROR('F-1 Off-Site WaterC'' Baseline'!Z258+'F-2 Off-Site WaterC'' Creation'!AC260+'F-3 Off-Site WaterC Enhancement'!AP258+'F-1 Off-Site WaterC'' Baseline'!AT258,"Check Data ⚠") -> 1.864656 | L26: =IFERROR('F-1 Off-Site WaterC'' Baseline'!BA258+'F-2 Off-Site WaterC'' Creation'!AB260+'F-3 Off-Site WaterC Enhancement'!AO258,"Check Data ⚠") -> 1.864656
B28: Off-site net change (units & percentage) | F28: Habitat units | H28: =IFERROR(H24-H20, "Error ▲") -> 1.8268328 | J28: =IF(AND(H20=0, H24=0), 0,IF(AND(H20=0,H24>0),"N/A",IFERROR((H24/H20)-1,"Check Data ⚠"))) -> 0.54024972 | K28: =IF(J28="N/A","Zero baseline units - % cannot be calculated","")
F29: Hedgerow units | H29: =IFERROR(H25-H21, "Error ▲") -> 0 | J29: =IF(AND(H21=0, H25=0), 0,IF(AND(H21=0,H25>0),"N/A",IFERROR((H25/H21)-1,"Check Data ⚠"))) -> 0 | K29: =IF(J29="N/A","Zero baseline units - % cannot be calculated","")
F30: Watercourse units | H30: =IFERROR(H26-H22, "Error ▲") -> 0.265788 | J30: =IF(AND(H22=0, H26=0), 0,IF(AND(H22=0,H26>0),"N/A",IFERROR((H26/H22)-1,"Check Data ⚠"))) -> 0.16623511 | K30: =IF(J30="N/A","Zero baseline units - % cannot be calculated","")
B32: Off-site unit change (with Spatial Risk Multiplier applied) | F32: Habitat units | H32: =IF((H28<=0),"N/A",(L24-L20)) -> 1.8268328 | J32: =IF(H32="N/A", "SRM only applies where unit change is positive (uplift)", " ")
F33: Hedgerow units | H33: =IF((H29<=0),"N/A",(L25-L21)) -> N/A | J33: =IF(H33="N/A", "SRM only applies where unit change is positive", " ") -> SRM only applies where unit change is positive
F34: Watercourse units | H34: =IF((H30<=0),"N/A",(L26-L22)) -> 0.265788 | J34: =IF(H34="N/A", "SRM only applies where unit change is positive", " ")
B37: Combined net unit change (Including all on-site & off-site habitat retention, creation & enhancement) | F37: Habitat units | H37: =IFERROR((H16)+(H28),"Check Data ⚠") -> 0.84319572
F38: Hedgerow units | H38: =IFERROR((H17)+(H29),"Check Data ⚠") -> 0.28841468
F39: Watercourse units | H39: =IFERROR((H18)+(H30),"Check Data ⚠") -> 0.265788
B41: Spatial risk multiplier (SRM) deductions | F41: Habitat units | H41: =IFERROR(H28-H32, "0.00") -> 0
F42: Hedgerow units | H42: =IFERROR(H29-H33, "0.00") -> 0.00
F43: Watercourse units | H43: =IFERROR(H30-H34, "0.00") -> 0
B44: {=IF(OR('A-1 On-Site Habitat Baseline'!Y11:Y258="Yes",'D-1 Off-Site Habitat Baseline'!AB14:AB258="Yes", 'C-1 On-Site WaterC'' Baseline'!AA10:AA257="Yes", 'F-1 Off-Site WaterC'' Baseline'!AD10:AD257="Yes"),"Ensure bespoke compensation has been agreed where stated ⚠","")}
B45: FINAL RESULTS
B47: Total net unit change (Including all on-site & off-site habitat retention, creation & enhancement) | F47: Habitat units | H47: =IFERROR(IF(H32="N/A",(H12-H8)+(H28),(H12-H8)+(H32)),"Check Data ⚠") -> 0.84319572
F48: Hedgerow units | H48: =IFERROR(IF(H33="N/A",(H13-H9)+(H29),(H13-H9)+(H33)),"Check Data ⚠") -> 0.28841468
F49: Watercourse units | H49: =IFERROR(IF(H34="N/A",(H14-H10)+(H30),(H14-H10)+(H34)),"Check Data ⚠") -> 0.265788
B51: Total net % change (Including all on-site & off-site habitat retention, creation & enhancement) | F51: Habitat units | H51: =IF(H47=0,0,IF(H8=0,"N/A",IFERROR((H47/H8),"Check Data ⚠"))) -> 0.31411776 | J51: =IF(H51="N/A","0 baseline units - % cannot be calculated",IF(OR(AND(H8=0,H12=0),H51>=Start!$F$22)," ","Total net gain achieved is less than target set ▲"))
F52: Hedgerow units | H52: =IF(AND(H48=0,H9=0),0,IF(H9=0,"N/A",IFERROR((H48/H9),"Check Data ⚠"))) -> 1.2378312 | J52: =IF(H52="N/A","0 baseline units - % cannot be calculated",IF(OR(AND(H9=0,H13=0),H52>=Start!$F$22)," ","Total net gain achieved is less than target set ▲"))
F53: Watercourse units | H53: =IF(H49=0,0,IF(H10=0,"N/A",IFERROR((H49/H10),"Check Data ⚠"))) -> N/A | J53: =IF(H53="N/A","0 baseline units - % cannot be calculated",IF(OR(AND(H10=0,H14=0),H53>=Start!$F$22)," ","Total net gain achieved is less than target set ▲")) -> 0 baseline units - % cannot be calculated
B55: Trading rules satisfied? | F55: {=IF(OR('Trading Summary Area Habitats'!G5="No ▲",'Trading Summary Area Habitats'!G6="No ▲",'Trading Summary Area Habitats'!G7="No ▲",'Trading Summary Area Habitats'!G8="No ▲",'Trading Summary Hedgerows'!F5="No ▲",'Trading Summary Hedgerows'!F6:H6="No ▲", 'Trading Summary Hedgerows'!F7="No ▲", 'Trading Summary Hedgerows'!F8="No ▲", 'Trading Summary Hedgerows'!F9="No ▲", 'Trading Summary WaterC''s'!G5="No ▲", 'Trading Summary WaterC''s'!G6="No ▲", 'Trading Summary WaterC''s'!G7="No ▲", 'Trading Summary WaterC''s'!G8="No ▲", B58="Unacceptable loss of irreplaceable habitat recorded - no bespoke compensation for lossess has been agreed ▲"),"No - Check Trading Summaries ▲","Yes ✓")} -> Yes ✓
...

Sheet Detailed Results
B2: =IF(Start!$F$12="","",Start!$F$12) -> Chickenhall Lane
B3: =MID(CELL("filename",A1),FIND("]",CELL("filename",A1))+1,256) -> Detailed Results
B7: Summary Figures
B10: Net project biodiversity units (Including all on-site & off-site habitat retention / creation) | F10: Habitat units | H10: =IFERROR('Headline Results'!$H$47:$I$47,"Check Data ⚠") -> 0.84319572
F11: Hedgerow units | H11: =IFERROR('Headline Results'!$H$48:$I$48,"Check Data ⚠") -> 0.28841468
F12: Watercourse units | H12: =IFERROR('Headline Results'!$H$49:$I$49,"Check Data ⚠") -> 0.265788
B14: Total project biodiversity % change (Including all on-site & off-site habitat creation + retained habitats) | F14: Habitat units | H14: =IFERROR('Headline Results'!$H$51:$I$51,"Check Data ⚠") -> 0.31411776
F15: Hedgerow units | H15: =IFERROR('Headline Results'!$H$52:$I$52,"Check Data ⚠") -> 1.2378312
F16: Watercourse units | H16: =IFERROR('Headline Results'!$H$53:$I$53,"Check Data ⚠") -> N/A
B18: Combined habitat retention and enhancement
D20: Habitats | F20: Hedgerows | H20: Watercourses
B21: Total on-site and off-site baseline area / length | D21: =IFERROR('A-1 On-Site Habitat Baseline'!$H259+'D-1 Off-Site Habitat Baseline'!H259,"Error ▲") -> 1.3631 | F21: ='B-1 On-Site Hedge Baseline'!$E$258+'E-1 Off-Site Hedge Baseline'!$E$258 -> 0.123 | H21: ='C-1 On-Site WaterC'' Baseline'!$E$258+'F-1 Off-Site WaterC'' Baseline'!$E$258 -> 0.149
B22: Total on-site and off-site baseline units | D22: =IFERROR('A-1 On-Site Habitat Baseline'!$Q259+'D-1 Off-Site Habitat Baseline'!T259,"Error ▲") -> 6.06579 | F22: ='B-1 On-Site Hedge Baseline'!$N$258+'E-1 Off-Site Hedge Baseline'!$Q$258 -> 0.233 | H22: ='C-1 On-Site WaterC'' Baseline'!$R$258+'F-1 Off-Site WaterC'' Baseline'!$U$258 -> 1.598868
B24: Total on-site and off-site baseline area / length retained | D24: =IFERROR('A-1 On-Site Habitat Baseline'!$S259+'D-1 Off-Site Habitat Baseline'!V259,"Error ▲") -> 0.3583 | F24: ='B-1 On-Site Hedge Baseline'!$P$258+'E-1 Off-Site Hedge Baseline'!$S$258 -> 0 | H24: ='C-1 On-Site WaterC'' Baseline'!U258+'F-1 Off-Site WaterC'' Baseline'!X258 -> 0
B25: Total on-site and off-site baseline units retained | D25: =IFERROR('A-1 On-Site Habitat Baseline'!$U259+'D-1 Off-Site Habitat Baseline'!X259,"Error ▲") -> 2.77449 | F25: ='B-1 On-Site Hedge Baseline'!R258+'E-1 Off-Site Hedge Baseline'!U258 -> 0 | H25: ='C-1 On-Site WaterC'' Baseline'!W258+'F-1 Off-Site WaterC'' Baseline'!Z258 -> 0
B27: Total on-site and off-site area / length proposed for enhancement | D27: =IFERROR('A-1 On-Site Habitat Baseline'!$T259+'D-1 Off-Site Habitat Baseline'!W259,"Error ▲") -> 0 | F27: ='B-1 On-Site Hedge Baseline'!$Q$258+'E-1 Off-Site Hedge Baseline'!$T$258 -> 0.11 | H27: ='C-1 On-Site WaterC'' Baseline'!V258+'F-1 Off-Site WaterC'' Baseline'!Y258 -> 0.149
B28: Total on-site and off-site baseline units proposed for enhancement | D28: =IFERROR('A-1 On-Site Habitat Baseline'!$V259+'D-1 Off-Site Habitat Baseline'!Y259,"Error ▲") -> 0 | F28: ='B-1 On-Site Hedge Baseline'!$S$258+'E-1 Off-Site Hedge Baseline'!$V$258 -> 0.22 | H28: ='C-1 On-Site WaterC'' Baseline'!X258+'F-1 Off-Site WaterC'' Baseline'!AA258 -> 1.598868
B30: Total on-site and off-site baseline area / length lost | D30: =IFERROR('A-1 On-Site Habitat Baseline'!$W259+'D-1 Off-Site Habitat Baseline'!Z259,"Error ▲") -> 1.0048 | F30: ='B-1 On-Site Hedge Baseline'!$T$258+'E-1 Off-Site Hedge Baseline'!$W$258 -> 0.013 | H30: ='C-1 On-Site WaterC'' Baseline'!Y258+'F-1 Off-Site WaterC'' Baseline'!AB258 -> 0
B31: Total on-site and off-site baseline units lost | D31: =IFERROR('A-1 On-Site Habitat Baseline'!$X259+'D-1 Off-Site Habitat Baseline'!AA259,"Error ▲") -> 3.2913 | F31: ='B-1 On-Site Hedge Baseline'!$U$258+'E-1 Off-Site Hedge Baseline'!$X$258 -> 0.013 | H31: ='C-1 On-Site WaterC'' Baseline'!Z258+'F-1 Off-Site WaterC'' Baseline'!AC258 -> 0
A33: Area Habitats Area Habitats Area Habitats
B34: Area habitats
B36: On-site change by broad habitat type | J36: Combined area lost from baseline(s) by distinctiveness band
C37: Baseline | E37: Post-development on-site | G37: On-site change
B38: Habitat group | C38: On-site existing area | D38: On-site existing value | E38: On-site proposed area | F38: On-site proposed value | G38: On-site area change | H38: On-site unit change | J38: Category | K38: Area lost (hectares) | L38: Area lost (%)
B39: Cropland | C39: ='G-2 Habitat groups'!$AK$4 -> 0 | D39: ='G-2 Habitat groups'!$AL$4 -> 0 | E39: ='G-2 Habitat groups'!$AM$4 -> 0 | F39: ='G-2 Habitat groups'!$AN$4 -> 0 | G39: =E39-C39 -> 0 | H39: =F39-D39 -> 0
B40: Grassland | C40: ='G-2 Habitat groups'!$AK$5 -> 0.4638 | D40: ='G-2 Habitat groups'!$AL$5 -> 1.45889 | E40: ='G-2 Habitat groups'!$AM$5 -> 0.1669 | F40: ='G-2 Habitat groups'!$AN$5 -> 0.65982628 | G40: =E40-C40 -> -0.2969 | H40: =F40-D40 -> -0.79906372 | J40: ='G-1 All Habitats'!$V$3 -> V.High | K40: =SUMIF('A-1 On-Site Habitat Baseline'!$I$11:$I$258,'Detailed Results'!J40,'A-1 On-Site Habitat Baseline'!$W$11:$W$258)+SUMIF('D-1 Off-Site Habitat Baseline'!$I$11:$I$258,'Detailed Results'!J40,'D-1 Off-Site Habitat Baseline'!$Z$11:$Z$258) -> 0 | L40: =IF(K40=0,"",(K40/(SUM($K$40:$K$49)))*100)
B41: Heathland and shrub | C41: ='G-2 Habitat groups'!$AK$6 -> 0 | D41: ='G-2 Habitat groups'!$AL$6 -> 0 | E41: ='G-2 Habitat groups'!$AM$6 -> 0.0298 | F41: ='G-2 Habitat groups'!$AN$6 -> 0.1322822 | G41: =E41-C41 -> 0.0298 | H41: =F41-D41 -> 0.1322822
B42: Lakes | C42: ='G-2 Habitat groups'!$AK$7 -> 0 | D42: ='G-2 Habitat groups'!$AL$7 -> 0 | E42: ='G-2 Habitat groups'!$AM$7 -> 0 | F42: ='G-2 Habitat groups'!$AN$7 -> 0 | G42: =E42-C42 -> 0 | H42: =F42-D42 -> 0 | J42: ='G-1 All Habitats'!$V$4 -> High | K42: =SUMIF('A-1 On-Site Habitat Baseline'!$I$11:$I$258,'Detailed Results'!J42,'A-1 On-Site Habitat Baseline'!$W$11:$W$258)+SUMIF('D-1 Off-Site Habitat Baseline'!$I$11:$I$258,'Detailed Results'!J42,'D-1 Off-Site Habitat Baseline'!$Z$11:$Z$258) -> 0 | L42: =IF(K42=0,"",(K42/(SUM($K$40:$K$49)))*100)
B43: Sparsely vegetated land | C43: ='G-2 Habitat groups'!$AK$8 -> 0.076 | D43: ='G-2 Habitat groups'!$AL$8 -> 0.1748 | E43: ='G-2 Habitat groups'!$AM$8 -> 0.0215 | F43: ='G-2 Habitat groups'!$AN$8 -> 0.04945 | G43: =E43-C43 -> -0.0545 | H43: =F43-D43 -> -0.12535
B44: Urban | C44: ='G-2 Habitat groups'!$AK$9 -> 0.078 | D44: ='G-2 Habitat groups'!$AL$9 -> 0.07636 | E44: ='G-2 Habitat groups'!$AM$9 -> 0.3996 | F44: ='G-2 Habitat groups'!$AN$9 -> 0.19772406 | G44: =E44-C44 -> 0.3216 | H44: =F44-D44 -> 0.12136406 | J44: ='G-1 All Habitats'!$V5 -> Medium | K44: =SUMIF('A-1 On-Site Habitat Baseline'!$I$11:$I$258,'Detailed Results'!J44,'A-1 On-Site Habitat Baseline'!$W$11:$W$258)+SUMIF('D-1 Off-Site Habitat Baseline'!$I$11:$I$258,'Detailed Results'!J44,'D-1 Off-Site Habitat Baseline'!$Z$11:$Z$258) -> 0.3244 | L44: =IF(K44=0,"",(K44/(SUM($K$40:$K$49)))*100) -> 32.285032
B45: Wetland | C45: ='G-2 Habitat groups'!$AK$10 -> 0 | D45: ='G-2 Habitat groups'!$AL$10 -> 0 | E45: ='G-2 Habitat groups'!$AM$10 -> 0 | F45: ='G-2 Habitat groups'!$AN$10 -> 0 | G45: =E45-C45 -> 0 | H45: =F45-D45 -> 0
B46: Woodland and forest | C46: ='G-2 Habitat groups'!$AK$11 -> 0 | D46: ='G-2 Habitat groups'!$AL$11 -> 0 | E46: ='G-2 Habitat groups'!$AM$11 -> 0 | F46: ='G-2 Habitat groups'!$AN$11 -> 0 | G46: =E46-C46 -> 0 | H46: =F46-D46 -> 0 | J46: ='G-1 All Habitats'!$V$6 -> Low | K46: =SUMIF('A-1 On-Site Habitat Baseline'!$I$11:$I$258,'Detailed Results'!J46,'A-1 On-Site Habitat Baseline'!$W$11:$W$258)+SUMIF('D-1 Off-Site Habitat Baseline'!$I$11:$I$258,'Detailed Results'!J46,'D-1 Off-Site Habitat Baseline'!$Z$11:$Z$258) -> 0.6356 | L46: =IF(K46=0,"",(K46/(SUM($K$40:$K$49)))*100) -> 63.256369
B47: Intertidal sediment | C47: ='G-2 Habitat groups'!$AK$12 -> 0 | D47: ='G-2 Habitat groups'!$AL$12 -> 0 | E47: ='G-2 Habitat groups'!$AM$12 -> 0 | F47: ='G-2 Habitat groups'!$AN$12 -> 0 | G47: =E47-C47 -> 0 | H47: =F47-D47 -> 0
B48: Coastal saltmarsh | C48: ='G-2 Habitat groups'!$AK$13 -> 0 | D48: ='G-2 Habitat groups'!$AL$13 -> 0 | E48: ='G-2 Habitat groups'!$AM$13 -> 0 | F48: ='G-2 Habitat groups'!$AN$13 -> 0 | G48: =E48-C48 -> 0 | H48: =F48-D48 -> 0 | J48: ='G-1 All Habitats'!$V$7 -> V.Low | K48: =SUMIF('A-1 On-Site Habitat Baseline'!$I$11:$I$258,'Detailed Results'!J48,'A-1 On-Site Habitat Baseline'!$W$11:$W$258)+SUMIF('D-1 Off-Site Habitat Baseline'!$I$11:$I$258,'Detailed Results'!J48,'D-1 Off-Site Habitat Baseline'!$Z$11:$Z$258) -> 0.0448 | L48: =IF(K48=0,"",(K48/(SUM($K$40:$K$49)))*100) -> 4.4585987
B49: Rocky shore | C49: ='G-2 Habitat groups'!$AK$14 -> 0 | D49: ='G-2 Habitat groups'!$AL$14 -> 0 | E49: ='G-2 Habitat groups'!$AM$14 -> 0 | F49: ='G-2 Habitat groups'!$AN$14 -> 0 | G49: =E49-C49 -> 0 | H49: =F49-D49 -> 0
B50: Coastal lagoons | C50: ='G-2 Habitat groups'!$AK$15 -> 0 | D50: ='G-2 Habitat groups'!$AL$15 -> 0 | E50: ='G-2 Habitat groups'!$AM$15 -> 0 | F50: ='G-2 Habitat groups'!$AN$15 -> 0 | G50: =E50-C50 -> 0 | H50: =F50-D50 -> 0
B51: Intertidal hard structures | C51: ='G-2 Habitat groups'!$AK$16 -> 0 | D51: ='G-2 Habitat groups'!$AL$16 -> 0 | E51: ='G-2 Habitat groups'!$AM$16 -> 0 | F51: ='G-2 Habitat groups'!$AN$16 -> 0 | G51: =E51-C51 -> 0 | H51: =F51-D51 -> 0
B52: Watercourse footprint | C52: ='G-2 Habitat groups'!$AK$18 -> 0 | D52: ='G-2 Habitat groups'!$AL$18 -> 0 | E52: ='G-2 Habitat groups'!$AM$18 -> 0 | F52: ='G-2 Habitat groups'!$AN$18 -> 0 | G52: =E52-C52 -> 0 | H52: =F52-D52 -> 0
B53: Individual trees | C53: ='G-2 Habitat groups'!$AK$17 -> 0.1059 | D53: ='G-2 Habitat groups'!$AL$17 -> 0.97428 | E53: ='G-2 Habitat groups'!$AM$17 -> 0.14657362 | F53: ='G-2 Habitat groups'!$AN$17 -> 0.66141036 | G53: =E53-C53 -> 0.040673618 | H53: =F53-D53 -> -0.31286964
B56: Off-site change by broad habitat type
...

Sheet D-3 Off-Site Habitat Enhancment
E2: =CONCATENATE("Project Name:", " ", Start!F12, " ", "Map Reference:", " ", Start!K66) -> Project Name: Chickenhall Lane Map Reference: | R2: Area habitat summary | V2: {=IF(OR(Y12:Y258 = "Fairly Good", Y12:Y258 = "Fairly Poor"),"A 'Fairly' Category has been used - check evidence to ensure this is appropriate ⚠", "")} | AD2: =IF(OR(COUNTIF($AD$12:AD257,"*30+*")>0,COUNTIF(AH12:AH257,"*30+*")>0),"Note; Habitat selected has a time to target condition greater than 30 years. Non standard agreement may be required. ⚠","")
E3: =MID(CELL("filename",E1),FIND("]",CELL("filename",E1))+1,256) -> D-3 Off-Site Habitat Enhancment | R3: Total Net Unit Change | T3: ='Headline Results'!H47 -> 0.84319572
R4: Total Net % Change | T4: ='Headline Results'!H51 -> 0.31411776
H5: {=IF(OR(AY12:AY257="Yes"), "👁 Enhanced irreplaceable habitats highlighted below ", "")} | R5: Trading Rules Satisfied | T5: {=IF(OR('Trading Summary Area Habitats'!G5:G8="No ▲"), "No - check trading summaries ▲", "Yes ✓")} -> Yes ✓ | AD5: =IF(Q12<>A12,"Change in broad habitat type detected. Check compliance with guidance.","")
R6: {=IF(OR(E11:E258="watercourse footprint"),"Please ensure the watercourse details for any watercourse footprints recorded are included in the watercourse tabs ⚠","")}
Q9: Post intervention habitats
F10: Baseline habitats | Q10: Proposed Habitat (Broad habitat pre-populated but can be overridden) | T10: Change in distinctiveness and condition | V10: Area (hectares) | W10: Distinctiveness | X10: Score | Y10: Condition | Z10: Score | AA10: Strategic significance | AD10: Temporal multiplier | AJ10: Difficulty multipliers | AN10: Spatial risk multiplier | AP10: Habitat units delivered (inc SRM) | AQ10: Habitat units delivered | AR10: Comments
A11: Broad Habitat | B11: Habitat | C11: Condition Group | E11: Baseline ref | F11: Baseline habitat | G11: Total habitat area (hectares) | H11: Baseline distinctiveness band | I11: Baseline distinctiveness score | J11: Baseline condition category | K11: Baseline condition score | L11: Baseline strategic significance category | M11: Baseline strategic significance score | N11: Baseline habitat units | O11: Required Action to Meet Trading Rules | P11: Conditional Data Validation | Q11: Proposed Broad Habitat | R11: Proposed Habitat | S11: Proposed habitat (Pre-Populated but can be overridden) | T11: Distinctiveness change | U11: Condition change | AA11: Strategic significance | AB11: Strategic significance | AC11: Strategic significance multiplier | AD11: Standard time to target condition (years) | AE11: Habitat enhanced in advance (years) | AF11: Delay in starting habitat enhancement (years) | AG11: Standard or adjusted time to target condition | AH11: Final time to target condition (years) | AI11: Final time to target multiplier | AJ11: Difficulty of enhancement category | AK11: Applied difficulty multiplier | AL11: Difficulty | AM11: Difficulty multiplier applied | AN11: Spatial risk category | AO11: Spatial risk multiplier | AR11: User comments | AS11: Planning authority comments | AT11: Habitat reference | AU11: Off-site reference | AY11: Irreplaceable habitat
A12: =IF(E12="","",IF(ISNA(VLOOKUP($E12,'D-1 Off-Site Habitat Baseline'!$D$1:$O$258,2,FALSE)),"",(VLOOKUP($E12,'D-1 Off-Site Habitat Baseline'!$D$1:$O$258,2,FALSE)))) | B12: =IF(E12="","",IF(ISNA(VLOOKUP($E12,'D-1 Off-Site Habitat Baseline'!$D$1:$O$258,3,FALSE)),"",(VLOOKUP($E12,'D-1 Off-Site Habitat Baseline'!$D$1:$O$258,3,FALSE)))) | C12: =IFERROR(INDEX('G-8 Condition Look up'!$I$4:$I$135,MATCH(S12,'G-8 Condition Look up'!$A$4:$A$135,0)),"") | E12: ='D-1 Off-Site Habitat Baseline'!AP11 | F12: =IF(E12="","",IF(ISNA(VLOOKUP($E12,'D-1 Off-Site Habitat Baseline'!$D$1:$ZZ$258,45,FALSE)),"",(VLOOKUP($E12,'D-1 Off-Site Habitat Baseline'!$D$1:$ZZ$258,45,FALSE)))) | G12: =IF(E12="","",IF(ISNA(VLOOKUP($E12,'D-1 Off-Site Habitat Baseline'!$D$1:$O$258,5,FALSE)),"",(VLOOKUP($E12,'D-1 Off-Site Habitat Baseline'!$D$1:$O$258,5,FALSE)))) | H12: =IF(E12="","",IF(ISNA(VLOOKUP($E12,'D-1 Off-Site Habitat Baseline'!$D$1:$O$258,6,FALSE)),"",(VLOOKUP($E12,'D-1 Off-Site Habitat Baseline'!$D$1:$O$258,6,FALSE)))) | I12: =IF(E12="","",IF(ISNA(VLOOKUP($E12,'D-1 Off-Site Habitat Baseline'!$D$1:$O$258,7,FALSE)),"",(VLOOKUP($E12,'D-1 Off-Site Habitat Baseline'!$D$1:$O$258,7,FALSE)))) | J12: =IF(E12="","",IF(ISNA(VLOOKUP($E12,'D-1 Off-Site Habitat Baseline'!$D$1:$O$258,8,FALSE)),"",(VLOOKUP($E12,'D-1 Off-Site Habitat Baseline'!$D$1:$O$258,8,FALSE)))) | K12: =IF(E12="","",IF(ISNA(VLOOKUP($E12,'D-1 Off-Site Habitat Baseline'!$D$1:$O$258,9,FALSE)),"",(VLOOKUP($E12,'D-1 Off-Site Habitat Baseline'!$D$1:$O$258,9,FALSE)))) | L12: =IF(E12="","",IF(ISNA(VLOOKUP($E12,'D-1 Off-Site Habitat Baseline'!$D$1:$O$258,11,FALSE)),"",(VLOOKUP($E12,'D-1 Off-Site Habitat Baseline'!$D$1:$O$258,11,FALSE)))) | M12: =IF(E12="","",IF(ISNA(VLOOKUP($E12,'D-1 Off-Site Habitat Baseline'!$D$1:$O$258,12,FALSE)),"",(VLOOKUP($E12,'D-1 Off-Site Habitat Baseline'!$D$1:$O$258,12,FALSE)))) | N12: =IF(E12="","",IF(ISNA(VLOOKUP($E12,'D-1 Off-Site Habitat Baseline'!$D$1:$AA$258,17,FALSE)),"",(VLOOKUP($E12,'D-1 Off-Site Habitat Baseline'!$D$1:$AA$258,17,FALSE)))) | O12: =IF(E12="","",IF(ISNA(VLOOKUP($E12,'D-1 Off-Site Habitat Baseline'!$D$1:$AA$258,13,FALSE)),"",(VLOOKUP($E12,'D-1 Off-Site Habitat Baseline'!$D$1:$AA$258,13,FALSE)))) | P12: =IFERROR(INDEX('G-1 All Habitats'!$AG$49:$AG$63,MATCH(Q12,'G-1 All Habitats'!$AF$27:$AF$41,0)),"") | S12: =IFERROR(INDEX('G-1 All Habitats'!$B$3:$B$135,MATCH(R12,'G-1 All Habitats'!$A$3:$A$135,0)),"") | T12: =IF(E12="","",IF(AND(LEFT(O12,6)="Same d",I12>X12),"Error - Trading rules not satisfied ▲",IF(AND(LEFT(O12,6)="Same b",AND(LEFT(F12,5)<>LEFT(S12,5),I12>X12)),"Error - Trading rules not satisfied ▲",IF(AND(LEFT(O12,6)="Same h",F12<>S12),"Error - Trading rules not satisfied ▲",IF(AND(LEFT(O12,6)="Bespok",F12<>S12),"Error - Trading rules not satisfied ▲",IF(X12<I12,"Error Trading Down ▲", IF(AND(R12="Littoral seagrass",F12<>"Intertidal sediment - Littoral seagrass", F12<>"Intertidal sediment - Littoral sand"),"Error - Enhancement not possible ▲",IF(AND(R12="Artificial hard structures with integrated greening of grey infrastructure (IGGI)",F12<>"Intertidal hard structures - Artificial hard structures with integrated greening of grey infrastructure (IGGI)", F12<>"Intertidal hard structures - Artificial hard structures", F12<>"Intertidal hard structures - Artificial features of hard structures"),"Error - Enhancement not possible ▲",H12&" - "&W12)))))))) | U12: =IF(F12="","",IF(AND(S12<>F12,AY12="Yes"),"Error you cannot replace an irreplaceable habitat ▲",IF(AND(LEFT(F12,55)<>LEFT(S12,55),T12= "High - High"),"Error - Not like for like ▲",IF(AND(I12=X12,K12>Z12),"Error - Can not reduce condition ▲",IF(K12>Z12, "Error - condition cannot be reduced ▲", IF(AND(I12=X12,K12=Z12),"Error - No enhancement ▲",IF(X12<I12,"Error Trading Down ▲",IF(AND(F12<>S12,I12<X12),"Lower Distinctiveness Habitat"&" - "&Y12,J12&" - "&Y12)))))))) | V12: =IF(S12="","",VLOOKUP(E12,BaselineHabOffsite,20,FALSE)) | W12: =IF(S12="","",VLOOKUP(S12,'G-1 All Habitats'!$B$2:$M$135,10,FALSE)) | X12: =IFERROR(VLOOKUP(W12,'G-1 All Habitats'!$V$3:$W$7,2,FALSE),"") | Z12: =IFERROR(INDEX('G-8 Condition Look up'!$A$3:$H$135,MATCH(S12,'G-8 Condition Look up'!$A$3:$A$135,0),MATCH(Y12,'G-8 Condition Look up'!$A$3:$H$3,0)),"") | AB12: =IF(AA12="","",IF(VLOOKUP(AA12,'G-3 Multipliers'!$L$3:$N$6,2,FALSE)=0,"Spatial Data Missing ⚠",VLOOKUP(AA12,'G-3 Multipliers'!$L$3:$N$6,2,FALSE))) | AC12: =IF(AA12="","",IF(VLOOKUP(AA12,'G-3 Multipliers'!$L$3:$N$6,3,FALSE)=0,"Spatial Data Missing ⚠",VLOOKUP(AA12,'G-3 Multipliers'!$L$3:$N$6,3,FALSE))) | AD12: =IFERROR(IF(OR(LEFT(U12,5)="Error",LEFT(T12,5)="Error"),"Check Data ⚠",INDEX(EnhanceTemporal,MATCH(S12,EnhanceHabitat,0),MATCH(U12,EnhanceCondition,0))),"") | AG12: =IF(AD12="","",IF(AD12="Check Data ⚠","Check Data ⚠",IF(R12="","",IF(AND(AE12>0,AF12>0),"Error -both advance and delayed habitat creation ▲",IF(AND(OR(AE12="Habitat already in target condition",AD12<=AE12),AF12=0),"Check details - Is there evidence that habitat has reached target condition? ⚠",IF(O11="","",IF(AE12>0,"Check details - Is there evidence habitat creation started/in place? ⚠",IF(AF12>0,"Check details- Delay in starting habitat in required condition? ⚠","Standard time to target condition applied")))))))) | AH12: =IF(AG12="Error -both advance and delayed habitat creation ▲","Check Data ⚠",IF(AG12="Check Data ⚠","Check Data ⚠",IF(AD12="","",IF(AD12="Not Possible ▲","CheckData ⚠",IF(AND(AD12="30+",AE12=0),"30+",IF(AND(AD12="30+",AE12="30+"),0,IF(AND(AD12="30+",AE12<30),30-AE12,IF(AD12="30+",30-AE12,IF(AF12="30+","30+",IF(AE12>AD12,0,IF(AD12+AF12>30,"30+",IF(AD12+AF12>30,"30+",IF(AD12-AE12>30,"30+",IF(AD12+AF12-AE12>0,AD12+AF12-AE12,IF(AD12-AE12>0,AD12-AE12,AD12+AF12-AE12))))))))))))))) | AI12: =IF(AH12="Check Data ⚠","Check Data ⚠",IFERROR(VLOOKUP(AH12,'G-4 Temporal multipliers'!$A$4:$C$36,3,FALSE),"")) | AJ12: =IF(S12="","",VLOOKUP(S12,'G-3 Multipliers'!$A$2:$E$134,4,FALSE)) | AK12: =IF(E12="","",IF(AG12="Check details - Is there evidence that habitat has reached target condition? ⚠","Low Difficulty - only applicable if all habitat created before losses ⚠","Standard difficulty applied")) | AL12: =(IF(AND(AK12="Standard difficulty applied",AD12>AE12),AJ12,IF(AND(AK12="Low Difficulty - only applicable if all habitat created before losses ⚠",AE12>=AD12),"Low", AJ12))) | AM12: =IFERROR(IF(F12="","",IF(AH12="Check Data ⚠","Check Data ⚠",VLOOKUP(AL12, 'G-3 Multipliers'!$P$2:$Q$6,2,FALSE))),"") | AO12: =IF(AN12="","",IF(VLOOKUP(AN12,'G-3 Multipliers'!$S$3:$T$10,2,FALSE)=0,"Spatial Data Missing ⚠",VLOOKUP(AN12,'G-3 Multipliers'!$S$3:$T$10,2,FALSE))) | AP12: =IFERROR(IF(N12="Check Data ⚠", "Check Data ⚠",(((((V12*X12*Z12)-(V12*I12*K12))*(AM12*AI12))+(V12*I12*K12))*(AC12)*AO12)),"") | AQ12: =IFERROR(IF(AN12="","", (IF(AND(AN12<>"",AU12=""), "Off-site reference required ▲",IF(N12="Error - you cannot enhance irreplaceable individual trees ▲", "Error - you cannot enhance irreplaceable individual trees ▲", IF(N12="Check Data ⚠", "Check Data ⚠",((((V12*X12*Z12)-(V12*I12*K12))*(AM12*AI12))+(V12*I12*K12))*(AC12)))))),"") | AY12: =IF(E12="","",IF(ISNA(VLOOKUP($E12,'D-1 Off-Site Habitat Baseline'!$D$1:$AV$258,4,FALSE)),"",(VLOOKUP($E12,'D-1 Off-Site Habitat Baseline'!$D$1:$AV$258,4,FALSE))))
A13: =IF(E13="","",IF(ISNA(VLOOKUP($E13,'D-1 Off-Site Habitat Baseline'!$D$1:$O$258,2,FALSE)),"",(VLOOKUP($E13,'D-1 Off-Site Habitat Baseline'!$D$1:$O$258,2,FALSE)))) | B13: =IF(E13="","",IF(ISNA(VLOOKUP($E13,'D-1 Off-Site Habitat Baseline'!$D$1:$O$258,3,FALSE)),"",(VLOOKUP($E13,'D-1 Off-Site Habitat Baseline'!$D$1:$O$258,3,FALSE)))) | C13: =IFERROR(INDEX('G-8 Condition Look up'!$I$4:$I$135,MATCH(S13,'G-8 Condition Look up'!$A$4:$A$135,0)),"") | E13: ='D-1 Off-Site Habitat Baseline'!AP12 | F13: =IF(E13="","",IF(ISNA(VLOOKUP($E13,'D-1 Off-Site Habitat Baseline'!$D$1:$ZZ$258,45,FALSE)),"",(VLOOKUP($E13,'D-1 Off-Site Habitat Baseline'!$D$1:$ZZ$258,45,FALSE)))) | G13: =IF(E13="","",IF(ISNA(VLOOKUP($E13,'D-1 Off-Site Habitat Baseline'!$D$1:$O$258,5,FALSE)),"",(VLOOKUP($E13,'D-1 Off-Site Habitat Baseline'!$D$1:$O$258,5,FALSE)))) | H13: =IF(E13="","",IF(ISNA(VLOOKUP($E13,'D-1 Off-Site Habitat Baseline'!$D$1:$O$258,6,FALSE)),"",(VLOOKUP($E13,'D-1 Off-Site Habitat Baseline'!$D$1:$O$258,6,FALSE)))) | I13: =IF(E13="","",IF(ISNA(VLOOKUP($E13,'D-1 Off-Site Habitat Baseline'!$D$1:$O$258,7,FALSE)),"",(VLOOKUP($E13,'D-1 Off-Site Habitat Baseline'!$D$1:$O$258,7,FALSE)))) | J13: =IF(E13="","",IF(ISNA(VLOOKUP($E13,'D-1 Off-Site Habitat Baseline'!$D$1:$O$258,8,FALSE)),"",(VLOOKUP($E13,'D-1 Off-Site Habitat Baseline'!$D$1:$O$258,8,FALSE)))) | K13: =IF(E13="","",IF(ISNA(VLOOKUP($E13,'D-1 Off-Site Habitat Baseline'!$D$1:$O$258,9,FALSE)),"",(VLOOKUP($E13,'D-1 Off-Site Habitat Baseline'!$D$1:$O$258,9,FALSE)))) | L13: =IF(E13="","",IF(ISNA(VLOOKUP($E13,'D-1 Off-Site Habitat Baseline'!$D$1:$O$258,11,FALSE)),"",(VLOOKUP($E13,'D-1 Off-Site Habitat Baseline'!$D$1:$O$258,11,FALSE)))) | M13: =IF(E13="","",IF(ISNA(VLOOKUP($E13,'D-1 Off-Site Habitat Baseline'!$D$1:$O$258,12,FALSE)),"",(VLOOKUP($E13,'D-1 Off-Site Habitat Baseline'!$D$1:$O$258,12,FALSE)))) | N13: =IF(E13="","",IF(ISNA(VLOOKUP($E13,'D-1 Off-Site Habitat Baseline'!$D$1:$AA$258,17,FALSE)),"",(VLOOKUP($E13,'D-1 Off-Site Habitat Baseline'!$D$1:$AA$258,17,FALSE)))) | O13: =IF(E13="","",IF(ISNA(VLOOKUP($E13,'D-1 Off-Site Habitat Baseline'!$D$1:$AA$258,13,FALSE)),"",(VLOOKUP($E13,'D-1 Off-Site Habitat Baseline'!$D$1:$AA$258,13,FALSE)))) | P13: =IFERROR(INDEX('G-1 All Habitats'!$AG$49:$AG$63,MATCH(Q13,'G-1 All Habitats'!$AF$27:$AF$41,0)),"") | S13: =IFERROR(INDEX('G-1 All Habitats'!$B$3:$B$135,MATCH(R13,'G-1 All Habitats'!$A$3:$A$135,0)),"") | T13: =IF(E13="","",IF(AND(LEFT(O13,6)="Same d",I13>X13),"Error - Trading rules not satisfied ▲",IF(AND(LEFT(O13,6)="Same b",AND(LEFT(F13,5)<>LEFT(S13,5),I13>X13)),"Error - Trading rules not satisfied ▲",IF(AND(LEFT(O13,6)="Same h",F13<>S13),"Error - Trading rules not satisfied ▲",IF(AND(LEFT(O13,6)="Bespok",F13<>S13),"Error - Trading rules not satisfied ▲",IF(X13<I13,"Error Trading Down ▲", IF(AND(R13="Littoral seagrass",F13<>"Intertidal sediment - Littoral seagrass", F13<>"Intertidal sediment - Littoral sand"),"Error - Enhancement not possible ▲",IF(AND(R13="Artificial hard structures with integrated greening of grey infrastructure (IGGI)",F13<>"Intertidal hard structures - Artificial hard structures with integrated greening of grey infrastructure (IGGI)", F13<>"Intertidal hard structures - Artificial hard structures", F13<>"Intertidal hard structures - Artificial features of hard structures"),"Error - Enhancement not possible ▲",H13&" - "&W13)))))))) | U13: =IF(F13="","",IF(AND(S13<>F13,AY13="Yes"),"Error you cannot replace an irreplaceable habitat ▲",IF(AND(LEFT(F13,55)<>LEFT(S13,55),T13= "High - High"),"Error - Not like for like ▲",IF(AND(I13=X13,K13>Z13),"Error - Can not reduce condition ▲",IF(K13>Z13, "Error - condition cannot be reduced ▲", IF(AND(I13=X13,K13=Z13),"Error - No enhancement ▲",IF(X13<I13,"Error Trading Down ▲",IF(AND(F13<>S13,I13<X13),"Lower Distinctiveness Habitat"&" - "&Y13,J13&" - "&Y13)))))))) | V13: =IF(S13="","",VLOOKUP(E13,BaselineHabOffsite,20,FALSE)) | W13: =IF(S13="","",VLOOKUP(S13,'G-1 All Habitats'!$B$2:$M$135,10,FALSE)) | X13: =IFERROR(VLOOKUP(W13,'G-1 All Habitats'!$V$3:$W$7,2,FALSE),"") | Z13: =IFERROR(INDEX('G-8 Condition Look up'!$A$3:$H$135,MATCH(S13,'G-8 Condition Look up'!$A$3:$A$135,0),MATCH(Y13,'G-8 Condition Look up'!$A$3:$H$3,0)),"") | AB13: =IF(AA13="","",IF(VLOOKUP(AA13,'G-3 Multipliers'!$L$3:$N$6,2,FALSE)=0,"Spatial Data Missing ⚠",VLOOKUP(AA13,'G-3 Multipliers'!$L$3:$N$6,2,FALSE))) | AC13: =IF(AA13="","",IF(VLOOKUP(AA13,'G-3 Multipliers'!$L$3:$N$6,3,FALSE)=0,"Spatial Data Missing ⚠",VLOOKUP(AA13,'G-3 Multipliers'!$L$3:$N$6,3,FALSE))) | AD13: =IFERROR(IF(OR(LEFT(U13,5)="Error",LEFT(T13,5)="Error"),"Check Data ⚠",INDEX(EnhanceTemporal,MATCH(S13,EnhanceHabitat,0),MATCH(U13,EnhanceCondition,0))),"") | AG13: =IF(AD13="","",IF(AD13="Check Data ⚠","Check Data ⚠",IF(R13="","",IF(AND(AE13>0,AF13>0),"Error -both advance and delayed habitat creation ▲",IF(AND(OR(AE13="Habitat already in target condition",AD13<=AE13),AF13=0),"Check details - Is there evidence that habitat has reached target condition? ⚠",IF(O12="","",IF(AE13>0,"Check details - Is there evidence habitat creation started/in place? ⚠",IF(AF13>0,"Check details- Delay in starting habitat in required condition? ⚠","Standard time to target condition applied")))))))) | AH13: =IF(AG13="Error -both advance and delayed habitat creation ▲","Check Data ⚠",IF(AG13="Check Data ⚠","Check Data ⚠",IF(AD13="","",IF(AD13="Not Possible ▲","CheckData ⚠",IF(AND(AD13="30+",AE13=0),"30+",IF(AND(AD13="30+",AE13="30+"),0,IF(AND(AD13="30+",AE13<30),30-AE13,IF(AD13="30+",30-AE13,IF(AF13="30+","30+",IF(AE13>AD13,0,IF(AD13+AF13>30,"30+",IF(AD13+AF13>30,"30+",IF(AD13-AE13>30,"30+",IF(AD13+AF13-AE13>0,AD13+AF13-AE13,IF(AD13-AE13>0,AD13-AE13,AD13+AF13-AE13))))))))))))))) | AI13: =IF(AH13="Check Data ⚠","Check Data ⚠",IFERROR(VLOOKUP(AH13,'G-4 Temporal multipliers'!$A$4:$C$36,3,FALSE),"")) | AJ13: =IF(S13="","",VLOOKUP(S13,'G-3 Multipliers'!$A$2:$E$134,4,FALSE)) | AK13: =IF(E13="","",IF(AG13="Check details - Is there evidence that habitat has reached target condition? ⚠","Low Difficulty - only applicable if all habitat created before losses ⚠","Standard difficulty applied")) | AL13: =(IF(AND(AK13="Standard difficulty applied",AD13>AE13),AJ13,IF(AND(AK13="Low Difficulty - only applicable if all habitat created before losses ⚠",AE13>=AD13),"Low", AJ13))) | AM13: =IFERROR(IF(F13="","",IF(AH13="Check Data ⚠","Check Data ⚠",VLOOKUP(AL13, 'G-3 Multipliers'!$P$2:$Q$6,2,FALSE))),"") | AO13: =IF(AN13="","",IF(VLOOKUP(AN13,'G-3 Multipliers'!$S$3:$T$10,2,FALSE)=0,"Spatial Data Missing ⚠",VLOOKUP(AN13,'G-3 Multipliers'!$S$3:$T$10,2,FALSE))) | AP13: =IFERROR(IF(N13="Check Data ⚠", "Check Data ⚠",(((((V13*X13*Z13)-(V13*I13*K13))*(AM13*AI13))+(V13*I13*K13))*(AC13)*AO13)),"") | AQ13: =IFERROR(IF(AN13="","", (IF(AND(AN13<>"",AU13=""), "Off-site reference required ▲",IF(N13="Error - you cannot enhance irreplaceable individual trees ▲", "Error - you cannot enhance irreplaceable individual trees ▲", IF(N13="Check Data ⚠", "Check Data ⚠",((((V13*X13*Z13)-(V13*I13*K13))*(AM13*AI13))+(V13*I13*K13))*(AC13)))))),"") | AY13: =IF(E13="","",IF(ISNA(VLOOKUP($E13,'D-1 Off-Site Habitat Baseline'!$D$1:$AV$258,4,FALSE)),"",(VLOOKUP($E13,'D-1 Off-Site Habitat Baseline'!$D$1:$AV$258,4,FALSE))))
A14: =IF(E14="","",IF(ISNA(VLOOKUP($E14,'D-1 Off-Site Habitat Baseline'!$D$1:$O$258,2,FALSE)),"",(VLOOKUP($E14,'D-1 Off-Site Habitat Baseline'!$D$1:$O$258,2,FALSE)))) | B14: =IF(E14="","",IF(ISNA(VLOOKUP($E14,'D-1 Off-Site Habitat Baseline'!$D$1:$O$258,3,FALSE)),"",(VLOOKUP($E14,'D-1 Off-Site Habitat Baseline'!$D$1:$O$258,3,FALSE)))) | C14: =IFERROR(INDEX('G-8 Condition Look up'!$I$4:$I$135,MATCH(S14,'G-8 Condition Look up'!$A$4:$A$135,0)),"") | E14: ='D-1 Off-Site Habitat Baseline'!AP13 | F14: =IF(E14="","",IF(ISNA(VLOOKUP($E14,'D-1 Off-Site Habitat Baseline'!$D$1:$ZZ$258,45,FALSE)),"",(VLOOKUP($E14,'D-1 Off-Site Habitat Baseline'!$D$1:$ZZ$258,45,FALSE)))) | G14: =IF(E14="","",IF(ISNA(VLOOKUP($E14,'D-1 Off-Site Habitat Baseline'!$D$1:$O$258,5,FALSE)),"",(VLOOKUP($E14,'D-1 Off-Site Habitat Baseline'!$D$1:$O$258,5,FALSE)))) | H14: =IF(E14="","",IF(ISNA(VLOOKUP($E14,'D-1 Off-Site Habitat Baseline'!$D$1:$O$258,6,FALSE)),"",(VLOOKUP($E14,'D-1 Off-Site Habitat Baseline'!$D$1:$O$258,6,FALSE)))) | I14: =IF(E14="","",IF(ISNA(VLOOKUP($E14,'D-1 Off-Site Habitat Baseline'!$D$1:$O$258,7,FALSE)),"",(VLOOKUP($E14,'D-1 Off-Site Habitat Baseline'!$D$1:$O$258,7,FALSE)))) | J14: =IF(E14="","",IF(ISNA(VLOOKUP($E14,'D-1 Off-Site Habitat Baseline'!$D$1:$O$258,8,FALSE)),"",(VLOOKUP($E14,'D-1 Off-Site Habitat Baseline'!$D$1:$O$258,8,FALSE)))) | K14: =IF(E14="","",IF(ISNA(VLOOKUP($E14,'D-1 Off-Site Habitat Baseline'!$D$1:$O$258,9,FALSE)),"",(VLOOKUP($E14,'D-1 Off-Site Habitat Baseline'!$D$1:$O$258,9,FALSE)))) | L14: =IF(E14="","",IF(ISNA(VLOOKUP($E14,'D-1 Off-Site Habitat Baseline'!$D$1:$O$258,11,FALSE)),"",(VLOOKUP($E14,'D-1 Off-Site Habitat Baseline'!$D$1:$O$258,11,FALSE)))) | M14: =IF(E14="","",IF(ISNA(VLOOKUP($E14,'D-1 Off-Site Habitat Baseline'!$D$1:$O$258,12,FALSE)),"",(VLOOKUP($E14,'D-1 Off-Site Habitat Baseline'!$D$1:$O$258,12,FALSE)))) | N14: =IF(E14="","",IF(ISNA(VLOOKUP($E14,'D-1 Off-Site Habitat Baseline'!$D$1:$AA$258,17,FALSE)),"",(VLOOKUP($E14,'D-1 Off-Site Habitat Baseline'!$D$1:$AA$258,17,FALSE)))) | O14: =IF(E14="","",IF(ISNA(VLOOKUP($E14,'D-1 Off-Site Habitat Baseline'!$D$1:$AA$258,13,FALSE)),"",(VLOOKUP($E14,'D-1 Off-Site Habitat Baseline'!$D$1:$AA$258,13,FALSE)))) | P14: =IFERROR(INDEX('G-1 All Habitats'!$AG$49:$AG$63,MATCH(Q14,'G-1 All Habitats'!$AF$27:$AF$41,0)),"") | S14: =IFERROR(INDEX('G-1 All Habitats'!$B$3:$B$135,MATCH(R14,'G-1 All Habitats'!$A$3:$A$135,0)),"") | T14: =IF(E14="","",IF(AND(LEFT(O14,6)="Same d",I14>X14),"Error - Trading rules not satisfied ▲",IF(AND(LEFT(O14,6)="Same b",AND(LEFT(F14,5)<>LEFT(S14,5),I14>X14)),"Error - Trading rules not satisfied ▲",IF(AND(LEFT(O14,6)="Same h",F14<>S14),"Error - Trading rules not satisfied ▲",IF(AND(LEFT(O14,6)="Bespok",F14<>S14),"Error - Trading rules not satisfied ▲",IF(X14<I14,"Error Trading Down ▲", IF(AND(R14="Littoral seagrass",F14<>"Intertidal sediment - Littoral seagrass", F14<>"Intertidal sediment - Littoral sand"),"Error - Enhancement not possible ▲",IF(AND(R14="Artificial hard structures with integrated greening of grey infrastructure (IGGI)",F14<>"Intertidal hard structures - Artificial hard structures with integrated greening of grey infrastructure (IGGI)", F14<>"Intertidal hard structures - Artificial hard structures", F14<>"Intertidal hard structures - Artificial features of hard structures"),"Error - Enhancement not possible ▲",H14&" - "&W14)))))))) | U14: =IF(F14="","",IF(AND(S14<>F14,AY14="Yes"),"Error you cannot replace an irreplaceable habitat ▲",IF(AND(LEFT(F14,55)<>LEFT(S14,55),T14= "High - High"),"Error - Not like for like ▲",IF(AND(I14=X14,K14>Z14),"Error - Can not reduce condition ▲",IF(K14>Z14, "Error - condition cannot be reduced ▲", IF(AND(I14=X14,K14=Z14),"Error - No enhancement ▲",IF(X14<I14,"Error Trading Down ▲",IF(AND(F14<>S14,I14<X14),"Lower Distinctiveness Habitat"&" - "&Y14,J14&" - "&Y14)))))))) | V14: =IF(S14="","",VLOOKUP(E14,BaselineHabOffsite,20,FALSE)) | W14: =IF(S14="","",VLOOKUP(S14,'G-1 All Habitats'!$B$2:$M$135,10,FALSE)) | X14: =IFERROR(VLOOKUP(W14,'G-1 All Habitats'!$V$3:$W$7,2,FALSE),"") | Z14: =IFERROR(INDEX('G-8 Condition Look up'!$A$3:$H$135,MATCH(S14,'G-8 Condition Look up'!$A$3:$A$135,0),MATCH(Y14,'G-8 Condition Look up'!$A$3:$H$3,0)),"") | AB14: =IF(AA14="","",IF(VLOOKUP(AA14,'G-3 Multipliers'!$L$3:$N$6,2,FALSE)=0,"Spatial Data Missing ⚠",VLOOKUP(AA14,'G-3 Multipliers'!$L$3:$N$6,2,FALSE))) | AC14: =IF(AA14="","",IF(VLOOKUP(AA14,'G-3 Multipliers'!$L$3:$N$6,3,FALSE)=0,"Spatial Data Missing ⚠",VLOOKUP(AA14,'G-3 Multipliers'!$L$3:$N$6,3,FALSE))) | AD14: =IFERROR(IF(OR(LEFT(U14,5)="Error",LEFT(T14,5)="Error"),"Check Data ⚠",INDEX(EnhanceTemporal,MATCH(S14,EnhanceHabitat,0),MATCH(U14,EnhanceCondition,0))),"") | AG14: =IF(AD14="","",IF(AD14="Check Data ⚠","Check Data ⚠",IF(R14="","",IF(AND(AE14>0,AF14>0),"Error -both advance and delayed habitat creation ▲",IF(AND(OR(AE14="Habitat already in target condition",AD14<=AE14),AF14=0),"Check details - Is there evidence that habitat has reached target condition? ⚠",IF(O13="","",IF(AE14>0,"Check details - Is there evidence habitat creation started/in place? ⚠",IF(AF14>0,"Check details- Delay in starting habitat in required condition? ⚠","Standard time to target condition applied")))))))) | AH14: =IF(AG14="Error -both advance and delayed habitat creation ▲","Check Data ⚠",IF(AG14="Check Data ⚠","Check Data ⚠",IF(AD14="","",IF(AD14="Not Possible ▲","CheckData ⚠",IF(AND(AD14="30+",AE14=0),"30+",IF(AND(AD14="30+",AE14="30+"),0,IF(AND(AD14="30+",AE14<30),30-AE14,IF(AD14="30+",30-AE14,IF(AF14="30+","30+",IF(AE14>AD14,0,IF(AD14+AF14>30,"30+",IF(AD14+AF14>30,"30+",IF(AD14-AE14>30,"30+",IF(AD14+AF14-AE14>0,AD14+AF14-AE14,IF(AD14-AE14>0,AD14-AE14,AD14+AF14-AE14))))))))))))))) | AI14: =IF(AH14="Check Data ⚠","Check Data ⚠",IFERROR(VLOOKUP(AH14,'G-4 Temporal multipliers'!$A$4:$C$36,3,FALSE),"")) | AJ14: =IF(S14="","",VLOOKUP(S14,'G-3 Multipliers'!$A$2:$E$134,4,FALSE)) | AK14: =IF(E14="","",IF(AG14="Check details - Is there evidence that habitat has reached target condition? ⚠","Low Difficulty - only applicable if all habitat created before losses ⚠","Standard difficulty applied")) | AL14: =(IF(AND(AK14="Standard difficulty applied",AD14>AE14),AJ14,IF(AND(AK14="Low Difficulty - only applicable if all habitat created before losses ⚠",AE14>=AD14),"Low", AJ14))) | AM14: =IFERROR(IF(F14="","",IF(AH14="Check Data ⚠","Check Data ⚠",VLOOKUP(AL14, 'G-3 Multipliers'!$P$2:$Q$6,2,FALSE))),"") | AO14: =IF(AN14="","",IF(VLOOKUP(AN14,'G-3 Multipliers'!$S$3:$T$10,2,FALSE)=0,"Spatial Data Missing ⚠",VLOOKUP(AN14,'G-3 Multipliers'!$S$3:$T$10,2,FALSE))) | AP14: =IFERROR(IF(N14="Check Data ⚠", "Check Data ⚠",(((((V14*X14*Z14)-(V14*I14*K14))*(AM14*AI14))+(V14*I14*K14))*(AC14)*AO14)),"") | AQ14: =IFERROR(IF(AN14="","", (IF(AND(AN14<>"",AU14=""), "Off-site reference required ▲",IF(N14="Error - you cannot enhance irreplaceable individual trees ▲", "Error - you cannot enhance irreplaceable individual trees ▲", IF(N14="Check Data ⚠", "Check Data ⚠",((((V14*X14*Z14)-(V14*I14*K14))*(AM14*AI14))+(V14*I14*K14))*(AC14)))))),"") | AY14: =IF(E14="","",IF(ISNA(VLOOKUP($E14,'D-1 Off-Site Habitat Baseline'!$D$1:$AV$258,4,FALSE)),"",(VLOOKUP($E14,'D-1 Off-Site Habitat Baseline'!$D$1:$AV$258,4,FALSE))))
A15: =IF(E15="","",IF(ISNA(VLOOKUP($E15,'D-1 Off-Site Habitat Baseline'!$D$1:$O$258,2,FALSE)),"",(VLOOKUP($E15,'D-1 Off-Site Habitat Baseline'!$D$1:$O$258,2,FALSE)))) | B15: =IF(E15="","",IF(ISNA(VLOOKUP($E15,'D-1 Off-Site Habitat Baseline'!$D$1:$O$258,3,FALSE)),"",(VLOOKUP($E15,'D-1 Off-Site Habitat Baseline'!$D$1:$O$258,3,FALSE)))) | C15: =IFERROR(INDEX('G-8 Condition Look up'!$I$4:$I$135,MATCH(S15,'G-8 Condition Look up'!$A$4:$A$135,0)),"") | E15: ='D-1 Off-Site Habitat Baseline'!AP14 | F15: =IF(E15="","",IF(ISNA(VLOOKUP($E15,'D-1 Off-Site Habitat Baseline'!$D$1:$ZZ$258,45,FALSE)),"",(VLOOKUP($E15,'D-1 Off-Site Habitat Baseline'!$D$1:$ZZ$258,45,FALSE)))) | G15: =IF(E15="","",IF(ISNA(VLOOKUP($E15,'D-1 Off-Site Habitat Baseline'!$D$1:$O$258,5,FALSE)),"",(VLOOKUP($E15,'D-1 Off-Site Habitat Baseline'!$D$1:$O$258,5,FALSE)))) | H15: =IF(E15="","",IF(ISNA(VLOOKUP($E15,'D-1 Off-Site Habitat Baseline'!$D$1:$O$258,6,FALSE)),"",(VLOOKUP($E15,'D-1 Off-Site Habitat Baseline'!$D$1:$O$258,6,FALSE)))) | I15: =IF(E15="","",IF(ISNA(VLOOKUP($E15,'D-1 Off-Site Habitat Baseline'!$D$1:$O$258,7,FALSE)),"",(VLOOKUP($E15,'D-1 Off-Site Habitat Baseline'!$D$1:$O$258,7,FALSE)))) | J15: =IF(E15="","",IF(ISNA(VLOOKUP($E15,'D-1 Off-Site Habitat Baseline'!$D$1:$O$258,8,FALSE)),"",(VLOOKUP($E15,'D-1 Off-Site Habitat Baseline'!$D$1:$O$258,8,FALSE)))) | K15: =IF(E15="","",IF(ISNA(VLOOKUP($E15,'D-1 Off-Site Habitat Baseline'!$D$1:$O$258,9,FALSE)),"",(VLOOKUP($E15,'D-1 Off-Site Habitat Baseline'!$D$1:$O$258,9,FALSE)))) | L15: =IF(E15="","",IF(ISNA(VLOOKUP($E15,'D-1 Off-Site Habitat Baseline'!$D$1:$O$258,11,FALSE)),"",(VLOOKUP($E15,'D-1 Off-Site Habitat Baseline'!$D$1:$O$258,11,FALSE)))) | M15: =IF(E15="","",IF(ISNA(VLOOKUP($E15,'D-1 Off-Site Habitat Baseline'!$D$1:$O$258,12,FALSE)),"",(VLOOKUP($E15,'D-1 Off-Site Habitat Baseline'!$D$1:$O$258,12,FALSE)))) | N15: =IF(E15="","",IF(ISNA(VLOOKUP($E15,'D-1 Off-Site Habitat Baseline'!$D$1:$AA$258,17,FALSE)),"",(VLOOKUP($E15,'D-1 Off-Site Habitat Baseline'!$D$1:$AA$258,17,FALSE)))) | O15: =IF(E15="","",IF(ISNA(VLOOKUP($E15,'D-1 Off-Site Habitat Baseline'!$D$1:$AA$258,13,FALSE)),"",(VLOOKUP($E15,'D-1 Off-Site Habitat Baseline'!$D$1:$AA$258,13,FALSE)))) | P15: =IFERROR(INDEX('G-1 All Habitats'!$AG$49:$AG$63,MATCH(Q15,'G-1 All Habitats'!$AF$27:$AF$41,0)),"") | S15: =IFERROR(INDEX('G-1 All Habitats'!$B$3:$B$135,MATCH(R15,'G-1 All Habitats'!$A$3:$A$135,0)),"") | T15: =IF(E15="","",IF(AND(LEFT(O15,6)="Same d",I15>X15),"Error - Trading rules not satisfied ▲",IF(AND(LEFT(O15,6)="Same b",AND(LEFT(F15,5)<>LEFT(S15,5),I15>X15)),"Error - Trading rules not satisfied ▲",IF(AND(LEFT(O15,6)="Same h",F15<>S15),"Error - Trading rules not satisfied ▲",IF(AND(LEFT(O15,6)="Bespok",F15<>S15),"Error - Trading rules not satisfied ▲",IF(X15<I15,"Error Trading Down ▲", IF(AND(R15="Littoral seagrass",F15<>"Intertidal sediment - Littoral seagrass", F15<>"Intertidal sediment - Littoral sand"),"Error - Enhancement not possible ▲",IF(AND(R15="Artificial hard structures with integrated greening of grey infrastructure (IGGI)",F15<>"Intertidal hard structures - Artificial hard structures with integrated greening of grey infrastructure (IGGI)", F15<>"Intertidal hard structures - Artificial hard structures", F15<>"Intertidal hard structures - Artificial features of hard structures"),"Error - Enhancement not possible ▲",H15&" - "&W15)))))))) | U15: =IF(F15="","",IF(AND(S15<>F15,AY15="Yes"),"Error you cannot replace an irreplaceable habitat ▲",IF(AND(LEFT(F15,55)<>LEFT(S15,55),T15= "High - High"),"Error - Not like for like ▲",IF(AND(I15=X15,K15>Z15),"Error - Can not reduce condition ▲",IF(K15>Z15, "Error - condition cannot be reduced ▲", IF(AND(I15=X15,K15=Z15),"Error - No enhancement ▲",IF(X15<I15,"Error Trading Down ▲",IF(AND(F15<>S15,I15<X15),"Lower Distinctiveness Habitat"&" - "&Y15,J15&" - "&Y15)))))))) | V15: =IF(S15="","",VLOOKUP(E15,BaselineHabOffsite,20,FALSE)) | W15: =IF(S15="","",VLOOKUP(S15,'G-1 All Habitats'!$B$2:$M$135,10,FALSE)) | X15: =IFERROR(VLOOKUP(W15,'G-1 All Habitats'!$V$3:$W$7,2,FALSE),"") | Z15: =IFERROR(INDEX('G-8 Condition Look up'!$A$3:$H$135,MATCH(S15,'G-8 Condition Look up'!$A$3:$A$135,0),MATCH(Y15,'G-8 Condition Look up'!$A$3:$H$3,0)),"") | AB15: =IF(AA15="","",IF(VLOOKUP(AA15,'G-3 Multipliers'!$L$3:$N$6,2,FALSE)=0,"Spatial Data Missing ⚠",VLOOKUP(AA15,'G-3 Multipliers'!$L$3:$N$6,2,FALSE))) | AC15: =IF(AA15="","",IF(VLOOKUP(AA15,'G-3 Multipliers'!$L$3:$N$6,3,FALSE)=0,"Spatial Data Missing ⚠",VLOOKUP(AA15,'G-3 Multipliers'!$L$3:$N$6,3,FALSE))) | AD15: =IFERROR(IF(OR(LEFT(U15,5)="Error",LEFT(T15,5)="Error"),"Check Data ⚠",INDEX(EnhanceTemporal,MATCH(S15,EnhanceHabitat,0),MATCH(U15,EnhanceCondition,0))),"") | AG15: =IF(AD15="","",IF(AD15="Check Data ⚠","Check Data ⚠",IF(R15="","",IF(AND(AE15>0,AF15>0),"Error -both advance and delayed habitat creation ▲",IF(AND(OR(AE15="Habitat already in target condition",AD15<=AE15),AF15=0),"Check details - Is there evidence that habitat has reached target condition? ⚠",IF(O14="","",IF(AE15>0,"Check details - Is there evidence habitat creation started/in place? ⚠",IF(AF15>0,"Check details- Delay in starting habitat in required condition? ⚠","Standard time to target condition applied")))))))) | AH15: =IF(AG15="Error -both advance and delayed habitat creation ▲","Check Data ⚠",IF(AG15="Check Data ⚠","Check Data ⚠",IF(AD15="","",IF(AD15="Not Possible ▲","CheckData ⚠",IF(AND(AD15="30+",AE15=0),"30+",IF(AND(AD15="30+",AE15="30+"),0,IF(AND(AD15="30+",AE15<30),30-AE15,IF(AD15="30+",30-AE15,IF(AF15="30+","30+",IF(AE15>AD15,0,IF(AD15+AF15>30,"30+",IF(AD15+AF15>30,"30+",IF(AD15-AE15>30,"30+",IF(AD15+AF15-AE15>0,AD15+AF15-AE15,IF(AD15-AE15>0,AD15-AE15,AD15+AF15-AE15))))))))))))))) | AI15: =IF(AH15="Check Data ⚠","Check Data ⚠",IFERROR(VLOOKUP(AH15,'G-4 Temporal multipliers'!$A$4:$C$36,3,FALSE),"")) | AJ15: =IF(S15="","",VLOOKUP(S15,'G-3 Multipliers'!$A$2:$E$134,4,FALSE)) | AK15: =IF(E15="","",IF(AG15="Check details - Is there evidence that habitat has reached target condition? ⚠","Low Difficulty - only applicable if all habitat created before losses ⚠","Standard difficulty applied")) | AL15: =(IF(AND(AK15="Standard difficulty applied",AD15>AE15),AJ15,IF(AND(AK15="Low Difficulty - only applicable if all habitat created before losses ⚠",AE15>=AD15),"Low", AJ15))) | AM15: =IFERROR(IF(F15="","",IF(AH15="Check Data ⚠","Check Data ⚠",VLOOKUP(AL15, 'G-3 Multipliers'!$P$2:$Q$6,2,FALSE))),"") | AO15: =IF(AN15="","",IF(VLOOKUP(AN15,'G-3 Multipliers'!$S$3:$T$10,2,FALSE)=0,"Spatial Data Missing ⚠",VLOOKUP(AN15,'G-3 Multipliers'!$S$3:$T$10,2,FALSE))) | AP15: =IFERROR(IF(N15="Check Data ⚠", "Check Data ⚠",(((((V15*X15*Z15)-(V15*I15*K15))*(AM15*AI15))+(V15*I15*K15))*(AC15)*AO15)),"") | AQ15: =IFERROR(IF(AN15="","", (IF(AND(AN15<>"",AU15=""), "Off-site reference required ▲",IF(N15="Error - you cannot enhance irreplaceable individual trees ▲", "Error - you cannot enhance irreplaceable individual trees ▲", IF(N15="Check Data ⚠", "Check Data ⚠",((((V15*X15*Z15)-(V15*I15*K15))*(AM15*AI15))+(V15*I15*K15))*(AC15)))))),"") | AY15: =IF(E15="","",IF(ISNA(VLOOKUP($E15,'D-1 Off-Site Habitat Baseline'!$D$1:$AV$258,4,FALSE)),"",(VLOOKUP($E15,'D-1 Off-Site Habitat Baseline'!$D$1:$AV$258,4,FALSE))))
