Workbook

Sheet Jan 2017
A1: Back up 31 Jan @ 1800 | I1: sent to
B2: PEAK | H2: Weymouth | R2: OFF PEAK | AE2: 1
A3: Pitch | B3: Sun | C3: Mon | D3: Tue | E3: Wed | F3: Thu | G3: Fri | H3: Sat | I3: Sun | J3: Mon | K3: Tue | L3: Wed | M3: Thu | N3: Fri | O3: Sat | P3: Sun | Q3: Mon | R3: Tue | S3: Wed | T3: Thu | U3: Fri | V3: Sat | W3: Sun | X3: Mon | Y3: Tue | Z3: Wed | AA3: Thu | AB3: Fri | AC3: Sat | AD3: Sun | AE3: Mon | AF3: Tues | AG3: Pitch
A4: No. | B4: 1 | C4: 2 | D4: 3 | E4: 4 | F4: 5 | G4: 6 | H4: 7 | I4: 8 | J4: 9 | K4: 10 | L4: 11 | M4: 12 | N4: 13 | O4: 14 | P4: 15 | Q4: 16 | R4: 17 | S4: 18 | T4: 19 | U4: 20 | V4: 21 | W4: 22 | X4: 23 | Y4: 24 | Z4: 25 | AA4: 26 | AB4: 27 | AC4: 28 | AD4: 29 | AE4: 30 | AF4: 31 | AG4: No.
A5: 1 | C5: Balmer | G5: Bradley | H5: Shawyer | U5: Rickard | V5: Johns | W5: Rudolf | AA5: Edmondonson | AF5: Cradock | AG5: 1
A6: 1a | AG6: 1a | AH6: Not here
A7: 2 | AG7: 2 | AH7: Tent
A8: 3 | AG8: 3 | AH8: Trailer tent
A9: 4 | AG9: 4 | AH9: Folding caravan
A10: 5 | AG10: 5 | AH10: Caravan
A11: 6 | AG11: 6 | AH11: Camper van
A12: 7 | AG12: 7 | AH12: Motorhome
A13: 8 | B13: Marshall cont… | G13: Lawson | K13: Skelton / Lee | N13: McInerney / Atherney? | Y13: Davies | AB13: J. Hunt | AE13: Rogers | AG13: 8 | AH13: RV
A14: 9 | B14: cont.. | K14: Palmer | R14: Bryant | U14: Burnham | AB14: Rudd | AG14: 9 | AH14: Free night
A15: 10 | C15: Curro | K15: Meddle | R15: Lambert | AB15: Betteridge | AG15: 10 | AH15: Poss Extra / late stay
A16: 11 | J16: Walsh | AE16: Macdougle | AG16: 11 | AH16: Hard Standing
A17: 12 | B17: Jefferies | I17: 2wks | AC17: Russell | AG17: 12 | AH17: Not in use
A18: 13 | B18: 5wks Susan Korczakowski - seasonal | I18: 6wks | P18: 1 | W18: 2 | AD18: 3 | AG18: 13 | AH18: Off Peak
A19: 14 | B19: Davies | N19: 2wks | U19: 1 | AB19: 2wks | AC19: £322 due | AG19: 14 | AH19: Bank holiday
A20: 15 | AG20: 15 | AH20: Peak
A21: 16 | AG21: 16 | AH21: Seasonal pitch
A22: 16a | AG22: 16a | AH22: Non arrival
A23: 17 | AG23: 17 | AH23: Refund
A24: 17a | AG24: 17a | AH24: Cancelled
A25: 18 | D25: Ktchen | AG25: 18 | AH25: late stay
A26: 18a | AG26: 18a
A27: 19 | B27: cont.. | F27: Davies | G27: Shaw | K27: Skelton | O27: Jackson | R27: Barrigan | V27: Hall | AF27: Waters | AG27: 19 | AH27: =ALERTS!E18 -> 0
A28: 20 | B28: Coates | C28: Featherstone | D28: Abbott | G28: McDougal | K28: Skelton /Willey | P28: Trent | R28: Weston | U28: Dawson | X28: Gill | AC28: Anderson | AE28: Tanyer | AF28: Hurst | AG28: 20 | AH28: =ALERTS!E19 -> 0
A29: 21 | B29: cont… | D29: Hubbard | G29: Johnson | J29: North | O29: Tutt | Q29: Sharp | R29: Gardener | T29: Dillison | U29: Grenfell | X29: Lavendon | Z29: Shrosbree | AB29: Stairmand | AD29: Blake | AF29: Slicer | AG29: 21 | AH29: =ALERTS!E20 -> 0
A30: 22 | D30: Slicer | K30: Planings delivered | N30: Munro | P30: James Thomson | V30: 1 | AC30: 2 | AG30: 22
A31: Pitch | B31: Sun | C31: Mon | D31: Tue | E31: Wed | F31: Thu | G31: Fri | H31: Sat | I31: Sun | J31: Mon | K31: Tue | L31: Wed | M31: Thu | N31: Fri | O31: Sat | P31: Sun | Q31: Mon | R31: Tue | S31: Wed | T31: Thu | U31: Fri | V31: Sat | W31: Sun | X31: Mon | Y31: Tue | Z31: Wed | AA31: Thu | AB31: Fri | AC31: Sat | AD31: Sun | AE31: Mon | AF31: Tues | AG31: Pitch
A32: No. | B32: 1 | C32: 2 | D32: 3 | E32: 4 | F32: 5 | G32: 6 | H32: 7 | I32: 8 | J32: 9 | K32: 10 | L32: 11 | M32: 12 | N32: 13 | O32: 14 | P32: 15 | Q32: 16 | R32: 17 | S32: 18 | T32: 19 | U32: 20 | V32: 21 | W32: 22 | X32: 23 | Y32: 24 | Z32: 25 | AA32: 26 | AB32: 27 | AC32: 28 | AD32: 29 | AE32: 30 | AF32: 31 | AG32: No.
A33: 23 | B33: Adam Jenkins cont… | Q33: 1 | X33: 2 | AE33: 3 | AF33: £161 wk if 2 persons | AH33: TODAY IS
A34: 23a | B34: Silurian Security | O34: 2wks | R34: 3 vehicles & 3 persons | V34: 1 | X34: M4 BKX | AC34: 2 | AD34: £175 wk due if 2 persons 1 car | AG34: 23a | AH34: =TODAY() -> 42833
A35: 24 | C35: Lowry (posters) | M35: Kean | AC35: Paul Middleton | AG35: 24
A36: 25 | B36: Vacher cont.. | I36: 1 | P36: 2 | Q36: pd on 21/1 | U36: text sent | W36: 1 | AD36: 2 | AG36: 25
A37: 26 | B37: Shreard cont.. | J37: 1 | AC37: Paul Middleton | AG37: 26
A38: 27 | B38: Ratmik | E38: owe £20 week when not here from 5 Dec | I38: 5 | P38: 6 | U38: phoned | W38: 7 | AG38: 27
A39: 28 | B39: Wadworth | D39: Broom | J39: Bainbriggs | K39: Houghton | W39: Carrie -Ann | AG39: 28
A40: 29 | C40: Burroughs | E40: Cruise | J40: Dent | K40: Stenton | M40: Stella & Bill camper van | Y40: Richards | AB40: Crago | AE40: Todd | AG40: 29 | AH40: NO DOGS
...

Sheet Feb 2017
A1: Back up 28 Feb @ 1600 | AE1: INDEX - Colour code
W2: HALF TERM | Y2: sarah | Z2: hen
A3: Pitch | B3: Wed | C3: Thu | D3: Fri | E3: Sat | F3: Sun | G3: Mon | H3: Tue | I3: Wed | J3: Thu | K3: Fri | L3: Sat | M3: Sun | N3: Mon | O3: Tue | P3: Wed | Q3: Thu | R3: Fri | S3: Sat | T3: Sun | U3: Mon | V3: Tue | W3: Wed | X3: Thu | Y3: Fri | Z3: Sat | AA3: Sun | AB3: Mon | AC3: Tues | AD3: Pitch | AE3: Caravan
A4: No. | B4: 1 | C4: 2 | D4: 3 | E4: 4 | F4: 5 | G4: 6 | H4: 7 | I4: 8 | J4: 9 | K4: 10 | L4: 11 | M4: 12 | N4: 13 | O4: 14 | P4: 15 | Q4: 16 | R4: 17 | S4: 18 | T4: 19 | U4: 20 | V4: 21 | W4: 22 | X4: 23 | Y4: 24 | Z4: 25 | AA4: 26 | AB4: 27 | AC4: 28 | AD4: No. | AE4: Motorhome
A5: 1 | B5: Russel | H5: McDonald | I5: Garlick | S5: Marriott | X5: Stansfield | AB5: Diiks | AD5: 1 | AE5: Camper van
A6: 1a | Q6: Roll call kitchen closed | AD6: 1a | AE6: RV
A7: 2 | AD7: 2
A8: 3 | Q8: Talbot | S8: Watkins | Z8: Gordon | AD8: 3 | AE8: Tent
A9: 4 | Q9: Roberts - car park for 1 night | AD9: 4 | AE9: Trailer tent
A10: 5 | R10: Rude | AD10: 5
A11: 6 | Q11: Knights | R11: Loveland | Z11: Austin | AD11: 6 | AE11: Extend stay not pd
A12: 7 | AD12: 7
A13: 8 | D13: Crockford | K13: Haden | M13: Maclauchlen | N13: Sheridan | O13: Easton | Q13: McCallum - extra car it seems daughter here? | AA13: Shepperd | AD13: 8 | AE13: Not here
A14: 9 | D14: Lennon | N14: Searle | S14: extended | Z14: extended | AD14: 9 | AE14: Seasonal pitch
A15: 10 | D15: Evans | J15: L Walsh | Q15: Hammond | U15: Hill | X15: Green | AB15: Rogers | AD15: 10 | AE15: late stay
A16: 11 | K16: Stickland | N16: Summerfield | Q16: K.Walsh | X16: Mel | Z16: ` | AA16: Cutler | AD16: 11 | AE16: Hard Standing
A17: 12 | E17: Taylor | M17: Moores | O17: Burrows | R17: Dawson | S17: Cartwright | AB17: Jehu | AD17: 12
A18: 13 | B18: Sue cont… | F18: 4 | M18: 5 | T18: 6 | U18: £600 pd | AA18: 1 | AD18: 13
A19: 14 | B19: Dyson DAVIES | L19: £322 Due | R19: 1 | Y19: 2 | Z19: pd | AD19: 14 | AE19: Not in use
A20: 15 | Q20: Baker | S20: Graham | AD20: 15
A21: 16 | AC21: Morgan | AD21: 16 | AE21: Bank holiday
A22: 16a | AD22: 16a | AE22: Peak
A23: 17 | AD23: 17 | AE23: Off Peak
A24: 17a | AD24: 17a | AE24: Cancelled
A25: 18 | AD25: 18 | AE25: Non arrival
A26: 18a | AD26: 18a
A27: 19 | H27: Andrews | J27: Lester | M27: Lubacz | Q27: Sullivan | U27: O'Neil | V27: Holt | X27: Worden | Y27: Dawson | Z27: Robinson | AB27: Danton | AD27: 19 | AE27: =ALERTS!E21 -> 0
A28: 20 | H28: Perris | J28: Wingfield | N28: Sinclair | R28: Birch | T28: Burrell | V28: Pursglove | X28: Summersgill | Z28: Ground | AB28: Robinson | AD28: 20 | AE28: =ALERTS!E22 -> 0
A29: 21 | D29: Sutcliffe | H29: Beacham | N29: Nethercott | Q29: Harrison | R29: Roberts | T29: Stevens | U29: Oakes | V29: Tinker | X29: Lesley Allen | AD29: 21 | AE29: =ALERTS!E23 -> 0
A30: 22 | B30: Thomson cont… | E30: 3 | L30: 4 | S30: 5 | Z30: 6 | AD30: 22
A31: Pitch | B31: Wed | C31: Thu | D31: Fri | E31: Sat | F31: Sun | G31: Mon | H31: Tue | I31: Wed | J31: Thu | K31: Fri | L31: Sat | M31: Sun | N31: Mon | O31: Tue | P31: Wed | Q31: Thu | R31: Fri | S31: Sat | T31: Sun | U31: Mon | V31: Tue | W31: Wed | X31: Thu | Y31: Fri | Z31: Sat | AA31: Sun | AB31: Mon | AC31: Tues | AD31: Pitch
A32: No. | B32: 1 | C32: 2 | D32: 3 | E32: 4 | F32: 5 | G32: 6 | H32: 7 | I32: 8 | J32: 9 | K32: 10 | L32: 11 | M32: 12 | N32: 13 | O32: 14 | P32: 15 | Q32: 16 | R32: 17 | S32: 18 | T32: 19 | U32: 20 | V32: 21 | W32: 22 | X32: 23 | Y32: 24 | Z32: 25 | AA32: 26 | AB32: 27 | AC32: 28 | AD32: No.
A33: 23 | B33: Jenkins cont.. | G33: 1 | N33: 2 | Q33: pd 18n up to | T33: 4n | AA33: 1 | AD33: 23 | AE33: TODAY IS
A34: 23a | B34: Silurian Security | M34: Darol pd | Q34: M4 BKX | S34: Crawford | X34: L Walsh | AD34: 23a | AE34: =TODAY() -> 42833
A35: 24 | B35: Paul Middleton Cont… | K35: 2 | V35: Stella & Bills camper it can be moved if need pitch | AB35: Poster lads | AD35: 24
A36: 25 | B36: Vacher cont.. | F36: 3 | M36: 1 | T36: 2 | AA36: 3 | AD36: 25
A37: 26 | B37: Paul Middleton Cont… | AD37: 26
A38: 27 | B38: Ratnik | H38: spoke to Damien 21 Feb - told him he owes £150 storage - will be here from Sun 26 Feb | AB38: ak11vpr | AD38: 27
A39: 28 | P39: Dalby | X39: Pip & Wayne | AD39: 28 | AG39: duty w
A40: 29 | B40: Prier | E40: Reay | H40: Chapple | L40: Fisher | N40: Howarth | P40: Dunn-Wilson | S40: Potts | U40: Mathias | X40: Hayes | Y40: Todd | AB40: Balmer | AD40: 29 | AE40: NO DOGS
...

Sheet Mar 2017
A1: Back up 31 March @1630 | AH1: INDEX - Colour code
B2: Theatre | I2: OFF PEAK | K2: wedding | L2: - | Q2: OFF PEAK | V2: BHPA | X2: OFF PEAK | AD2: OFF PEAK
A3: Pitch | B3: Wed | C3: Thu | D3: Fri | E3: Sat | F3: Sun | G3: Mon | H3: Tue | I3: Wed | J3: Thu | K3: Fri | L3: Sat | M3: Sun | N3: Mon | O3: Tue | P3: Wed | Q3: Thu | R3: Fri | S3: Sat | T3: Sun | U3: Mon | V3: Tue | W3: Wed | X3: Thu | Y3: Fri | Z3: Sat | AA3: Sun | AB3: Mon | AC3: Tues | AD3: Wed | AE3: Thur | AF3: Fri | AG3: Pitch | AH3: Caravan
A4: No. | B4: 1 | C4: 2 | D4: 3 | E4: 4 | F4: 5 | G4: 6 | H4: 7 | I4: 8 | J4: 9 | K4: 10 | L4: 11 | M4: 12 | N4: 13 | O4: 14 | P4: 15 | Q4: 16 | R4: 17 | S4: 18 | T4: 19 | U4: 20 | V4: 21 | W4: 22 | X4: 23 | Y4: 24 | Z4: 25 | AA4: 26 | AB4: 27 | AC4: 28 | AD4: 29 | AE4: 30 | AF4: 31 | AG4: No. | AH4: Motorhome
A5: 1 | D5: Hart | I5: Armstrong | M5: Allen | N5: Balmer | Q5: Beer | AA5: Beamont | AG5: 1 | AH5: Camper van
A6: 1a | AG6: 1a | AH6: RV
A7: 2 | AG7: 2
A8: 3 | I8: Fox | N8: Gardener | AG8: 3 | AH8: Tent
A9: 4 | AG9: 4 | AH9: Trailer tent
A10: 5 | R10: Fisher | AG10: 5
A11: 6 | R11: Bull | AG11: 6 | AH11: Extend stay not pd
A12: 7 | AD12: S Smeyers | AG12: 7
A13: 8 | H13: Field | M13: Hughes | O13: Setter | T13: Fargar | U13: Chipperton | X13: Noble | Y13: Harrell | AA13: Allen | AG13: 8 | AH13: Not here
A14: 9 | B14: cont.. | G14: Darby | J14: Palmer | S14: Chaisty | T14: Howting | Z14: Lewis | AG14: 9 | AH14: Seasonal pitch
A15: 10 | J15: Darby | N15: Stansfield | O15: Darby | Q15: Carey | R15: Eldridge | T15: Nesbitt | Z15: Hammond | AG15: 10 | AH15: late stay
A16: 11 | C16: Squire | K16: Barton pls do not move | N16: Bradley | O16: Judd | Q16: Mason | T16: Haynes | U16: Day | AF16: Dryden | AG16: 11
A17: 12 | E17: Thompson | K17: Gathern pls do not move | P17: Davis | S17: Hudson | U17: West | V17: Duckworth | X17: Manning | Y17: Hopkins | AC17: Short | AG17: 12
A18: 13 | B18: Sue Korczakowski cont… | J18: Phillips | N18: Elliot | Y18: Noble | Z18: Hopkins/Eagle | AG18: 13 | AH18: Hard Standing
A19: 14 | B19: Davies cont. | D19: 1 | S19: Davis back | AG19: 14 | AH19: Not in use
A20: 15 | AG20: 15
A21: 16 | AF21: Hardy | AG21: 16 | AH21: Bank holiday
A22: 16a | AG22: 16a | AH22: Peak
A23: 17 | AG23: 17 | AH23: Off Peak
A24: 17a | AG24: 17a
A25: 18 | AG25: 18 | AH25: Non arrival
A26: 18a | AG26: 18a | AH26: Cancelled
A27: 19 | N27: White | Q27: Parton | T27: Rose | U27: Bruton | AA27: 1 | AG27: 19
A28: 20 | B28: Robinson Continued | G28: Richards | K28: Sharp | N28: Rogers | Q28: Grace | R28: James | T28: Quincey | W28: LaMourey | Y28: Swan | AA28: VN16 KWS | AG28: 20
A29: 21 | B29: Lesley Allen Cont.. | C29: Childs | D29: Rollston | E29: Hull | F29: Roe | G29: Brown | J29: Morton | K29: Holland | Q29: Sanders | R29: Jones | U29: Folkes | X29: Houghton | Y29: Duguid | AA29: Usher | AD29: Batge | AE29: Lagdon | AF29: Reeves | AG29: 21
A30: 22 | B30: Thomson cont… | E30: 7 | K30: Fitzgerald | Q30: Taylor | W30: Gray | AC30: Edwards | AF30: Stoddard | AG30: 22
A31: Pitch | B31: =B3 -> Wed | C31: =C3 -> Thu | D31: =D3 -> Fri | E31: =E3 -> Sat | F31: =F3 -> Sun | G31: =G3 -> Mon | H31: =H3 -> Tue | I31: =I3 -> Wed | ... AF31: =AF3 -> Fri | AG31: Pitch
A32: No. | B32: 1 | C32: 2 | D32: 3 | E32: 4 | F32: 5 | G32: 6 | H32: 7 | I32: 8 | J32: 9 | K32: 10 | L32: 11 | M32: 12 | N32: 13 | O32: 14 | P32: 15 | Q32: 16 | R32: 17 | S32: 18 | T32: 19 | U32: 20 | V32: 21 | W32: 22 | X32: 23 | Y32: 24 | Z32: 25 | AA32: 26 | AB32: 27 | AC32: 28 | AD32: 29 | AE32: 30 | AF32: 31 | AG32: No. | AH32: TODAY IS
A33: 23 | B33: Jenkins cont.. | G33: Pd | M33: 1 | T33: 2 | AA33: 1 | AG33: 23 | AH33: =TODAY() -> 42833
A34: 23a | C34: kitcher | D34: Cain | G34: Underwood | R34: Hull | AG34: 23a
A35: 24 | B35: cont.. | U35: Walker | W35: cruise 12n | AG35: 24
A36: 25 | B36: Vacher | F36: 1 | M36: 2 | T36: 1 | AA36: 2 | AG36: 25
A37: 26 | B37: Sue Korczakowski cont… | F37: 2 | AB37: Jeffery | AG37: 26
A38: 27 | B38: Ratnik | E38: he said they are back in 3wks | K38: 1 | R38: 2 | Y38: 3 | AF38: 4 | AG38: 27
A39: 28 | B39: Pip | C39: off | F39: off | H39: off | J39: off | L39: off | M39: off | P39: off | Q39: off | T39: off | U39: off | X39: off | Y39: off | AB39: off | AC39: off | AF39: off | AG39: 28
A40: 29 | B40: cont… | C40: Yates | D40: Not in use | E40: Leah | F40: Not in use | G40: Parkinson | J40: Martin | K40: Partridge | M40: Evans | O40: Eastby | P40: Hawley | Q40: Olsen | R40: Gillian | T40: Parry | W40: CAREY | Y40: Trigg | AB40: Balmer | AG40: 29 | AH40: NO DOGS
...

Sheet April 2017
A1: BACK-UP 7April @ 1830 | AG1: INDEX - Colour code
D2: charity lunch | J2: PEAK | O2: GOOD Fri | R2: Easter | V2: PEAK | Z2: OFF PEAK | AD2: BANK | AE2: HOL
A3: Pitch | B3: Sat | C3: Sun | D3: Mon | E3: Tue | F3: Wed | G3: Thu | H3: Fri | I3: Sat | J3: Sun | K3: Mon | L3: Tue | M3: Wed | N3: Thu | O3: Fri | P3: Sat | Q3: Sun | R3: Mon | S3: Tue | T3: Wed | U3: Thu | V3: Fri | W3: Sat | X3: Sun | Y3: Mon | Z3: Tue | AA3: Wed | AB3: Thur | AC3: Fri | AD3: Sat | AE3: Sun | AF3: Pitch | AG3: Caravan
A4: No. | B4: 1 | C4: 2 | D4: 3 | E4: 4 | F4: 5 | G4: 6 | H4: 7 | I4: 8 | J4: 9 | K4: 10 | L4: 11 | M4: 12 | N4: 13 | O4: 14 | P4: 15 | Q4: 16 | R4: 17 | S4: 18 | T4: 19 | U4: 20 | V4: 21 | W4: 22 | X4: 23 | Y4: 24 | Z4: 25 | AA4: 26 | AB4: 27 | AC4: 28 | AD4: 29 | AE4: 30 | AF4: No. | AG4: Motorhome
A5: 1 | C5: Sutherland | AF5: 1 | AG5: Camper van
A6: 2 | D6: Booth | K6: Tinker | T6: Paskins | AF6: 2 | AG6: RV
A7: 3a | AD7: Jones | AF7: 3a
A8: 3 | B8: Hayes | O8: Hobbs | AF8: 3 | AG8: Tent
A9: 4 | V9: O'Hanlon | AF9: 4 | AG9: Trailer tent
A10: 5 | B10: Newby | O10: Bull | V10: Hawkrigg | Y10: Weston | AF10: 5
A11: 6 | D11: Darby | N11: Hanton | U11: Magee | AC11: Harvey | AF11: 6 | AG11: Extend stay not pd
A12: 7 | B12: McDermott | D12: S Smeyers | O12: Buelow | P12: Tasker | Q12: June & Tony - DO NOT MOVE thanks SM | AF12: 7
A13: 8 | B13: Lush-Smith | C13: King | N13: Timmins | Y13: Meek | AF13: 8 | AG13: Not here
A14: 9 | C14: Govier | H14: Naylor | AF14: 9 | AG14: Seasonal pitch
A15: 10 | B15: Witts | D15: mardell | F15: Petch | G15: Mienes | N15: Vanstone | U15: Clay | Z15: Hawker | AF15: 10 | AG15: late stay
A16: 11 | B16: cont…. | E16: Saffrette | M16: Wood | N16: Beamont - Thelma & John | S16: Corfield | AF16: 11 | AG16: Hard Standing
A17: 12 | B17: cont.. | E17: House | J17: Bridgewater - Carol & Alan req plot 12 BB4 | R17: DO NOT MOVE | AF17: 12
A18: 13 | J18: Weir | O18: Barnes | W18: Saunders | AF18: 13
A19: 14 | H19: Evans | O19: Hardie | S19: Wilmer | AF19: 14 | AG19: Not in use
A20: 15 | AF20: 15
A21: 16 | B21: cont.. | L21: Appleton pls do not move | AF21: 16 | AG21: Bank holiday
A22: 16a | N22: Reece pls do not move | AF22: 16a | AG22: Peak
A23: 17 | N23: Buckingham | X23: Owen | AF23: 17 | AG23: Off Peak
A24: 17a | N24: Buckingham/Hall | AF24: 17a | AG24: Cancelled
A25: 18 | AF25: 18 | AG25: Non arrival
A26: 18a | AF26: 18a
A27: 19 | B27: cont6… | E27: Costello | G27: Galli | X27: Monk | AF27: 19 | AG27: =ALERTS!E27 -> 0
A28: 20 | B28: cont.. | E28: Costello/ Bollard | N28: Oaton | Q28: Grain | AF28: 20 | AG28: =ALERTS!E28 -> 0
A29: 21 | D29: Eckford | N29: McCarthy | S29: Anderson | W29: Quantick | AF29: 21 | AG29: =ALERTS!E29 -> 0
A30: 22 | B30: cont.. | O30: Lester-Carr | AF30: 22
A31: Pitch | B31: =B3 -> Sat | C31: =C3 -> Sun | D31: =D3 -> Mon | E31: =E3 -> Tue | F31: =F3 -> Wed | G31: =G3 -> Thu | H31: =H3 -> Fri | I31: =I3 -> Sat | ... N31: =N3 -> Thu | O31: Fri | P31: Sat | Q31: Sun | R31: Mon | S31: =S3 -> Tue | T31: =T3 -> Wed | U31: =U3 -> Thu | V31: =V3 -> Fri | W31: =W3 -> Sat | X31: =X3 -> Sun | Y31: =Y3 -> Mon | Z31: =Z3 -> Tue | ... AB31: =AB3 -> Thur | AC31: Fri | AD31: Sat | AE31: Sun | AF31: Pitch
A32: No. | B32: 1 | C32: 2 | D32: 3 | E32: 4 | F32: 5 | G32: 6 | H32: 7 | I32: 8 | J32: 9 | K32: 10 | L32: 11 | M32: 12 | N32: 13 | O32: 14 | P32: 15 | Q32: 16 | R32: 17 | S32: 18 | T32: 19 | U32: 20 | V32: 21 | W32: 22 | X32: 23 | Y32: 24 | Z32: 25 | AA32: 26 | AB32: 27 | AC32: 28 | AD32: 29 | AE32: 30 | AF32: No. | AG32: TODAY IS
A33: 23 | B33: Jenkins cont… | AF33: 23 | AG33: =TODAY() -> 42833
A34: 23a | C34: Gal | AF34: 23a
A35: 24 | B35: CONT.. | C35: Walker | AF35: 24
A36: 25 | B36: Vacher cont… | D36: 3 | J36: 4wks | Q36: 1 | X36: 2 | AE36: 3 | AF36: 25
A37: 26 | B37: Jeffery cont… | I37: pd | P37: £161 due for week see comment on 8th | AF37: 26
A38: 27 | B38: Ratnik cont.. | H38: 5 | AF38: 27
A39: 28 | B39: Pip & Wayne | D39: off | E39: off | I39: off | J39: off | M39: off | N39: off | Q39: off | R39: off | U39: off | V39: off | W39: off | AA39: off | AB39: off | AE39: off | AF39: 28
A40: 29 | D40: Morrison | E40: Bills | H40: Groves | I40: Lee | K40: Balmer | O40: Blackburn | X40: Hill | Y40: Balmer | AF40: 29 | AG40: NO DOGS
...

Sheet May 2017
A1: BACK-UP RECORD HERE | AH1: INDEX - Colour code
C2: ACSI | D2: ACSI | E2: ACSI | F2: ACSI | G2: ACSI | H2: ACSI | I2: ACSI | J2: ACSI | K2: ACSI | L2: ACSI | M2: ACSI | N2: ACSI | O2: ACSI | P2: ACSI | Q2: ACSI | R2: ACSI | S2: ACSI | T2: ACSI | U2: ACSI | V2: ACSI | W2: ACSI | X2: ACSI | Y2: ACSI | AB2: BANK | AC2: HOL | AE2: PEAK
A3: Pitch | B3: Mon | C3: Tue | D3: Wed | E3: Thu | F3: Fri | G3: Sat | H3: Sun | I3: Mon | J3: Tue | K3: Wed | L3: Thu | M3: Fri | N3: Sat | O3: Sun | P3: Mon | Q3: Tue | R3: Wed | S3: Thu | T3: Fri | U3: Sat | V3: Sun | W3: Mon | X3: Tue | Y3: Wed | Z3: Thu | AA3: Fri | AB3: Sat | AC3: Sun | AD3: Mon | AE3: Tues | AF3: Wed | AG3: Pitch | AH3: Caravan
A4: No. | B4: 1 | C4: 2 | D4: 3 | E4: 4 | F4: 5 | G4: 6 | H4: 7 | I4: 8 | J4: 9 | K4: 10 | L4: 11 | M4: 12 | N4: 13 | O4: 14 | P4: 15 | Q4: 16 | R4: 17 | S4: 18 | T4: 19 | U4: 20 | V4: 21 | W4: 22 | X4: 23 | Y4: 24 | Z4: 25 | AA4: 26 | AB4: 27 | AC4: 28 | AD4: 29 | AE4: 30 | AF4: 31 | AG4: No. | AH4: Motorhome
A5: 1 | C5: Stephenson | J5: Raikes | AG5: 1 | AH5: Camper van
A6: 2 | J6: Morgan | AA6: Jennings | AF6: Jones | AG6: 2 | AH6: RV
A7: 3a | AA7: Lees | AG7: 3a
A8: 3 | AG8: 3 | AH8: Tent
A9: 4 | AG9: 4 | AH9: Trailer tent
A10: 5 | AG10: 5
A11: 6 | B11: cont | AG11: 6 | AH11: Extend stay not pd
A12: 7 | AG12: 7
A13: 8 | M13: McAllen | AB13: Lewis | AG13: 8 | AH13: Not here
A14: 9 | AG14: 9 | AH14: Seasonal pitch
A15: 10 | M15: McAllen/Brown | AG15: 10 | AH15: late stay
A16: 11 | Z16: Jeffs | AD16: Quartley | AG16: 11 | AH16: Hard Standing
A17: 12 | X17: Youlton | Z17: Haeney | AG17: 12
A18: 13 | N18: Barron | AE18: Blakemore | AG18: 13
A19: 14 | AG19: 14 | AH19: Not in use
A20: 15 | AG20: 15
A21: 16 | AC21: May/ Nicky | AG21: 16 | AH21: Bank holiday
A22: 16a | AC22: May/ Ratchel | AG22: 16a | AH22: Peak
A23: 17 | AC23: May | AG23: 17 | AH23: Off Peak
A24: 17a | AC24: May/ Sarah | AG24: 17a | AH24: Cancelled
A25: 18 | AG25: 18 | AH25: Non arrival
A26: 18a | AG26: 18a | AH26: late stay
A27: 19 | B27: Sturman | AG27: 19
A28: 20 | B28: Dunton | AG28: 20 | AH28: =ALERTS!E30 -> 0
A29: 21 | K29: Trippe | M29: Phillips | N29: Edwards | U29: Phillips | AG29: 21 | AH29: =ALERTS!E31 -> 0
A30: 22 | T30: Leonie & Malcolm | X30: off | Y30: off | AC30: off | AD30: off | AE30: off | AG30: 22 | AH30: =ALERTS!E32 -> 0
A31: Pitch | B31: Mon | C31: Tue | D31: Wed | E31: Thu | F31: Fri | G31: Sat | H31: Sun | I31: Mon | J31: Tue | K31: Wed | L31: Thu | M31: Fri | N31: Sat | O31: Sun | P31: Mon | Q31: Tue | R31: Wed | S31: Thu | T31: Fri | U31: Sat | V31: Sun | W31: Mon | X31: Tue | Y31: Wed | Z31: Thu | AA31: Fri | AB31: Sat | AC31: Sun | AD31: Mon | AE31: Tues | AF31: Wed | AG31: Pitch
A32: No. | B32: 1 | C32: 2 | D32: 3 | E32: 4 | F32: 5 | G32: 6 | H32: 7 | I32: 8 | J32: 9 | K32: 10 | L32: 11 | M32: 12 | N32: 13 | O32: 14 | P32: 15 | Q32: 16 | R32: 17 | S32: 18 | T32: 19 | U32: 20 | V32: 21 | W32: 22 | X32: 23 | Y32: 24 | Z32: 25 | AA32: 26 | AB32: 27 | AC32: 28 | AD32: 29 | AE32: 30 | AF32: 31 | AG32: No.
A33: 23 | AG33: 23 | AH33: TODAY IS
A34: 23a | E34: Silcox | W34: back from cruise | AG34: 23a | AH34: =TODAY() -> 42833
A35: 24 | AG35: 24
A36: 25 | H36: 4 | AG36: 25
A37: 26 | AG37: 26
A38: 27 | AG38: 27
A39: 28 | B39: off | C39: off | D39: off | H39: off | I39: off | J39: off | O39: off | P39: off | Q39: off | U39: off | V39: off | W39: off | Z39: off | AB39: off | AF39: off | AG39: 28
A40: 29 | O40: Gilbert | R40: Newman | T40: Hewlett | AA40: Macleod | AF40: Rogers | AG40: 29 | AH40: NO DOGS
...

Sheet June 2017
A1: BACK-UP RECORD HERE | AG1: INDEX - Colour code
D2: PEAK | E2: MXGT moto cross | J2: OFF PEAK | Q2: OFF PEAK | Y2: OFF PEAK
A3: Pitch | B3: Thu | C3: Fri | D3: Sat | E3: Sun | F3: Mon | G3: Tue | H3: Wed | I3: Thu | J3: Fri | K3: Sat | L3: Sun | M3: Mon | N3: Tue | O3: Wed | P3: Thu | Q3: Fri | R3: Sat | S3: Sun | T3: Mon | U3: Tue | V3: Wed | W3: Thu | X3: Fri | Y3: Sat | Z3: Sun | AA3: Mon | AB3: Tues | AC3: Wed | AD3: Thur | AE3: Fri | AF3: Pitch | AG3: Caravan
A4: No. | B4: 1 | C4: 2 | D4: 3 | E4: 4 | F4: 5 | G4: 6 | H4: 7 | I4: 8 | J4: 9 | K4: 10 | L4: 11 | M4: 12 | N4: 13 | O4: 14 | P4: 15 | Q4: 16 | R4: 17 | S4: 18 | T4: 19 | U4: 20 | V4: 21 | W4: 22 | X4: 23 | Y4: 24 | Z4: 25 | AA4: 26 | AB4: 27 | AC4: 28 | AD4: 29 | AE4: 30 | AF4: No. | AG4: Motorhome
A5: 1 | AF5: 1 | AG5: Camper van
A6: 2 | AF6: 2 | AG6: RV
A7: 2a | AF7: 2a
A8: 3 | AA8: Whiteley | AF8: 3 | AG8: Tent
A9: 4 | AF9: 4 | AG9: Trailer tent
A10: 5 | E10: Beattie | AB10: Bayliss | AF10: 5
A11: 6 | D11: Little | N11: Wossick | AF11: 6 | AG11: Extend stay not pd
A12: 7 | F12: Brooks | AF12: 7
A13: 8 | B13: cont.. | L13: Booth | AD13: Pickering | AF13: 8 | AG13: Not here
A14: 9 | AF14: 9 | AG14: Seasonal pitch
A15: 10 | M15: Madden Pls don't move as with Stone | AF15: 10 | AG15: late stay
A16: 11 | E16: Brown | N16: Stone pls don't move as with Madden | AF16: 11 | AG16: Hard Standing
A17: 12 | F17: Roberts | Q17: Chaplin | AF17: 12
A18: 13 | AF18: 13
A19: 14 | C19: Barker | AF19: 14 | AG19: Not in use
A20: 15 | AF20: 15
A21: 16 | O21: Murphy | AF21: 16 | AG21: Bank holiday
A22: 16a | O22: Jones | AF22: 16a | AG22: Peak
A23: 17 | O23: Wiggins | AF23: 17 | AG23: Off Peak
A24: 17a | O24: Dowd | AF24: 17a | AG24: Cancelled
A25: 18 | AF25: 18 | AG25: Non arrival
A26: 18a | AF26: 18a | AG26: late stay
A27: 19 | T27: Beattie | AF27: 19
A28: 20 | O28: Bradley | AF28: 20 | AG28: =ALERTS!E33 -> 0
A29: 21 | O29: Corless | AE29: Quantick | AF29: 21 | AG29: =ALERTS!E34 -> 0
A30: 22 | E30: off | F30: off | G30: off | H30: off | L30: off | M30: off | N30: off | S30: off | T30: off | U30: off | V30: off | Z30: off | AA30: off | AB30: off | AF30: 22 | AG30: =ALERTS!E35 -> 0
A31: Pitch | B31: Thu | C31: Fri | D31: Sat | E31: Sun | F31: Mon | G31: Tue | H31: Wed | I31: Thu | J31: Fri | K31: Sat | L31: Sun | M31: Mon | N31: Tue | O31: Wed | P31: Thu | Q31: Fri | R31: Sat | S31: Sun | T31: Mon | U31: Tue | V31: Wed | W31: Thu | X31: Fri | Y31: Sat | Z31: Sun | AA31: Mon | AB31: Tues | AC31: Wed | AD31: Thur | AE31: Fri | AF31: Pitch
A32: No. | B32: 1 | C32: 2 | D32: 3 | E32: 4 | F32: 5 | G32: 6 | H32: 7 | I32: 8 | J32: 9 | K32: 10 | L32: 11 | M32: 12 | N32: 13 | O32: 14 | P32: 15 | Q32: 16 | R32: 17 | S32: 18 | T32: 19 | U32: 20 | V32: 21 | W32: 22 | X32: 23 | Y32: 24 | Z32: 25 | AA32: 26 | AB32: 27 | AC32: 28 | AD32: 29 | AE32: 30 | AF32: No.
A33: 23 | AF33: 23 | AG33: TODAY IS
A34: 23a | AF34: 23a | AG34: =TODAY() -> 42833
A35: 24 | AF35: 24
A36: 25 | AF36: 25
A37: 26 | AF37: 26
A38: 27 | AF38: 27
A39: 28 | B39: off | C39: off | D39: off | I39: off | J39: off | K39: off | O39: off | P39: off | Q39: off | R39: off | W39: off | X39: off | Y39: off | AC39: off | AD39: off | AE39: off | AF39: 28
A40: 29 | Q40: Jones | X40: S | Z40: Lewis | AE40: Craig | AF40: 29 | AG40: NO DOGS
...

Sheet July 2017
A1: BACK-UP RECORD HERE | AH1: INDEX - Colour code
D2: OFF PEAK | J2: OFF PEAK | Q2: OFF PEAK | Y2: PEAK | AD2: PEAK
A3: Pitch | B3: Sat | C3: Sun | D3: Mon | E3: Tue | F3: Wed | G3: Thu | H3: Fri | I3: Sat | J3: Sun | K3: Mon | L3: Tue | M3: Wed | N3: Thu | O3: Fri | P3: Sat | Q3: Sun | R3: Mon | S3: Tue | T3: Wed | U3: Thu | V3: Fri | W3: Sat | X3: Sun | Y3: Mon | Z3: Tue | AA3: Wed | AB3: Thu | AC3: Fri | AD3: Sat | AE3: Sun | AF3: Mon | AG3: Pitch | AH3: Caravan
A4: No. | B4: 1 | C4: 2 | D4: 3 | E4: 4 | F4: 5 | G4: 6 | H4: 7 | I4: 8 | J4: 9 | K4: 10 | L4: 11 | M4: 12 | N4: 13 | O4: 14 | P4: 15 | Q4: 16 | R4: 17 | S4: 18 | T4: 19 | U4: 20 | V4: 21 | W4: 22 | X4: 23 | Y4: 24 | Z4: 25 | AA4: 26 | AB4: 27 | AC4: 28 | AD4: 29 | AE4: 30 | AF4: 31 | AG4: No. | AH4: Motorhome
A5: 1 | AG5: 1 | AH5: Camper van
A6: 2 | C6: Hounsley | G6: Erusmun | L6: May extend | AF6: Puyriguad | AG6: 2 | AH6: RV
A7: 2a | AD7: Kindon | AF7: Puyriguad | AG7: 2a
A8: 3 | AG8: 3 | AH8: Tent
A9: 4 | AG9: 4 | AH9: Trailer tent
A10: 5 | B10: cont.. | AG10: 5
A11: 6 | G11: Moorley | V11: Hanky | AG11: 6 | AH11: Extend stay not pd
A12: 7 | AG12: 7
A13: 8 | B13: Pickering cont….. | AG13: 8 | AH13: Not here
A14: 9 | AG14: 9 | AH14: Seasonal pitch
A15: 10 | H15: Trill | AG15: 10 | AH15: late stay
A16: 11 | H16: Stone | AD16: Keith | AG16: 11 | AH16: Hard Standing
A17: 12 | H17: Hampson | Z17: Roberts - DO NOT MOVE | AG17: 12
A18: 13 | H18: Simmonds | AG18: 13
A19: 14 | H19: Easton | AG19: 14 | AH19: Not in use
A20: 15 | I20: Cullen / Brown - £21 | AG20: 15
A21: 16 | H21: Cullen - £52 | W21: Betton | AE21: Ogelfby | AG21: 16 | AH21: Bank holiday
A22: 16a | H22: Cullen / Ward - £52 | W22: Davies | AG22: 16a | AH22: Peak
A23: 17 | H23: Cullen/ Newcombe - £ | W23: Deakin | AC23: Hallard/Adlard | AG23: 17 | AH23: Off Peak
A24: 17a | H24: Cullen/ Pugh - £52 | W24: Deakin/Corker | AC24: Hallard/Reid | AG24: 17a | AH24: Cancelled
A25: 18 | W25: Deakin/Mahoney | AC25: Hallard/Smith | AG25: 18 | AH25: Non arrival
A26: 18a | I26: Cullen / Parsons £21 | R26: Tiplady | AC26: Hallard / Littlewood | AG26: 18a | AH26: late stay
A27: 19 | H27: Cullen/Night | R27: Tiplady | AC27: Hallard/Rogers | AG27: 19
A28: 20 | AC28: Hallard | AF28: Wallace-Edwards | AG28: 20 | AH28: =ALERTS!E36 -> 0
A29: 21 | AG29: 21 | AH29: =ALERTS!E37 -> 0
A30: 22 | C30: off | D30: off | E30: off | F30: off | J30: off | K30: off | L30: off | Q30: off | R30: off | S30: off | T30: off | X30: off | Y30: off | Z30: off | AE30: off | AF30: off | AG30: 22 | AH30: =ALERTS!E38 -> 0
A31: Pitch | B31: Sat | C31: Sun | D31: Mon | E31: Tue | F31: Wed | G31: Thu | H31: Fri | I31: Sat | J31: Sun | K31: Mon | L31: Tue | M31: Wed | N31: Thu | O31: Fri | P31: Sat | Q31: Sun | R31: Mon | S31: Tue | T31: Wed | U31: Thu | V31: Fri | W31: Sat | X31: Sun | Y31: Mon | Z31: Tue | AA31: Wed | AB31: Thu | AC31: Fri | AD31: Sat | AE31: Sun | AF31: Mon | AG31: Pitch
A32: No. | B32: 1 | C32: 2 | D32: 3 | E32: 4 | F32: 5 | G32: 6 | H32: 7 | I32: 8 | J32: 9 | K32: 10 | L32: 11 | M32: 12 | N32: 13 | O32: 14 | P32: 15 | Q32: 16 | R32: 17 | S32: 18 | T32: 19 | U32: 20 | V32: 21 | W32: 22 | X32: 23 | Y32: 24 | Z32: 25 | AA32: 26 | AB32: 27 | AC32: 28 | AD32: 29 | AE32: 30 | AF32: 31 | AG32: No.
A33: 23 | AG33: 23
A34: 23a | AG34: 23a
A35: 24 | AG35: 24 | AH35: TODAY IS
A36: 25 | AG36: 25 | AH36: =TODAY() -> 42833
A37: 26 | AG37: 26
A38: 27 | AG38: 27
A39: 28 | B39: off | G39: off | H39: off | I39: off | M39: off | N39: off | O39: off | P39: off | U39: off | V39: off | W39: off | AA39: off | AB39: off | AC39: off | AD39: off | AG39: 28
A40: 29 | B40: Craige cont… away on cruise | AG40: 29 | AH40: NO DOGS
...

Sheet Aug 2017
A1: BACK-UP RECORD HERE | AH1: INDEX - Colour code
F2: P E A K | K2: P E A K | Q2: P E A K | AB2: BANK | AC2: HOL
A3: Pitch | B3: Tue | C3: Wed | D3: Thu | E3: Fri | F3: Sat | G3: Sun | H3: Mon | I3: Tue | J3: Wed | K3: Thu | L3: Fri | M3: Sat | N3: Sun | O3: Mon | P3: Tue | Q3: Wed | R3: Thu | S3: Fri | T3: Sat | U3: Sun | V3: Mon | W3: Tue | X3: Wed | Y3: Thu | Z3: Fri | AA3: Sat | AB3: Sun | AC3: Mon | AD3: Tues | AE3: Wed | AF3: Thur | AG3: Pitch | AH3: Caravan
A4: No. | B4: 1 | C4: 2 | D4: 3 | E4: 4 | F4: 5 | G4: 6 | H4: 7 | I4: 8 | J4: 9 | K4: 10 | L4: 11 | M4: 12 | N4: 13 | O4: 14 | P4: 15 | Q4: 16 | R4: 17 | S4: 18 | T4: 19 | U4: 20 | V4: 21 | W4: 22 | X4: 23 | Y4: 24 | Z4: 25 | AA4: 26 | AB4: 27 | AC4: 28 | AD4: 29 | AE4: 30 | AF4: 31 | AG4: No. | AH4: Motorhome
A5: 1 | AG5: 1 | AH5: Camper van
A6: 1a | AG6: 1a | AH6: RV
A7: 2 | X7: Meirano | AG7: 2
A8: 3 | M8: Hennessy | AG8: 3 | AH8: Tent
A9: 4 | AG9: 4 | AH9: Trailer tent
A10: 5 | AG10: 5
A11: 6 | M11: Blackburn | AG11: 6 | AH11: Extend stay not pd
A12: 7 | F12: Jacks | AG12: 7
A13: 8 | M13: Fowler | AG13: 8 | AH13: Not here
A14: 9 | B14: seasonal cont… | AG14: 9 | AH14: Seasonal pitch
A15: 10 | AG15: 10 | AH15: late stay
A16: 11 | D16: Lewthwaite | AA16: Gill | AD16: Edwards | AG16: 11 | AH16: Hard Standing
A17: 12 | C17: Norton | AG17: 12
A18: 13 | AG18: 13
A19: 14 | AG19: 14 | AH19: Not in use
A20: 15 | AG20: 15
A21: 16 | B21: cont…. | AG21: 16 | AH21: Bank holiday
A22: 16a | AG22: 16a | AH22: Peak
A23: 17 | AG23: 17 | AH23: Off Peak
A24: 17a | AG24: 17a | AH24: Cancelled
A25: 18 | AG25: 18 | AH25: Non arrival
A26: 18a | AG26: 18a
A27: 19 | AG27: 19
A28: 20 | B28: cont…. | AG28: 20 | AH28: =ALERTS!E39 -> 0
A29: 21 | B29: Bainbridge | AD29: Hill | AG29: 21 | AH29: =ALERTS!E40 -> 0
A30: 22 | B30: off | C30: off | G30: off | H30: off | I30: off | N30: off | O30: off | P30: off | Q30: off | U30: off | V30: off | W30: off | AB30: off | AC30: off | AD30: off | AE30: off | AG30: 22 | AH30: =ALERTS!E41 -> 0
A31: Pitch | B31: Tue | C31: Wed | D31: Thu | E31: Fri | F31: Sat | G31: Sun | H31: Mon | I31: Tue | J31: Wed | K31: Thu | L31: Fri | M31: Sat | N31: Sun | O31: Mon | P31: Tue | Q31: Wed | R31: Thu | S31: Fri | T31: Sat | U31: Sun | V31: Mon | W31: Tue | X31: Wed | Y31: Thu | Z31: Fri | AA31: Sat | AB31: Sun | AC31: Mon | AD31: Tues | AE31: Wed | AF31: Thur | AG31: Pitch
A32: No. | B32: 1 | C32: 2 | D32: 3 | E32: 4 | F32: 5 | G32: 6 | H32: 7 | I32: 8 | J32: 9 | K32: 10 | L32: 11 | M32: 12 | N32: 13 | O32: 14 | P32: 15 | Q32: 16 | R32: 17 | S32: 18 | T32: 19 | U32: 20 | V32: 21 | W32: 22 | X32: 23 | Y32: 24 | Z32: 25 | AA32: 26 | AB32: 27 | AC32: 28 | AD32: 29 | AE32: 30 | AF32: 31 | AG32: No.
A33: 23 | AG33: 23
A34: 23a | AG34: 23a
A35: 24 | AG35: 24 | AH35: TODAY IS
A36: 25 | AG36: 25 | AH36: =TODAY() -> 42833
A37: 26 | AG37: 26
A38: 27 | AG38: 27
A39: 28 | D39: off | E39: off | F39: off | J39: off | K39: off | L39: off | M39: off | R39: off | S39: off | T39: off | X39: off | Y39: off | AA39: off | AE39: off | AF39: off | AG39: 28
A40: 29 | AG40: 29 | AH40: NO DOGS
...

Sheet Sept 2017
A1: BACK-UP RECORD HERE | AG1: INDEX - Colour code
B2: PEAK | E2: OFF | F2: PEAK | Q2: BOAT SHOW | AA2: OFF | AB2: PEAK
A3: Pitch | B3: Fri | C3: Sat | D3: Sun | E3: Mon | F3: Tue | G3: Wed | H3: Thu | I3: Fri | J3: Sat | K3: Sun | L3: Mon | M3: Tue | N3: Wed | O3: Thu | P3: Fri | Q3: Sat | R3: Sun | S3: Mon | T3: Tue | U3: Wed | V3: Thu | W3: Fri | X3: Sat | Y3: Sun | Z3: Mon | AA3: Tue | AB3: Wed | AC3: Thur | AD3: Fri | AE3: Sat | AF3: Pitch | AG3: Caravan
A4: No. | B4: 1 | C4: 2 | D4: 3 | E4: 4 | F4: 5 | G4: 6 | H4: 7 | I4: 8 | J4: 9 | K4: 10 | L4: 11 | M4: 12 | N4: 13 | O4: 14 | P4: 15 | Q4: 16 | R4: 17 | S4: 18 | T4: 19 | U4: 20 | V4: 21 | W4: 22 | X4: 23 | Y4: 24 | Z4: 25 | AA4: 26 | AB4: 27 | AC4: 28 | AD4: 29 | AE4: 30 | AF4: No. | AG4: Motorhome
A5: 1 | AF5: 1 | AG5: Camper van
A6: 2 | O6: James Burt - DO NOT MOVE | AF6: 2 | AG6: RV
A7: 3 | AF7: 3
A8: 4 | AF8: 4 | AG8: Tent
A9: 5 | AF9: 5 | AG9: Trailer tent
A10: 6 | AF10: 6
A11: 7 | AF11: 7 | AG11: Extend stay not pd
A12: 8 | P12: Browne | AC12: Eames | AF12: 8
A13: 9 | O13: Woodward / Abbott | AF13: 9 | AG13: Not here
A14: 10 | O14: Woodward | AF14: 10 | AG14: Seasonal pitch
A15: 11 | U15: O'Reilly | AF15: 11 | AG15: late stay
A16: 12 | AF16: 12 | AG16: Hard Standing
A17: 13 | AF17: 13
A18: 14 | AF18: 14
A19: 15 | AF19: 15 | AG19: Not in use
A20: 16 | AF20: 16
A21: 16a | AF21: 16a | AG21: Bank holiday
A22: 17 | AF22: 17 | AG22: Peak
A23: 17a | AF23: 17a | AG23: Off Peak
A24: 18 | AF24: 18 | AG24: Cancelled
A25: 18a | AF25: 18a | AG25: Non arrival
A26: 19 | AF26: 19 | AG26: late stay
A27: 20 | AF27: 20
A28: 21 | D28: Bainbridge | W28: Grice | AF28: 21 | AG28: =ALERTS!E42 -> 0
A29: 22 | D29: off | E29: off | F29: off | K29: off | L29: off | M29: off | N29: off | R29: off | S29: off | T29: off | Y29: off | Z29: off | AA29: off | AB29: off | AF29: 22 | AG29: =ALERTS!E43 -> 0
A30: Pitch | B30: Fri | C30: Sat | D30: Sun | E30: Mon | F30: Tue | G30: Wed | H30: Thu | I30: Fri | J30: Sat | K30: Sun | L30: Mon | M30: Tue | N30: Wed | O30: Thu | P30: Fri | Q30: Sat | R30: Sun | S30: Mon | T30: Tue | U30: Wed | V30: Thu | W30: Fri | X30: Sat | Y30: Sun | Z30: Mon | AA30: Tue | AB30: Wed | AC30: Thur | AD30: Fri | AE30: Sat | AF30: Pitch
A31: No. | B31: 1 | C31: 2 | D31: 3 | E31: 4 | F31: 5 | G31: 6 | H31: 7 | I31: 8 | J31: 9 | K31: 10 | L31: 11 | M31: 12 | N31: 13 | O31: 14 | P31: 15 | Q31: 16 | R31: 17 | S31: 18 | T31: 19 | U31: 20 | V31: 21 | W31: 22 | X31: 23 | Y31: 24 | Z31: 25 | AA31: 26 | AB31: 27 | AC31: 28 | AD31: 29 | AE31: 30 | AF31: No.
A32: 23 | AF32: 23
A33: 23a | AF33: 23a | AG33: TODAY IS
A34: 24 | AF34: 24 | AG34: =TODAY() -> 42833
A35: 25 | AF35: 25
A36: 26 | AF36: 26
A37: 27 | AF37: 27
A38: 28 | B38: off | C38: off | G38: off | H38: off | I38: off | J38: off | O38: off | P38: off | Q38: off | U38: off | V38: off | W38: off | X38: off | AC38: off | AD38: off | AE38: off | AF38: 28
A39: 29 | AF39: 29 | AG39: NO DOGS
A40: 30 | AF40: 30 | AG40: NO DOGS
...

Sheet Oct 2017
A1: BACK-UP RECORD HERE | AH1: INDEX - Colour code
H2: OFF PEAK | N2: Podge | R2: OFF PEAK | AC2: fireworks
A3: Pitch | B3: Sun | C3: Mon | D3: Tue | E3: Wed | F3: Thu | G3: Fri | H3: Sat | I3: Sun | J3: Mon | K3: Tue | L3: Wed | M3: Thu | N3: Fri | O3: Sat | P3: Sun | Q3: Mon | R3: Tue | S3: Wed | T3: Thu | U3: Fri | V3: Sat | W3: Sun | X3: Mon | Y3: Tue | Z3: Wed | AA3: Thu | AB3: Fri | AC3: Sat | AD3: Sun | AE3: Mon | AF3: Tues | AG3: Pitch | AH3: Caravan
A4: No. | B4: 1 | C4: 2 | D4: 3 | E4: 4 | F4: 5 | G4: 6 | H4: 7 | I4: 8 | J4: 9 | K4: 10 | L4: 11 | M4: 12 | N4: 13 | O4: 14 | P4: 15 | Q4: 16 | R4: 17 | S4: 18 | T4: 19 | U4: 20 | V4: 21 | W4: 22 | X4: 23 | Y4: 24 | Z4: 25 | AA4: 26 | AB4: 27 | AC4: 28 | AD4: 29 | AE4: 30 | AF4: 31 | AG4: No. | AH4: Motorhome
A5: 1 | AG5: 1 | AH5: Camper van
A6: 2 | AG6: 2 | AH6: RV
A7: 3 | AG7: 3
A8: 4 | AG8: 4 | AH8: Tent
A9: 5 | AG9: 5 | AH9: Trailer tent
A10: 6 | AG10: 6
A11: 7 | AG11: 7 | AH11: Extend stay not pd
A12: 8 | E12: Brown | AG12: 8
A13: 9 | AG13: 9 | AH13: Not here
A14: 10 | AG14: 10 | AH14: Seasonal pitch
A15: 11 | AG15: 11 | AH15: late stay
A16: 12 | AG16: 12 | AH16: Hard Standing
A17: 13 | AG17: 13
A18: 14 | AG18: 14
A19: 15 | AG19: 15 | AH19: Not in use
A20: 16 | AG20: 16
A21: 16a | AG21: 16a | AH21: Bank holiday
A22: 17 | AG22: 17 | AH22: Peak
A23: 17a | AG23: 17a | AH23: Off Peak
A24: 18 | AG24: 18 | AH24: Cancelled
A25: 18a | AG25: 18a | AH25: Non arrival
A26: 19 | AG26: 19
A27: 20 | AG27: 20 | AH27: =ALERTS!E45 -> 0
A28: 21 | AG28: 21 | AH28: =ALERTS!E46 -> 0
A29: 22 | AG29: 22 | AH29: =ALERTS!E47 -> 0
A30: Pitch | B30: Sun | C30: Mon | D30: Tue | E30: Wed | F30: Thu | G30: Fri | H30: Sat | I30: Sun | J30: Mon | K30: Tue | L30: Wed | M30: Thu | N30: Fri | O30: Sat | P30: Sun | Q30: Mon | R30: Tue | S30: Wed | T30: Thu | U30: Fri | V30: Sat | W30: Sun | X30: Mon | Y30: Tue | Z30: Wed | AA30: Thu | AB30: Fri | AC30: Sat | AD30: Sun | AE30: Mon | AF30: Tues | AG30: Pitch
A31: No. | B31: 1 | C31: 2 | D31: 3 | E31: 4 | F31: 5 | G31: 6 | H31: 7 | I31: 8 | J31: 9 | K31: 10 | L31: 11 | M31: 12 | N31: 13 | O31: 14 | P31: 15 | Q31: 16 | R31: 17 | S31: 18 | T31: 19 | U31: 20 | V31: 21 | W31: 22 | X31: 23 | Y31: 24 | Z31: 25 | AA31: 26 | AB31: 27 | AC31: 28 | AD31: 29 | AE31: 30 | AF31: 31 | AG31: No.
A32: 23 | AG32: 23
A33: 23a | AG33: 23a
A34: 24 | AG34: 24 | AH34: TODAY IS
A35: 25 | AG35: 25 | AH35: =TODAY() -> 42833
A36: 26 | AG36: 26
A37: 27 | AG37: 27
A38: 28 | AG38: 28
A39: 29 | AG39: 29 | AH39: NO DOGS
A40: 30 | AG40: 30 | AH40: NO DOGS
...

Sheet Nov 2017
A1: BACK-UP RECORD HERE | AG1: INDEX - Colour code
I2: OFF PEAK | K2: Ryan | R2: OFF PEAK | Z2: OFF PEAK
A3: Pitch | B3: Wed | C3: Thu | D3: Fri | E3: Sat | F3: Sun | G3: Mon | H3: Tue | I3: Wed | J3: Thu | K3: Fri | L3: Sat | M3: Sun | N3: Mon | O3: Tue | P3: Wed | Q3: Thu | R3: Fri | S3: Sat | T3: Sun | U3: Mon | V3: Tue | W3: Wed | X3: Thu | Y3: Fri | Z3: Sat | AA3: Sun | AB3: Mon | AC3: Tues | AD3: Wed | AE3: Thur | AF3: Pitch | AG3: Caravan
A4: No. | B4: 1 | C4: 2 | D4: 3 | E4: 4 | F4: 5 | G4: 6 | H4: 7 | I4: 8 | J4: 9 | K4: 10 | L4: 11 | M4: 12 | N4: 13 | O4: 14 | P4: 15 | Q4: 16 | R4: 17 | S4: 18 | T4: 19 | U4: 20 | V4: 21 | W4: 22 | X4: 23 | Y4: 24 | Z4: 25 | AA4: 26 | AB4: 27 | AC4: 28 | AD4: 29 | AE4: 30 | AF4: No. | AG4: Motorhome
A5: 1 | AF5: 1 | AG5: Camper van
A6: 2 | AF6: 2 | AG6: RV
A7: 3 | AF7: 3
A8: 4 | AF8: 4 | AG8: Tent
A9: 5 | AF9: 5 | AG9: Trailer tent
A10: 6 | AF10: 6
A11: 7 | AF11: 7 | AG11: Extend stay not pd
A12: 8 | AF12: 8
A13: 9 | AF13: 9 | AG13: Not here
A14: 10 | AF14: 10 | AG14: Seasonal pitch
A15: 11 | AF15: 11 | AG15: late stay
A16: 12 | AF16: 12 | AG16: Hard Standing
A17: 13 | AF17: 13
A18: 14 | AF18: 14
A19: 15 | AF19: 15 | AG19: Not in use
A20: 16 | AF20: 16
A21: 16a | AF21: 16a | AG21: Bank holiday
A22: 17 | AF22: 17 | AG22: Peak
A23: 17a | AF23: 17a | AG23: Off Peak
A24: 18 | AF24: 18 | AG24: Cancelled
A25: 18a | AF25: 18a | AG25: Non arrival
A26: 19 | AF26: 19
A27: 20 | X27: Ward | AF27: 20 | AG27: =ALERTS!E48 -> 0
A28: 21 | AF28: 21 | AG28: =ALERTS!E49 -> 0
A29: 22 | AF29: 22 | AG29: =ALERTS!E50 -> 0
A30: Pitch | B30: Wed | C30: Thu | D30: Fri | E30: Sat | F30: Sun | G30: Mon | H30: Tue | I30: Wed | J30: Thu | K30: Fri | L30: Sat | M30: Sun | N30: Mon | O30: Tue | P30: Wed | Q30: Thu | R30: Fri | S30: Sat | T30: Sun | U30: Mon | V30: Tue | W30: Wed | X30: Thu | Y30: Fri | Z30: Sat | AA30: Sun | AB30: Mon | AC30: Tues | AD30: Wed | AE30: Thur | AF30: Pitch
A31: No. | B31: 1 | C31: 2 | D31: 3 | E31: 4 | F31: 5 | G31: 6 | H31: 7 | I31: 8 | J31: 9 | K31: 10 | L31: 11 | M31: 12 | N31: 13 | O31: 14 | P31: 15 | Q31: 16 | R31: 17 | S31: 18 | T31: 19 | U31: 20 | V31: 21 | W31: 22 | X31: 23 | Y31: 24 | Z31: 25 | AA31: 26 | AB31: 27 | AC31: 28 | AD31: 29 | AE31: 30 | AF31: No.
A32: 23 | AF32: 23
A33: 23a | AF33: 23a | AG33: TODAY IS
A34: 24 | AF34: 24 | AG34: =TODAY() -> 42833
A35: 25 | AF35: 25
A36: 26 | AF36: 26
A37: 27 | AF37: 27
A38: 28 | AF38: 28
A39: 29 | AF39: 29 | AG39: NO DOGS
A40: 30 | AF40: 30 | AG40: NO DOGS
...

Sheet Dec 2017
A1: BACK-UP RECORD HERE | AH1: INDEX - Colour code
I2: OFF PEAK | R2: OFF PEAK | Y2: P E A K | AD2: P E A K
A3: Pitch | B3: Fri | C3: Sat | D3: Sun | E3: Mon | F3: Tue | G3: Wed | H3: Thu | I3: Fri | J3: Sat | K3: Sun | L3: Mon | M3: Tue | N3: Wed | O3: Thu | P3: Fri | Q3: Sat | R3: Sun | S3: Mon | T3: Tue | U3: Wed | V3: Thu | W3: Fri | X3: Sat | Y3: Sun | Z3: Mon | AA3: Tue | AB3: Wed | AC3: Thur | AD3: Fri | AE3: Sat | AF3: Sun | AG3: Pitch | AH3: Caravan
A4: No. | B4: 1 | C4: 2 | D4: 3 | E4: 4 | F4: 5 | G4: 6 | H4: 7 | I4: 8 | J4: 9 | K4: 10 | L4: 11 | M4: 12 | N4: 13 | O4: 14 | P4: 15 | Q4: 16 | R4: 17 | S4: 18 | T4: 19 | U4: 20 | V4: 21 | W4: 22 | X4: 23 | Y4: 24 | Z4: 25 | AA4: 26 | AB4: 27 | AC4: 28 | AD4: 29 | AE4: 30 | AF4: 31 | AG4: No. | AH4: Motorhome
A5: 1 | AG5: 1 | AH5: Camper van
A6: 2 | AG6: 2 | AH6: RV
A7: 3 | AG7: 3
A8: 4 | AG8: 4 | AH8: Tent
A9: 5 | L9: Reeves (to be transferred to March 2018 as soon as booking sheet for next year is available) | AG9: 5 | AH9: Trailer tent
A10: 6 | AG10: 6
A11: 7 | AG11: 7 | AH11: Extend stay not pd
A12: 8 | AG12: 8
A13: 9 | AG13: 9 | AH13: Not here
A14: 10 | AG14: 10 | AH14: Seasonal pitch
A15: 11 | AG15: 11 | AH15: late stay
A16: 12 | AG16: 12 | AH16: Hard Standing
A17: 13 | AG17: 13
A18: 14 | AG18: 14
A19: 15 | AG19: 15 | AH19: Not in use
A20: 16 | AG20: 16
A21: 16a | AG21: 16a | AH21: Bank holiday
A22: 17 | AG22: 17 | AH22: Peak
A23: 17a | AG23: 17a | AH23: Off Peak
A24: 18 | AG24: 18 | AH24: Cancelled
A25: 18a | AG25: 18a | AH25: Non arrival
A26: 19 | AG26: 19
A27: 20 | AG27: 20 | AH27: =ALERTS!E51 -> 0
A28: 21 | Q28: Sharp | AG28: 21 | AH28: =ALERTS!E52 -> 0
A29: 22 | AG29: 22 | AH29: =ALERTS!E53 -> 0
A30: Pitch | B30: Fri | C30: Sat | D30: Sun | E30: Mon | F30: Tue | G30: Wed | H30: Thu | I30: Fri | J30: Sat | K30: Sun | L30: Mon | M30: Tue | N30: Wed | O30: Thu | P30: Fri | Q30: Sat | R30: Sun | S30: Mon | T30: Tue | U30: Wed | V30: Thu | W30: Fri | X30: Sat | Y30: Sun | Z30: Mon | AA30: Tue | AB30: Wed | AC30: Thur | AD30: Fri | AE30: Sat | AF30: Sun | AG30: Pitch
A31: No. | B31: 1 | C31: 2 | D31: 3 | E31: 4 | F31: 5 | G31: 6 | H31: 7 | I31: 8 | J31: 9 | K31: 10 | L31: 11 | M31: 12 | N31: 13 | O31: 14 | P31: 15 | Q31: 16 | R31: 17 | S31: 18 | T31: 19 | U31: 20 | V31: 21 | W31: 22 | X31: 23 | Y31: 24 | Z31: 25 | AA31: 26 | AB31: 27 | AC31: 28 | AD31: 29 | AE31: 30 | AF31: 31 | AG31: No.
A32: 23 | AG32: 23
A33: 23a | AG33: 23a
A34: 24 | AG34: 24 | AH34: TODAY IS
A35: 25 | AG35: 25 | AH35: =TODAY() -> 42833
A36: 26 | AG36: 26
A37: 27 | AG37: 27
A38: 28 | AG38: 28
A39: 29 | AG39: 29 | AH39: NO DOGS
A40: 30 | AG40: 30 | AH40: NO DOGS
...

Sheet Ferry
A1: Adams | E1: back May 16
A2: Anderson | E2: 42186 | H2: POST CODE
A3: Anderson | E3: back Feb 16
A4: Andrews | C4: 01736 710 855
A5: Arcangelo
A6: Atkinson
A7: Bailey | E7: 42036
A8: Baker | E8: 42036
A9: Ball
A10: Barker | E10: 42461
A11: Barlow | E11: back Nov 16
A12: Barnes
A13: Barr | E13: 42552
A14: Barrow | E14: 42675
A15: Batman | E15: 42217
A16: Bentley | E16: 42156
A17: Bentley | E17: 42339
A18: Berry | E18: 42125
A19: Best | E19: 42552
A20: Beven | E20: 42186
A21: Blunt
A22: Bowyer | E22: back June 16 | H22: WR6 6AR
A23: Bradbury | E23: 42370
A24: Braybrook | E24: 42401
A25: Breton | E25: 42552
A26: Brieton | E26: 42552
A27: Brown Eira | E27: 42217
A28: Buckley | H28: NR14 7EU
A29: Burrell | E29: 42767
A30: Burton | E30: 42156
A31: Bussell | E31: 42522
A32: Byiers | E32: 42278
A33: Cairnie | E33: back June 16
A34: Cameron | E34: 42156
A35: Capewell | E35: 42217
A36: Carroll | E36: 42552
A37: Cass
A38: Cawood | E38: 42552 | F38: IOW
A39: Chadwick | E39: 42370
A40: Chadwick | E40: 42370
...

Sheet NOISY
A1: NAME | B1: MOBILE | C1: COMMENT
A2: Oswald | B2: 07966 516 804 | C2: They know people in Thornhill (Ayres) who stayed with them see note, if Oswald back then NO visitors
A3: Ayres | B3: 07959-750056 | C3: It appears that Ayres was the problem or at least someone with them?

Sheet Data Base
A1: Adams | C1: 01481 253029 | D1: stayed b4 - from Gurnsey came back oct 13
A2: Adams
A3: Alan Worthington | D3: Linda Birchwood recommended - owner of caravan park Wareham, stayed whilst working on a boat in Hamble
A4: Allen | D4: back March 17
A5: Andy Cole | B5: 0795 111 8928 | D5: andycole15@talktalk.net | F5: TW2 5GH
A6: Armstrong | D6: back march 17
A7: Ayres - James | D7: Stayed few times 2013 live in France back 22 April 14
A8: Baker | B8: 07850 214 846
A9: Balmer | D9: back on Mondays for 2 or 3 nights | G9: 935 | H9: TR12 6BZ
A10: Balmer Tony | B10: <avbjersey@gmail.com> | C10: Reg: GU02 ESG | D10: stayed 3 times Sep 16 back oct & Nov | G10: 935 | H10: post code TR12 6DZ No number name
A11: Barber Mrs | B11: 07883 149 881
A12: Barker | B12: 07729 733 899 | C12: 01792 404713 | D12: Back in Oct 13
A13: Barnes
A14: Barry | D14: stayed Jan 2016 came off ferry - wardens in 2015 at Wareham owners Sarah & Tony - going to Wales now
A15: Bartlett - Michael | B15: 07918 185 240
A16: Bassett - AD91 EZ Jane & Chris | B16: 0784 0244617
A17: Bateson | D17: Every year stay in Oct - plumb in to water
A18: Bayliss | C18: Sec 071 | D18: caravan mess, 3 cats mess in awning | G18: address: 92 Magellan House, Armouries Way, Leeds LS10 1JG
A19: Beamont - Thelma & John | B19: 0770 246 9016 | C19: 01524 770448 | D19: 2 |+ dog + car 23' M/H - family near by | G19: Doctor | M19: back July 16
A20: Bee | C20: 077 115 127 90 | D20: stayed twice in Nov 15
A21: Beer | D21: rock up for 7n March 17 - near disabled
A22: Bellinger | C22: 01865 727744 | D22: from Oxford - stayed Nov 13 said will be back loved it
A23: Bickerton | B23: 01270 569513 | C23: always Plot 7 | D23: back in July 14 - Stella gave £25 discount as booked for 12 nights | I23: Back again for 13n July 15
A24: Birch (Leah) owe for ex adults | D24: Own Park Homes - developing Riverside July 16
A25: Bissell - David | B25: 0753 4734607 | C25: plot 5 | D25: back sep 2016 grandaughters birthday
A26: Blackburn | B26: 01235 759 491 | C26: 07711 864 304 | D26: son nearby stayed 2015 back Apr 16 for christening
A27: Blair | D27: back Jan 15 from Portsmouth
A28: Blewett | D28: back March 15
A29: Bolle cont.. | D29: Cees from Holland | F29: 43009 | H29: 845 | I29: April
A30: Bone | B30: 7920140720 | D30: 29' came 2012 for wife to have heart op in General Hos
A31: Booth | D31: Back June 17
A32: Bowles | D32: 4659 5073 5182 2044 | F32: Bailey 555 | I32: 42979
A33: Bowman | B33: 07836 259 659 | C33: 01442 265891
A34: Bowness
A35: Box | D35: Family near by stayed 2016 will be back next year in school holidays
A36: Brawn | B36: 077 390 39687 | C36: 01795 870106 | D36: 30'M/H son lives in Shotters Cl off Botley Rd
A37: Bray | B37: 0777 375 1286 | D37: stayed in 2013-back June 2014
A38: Bridgwater m- DO NOT MOVE BOOKED OCT 2014 | C38: 0115 925 4882 | D38: back 2015 & Apr 2016 & 2017 | F38: Carol & Alan | H38: PLOT 12 requested each time
A39: Broadbent - TIMBERLAND | C39: TIMBERLAND | D39: stayed oct 15 in a Timberland had it 8yrs really nice | L39: OO12 6JW
A40: Broomfield | D40: stayed Nov 16 back in Dec 2n | K40: No 4
...

Sheet ALERTS
A1: 42736 | C1: =TODAY() -> 42833 | E1: =C1-A1 -> 97 | G1: 41275 | H1: 0 | I1: =G41+1 -> 41316 | J1: =H41+1 -> 41 | K1: =I41+1 -> 41357 | L1: =J41+1 -> 82 | M1: =K41+1 -> 41398 | N1: =L41+1 -> 123 | O1: =M41+1 -> 41439 | P1: =N41+1 -> 164 | ... X1: =V41+1 -> 328
A2: TO SET AN ALERT: | G2: 41276 | H2: 1 | I2: =I1+1 -> 41317 | J2: =J1+1 -> 42 | K2: =K1+1 -> 41358 | L2: =L1+1 -> 83 | M2: =M1+1 -> 41399 | N2: =N1+1 -> 124 | O2: =O1+1 -> 41440 | P2: =P1+1 -> 165 | ... X2: =X1+1 -> 329
G3: 41277 | H3: 2 | I3: =I2+1 -> 41318 | J3: =J2+1 -> 43 | K3: =K2+1 -> 41359 | L3: =L2+1 -> 84 | M3: =M2+1 -> 41400 | N3: =N2+1 -> 125 | O3: =O2+1 -> 41441 | P3: =P2+1 -> 166 | ... X3: =X2+1 -> 330
A4: 1/. | B4: There are 3 available alerts in any one month | G4: 41278 | H4: 3 | I4: =I3+1 -> 41319 | J4: =J3+1 -> 44 | K4: =K3+1 -> 41360 | L4: =L3+1 -> 85 | M4: =M3+1 -> 41401 | N4: =N3+1 -> 126 | O4: =O3+1 -> 41442 | P4: =P3+1 -> 167 | ... X4: =X3+1 -> 331
G5: 41279 | H5: 4 | I5: =I4+1 -> 41320 | J5: =J4+1 -> 45 | K5: =K4+1 -> 41361 | L5: =L4+1 -> 86 | M5: =M4+1 -> 41402 | N5: =N4+1 -> 127 | O5: =O4+1 -> 41443 | P5: =P4+1 -> 168 | ... X5: =X4+1 -> 332
A6: 2/. | B6: In the chart below select an empty (i.e. unused) box | G6: 41280 | H6: 5 | I6: =I5+1 -> 41321 | J6: =J5+1 -> 46 | K6: =K5+1 -> 41362 | L6: =L5+1 -> 87 | M6: =M5+1 -> 41403 | N6: =N5+1 -> 128 | O6: =O5+1 -> 41444 | P6: =P5+1 -> 169 | ... X6: =X5+1 -> 333
B7: for the month when the alert should pop up and | G7: 41281 | H7: 6 | I7: =I6+1 -> 41322 | J7: =J6+1 -> 47 | K7: =K6+1 -> 41363 | L7: =L6+1 -> 88 | M7: =M6+1 -> 41404 | N7: =N6+1 -> 129 | O7: =O6+1 -> 41445 | P7: =P6+1 -> 170 | ... X7: =X6+1 -> 334
B8: type in the green box the alert that you want, for | G8: 41282 | H8: 7 | I8: =I7+1 -> 41323 | J8: =J7+1 -> 48 | K8: =K7+1 -> 41364 | L8: =L7+1 -> 89 | M8: =M7+1 -> 41405 | N8: =N7+1 -> 130 | O8: =O7+1 -> 41446 | P8: =P7+1 -> 171 | ... X8: =X7+1 -> 335
B9: example, MoT PAJERO | G9: 41283 | H9: 8 | I9: =I8+1 -> 41324 | J9: =J8+1 -> 49 | K9: =K8+1 -> 41365 | L9: =L8+1 -> 90 | M9: =M8+1 -> 41406 | N9: =N8+1 -> 131 | O9: =O8+1 -> 41447 | P9: =P8+1 -> 172 | ... X9: =X8+1 -> 336
G10: 41284 | H10: 9 | I10: =I9+1 -> 41325 | J10: =J9+1 -> 50 | K10: =K9+1 -> 41366 | L10: =L9+1 -> 91 | M10: =M9+1 -> 41407 | N10: =N9+1 -> 132 | O10: =O9+1 -> 41448 | P10: =P9+1 -> 173 | ... X10: =X9+1 -> 337
A11: 3/. | B11: From the chart opposite choose the date when you | G11: 41285 | H11: 10 | I11: =I10+1 -> 41326 | J11: =J10+1 -> 51 | K11: =K10+1 -> 41367 | L11: =L10+1 -> 92 | M11: =M10+1 -> 41408 | N11: =N10+1 -> 133 | O11: =O10+1 -> 41449 | P11: =P10+1 -> 174 | ... X11: =X10+1 -> 338
B12: want the alert to appear, and type the day number | G12: 41286 | H12: 11 | I12: =I11+1 -> 41327 | J12: =J11+1 -> 52 | K12: =K11+1 -> 41368 | L12: =L11+1 -> 93 | M12: =M11+1 -> 41409 | N12: =N11+1 -> 134 | O12: =O11+1 -> 41450 | P12: =P11+1 -> 175 | ... X12: =X11+1 -> 339
B13: in the box next to the warning. | G13: 41287 | H13: 12 | I13: =I12+1 -> 41328 | J13: =J12+1 -> 53 | K13: =K12+1 -> 41369 | L13: =L12+1 -> 94 | M13: =M12+1 -> 41410 | N13: =N12+1 -> 135 | O13: =O12+1 -> 41451 | P13: =P12+1 -> 176 | ... X13: =X12+1 -> 340
G14: 41288 | H14: 13 | I14: =I13+1 -> 41329 | J14: =J13+1 -> 54 | K14: =K13+1 -> 41370 | L14: =L13+1 -> 95 | M14: =M13+1 -> 41411 | N14: =N13+1 -> 136 | O14: =O13+1 -> 41452 | P14: =P13+1 -> 177 | ... X14: =X13+1 -> 341
A15: 4/. | B15: Wait for the alert to pop-up on the month-page ! | G15: 41289 | H15: 14 | I15: =I14+1 -> 41330 | J15: =J14+1 -> 55 | K15: =K14+1 -> 41371 | L15: =L14+1 -> 96 | M15: =M14+1 -> 41412 | N15: =N14+1 -> 137 | O15: =O14+1 -> 41453 | P15: =P14+1 -> 178 | ... X15: =X14+1 -> 342
G16: 41290 | H16: 15 | I16: =I15+1 -> 41331 | J16: =J15+1 -> 56 | K16: =K15+1 -> 41372 | L16: =L15+1 -> 97 | M16: =M15+1 -> 41413 | N16: =N15+1 -> 138 | O16: =O15+1 -> 41454 | P16: =P15+1 -> 179 | ... X16: =X15+1 -> 343
C17: ALERTS | D17: DAY No's | G17: 41291 | H17: 16 | I17: =I16+1 -> 41332 | J17: =J16+1 -> 57 | K17: =K16+1 -> 41373 | L17: =L16+1 -> 98 | M17: =M16+1 -> 41414 | N17: =N16+1 -> 139 | O17: =O16+1 -> 41455 | P17: =P16+1 -> 180 | ... X17: =X16+1 -> 344
A18: JAN | E18: =IF($C$1-$A$1>D18,C18,"") -> 0 | G18: 41292 | H18: 17 | I18: =I17+1 -> 41333 | J18: =J17+1 -> 58 | K18: =K17+1 -> 41374 | L18: =L17+1 -> 99 | M18: =M17+1 -> 41415 | N18: =N17+1 -> 140 | O18: =O17+1 -> 41456 | P18: =P17+1 -> 181 | ... X18: =X17+1 -> 345
A19: JAN | E19: =IF($C$1-$A$1>D19,C19,"") -> 0 | G19: 41293 | H19: 18 | I19: =I18+1 -> 41334 | J19: =J18+1 -> 59 | K19: =K18+1 -> 41375 | L19: =L18+1 -> 100 | M19: =M18+1 -> 41416 | N19: =N18+1 -> 141 | O19: =O18+1 -> 41457 | P19: =P18+1 -> 182 | ... X19: =X18+1 -> 346
A20: JAN | E20: =IF($C$1-$A$1>D20,C20,"") -> 0 | G20: 41294 | H20: 19 | I20: =I19+1 -> 41335 | J20: =J19+1 -> 60 | K20: =K19+1 -> 41376 | L20: =L19+1 -> 101 | M20: =M19+1 -> 41417 | N20: =N19+1 -> 142 | O20: =O19+1 -> 41458 | P20: =P19+1 -> 183 | ... X20: =X19+1 -> 347
A21: FEB | E21: =IF($C$1-$A$1>D21,C21,"") -> 0 | G21: 41295 | H21: 20 | I21: =I20+1 -> 41336 | J21: =J20+1 -> 61 | K21: =K20+1 -> 41377 | L21: =L20+1 -> 102 | M21: =M20+1 -> 41418 | N21: =N20+1 -> 143 | O21: =O20+1 -> 41459 | P21: =P20+1 -> 184 | ... X21: =X20+1 -> 348
A22: FEB | E22: =IF($C$1-$A$1>D22,C22,"") -> 0 | G22: 41296 | H22: 21 | I22: =I21+1 -> 41337 | J22: =J21+1 -> 62 | K22: =K21+1 -> 41378 | L22: =L21+1 -> 103 | M22: =M21+1 -> 41419 | N22: =N21+1 -> 144 | O22: =O21+1 -> 41460 | P22: =P21+1 -> 185 | ... X22: =X21+1 -> 349
A23: FEB | E23: =IF($C$1-$A$1>D23,C23,"") -> 0 | G23: 41297 | H23: 22 | I23: =I22+1 -> 41338 | J23: =J22+1 -> 63 | K23: =K22+1 -> 41379 | L23: =L22+1 -> 104 | M23: =M22+1 -> 41420 | N23: =N22+1 -> 145 | O23: =O22+1 -> 41461 | P23: =P22+1 -> 186 | ... X23: =X22+1 -> 350
A24: MAR | E24: =IF($C$1-$A$1>D24,C24,"") -> 0 | G24: 41298 | H24: 23 | I24: =I23+1 -> 41339 | J24: =J23+1 -> 64 | K24: =K23+1 -> 41380 | L24: =L23+1 -> 105 | M24: =M23+1 -> 41421 | N24: =N23+1 -> 146 | O24: =O23+1 -> 41462 | P24: =P23+1 -> 187 | ... X24: =X23+1 -> 351
A25: MAR | E25: =IF($C$1-$A$1>D25,C25,"") -> 0 | G25: 41299 | H25: 24 | I25: =I24+1 -> 41340 | J25: =J24+1 -> 65 | K25: =K24+1 -> 41381 | L25: =L24+1 -> 106 | M25: =M24+1 -> 41422 | N25: =N24+1 -> 147 | O25: =O24+1 -> 41463 | P25: =P24+1 -> 188 | ... X25: =X24+1 -> 352
A26: MAR | E26: =IF($C$1-$A$1>D26,C26,"") -> 0 | G26: 41300 | H26: 25 | I26: =I25+1 -> 41341 | J26: =J25+1 -> 66 | K26: =K25+1 -> 41382 | L26: =L25+1 -> 107 | M26: =M25+1 -> 41423 | N26: =N25+1 -> 148 | O26: =O25+1 -> 41464 | P26: =P25+1 -> 189 | ... X26: =X25+1 -> 353
A27: APR | E27: =IF($C$1-$A$1>D27,C27,"") -> 0 | G27: 41301 | H27: 26 | I27: =I26+1 -> 41342 | J27: =J26+1 -> 67 | K27: =K26+1 -> 41383 | L27: =L26+1 -> 108 | M27: =M26+1 -> 41424 | N27: =N26+1 -> 149 | O27: =O26+1 -> 41465 | P27: =P26+1 -> 190 | ... X27: =X26+1 -> 354
A28: APR | E28: =IF($C$1-$A$1>D28,C28,"") -> 0 | G28: 41302 | H28: 27 | I28: =I27+1 -> 41343 | J28: =J27+1 -> 68 | K28: =K27+1 -> 41384 | L28: =L27+1 -> 109 | M28: =M27+1 -> 41425 | N28: =N27+1 -> 150 | O28: =O27+1 -> 41466 | P28: =P27+1 -> 191 | ... X28: =X27+1 -> 355
A29: APR | E29: =IF($C$1-$A$1>D29,C29,"") -> 0 | G29: 41303 | H29: 28 | I29: =I28+1 -> 41344 | J29: =J28+1 -> 69 | K29: =K28+1 -> 41385 | L29: =L28+1 -> 110 | M29: =M28+1 -> 41426 | N29: =N28+1 -> 151 | O29: =O28+1 -> 41467 | P29: =P28+1 -> 192 | ... X29: =X28+1 -> 356
... A37: JUL | E37: =IF($C$1-$A$1>D37,C37,"") -> 0 | G37: 41311 | H37: 36 | I37: =I36+1 -> 41352 | J37: =J36+1 -> 77 | K37: =K36+1 -> 41393 | L37: =L36+1 -> 118 | M37: =M36+1 -> 41434 | N37: =N36+1 -> 159 | O37: =O36+1 -> 41475 | P37: =P36+1 -> 200 | ... X37: =X36+1 -> 364
A38: JUL | E38: =IF($C$1-$A$1>D38,C38,"") -> 0 | G38: 41312 | H38: 37 | I38: =I37+1 -> 41353 | J38: =J37+1 -> 78 | K38: =K37+1 -> 41394 | L38: =L37+1 -> 119 | M38: =M37+1 -> 41435 | N38: =N37+1 -> 160 | O38: =O37+1 -> 41476 | P38: =P37+1 -> 201 | ... V38: =V37+1 -> 324
A39: AUG | E39: =IF($C$1-$A$1>D39,C39,"") -> 0 | G39: 41313 | H39: 38 | I39: =I38+1 -> 41354 | J39: =J38+1 -> 79 | K39: =K38+1 -> 41395 | L39: =L38+1 -> 120 | M39: =M38+1 -> 41436 | N39: =N38+1 -> 161 | O39: =O38+1 -> 41477 | P39: =P38+1 -> 202 | ... V39: =V38+1 -> 325
A40: AUG | E40: =IF($C$1-$A$1>D40,C40,"") -> 0 | G40: 41314 | H40: 39 | I40: =I39+1 -> 41355 | J40: =J39+1 -> 80 | K40: =K39+1 -> 41396 | L40: =L39+1 -> 121 | M40: =M39+1 -> 41437 | N40: =N39+1 -> 162 | O40: =O39+1 -> 41478 | P40: =P39+1 -> 203 | ... V40: =V39+1 -> 326
A41: AUG | E41: =IF($C$1-$A$1>D41,C41,"") -> 0 | G41: 41315 | H41: 40 | I41: =I40+1 -> 41356 | J41: =J40+1 -> 81 | K41: =K40+1 -> 41397 | L41: =L40+1 -> 122 | M41: =M40+1 -> 41438 | N41: =N40+1 -> 163 | O41: =O40+1 -> 41479 | P41: =P40+1 -> 204 | ... V41: =V40+1 -> 327
A42: SEP | E42: =IF($C$1-$A$1>D42,C42,"") -> 0
A43: SEP | E43: =IF($C$1-$A$1>D43,C43,"") -> 0
A44: SEP | E44: =IF($C$1-$A$1>D44,C44,"") -> 0
A45: OCT | E45: =IF($C$1-$A$1>D45,C45,"") -> 0
A46: OCT | E46: =IF($C$1-$A$1>D46,C46,"") -> 0
A47: OCT | E47: =IF($C$1-$A$1>D47,C47,"") -> 0
...
