Workbook

Sheet Jan 2016
A1: BACK-UP 2016 - 31 Jan 16 @ 1715 | I1: VISITORS TO SITE MUST BE RECORDED ON SPREADSHEET
B2: PEAK | I2: OFF PEAK | K2: Birthday | L2: sarah | M2: Indian | Q2: Elm tree | R2: Darrens | S2: airport | T2: IOW | W2: M&S | X2: Sarah | Y2: Ollie | Z2: Bill 4 day course | AD2: Victory
A3: Pitch | B3: Fri | C3: Sat | D3: Sun | E3: Mon | F3: Tue | G3: Wed | H3: Thu | I3: Fri | J3: Sat | K3: Sun | L3: Mon | M3: Tue | N3: Wed | O3: Thu | P3: Fri | Q3: Sat | R3: Sun | S3: Mon | T3: Tue | U3: Wed | V3: Thu | W3: Fri | X3: Sat | Y3: Sun | Z3: Mon | AA3: Tue | AB3: Wed | AC3: Thu | AD3: Fri | AE3: Sat | AF3: Sun | AG3: Pitch
A4: No. | B4: 1 | C4: 2 | D4: 3 | E4: 4 | F4: 5 | G4: 6 | H4: 7 | I4: 8 | J4: 9 | K4: 10 | L4: 11 | M4: 12 | N4: 13 | O4: 14 | P4: 15 | Q4: 16 | R4: 17 | S4: 18 | T4: 19 | U4: 20 | V4: 21 | W4: 22 | X4: 23 | Y4: 24 | Z4: 25 | AA4: 26 | AB4: 27 | AC4: 28 | AD4: 29 | AE4: 30 | AF4: 31 | AG4: No.
A5: 1 | C5: Hewart | F5: Perry - disabled | J5: Butcher | M5: Stevens | T5: Jamieson | U5: Osbourne | AD5: EX59 HZT who? | AG5: 1
A6: 1a | M6: Sarah hair 1pm | W6: Creation 2 days | AG6: 1a | AH6: Not here
A7: 2 | L7: CALOR del | AG7: 2 | AH7: Tent
A8: 3 | AG8: 3 | AH8: Trailer tent
A9: 4 | AG9: 4 | AH9: Folding caravan
A10: 5 | AG10: 5 | AH10: Caravan
A11: 6 | AG11: 6 | AH11: Camper van
A12: 7 | AG12: 7 | AH12: Motorhome
A13: 8 | B13: Essay | E13: Hubbard | L13: Pearce | O13: Norman | T13: Smith | W13: Whitfield - do not move pre booked pl 8 | AC13: 1 | AD13: Hampton | AG13: 8 | AH13: RV
A14: 9 | B14: Hanson | S14: 110 | Y14: 4 | AF14: 5 | AG14: 9 | AH14: Free night
A15: 10 | B15: Axell cont… | D15: 1 | L15: Lee Barclay | R15: 1 | Y15: 2 | Z15: back | AF15: 3 | AG15: 10 | AH15: Poss Extra / late stay
A16: 11 | E16: Wrighton | L16: Frost | Y16: Knight | AC16: Goldbold - parents | AG16: 11 | AH16: Hard Standing
A17: 12 | B17: cont.. | F17: Davies | L17: Stenton | O17: Glibbery | AC17: Goldbold - Helen | AG17: 12 | AH17: Not in use
A18: 13 | B18: Ian Letch cont.. | J18: 1 | AG18: 13 | AH18: Off Peak
A19: 14 | B19: Bob Stuart cont .. £88 due | F19: Back | U19: 1 | AB19: 2 | AG19: 14 | AH19: Bank holiday
A20: 15 | F20: Perruzza | AG20: 15 | AH20: Peak
A21: 16 | AG21: 16 | AH21: Seasonal pitch
A22: 16a | AG22: 16a | AH22: Non arrival
A23: 17 | AG23: 17 | AH23: Refund
A24: 17a | AG24: 17a | AH24: Cancelled
A25: 18 | AG25: 18 | AH25: late stay
A26: 18a | AG26: 18a
A27: 19 | B27: Bannister | D27: Knowles-Gruft | F27: Harvey | G27: Mather | I27: Fryer | L27: Wallace | P27: Burrows | S27: Reeves | AA27: Chadwick | AC27: Farthing | AG27: 19 | AH27: =ALERTS!E18 -> 0
A28: 20 | B28: Bolle cont… | C28: 1 | J28: 2 | Q28: 3 | X28: 4 | Y28: £624 due | AE28: 1 | AG28: 20 | AH28: =ALERTS!E19 -> 0
A29: 21 | B29: cont.. | D29: Wilkinson | I29: Waters | L29: McDougal | M29: Starkie | R29: Moorhouse | T29: Davies | AD29: Dominey | AG29: 21 | AH29: =ALERTS!E20 -> 0
A30: 22 | B30: Malcolm & Leonie | J30: Deary | M30: Hall | P30: Baker | W30: Tamlin | AA30: Davies | AG30: 22
A31: Pitch | B31: Fri | C31: Sat | D31: Sun | E31: Mon | F31: Tue | G31: Wed | H31: Thu | I31: Fri | J31: Sat | K31: Sun | L31: Mon | M31: Tue | N31: Wed | O31: Thu | P31: Fri | Q31: Sat | R31: Sun | S31: Mon | T31: Tue | U31: Wed | V31: Thu | W31: Fri | X31: Sat | Y31: Sun | Z31: Mon | AA31: Tue | AB31: Wed | AC31: Thu | AD31: Fri | AE31: Sat | AF31: Sun | AG31: Pitch
A32: No. | B32: 1 | C32: 2 | D32: 3 | E32: 4 | F32: 5 | G32: 6 | H32: 7 | I32: 8 | J32: 9 | K32: 10 | L32: 11 | M32: 12 | N32: 13 | O32: 14 | P32: 15 | Q32: 16 | R32: 17 | S32: 18 | T32: 19 | U32: 20 | V32: 21 | W32: 22 | X32: 23 | Y32: 24 | Z32: 25 | AA32: 26 | AB32: 27 | AC32: 28 | AD32: 29 | AE32: 30 | AF32: 31 | AG32: No.
A33: 23 | B33: Di Daniels M/H only | L33: 1 | S33: 2 | U33: £10.50 per night | Z33: 3 | AG33: 23 | AH33: TODAY IS
A34: 23a | B34: Vic Buckly | AC34: here 4n then taking van home | AG34: 23a | AH34: =TODAY() -> 42702
A35: 24 | B35: Roadtech | F35: Invoice 44 | L35: GAS | M35: Invoice 45 | T35: In 46 | U35: GAS | AA35: Invoice | AG35: 24
A36: 25 | F36: Stevenson | P36: Kevin Dible | X36: Hadland | AD36: 1 | AG36: 25
A37: 26 | B37: Cresswell cont… £294 due for 2wks | H37: 1 | O37: 2 | P37: W216 PDU | S37: W216 PDU | U37: W216 PDU | V37: 1 | X37: W216 PDU | AC37: 2 | AF37: W216 PDU | AG37: 26
A38: 27 | B38: Young cont.. | D38: 1 | K38: 2 | R38: 1 | Y38: 2 | AF38: 1 | AG38: 27
A39: 28 | B39: Lockyear cont | F39: Houghton | H39: Hillard | N39: Daruvalla | P39: Anderson | S39: Cassidy | T39: Eden | X39: Maynard | AA39: Bradbury | AC39: Pilkington | AD39: McDougal | AE39: Moore | AG39: 28
A40: 29 | B40: Katzman | AC40: Pullen | AD40: Carruthers | AF40: Finch | AG40: 29 | AH40: NO DOGS
...

Sheet Feb 2016
A1: BACK-UP 29 Feb @ 17.00 | AF1: COLOUR CODES
C2: Darren | E2: lunch concord | I2: OFF PEAK | Q2: Half Term | X2: Stella France back Mon 29th at 2130
A3: Pitch | B3: Mon | C3: Tue | D3: Wed | E3: Thu | F3: Fri | G3: Sat | H3: Sun | I3: Mon | J3: Tue | K3: Wed | L3: Thu | M3: Fri | N3: Sat | O3: Sun | P3: Mon | Q3: Tue | R3: Wed | S3: Thu | T3: Fri | U3: Sat | V3: Sun | W3: Mon | X3: Tue | Y3: Wed | Z3: Thu | AA3: Fri | AB3: Sat | AC3: Sun | AD3: Mon | AE3: Pitch | AF3: Bill wk off
A4: No. | B4: 1 | C4: 2 | D4: 3 | E4: 4 | F4: 5 | G4: 6 | H4: 7 | I4: 8 | J4: 9 | K4: 10 | L4: 11 | M4: 12 | N4: 13 | O4: 14 | P4: 15 | Q4: 16 | R4: 17 | S4: 18 | T4: 19 | U4: 20 | V4: 21 | W4: 22 | X4: 23 | Y4: 24 | Z4: 25 | AA4: 26 | AB4: 27 | AC4: 28 | AD4: 29 | AE4: No.
A5: 1 | S5: Stevens | X5: Wrench | Z5: Newman | AE5: 1
A6: 1a | P6: SHUT | AE6: 1a | AF6: Not here
A7: 2 | P7: DOWN | R7: Pascal £22 per night - not sure how long so will pay at end ok as comes back every couple of weeks | AE7: 2 | AF7: Tent
A8: 3 | P8: Tank | AE8: 3 | AF8: Trailer tent
A9: 4 | P9: service | AE9: 4 | AF9: Folding caravan
A10: 5 | AE10: 5 | AF10: Caravan
A11: 6 | AE11: 6 | AF11: Camper van
A12: 7 | X12: Hogan | AE12: 7 | AF12: Motorhome
A13: 8 | D13: Prewitt | N13: Searle | Q13: Whittington | T13: Thompson | X13: Whitfield - do not move | AE13: 8 | AF13: RV
A14: 9 | B14: Hanson | D14: £110 due | H14: 1 | O14: 1 | V14: 3 | W14: Hanson £110 due | AC14: 4 | AE14: 9 | AF14: Free night
A15: 10 | B15: Lee Barclay | H15: 4 | O15: 5 | V15: 6 | AC15: 1 | AE15: 10 | AF15: Poss Extra / late stay
A16: 11 | K16: Farmer | O16: Williams - do not move | S16: Rally Lorna | AA16: Hollingsworth | AE16: 11 | AF16: Hard Standing
A17: 12 | N17: Daruvalla | O17: Williams/Gale - do not move | S17: Rally Lorna | V17: Cook | AA17: Hollingsworth | AE17: 12 | AF17: Not in use
A18: 13 | M18: Brown | P18: Cottam | Q18: Summerfield | S18: Rally Lorna | W18: Shotter | Y18: need to move to pl 24 Sat | AC18: Sylvester | AE18: 13
A19: 14 | B19: Bob Stuart cont .. | R19: from here | AE19: 14
A20: 15 | O20: Boulton | Q20: Whittall | S20: 07789 754949 | AE20: 15 | AF20: Peak
A21: 16 | S21: Rally Lorna - VW | V21: 3 Rally caravans on slip road | AE21: 16 | AF21: Seasonal pitch
A22: 16a | S22: Rally Lorna | AE22: 16a | AF22: Non arrival
A23: 17 | S23: Rally Lorna | AE23: 17 | AF23: Refund
A24: 17a | AE24: 17a | AF24: Cancelled
A25: 18 | AE25: 18 | AF25: late stay
A26: 18a | AE26: 18a
A27: 19 | B27: O'Hanlon | C27: Anderson | M27: McCallum | T27: Morgan - do not move | V27: Goffe | AE27: 19 | AF27: =ALERTS!E21 -> 0
A28: 20 | B28: Bolle cont… | G28: 2 | N28: 3 | T28: VJ-257-L | U28: 4 | V28: pd 1 March | AB28: 1 | AE28: 20 | AF28: =ALERTS!E22 -> 0
A29: 21 | C29: Harrison | L29: LeDizes | M29: Seeley | Q29: Edwards | R29: May | T29: Morgan/ Speed - do not move | V29: Tres | X29: Shute | Y29: Warran | AA29: Kenedy | AE29: 21 | AF29: =ALERTS!E23 -> 0
A30: 22 | Q30: Apted | X30: Thistlethwaite | AA30: Sanderson | AD30: M. Holloway | AE30: 22
A31: Pitch | B31: Mon | C31: Tue | D31: Wed | E31: Thu | F31: Fri | G31: Sat | H31: Sun | I31: Mon | J31: Tue | K31: Wed | L31: Thu | M31: Fri | N31: Sat | O31: Sun | P31: Mon | Q31: Tue | R31: Wed | S31: Thu | T31: Fri | U31: Sat | V31: Sun | W31: Mon | X31: Tue | Y31: Wed | Z31: Thu | AA31: Fri | AB31: Sat | AC31: Sun | AD31: Mon | AE31: Pitch
A32: No. | B32: 1 | C32: 2 | D32: 3 | E32: 4 | F32: 5 | G32: 6 | H32: 7 | I32: 8 | J32: 9 | K32: 10 | L32: 11 | M32: 12 | N32: 13 | O32: 14 | P32: 15 | Q32: 16 | R32: 17 | S32: 18 | T32: 19 | U32: 20 | V32: 21 | W32: 22 | X32: 23 | Y32: 24 | Z32: 25 | AA32: 26 | AB32: 27 | AC32: 28 | AD32: 29 | AE32: No.
A33: 23 | B33: Di Daniels cont…. | E33: 1 | L33: 10.50 per night x 13n = £136.50. Paid | R33: 1 | AA33: Di back | AE33: 23 | AF33: TODAY IS
A34: Senator | J34: Jennings | R34: Hurrell | AE34: Senator | AF34: =TODAY() -> 42702
A35: 24 | B35: Roadtech (Wayne) | C35: Inv 48 | N35: Alan Kite | T35: 1 | AA35: 2 | AB35: Shotter | AE35: 24
A36: 25 | B36: Hadland | F36: 2 | M36: 3 | T36: 4 | U36: Martha | AA36: 5 | AB36: £154 due | AE36: 25
A37: 26 | B37: Cresswell cont… | C37: Mazda | D37: Mazda | E37: Mazda | F37: Mazda | G37: Mazda | I37: Masda | L37: 2 | M37: Mazda | S37: 1 | T37: Mazda | W37: Skillen | AE37: 26
A38: 27 | AE38: 27
A39: 28 | C39: Columbine | F39: Halliday | L39: Russell | N39: Porter | P39: Lowe | T39: Burkett/Morgan - do not move | V39: Carrie-Ann | AE39: 28 | AH39: duty w
A40: 29 | B40: Finch | G40: 1 | N40: Hansell | P40: Morris | V40: 1 | AC40: 2 | AE40: 29 | AF40: NO DOGS
...

Sheet Mar 2016
A1: BACK-UP 31 March @ 1700 | P1: Karen | R1: Karen | AH1: COLOUR CODES
B2: Kids | I2: OFF PEAK | K2: Lisa's | P2: BHPA | S2: funeral | T2: Curry | Z2: PEAK | AC2: EASTER
A3: Pitch | B3: Tue | C3: Wed | D3: Thu | E3: Fri | F3: Sat | G3: Sun | H3: Mon | I3: Tue | J3: Wed | K3: Thu | L3: Fri | M3: Sat | N3: Sun | O3: Mon | P3: Tue | Q3: Wed | R3: Thu | S3: Fri | T3: Sat | U3: Sun | V3: Mon | W3: Tue | X3: Wed | Y3: Thu | Z3: Fri | AA3: Sat | AB3: Sun | AC3: Mon | AD3: Tue | AE3: Wed | AF3: Thur | AG3: Pitch | AH3: Bill wk off
A4: No. | B4: 1 | C4: 2 | D4: 3 | E4: 4 | F4: 5 | G4: 6 | H4: 7 | I4: 8 | J4: 9 | K4: 10 | L4: 11 | M4: 12 | N4: 13 | O4: 14 | P4: 15 | Q4: 16 | R4: 17 | S4: 18 | T4: 19 | U4: 20 | V4: 21 | W4: 22 | X4: 23 | Y4: 24 | Z4: 25 | AA4: 26 | AB4: 27 | AC4: 28 | AD4: 29 | AE4: 30 | AF4: 31 | AG4: No. | AH4: Not here
A5: 1 | B5: cont.. | I5: Chalmers | S5: Leyfield | U5: Jamieson | V5: Cottam | Y5: Storey | AG5: 1 | AH5: Bill wk off
A6: 2 | AB6: Tait | AC6: Pascal Creach | AG6: 2 | AH6: Tent
A7: 3 | Y7: Small | AG7: 3 | AH7: Trailer tent
A8: 4 | AG8: 4 | AH8: Folding caravan
A9: 5 | S9: Houchin | T9: Woodford | Y9: Frampton | AG9: 5 | AH9: Caravan
A10: 6 | T10: Jessica | Y10: Clark with Williams | AG10: 6 | AH10: Camper van
A11: 7 | T11: Jessica | Y11: Williams with Clark | AG11: 7 | AH11: Motorhome
A12: 8 | B12: Whitfield | E12: Wanklin | L12: Nesbit | O12: Demblon | S12: Kurt | W12: E. Jessiman | AA12: Whitfield - do not move | AG12: 8 | AH12: RV
A13: 9 | B13: Hanson | G13: 1 | H13: Hanson | N13: 2 | S13: Kurt | W13: Healey | AE13: Anderson | AG13: 9 | AH13: Free night
A14: 10 | B14: Lee Barclay - | Z14: Parfitt | AG14: 10 | AH14: Poss Extra / late stay
A15: 11 | F15: Reay | I15: Lowe | O15: Greenwood | Y15: Beaumont | AG15: 11 | AH15: Hard Standing
A16: 12 | E16: Cotton | F16: Carter | I16: Ramsey | R16: Newbold | AB16: Weedon | AC16: Fitzpatrick | AG16: 12 | AH16: Not in use
A17: 13 | B17: Sylvester cont.. | F17: 1 | M17: 2 | T17: 1 | AA17: 2 | AG17: 13 | AH17: Off Peak
A18: 14 | B18: Bob Stuart cont .. | J18: £22 when here £11 when home | Z18: Elsam | AB18: Bowyer | AG18: 14 | AH18: Bank holiday
A19: 15 | AA19: Smith | AG19: 15 | AH19: Peak
A20: 16 | O20: Otley | Z20: Shepherd | AG20: 16 | AH20: Seasonal pitch
A21: 16a | AG21: 16a | AH21: Non arrival
A22: 17 | AG22: 17 | AH22: Refund
A23: 17a | AG23: 17a | AH23: Cancelled
A24: 18 | AG24: 18 | AH24: late stay
A25: 18a | AG25: 18a
A26: 19 | B26: Cooper | E26: Swan - lady on own DO NOT MovE | S26: Christiano | U26: Joch | Y26: Hirst do not move | AE26: P. Sidney | AG26: 19 | AH26: =ALERTS!E24 -> 0
A27: 20 | B27: Bolle cont… | F27: 2 | M27: 3 | T27: James | Z27: J. Brett | AC27: Cate | AG27: 20 | AH27: =ALERTS!E25 -> 0
A28: 21 | B28: Jehu | D28: Kiff - reserved | I28: Watson | L28: Holt - Pls do not move | P28: Morgan | S28: Houghton | T28: Joch | U28: Walsh | AA28: 1 | AG28: 21 | AH28: =ALERTS!E26 -> 0
A29: 22 | F29: Hollis | G29: Dana | I29: Morris | K29: Ley | T29: Frame | W29: Zieskoven | Y29: Andrew | AB29: Hay | AG29: 22
A30: Pitch | B30: Tue | C30: Wed | D30: Thu | E30: Fri | F30: Sat | G30: Sun | H30: Mon | I30: Tue | J30: Wed | K30: Thu | L30: Fri | M30: Sat | N30: Sun | O30: Mon | P30: Tue | Q30: Wed | R30: Thu | S30: Fri | T30: Sat | U30: Sun | V30: Mon | W30: Tue | X30: Wed | Y30: Thu | Z30: Fri | AA30: Sat | AB30: Sun | AC30: Mon | AD30: Tue | AE30: Wed | AF30: Thur | AG30: Pitch
A31: No. | B31: 1 | C31: 2 | D31: 3 | E31: 4 | F31: 5 | G31: 6 | H31: 7 | I31: 8 | J31: 9 | K31: 10 | L31: 11 | M31: 12 | N31: 13 | O31: 14 | P31: 15 | Q31: 16 | R31: 17 | S31: 18 | T31: 19 | U31: 20 | V31: 21 | W31: 22 | X31: 23 | Y31: 24 | Z31: 25 | AA31: 26 | AB31: 27 | AC31: 28 | AD31: 29 | AE31: 30 | AF31: 31 | AG31: No. | AH31: TODAY IS
A32: 23 | B32: Daniels | N32: Di Daniels pd from 13 to 5 April | S32: 1 | Z32: 2 | AG32: 23 | AH32: =TODAY() -> 42702
A33: Senator | G33: Berry | AG33: Senator
A34: 24 | B34: cont.. | Y34: Phillips | AG34: 24
A35: 25 | B35: Hadland Cont… | E35: 6 | R35: Hanson | U35: 3 | AB35: 4 | AG35: 25
A36: 26 | U36: Bolle £624 due | AA36: 1 | AG36: 26
A37: 27 | B37: Young | G37: 2 | N37: 1 | U37: 2 | AG37: 27
A38: 28 | B38: Carrie-Ann cont… | H38: Di & Dave | K38: Office | M38: Office | O38: Office | Q38: Office | S38: Office | U38: Office | W38: Office | Y38: Office | AA38: Office | AB38: Away | AG38: 28
A39: 29 | B39: Morris Cont.. | G39: 3 | N39: 4 | U39: 5 | AB39: 6 | AG39: 29
A40: 30 | B40: cont.. | I40: Woodward | K40: Fry | L40: Pring | Q40: Creach | Y40: Fitzpatrick | AA40: Vic | AB40: Fenton | AG40: 30
...

Sheet April 2016
A1: BACK-UP 30 April @ 1620
B2: Peak | E2: Lisa | H2: Ann | Q2: OFF PEAK | S2: ` | X2: Cruise | AA2: back | AD2: BANK Hol
A3: Pitch | B3: Fri | C3: Sat | D3: Sun | E3: Mon | F3: Tue | G3: Wed | H3: Thu | I3: Fri | J3: Sat | K3: Sun | L3: Mon | M3: Tue | N3: Wed | O3: Thu | P3: Fri | Q3: Sat | R3: Sun | S3: Mon | T3: Tue | U3: Wed | V3: Thu | W3: Fri | X3: Sat | Y3: Sun | Z3: Mon | AA3: Tue | AB3: Wed | AC3: Thu | AD3: Fri | AE3: Sat | AF3: Pitch
A4: No. | B4: 1 | C4: 2 | D4: 3 | E4: 4 | F4: 5 | G4: 6 | H4: 7 | I4: 8 | J4: 9 | K4: 10 | L4: 11 | M4: 12 | N4: 13 | O4: 14 | P4: 15 | Q4: 16 | R4: 17 | S4: 18 | T4: 19 | U4: 20 | V4: 21 | W4: 22 | X4: 23 | Y4: 24 | Z4: 25 | AA4: 26 | AB4: 27 | AC4: 28 | AD4: 29 | AE4: 30 | AF4: No.
A5: 1 | C5: Newton | O5: Raikes DNM Disabled | AE5: Coles | AF5: 1 | AG5: Not here
A6: 2 | B6: cont… | AE6: Dickenson | AF6: 2 | AG6: Tent
A7: 3 | AE7: Barrett | AF7: 3 | AG7: Trailer tent
A8: 4 | AF8: 4 | AG8: Folding caravan
A9: 5 | AD9: Czaja | AF9: 5 | AG9: Caravan
A10: 6 | J10: Turner | N10: Earthrowl | X10: Munro | AD10: Humpries | AF10: 6 | AG10: Camper van
A11: 7 | B11: Dear | I11: Rickard | Q11: Leah | W11: Taylor | AD11: Outram | AF11: 7 | AG11: Motorhome
A12: 8 | F12: Loose DNM | L12: Hurcombe - Do not move | T12: Whitfield - do not move | AC12: Browne | AF12: 8 | AG12: RV
A13: 9 | Q13: Bowie | W13: Carnell | AD13: Moakes | AF13: 9 | AG13: Free night
A14: 10 | D14: Sullivan | I14: Laing | M14: Madgwick | X14: Mulcahy | Y14: Niederer | AD14: Shaw | AF14: 10 | AG14: Poss Extra / late stay
A15: 11 | D15: Quartley | P15: Bowen | X15: Rogers | AA15: Brooks | AD15: Barker | AE15: Bull | AF15: 11 | AG15: Hard Standing
A16: 12 | F16: Tucker | I16: Jessiman | K16: Carol & Alan Bridgewater - DO NOT MOVE - + blue VW GD55 VLR | X16: 2 | AA16: Murphy | AB16: C.Mcneill | AC16: Hanton | AF16: 12 | AG16: Not in use
A17: 13 | P17: Matthews | AB17: C.Mcneill | AD17: Ford | AF17: 13 | AG17: Off Peak
A18: 14 | K18: Read | AE18: Fox with Russell | AF18: 14 | AG18: Bank holiday
A19: 15 | AD19: Russell with Fox | AF19: 15 | AG19: Peak
A20: 16 | AD20: Parkes | AF20: 16 | AG20: Seasonal pitch
A21: 16a | AD21: Parkes/ Smith | AF21: 16a | AG21: Non arrival
A22: 17 | AD22: Brown | AF22: 17 | AG22: Refund
A23: 17a | AF23: 17a | AG23: Cancelled
A24: 18 | AD24: Hawke | AF24: 18 | AG24: late stay
A25: 18a | AF25: 18a
A26: 19 | B26: Mark | G26: Ashton | P26: Selway | U26: Virtue | AE26: Reay | AF26: 19 | AG26: =ALERTS!E27 -> 0
A27: 20 | B27: Fryer | L27: Eardley | W27: Harmon | AD27: Tyson | AF27: 20 | AG27: =ALERTS!E28 -> 0
A28: 21 | C28: Josephson | F28: Bills | P28: Reeves | R28: Simmonds | W28: Harmon/Allday | AE28: Ayres | AF28: 21 | AG28: =ALERTS!E29 -> 0
A29: 22 | C29: Barry | H29: Middleton | N29: Fraser | T29: Malcolm & Leonie | W29: work | X29: work | Y29: work | Z29: work | AB29: work | AD29: work | AF29: 22
A30: Pitch | B30: Fri | C30: Sat | D30: Sun | E30: Mon | F30: Tue | G30: Wed | H30: Thu | I30: Fri | J30: Sat | K30: Sun | L30: Mon | M30: Tue | N30: Wed | O30: Thu | P30: Fri | Q30: Sat | R30: Sun | S30: Mon | T30: Tue | U30: Wed | V30: Thu | W30: Fri | X30: Sat | Y30: Sun | Z30: Mon | AA30: Tue | AB30: Wed | AC30: Thu | AD30: Fri | AE30: Sat | AF30: Pitch
A31: No. | B31: 1 | C31: 2 | D31: 3 | E31: 4 | F31: 5 | G31: 6 | H31: 7 | I31: 8 | J31: 9 | K31: 10 | L31: 11 | M31: 12 | N31: 13 | O31: 14 | P31: 15 | Q31: 16 | R31: 17 | S31: 18 | T31: 19 | U31: 20 | V31: 21 | W31: 22 | X31: 23 | Y31: 24 | Z31: 25 | AA31: 26 | AB31: 27 | AC31: 28 | AD31: 29 | AE31: 30 | AF31: No. | AG31: TODAY IS
A32: 23 | B32: Daniels cont….. | G32: pd from 6-18 April | S32: here | AF32: 23 | AG32: =TODAY() -> 42702
A33: Senator | AF33: Senator
A34: 24 | B34: Phillips cont.. | I34: 2 | P34: 3 | Q34: Pete back | X34: Dan Riley cont.. | AD34: 1 | AF34: 24
A35: 25 | B35: Hanson | K35: 1 | R35: 2 | AA35: £220 pd 3/5/16 | AF35: 25
A36: 26 | B36: Bolle cont… | J36: 3 | Q36: 4 | R36: Invoice 07 - £624 due | X36: 1 | AE36: 2 | AF36: 26
A37: 27 | AF37: 27
A38: 28 | B38: con.. | E38: Todd | F38: Cassidy | H38: Hay | W38: Clarke | AC38: Blackley | AD38: Hill | AF38: 28
A39: 29 | B39: Morris cont.. | J39: Morgan | P39: Mills | Q39: Brown | V39: Johal | AA39: Davies | AB39: Thomas | AC39: Henshall | AE39: Roland | AF39: 29
A40: 30 | G40: J. Williamson | N40: West | P40: Blackburn | R40: Thornton | W40: Clifton | X40: Hughes | Z40: MT65 HNG | AF40: 30
...

Sheet May 2016
A1: BACK-UP 31 May @ 1800 | M1: Stella out | AH1: COLOUR CODES
B2: BANK | C2: HOLIDAY | D2: ACSI | E2: ACSI | F2: ASCI | G2: ASCI | H2: ASCI | I2: ASCI | J2: ASCI | K2: ASCI | L2: ASCI | M2: lunch | N2: ASCI | O2: ASCI | P2: ASCI | Q2: ASCI | R2: ASCI | S2: ASCI | T2: ASCI | U2: ASCI | V2: ASCI | W2: ASCI | X2: ASCI | Y2: ASCI | Z2: ASCI | AB2: 61 arrivals FRI
A3: Pitch | B3: Sun | C3: Mon | D3: Tue | E3: Wed | F3: Thu | G3: Fri | H3: Sat | I3: Sun | J3: Mon | K3: Tue | L3: Wed | M3: Thu | N3: Fri | O3: Sat | P3: Sun | Q3: Mon | R3: Tue | S3: Wed | T3: Thu | U3: Fri | V3: Sat | W3: Sun | X3: Mon | Y3: Tue | Z3: Wed | AA3: Thu | AB3: Fri | AC3: Sat | AD3: Sun | AE3: Mon | AF3: Tue | AG3: Pitch | AH3: Bill wk off
A4: No. | B4: 1 | C4: 2 | D4: 3 | E4: 4 | F4: 5 | G4: 6 | H4: 7 | I4: 8 | J4: 9 | K4: 10 | L4: 11 | M4: 12 | N4: 13 | O4: 14 | P4: 15 | Q4: 16 | R4: 17 | S4: 18 | T4: 19 | U4: 20 | V4: 21 | W4: 22 | X4: 23 | Y4: 24 | Z4: 25 | AA4: 26 | AB4: 27 | AC4: 28 | AD4: 29 | AE4: 30 | AF4: 31 | AG4: No.
AB5: Roberts | AG5: spare for B/Hol
A6: 1 | B6: cont.. | F6: Smith | I6: Stephenson | M6: Harding - Do not move | R6: eastmond | T6: Schweitzer | U6: Howard | V6: Sears | W6: Eaton | AB6: Coombes | AG6: 1
A7: 2 | D7: Goold | E7: Goold | G7: Clay | T7: Jeffreys | Y7: Giesen | AB7: Zaleski | AG7: 2 | AH7: Not here
A8: 3 | E8: Mucklow | G8: Hedger | J8: Richardson | T8: Allen | AB8: Czaja | AF8: Porter | AG8: 3 | AH8: Tent
A9: 4 | AB9: Carter | AF9: IDS | AG9: 4 | AH9: Trailer tent
A10: 5 | B10: cont.. | E10: Sawyer | N10: A. Smith | R10: Sparrow | AA10: Smith | AG10: 5 | AH10: Folding caravan
A11: 6 | B11: cont.. | G11: Frampton | O11: Adams | U11: Smele | X11: Rust | AB11: Dow | AG11: 6 | AH11: Caravan
A12: 7 | B12: cont.. | G12: Carrie=Ann | P12: Shaikh | R12: Day | Y12: Carey | AB12: Joyner | AG12: 7 | AH12: Camper van
A13: 8 | B13: Rutherford | G13: Wiseman | I13: Clifford | P13: Lawrence | S13: Berry | U13: Trafford | V13: Whitfield - do not move | AG13: 8 | AH13: Motorhome
A14: 9 | B14: cont.. | G14: Loveland - do not move | U14: Jackson | AB14: Lewis | AG14: 9 | AH14: RV
A15: 10 | B15: Cont.. | I15: Keeley | P15: Brown - ACSI 874675 | Z15: Donnarumma | AC15: Duff | AG15: 10 | AH15: Free night
A16: 11 | B16: cont… | G16: Polderman | P16: Fitzgerald - ROCK UP | W16: Zaisser | AA16: Law | AE16: Cadden | AF16: Torney | AG16: 11 | AH16: Poss Extra / late stay
A17: 12 | B17: Cont… | P17: Gadd | U17: Wissman | Y17: Edwards with Knott | AA17: Daniels | AC17: Howell | AG17: 12 | AH17: Hard Standing
A18: 13 | B18: Ford cont | F18: Timms | H18: Toms | T18: Renate | Y18: Knott with Edwards | AA18: Woodley | AC18: Mason | AD18: Houwer | AF18: Brown | AG18: 13 | AH18: Not in use
A19: 14 | B19: cont.. | AB19: Brook | AG19: 14 | AH19: Off Peak
A20: 15 | B20: Cont | AG20: 15 | AH20: Bank holiday
A21: 16 | B21: cont.. | F21: Bonshor | T21: Muller | X21: Haidinger | AB21: Huggett - Steve | AG21: 16 | AH21: Peak
A22: 16a | B22: cont.. | AB22: Huggett / Page | AG22: 16a | AH22: Seasonal pitch
A23: 17 | B23: cont… | AB23: Turner with Millership and Young | AG23: 17 | AH23: Non arrival
A24: 17a | AB24: Millership with Turner and Young | AG24: 17a | AH24: Refund
A25: 18 | B25: Cont… | AB25: Young with Millership and Young | AG25: 18 | AH25: Cancelled
A26: 18a | AB26: Galmoye with Millership and young | AG26: 18a no el | AH26: No electric
A27: 19 | B27: Cont | E27: Benannsstrauat | H27: Price | J27: MacPherson | P27: Dawson | Q27: Stokes | U27: Pennings | AB27: Stone | AC27: Watson | AD27: Harris-do not move | AG27: 19
A28: 20 | B28: Tyson cont | C28: Monk | U28: Cleaver | W28: Day | AC28: Fox / Sharon Lamb | AG28: 20 | AH28: =ALERTS!E30 -> 0
A29: 21 | B29: Law | J29: Tidman | N29: Duran | S29: Ross | W29: Sweeny | Y29: Rutland | AC29: Buss | AD29: Overall / Line | AG29: 21 | AH29: =ALERTS!E31 -> 0
A30: 22 | C30: Work | D30: work | E30: work | F30: work | G30: work | H30: Work | J30: Work | P30: work | R30: work | S30: available | T30: work | U30: work | V30: work | X30: work | AG30: 22 | AH30: =ALERTS!E32 -> 0
A31: Pitch | B31: Sun | C31: Mon | D31: Tue | E31: Wed | F31: Thu | G31: Fri | H31: Sat | I31: Sun | J31: Mon | K31: Tue | L31: Wed | M31: Thu | N31: Fri | O31: Sat | P31: Sun | Q31: Mon | R31: Tue | S31: Wed | T31: Thu | U31: Fri | V31: Sat | W31: Sun | X31: Mon | Y31: Tue | Z31: Wed | AA31: Thu | AB31: Fri | AC31: Sat | AD31: Sun | AE31: Mon | AF31: Tue | AG31: Pitch
A32: No. | B32: 1 | C32: 2 | D32: 3 | E32: 4 | F32: 5 | G32: 6 | H32: 7 | I32: 8 | J32: 9 | K32: 10 | L32: 11 | M32: 12 | N32: 13 | O32: 14 | P32: 15 | Q32: 16 | R32: 17 | S32: 18 | T32: 19 | U32: 20 | V32: 21 | W32: 22 | X32: 23 | Y32: 24 | Z32: 25 | AA32: 26 | AB32: 27 | AC32: 28 | AD32: 29 | AE32: 30 | AF32: 31 | AG32: No.
A33: 23 | H33: Kelly | I33: cruise and stay | L33: 5th wheel | T33: Hagemann | AB33: Everett | AG33: 23 | AH33: TODAY IS
A34: 23a | AC34: german | AD34: Overall | AG34: 23a | AH34: =TODAY() -> 42702
A35: 24 | B35: Dan Riley cont.. | H35: 2 | I35: £261 for 2wks or may pay 4wks £522 | U35: 2 | AB35: 3 | AG35: 24
A36: 25 | B36: Hanson | D36: 1 | J36: 2 | R36: 3 | AC36: Korczakowski | AG36: 25
A37: 26 | B37: Bolle cont… | H37: 3 | N37: T3 NDE | O37: 4 | P37: Inv 08 £631 - 15 May to 11 June | V37: 1 | AC37: 2 | AG37: 26
A38: 27 | AB38: Jones | AG38: 27
A39: 28 | B39: cont | C39: Wester | D39: Dolman | E39: Lorrin | F39: Simms | H39: Plaster | M39: Schofield | Q39: Jones | R39: Linsley | S39: Diston | AA39: Bissett | AE39: Roberts | AG39: 28
A40: 29 | C40: Bratley | E40: King | J40: Summerskill | N40: Ward | Q40: Debona | R40: Fisher | S40: Lorrin | T40: Goodwin | AA40: Halliday | AC40: Matley-Jones | AG40: 29 | AH40: NO DOGS
...

Sheet June 2016
A1: BACK-UP 30 June @ 1927 | K1: ROD concert | S1: Legion | W1: 8 7623
B2: PEAK | D2: PEAK | G2: ACSI | H2: ACSI | I2: ACSI | J2: ACSI | K2: ACSI | L2: ACSI | M2: ACSI | N2: ACSI | O2: ACSI | P2: ACSI | Q2: ACSI | R2: ACSI | S2: ACSI | T2: ACSI | U2: ACSI | V2: ACSI | W2: ACSI | X2: ACSI | Y2: ACSI | Z2: ACSI | AA2: ACSI | AB2: ACSI | AC2: ACSI | AD2: ACSI | AE2: ACSI
A3: Pitch | B3: Wed | C3: Thu | D3: Fri | E3: Sat | F3: Sun | G3: Mon | H3: Tue | I3: Wed | J3: Thu | K3: Fri | L3: Sat | M3: Sun | N3: Mon | O3: Tue | P3: Wed | Q3: Thu | R3: Fri | S3: Sat | T3: Sun | U3: Mon | V3: Tue | W3: Wed | X3: Thu | Y3: Fri | Z3: Sat | AA3: Sun | AB3: Mon | AC3: Tue | AD3: Wed | AE3: Thu | AF3: Pitch
A4: No. | B4: 1 | C4: 2 | D4: 3 | E4: 4 | F4: 5 | G4: 6 | H4: 7 | I4: 8 | J4: 9 | K4: 10 | L4: 11 | M4: 12 | N4: 13 | O4: 14 | P4: 15 | Q4: 16 | R4: 17 | S4: 18 | T4: 19 | U4: 20 | V4: 21 | W4: 22 | X4: 23 | Y4: 24 | Z4: 25 | AA4: 26 | AB4: 27 | AC4: 28 | AD4: 29 | AE4: 30 | AF4: No.
A5: 1 | F5: Stones | H5: Willard | J5: McCaffrey | N5: Hanson | Q5: Mertz | R5: Ferguson | T5: G. Twigg | Y5: Horchner | Z5: Ferrie | AA5: Faulkner | AB5: Kennedy | AC5: Walther | AD5: preston | AE5: Bailey - do not move | AF5: 1
A6: 2 | D6: Harman | E6: Cotton | H6: Matthew | I6: Rothernel | J6: Kidd | K6: Braithwaite | L6: Pears | M6: Haines | R6: Gayton | X6: Almond | AB6: Greening | AF6: 2 | AG6: Not here
A7: 3 | D7: Webster | J7: Edmeades | M7: Acard | T7: Fallows - do not move | AB7: Braithwaite | AC7: Johnson | AF7: 3 | AG7: Tent
A8: 4 | D8: Padfield | K8: Jackson | L8: Taylor | X8: Vos - wi fi slipped with white trousers | AF8: 4 | AG8: Trailer tent
A9: 5 | B9: ….cont | E9: Andrews | J9: Franklyn | Z9: Hatton | AA9: Bissell | AD9: Parker | AF9: 5 | AG9: Folding caravan
A10: 6 | B10: late stay | D10: Smele | K10: Rosewell | L10: Hanton - KX52 HKN | R10: Booth | W10: Dannecker | X10: Hepworth - do not move | AE10: McNicholl | AF10: 6 | AG10: Caravan
A11: 7 | E11: Brady | F11: Welch | M11: 1 | T11: 2 | V11: Stockwood | Z11: Leavesley | AF11: 7 | AG11: Camper van
A12: 8 | C12: Jones | E12: Lowe | F12: Booth | N12: Bray | Q12: Urwin | V12: Kaynsn | X12: Nichols | AA12: Hatton | AF12: 8 | AG12: Motorhome
A13: 9 | D13: Dalling | E13: Mitchell | H13: Gilkes | Q13: Kostudis | T13: Barker | V13: Hunt | Y13: McCluggage | AA13: Willis | AC13: Wolter | AD13: Gibson | AF13: 9 | AG13: RV
A14: 10 | B14: Duff cont.. | F14: Hill | J14: Rutt | L14: Range | O14: Brown - ACSI 874675 | U14: 1 | AB14: 2 | AC14: walther | AE14: O'Mara | AF14: 10 | AG14: Free night
A15: 11 | F15: Crowson | G15: Anderson | I15: Slater | K15: Garner | N15: Moore | R15: Antero REIJO | X15: Glasgow | AB15: Noble | AD15: Robinson | AF15: 11 | AG15: Poss Extra / late stay
A16: 12 | B16: Howell Cont.. | D16: 1 | K16: 2 | N16: Key - car FC03 NYK | R16: Rief | X16: White - wi fi | AA16: bolton | AE16: Wilson | AF16: 12 | AG16: Hard Standing
A17: 13 | B17: cont.. | G17: Montyabaar | K17: Russell | O17: Guicleux | Y17: Dore | Z17: Hodge | AC17: Fay | AF17: 13 | AG17: Not in use
A18: 14 | L18: Downy | U18: Cole | AA18: 1 | AF18: 14 | AG18: Off Peak
A19: 15 | AF19: 15 | AG19: Bank holiday
A20: 16 | E20: Hounsell | L20: Kramer | P20: Voudentery | W20: Oldnall | Y20: Holloway/mum | AC20: 0 | AF20: 16 | AG20: Peak
A21: 16a | J21: Flinn/Willcox | Y21: Holloway/daughter | AF21: 16a | AG21: Seasonal pitch
A22: 17 | K22: Dalton | Q22: van de Pypekamp | Y22: Holloway/son | AE22: Scott | AF22: 17 | AG22: Non arrival
A23: 17a | J23: Flinn | Y23: Faulkner | AF23: 17a | AG23: Refund
A24: 18 | E24: Craft | F24: Hall | L24: 1 | T24: Swan | AF24: 18 | AG24: Cancelled
A25: 18a | AF25: 18a | AG25: late stay
A26: 19 | B26: Harris cont.. | E26: Buholcer | G26: Jones | J26: Roberts | M26: Evans | Q26: Schleiffer | Y26: Hearn | AB26: sedgwick | AD26: Shaw | AF26: 19
A27: 20 | F27: Roberts | K27: Smith | L27: Klinksz | U27: Stevens | X27: Naumannen | Z27: O'Reilly/Firth | AB27: Hogland | AE27: Kingsworth | AF27: 20 | AG27: =ALERTS!E33 -> 0
A28: 21 | B28: Daws | D28: Ward | F28: Pope | G28: O'Donnell | J28: Kettle | K28: Batt-Devonhold | M28: dr523hf | N28: Hughes | T28: Raven | U28: Hogg | X28: Higginbotton | AB28: Garven | AC28: Amme | AE28: Lamb | AF28: 21 | AG28: =ALERTS!E34 -> 0
A29: 22 | AA29: Malcolm & Leonie back | AD29: dentist | AE29: work | AF29: 22 | AG29: =ALERTS!E35 -> 0
A30: Pitch | B30: Wed | C30: Thu | D30: Fri | E30: Sat | F30: Sun | G30: Mon | H30: Tue | I30: Wed | J30: Thu | K30: Fri | L30: Sat | M30: Sun | N30: Mon | O30: Tue | P30: Wed | Q30: Thu | R30: Fri | S30: Sat | T30: Sun | U30: Mon | V30: Tue | W30: Wed | X30: Thu | Y30: Fri | Z30: Sat | AA30: Sun | AB30: Mon | AC30: Tue | AD30: Wed | AE30: Thu | AF30: Pitch
A31: No. | B31: 1 | C31: 2 | D31: 3 | E31: 4 | F31: 5 | G31: 6 | H31: 7 | I31: 8 | J31: 9 | K31: 10 | L31: 11 | M31: 12 | N31: 13 | O31: 14 | P31: 15 | Q31: 16 | R31: 17 | S31: 18 | T31: 19 | U31: 20 | V31: 21 | W31: 22 | X31: 23 | Y31: 24 | Z31: 25 | AA31: 26 | AB31: 27 | AC31: 28 | AD31: 29 | AE31: 30 | AF31: No.
A32: 23 | E32: Bussell | G32: Morantstr | I32: Briggs | L32: Mills | O32: kx52 | U32: Higginbottom | Z32: Moore | AC32: Wegman | AE32: Rubingh | AF32: 23 | AG32: TODAY IS
A33: 23a | B33: Overall cont… | K33: Darling | N33: Kevey | T33: Dr Thomaca | X33: Roiner | Z33: Foster | AB33: Brinton | AF33: 23a | AG33: =TODAY() -> 42702
A34: 24 | D34: 4 | E34: Pd | H34: Dan Home all week | K34: 1 | R34: 2 | Y34: 3 | AF34: 24
A35: 25 | E35: Korczakowski | Y35: Howard | Z35: Langton | AB35: szczepanek | AC35: Gattringer | AF35: 25
A36: 26 | B36: Bolle cont… | E36: 3 | L36: pichler | T36: Wright | Z36: Ford | AA36: Keeble | AF36: 26
A37: 27 | K37: Jones | Z37: Ktenas | AF37: 27
A38: 28 | B38: Rogers | D38: Kennedy | G38: Crabbe | K38: Bournbenoux | N38: Cardy | P38: Linsley | U38: Naumanen | Y38: Whitfield - do not move | AF38: 28
A39: 29 | E39: Walton | F39: Taylor | H39: Hughes | I39: Hitchcock | J39: Hopcutt | L39: Elliss | M39: Ledger | N39: Wilson | U39: Kappelt | W39: german | Y39: Datson | Z39: Witt | AA39: Skelton | AB39: Ledger | AE39: Child | AF39: 29 | AG39: NO DOGS
A40: 30 | B40: Hughes cont… | E40: pd | K40: 1 | R40: 2 | W40: Tardiso | X40: Vilot | Z40: Wooley | AF40: 30 | AG40: NO DOGS
...

Sheet July 2016
A1: BACK-UP 31 July @ 1600 | V1: Americal Cup Porsmouth 21-24 July | AD1: BBC
B2: Stella away until 18 July | J2: DOG SHOW | Q2: OFF PEAK | S2: PEAK | Y2: PEAK | AD2: PEAK
A3: Pitch | B3: Fri | C3: Sat | D3: Sun | E3: Mon | F3: Tue | G3: Wed | H3: Thu | I3: Fri | J3: Sat | K3: Sun | L3: Mon | M3: Tue | N3: Wed | O3: Thu | P3: Fri | Q3: Sat | R3: Sun | S3: Mon | T3: Tue | U3: Wed | V3: Thu | W3: Fri | X3: Sat | Y3: Sun | Z3: Mon | AA3: Tue | AB3: Wed | AC3: Thu | AD3: Fri | AE3: Sat | AF3: Sun | AG3: Pitch
A4: No. | B4: 1 | C4: 2 | D4: 3 | E4: 4 | F4: 5 | G4: 6 | H4: 7 | I4: 8 | J4: 9 | K4: 10 | L4: 11 | M4: 12 | N4: 13 | O4: 14 | P4: 15 | Q4: 16 | R4: 17 | S4: 18 | T4: 19 | U4: 20 | V4: 21 | W4: 22 | X4: 23 | Y4: 24 | Z4: 25 | AA4: 26 | AB4: 27 | AC4: 28 | AD4: 29 | AE4: 30 | AF4: 31 | AG4: No.
A5: 1 | B5: Bailey cont.. - DO NOT MOVE | F5: Smith | G5: Rose | P5: Trankman | Q5: Jasper | R5: Tasker | U5: Coombs | V5: Coombs | W5: Dodson - do not move | AD5: French | AE5: Robinson | AG5: 1 | AH5: late stay
A6: 2 | B6: cont.. | C6: Tasker | F6: Ponick | G6: Collins | H6: Battenbough | I6: Golding with Foster | J6: Tracey | K6: Best | N6: Telford | Q6: Chilcott with Norris | S6: Maggs | U6: Hofmann | V6: Maggs | W6: Whitehouse | X6: Finegan | Y6: Pickard | AD6: ILES | AE6: Brieton | AF6: Thurlow | AG6: 2 | AH6: Not here
A7: 3 | B7: Hamley | F7: Short | I7: Foster | J7: Smith | K7: McGrath | M7: Griffin | Q7: Norris With Chilcott | W7: Jones | Z7: Hatton | AA7: Neatherway | AD7: Thomas | AE7: Davis with Burton | AG7: 3 | AH7: Tent
AE8: Burton with Davis
A9: 4 | B9: McAllister | F9: McAllister | I9: Cane | K9: scott McGrath | Q9: Maltby | W9: Howard | AA9: Swieringa | AE9: Sturch | AG9: 4 | AH9: Trailer tent
A10: 5 | B10: Greenwood | G10: 2500 | I10: Barton | K10: Bayley | Q10: Bowens | W10: Dickens | X10: Owen | AA10: Kattenberg | AC10: Price | AD10: Frampton | AG10: 5 | AH10: Folding caravan
A11: 6 | B11: Hanson- do not move | H11: Ormiston | P11: Gibson | X11: Gutwing | Y11: Altena | AG11: 6 | AH11: Caravan
A12: 7 | B12: CONT… | I12: Loftus | L12: Carrie-Ann - DO NOT MOVE - Stella | R12: 1 | AC12: Weston | AE12: Bickerton | AG12: 7 | AH12: Camper van
A13: 8 | B13: Cook | F13: Williams | H13: Skinner - pls do not move | N13: Biet | Q13: Pam and Tony Oxlade | W13: Giles | Z13: Reg & Loraine Whitfield | AG13: 8 | AH13: Motorhome
A14: 9 | B14: Allen | C14: Manuela | E14: Cook | J14: Obern | Q14: braithwait | U14: Russell | AA14: King | AE14: Brown | AG14: 9 | AH14: RV
A15: 10 | B15: O'Mara cont | E15: Marshall | I15: Clover | J15: Brough | N15: Wrighton | O15: Price | W15: Parker | Z15: Bates | AD15: McNulty | AG15: 10 | AH15: Free night
A16: 11 | C16: MASON | G16: Hack | I16: Daykin | K16: Smith | P16: Prewitt | V16: Wood | X16: Welch | AA16: Plostettles | AD16: Maddy & Steve 2wks | AG16: 11 | AH16: Poss Extra / late stay
A17: 12 | B17: Wilson cont | D17: Gilbert | H17: Evins | I17: Roberts | L17: Benfield | M17: earthy | O17: Wilfred | P17: Peachy | W17: Ingledew | AA17: Roberts - do not move knows he is on pl 12 | AG17: 12 | AH17: Hard Standing
A18: 13 | B18: Fay cont…. | I18: Goodfellow with Harvey | W18: Kneubhier | X18: Enz | AE18: Novis | AG18: 13 | AH18: Not in use
A19: 14 | B19: Cole cont... | D19: 2 | E19: Latimer | I19: Harvey with Goodfellow | K19: Tony Foster | P19: Blackham | W19: Reusser with Dickinson | AB19: Seger | AG19: 14 | AH19: Off Peak
A20: 15 | W20: Dickinson with Reusser | AG20: 15 | AH20: Bank holiday
A21: 16 | B21: Fisher- do not move | I21: Wilkinson - Do not move | Q21: Birch (Leah) owe for ex adults | X21: Pd | Y21: not here unplugged | AG21: 16 | AH21: Peak
A22: 16a | J22: Stannerd | Q22: Birch (Charlie) | X22: pd | AG22: 16a | AH22: Seasonal pitch
A23: 17 | B23: Cont… | I23: Travis 80's group | W23: Kraus | AA23: Johanson | AE23: Moore | AG23: 17 | AH23: Non arrival
A24: 17a | I24: Bryant 80's group | W24: Kraus | AA24: Liljegren | AD24: French | AE24: Smith | AG24: 17a | AH24: Refund
A25: 18 | I25: Williams | W25: Crabtree | AD25: Beacham with Caruana | AG25: 18 | AH25: Cancelled
A26: 18a | I26: No elec | AC26: Caruana with Beacham | AG26: 18a - NO ELEC
A27: 19 | B27: Atwell | F27: Watson-Burke - do not move 8m hobby | N27: Hudspeth | P27: Ball | T27: Martin | W27: Konczyk / Pickering | Y27: Schaytz | AA27: Saunders | AC27: Dellar | AG27: 19
A28: 20 | B28: Ward | C28: peach | F28: Townsend | I28: Gater | J28: Green 0774 9619521 | R28: Sturgeon | T28: Gruszka | W28: Konczyk | Y28: Hewitt | Z28: McGrath | AB28: Bennett | AD28: Kutz | AG28: 20 | AH28: =ALERTS!E36 -> 0
A29: 21 | B29: Lamb cont | C29: blythe | I29: Huband 80's group | K29: Brockschmidt | N29: Hendy | O29: Fletcher | U29: Scott | V29: Mills- put sewer down drain | Z29: Mcgrath | AC29: Kielman | AE29: Scot | AG29: 21 | AH29: =ALERTS!E37 -> 0
A30: 22 | B30: work | C30: work | D30: work | E30: work | F30: work | G30: work | H30: work | M30: work | N30: work | O30: work | P30: work | Q30: work | R30: work | S30: Work | U30: work | W30: work | Y30: work | AA30: work | AC30: work | AG30: 22 | AH30: =ALERTS!E38 -> 0
A31: Pitch | B31: Fri | C31: Sat | D31: Sun | E31: Mon | F31: Tue | G31: Wed | H31: Thu | I31: Fri | J31: Sat | K31: Sun | L31: Mon | M31: Tue | N31: Wed | O31: Thu | P31: Fri | Q31: Sat | R31: Sun | S31: Mon | T31: Tue | U31: Wed | V31: Thu | W31: Fri | X31: Sat | Y31: Sun | Z31: Mon | AA31: Tue | AB31: Wed | AC31: Thu | AD31: Fri | AE31: Sat | AF31: Sun | AG31: Pitch
A32: No. | B32: 1 | C32: 2 | D32: 3 | E32: 4 | F32: 5 | G32: 6 | H32: 7 | I32: 8 | J32: 9 | K32: 10 | L32: 11 | M32: 12 | N32: 13 | O32: 14 | P32: 15 | Q32: 16 | R32: 17 | S32: 18 | T32: 19 | U32: 20 | V32: 21 | W32: 22 | X32: 23 | Y32: 24 | Z32: 25 | AA32: 26 | AB32: 27 | AC32: 28 | AD32: 29 | AE32: 30 | AF32: 31 | AG32: No.
A33: 23 | H33: Bond | R33: Mitchell | X33: Greenroyd / Watson | AA33: Bates | AC33: Rive | AD33: Johnson | AG33: 23
A34: 23a | B34: fama | C34: Storms | I34: Kraus | J34: Beard | P34: Kompart | Q34: Spence | W34: Evans | X34: Greenroyd / Watson | Z34: Vacher | AF34: 1 | AG34: 23a
A35: 24 | B35: 4 | C35: Dan Riley 4wks due £522 | G35: Paid 14/7 | I35: 1 | P35: 2 | W35: 3 | AD35: 4 | AG35: 24 | AH35: TODAY IS
A36: 25 | B36: Romby | C36: Allen | I36: Smout | J36: Wills | R36: Stark | X36: 1 | AE36: 2 | AG36: 25 | AH36: =TODAY() -> 42702
A37: 26 | B37: keeble cont | I37: Patterson | J37: Bamsey | X37: Ashby | AC37: Korczakowski | AG37: 26
A38: 27 | I38: Craddock | J38: Bonser | Q38: Griffiths | AB38: she was plugged in so had to take it out as need it for the light at elsan | AG38: 27
A39: 28 | B39: cont… | E39: T. Rabius | F39: LeCheminant | H39: Carrie-Ann | P39: crow | Q39: Bowen | U39: Kleingerber | W39: Blackmoore | Z39: MaCleod | AG39: 28
A40: 29 | B40: Carroll | C40: Totty | D40: Gates - do not move | H40: Rayson | I40: Sadler | K40: Bennett | M40: Kinsley | N40: Walsh | O40: Kelly | P40: Jones | U40: Kleingerber | W40: Goggins | X40: Delaney | Z40: Tiplady | AD40: Mangroo | AE40: Abell | AF40: Deursen | AG40: 29 | AH40: NO DOGS
...

Sheet Aug 2016
A1: BACK-UP 31 Aug @ 17.50 | O1: Wedding
C2: 17arrivals | F2: Cowes Week | K2: P E A K | Q2: P E A K | W2: PEAK | AA2: BANK HOL 3nights only
A3: Pitch | B3: Mon | C3: Tue | D3: Wed | E3: Thu | F3: Fri | G3: Sat | H3: Sun | I3: Mon | J3: Tue | K3: Wed | L3: Thu | M3: Fri | N3: Sat | O3: Sun | P3: Mon | Q3: Tue | R3: Wed | S3: Thu | T3: Fri | U3: Sat | V3: Sun | W3: Mon | X3: Tue | Y3: Wed | Z3: Thu | AA3: Fri | AB3: Sat | AC3: Sun | AD3: Mon | AE3: Tue | AF3: Wed | AG3: Pitch
A4: No. | B4: 1 | C4: 2 | D4: 3 | E4: 4 | F4: 5 | G4: 6 | H4: 7 | I4: 8 | J4: 9 | K4: 10 | L4: 11 | M4: 12 | N4: 13 | O4: 14 | P4: 15 | Q4: 16 | R4: 17 | S4: 18 | T4: 19 | U4: 20 | V4: 21 | W4: 22 | X4: 23 | Y4: 24 | Z4: 25 | AA4: 26 | AB4: 27 | AC4: 28 | AD4: 29 | AE4: 30 | AF4: 31 | AG4: No. | AH4: Not here
A5: 1 | B5: Keeble | G5: Owen | H5: Sondereggen | M5: Thomas | O5: DO not move | AB5: Cobbskey | AE5: Clark | AG5: 1
A6: 2 | B6: Saunderson | C6: Edwards | D6: Ologhlan | G6: Jarvis with Harrison | N6: Taylor | O6: Cook | Q6: Do not move | AC6: Boyce | AG6: 2 | AH6: Tent
A7: 3a | C7: Sleigh with Stringfellow | G7: Harrison with Jarvis | N7: Talor | R7: Lloyd | T7: Done | W7: Millard - DO NOT MOVE | AA7: Patterson | AG7: 3A | AH7: Trailer tent
A8: 3 | D8: Roberts | F8: Poole | N8: Spain | R8: Llloyd | U8: Hume | Y8: Daly with Nash | AA8: Kane | AG8: 3
A9: 4 | B9: Stringfellow with Sleigh | G9: Plundett | M9: May | Y9: Nash with Daly | AA9: Whitlow | AC9: visitors | AF9: Calcroft | AG9: 4 | AH9: Folding caravan
A10: 4a | H10: Kluckner | AA10: Howdle | AG10: 4a
A11: 5 | B11: CONT…. | G11: Hannah | I11: Shirley | L11: Pierson | V11: Pritchard | Z11: Davis | AC11: Edwards | AG11: 5 | AH11: Caravan
A12: 6 | B12: cont.. | C12: Janvrin | E12: Briggs - do not move | L12: Sullivan | N12: Bryan | O12: Rich | Q12: Rickatson | U12: Wilson | X12: Harvey | Z12: Carter | AG12: 6 | AH12: Camper van
A13: 7 | B13: CONT…. | G13: Haigh | O13: Denes | T13: Freestone | V13: Breitung | AA13: Sarbutt | AG13: 7 | AH13: Motorhome
A14: 8 | B14: Jas | E14: Mackay | F14: Saunderson | G14: Watts | I14: Schmitt | K14: Mason | N14: Schmitt | P14: Saunders | W14: whitfields - do not move | AG14: 8 | AH14: RV
A15: 9 | B15: Brwon | D15: Cole | M15: James | N15: walton | S15: Stoffen | U15: Dowson | X15: Edwards | Y15: Pogson | Z15: Hallam | AB15: Harris | AG15: 9 | AH15: Free night
A16: 10 | D16: Knol | F16: Bailey | H16: Brockman | N16: Stewart | T16: Walsh | Y16: Hargreaves | AA16: King | AG16: 10 | AH16: Poss Extra / late stay
A17: 11 | B17: Maddy cont… will be paying at end not sure when leaving | N17: Neumann | O17: Melton | R17: Mayo | U17: Macmanus | AA17: Lloyd | AB17: Daniels | AE17: Kogellie | AF17: Birkin | AG17: 11 | AH17: Hard Standing
A18: 12 | B18: cont.. | D18: Franks | H18: Wray | I18: James | L18: Hood | M18: Parker | R18: Hull | T18: Stamp | U18: Farrell | AA18: Braham | AE18: Osullivan | AG18: 12 | AH18: Not in use
A19: 13 | B19: cont | C19: Warren | F19: Flett | G19: 4 visitors | I19: Marqart | M19: Haden | O19: Mahony | Q19: Hilderhos | T19: Bataman | AA19: Quist | AB19: Thornton | AG19: 13 | AH19: Off Peak
A20: 14 | B20: Seger cont | G20: McEwan | N20: Wayman | S20: Goddard | AA20: Baxter with Barrass | AG20: 14 | AH20: Bank holiday
A21: 15 no elec | AA21: Barrass with Baxter | AG21: 15 no elec
A22: 16 | B22: CONT.. | C22: Eisenharet - do no move back to front caravan | M22: Foxtrot | Q22: Eisenharet - do no move back to front caravan | U22: Johnson/ Emma | Z22: Edwards | AC22: Roden with Parsons | AG22: 16 | AH22: Seasonal pitch
A23: 16a | G23: Hatz | H23: Ward | U23: Johnson/Jean | AA23: Raimonti | AC23: Parsons with Roden | AG23: 16a | AH23: Non arrival
A24: 17 | B24: cont.. | F24: Broom | M24: Butt | Z24: Glew | AA24: 2 x visitors | AG24: 17 | AH24: Refund
A25: 17a | G25: Hubbard | H25: Hailes | Z25: Glew / Sykes | AG25: 17a | AH25: Cancelled
A26: 18 | E26: Diamond | M26: Wyre with Ball | U26: Maceanruig | W26: Rathmann | Z26: Buckland | AG26: 18 | AH26: late stay
A27: 18a - NO elec | E27: Diamond/Eliz | M27: Ball with Wyre | Z27: Buckland | AG27: 18a | AH27: NO ELECTRIC
A28: 19 | B28: Poortuliet | C28: Clements | H28: Lehmann | I28: Gibbs | J28: Flofdorff | L28: Deaker | M28: Broughton | N28: Keedwell 5th wheel | W28: Flinders | X28: Keedwell | AB28: Lawrence | AE28: Kemp | AG28: 19
A29: 20 | B29: Pautonnier | G29: Green | Q29: Katzmann | T29: Kriens | Y29: Ricahrds | AA29: Paul Green | AF29: Booth | AG29: 20 | AH29: =ALERTS!E39 -> 0
A30: 21 | D30: Stoffen | E30: Ford | F30: Reisling | G30: Darlow | Q30: Richards | S30: Colella | Y30: Ringham | Z30: Rimmer | AD30: Ackroyd | AG30: 21 | AH30: =ALERTS!E40 -> 0
A31: 22 | B31: Leonie & Malcolm | D31: work | F31: work | H31: work | J31: work | L31: work | N31: work | P31: work | R31: work | T31: work | V31: work | W31: Wedding | X31: Work | Z31: Work | AA31: available if required | AB31: work | AD31: work | AF31: work | AG31: 22 | AH31: =ALERTS!E41 -> 0
A32: Pitch | B32: Mon | C32: Tue | D32: Wed | E32: Thu | F32: Fri | G32: Sat | H32: Sun | I32: Mon | J32: Tue | K32: Wed | L32: Thu | M32: Fri | N32: Sat | O32: Sun | P32: Mon | Q32: Tue | R32: Wed | S32: Thu | T32: Fri | U32: Sat | V32: Sun | W32: Mon | X32: Tue | Y32: Wed | Z32: Thu | AA32: Fri | AB32: Sat | AC32: Sun | AD32: Mon | AE32: Tue | AF32: Wed | AG32: Pitch
A33: No. | B33: 1 | C33: 2 | D33: 3 | E33: 4 | F33: 5 | G33: 6 | H33: 7 | I33: 8 | J33: 9 | K33: 10 | L33: 11 | M33: 12 | N33: 13 | O33: 14 | P33: 15 | Q33: 16 | R33: 17 | S33: 18 | T33: 19 | U33: 20 | V33: 21 | W33: 22 | X33: 23 | Y33: 24 | Z33: 25 | AA33: 26 | AB33: 27 | AC33: 28 | AD33: 29 | AE33: 30 | AF33: 31 | AG33: No.
A34: 23 | B34: NO ELEC AS not working | G34: Newton | H34: Prevedel | N34: Tonks | P34: O'Leary | T34: Camillo | X34: Platel | AA34: Banzummeren | AG34: 23
A35: 23a | B35: cont… | H35: Martignago | M35: Gange | P35: Edwards | T35: Heredina | AA35: Walker | AB35: Coates | AG35: 23a
A36: 24 | B36: Dan Riley 4wks due £522 | F36: 1 | M36: 2 | T36: 3 | AA36: 4 | AG36: 24 | AH36: TODAY IS
A37: 25 | B37: Stark cont.. | U37: 1 | AB37: 2 | AG37: 25 | AH37: =TODAY() -> 42702
A38: 26 | B38: cont | E38: Willams | Q38: Coles | X38: £168 due | AG38: 26
A39: 27 | B39: Griffiths cont | E39: Dorneberk | F39: Mai | AA39: Costello | AG39: 27
A40: 28 | C40: McKenna | F40: Dornberk | G40: Hogg | H40: Mai | J40: Robinson | L40: Morris | N40: Hanssen | O40: Zuidema | X40: Burns | AA40: Harnan | AD40: Vagg | AG40: 28
...

Sheet Sep 2016
A1: back up 30 Sep @ 1745
B2: PEAK | F2: ACSI | G2: ACSI | H2: ACSI | I2: ACSI | Q2: 32 | R2: 15 | W2: no acsi until 26th | AA2: ACSI | AB2: ACSI | AC2: ACSI | AD2: ACSI | AE2: ACSI
A3: Pitch | B3: Thu | C3: Fri | D3: Sat | E3: Sun | F3: Mon | G3: Tue | H3: Wed | I3: Thu | J3: Fri | K3: Sat | L3: Sun | M3: Mon | N3: Tue | O3: Wed | P3: Thu | Q3: Fri | R3: Sat | S3: Sun | T3: Mon | U3: Tue | V3: Wed | W3: Thu | X3: Fri | Y3: Sat | Z3: Sun | AA3: Mon | AB3: Tue | AC3: Wed | AD3: Thu | AE3: Fri | AF3: Pitch
A4: No. | B4: 1 | C4: 2 | D4: 3 | E4: 4 | F4: 5 | G4: 6 | H4: 7 | I4: 8 | J4: 9 | K4: 10 | L4: 11 | M4: 12 | N4: 13 | O4: 14 | P4: 15 | Q4: 16 | R4: 17 | S4: 18 | T4: 19 | U4: 20 | V4: 21 | W4: 22 | X4: 23 | Y4: 24 | Z4: 25 | AA4: 26 | AB4: 27 | AC4: 28 | AD4: 29 | AE4: 30 | AF4: No.
A5: 1 | H5: Taylor | L5: Williams | V5: wk wi fi | AA5: ACSI | AF5: 1
A6: 2 | H6: Jebson | P6: James Burt | AF6: 2
A7: 3a | P7: Price | Q7: Hobbs | R7: Pinkney | X7: Kember | AF7: 3a | AG7: Not here
A8: 3 | H8: Stone | K8: Wilcox | P8: Woods | W8: Waller | X8: Hilmi | AA8: Moore | AF8: 3
A9: 4 | B9: cont.. | L9: Lawrence | S9: Lewis | W9: Gbruek | AF9: 4 | AG9: Tent
A10: 4a | P10: McCausland | AF10: 4a
A11: 5 | I11: Bates | L11: Marshall | P11: Reeder | R11: Knight | T11: Lillywhite | V11: Lawrence | X11: Bissell | AF11: 5 | AG11: Trailer tent
A12: 6 | B12: Morgan | H12: Emmett | J12: 2 visitors | P12: Quincey | Q12: Steed | U12: Weallans | W12: Daniel | X12: Sexton | AF12: 6 | AG12: Folding caravan
A13: 7 | J13: Nichols | Q13: Korczakowski | V13: Hardy | AF13: 7 | AG13: Caravan
A14: 8 | B14: Lorraine cont | C14: Brown | H14: Hurcombe | O14: Williams | Q14: Rogerson | T14: Whitfield - do not move | AF14: 8 | AG14: Camper van
A15: 9 | B15: Harris cont | F15: Sibylle | G15: veitterlin | J15: Switzer | O15: Sinclair | P15: Peake | V15: Bradley | Y15: Jackson | Z15: Ridley | AE15: Sutherland | AF15: 9 | AG15: Motorhome
A16: 10 | C16: Friessard | G16: Cox | O16: Smith | R16: Evason | V16: Davis | Y16: Griffin | AB16: Palmer | AF16: 10 | AG16: RV
A17: 11 | C17: Netherway | F17: Pritchard | K17: Lawrence | P17: Whitehouse | Z17: Turton | AF17: 11 | AG17: Free night
A18: 12 | E18: Keeley | M18: Dallimore | O18: Couzens | P18: Frost wife here Fri night may come back next wk end | AB18: Webb | AF18: 12 | AG18: Poss Extra / late stay
A19: 13 | C19: Hook | K19: Devtzer | L19: Howard | O19: McCurdy | AF19: 13 | AG19: Hard Standing
A20: 14 | C20: Smith | G20: Bryant | J20: Panetta | K20: Murch | M20: Watson | P20: Sido - wants hard standing | T20: Balmer | W20: Smeel | AF20: 14 | AG20: Not in use
A21: 15 | AF21: 15 | AG21: Off Peak
A22: 16 | H22: Withers | Q22: Rimmer | W22: Minter | AF22: 16 | AG22: Bank holiday
A23: 16a | M23: Martin | R23: Tuckett | X23: Jones | AF23: 16a | AG23: Peak
A24: 17 | P24: Griffiths | W24: Hanton | AF24: 17 | AG24: Seasonal pitch
A25: 17a | P25: early | Q25: Moore | X25: O'Leary | AF25: 17a | AG25: Non arrival
A26: 18 | G26: BanNister | J26: Collett | M26: Hansford | W26: Collins | AF26: 18 | AG26: Refund
A27: 18a | B27: NO ELECTRIC | N27: Terry | AC27: no electic | AF27: 18a | AG27: Cancelled
A28: 19 | B28: Forsyth | D28: Gilbert | M28: Green | V28: Schamp | W28: cossey | AA28: Raymond | AE28: McGuinness | AF28: 19 | AG28: late stay
A29: 20 | B29: Farrell | H29: Furnish | I29: Bowater | K29: Ley | M29: Howarth | Q29: Lea | R29: Hargreaves | W29: Schamp | X29: Grice | AB29: Jones | AD29: Swane | AE29: Richards | AF29: 20
A30: 21 | B30: cont.. | C30: Clarke | M30: Welland | P30: Welland | R30: Harrop | V30: Jones | W30: Pietrzykowski | AA30: Rapp | AB30: Mintern | AF30: 21 | AG30: =ALERTS!E42 -> 0
A31: 22 | B31: Jarrett | H31: North | M31: Haven | P31: Coles | AF31: 22 | AG31: =ALERTS!E43 -> 0
A32: Pitch | B32: Thu | C32: Fri | D32: Sat | E32: Sun | F32: Mon | G32: Tue | H32: Wed | I32: Thu | J32: Fri | K32: Sat | L32: Sun | M32: Mon | N32: Tue | O32: Wed | P32: Thu | Q32: Fri | R32: Sat | S32: Sun | T32: Mon | U32: Tue | V32: Wed | W32: Thu | X32: Fri | Y32: Sat | Z32: Sun | AA32: Mon | AB32: Tue | AC32: Wed | AD32: Thu | AE32: Fri | AF32: Pitch | AG32: =ALERTS!E44 -> 0
A33: No. | B33: 1 | C33: 2 | D33: 3 | E33: 4 | F33: 5 | G33: 6 | H33: 7 | I33: 8 | J33: 9 | K33: 10 | L33: 11 | M33: 12 | N33: 13 | O33: 14 | P33: 15 | Q33: 16 | R33: 17 | S33: 18 | T33: 19 | U33: 20 | V33: 21 | W33: 22 | X33: 23 | Y33: 24 | Z33: 25 | AA33: 26 | AB33: 27 | AC33: 28 | AD33: 29 | AE33: 30 | AF33: No.
A34: 23 | Q34: Shield/Ward | Y34: Parsons | AC34: Irwin | AF34: 23
A35: 23a | O35: Nichols | AA35: Burgess - Craig | AF35: 23a | AG35: TODAY IS
A36: 24 | B36: Riley | C36: 1 | J36: 2 | Q36: 3 | X36: 4 | Y36: Dan Riley | AE36: 1 | AF36: 24 | AG36: =TODAY() -> 42702
A37: 25 | B37: Stark | E37: Ian | K37: 1 | Q37: Morgan | S37: Williams | AA37: Vacher | AF37: 25
A38: 26 | B38: Coles | G38: Coles due from here | M38: 1 | T38: 2 | AA38: 3 | AF38: 26
A39: 27 | H39: Ratmik | Q39: Damien | W39: 2 | AA39: Damien | AF39: 27
A40: 28 | B40: Vagg cont.. | D40: Vagg cont.. | G40: Vallance | M40: Coombes | N40: Baigent | Q40: Griffiths | S40: Hyde | U40: Hold | W40: Bellingham | X40: Carrie-Ann | AA40: Balmer | AC40: candy | AF40: 28
...

Sheet Oct 2016
A1: BACK-UP 31 Oct @ 1610
M2: OFF PEAK | O2: 50th | Q2: TRAIN 60th | S2: meeting | X2: HALF TERM
A3: Pitch | B3: Sat | C3: Sun | D3: Mon | E3: Tue | F3: Wed | G3: Thu | H3: Fri | I3: Sat | J3: Sun | K3: Mon | L3: Tue | M3: Wed | N3: Thu | O3: Fri | P3: Sat | Q3: Sun | R3: Mon | S3: Tue | T3: Wed | U3: Thu | V3: Fri | W3: Sat | X3: Sun | Y3: Mon | Z3: Tue | AA3: Wed | AB3: Thu | AC3: Fri | AD3: Sat | AE3: Sun | AF3: Mon | AG3: Pitch
A4: No. | B4: 1 | C4: 2 | D4: 3 | E4: 4 | F4: 5 | G4: 6 | H4: 7 | I4: 8 | J4: 9 | K4: 10 | L4: 11 | M4: 12 | N4: 13 | O4: 14 | P4: 15 | Q4: 16 | R4: 17 | S4: 18 | T4: 19 | U4: 20 | V4: 21 | W4: 22 | X4: 23 | Y4: 24 | Z4: 25 | AA4: 26 | AB4: 27 | AC4: 28 | AD4: 29 | AE4: 30 | AF4: 31 | AG4: No.
A5: 1 | B5: cont.. | K5: Raikes DNM Disabled | M5: Day | V5: Taylor | AA5: Digby | AC5: Salter | AD5: Gilroy | AG5: 1
A6: 2 | U6: Corbridge - pd £50 dep - 2478 | AA6: 1 | AG6: 2 | AH6: Not here
A7: 3 | V7: Gilman | W7: Collis | X7: Griffiths | AC7: Newman | AG7: 3 | AH7: Tent
A8: 4 | H8: St John | V8: Breed | Z8: Thomas | AG8: 4 | AH8: Trailer tent
A9: 5 | I9: Baute | V9: Martin | AF9: Martin | AG9: 5 | AH9: Folding caravan
A10: 6 | N10: Hill | V10: Kelly | AA10: Darby | AB10: Mayle | AE10: Box | AG10: 6 | AH10: Caravan
A11: 7 | H11: Wakeham | I11: Glynn | O11: Hill | W11: Felphs | AE11: Searle | AG11: 7 | AH11: Camper van
A12: 8 | B12: Waldon | G12: Box | O12: Walker | Q12: Oxlade | U12: King | Y12: Kenning | AC12: Mills | AG12: 8 | AH12: Motorhome
A13: 9 | D13: Bond | K13: Darby | N13: Dart | Q13: Travis | T13: Darby | V13: M. Blackmore | Y13: Searle | AA13: Boneham | AB13: Last | AC13: King | AE13: Bowles | AG13: 9 | AH13: RV
A14: 10 | B14: Strobey | H14: Beardsley | K14: Price | O14: Barton | S14: Rimmer | U14: Bateson | Y14: Perrin | Z14: Hartley | AE14: Jordana | AG14: 10 | AH14: Free night
A15: 11 | B15: Turton | H15: Andy | N15: 1 | O15: Turton | U15: 2 | V15: Andy | AB15: 3 | AG15: 11 | AH15: Poss Extra / late stay
A16: 12 | B16: cont.. | P16: Hearndon | AG16: 12 | AH16: Hard Standing
A17: 13 | R17: Argent | V17: Morgan | Z17: Price | AA17: Carrott | AC17: Hammond | AG17: 13 | AH17: Not in use
A18: 14 | B18: Step ney | K18: Williams - store caravan from 29 Nov | Q18: 1 | X18: 2 | AD18: Collier | AE18: Soul | AG18: 14 | AH18: Off Peak
A19: 15 | AG19: 15 | AH19: Bank holiday
A20: 16 | Z20: Rooij | AB20: Kirt | AG20: 16 | AH20: Peak
A21: 16a | AG21: 16a | AH21: Seasonal pitch
A22: 17 | O22: Mrs Broome | T22: Medhurst | AG22: 17 | AH22: Non arrival
A23: 17a | AG23: 17a | AH23: Refund
A24: 18 | AG24: 18 | AH24: Cancelled
A25: 18a | V25: Issacs- do not move with Lagoda | AG25: 18a | AH25: late stay
A26: 19 | B26: cont.. | C26: Gould | E26: Dietriche | I26: Stone | L26: Kinsella | V26: Newey | AB26: 1 | AG26: 19
A27: 20 | E27: Candy | J27: Griffiths | N27: Fletcher | P27: Anderson | R27: Dennis | U27: Marie George - pls don't move | AB27: Rocka | AE27: Watters | AG27: 20 | AH27: =ALERTS!E45 -> 0
A28: 21 | B28: Minton cont… | G28: Randel | K28: Candy | Q28: Lee | V28: Peter Lagoda - PLs don't move | Z28: Page | AA28: Jeffs | AC28: Stoker | AG28: 21 | AH28: =ALERTS!E46 -> 0
A29: 22 | J29: North | M29: Davis | R29: S. Palin | AD29: Stearns | AG29: 22 | AH29: =ALERTS!E47 -> 0
A30: Pitch | B30: Sat | C30: Sun | D30: Mon | E30: Tue | F30: Wed | G30: Thu | H30: Fri | I30: Sat | J30: Sun | K30: Mon | L30: Tue | M30: Wed | N30: Thu | O30: Fri | P30: Sat | Q30: Sun | R30: Mon | S30: Tue | T30: Wed | U30: Thu | V30: Fri | W30: Sat | X30: Sun | Y30: Mon | Z30: Tue | AA30: Wed | AB30: Thu | AC30: Fri | AD30: Sat | AE30: Sun | AF30: Mon | AG30: Pitch
A31: No. | B31: 1 | C31: 2 | D31: 3 | E31: 4 | F31: 5 | G31: 6 | H31: 7 | I31: 8 | J31: 9 | K31: 10 | L31: 11 | M31: 12 | N31: 13 | O31: 14 | P31: 15 | Q31: 16 | R31: 17 | S31: 18 | T31: 19 | U31: 20 | V31: 21 | W31: 22 | X31: 23 | Y31: 24 | Z31: 25 | AA31: 26 | AB31: 27 | AC31: 28 | AD31: 29 | AE31: 30 | AF31: 31 | AG31: No.
A32: 23 | B32: cont.. | P32: Jenkins | V32: 1 | W32: Jenkins | AC32: 2 | AD32: pd | AG32: 23
A33: 23a | B33: Craig Burgess cont.. | J33: 2 | K33: back pd on 12th | Q33: 3 | X33: 4 | Y33: pd | AE33: 1 | AG33: 23a
A34: 24 | B34: Dan Riley cont.. | H34: 2 | O34: 3 | V34: 4 | W34: pd on 1st Nov | AC34: 1 | AG34: 24 | AH34: TODAY IS
A35: 25 | B35: Vacher cont… | J35: 2 | Q35: 3 | X35: 4 | AE35: 1 | AG35: 25 | AH35: =TODAY() -> 42702
A36: 26 | B36: Coles | D36: 4 | E36: pd from 4 oct to 31st | K36: 1 | R36: 2 | Y36: 3 | AF36: 4 | AG36: 26
A37: 27 | B37: cont.. | D37: Ratmik | K37: Damian | Q37: 1 | R37: Damian | X37: 2 | AE37: 3 | AF37: £132 due | AG37: 27
A38: 28 | B38: Gray | C38: Egleton | E38: Balmer | O38: Carrie-Ann | T38: Lee - do not move req pl 28 | Z38: 1 | AA38: 2nd wk now | AG38: 28
A39: 29 | B39: Ridley cont… | H39: Ridley/Thomas | N39: 2 | T39: Ridley - | X39: pd | AB39: pd 2n | AD39: McBride | AG39: 29 | AH39: NO DOGS
A40: 30 | E40: Sylvester | K40: Balmer | M40: Jones | R40: Balmer | V40: Truman | Y40: Balmer | AA40: Thorne | AC40: Massingham | AF40: Stafford | AG40: 30 | AH40: NO DOGS
...

Sheet Nov 2016
A1: BACK-UP 28 Nov @ 1220
D2: GERMANY | I2: OFF PEAK | M2: Prince Consort | S2: Wallers | T2: Ron's | Z2: VICTORIAS Festival
A3: Pitch | B3: Tue | C3: Wed | D3: Thu | E3: Fri | F3: Sat | G3: Sun | H3: Mon | I3: Tue | J3: Wed | K3: Thu | L3: Fri | M3: Sat | N3: Sun | O3: Mon | P3: Tue | Q3: Wed | R3: Thu | S3: Fri | T3: Sat | U3: Sun | V3: Mon | W3: Tue | X3: Wed | Y3: Thu | Z3: Fri | AA3: Sat | AB3: Sun | AC3: Mon | AD3: Tue | AE3: Wed | AF3: Pitch
A4: No. | B4: 1 | C4: 2 | D4: 3 | E4: 4 | F4: 5 | G4: 6 | H4: 7 | I4: 8 | J4: 9 | K4: 10 | L4: 11 | M4: 12 | N4: 13 | O4: 14 | P4: 15 | Q4: 16 | R4: 17 | S4: 18 | T4: 19 | U4: 20 | V4: 21 | W4: 22 | X4: 23 | Y4: 24 | Z4: 25 | AA4: 26 | AB4: 27 | AC4: 28 | AD4: 29 | AE4: 30 | AF4: No.
A5: 1 | C5: Caplin | G5: McKinnon | H5: Palmer | I5: really nice couple on way to spain | O5: Balmer | R5: Harding | U5: Corbridge | V5: Balmer | Z5: Sellen | AD5: Baker | AF5: 1
A6: 2 | B6: Corbridge cont.. | D6: Pd for 18 nights up to 20 Nov | J6: 1 | Q6: 2 | AA6: Hewitt | AF6: 2 | AG6: Not here
A7: 3 | B7: cont.. | G7: Clements | J7: Owen | N7: for parade | U7: Todd | Z7: Chatwin | AF7: 3 | AG7: Tent
A8: 4 | B8: Thomas cont.. | H8: 2wks | I8: pd | O8: 1 | V8: 2 | W8: pd 2 wks | AC8: 2 | AF8: 4 | AG8: Trailer tent
A9: 5 | B9: Dean Martin cont… | G9: 1 | N9: 2 | U9: 3 | AB9: 4 | AF9: 5 | AG9: Folding caravan
A10: 6 | B10: Box cont.. | I10: Susan Korczakowski. | S10: Powell | AF10: 6 | AG10: Caravan
A11: 7 | B11: Darby | C11: Hope | L11: Meiner | T11: Boyce | AA11: rock up | AF11: 7 | AG11: Camper van
A12: 8 | E12: Hood | G12: Allan | H12: Whitfield - do not move | P12: Robertson-Bryant | R12: Hale | S12: Setter - wi 4n | Y12: Batten | AB12: Jenkins | AD12: Tucker | AF12: 8 | AG12: Motorhome
A13: 9 | B13: Bowles cont.. | G13: Bowles cont… | P13: Chipperton | T13: Gillian | V13: Clarke | Z13: Billingham | AB13: Palmer | AF13: 9 | AG13: RV
A14: 10 | B14: Keglemann | F14: Brown | K14: Altham | S14: Smith | Z14: White | AF14: 10 | AG14: Free night
A15: 11 | B15: Turton Andy cont.. | D15: 4 | E15: Turton Andy | K15: 1 | L15: pd 17/11 | R15: 2 | Y15: 3 | AF15: 11 | AG15: Poss Extra / late stay
A16: 12 | C16: Livermore | E16: Ricks | L16: Anderson | P16: Woodcock | S16: Woodward | T16: Medhurst | Y16: Ward | AB16: Hopper | AF16: 12 | AG16: Hard Standing
A17: 13 | C17: Neary ??? | E17: Day | G17: Ashton | J17: Robinson | M17: Evans | S17: Scullion | U17: Liverserdge | AA17: Rampling | AC17: Susan Korczakowski. | AF17: 13 | AG17: Not in use
A18: 14 | D18: Hammond | F18: Loader | H18: Davies | L18: 2 | S18: 3 | Z18: 4 | AA18: pd | AF18: 14 | AG18: Off Peak
A19: 15 | AA19: O'Hara | AF19: 15 | AG19: Bank holiday
A20: 16 | K20: Norris | AA20: Twyman | AF20: 16 | AG20: Peak
A21: 16a | AF21: 16a | AG21: Seasonal pitch
A22: 17 | D22: Collins | Y22: Baker - on road 13a elec | AC22: 11:30am back | AF22: 17 | AG22: Non arrival
A23: 17a | AF23: 17a | AG23: Refund
A24: 18 | AF24: 18 | AG24: Cancelled
A25: 18a | Y25: Strutt/Smith | AF25: 18a | AG25: late stay
A26: 19 | C26: Butler | F26: Kennard | K26: Hill | S26: Hayden | U26: Hayland | Y26: Strutt/Swarbrick | AD26: McMahon | AF26: 19
A27: 20 | B27: Morrcroft | D27: Leach | E27: Page | H27: Roberts | K27: Jackson | S27: Mathias | U27: Buck | W27: Reney | Y27: Strutt - damaged bollard | AD27: Sainsbury | AF27: 20 | AG27: =ALERTS!E48 -> 0
A28: 21 | B28: Quinn | H28: 1 | O28: 2 | V28: 3 | AC28: 4 | AF28: 21 | AG28: =ALERTS!E49 -> 0
A29: 22 | B29: Sterns cont.. | D29: McGuiness | F29: James Thomson | I29: . | L29: 1 | S29: 2 | Z29: 3 | AF29: 22 | AG29: =ALERTS!E50 -> 0
A30: Pitch | B30: Tue | C30: Wed | D30: Thu | E30: Fri | F30: Sat | G30: Sun | H30: Mon | I30: Tue | J30: Wed | K30: Thu | L30: Fri | M30: Sat | N30: Sun | O30: Mon | P30: Tue | Q30: Wed | R30: Thu | S30: Fri | T30: Sat | U30: Sun | V30: Mon | W30: Tue | X30: Wed | Y30: Thu | Z30: Fri | AA30: Sat | AB30: Sun | AC30: Mon | AD30: Tue | AE30: Wed | AF30: Pitch
A31: No. | B31: 1 | C31: 2 | D31: 3 | E31: 4 | F31: 5 | G31: 6 | H31: 7 | I31: 8 | J31: 9 | K31: 10 | L31: 11 | M31: 12 | N31: 13 | O31: 14 | P31: 15 | Q31: 16 | R31: 17 | S31: 18 | T31: 19 | U31: 20 | V31: 21 | W31: 22 | X31: 23 | Y31: 24 | Z31: 25 | AA31: 26 | AB31: 27 | AC31: 28 | AD31: 29 | AE31: 30 | AF31: No.
A32: 23 | B32: Jenkins cont | E32: 1 | L32: 2 | M32: Pd | S32: 3 | Z32: 4 | AA32: pd on 28th | AF32: 23
A33: 23a | B33: Burgess | G33: Ruddell | J33: our camper van on here | Y33: Broomfield | AA33: Anderson | AD33: Longfoot | AF33: 23a | AG33: TODAY IS
A34: 24 | B34: Dan Riley cont.. | E34: 2 | S34: Wood | V34: ok for 2n refund £50 | Y34: 1 | AF34: 24 | AG34: =TODAY() -> 42702
A35: 25 | B35: Vacher cont.. | G35: 2 | N35: 3 | U35: 4 | V35: pd on 26 Nov | AB35: 1 | AF35: 25
A36: 26 | B36: Coles cont.. | H36: 1 | M36: Collins | N36: Sheard - hit gate post damaged post | Y36: 1 | Z36: £154 due up to 1 dec | AF36: 26
A37: 27 | B37: Ratmik | G37: 1 | N37: 2 | U37: 3 | V37: pd 2n | X37: pd 5nh | AB37: 4 | AF37: 27
A38: 28 | B38: cont.. | C38: Carrie-Ann | P38: Taylor | R38: Villis | T38: Johnson | W38: Villis | Z38: Rickard | AF38: 28
A39: 29 | B39: Stafford cont.. | O39: pd | V39: Pd | AC39: £154 due | AF39: 29 | AG39: NO DOGS
A40: 30 | C40: Ridley | I40: 1 | M40: Farren | P40: Searle | Z40: Gathern | AF40: 30 | AG40: NO DOGS
...

Sheet Dec 2016
A1: BACK-UP RECORD HERE
I2: OFF PEAK | R2: OFF PEAK | Y2: P E A K | AD2: TUG
A3: Pitch | B3: Thu | C3: Fri | D3: Sat | E3: Sun | F3: Mon | G3: Tue | H3: Wed | I3: Thu | J3: Fri | K3: Sat | L3: Sun | M3: Mon | N3: Tue | O3: Wed | P3: Thu | Q3: Fri | R3: Sat | S3: Sun | T3: Mon | U3: Tue | V3: Wed | W3: Thu | X3: Fri | Y3: Sat | Z3: Sun | AA3: Mon | AB3: Tue | AC3: Wed | AD3: Thu | AE3: Fri | AF3: Sat | AG3: Pitch
