Workbook

Sheet Jan 2018
A1: BACK-UP 01 Feb 18 @ 16:46
B2: PEAK | C2: ACSI | I2: OFF PEAK | M2: ACSI | R2: OFF PEAK | V2: ACSI | AA2: OFF PEAK | AD2: ACSI
A3: Pitch | B3: Mon | C3: Tue | D3: Wed | E3: Thu | F3: Fri | G3: Sat | H3: Sun | I3: Mon | J3: Tue | K3: Wed | L3: Thu | M3: Fri | N3: Sat | O3: Sun | P3: Mon | Q3: Tue | R3: Wed | S3: Thu | T3: Fri | U3: Sat | V3: Sun | W3: Mon | X3: Tue | Y3: Wed | Z3: Thu | AA3: Fri | AB3: Sat | AC3: Sun | AD3: Mon | AE3: Tues | AF3: Wed | AG3: Pitch
A4: No. | B4: 1 | C4: 2 | D4: 3 | E4: 4 | F4: 5 | G4: 6 | H4: 7 | I4: 8 | J4: 9 | K4: 10 | L4: 11 | M4: 12 | N4: 13 | O4: 14 | P4: 15 | Q4: 16 | R4: 17 | S4: 18 | T4: 19 | U4: 20 | V4: 21 | W4: 22 | X4: 23 | Y4: 24 | Z4: 25 | AA4: 26 | AB4: 27 | AC4: 28 | AD4: 29 | AE4: 30 | AF4: 31 | AG4: No.
A5: 1 | C5: Jenkins | G5: Silver | I5: Jenkins | M5: McAuley | N5: Nichoson | P5: Jenkins | U5: Pinfield | X5: Jenkins | AD5: Jenkins | AG5: 1
A6: 1a | AG6: 1a | AH6: Not here
A7: 2 | B7: Paid up to 6th Jan - move to pl 23 | H7: Back today | AG7: 2 | AH7: Tent
A8: 3 | F8: Elvery | AG8: 3 | AH8: Trailer tent
A9: 4 | AG9: 4 | AH9: Folding caravan
A10: 5 | AG10: 5 | AH10: Caravan
A11: 6 | AC11: Al | AG11: 6 | AH11: Camper van
A12: 7 | AG12: 7 | AH12: Motorhome
A13: 8 | E13: Schreiber | F13: Watters | G13: Mason | J13: Davies | K13: Pochin | M13: Edwards | N13: Smith | P13: + | R13: Stenton | S13: Hollows | V13: Berry | X13: Lewendon | Y13: Berry | Z13: Button - do not move | AD13: Wilkinson | AG13: 8 | AH13: RV
A14: 9 | B14: Staples | G14: Price | H14: Mclean | J14: Willey | L14: Cooper | N14: Beacham - no show | Q14: Stevenson | V14: Judd | X14: Duke | Y14: Armstrong | AA14: Berry | AB14: Briney | AG14: 9 | AH14: Free night
A15: 10 | O15: Nicholson | U15: 1 | AB15: 2 | AG15: 10 | AH15: Poss Extra / late stay
A16: 11 | B16: Bennett | F16: Hewson | J16: Oliver | K16: Bernstone | M16: Tomkins / Kinght | O16: Collyer | P16: Whiteman | T16: Berry | U16: Carney | X16: Yates | Y16: Cervini | AA16: Fisher | AG16: 11 | AH16: Hard Standing
A17: 12 | G17: Outhwaite | M17: Tomkins | O17: Purvis | U17: Atkinson | X17: Jamieson | AA17: Rishton | AB17: Cooper - poster boys | AG17: 12 | AH17: Not in use
A18: 13 | I18: Bernstone | J18: Reynolds | K18: Walsh - Lee | M18: Lee | O18: Darnley | P18: Darnley came in 14 Jan | V18: 1 | AC18: 2 | AE18: Cross | AF18: Halls | AG18: 13 | AH18: Off Peak
A19: 14 | B19: Almond here | C19: here | D19: here | E19: 1 | L19: 2 | S19: 3 | U19: here 1 night | Z19: 4 | AG19: 14 | AH19: Bank holiday
A20: 15 | J20: Walsh - Lee | AG20: 15 | AH20: Peak
A21: 16 | J21: Bernstone put on dead end road by 16 to plug into ehu | X21: Alton - on the road | AG21: 16 | AH21: Seasonal pitch
A22: 16a | J22: Moores placed by the anchor | AG22: 16a | AH22: Non arrival
A23: 17 | AG23: 17 | AH23: Refund
A24: 17a | AG24: 17a | AH24: Cancelled
A25: 18 | AG25: 18 | AH25: late stay
A26: 18a | AG26: 18a
A27: 19 | B27: cont… | D27: Dedman | G27: Farrel | H27: Brown - DO NOT MOVE | L27: Musgrove | M27: Lilley | N27: Tillotson | P27: Gill | Q27: Thomas | R27: Walters | S27: Fox | U27: Clough | X27: Cooper | Z27: Gill | AB27: Boulter | AE27: Finch | AG27: 19 | AH27: =ALERTS!E18 -> 0
A28: 20 | B28: Harvey cont… | E28: 1 | H28: visitor | L28: 2 | S28: 3 | AB28: Panplin do not move | AG28: 20 | AH28: =ALERTS!E19 -> 0
A29: 21 | B29: Conlon | H29: 1 | O29: 2 | V29: 3 | AC29: 4 | AD29: £700 due for following 4 wks if ex | AG29: 21 | AH29: =ALERTS!E20 -> 0
A30: 22 | AG30: 22
A31: Pitch | B31: Mon | C31: Tue | D31: Wed | E31: Thu | F31: Fri | G31: Sat | H31: Sun | I31: Mon | J31: Tue | K31: Wed | L31: Thu | M31: Fri | N31: Sat | O31: Sun | P31: Mon | Q31: Tue | R31: Wed | S31: Thu | T31: Fri | U31: Sat | V31: Sun | W31: Mon | X31: Tue | Y31: Wed | Z31: Thu | AA31: Fri | AB31: Sat | AC31: Sun | AD31: Mon | AE31: Tues | AF31: Wed | AG31: Pitch
A32: No. | B32: 1 | C32: 2 | D32: 3 | E32: 4 | F32: 5 | G32: 6 | H32: 7 | I32: 8 | J32: 9 | K32: 10 | L32: 11 | M32: 12 | N32: 13 | O32: 14 | P32: 15 | Q32: 16 | R32: 17 | S32: 18 | T32: 19 | U32: 20 | V32: 21 | W32: 22 | X32: 23 | Y32: 24 | Z32: 25 | AA32: 26 | AB32: 27 | AC32: 28 | AD32: 29 | AE32: 30 | AF32: 31 | AG32: No.
A33: 23 | H33: 1 Mclouglin | J33: Skelton | K33: McLoughlin | O33: 2 | V33: 3 | AC33: 4 | AG33: 23 | AH33: TODAY IS
A34: 23a | B34: Saunders RV pd up to 20 Jan | U34: Taylor | V34: Robbie | AB34: 1 | AG34: 23a | AH34: =TODAY() -> 43430
A35: 24 | B35: Kamienquz | S35: Riddell | V35: Paine | AB35: 1 | AG35: 24
A36: 25 | B36: Parker | G36: 2 | M36: girlfriend + car | N36: gf stayed | U36: 4 | AC36: Evan | AG36: 25
A37: 26 | B37: Halligan £250 due for 4 wks | H37: 1 | J37: Paid | O37: 2 | V37: 3 | AC37: 4 | AD37: £250 - 6744 | AG37: 26
A38: 27 | B38: DEAN | H38: Sue Sibley £600.00 per 4 wks | O38: 1 | V38: 2 | AC38: 3 | AG38: 27
A39: 28 | B39: Pip & Wayne | I39: off | J39: off | K39: off | P39: off | Q39: off | R39: off | V39: off | W39: off | X39: off | Y39: off | AC39: off | AD39: off | AE39: off | AF39: swap | AG39: 28
A40: 29 | B40: Nutt cont.. | C40: Ray & Morise | G40: 4 | N40: 1 | U40: 2 | Z40: away until 4th feb | AG40: 29 | AH40: NO DOGS
...

Sheet Feb 2018
A1: BACK-UP 28 FEB 18 @ 1700
E2: ACSI | K2: Half Term 10 to 18 Feb | O2: OFF PEAK STILL | V2: 0FF | W2: PEAK
A3: Pitch | B3: Thu | C3: Fri | D3: Sat | E3: Sun | F3: Mon | G3: Tue | H3: Wed | I3: Thu | J3: Fri | K3: Sat | L3: Sun | M3: Mon | N3: Tue | O3: Wed | P3: Thu | Q3: Fri | R3: Sat | S3: Sun | T3: Mon | U3: Tue | V3: Wed | W3: Thu | X3: Fri | Y3: Sat | Z3: Sun | AA3: Mon | AB3: Tues | AC3: Wed | AD3: Pitch
A4: No. | B4: 1 | C4: 2 | D4: 3 | E4: 4 | F4: 5 | G4: 6 | H4: 7 | I4: 8 | J4: 9 | K4: 10 | L4: 11 | M4: 12 | N4: 13 | O4: 14 | P4: 15 | Q4: 16 | R4: 17 | S4: 18 | T4: 19 | U4: 20 | V4: 21 | W4: 22 | X4: 23 | Y4: 24 | Z4: 25 | AA4: 26 | AB4: 27 | AC4: 28 | AD4: No.
A5: 1 | B5: Jenkins | C5: Slade on road plug into EHU 14 or 16 (said he does not need a pitch) | D5: Scholey | E5: Wiltshire | F5: Jenkins | J5: Baker | M5: Burnstone | N5: Luter | O5: Burnstone | Q5: Burnett | T5: Keeton | U5: Kift | X5: Ball | Y5: Mendis | Z5: Rawling late ferry arr 2130 | AB5: White | AC5: Ind | AD5: 1
A6: 2 | J6: Moore | M6: moved from plot 12 to be near toilets | R6: Jenkins | T6: Armstrong | V6: Bennett | AB6: 1 | AC6: £24 pn | AD6: 2 | AE6: Not here
A7: 2a | H7: REMINDER: NO ACSI WHEN 3 OR LESS PITCHES LEFT OR ON A TUESDAY | AD7: 2a | AE7: Tent
A8: 3 | AC8: PIP | AD8: 3 | AE8: Trailer tent
A9: 4 | R9: van parked by barn | AD9: 4 | AE9: Folding caravan
A10: 5 | AD10: 5 | AE10: Caravan
A11: 6 | H11: McDonald | AD11: 6 | AE11: Camper van
A12: 7 | P12: Blyth | U12: Browning | AD12: 7 | AE12: Motorhome
A13: 8 | B13: Beddow - with Gillespie | F13: Pippett | G13: Thompson | I13: Hallows | K13: Malcolm | P13: Allen | U13: Naylor | W13: Sibbons | AB13: Morton | AC13: Hollows | AD13: 8 | AE13: RV
A14: 9 | B14: Briney con | D14: Gillespie | G14: Horne | H14: Newey | W14: Wyatt | Y14: Spooner | AB14: O'Neil | AD14: 9 | AE14: Free night
A15: 10 | C15: cont | E15: Nicholson - | M15: Oakley | Y15: Pd 27 Feb | AD15: 10 | AE15: Poss Extra / late stay
A16: 11 | B16: O'Brian | E16: Clark | G16: Ding | H16: Rowland | J16: Langworthy | L16: Bull | N16: Ricketts | P16: Butcher | U16: Dustan | W16: Walton | AD16: 11 | AE16: Hard Standing
A17: 12 | B17: cont… | C17: Cooper | K17: Watts | N17: Stephenson | O17: Debono | R17: Grech | U17: Weake | W17: Truscott | AD17: 12 | AE17: Not in use
A18: 13 | B18: Stevens | C18: Pearce | E18: Balmer | G18: McGinty | J18: Holmes | L18: GRAHAM | P18: Mead | R18: Meacock | X18: Harvey | AB18: Kevey | AD18: 13 | AE18: Off Peak
A19: 14 | B19: Almond cont.. | G19: Griffin | Q19: here 2n | U19: Pratten | AD19: 14 | AE19: Bank holiday
A20: 15 | AD20: 15 | AE20: Peak
A21: 16 | C21: Tayler by end of road with EHU | G21: Jenkins | N21: Burnstone | R21: Thorn | AD21: 16 | AE21: Seasonal pitch
A22: 16a | I22: The road is only to be used for 1n bookings as we need access daily | AD22: 16a | AE22: Non arrival
A23: 17 | AD23: 17 | AE23: Refund
A24: 17a | AD24: 17a | AE24: Cancelled
A25: 18 | C25: Perkin - reserved | AD25: 18 | AE25: late stay
A26: 18a | C26: Perkin | N26: MacDonald | AD26: 18a
A27: 19 | C27: Towse | J27: Farmborough | N27: Beacham - no show | O27: Debono | Q27: Eades | U27: McBryer | X27: Pearson do not move | AB27: Eastick | AD27: 19 | AE27: =ALERTS!E21 -> 0
A28: 20 | B28: Panplin do not move | N28: Worden | P28: Mann | U28: Nethercott | W28: Reeve | Y28: Betty | Z28: Usher | AB28: Jehu | AD28: 20 | AE28: =ALERTS!E22 -> 0
A29: 21 | B29: Conlon cont… | E29: 1 | J29: WJ63 VLW | L29: 2 | S29: 3 | Z29: 4 | AD29: 21 | AE29: =ALERTS!E23 -> 0
A30: 22 | AD30: 22
A31: Pitch | B31: Thu | C31: Fri | D31: Sat | E31: Sun | F31: Mon | G31: Tue | H31: Wed | I31: Thu | J31: Fri | K31: Sat | L31: Sun | M31: Mon | N31: Tue | O31: Wed | P31: Thu | Q31: Fri | R31: Sat | S31: Sun | T31: Mon | U31: Tue | V31: Wed | W31: Thu | X31: Fri | Y31: Sat | Z31: Sun | AA31: Mon | AB31: Tues | AC31: Wed | AD31: Pitch
A32: No. | B32: 1 | C32: 2 | D32: 3 | E32: 4 | F32: 5 | G32: 6 | H32: 7 | I32: 8 | J32: 9 | K32: 10 | L32: 11 | M32: 12 | N32: 13 | O32: 14 | P32: 15 | Q32: 16 | R32: 17 | S32: 18 | T32: 19 | U32: 20 | V32: 21 | W32: 22 | X32: 23 | Y32: 24 | Z32: 25 | AA32: 26 | AB32: 27 | AC32: 28 | AD32: No. | AE32: Bill work 13 to 19th Feb
A33: 23 | B33: McLoughlin | E33: pd £600 due for 4wks | K33: 1 | R33: 2 | Y33: 3 | AD33: 23 | AE33: TODAY IS
A34: 23a | B34: Robbie cont.. | D34: 2 | H34: leaving | N34: Harries | Q34: Morris | U34: Marriner | Y34: Rose | Z34: Pearce - | AA34: Poster | AB34: Boys | AD34: 23a | AE34: =TODAY() -> 43430
A35: 24 | B35: Paine cont….. | D35: 2 | K35: 3 | M35: ex car | N35: ex person Tues & Wed | R35: 4 | V35: 4nx27=£108 | AB35: cleaver | AC35: Steel | AD35: 24
A36: 25 | B36: Evans | F36: pd for ex week | S36: pd from 18 to 25th feb | AB36: Longstaff | AD36: 25
A37: 26 | B37: Halligan cont… | E37: 1 | H37: here | I37: here | L37: here 2 | M37: here | S37: 3 | Z37: here 4 | AA37: here | AB37: here | AC37: here
A38: 27 | B38: Sibley cont | E38: 4 | L38: 1 | S38: 2 | Z38: 3 | AD38: 27
A39: 28 | E39: off | F39: off | G39: off | H39: off | M39: off | N39: off | O39: off | S39: off | T39: off | U39: off | V39: off | AA39: off | AB39: off | AC39: off | AD39: 28 | AG39: duty w
A40: 29 | B40: Nutt cont.. | D40: 4 | K40: 1 | R40: 2 | Y40: 3 | AD40: 29 | AE40: NO DOGS
...

Sheet Mar 2018
A1: Back up 31 March @ 17:15
B2: OFF PEAK | I2: OFF PEAK | Q2: OFF PEAK | X2: OFF PEAK | AE2: Bank Hol
A3: Pitch | B3: Thu | C3: Fri | D3: Sat | E3: Sun | F3: Mon | G3: Tue | H3: Wed | I3: Thu | J3: Fri | K3: Sat | L3: Sun | M3: Mon | N3: Tue | O3: Wed | P3: Thu | Q3: Fri | R3: Sat | S3: Sun | T3: Mon | U3: Tue | V3: Wed | W3: Thu | X3: Fri | Y3: Sat | Z3: Sun | AA3: Mon | AB3: Tues | AC3: Wed | AD3: Thur | AE3: Fri | AF3: Sat | AG3: Pitch
A4: No. | B4: 1 | C4: 2 | D4: 3 | E4: 4 | F4: 5 | G4: 6 | H4: 7 | I4: 8 | J4: 9 | K4: 10 | L4: 11 | M4: 12 | N4: 13 | O4: 14 | P4: 15 | Q4: 16 | R4: 17 | S4: 18 | T4: 19 | U4: 20 | V4: 21 | W4: 22 | X4: 23 | Y4: 24 | Z4: 25 | AA4: 26 | AB4: 27 | AC4: 28 | AD4: 29 | AE4: 30 | AF4: 31 | AG4: No.
A5: 1 | I5: Chipperton | J5: Baxter | M5: Darby | P5: Hollows | R5: Jenkins | S5: Davies | T5: Darby | W5: Keeton | X5: Kerr | Z5: Isaacs | AD5: Pearce | AG5: 1
A6: 2 | B6: Bennett cont… | G6: 2 | N6: 3 | U6: 4 | AB6: 5 | AG6: 2 | AH6: Not here
A7: 2a | B7: Stella to ring Mr Isaac about moving caravan 2 March | K7: appt 10am | N7: Stella & Bill's caravan we will move it for Easter if need pitch | AE7: Heppel | AG7: 2a | AH7: Tent
A8: 3 | F8: O'Dell | R8: Carter | AE8: Rackley | AG8: 3 | AH8: Trailer tent
A9: 4 | E9: REMINDER: NO ACSI WHEN 3 OR LESS PITCHES LEFT OR TUESDAY | AD9: Sheehan | AG9: 4 | AH9: Folding caravan
A10: 5 | P10: ` | V10: Yardley | AC10: Healey | AG10: 5 | AH10: Caravan
A11: 6 | G11: Callaway until Bill well enough to move it back into storage | AD11: Bodrell | AG11: 6 | AH11: Camper van
A12: 7 | AC12: Reast | AG12: 7 | AH12: Motorhome
A13: 8 | B13: cont.. | E13: Beardmore | I13: Dundon | J13: Lomax | L13: Holloway | P13: Barnes | Q13: Granell | S13: Sherwin | U13: Meacock | X13: Whitfield | AG13: 8 | AH13: RV
A14: 9 | I14: Summers | J14: Jerram | M14: Hollows | P14: Jones to move here Thurs - owes from 15th March | AA14: Hollows | AD14: Chapman | AG14: 9 | AH14: late stay
A15: 10 | B15: Oakley cont…… | C15: 1 | J15: 2 | Q15: 3 | X15: 4 | AD15: Chapman | AG15: 10 | AH15: Poss Extra / late stay
A16: 11 | G16: stella's M/H | L16: Wood | N16: Hewison | Q16: Stearns | X16: Fisher - Pam | AA16: Sudron | AD16: Chapman / Sullivan | AG16: 11 | AH16: Hard Standing
A17: 12 | E17: Brown | F17: Barrell | K17: Brock | R17: Mason | X17: Powell | AA17: Bates - DO NOT MOVE | AE17: Jackson | AG17: 12 | AH17: Not in use
A18: 13 | E18: Newsholme | I18: Jones - want ex week acsi | Q18: Armitstead | X18: 2 | AE18: 3 | AG18: 13 | AH18: Off Peak
A19: 14 | B19: Almond cont.. | I19: 2 | P19: 3 | W19: 4wks | X19: £198 due | AD19: 1 | AG19: 14 | AH19: Bank holiday
A20: 15 | AG20: 15 | AH20: Peak
A21: 16 | AE21: Hewett | AG21: 16 | AH21: Seasonal pitch
A22: 16a | AG22: 16a | AH22: Non arrival
A23: 17 | AE23: Hewett / Bishop | AG23: 17 | AH23: Refund
A24: 17a | AG24: 17a | AH24: Cancelled
A25: 18 | AG25: 18
A26: 18a | AE26: Wilmot | AF26: Harris | AG26: 18a
A27: 19 | E27: Bahlke | J27: Summersgill | K27: Anderson | AA27: Dayerman | AC27: Hughes | AE27: Masterton | AG27: 19 | AH27: =ALERTS!E24 -> 0
A28: 20 | E28: Carrie-Ann | L28: Colwill | M28: Middleton | P28: Headon | V28: Sanderson | W28: Collins | X28: Rawlings | Z28: Hendry do not move | AA28: Peckover | AE28: 30 | AF28: Hanson | AG28: 20 | AH28: =ALERTS!E25 -> 0
A29: 21 | B29: Conlon | E29: 1 | L29: 2 | S29: 3 | Z29: 4 | AG29: 21 | AH29: =ALERTS!E26 -> 0
A30: 22 | U30: CallawaY | W30: came in and took away for easter | AE30: Wilmot pl 20 | AG30: 22
A31: Pitch | B31: =B3 -> Thu | C31: =C3 -> Fri | D31: =D3 -> Sat | E31: =E3 -> Sun | F31: =F3 -> Mon | G31: =G3 -> Tue | H31: =H3 -> Wed | I31: =I3 -> Thu | ... AF31: =AF3 -> Sat | AG31: Pitch
A32: No. | B32: 1 | C32: 2 | D32: 3 | E32: 4 | F32: 5 | G32: 6 | H32: 7 | I32: 8 | J32: 9 | K32: 10 | L32: 11 | M32: 12 | N32: 13 | O32: 14 | P32: 15 | Q32: 16 | R32: 17 | S32: 18 | T32: 19 | U32: 20 | V32: 21 | W32: 22 | X32: 23 | Y32: 24 | Z32: 25 | AA32: 26 | AB32: 27 | AC32: 28 | AD32: 29 | AE32: 30 | AF32: 31 | AG32: No. | AH32: TODAY IS
A33: 23 | B33: McLoughlin | D33: 4wks | O33: Ellis - ACSI | AE33: Tutt | AG33: 23 | AH33: =TODAY() -> 43430
A34: 23a | B34: Cont.. | E34: Hunt | H34: Hunt | L34: stella's M/H - it can be moved | AD34: Watts | AE34: Carpenter | AG34: 23a
A35: 24 | B35: Cont.. | D35: dunn | K35: Armitstead | Q35: Paine | T35: Bank | U35: Raup | Z35: Charles | AC35: Marriner | AE35: Doe | AG35: 24
A36: 25 | C36: Paine cont….. | P36: Varney | R36: Taylor | Y36: 1 | AG36: 25
A37: 26 | B37: Halligan cont… | C37: 6nights on site to here | E37: 1 | F37: Still owes £20 from last month + £5 pr night for the extra car from 3 March | S37: 3 | Z37: 4wks | AG37: 26
A38: 27 | B38: cont.. | AD38: Nutt cont.. | AG38: 27
A39: 28 | E39: off | F39: off | G39: off | H39: off | M39: off | N39: off | O39: off | S39: off | T39: off | U39: off | V39: off | Z39: STELLA | AB39: off | AC39: off | AG39: 28
A40: 29 | B40: Nutt cont.. | D40: 4 | K40: 1 | R40: 2 | Y40: 3 | AE40: Guerandel | AG40: 29 | AH40: NO DOGS
...

Sheet April 2018
A1: Back Up - 30 April @ 1745
B2: B/Hol | C2: B/Hol | G2: PEAK | L2: P E A K | N2: . | S2: ACSI - 16 April to 3 May if available | Z2: OFF PEAK
A3: Pitch | B3: Sun | C3: Mon | D3: Tue | E3: Wed | F3: Thu | G3: Fri | H3: Sat | I3: Sun | J3: Mon | K3: Tue | L3: Wed | M3: Thu | N3: Fri | O3: Sat | P3: Sun | Q3: Mon | R3: Tue | S3: Wed | T3: Thu | U3: Fri | V3: Sat | W3: Sun | X3: Mon | Y3: Tue | Z3: Wed | AA3: Thur | AB3: Fri | AC3: Sat | AD3: Sun | AE3: Mon | AF3: Pitch
A4: No. | B4: 1 | C4: 2 | D4: 3 | E4: 4 | F4: 5 | G4: 6 | H4: 7 | I4: 8 | J4: 9 | K4: 10 | L4: 11 | M4: 12 | N4: 13 | O4: 14 | P4: 15 | Q4: 16 | R4: 17 | S4: 18 | T4: 19 | U4: 20 | V4: 21 | W4: 22 | X4: 23 | Y4: 24 | Z4: 25 | AA4: 26 | AB4: 27 | AC4: 28 | AD4: 29 | AE4: 30 | AF4: No.
A5: 1 | B5: cont | D5: Wrighton | F5: Downes | K5: Hopper | Q5: Gerrard | U5: Cheesman | X5: Hoogon | Y5: Stephenson | AB5: Thorne | AF5: 1
A6: 2 | B6: Bennett cont…. | D6: 6 | J6: Extended | X6: Extended 7n | AE6: ex 7n | AF6: 2 | AG6: Not here
A7: 2a | B7: Stella & Bill's | F7: Jackson | J7: O'Dell | V7: James | AB7: Parra | AF7: 2a | AG7: Tent
A8: 3 | B8: cont.. | D8: Suckling | U8: Comber | V8: Wood | X8: Armstrong | AF8: 3 | AG8: Trailer tent
A9: 4 | B9: Hill | C9: do not move | U9: knobloch | V9: Pinchbeck | AB9: Davey | AF9: 4 | AG9: Folding caravan
A10: 4a | B10: Turner keep with Hill pl 34 (father) | U10: Vaughan | V10: Winter | AC10: Surridge | AF10: 4a
A11: 5 | B11: cont…. | N11: Cunningham | S11: Allen | V11: Fortescue | AB11: Heppell | AF11: 5 | AG11: Caravan
A12: 6 | H12: Walker | U12: Bennett | V12: Bennett | AF12: 6 | AG12: Camper van
A13: 7 | B13: cont.. | Q13: NoMow | V13: de Rijcke | AF13: 7 | AG13: Motorhome
A14: 8 | B14: cont… | C14: cont.. | D14: car only | G14: Harris | K14: Gobbey | M14: heimann | O14: Telford | P14: Snowell | Q14: NoMow | T14: Burgess | Z14: Harvest | AD14: Harris DO NOT MOVE | AF14: 8 | AG14: RV
A15: 9 | B15: cont.. | C15: Hammond | I15: Jones | O15: 1 | V15: 2 | AC15: 1 | AF15: 9 | AG15: Free night
A16: 10 | B16: cont.. | C16: Reperarini | E16: Oakley £756 kess £56 as paying 4 wkly | P16: 1 | W16: 2 | AD16: 3 | AF16: 10 | AG16: Poss Extra / late stay
A17: 11 | B17: cont.. | C17: Neild DO NOT MOVE requires h/s | N17: Fright | P17: Hollows | V17: Phillips | Y17: Green | AA17: Barnatt - do not move | AF17: 11 | AG17: Hard Standing
A18: 12 | B18: cont… | E18: Siegmund | G18: Pervis BB4 | J18: B3 GOV here 6n moved it Sat 14th | U18: Extending by 2wks with 1 car | AC18: car | AD18: car | AE18: car | AF18: 12 | AG18: Not in use
A19: 13 | B19: Armitstead | G19: 4 | N19: 1 | U19: 2 | V19: extended | AB19: 1 | AF19: 13 | AG19: Off Peak
A20: 14 | B20: cont… | G20: Williams | L20: Archer | N20: Glover | Q20: Quartley | R20: Griffen | U20: Taylor | X20: Comben | AF20: 14 | AG20: Bank holiday
A21: 15 | AF21: 15 | AG21: Peak
A22: 16 | B22: Cont;.. | AF22: 16 | AG22: Seasonal pitch
A23: 16a | B23: Cont;.. | AF23: 16a | AG23: Non arrival
A24: 17 | AF24: 17 | AG24: Refund
A25: 17a | AF25: 17a | AG25: Cancelled
A26: 18 | AF26: 18 | AG26: late stay
A27: 18a | B27: cont… | AF27: 18a
A28: 19 | B28: cont.. | C28: Morrison | F28: Robbins | G28: Clulow | N28: Svensson | U28: Walkden | X28: Banks | AB28: Smith | AF28: 19 | AG28: =ALERTS!E27 -> 0
A29: 20 | B29: Hanson cont…… | E29: Lagdon | F29: Mason | N29: Holloway (asked for this plot as bb4) | Q29: Wall | S29: Berry - bad review | AB29: David | AC29: Waters | AD29: Porter | AF29: 20 | AG29: =ALERTS!E28 -> 0
A30: 21 | B30: Conlon cont…. | I30: 2 | P30: 3 | W30: 4 | AD30: 1 | AF30: 21 | AG30: =ALERTS!E29 -> 0
A31: 22 | B31: Matthews | AC31: Mason | AF31: 22
A32: Pitch | B32: =B3 -> Sun | C32: =C3 -> Mon | D32: =D3 -> Tue | E32: =E3 -> Wed | F32: =F3 -> Thu | G32: =G3 -> Fri | H32: =H3 -> Sat | I32: =I3 -> Sun | ... AE32: =AE3 -> Mon | AF32: Pitch
A33: No. | B33: 1 | C33: 2 | D33: 3 | E33: 4 | F33: 5 | G33: 6 | H33: 7 | I33: 8 | J33: 9 | K33: 10 | L33: 11 | M33: 12 | N33: 13 | O33: 14 | P33: 15 | Q33: 16 | R33: 17 | S33: 18 | T33: 19 | U33: 20 | V33: 21 | W33: 22 | X33: 23 | Y33: 24 | Z33: 25 | AA33: 26 | AB33: 27 | AC33: 28 | AD33: 29 | AE33: 30 | AF33: No. | AG33: TODAY IS
A34: 23 | B34: Tutt cont… | F34: 1 | M34: 2 | T34: 3 | AA34: 4 | AF34: 23 | AG34: =TODAY() -> 43430
A35: 23a | B35: cont… | D35: Henry | F35: Comben - C10 MBN | M35: 1 | T35: 2 | AB35: Linney | AC35: Barber | AE35: Thomson | AF35: 23a
A36: 24 | B36: cont.. | C36: Lingard | F36: Lewis | H36: Jenkins | N36: Stamp | Q36: Edwards | S36: House | AA36: Mumford | AF36: 24
A37: 25 | B37: Taylor cont.. | H37: 3 | O37: 4 | V37: 1 | AC37: 2 | AE37: 432 | AF37: 25
A38: 26 | B38: Halligan cont… | F38: Johnson | I38: 2wks | N38: HERE | S38: burgess | U38: Anderson | AB38: Schofield | AF38: 26
A39: 27 | B39: McDougall cont,,, | D39: Almond cont.. | AF39: 27
A40: 28 | B40: off | C40: off | D40: off | E40: off | I40: off | J40: off | K40: off | L40: off | P40: off | Q40: off | R40: off | S40: off | X40: off | Y40: off | Z40: off | AD40: off | AE40: off | AF40: 28
...

Sheet May 2018
A1: Back up 31 May @1800
B2: OFF | C2: PEAK | F2: BANK | G2: HOL | N2: River Jumble | P2: OFF PEAK | V2: OFF PEAK | X2: PEAK | Z2: Bank Holiday | AE2: PEAK
A3: Pitch | B3: Tue | C3: Wed | D3: Thu | E3: Fri | F3: Sat | G3: Sun | H3: Mon | I3: Tue | J3: Wed | K3: Thu | L3: Fri | M3: Sat | N3: Sun | O3: Mon | P3: Tue | Q3: Wed | R3: Thu | S3: Fri | T3: Sat | U3: Sun | V3: Mon | W3: Tue | X3: Wed | Y3: Thu | Z3: Fri | AA3: Sat | AB3: Sun | AC3: Mon | AD3: Tues | AE3: Wed | AF3: Thurs | AG3: Pitch
A4: No. | B4: 1 | C4: 2 | D4: 3 | E4: 4 | F4: 5 | G4: 6 | H4: 7 | I4: 8 | J4: 9 | K4: 10 | L4: 11 | M4: 12 | N4: 13 | O4: 14 | P4: 15 | Q4: 16 | R4: 17 | S4: 18 | T4: 19 | U4: 20 | V4: 21 | W4: 22 | X4: 23 | Y4: 24 | Z4: 25 | AA4: 26 | AB4: 27 | AC4: 28 | AD4: 29 | AE4: 30 | AF4: 31 | AG4: No. | AH4: Seasonal
A5: 1 | B5: Armstrong | C5: Thijssen | E5: Lodge | J5: Wilson | K5: Liversidge | L5: Spencer | M5: Hartnell | N5: Edwards | P5: Wood | Q5: Jones | R5: Day | V5: Hansen | Z5: Watson | AD5: Hall | AE5: Churchill | AF5: Anka | AG5: 1 | AH5: NOT PAID/extend
A6: 2 | B6: Bennett not sure if needed or not yet? | O6: Extended | V6: Bachellerie | X6: Burdett | Z6: Cook | AC6: Human | AD6: Pritchard | AE6: Foster | AF6: Bennett | AG6: 2 | AH6: Rally
A7: 3a | T7: Pohl | Z7: Thomas | AA7: Jones | AC7: Orr | AG7: 3a
A8: 3 | E8: Scott | H8: Sanintive | I8: Jones | M8: Stang | O8: Hewett | P8: Higson | Q8: Pengelly | T8: Rampling | W8: Scull | X8: Chadwick | Z8: Scott | AC8: Hatch | AD8: Sanderson | AG8: 3 | AH8: Tent
A9: 4 | H9: Bone | K9: Chadwick | S9: Sharpe | Z9: Argent with Parker | AC9: Keenan | AG9: 4 | AH9: Trailer tent
A10: 4a | E10: Goddard | I10: Benfiled | N10: Blake | S10: Goddard | Z10: Milward | AB10: Oliver Do not move | AD10: Hinsch | AG10: 4a
A11: 5 | E11: Vallely-leaving Sunday morning | N11: Blake / Hague | S11: Jacobs | Y11: Shirley | AD11: Gurr | AF11: Burns | AG11: 5 | AH11: Folding caravan
A12: 6 | E12: Morris | L12: Goddard DO NOT MOVE | P12: Heath | AA12: Lloyd - DO NOT MOVE | AG12: 6 | AH12: Caravan
A13: 7 | F13: Bull | I13: Schmitz | M13: Emmett | T13: Bullock | AB13: Smith | AG13: 7 | AH13: Camper van
A14: 8 | B14: Harris cont.. | G14: Hollows | M14: Warbrock | R14: Majid | Z14: Whitfield - Please DO NOT MOVE | AG14: 8 | AH14: Motorhome
A15: 9 | B15: cont… | E15: extended 10n | S15: Goodwin | Z15: Rayment | AD15: Hollows | AG15: 9 | AH15: RV
A16: 10 | B16: Oakley | G16: 4 | H16: Paid | N16: 1 | U16: 2 | AB16: 3 | AG16: 10 | AH16: Free night
A17: 11 | E17: German | H17: Green | J17: Sirdar | K17: Schckhuber | M17: Cooper | N17: Mitchell | S17: Chamberlain | Z17: Martin | AA17: West | AD17: Clarke | AG17: 11 | AH17: Poss Extra / late stay
A18: 12 | B18: cont… | D18: 2wks | G18: Pyke | I18: Beddow | M18: Quinn | Q18: Pembroke | S18: Birch | Y18: Taviner | AG18: 12 | AH18: Hard Standing
A19: 13 | B19: Armitstead | E19: 2 | L19: 3 | S19: 4 | T19: pd 22/5 | Z19: 1 | AG19: 13 | AH19: Not in use
A20: 14 | B20: Comben | D20: 4 | K20: 5 | R20: Dunbar | Z20: Ellerington | AC20: Garner | AD20: Mowlam | AE20: Kurt | AG20: 14 | AH20: Off Peak
A21: 15 | E21: No 1n bookings on elec unless available on arrival over BANK HOLIDAY as min of 3n bookings only | AG21: 15 | AH21: Bank holiday
A22: 16 | D22: Brownell | R22: Sparrow | AA22: Robinson/ Punjabi | AD22: Van Pepreseraaen | AG22: 16 | AH22: Peak
A23: 16a | Z23: Campbell | AB23: Litchfield | AG23: 16a | AH23: late stay
A24: 17 | E24: Didsbury | S24: Stowers | AA24: Robinson/Chris | AE24: Peters | AG24: 17 | AH24: Non arrival
A25: 17a | AA25: Robinson/Eliz | AG25: 17a | AH25: Refund
A26: 18 | E26: Bell | Z26: Pickett | AA26: DO NOT MOVE | AC26: Holmes - with King | AG26: 18 | AH26: Cancelled
A27: 18a | V27: NO ELECTRIC 18A | AA27: Smith | AD27: King - with Holmes | AG27: 18a | AH27: NO ELECTRIC ON 18A
A28: 19 | E28: Daniels | F28: Smalley | H28: Clarke | K28: Mathis | L28: Wilkinson | T28: Kaujles | V28: Herring | Z28: Furnell | AA28: DO NOT MOVE | AC28: Settings | AF28: North | AG28: 19
A29: 20 | E29: Birtles | H29: Henning | M29: Rigby | N29: McMaster | P29: Kelly | R29: Garner | T29: Beck | U29: Fry | AA29: Tranter | AG29: 20 | AH29: =ALERTS!E30 -> 0
A30: 21 | B30: Conlon | G30: 2 | N30: 3 | U30: 4 | AB30: 1 | AG30: 21 | AH30: =ALERTS!E31 -> 0
A31: 22 | B31: Harvey | L31: North | Y31: O'Neil | AF31: Frog | AG31: 22 | AH31: =ALERTS!E32 -> 0
A32: Pitch | B32: Tue | C32: Wed | D32: Thu | E32: Fri | F32: Sat | G32: Sun | H32: Mon | I32: Tue | J32: Wed | K32: Thu | L32: Fri | M32: Sat | N32: Sun | O32: Mon | P32: Tue | Q32: Wed | R32: Thu | S32: Fri | T32: Sat | U32: Sun | V32: Mon | W32: Tue | X32: Wed | Y32: Thu | Z32: Fri | AA32: Sat | AB32: Sun | AC32: Mon | AD32: Tues | AE32: Wed | AF32: Thurs | AG32: Pitch
A33: No. | B33: 1 | C33: 2 | D33: 3 | E33: 4 | F33: 5 | G33: 6 | H33: 7 | I33: 8 | J33: 9 | K33: 10 | L33: 11 | M33: 12 | N33: 13 | O33: 14 | P33: 15 | Q33: 16 | R33: 17 | S33: 18 | T33: 19 | U33: 20 | V33: 21 | W33: 22 | X33: 23 | Y33: 24 | Z33: 25 | AA33: 26 | AB33: 27 | AC33: 28 | AD33: 29 | AE33: 30 | AF33: 31 | AG33: No.
A34: 23 | B34: Tutt cont… | D34: 1 | J34: Visitor | K34: 2 | R34: 3 | Y34: 4 | Z34: Tutt | AF34: 1 | AG34: 23 | AH34: TODAY IS
A35: 23a | G35: Robbins | M35: Ender | N35: Hill | O35: Kolsch | Q35: Ebner | S35: Thomson | Z35: Burrows | AC35: Tiahze | AD35: VandenOever | AG35: 23a | AH35: =TODAY() -> 43430
A36: 24 | B36: cont.. | D36: Hume | F36: Rollings | G36: Gardener | H36: Schuring | J36: Lymch | L36: Robinson | N36: Roberts | P36: Johann | S36: Quinn | V36: Youlton | Z36: Wanklyn | AD36: Ackroyd | AF36: Crang | AG36: 24
A37: 25 | B37: Taylor cont…. | G37: 1 | N37: 2 | O37: pd on 9th May | X37: . | AB37: 2wks | AC37: pd 4n | AG37: 25
A38: 26 | E38: Kelleher | G38: Parkinson | M38: Goossen | O38: France | Q38: Grugger | S38: Allen | V38: Stephens | W38: Stone | Y38: Dammasch | Z38: Podobnik | AB38: Jones | AD38: Ryan | AG38: 26
A39: 27 | AA39: May | AD39: Hansen | AG39: 27
A40: 28 | B40: off | C40: off | H40: off | I40: off | J40: off | N40: off | O40: off | P40: off | Q40: off | V40: off | W40: off | X40: off | AB40: off | AC40: off | AD40: off | AE40: off | AG40: 28
...

Sheet June 2018
A1: BACK-UP 30 June @0800
B2: PEAK | D2: PEAK | F2: ACSI - 4 June to 19 July | Q2: OFF PEAK | U2: ACSI 04 JUNE - 19 July | Y2: OFF PEAK
A3: Pitch | B3: Fri | C3: Sat | D3: Sun | E3: Mon | F3: Tue | G3: Wed | H3: Thu | I3: Fri | J3: Sat | K3: Sun | L3: Mon | M3: Tue | N3: Wed | O3: Thu | P3: Fri | Q3: Sat | R3: Sun | S3: Mon | T3: Tue | U3: Wed | V3: Thu | W3: Fri | X3: Sat | Y3: Sun | Z3: Mon | AA3: Tues | AB3: Wed | AC3: Thur | AD3: Fri | AE3: Sat | AF3: Pitch
A4: No. | B4: 1 | C4: 2 | D4: 3 | E4: 4 | F4: 5 | G4: 6 | H4: 7 | I4: 8 | J4: 9 | K4: 10 | L4: 11 | M4: 12 | N4: 13 | O4: 14 | P4: 15 | Q4: 16 | R4: 17 | S4: 18 | T4: 19 | U4: 20 | V4: 21 | W4: 22 | X4: 23 | Y4: 24 | Z4: 25 | AA4: 26 | AB4: 27 | AC4: 28 | AD4: 29 | AE4: 30 | AF4: No.
A5: 1 | B5: cont.. | C5: Russell | F5: James | H5: Cairns | J5: Vennegeent | N5: Scott | P5: Knight | R5: Markham | T5: Grief | U5: Heath | W5: Talbat | X5: Telford | Y5: Wood | AB5: Berrow | AC5: do not move | AE5: Hawkins | AF5: 1 | AG5: Not Paid
A6: 2 | B6: Bennett cont.. | H6: pd | N6: 1 | U6: 2 | AB6: 3 | AF6: 2 | AG6: Rally
A7: 2a | K7: Peeters Weem | T7: Nash | AF7: 2a | AG7: Seasonal
A8: 3 | F8: Koch | G8: Chadwick | J8: Tate | P8: Christopher DO NOT MOVE | S8: Harper | T8: Pawlowski | Y8: Mitchell | AB8: Hamilton | AD8: McMaster | AE8: Puytrigaud | AF8: 3 | AG8: Tent
A9: 4 | C9: Hughes | G9: Davis | I9: Gelsthorpe | M9: Paskins | Q9: Levers | V9: Chadwick | AB9: Turner | AC9: Watson | AD9: McMaster | AE9: Puyrigaud | AF9: 4 | AG9: Trailer tent
A10: 4a | B10: Pearce | J10: Cryer | S10: V Goff | T10: Smith | W10: Lawrence | X10: Sabo | Y10: do not move | AD10: Macleod | AF10: 4a
A11: 5 | B11: LS | E11: Morrison | F11: Freeman | I11: Branthwoite | L11: Radcliffe | S11: M Goff | T11: Hilton | W11: Killshaw | X11: Sebo/do not move | AA11: Hayes | AB11: Beech | AD11: Scott | AF11: 5 | AG11: Folding caravan
A12: 6 | B12: Eikelenboom | F12: Kuger | K12: Roukema | M12: Crabbe | S12: Bakkes | U12: J Criddle | V12: Mugli | X12: Gould | AD12: Lane | AF12: 6 | AG12: Caravan
A13: 7 | B13: Roukema | E13: Lieftink | H13: Horst | I13: Haden | L13: Armstrong | P13: Emmett | U13: M Criddle | X13: Martin - Please Do not move | AF13: 7 | AG13: Camper van
A14: 8 | B14: cont… | G14: Anderson | H14: Barnard | I14: Blackburn | K14: Copeland | L14: Springham | O14: Cooper | S14: Murray | Z14: Regan | AB14: Wolfgang | AE14: Cambell | AF14: 8 | AG14: Motorhome
A15: 9 | B15: Hollows cont | M15: Smith | P15: Kelly | S15: Clay | Y15: Smith | AA15: Macartney | AC15: Sahota | AE15: Bacon | AF15: 9 | AG15: RV
A16: 10 | B16: cont… | D16: 4wks | E16: Paid | K16: 1 | R16: 2 | Y16: 3 | AF16: 10 | AG16: Free night
A17: 11 | B17: O'Brian | C17: Crowson | D17: Walker/Miller | H17: Godfrey | I17: McCann | O17: Darpsch | P17: Allen | W17: Thompson | AB17: Braithwaite | AD17: rogan | AF17: 11 | AG17: Poss Extra / late stay
A18: 12 | B18: Moulton | D18: Walker -do not move | H18: berrow | P18: Allen/ Kent | W18: Moore | Y18: Pratt | AF18: 12 | AG18: Hard Standing
A19: 13 | B19: Armitstead cont….. | F19: away | I19: 3 | P19: 4wks | Q19: £700 due | X19: 1 | AE19: 2 | AF19: 13 | AG19: Not in use
A20: 14 | B20: Keeping | D20: Moulton | E20: Comben | P20: Potisch | S20: Axon-Logan | T20: Milne | V20: Hollows | AF20: 14 | AG20: Off Peak
A21: 15 | AF21: 15 | AG21: Bank holiday
A22: 16 | B22: Cont.. | D22: Greenwood | P22: Mekelburger | R22: Buerriera | T22: Zoeren | V22: Williams | AE22: Mele | AF22: 16 | AG22: Peak
A23: 16a | W23: Overton | AF23: 16a
A24: 17 | B24: cont… | Q24: Noyce | W24: Mayers | AD24: Packer | AF24: 17 | AG24: Non arrival
A25: 17a | AC25: Palmer | AF25: 17a | AG25: Refund
A26: 18 | B26: cont | W26: Nichols | AD26: Barchle | AF26: 18 | AG26: Cancelled
A27: 18a | Z27: Baudre | AF27: 18a | AG27: late stay
A28: 19 | B28: Fisher | F28: McHardy | G28: Vhizacklea | X28: Merrigan | AC28: Dennett | AE28: Park | AF28: 19
A29: 20 | B29: Earles | E29: Ward | G29: Green | N29: Wagemaker | Q29: Van Hecke | U29: Masterton | W29: Marshall | X29: Kite | AA29: Gathern | AF29: 20 | AG29: =ALERTS!E33 -> 0
A30: 21 | B30: Conlon cont.. | D30: 2 | K30: 3 | R30: 4wks | S30: £700 paid | Y30: 1 | AF30: 21 | AG30: =ALERTS!E34 -> 0
A31: 22 | B31: cont.. | G31: Gibb | I31: Moller | R31: Rainer | X31: Anderson | Z31: Harvey | AF31: 22 | AG31: =ALERTS!E35 -> 0
A32: Pitch | B32: Fri | C32: Sat | D32: Sun | E32: Mon | F32: Tue | G32: Wed | H32: Thu | I32: Fri | J32: Sat | K32: Sun | L32: Mon | M32: Tue | N32: Wed | O32: Thu | P32: Fri | Q32: Sat | R32: Sun | S32: Mon | T32: Tue | U32: Wed | V32: Thu | W32: Fri | X32: Sat | Y32: Sun | Z32: Mon | AA32: Tues | AB32: Wed | AC32: Thur | AD32: Fri | AE32: Sat | AF32: Pitch
A33: No. | B33: 1 | C33: 2 | D33: 3 | E33: 4 | F33: 5 | G33: 6 | H33: 7 | I33: 8 | J33: 9 | K33: 10 | L33: 11 | M33: 12 | N33: 13 | O33: 14 | P33: 15 | Q33: 16 | R33: 17 | S33: 18 | T33: 19 | U33: 20 | V33: 21 | W33: 22 | X33: 23 | Y33: 24 | Z33: 25 | AA33: 26 | AB33: 27 | AC33: 28 | AD33: 29 | AE33: 30 | AF33: No.
A34: 23 | B34: Tutt cont | H34: 2 | O34: 3 | R34: Mertens | V34: Tutt | AC34: 1 | AF34: 23 | AG34: TODAY IS
A35: 23a | E35: Shirtcliffe | K35: 1wk | R35: 2wks | U35: Rathke | V35: Schriner | AA35: Van-Mora | AD35: DIGRAUD | AF35: 23a | AG35: =TODAY() -> 43430
A36: 24 | B36: cont | D36: Featherstone | J36: 1wk | Q36: Van Ryan | U36: Bigot | V36: Veldkamp | AA36: Lants | AC36: Evans | AF36: 24
A37: 25 | E37: DeJonge | I37: Meyer | J37: Clarke | L37: Walters | N37: Wearny | P37: Burland | R37: Starke | T37: Sabine | U37: Panuratz | W37: Rigby | X37: Bitnead | AA37: Johnson | AB37: Fransden | AD37: Down | AE37: White | AF37: 25
A38: 26 | D38: Cooper | K38: Woodhard | N38: Juerson | Q38: O'Neill | U38: Schimanek | Z38: Colledge | AE38: Tolle | AF38: 26
A39: 27 | I39: VanMarle | L39: Whitaker | R39: on | V39: M Cusveller | Y39: off | AD39: Rickard | AF39: 27
A40: 28 | E40: off | F40: off | G40: off | J40: off | K40: off | L40: off | M40: off | N40: off | O40: off | P40: off | S40: Stella away 18 to 25th June | AA40: off | AB40: off | AF40: 28
...

Sheet July 2018
A1: BACK-UP 31 July @2015
D2: ACSI UP TO 19 July | H2: LET's Rock | J2: ACSI ONLY UP TO 20 July - only on pl 23 to 27 | Y2: PEAK | AD2: PEAK | AE2: OI
A3: Pitch | B3: Sun | C3: Mon | D3: Tue | E3: Wed | F3: Thu | G3: Fri | H3: Sat | I3: Sun | J3: Mon | K3: Tue | L3: Wed | M3: Thu | N3: Fri | O3: Sat | P3: Sun | Q3: Mon | R3: Tue | S3: Wed | T3: Thu | U3: Fri | V3: Sat | W3: Sun | X3: Mon | Y3: Tue | Z3: Wed | AA3: Thu | AB3: Fri | AC3: Sat | AD3: Sun | AE3: Mon | AF3: Tue | AG3: Pitch
A4: No. | B4: 1 | C4: 2 | D4: 3 | E4: 4 | F4: 5 | G4: 6 | H4: 7 | I4: 8 | J4: 9 | K4: 10 | L4: 11 | M4: 12 | N4: 13 | O4: 14 | P4: 15 | Q4: 16 | R4: 17 | S4: 18 | T4: 19 | U4: 20 | V4: 21 | W4: 22 | X4: 23 | Y4: 24 | Z4: 25 | AA4: 26 | AB4: 27 | AC4: 28 | AD4: 29 | AE4: 30 | AF4: 31 | AG4: No.
A5: 1 | B5: Wrigley | C5: Lamkin | E5: Bevan | G5: Beech | H5: Jackson DO NOT MOVE | K5: Marshall | L5: Feehily - in a wheelchair | N5: Stuart | P5: Cox | Q5: Pack | S5: Podmore | T5: Tore | U5: Telford - req plot 1 BB4 | X5: Ruedisueli | Y5: Abbott | AB5: Wilson | AE5: Shannon | AG5: 1 | AH5: Rally
A6: 2 | B6: cont… | E6: 4wks | L6: 1 | S6: 2 | Z6: 3 | AG6: 2 | AH6: Seasonal
A7: 2a | B7: Nash cont… | F7: extended | M7: Marrier | O7: Gregson | Q7: Nash - Need to be near toilets please do not move | AG7: 2a
A8: 3 | C8: Robinson | E8: Nutt | F8: Hutcheson | K8: Beaton | N8: sc heffler | O8: Brown | Q8: Puyrigaud | V8: Hopkins | X8: Thomas | AB8: Thomas | AC8: Kavanagh | AD8: Vaughan | AE8: Dewis | AG8: 3 | AH8: Tent
A9: 4 | G9: Parker | L9: Chadwick | M9: Haines | T9: Birch - ETA 1800 | AA9: Crook | AG9: 4 | AH9: Trailer tent
A10: 4a | I10: Hobson | N10: Smith-Hamblin | U10: Birch | X10: Lane | AB10: Gautier | AG10: 4a
A11: 5 | D11: Rossel | G11: Egerton / Stevenson | I11: Connolly | J11: Brodie - please do not move see notes | V11: Hall | AA11: Wells | AD11: Hennessy | AG11: 5 | AH11: Folding caravan
A12: 6 | D12: Graham | G12: Egerton | I12: Faultless | J12: Roebuck/Dunn | L12: Mellor | N12: Hungerford | U12: Paulton | X12: Emmett | AF12: Reilly | AG12: 6 | AH12: Caravan
A13: 7 | C13: Held | G13: Day-DO NOT MOVE | J13: Roebuck | O13: Price | U13: Palfrey | V13: Martin - do not move thanks | AD13: Keiser | AE13: Murphy | AG13: 7 | AH13: Camper van
A14: 8 | B14: Binaux | C14: Hood | G14: Rayment | I14: Hicklin | U14: Haden | W14: Schneller | X14: Hicklin | Z14: Clark | AB14: Exton | AD14: Burton | AE14: Hickson | AG14: 8 | AH14: Motorhome
A15: 9 | B15: cont… | D15: Luetchford | F15: ICFR rally up to 15 units | K15: Betteridge | O15: Parfitt | R15: Binaux | T15: Jeffs | X15: Brierley | Z15: Ford | AB15: Van Zyll | AD15: Habert | AG15: 9 | AH15: RV
A16: 10 | B16: 4 | C16: pd | F16: ICFR rally up to 15 units | K16: James back 10 July | Q16: 1 | X16: 2 | AE16: 3 | AG16: 10 | AH16: Free night
A17: 11 | B17: Hillick | F17: ICFR rally up to 15 units | L17: Hammond | O17: Morrison | P17: Wallstrom | T17: Lomas | Z17: Seaman | AB17: Hickman | AE17: Hodson | AG17: 11 | AH17: Poss Extra / late stay
A18: 12 | B18: 1cont | I18: 2 | O18: 3 | U18: prinsloo | W18: Brown | X18: Tolle | Y18: Keeley | AB18: Longdon | AC18: Foreman | AE18: Clark | AG18: 12 | AH18: Hard Standing
A19: 13 | B19: cont.. | O19: 4 | AC19: 2 | AG19: 13 | AH19: Not in use
A20: 14 | B20: Cont | E20: ICFR rally up to 15 units | O20: Hollows - DO NOT MOVE THANKS - she knows she is on this pitch | AG20: 14 | AH20: Off Peak
A21: 15 | AG21: 15 | AH21: Bank holiday
A22: 16 | B22: cont | E22: ICFR rally up to 15 units | O22: Griffiths | P22: keep | Q22: together | V22: Rowbotham | Y22: Goldsach | AA22: Hoey | AB22: Rennie | AF22: Eccleshaw | AG22: 16 | AH22: Peak
A23: 16a | F23: ICFR rally up to 15 units | O23: Evans | P23: keep | Q23: together | V23: Rowbotham/Hewitt | AB23: Webb-Haines | AF23: Christian | AG23: 16a
A24: 17 | F24: ICFR rally up to 15 units | N24: Dunn / Taylor | V24: Deakin | AB24: Thompson do not move | AF24: Milnick | AG24: 17 | AH24: Non arrival
A25: 17a | B25: cont | F25: ICFR rally up to 15 units | N25: Dunn | V25: Deakin/Coker | AB25: Daveney | AG25: 17a | AH25: Refund
A26: 18 | B26: cont | G26: Blackham | M26: Toyne | V26: Deakin/Mahoney | Y26: Bushford | AG26: 18 | AH26: Cancelled
A27: 18a | G27: Hattersley | O27: Elvin | Y27: Bushford | AG27: 18a | AH27: late stay
A28: 19 | B28: 2 cont | I28: 3 | P28: 4 | Q28: McMaster | S28: Keirby | V28: Lawson | W28: Lawson | Y28: Feris | AC28: Weslowski | AE28: Shaw | AG28: 19
A29: 20 | D29: Seed | F29: Collins | G29: Davies | H29: Sumpter | I29: Lawson | N29: Sumpter | P29: McMaster | Q29: Green | T29: leaving 3 days early now as sold M/H | AC29: Weslowski | AD29: Noble | AF29: Conlon | AG29: 20 | AH29: =ALERTS!E36 -> 0
A30: 21 | B30: Conlon cont… | I30: 3 | P30: 4 | W30: 1 | AB30: Weckowski | AF30: Fowle | AG30: 21 | AH30: =ALERTS!E37 -> 0
A31: 22 | B31: Darlow | D31: Seasonal Pitch July to Sep | G31: LEAVING 6/7 - BACK ON 20TH | O31: Keim | U31: Darlow back today?? | Y31: LD62XAR | AG31: 22 | AH31: =ALERTS!E38 -> 0
A32: Pitch | B32: Sun | C32: Mon | D32: Tue | E32: Wed | F32: Thu | G32: Fri | H32: Sat | I32: Sun | J32: Mon | K32: Tue | L32: Wed | M32: Thu | N32: Fri | O32: Sat | P32: Sun | Q32: Mon | R32: Tue | S32: Wed | T32: Thu | U32: Fri | V32: Sat | W32: Sun | X32: Mon | Y32: Tue | Z32: Wed | AA32: Thu | AB32: Fri | AC32: Sat | AD32: Sun | AE32: Mon | AF32: Tue | AG32: Pitch
A33: No. | B33: 1 | C33: 2 | D33: 3 | E33: 4 | F33: 5 | G33: 6 | H33: 7 | I33: 8 | J33: 9 | K33: 10 | L33: 11 | M33: 12 | N33: 13 | O33: 14 | P33: 15 | Q33: 16 | R33: 17 | S33: 18 | T33: 19 | U33: 20 | V33: 21 | W33: 22 | X33: 23 | Y33: 24 | Z33: 25 | AA33: 26 | AB33: 27 | AC33: 28 | AD33: 29 | AE33: 30 | AF33: 31 | AG33: No.
A34: 23 | B34: Tutt cont… | F34: 2 | M34: 3 | T34: 4 | AB34: Gough | AC34: Van-Pelt | AG34: 23
A35: 23a | B35: cont | C35: Constante | E35: Frey | G35: Blow | H35: Roberts | J35: Jeaffrdy | N35: O'Callahan | O35: Grimwood | AB35: Day | AG35: 23a
A36: 24 | C36: Dewis | E36: Schmitz | G36: Mayers | J36: Blandin | L36: Roberts | AB36: Chamberlain | AG36: 24 | AH36: TODAY IS
A37: 25 | B37: cont… | E37: Schoolar | G37: Golding | H37: Winshield | J37: Parry | L37: Dubery - house flooded | X37: Dubery - house flooded | Y37: 2 | AF37: 3 | AG37: 25 | AH37: =TODAY() -> 43430
A38: 26 | B38: cont.. | E38: spackler | G38: Foster | H38: Booth | I38: Bessant | N38: Gobbey | O38: Koehler | AB38: Feibold | AG38: 26
A39: 27 | B39: on | H39: Pritchard | I39: Luetchford | M39: Johnson | AG39: 27
A40: 28 | C40: off | D40: off | E40: off | I40: off | J40: off | K40: off | L40: off | Q40: off | R40: off | S40: off | W40: off | X40: off | Y40: off | Z40: off | AE40: off | AF40: off | AG40: 28
...

Sheet Aug 2018
A1: BACK-UP 31 Aug @1800
F2: P E A K | K2: P E A K | Q2: P E A K | AC2: CRICKET
A3: Pitch | B3: Wed | C3: Thu | D3: Fri | E3: Sat | F3: Sun | G3: Mon | H3: Tue | I3: Wed | J3: Thu | K3: Fri | L3: Sat | M3: Sun | N3: Mon | O3: Tue | P3: Wed | Q3: Thu | R3: Fri | S3: Sat | T3: Sun | U3: Mon | V3: Tue | W3: Wed | X3: Thu | Y3: Fri | Z3: Sat | AA3: Sun | AB3: Mon | AC3: Tues | AD3: Wed | AE3: Thur | AF3: Fri | AG3: Pitch
A4: No. | B4: 1 | C4: 2 | D4: 3 | E4: 4 | F4: 5 | G4: 6 | H4: 7 | I4: 8 | J4: 9 | K4: 10 | L4: 11 | M4: 12 | N4: 13 | O4: 14 | P4: 15 | Q4: 16 | R4: 17 | S4: 18 | T4: 19 | U4: 20 | V4: 21 | W4: 22 | X4: 23 | Y4: 24 | Z4: 25 | AA4: 26 | AB4: 27 | AC4: 28 | AD4: 29 | AE4: 30 | AF4: 31 | AG4: No.
A5: 1 | B5: cont | D5: Madou | E5: caldwell | G5: Hooker | H5: Enrico | I5: Kinsley | J5: theurig | K5: Dewdhory | L5: Crawshaw | O5: Hamm | Q5: Capel | R5: Howe | S5: Couzens | V5: Holland | W5: Colgate | X5: Fowler | AA5: Tilke | AD5: Canham | AF5: Mower | AG5: 1 | AH5: Tent
A6: 2 | B6: Bennett cont… | I6: 5 | P6: 6 | W6: 7 | AD6: 8 | AG6: 2
A7: 2a | B7: Nash cont….. | AG7: 2a | AH7: Not here
A8: 3 | D8: Werner | E8: Blayne | K8: Parker | M8: Fliedauf | O8: Pross | S8: Harris | T8: Hopkins | Z8: Butler | AG8: 3 | AH8: Trailer tent
A9: 4 | B9: Norton | G9: Whiteley | S9: Potter | W9: Krengel | X9: Pickup | AF9: Parker - DNM | AG9: 4 | AH9: Folding caravan
A10: 4a | D10: Ruby | Y10: Giddings | AD10: Neatherway | AG10: 4a
A11: 5 | D11: Vaughan | G11: Buchanan | O11: Martin | Q11: clarke | U11: Gregory | X11: Lucus | Z11: JASPER | AE11: Hobden | AF11: Motton | AG11: 5 | AH11: Caravan
A12: 6 | B12: cont… | D12: McCall | J12: Mason | L12: Fitzgerald | R12: stanley | T12: Jones | W12: Keenan | AC12: Brassel | AG12: 6 | AH12: Camper van
A13: 7 | B13: cont… | E13: Dougherty - plse do not move | P13: Boten | R13: hills | T13: White requested this pitch - do not move | AE13: Waters | AG13: 7 | AH13: Motorhome
A14: 8 | B14: Colwell | D14: Prinn | F14: Suttee | H14: Santam | J14: Boeing | N14: Fright | O14: Lewis | P14: DeKlerk | U14: Newbrook | V14: Mason | X14: Edwards | Y14: Grieve | AB14: Foard | AC14: Mank | AE14: Stevens | AF14: Morgan | AG14: 8 | AH14: RV
A15: 9 | B15: Fickle | E15: Rudd | F15: Burton | J15: Beddow | N15: Smith | P15: Arlt | Q15: Boudlr | R15: Lecornu | S15: BUSBY | U15: Groves | V15: Theaker | W15: Walker | Y15: Gale | AB15: Dubery - house flooded | AC15: 7 | AG15: 9 | AH15: Free night
A16: 10 | B16: Oakley cont… | G16: 4 | H16: Paid up to 23 Aug - agreed to see me for refund if he finishes early | Y16: Lawler | AE16: Wareing | AG16: 10 | AH16: Poss Extra / late stay
A17: 11 | B17: West | I17: Smith | J17: Pidwell - do not move req hard stand | Q17: Santner | R17: Kurowski | U17: Tennant | V17: Latham | Y17: Bales | AC17: Brandneir | AD17: Tunmore | AE17: Hansen | AF17: Jeffs | AG17: 11 | AH17: Hard Standing
A18: 12 | B18: cont | E18: Liston | F18: Archer | I18: Santan | R18: O'Hara | S18: Munro | X18: Beck | AB18: Snoeren | AC18: Clements | AD18: Morris | AG18: 12 | AH18: Not in use
A19: 13 | B19: Armitstead cont….. | E19: 3 | L19: 4wks | M19: pd from 12 Aug to 8 Sep | S19: 1 | Z19: 2 | AG19: 13 | AH19: Off Peak
A20: 14 | D20: Grayson | G20: Mason | K20: Mewse | L20: Hoole | W20: Harris | AG20: 14 | AH20: Bank holiday
A21: 15 | AG21: 15 | AH21: Peak
A22: 16 | B22: Twigger | H22: Weidnhagen | K22: Cassidy | L22: Crawshaw | R22: Tracey/Jo Pickett - DNM | U22: Gough /Wallace tgther | Z22: Mundy | AE22: Crossley | AG22: 16 | AH22: Seasonal pitch
A23: 16a | B23: Harden | G23: Cussons | H23: Weidnhagen | K23: Cassidy | L23: Rollke | U23: Gough | Z23: Mundy/Meansworth | AB23: Culcin | AG23: 16a | AH23: Non arrival
A24: 17 | C24: Sanderson | G24: Cussons - do not move | J24: Simms | R24: Jo/Tracey Pickett - DNM | Y24: McTaggard | AC24: Irvine | AG24: 17 | AH24: Refund
A25: 17a | C25: Sanderson | K25: Cassidy | Y25: McTaggard/ Ford | AG25: 17a | AH25: Cancelled
A26: 18 | C26: Baker | J26: Vercammen | W26: Doig/Smith - do not move | AF26: Purdy | AG26: 18 | AH26: late stay
A27: 18a | C27: Perkins | X27: Doig/Smith-do not move | AF27: Purdy | AG27: 18a
A28: 19 | B28: cont.. | I28: Lole | K28: Jackson | P28: Farrington | V28: 1wk | AC28: 2wks | AF28: quantick | AG28: 19
A29: 20 | B29: conlon | C29: 2 | D29: Due to pay today £25.00 PER NIGHT | AG29: 20 | AH29: =ALERTS!E39 -> 0
A30: 21 | D30: Dainty | K30: Holdcroft | L30: Clarke | P30: Hillman | U30: Mowmann | V30: Hanewald | W30: Ohms | Y30: Clarke | AA30: Gough | AG30: 21 | AH30: =ALERTS!E40 -> 0
A31: 22 | B31: Darlow | AG31: 22 | AH31: =ALERTS!E41 -> 0
A32: Pitch | B32: Wed | C32: Thu | D32: Fri | E32: Sat | F32: Sun | G32: Mon | H32: Tue | I32: Wed | J32: Thu | K32: Fri | L32: Sat | M32: Sun | N32: Mon | O32: Tue | P32: Wed | Q32: Thu | R32: Fri | S32: Sat | T32: Sun | U32: Mon | V32: Tue | W32: Wed | X32: Thu | Y32: Fri | Z32: Sat | AA32: Sun | AB32: Mon | AC32: Tues | AD32: Wed | AE32: Thur | AF32: Fri | AG32: Pitch
A33: No. | B33: 1 | C33: 2 | D33: 3 | E33: 4 | F33: 5 | G33: 6 | H33: 7 | I33: 8 | J33: 9 | K33: 10 | L33: 11 | M33: 12 | N33: 13 | O33: 14 | P33: 15 | Q33: 16 | R33: 17 | S33: 18 | T33: 19 | U33: 20 | V33: 21 | W33: 22 | X33: 23 | Y33: 24 | Z33: 25 | AA33: 26 | AB33: 27 | AC33: 28 | AD33: 29 | AE33: 30 | AF33: 31 | AG33: No.
A34: 23 | D34: Felix | E34: glaser | G34: Tutt | M34: 1 | T34: 2 | AA34: 3 | AG34: 23
A35: 23a | C35: Spaansen | G35: Santam | J35: griamettim | K35: Rudge | M35: Schubert | Y35: Mills | AD35: Bradley | AG35: 23a
A36: 24 | C36: Sannat | E36: Nantreansaleod | G36: Zufferey | J36: ravaio | K36: Bassoli | L36: Leto-Barone | M36: Rinsma | Y36: Withers | AE36: Potts | AF36: Skeer | AG36: 24 | AH36: TODAY IS
A37: 25 | B37: Dubery - house flooded | H37: 4 | O37: 5 | V37: 6 | AE37: Eales | AG37: 25 | AH37: =TODAY() -> 43430
A38: 26 | C38: Willis | I38: Gurton | Y38: Franks | AC38: Pitt | AG38: 26
A39: 27 | B39: Van Gompl | E39: Hausheer | L39: Mattes | X39: Full | AG39: 27
A40: 28 | B40: off | F40: off | G40: off | H40: off | I40: off | N40: off | O40: off | P40: off | T40: off | U40: off | V40: off | W40: off | AB40: off | AC40: off | AD40: off | AG40: 28
...

Sheet Sept 2018
A1: BACK-UP 30 Sept 1830
B2: PEAK | E2: ACSI - 3 to 12 Sep | Q2: BOAT SHOW
A3: Pitch | B3: Sat | C3: Sun | D3: Mon | E3: Tue | F3: Wed | G3: Thu | H3: Fri | I3: Sat | J3: Sun | K3: Mon | L3: Tue | M3: Wed | N3: Thu | O3: Fri | P3: Sat | Q3: Sun | R3: Mon | S3: Tue | T3: Wed | U3: Thu | V3: Fri | W3: Sat | X3: Sun | Y3: Mon | Z3: Tue | AA3: Wed | AB3: Thur | AC3: Fri | AD3: Sat | AE3: Sun | AF3: Pitch
A4: No. | B4: 1 | C4: 2 | D4: 3 | E4: 4 | F4: 5 | G4: 6 | H4: 7 | I4: 8 | J4: 9 | K4: 10 | L4: 11 | M4: 12 | N4: 13 | O4: 14 | P4: 15 | Q4: 16 | R4: 17 | S4: 18 | T4: 19 | U4: 20 | V4: 21 | W4: 22 | X4: 23 | Y4: 24 | Z4: 25 | AA4: 26 | AB4: 27 | AC4: 28 | AD4: 29 | AE4: 30 | AF4: No.
A5: 1 | B5: Walker DNM | C5: LefevreDNM | D5: Thomas | F5: Kratzeisen | H5: MacDonald | J5: mollet | M5: Prouten | N5: Brown | P5: Judd | Q5: Chalmers | W5: Telford | X5: Ransome | Y5: Scott - DNM | AA5: Williams | AF5: 1
A6: 2 | B6: Bennett cont.. | F6: 9 | L6: 10 | S6: 11 | Z6: 12 | AF6: 2
A7: 2a | B7: Nash cont…. | R7: Armstrong | S7: Eccles | U7: Paton | AC7: Bull | AF7: 2a | AG7: Not here
A8: 3 | B8: Maplesden | D8: Ashthorpe | H8: Spierenburg | N8: Austin | Y8: Oxer | AF8: 3 | AG8: Tent
A9: 4 | B9: cont.. | E9: Forden | F9: Cleverly | N9: Pickin | O9: Vickery- DNM | R9: Higgs | S9: Spicer | U9: Halliwell | W9: Salmons DNM | AD9: Connell | AF9: 4 | AG9: Trailer tent
A10: 4a | B10: Eames | E10: Jackson | G10: nijdeken | N10: Maddocks | P10: Vickery | Q10: Wescote | S10: Rees | U10: Goldsmith | AF10: 4a
A11: 5 | B11: cont.. | D11: Schmidt | G11: Doody | I11: Tennant | N11: Morgan | P11: Norman | R11: Hansen | U11: Inch ??? | V11: Collins | AC11: goodchild | AF11: 5 | AG11: Folding caravan
A12: 6 | B12: Hearsey | I12: Dupont | K12: James Burt here every year - DO NOT MOVE NEEDS TO PLUMB IN | AD12: Mintram | AF12: 6 | AG12: Caravan
A13: 7 | B13: cont.. | H13: Naylor - DNM | J13: Day | K13: DO NOT MOVE Req plot 7 BB4 | Q13: Dryden | U13: Standen DNM | AD13: Gurr | AF13: 7 | AG13: Camper van
A14: 8 | C14: Mauk | D14: Hurcombe - Do Not Move | O14: Jones-dnm | R14: honeyford | U14: Briers DNM | Y14: Mellor | AC14: Flint | AF14: 8 | AG14: Motorhome
A15: 9 | B15: Dubery cont.. | E15: 8 | L15: 1 | S15: 2 | Z15: 3 | AF15: 9 | AG15: RV
A16: 10 | B16: Cont… | D16: Griffiths | N16: Williams - DOL FOR BOATS Ltd - working Boat Show | AB16: Vallance | AF16: 10 | AG16: Free night
A17: 11 | B17: cont…. | C17: Kohler | E17: Potts | G17: Davis | H17: Burke | I17: GRIMES | J17: Haven | N17: Restrick | AC17: Faid | AF17: 11 | AG17: Poss Extra / late stay
A18: 12 | B18: cont…. | H18: COLMAN | J18: Bessant | AF18: 12 | AG18: Hard Standing
A19: 13 | B19: Armitstead cont… | I19: 4wks | P19: Embleton | S19: Light | V19: Barritt | X19: Pegg | AC19: Williams | AF19: 13 | AG19: Not in use
A20: 14 | B20: Coe | D20: Priewich | F20: Burrows | I20: Coe | O20: Jones | Q20: Wickham | S20: Hollows - DO NOT MOVE | AF20: 14 | AG20: Off Peak
A21: 15 | AF21: 15 | AG21: Bank holiday
A22: 16 | B22: cont… | E22: Twentse | H22: Gurr - DNM | M22: Wilson | AC22: Neill/Chance | AF22: 16 | AG22: Peak
A23: 16a | E23: Twentse | H23: Mintram - DNM | O23: Mack | AF23: 16a | AG23: Seasonal pitch
A24: 17 | B24: cont.. | E24: Twentse | O24: Noyes-DNM | Q24: Andrews | S24: Melia | V24: Warren | AC24: Neill | AF24: 17 | AG24: Non arrival
A25: 17a | E25: Twentse | O25: Emberson | AF25: 17a | AG25: Refund
A26: 18 | B26: Purdey | E26: Twentse | G26: Ketley | M26: Robert | AF26: 18 | AG26: Cancelled
A27: 18a | B27: Purdey | E27: Twentse | M27: Robert | AF27: 18a | AG27: late stay
A28: 19 | B28: Bull | F28: Rushton - Do Not Move | U28: McGuinness | X28: Coe | Z28: Epps | AD28: Bryant | AE28: Hoggs | AF28: 19
A29: 20 | B29: CONLON | AF29: 20 | AG29: =ALERTS!E42 -> 0
A30: 21 | C30: Darlow - do not move pl 22 brother | AF30: 21 | AG30: =ALERTS!E43 -> 0
A31: 22 | B31: Darlow cont… | N31: Love | P31: Winter | Q31: Wanstall - move to here Sunday from behindPlot 6 | AC31: Donnaruma | AF31: 22
A32: Pitch | B32: Sat | C32: Sun | D32: Mon | E32: Tue | F32: Wed | G32: Thu | H32: Fri | I32: Sat | J32: Sun | K32: Mon | L32: Tue | M32: Wed | N32: Thu | O32: Fri | P32: Sat | Q32: Sun | R32: Mon | S32: Tue | T32: Wed | U32: Thu | V32: Fri | W32: Sat | X32: Sun | Y32: Mon | Z32: Tue | AA32: Wed | AB32: Thur | AC32: Fri | AD32: Sat | AE32: Sun | AF32: Pitch
A33: No. | B33: 1 | C33: 2 | D33: 3 | E33: 4 | F33: 5 | G33: 6 | H33: 7 | I33: 8 | J33: 9 | K33: 10 | L33: 11 | M33: 12 | N33: 13 | O33: 14 | P33: 15 | Q33: 16 | R33: 17 | S33: 18 | T33: 19 | U33: 20 | V33: 21 | W33: 22 | X33: 23 | Y33: 24 | Z33: 25 | AA33: 26 | AB33: 27 | AC33: 28 | AD33: 29 | AE33: 30 | AF33: No.
A34: 23 | B34: Tutt | C34: 4wls | D34: pd for 4wks 3-30 Sep | J34: 1 | Q34: 2 | X34: 3 | AE34: 4 | AF34: 23 | AG34: TODAY IS
A35: 23a | B35: cont.. | G35: Prin | M35: McCurdy | AD35: Rudd | AF35: 23a | AG35: =TODAY() -> 43430
A36: 24 | D36: Farrington | J36: 1 | Q36: 2 | X36: 3 | AE36: 4 | AF36: 24
A37: 25 | H37: Frost | N37: Robinson | X37: Sido | Z37: Barnes DNM | AF37: 25
A38: 26 | B38: Turner | D38: Kohler | F38: Wever | J38: Guenther | L38: Steele | N38: Sido boat show | T38: Sido | X38: Walters | AE38: 1 | AF38: 26
A39: 27 | N39: Toth/Pinter | R39: boat show | S39: show | T39: Sido pl 26 booked it | AF39: 27
A40: 28 | C40: off | D40: off | E40: off | F40: off | K40: off | L40: off | M40: off | Q40: off | R40: off | S40: off | T40: off | Y40: off | Z40: off | AA40: off | AD40: off | AE40: Lewis | AF40: 28 | AG40: NO DOGS
...

Sheet Oct 2018
A1: BACK-UP 31 Oct 18 @ 1730
K2: ACSI - 25 Sep to 20 Oct | W2: PEAK | AC2: acsi | AE2: ACSI
A3: Pitch | B3: Mon | C3: Tue | D3: Wed | E3: Thu | F3: Fri | G3: Sat | H3: Sun | I3: Mon | J3: Tue | K3: Wed | L3: Thu | M3: Fri | N3: Sat | O3: Sun | P3: Mon | Q3: Tue | R3: Wed | S3: Thu | T3: Fri | U3: Sat | V3: Sun | W3: Mon | X3: Tue | Y3: Wed | Z3: Thu | AA3: Fri | AB3: Sat | AC3: Sun | AD3: Mon | AE3: Tues | AF3: Wed | AG3: Pitch
A4: No. | B4: 1 | C4: 2 | D4: 3 | E4: 4 | F4: 5 | G4: 6 | H4: 7 | I4: 8 | J4: 9 | K4: 10 | L4: 11 | M4: 12 | N4: 13 | O4: 14 | P4: 15 | Q4: 16 | R4: 17 | S4: 18 | T4: 19 | U4: 20 | V4: 21 | W4: 22 | X4: 23 | Y4: 24 | Z4: 25 | AA4: 26 | AB4: 27 | AC4: 28 | AD4: 29 | AE4: 30 | AF4: 31 | AG4: No.
A5: 1 | C5: Woodley | F5: Mark | H5: Haywood | J5: Bartlett | K5: Gonzalez | N5: Hazell | O5: Forester | T5: Inch | AA5: Soul | AF5: German? | AG5: 1
A6: 2 | B6: Bennett cont.. | J6: 2wks | K6: Extended | X6: Bennett back | AD6: 1 | AG6: 2 | AH6: Not here
A7: 2a | AG7: 2a | AH7: Tent
A8: 3 | B8: cont | K8: Chetcuti | R8: Osborne | W8: Oxer | AG8: 3 | AH8: Trailer tent
A9: 4 | B9: Glastonbury | AG9: 4 | AH9: Folding caravan
A10: 5 | I10: Oxer | AG10: 5 | AH10: Caravan
A11: 6 | R11: Galley | U11: Lewer | AG11: 6 | AH11: Camper van
A12: 7 | D12: Scholze | H12: Day | AG12: 7 | AH12: Motorhome
A13: 8 | E13: german | G13: Meissner | L13: Wehmeier | M13: Barnes | Q13: Thal | R13: Harding | T13: Kathy & Reg | Y13: Grand | AE13: Edwards | AG13: 8 | AH13: RV
A14: 9 | E14: Mimcz | M14: Hammond | Q14: Spohr | T14: Bill & Stella | AF14: Coe | AG14: 9 | AH14: Free night
A15: 10 | B15: cont.. | H15: Newton | J15: Payne - do not move need to plumb in | T15: Gaudion | Y15: Johnson | AA15: Arun | AC15: Marsh | AG15: 10 | AH15: Poss Extra / late stay
A16: 11 | N16: Roberts | U16: Segar | V16: Ayres - James | AA16: Horridge | AE16: Rhode | AG16: 11 | AH16: Hard Standing
A17: 12 | J17: Terrell (Rev) | N17: Gatenby | R17: Waddicor | T17: Lyndon | U17: Coe | W17: Waddicor | AA17: Quantice | AD17: Goncalves | AF17: Fisher - Pam & Simon | AG17: 12 | AH17: Not in use
A18: 13 | N18: Helmy | S18: Broekmans | AA18: Mundy? | AG18: 13 | AH18: Off Peak
A19: 14 | B19: cont | D19: continued 3-13 Oct late stay see 28 Sept | N19: Moss | R19: Gustafsson | AD19: Montgomery | AG19: 14 | AH19: Bank holiday
A20: 15 | AG20: 15 | AH20: Peak
A21: 16 | AG21: 16 | AH21: Seasonal pitch
A22: 16a | AG22: 16a | AH22: Non arrival
A23: 17 | AG23: 17 | AH23: Refund
A24: 17a | AG24: 17a | AH24: Cancelled
A25: 18 | AG25: 18 | AH25: late stay
A26: 18a | AG26: 18a
A27: 19 | M27: Edwards | Q27: Lomax | U27: Gaff | AB27: Watts | AD27: Stocks | AE27: Hollows - DO NOT MOVE | AG27: 19 | AH27: =ALERTS!E45 -> 0
A28: 20 | B28: cont | M28: Launder | N28: Hickie | Q28: David | T28: Juttner | AD28: Toulouse | AG28: 20 | AH28: =ALERTS!E46 -> 0
A29: 21 | E29: Tortsch | H29: Glover | R29: Lomax | V29: Williams | AA29: Farrance | AG29: 21 | AH29: =ALERTS!E47 -> 0
A30: 22 | N30: Dietrich | R30: Hillard - 10m RV house flooded so will need about month | AE30: 2WKS | AF30: £250 wk
A31: Pitch | B31: Mon | C31: Tue | D31: Wed | E31: Thu | F31: Fri | G31: Sat | H31: Sun | I31: Mon | J31: Tue | K31: Wed | L31: Thu | M31: Fri | N31: Sat | O31: Sun | P31: Mon | Q31: Tue | R31: Wed | S31: Thu | T31: Fri | U31: Sat | V31: Sun | W31: Mon | X31: Tue | Y31: Wed | Z31: Thu | AA31: Fri | AB31: Sat | AC31: Sun | AD31: Mon | AE31: Tues | AF31: Wed | AG31: Pitch
A32: No. | B32: 1 | C32: 2 | D32: 3 | E32: 4 | F32: 5 | G32: 6 | H32: 7 | I32: 8 | J32: 9 | K32: 10 | L32: 11 | M32: 12 | N32: 13 | O32: 14 | P32: 15 | Q32: 16 | R32: 17 | S32: 18 | T32: 19 | U32: 20 | V32: 21 | W32: 22 | X32: 23 | Y32: 24 | Z32: 25 | AA32: 26 | AB32: 27 | AC32: 28 | AD32: 29 | AE32: 30 | AF32: 31 | AG32: No.
A33: 23 | B33: Tutt ocnt… | H33: 1 | O33: 2 | P33: YK09 VAX | V33: 3 | AC33: 4wks | AD33: Paid up to 25 Nov | AG33: 23
A34: 23a | F34: Duffus | Q34: Plaga | W34: 1wk | AD34: 2wks | AE34: £168 due | AG34: 23a | AH34: TODAY IS
A35: 24 | F35: Bessant | L35: wk | T35: wk | U35: extra 4n | AG35: 24 | AH35: =TODAY() -> 43430
A36: 25 | F36: Osman | N36: no work vans or sign written vans on site | W36: ex person | AD36: due to leave | AG36: 25
A37: 26 | B37: Walters | H37: 2 | O37: 3 | V37: 4 | W37: Pd up to 18 Nov | AC37: 1 | AG37: 26
A38: 27 | H38: Young | AG38: 27
A39: 28 | B39: Cont | J39: Church | S39: Proudley | T39: Orr | W39: Plackett | Y39: Kelly | AB39: Walker | AG39: 28 | AH39: NO DOGS
A40: 29 | B40: Candy - Justin & Ann | G40: Thompson | I40: Candy - Justin & Ann | R40: Cameron | V40: Brint | W40: Gunstone | Y40: Tuplin | Z40: Plackett | AA40: Jardine | AB40: King | AG40: 29 | AH40: NO DOGS
...

Sheet Nov 2018
A1: BACK-UP 26 Nov @ 1600
A2: BACK-UP 17 Nov @ 17:00 | I2: OFF PEAK | N2: ACSI ALL MONTH | R2: OFF PEAK | Z2: OFF PEAK
A3: Pitch | B3: Thu | C3: Fri | D3: Sat | E3: Sun | F3: Mon | G3: Tue | H3: Wed | I3: Thu | J3: Fri | K3: Sat | L3: Sun | M3: Mon | N3: Tue | O3: Wed | P3: Thu | Q3: Fri | R3: Sat | S3: Sun | T3: Mon | U3: Tue | V3: Wed | W3: Thu | X3: Fri | Y3: Sat | Z3: Sun | AA3: Mon | AB3: Tues | AC3: Wed | AD3: Thur | AE3: Fri | AF3: Pitch | AG3: caravan
A4: No. | B4: 1 | C4: 2 | D4: 3 | E4: 4 | F4: 5 | G4: 6 | H4: 7 | I4: 8 | J4: 9 | K4: 10 | L4: 11 | M4: 12 | N4: 13 | O4: 14 | P4: 15 | Q4: 16 | R4: 17 | S4: 18 | T4: 19 | U4: 20 | V4: 21 | W4: 22 | X4: 23 | Y4: 24 | Z4: 25 | AA4: 26 | AB4: 27 | AC4: 28 | AD4: 29 | AE4: 30 | AF4: No. | AG4: Motorhome
A5: 1 | G5: Fitzpatrick | K5: Simmons | M5: Fairweather | U5: Read | Z5: Inch | AA5: 1 | AB5: Norton | AF5: 1 | AG5: Camper van
A6: 2 | B6: Bennett cont.. | F6: 2 | M6: 3 | T6: 4wks | X6: Stewardson | AA6: Grainger | AF6: 2 | AG6: RV
A7: 2a | AF7: 2a | AG7: Tent
A8: 3 | AF8: 3
A9: 4 | AF9: 4 | AG9: Not here
A10: 5 | AF10: 5
A11: 6 | AF11: 6 | AG11: Trailer tent
A12: 7 | AF12: 7 | AG12: late stay
A13: 8 | B13: Freeman | G13: Loudon | I13: Smith | J13: Colegate | N13: Harrison | R13: Carrie-Ann - do not move | AB13: Shore | AE13: Barnett | AF13: 8 | AG13: Cancelled
A14: 9 | B14: cont.. | D14: Port | F14: Bramley | G14: Stuart | M14: Jenkins | R14: Withnall | S14: Brackley | V14: Goldie | Z14: Key | AF14: 9
A15: 10 | B15: cont… | F15: Jenkins | J15: Spillar | Q15: Birch | T15: Tolson | X15: Wilson | AA15: Chipperton | AF15: 10 | AG15: Poss Extra / late stay
A16: 11 | C16: Cubbin | J16: extended stay | X16: Walker | AB16: Oakes | AF16: 11 | AG16: Hard Standing
A17: 12 | B17: cont… | G17: Stewardson | J17: Lamb | N17: Smith | R17: Bonner-Dunham | AF17: 12 | AG17: Not in use
A18: 13 | Q18: Yea | X18: Slaughter | AF18: 13
A19: 14 | B19: Montgomery cont… | E19: 1wk | L19: 2wks | S19: 3wk | Z19: 4wks | AF19: 14 | AG19: Bank holiday
A20: 15 | AF20: 15
A21: 16 | AF21: 16 | AG21: Seasonal pitch
A22: 16a | AF22: 16a | AG22: Non arrival
A23: 17 | AF23: 17
A24: 17a | AF24: 17a
A25: 18 | X25: Barnes | Y25: on plot 22 | AF25: 18
A26: 18a | X26: Barnes | Y26: on plot 22 | AF26: 18a
A27: 19 | B27: Judith Hollows cont…. | G27: £28.50 credit as only 10n | L27: late stay | N27: Sanderson | R27: Webb | S27: Ellison | X27: Kemp | Z27: Thornton | AF27: 19 | AG27: =ALERTS!E48 -> 0
A28: 20 | B28: Makin | F28: Eves | M28: Davey | R28: Webb | S28: Holloway | AA28: Wardleworth | AF28: 20 | AG28: =ALERTS!E49 -> 0
A29: 21 | B29: Perry | G29: Gardner | I29: Norrish | L29: Walker | P29: Cudlip | W29: Anderson | X29: Bosworth | Y29: Perry | AA29: Grundy | AF29: 21 | AG29: =ALERTS!E50 -> 0
A30: 22 | C30: Werner | R30: Gurr | X30: Barnes | AB30: Tholl | AD30: Hyett | AF30: 22
A31: Pitch | B31: Thu | C31: Fri | D31: Sat | E31: Sun | F31: Mon | G31: Tue | H31: Wed | I31: Thu | J31: Fri | K31: Sat | L31: Sun | M31: Mon | N31: Tue | O31: Wed | P31: Thu | Q31: Fri | R31: Sat | S31: Sun | T31: Mon | U31: Tue | V31: Wed | W31: Thu | X31: Fri | Y31: Sat | Z31: Sun | AA31: Mon | AB31: Tues | AC31: Wed | AD31: Thur | AE31: Fri | AF31: Pitch
A32: No. | B32: 1 | C32: 2 | D32: 3 | E32: 4 | F32: 5 | G32: 6 | H32: 7 | I32: 8 | J32: 9 | K32: 10 | L32: 11 | M32: 12 | N32: 13 | O32: 14 | P32: 15 | Q32: 16 | R32: 17 | S32: 18 | T32: 19 | U32: 20 | V32: 21 | W32: 22 | X32: 23 | Y32: 24 | Z32: 25 | AA32: 26 | AB32: 27 | AC32: 28 | AD32: 29 | AE32: 30 | AF32: No.
A33: 23 | B33: Tutt - Barry cont… | E33: 1 | L33: 2 | S33: 3 | Z33: 4 | AA33: £700 due | AF33: 23 | AG33: TODAY IS
A34: 23a | B34: Plaga | G34: pd up to 12 Nov | N34: pd up to 19 Nov | U34: £96 Paid | AF34: 23a | AG34: =TODAY() -> 43430
A35: 24 | N35: Booth | AB35: Stewart CLIFF | AF35: 24
A36: 25 | B36: Ashley Osman - Stella dealing with this - I have text him to say it will be towed off! | AF36: 25
A37: 26 | B37: Walters | E37: 2 | L37: 3wks | M37: Allen | P37: Bessant | U37: Korczakowski | AF37: 26
A38: 27 | AF38: 27
