Workbook

Sheet Jan 2014
A1: Backed up 31 Jan @ 1630 | I1: LAST WORKED ON AT 1630 - 31 Jan 14
B2: PEAK | I2: OFF PEAK | R2: OFF PEAK | AA2: OFF PEAK
A3: Pitch | B3: Wed | C3: Thu | D3: Fri | E3: Sat | F3: Sun | G3: Mon | H3: Tue | I3: Wed | J3: Thu | K3: Fri | L3: Sat | M3: Sun | N3: Mon | O3: Tue | P3: Wed | Q3: Thu | R3: Fri | S3: Sat | T3: Sun | U3: Mon | V3: Tue | W3: Wed | X3: Thu | Y3: Fri | Z3: Sat | AA3: Sun | AB3: Mon | AC3: Tue | AD3: Wed | AE3: Thu | AF3: Fri | AG3: Pitch | AH3: Not here
A4: No. | B4: 1 | C4: 2 | D4: 3 | E4: 4 | F4: 5 | G4: 6 | H4: 7 | I4: 8 | J4: 9 | K4: 10 | L4: 11 | M4: 12 | N4: 13 | O4: 14 | P4: 15 | Q4: 16 | R4: 17 | S4: 18 | T4: 19 | U4: 20 | V4: 21 | W4: 22 | X4: 23 | Y4: 24 | Z4: 25 | AA4: 26 | AB4: 27 | AC4: 28 | AD4: 29 | AE4: 30 | AF4: 31 | AG4: No. | AH4: Tent
A5: 1 | G5: Foyle | M5: 1 | N5: Foyle | T5: 2 | Z5: Donna Foyle | AG5: 1 | AH5: Trailer tent
A6: 1a | AG6: 1a | AH6: Caravan
A7: 2 | G7: Pam & Tony Oxlade | AG7: 2 | AH7: Camper van
A8: 3 | G8: Dave - (Nomow) | AG8: 3 | AH8: Motorhome
A9: 4 | AG9: 4 | AH9: NO DOGS
A10: 5 | AG10: 5 | AH10: NO DOGS
A11: 6 | AG11: 6 | AH11: NO DOGS
A12: 7 | U12: Johnston | AG12: 7 | AH12: NO DOGS
A13: 8 | B13: ward | D13: 1n | H13: Bullock | L13: Knapp | O13: Martin | R13: Candy | AF13: Granger | AG13: 8 | AH13: NO DOGS
A14: 9 | F14: Plews | N14: Plews | U14: Plews | AB14: Plews | AG14: 9
A15: 10 | H15: Rowland | AG15: 10
A16: 11 | H16: Jenkins | X16: Knapp | AG16: 11
A17: 12 | F17: Mcmillian | O17: Clayton | V17: Wolak | X17: Knapp | AG17: 12
A18: 13 | B18: Ian Letch | F18: 1 | N18: Ian | T18: 1 | AA18: 2 | AG18: 13
A19: 14 | B19: Mario cont… | AG19: 14
A20: 15 | AG20: 15 | AH20: RV
A21: 16 | AG21: 16 | AH21: Free night
A22: 16a | AG22: 16a | AH22: Poss Extra / late stay
A23: 17 | AG23: 17 | AH23: Hard Standing
A24: 17a | AG24: 17a | AH24: Not in use
A25: 18 | AC25: Griffith | AG25: 18 | AH25: late stay
A26: 18a | B26: NO ELECTRIC - - - - - - - - - - - - - - - - - - - - - - - - - - - - - - - - - | S26: NO ELECTRIC - - - - - - - - - - - - - - - - - - - - - - - - - - - - - - - - - | AG26: 18a
A27: 19 | D27: Plested | H27: Wiley | K27: Dow | O27: Richards | Y27: Watts | AF27: Inch | AG27: 19 | AH27: =ALERTS!E18 -> 0
A28: 20 | F28: Fox | O28: Hunter | X28: Hooper | Y28: Morrison | AG28: 20 | AH28: =ALERTS!E19 -> 0
A29: 21 | H29: Gue - both on pl 21 | K29: Dixon | O29: Markham | R29: May | V29: Thomson | AF29: Glew | AG29: 21 | AH29: =ALERTS!E20 -> 0
A30: 22 | D30: Speak | H30: Strong | I30: both on pl 21 | AG30: 22
A31: Pitch | B31: =B3 -> Wed | C31: =C3 -> Thu | D31: =D3 -> Fri | E31: =E3 -> Sat | F31: =F3 -> Sun | G31: =G3 -> Mon | H31: =H3 -> Tue | I31: =I3 -> Wed | ... AF31: =AF3 -> Fri | AG31: Pitch
A32: No. | B32: 1 | C32: 2 | D32: 3 | E32: 4 | F32: 5 | G32: 6 | H32: 7 | I32: 8 | J32: 9 | K32: 10 | L32: 11 | M32: 12 | N32: 13 | O32: 14 | P32: 15 | Q32: 16 | R32: 17 | S32: 18 | T32: 19 | U32: 20 | V32: 21 | W32: 22 | X32: 23 | Y32: 24 | Z32: 25 | AA32: 26 | AB32: 27 | AC32: 28 | AD32: 29 | AE32: 30 | AF32: 31 | AG32: No.
A33: 23 | E33: L | F33: E | G33: O | H33: N | I33: I | J33: E | L33: AND | N33: M | O33: A | P33: L | Q33: C | R33: O | S33: L | T33: M | V33: J | W33: A | X33: R | Y33: R | Z33: E | AA33: T | AB33: T | AG33: 23 | AH33: TODAY IS
A34: 23a | B34: Victor Buckley | AG34: 23a | AH34: =TODAY() -> 45692
A35: 24 | B35: Alan Worthington | F35: 1 | M35: 2 | N35: Worthington | T35: 1 | AG35: 24
A36: 25 | B36: Justin Sanders | AG36: 25
A37: 26 | B37: Butterfield | F37: Bob Butterfield | R37: Bob Butterfiled | X37: 1 | AE37: 2 | AG37: 26
A38: 27 | H38: John Talbot £120wk | O38: Talbot | T38: 2 | U38: Talbot | AA38: 3 | AB38: Talbot £120 due | AG38: 27
A39: 28 | K39: Garlick | AF39: Charlton | AG39: 28
A40: 29 | B40: Nicholls | F40: 2 | N40: Carruthers | Z40: Huxley | AG40: 29 | AH40: NO DOGS
...

Sheet Mar 2014
A1: BACK-UP 31 March @ 2000 | I1: last worked on 30 March @ 1720 | AH1: Not here
B2: OFF PEAK | I2: OFF PEAK | Q2: OFF PEAK | X2: OFF PEAK | AH2: Tent
A3: Pitch | B3: Sat | C3: Sun | D3: Mon | E3: Tue | F3: Wed | G3: Thu | H3: Fri | I3: Sat | J3: Sun | K3: Mon | L3: Tue | M3: Wed | N3: Thu | O3: Fri | P3: Sat | Q3: Sun | R3: Mon | S3: Tue | T3: Wed | U3: Thu | V3: Fri | W3: Sat | X3: Sun | Y3: Mon | Z3: Tue | AA3: Wed | AB3: Thu | AC3: Fri | AD3: Sat | AE3: Sun | AF3: Mon | AG3: Pitch | AH3: Trailer tent
A4: No. | B4: 1 | C4: 2 | D4: 3 | E4: 4 | F4: 5 | G4: 6 | H4: 7 | I4: 8 | J4: 9 | K4: 10 | L4: 11 | M4: 12 | N4: 13 | O4: 14 | P4: 15 | Q4: 16 | R4: 17 | S4: 18 | T4: 19 | U4: 20 | V4: 21 | W4: 22 | X4: 23 | Y4: 24 | Z4: 25 | AA4: 26 | AB4: 27 | AC4: 28 | AD4: 29 | AE4: 30 | AF4: 31 | AG4: No. | AH4: Caravan
A5: 1 | D5: Page | H5: Carrie-Ann | R5: Howard | Z5: O'Connor | AG5: 1 | AH5: Camper van
A6: 1a | P6: Steve | W6: Steve | AD6: Steve | AG6: 1a | AH6: Motorhome
A7: 2 | AG7: 2 | AH7: NO DOGS
A8: 3 | AG8: 3 | AH8: NO DOGS
A9: 4 | H9: Day | AC9: Charlton | AG9: 4 | AH9: NO DOGS
A10: 5 | B10: Oxlade | I10: 1 | P10: 2 | W10: 3 | AC10: Oxlade | AG10: 5 | AH10: NO DOGS
A11: 6 | M11: Smith | V11: Swadling | AG11: 6 | AH11: NO DOGS
A12: 7 | J12: Hodkinson | O12: Wakefield | S12: v
A13: 8 | C13: Quincey | H13: Ward | L13: Pitch-Port | N13: Forster | T13: Toms | Z13: Lunn | AA13: Dukes | AD13: Roach | AG13: 8 | AH13: NO DOGS
A14: 9 | E14: Steve here | I14: Steve Keep £140 | R14: Plews | Y14: Plews | AG14: 9 | AH14: NO DOGS
A15: 10 | B15: Price | D15: McLellan | G15: Lloyd | H15: Farne | N15: Gibson | S15: Lilley | Y15: Dyment | AG15: 10 | AH15: NO SHOW
A16: 11 | B16: Lee Davies | H16: Butt /Hawcroft | L16: Daniels | T16: Gorman | V16: Adams | AE16: Oliver | AG16: 11
A17: 12 | B17: Rudnik | D17: Johnson | E17: Fox | H17: Butt | K17: Dyment/Lyus | S17: Patefield | W17: Deakin | X17: Wear | Z17: Barnes | AC17: Potts | AG17: 12
A18: 13 | B18: Letch cont.. | J18: 2 | Q18: 3 | X18: 4 | AE18: 1 | AG18: 13 | AH18: RV
A19: 14 | B19: Mario | AG19: 14 | AH19: Free night
A20: 15 | AG20: 15 | AH20: Poss Extra / late stay
A21: 16 | O21: Taylor | R21: Urquhart | AD21: Tomline | AG21: 16 | AH21: Hard Standing
A22: 16a | AG22: 16a | AH22: Not in use
A23: 17 | AG23: 17 | AH23: late stay
A24: 17a | AG24: 17a | AH24: Cancelled
A25: 18 | AG25: 18
A26: 18a | B26: NO ELECTRIC - - - - - - - - - - - - - - - - - - - - - - - - - - - - - - - - - | U26: NO ELECTRIC - - - - - - - - - - - - - - - - - - - - - - - - - - - - - - - - - | AG26: 18a
A27: 19 | D27: Hurst | I27: Smith | U27: Keedwell | AD27: Newey | AG27: 19 | AH27: =ALERTS!E24 -> 0
A28: 20 | B28: Kite | C28: £300 due for 2wks | I28: 3 | L28: alan.kite2@gmail.com | P28: 4 | Q28: Alan Kite £150wk | W28: Blewitt | Z28: Bercich | AG28: 20 | AH28: =ALERTS!E25 -> 0
A29: 21 | B29: cont.. | D29: Rowtledge | H29: Lelong | J29: Aitken | M29: Ley | Q29: Frost | X29: Mann | AE29: Bullough | AG29: 21 | AH29: =ALERTS!E26 -> 0
A30: 22 | AG30: 22
A31: Pitch | B31: =B3 -> Sat | C31: =C3 -> Sun | D31: =D3 -> Mon | E31: =E3 -> Tue | F31: =F3 -> Wed | G31: =G3 -> Thu | H31: =H3 -> Fri | I31: =I3 -> Sat | ... AF31: =AF3 -> Mon | AG31: Pitch
A32: No. | B32: 1 | C32: 2 | D32: 3 | E32: 4 | F32: 5 | G32: 6 | H32: 7 | I32: 8 | J32: 9 | K32: 10 | L32: 11 | M32: 12 | N32: 13 | O32: 14 | P32: 15 | Q32: 16 | R32: 17 | S32: 18 | T32: 19 | U32: 20 | V32: 21 | W32: 22 | X32: 23 | Y32: 24 | Z32: 25 | AA32: 26 | AB32: 27 | AC32: 28 | AD32: 29 | AE32: 30 | AF32: 31 | AG32: No. | AH32: TODAY IS
A33: 23 | E33: L | F33: E | G33: O | H33: N | I33: I | J33: E | L33: AND | N33: M | O33: A | P33: L | Q33: C | R33: O | S33: L | T33: M | V33: J | W33: A | X33: R | Y33: R | Z33: E | AA33: T | AB33: T | AG33: 23 | AH33: =TODAY() -> 45692
A34: 23a | B34: Victor Buckley | AG34: 23a
A35: 24 | B35: Hedley | C35: 2 | D35: £350 DUE for 2wks | J35: 1 | Q35: 2 | R35: £350 DUE for 2wks | X35: 1 | AD35: £116.60 EACH | AF35: 1 | AG35: 24
A36: 25 | B36: Justin Sanders | AG36: 25
A37: 26 | B37: Mike Charlton £147/week | H37: mick | P37: Maddy | AG37: 26
A38: 27 | B38: John Talbot | K38: Talbot | Q38: 2 | R38: Talbot | X38: 2 | Y38: Talbot | AE38: 2 | AF38: 120 | AG38: 27
A39: 28 | B39: Steve here | J39: Davis | N39: Rabone | Z39: Gwilliam | AG39: 28
A40: 29 | B40: Tom Keep £140 | I40: Tom Keep | P40: Tom | W40: Tom | AD40: Tom | AG40: 29 | AH40: NO DOGS
...

Sheet Feb 2014
A1: BACK-UP 01 Mar @ 2044 | I1: Last worked on 19 Feb at 1045
I2: OFF PEAK | R2: OFF PEAK
A3: Pitch | B3: Sat | C3: Sun | D3: Mon | E3: Tue | F3: Wed | G3: Thu | H3: Fri | I3: Sat | J3: Sun | K3: Mon | L3: Tue | M3: Wed | N3: Thu | O3: Fri | P3: Sat | Q3: Sun | R3: Mon | S3: Tue | T3: Wed | U3: Thu | V3: Fri | W3: Sat | X3: Sun | Y3: Mon | Z3: Tue | AA3: Wed | AB3: Thu | AC3: Fri | AD3: Pitch | AE3: Not here
A4: No. | B4: 1 | C4: 2 | D4: 3 | E4: 4 | F4: 5 | G4: 6 | H4: 7 | I4: 8 | J4: 9 | K4: 10 | L4: 11 | M4: 12 | N4: 13 | O4: 14 | P4: 15 | Q4: 16 | R4: 17 | S4: 18 | T4: 19 | U4: 20 | V4: 21 | W4: 22 | X4: 23 | Y4: 24 | Z4: 25 | AA4: 26 | AB4: 27 | AC4: 28 | AD4: No. | AE4: Tent
A5: 1 | B5: Foyle | C5: not sure how long here? | N5: Bergg | S5: Penny | T5: McNamara | U5: Perkins | W5: Walton | X5: Weatherall | AB5: Gavhann | AC5: Llewellyn | AD5: 1 | AE5: Trailer tent
A6: 1a | R6: Cairns | AD6: 1a | AE6: Caravan
A7: 2 | H7: CANCELLATIONS ARE DUE TO THE BAD WEATHER GALES & FLOODS | AD7: 2 | AE7: Camper van
A8: 3 | F8: Howells | M8: Howells | Q8: Crout | AD8: 3 | AE8: Motorhome
A9: 4 | E9: Wilkinson | AD9: 4 | AE9: NO DOGS
A10: 5 | F10: Thurson - re-booked | P10: Williams - re-booked | AB10: Flint ? | AD10: 5 | AE10: NO DOGS
A11: 6 | E11: Mellrow | AD11: 6 | AE11: NO DOGS
A12: 7 | O12: Buckle | AD12: 7 | AE12: NO DOGS
A13: 8 | B13: Granger cont.. | F13: Carruthers | L13: Charlton | V13: Jackson | Y13: Tordoss | AB13: Gill | AC13: Talman | AD13: 8 | AE13: NO DOGS
A14: 9 | D14: Graham Plews | V14: Turner | AB14: McNamara | AC14: Oxlade | AD14: 9 | AE14: NO DOGS
A15: 10 | D15: Pettit | L15: Farthing | U15: Hopkins | W15: Cooper | AC15: Price | AD15: 10
A16: 11 | V16: Nicholds | X16: Davies | AD16: 11 | AE16: SEASONAL
A17: 12 | H17: Tutt | J17: visitors | O17: Curtis | AB17: Rudnik | AD17: 12
A18: 13 | B18: Ian Letch | C18: 1 | J18: 2 | K18: Ian Letch £294 due for 2wks | Q18: 1 | X18: 2 | Y18: Letch | AD18: 13
A19: 14 | B19: Mario Del-Rey | AD19: 14
A20: 15 | H20: Quiddage Tournement cancelled too wet | AD20: 15 | AE20: RV
A21: 16 | H21: Hayley/Lillian | AD21: 16 | AE21: Free night
A22: 16a | AD22: 16a | AE22: Poss Extra / late stay
A23: 17 | AD23: 17 | AE23: Hard Standing
A24: 17a | AD24: 17a | AE24: Not in use
A25: 18 | AD25: 18 | AE25: late stay
A26: 18a | B26: NO ELECTRIC - - - - - - - - - - - - - - - - - - - - - - - - - - - - - - - - - | S26: NO ELECTRIC - - - - - - - - - - - - - - - - - - - - - - - - - - - - - - - - - | AD26: 18a
A27: 19 | B27: Chris Inch cont.. | O27: not here | S27: Chris back | AC27: Shergold | AD27: 19 | AE27: =ALERTS!E21 -> 0
A28: 20 | Q28: Alan Kite | W28: 1 | AD28: 20 | AE28: =ALERTS!E22 -> 0
A29: 21 | B29: Glew cont.. | G29: Ford | Q29: Douglas | S29: Hamilton | U29: Mike Rees | Y29: Denton | AB29: Anson | AC29: Heridge | AD29: 21 | AE29: =ALERTS!E23 -> 0
A30: 22 | AD30: 22
A31: Pitch | B31: =B3 -> Sat | C31: =C3 -> Sun | D31: =D3 -> Mon | E31: =E3 -> Tue | F31: =F3 -> Wed | G31: =G3 -> Thu | H31: =H3 -> Fri | I31: =I3 -> Sat | ... AC31: =AC3 -> Fri | AD31: Pitch
A32: No. | B32: 1 | C32: 2 | D32: 3 | E32: 4 | F32: 5 | G32: 6 | H32: 7 | I32: 8 | J32: 9 | K32: 10 | L32: 11 | M32: 12 | N32: 13 | O32: 14 | P32: 15 | Q32: 16 | R32: 17 | S32: 18 | T32: 19 | U32: 20 | V32: 21 | W32: 22 | X32: 23 | Y32: 24 | Z32: 25 | AA32: 26 | AB32: 27 | AC32: 28 | AD32: No.
A33: 23 | E33: L | F33: E | G33: O | H33: N | I33: I | J33: E | L33: AND | N33: M | O33: A | P33: L | Q33: C | R33: O | S33: L | T33: M | V33: J | W33: A | X33: R | Y33: R | Z33: E | AA33: T | AB33: T | AD33: 23
A34: 23a | B34: Victor Buckley | AD34: 23a | AE34: =TODAY() -> 45692
A35: 24 | B35: Alan Worthington | R35: Hedley | X35: 1 | AD35: 24
A36: 25 | B36: Justin Sanders | AD36: 25
A37: 26 | B37: Charlton cont.. | H37: Mick Charlton | V37: mick Charlton | AC37: 147 | AD37: 26
A38: 27 | B38: John Talbot £120wk | C38: 3 | D38: Talbot £120 due | K38: John Talbot £120 | R38: 120 | Y38: 120 wk + £8 if plugged in when not here
A39: 28 | W39: Steve Keep £140 pd | AD39: 28 | AG39: duty w
A40: 29 | B40: Ade £140 | F40: new caravan | I40: Tom Keep £140 | P40: Tom | W40: Tom Keep £140 pd | AD40: 29 | AE40: NO DOGS
...

Sheet April 2014
A1: Back up done 30 April @ 1815 | M1: Last worked on 28 April at 1500 | AG1: Not here
C2: OFF PEAK | G2: PEAK | L2: P E A K | Q2: PEAK | S2: EASTER WK-END | Z2: Stella & Bill away | AG2: Tent
A3: Pitch | B3: Tue | C3: Wed | D3: Thu | E3: Fri | F3: Sat | G3: Sun | H3: Mon | I3: Tue | J3: Wed | K3: Thu | L3: Fri | M3: Sat | N3: Sun | O3: Mon | P3: Tue | Q3: Wed | R3: Thu | S3: Fri | T3: Sat | U3: Sun | V3: Mon | W3: Tue | X3: Wed | Y3: Thu | Z3: Fri | AA3: Sat | AB3: Sun | AC3: Mon | AD3: Tue | AE3: Wed | AF3: Pitch | AG3: Trailer tent
A4: No. | B4: 1 | C4: 2 | D4: 3 | E4: 4 | F4: 5 | G4: 6 | H4: 7 | I4: 8 | J4: 9 | K4: 10 | L4: 11 | M4: 12 | N4: 13 | O4: 14 | P4: 15 | Q4: 16 | R4: 17 | S4: 18 | T4: 19 | U4: 20 | V4: 21 | W4: 22 | X4: 23 | Y4: 24 | Z4: 25 | AA4: 26 | AB4: 27 | AC4: 28 | AD4: 29 | AE4: 30 | AF4: No. | AG4: Caravan
A5: 1 | F5: Judson | J5: Cherrill | N5: Joynson | Q5: Butchers | R5: Williams | S5: Farne | W5: Hathaway | AA5: Oxlade | AB5: Dermont | AD5: Beresford | AF5: 1 | AG5: Camper van
A6: 1a | B6: Steve | F6: Steve | G6: son & girlfriend here No Charge | M6: Steve | T6: Steve | AA6: £143 paid | AF6: 1a | AG6: Motorhome
A7: 2 | N7: May | S7: Mander | AF7: 2 | AG7: NO DOGS
A8: 3 | N8: May | T8: Hudd | AF8: 3 | AG8: NO DOGS
A9: 4 | R9: Riddolls | AF9: 4 | AG9: NO DOGS
A10: 5 | L10: not in use | O10: Plews | S10: Mockett | W10: Plews | AF10: 5 | AG10: NO DOGS
A11: 6 | L11: Tugby | O11: Not in use | R11: Bulcraig | W11: Harris | AA11: Kelly | AF11: 6 | AG11: NO DOGS
A12: 7 | E12: Audley | M12: Williams | S12: Holdsworth - DO NOT MOVE | AF12: 7 | AG12: NO DOGS
A13: 8 | B13: Roach cont… | I13: Morgan - emailed ok to have 1n carried over | P13: Emms | S13: Harris - Do not move asked for pl 8 | AB13: Quin | AD13: Freij | AF13: 8
A14: 9 | C14: Pearson | H14: Plews contin'd | L14: Midgeley | M14: Butley | N14: Brooks | P14: Dermont | Q14: Healey - do not move req hardstand | X14: Thoms | AB14: Coenen | AF14: 9
A15: 10 | F15: Haslam | I15: Matley-Jones | Q15: Robson | S15: Huggett - do not move | X15: Savage | Z15: Tansley | AB15: Courtier | AD15: Vanden Brink | AF15: 10
A16: 11 | B16: Oliver con'd | G16: Baldwin - Hymer | N16: Baggett | R16: Fox | S16: Huggett / Page - do not move | X16: Sparrow | AD16: deVries | AF16: 11
A17: 12 | F17: Tyzack | M17: Fawcett | P17: Haven | T17: Marriott - requested hardstanding | AF17: 12 | AG17: Poss Extra / late stay
A18: 13 | B18: Letch | G18: 2 | H18: £24 per night | O18: Letch | Q18: Johnson | V18: Letch | AF18: 13 | AG18: RV
A19: 14 | B19: Mario Del -Rey | AF19: 14 | AG19: Free night
A20: 16 | B20: cont.. | E20: Kev Lawrence | M20: Welton | R20: Clark with Gass - do not move | Z20: Maund | AF20: 16 | AG20: Hard Standing
A21: 16a | E21: Kev Lawrence | M21: Welton | R21: Gass with Clark - do not move | AF21: 16a | AG21: Not in use
A22: 17 | E22: Kev Lawrence | M22: Welton | R22: Bowman | AF22: 17 | AG22: late stay
A23: 17a | E23: Kev Lawrence | R23: Decastillo | AF23: 17a | AG23: Cancelled
A24: 18 | E24: Kev Lawrence | L24: Critchley | N24: Foldiing camper requested grass | U24: Spidler | AF24: 18
A25: 18a | B25: NO ELECTRIC - - - - - - - - - - - - - - - - - - - - - - - - - - - - - - - - - | T25: NO ELECTRIC - - - - - - - - - - - - - - - - - - - - - - - - - - - - - - - - - | AF25: 18a
A26: 19 | F26: Billing | K26: Littlehales | Q26: Littlehales | X26: Bromham | Z26: Bowker | AA26: Smith | AD26: Cattaway | AF26: 19 | AG26: =ALERTS!E27 -> 0
A27: 20 | F27: Billing | G27: Newman | O27: Bishop | R27: McGregor | S27: McGinlay | W27: Ayres | X27: Young | Y27: Crowther | Z27: McKillop | AB27: Ayres | AF27: 20 | AG27: =ALERTS!E28 -> 0
A28: 21 | B28: Bullough cont… | F28: Jones | G28: Morris | H28: Dewar | N28: Clare | R28: Tribbensee | S28: Smith | W28: Smith | Z28: Flemming | AF28: 21 | AG28: =ALERTS!E29 -> 0
A29: 22 | N29: not in use | Y29: Malcom & Leonie back from cruise | AF29: 22
A30: Pitch | B30: =B3 -> Tue | C30: =C3 -> Wed | D30: =D3 -> Thu | E30: =E3 -> Fri | F30: =F3 -> Sat | G30: =G3 -> Sun | H30: =H3 -> Mon | I30: =I3 -> Tue | ... AE30: =AE3 -> Wed | AF30: Pitch
A31: No. | B31: 1 | C31: 2 | D31: 3 | E31: 4 | F31: 5 | G31: 6 | H31: 7 | I31: 8 | J31: 9 | K31: 10 | L31: 11 | M31: 12 | N31: 13 | O31: 14 | P31: 15 | Q31: 16 | R31: 17 | S31: 18 | T31: 19 | U31: 20 | V31: 21 | W31: 22 | X31: 23 | Y31: 24 | Z31: 25 | AA31: 26 | AB31: 27 | AC31: 28 | AD31: 29 | AE31: 30 | AF31: No. | AG31: TODAY IS
A32: 23 | E32: L | F32: E | G32: O | H32: N | I32: I | J32: E | L32: AND | N32: M | O32: A | P32: L | Q32: C | R32: O | S32: L | T32: M | Z32: Duty | AA32: Duty | AB32: Duty | AC32: Duty | AD32: Duty | AG32: =TODAY() -> 45692
A33: 23a | B33: Victor Buckley | AF33: 23a
A34: 24 | B34: Hedley | H34: 2 | O34: hedley | V34: 1 | AB34: 2 | AC34: Hedley | AF34: 24
A35: 25 | B35: Justin Sanders | AF35: 25
A36: 26 | B36: Maddy | C36: Duty | E36: Duty | G36: Duty | I36: Duty | K36: Duty | M36: Duty | O36: Duty | Q36: Duty | S36: Duty | U36: Duty | AF36: 26
A37: 27 | B37: John Talbot | H37: John Talbot £120wk | V37: 126 | AC37: 129 | AF37: 27
A38: 28 | F38: Bridgewater | L38: Carrie-Ann | O38: Weisshaupt | R38: Beaumont | W38: Marshall | AB38: Gerrit | AD38: Cable | AF38: 28
A39: 29 | B39: Tom | M39: Tom | T39: Tom | AA39: £143 paid | AF39: 29 | AG39: NO DOGS
A40: 30 | B40: Ade | F40: Ade | M40: Ade | O40: Myles | R40: Mckenzie | S40: Hodgson | V40: Matley-Jones | AF40: 30 | AG40: NO DOGS
...

Sheet May 2014
A1: BACK-UP done 31 May @ 18.30 | I1: Stella last worked on 31 May @ 1830 | AH1: Not here
B2: OFF | C2: PEAK | I2: OFF PEAK | P2: OFF PEAK | V2: OFF PEAK | X2: Rain | AC2: PEAK | AH2: Tent
A3: Pitch | B3: Thu | C3: Fri | D3: Sat | E3: Sun | F3: Mon | G3: Tue | H3: Wed | I3: Thu | J3: Fri | K3: Sat | L3: Sun | M3: Mon | N3: Tue | O3: Wed | P3: Thu | Q3: Fri | R3: Sat | S3: Sun | T3: Mon | U3: Tue | V3: Wed | W3: Thu | X3: Fri | Y3: Sat | Z3: Sun | AA3: Mon | AB3: Tue | AC3: Wed | AD3: Thu | AE3: Fri | AF3: Sat | AG3: Pitch | AH3: Trailer tent
A4: No. | B4: 1 | C4: 2 | D4: 3 | E4: 4 | F4: 5 | G4: 6 | H4: 7 | I4: 8 | J4: 9 | K4: 10 | L4: 11 | M4: 12 | N4: 13 | O4: 14 | P4: 15 | Q4: 16 | R4: 17 | S4: 18 | T4: 19 | U4: 20 | V4: 21 | W4: 22 | X4: 23 | Y4: 24 | Z4: 25 | AA4: 26 | AB4: 27 | AC4: 28 | AD4: 29 | AE4: 30 | AF4: 31 | AG4: No. | AH4: Caravan
A5: 1 | D5: Blake | E5: Leah | N5: Allen - Do not move | X5: Oxlade | Z5: Watkins | AD5: Griffiths | AE5: Young | AG5: 1 | AH5: Camper van
A6: 1a | B6: Steve Keep | R6: steve | Y6: Steve Keep | AF6: Steve | AG6: 1a | AH6: Motorhome
A7: 2 | J7: Ettridge - sold Ariba caravan whilst here! | P7: 1 | W7: 2wks | X7: Symes | AF7: Marriott | AG7: 2 | AH7: NO DOGS
A8: 3 | R8: Harris | S8: Quinlan | X8: Harborn | AA8: Arends | AG8: 3 | AH8: NO DOGS
A9: 4 | D9: Muit | R9: Clare | X9: Jan Boyd | Z9: Fehse | AA9: must leave lead | AB9: Paulsen | AE9: Sadler | AG9: 4 | AH9: NO DOGS
A10: 5 | C10: Swanbrick | F10: Prosser | J10: Evans | Q10: Mintram | V10: James - asked for pl 6 but not available | AE10: Smith | AG10: 5 | AH10: NO DOGS
A11: 6 | G11: Robin Paskins back - do not move unless to pl 34 | X11: Wharton | AG11: 6 | AH11: NO DOGS
A12: 7 | C12: Mepsted | J12: Rickard | M12: Young | R12: Bates | Z12: Wild | AF12: Kelly | AG12: 7 | AH12: NO DOGS
A13: 8 | B13: cont.. | C13: Struyk | E13: Pinto | G13: Griffiths | L13: Wooner | N13: Kiefer | Q13: Bosley | X13: McMullen | AA13: Price | AD13: Kiefer - do not move | AG13: 8
A14: 9 | C14: West | F14: Viz | G14: Plews | L14: Deavin | M14: Plews | Q14: Keer | T14: Plews | X14: Carr | AB14: Plews | AF14: Williams | AG14: 9
A15: 10 | C15: Marshall | D15: Barns | L15: Sydenham | M15: Laing | X15: Dodd | AB15: Cleverly | AG15: 10
A16: 11 | C16: Bartholomew | G16: Coles - do not move | K16: Bourne | M16: Hooke | R16: Hitchman | U16: Maddocks | X16: Parsons - do not move | AC16: Price | AF16: Messingham DO NOT move | AG16: 11
A17: 12 | B17: Marriott cont… | J17: 12 nights @ £21 = £252 + £73 storage = £333 no tow bar Paid | X17: Holt - do not move | AB17: Price-Jones | AG17: 12
A18: 13 | B18: Letch cont.. | F18: Letch - 2wks £300 | M18: 1wk | S18: 2wks | T18: Ian Letch 2wks | X18: Cumbridge | AA18: Ian Letch | AG18: 13 | AH18: RV
A19: 14 | B19: Mario | AG19: 14 | AH19: Free night
A20: 15 | C20: NOT IN USE | M20: NOT IN USE | AG20: 15 | AH20: Poss Extra / late stay
A21: 16 | C21: Burgess 1/2 | Q21: Grieves | X21: Squires - do not move | AD21: Perry | AG21: 16 | AH21: Hard Standing
A22: 16a | C22: Markham 2/2 | X22: Titshall - do not move | AG22: 16a | AH22: Not in use
A23: 17 | Q23: McMahon | U23: Squires (dad) - do not move | AE23: Seldon | AG23: 17 | AH23: late stay
A24: 17a | Y24: Godfrey | AF24: Timson | AG24: 17a | AH24: Refund
A25: 18 | I25: Davey | Q25: Brain | Y25: Cross - | Z25: BURNT GRASS! | AF25: Tyers | AG25: 18 | AH25: Cancelled
A26: 18a | B26: NO ELECTRIC - - - - - - - - - - - - - - - - - - - - - - - - - - - - - - - - - | K26: Tafft keep with Turner | T26: NO ELECTRIC - - - - - - - - - - - - - - - - - - - - - - - - - - - - - - - - - | AA26: Stanford | AG26: 18a
A27: 19 | B27: Lamboley | D27: Luke | G27: 4 | J27: Parsons | N27: Sandercock | X27: Chilton Visitors 12.30 black car | AA27: Seaton | AB27: Pegg | AD27: Prout | AE27: Krummen-Archer | AG27: 19
A28: 6 | C28: Gould | K28: Turner keep with Tafft | N28: Havercroft | P28: Slater | S28: Smith | Y28: Taylor | AF28: Gunter Karl | AG28: 20 | AH28: =ALERTS!E30 -> 0
A29: 21 | B29: Diegan | E29: cullum | I29: Paulson | L29: Punchard | N29: Adams | X29: Colella | AA29: Shepherd | AD29: McWirther | AG29: 21 | AH29: =ALERTS!E31 -> 0
A30: 22 | R30: Duty | S30: move to here if Bill says ok? | X30: Duty | Z30: Duty | AB30: Duty | AD30: Duty | AF30: Duty | AG30: 22 | AH30: =ALERTS!E32 -> 0
A31: Pitch | B31: =B3 -> Thu | C31: =C3 -> Fri | D31: =D3 -> Sat | E31: =E3 -> Sun | F31: =F3 -> Mon | G31: =G3 -> Tue | H31: =H3 -> Wed | I31: =I3 -> Thu | ... AF31: =AF3 -> Sat | AG31: Pitch
A32: No. | B32: 1 | C32: 2 | D32: 3 | E32: 4 | F32: 5 | G32: 6 | H32: 7 | I32: 8 | J32: 9 | K32: 10 | L32: 11 | M32: 12 | N32: 13 | O32: 14 | P32: 15 | Q32: 16 | R32: 17 | S32: 18 | T32: 19 | U32: 20 | V32: 21 | W32: 22 | X32: 23 | Y32: 24 | Z32: 25 | AA32: 26 | AB32: 27 | AC32: 28 | AD32: 29 | AE32: 30 | AF32: 31 | AG32: No.
A33: 23 | B33: j | C33: a | D33: r | E33: r | F33: e | G33: t | H33: t | S33: Ian Strark | Z33: Stark | AG33: 23 | AH33: TODAY IS
A34: 23a | B34: Victor Buckley | AG34: 23a | AH34: =TODAY() -> 45692
A35: 24 | B35: Hedley | C35: keys in drawer | L35: 2 | S35: 1 | Z35: 2 | AA35: £116.60 x 3 | AG35: 24
A36: 25 | B36: Justin Sanders | AG36: 25
A37: 26 | B37: Maddy YE56GSO | E37: Duty | I37: away | K37: Duty | M37: Duty | O37: Duty | Q37: Duty | S37: Duty | U37: Duty | W37: Duty | Y37: Duty | AA37: Duty | AC37: Duty | AE37: Duty | AG37: 26
A38: 27 | B38: John Talbot | M38: Talbot | T38: Talbot | AA38: £129 Paid | AG38: 27
A39: 28 | D39: Readings | K39: Kite | Q39: 1wk | X39: 2wks | AE39: 3wk | AG39: 28
A40: 29 | B40: Tom Keep | R40: £143 paid | Y40: Tom | AF40: Tom | AG40: 29 | AH40: NO DOGS
...

Sheet June 2014
A1: BACK-UP done 30 June @ 17.30 | K1: Stella worked on 30 June @ 1830 | AG1: Not here
D2: OFF PEAK | J2: OFF PEAK | Q2: OFF PEAK | Y2: OFF PEAK | AG2: Tent
A3: Pitch | B3: Sun | C3: Mon | D3: Tue | E3: Wed | F3: Thu | G3: Fri | H3: Sat | I3: Sun | J3: Mon | K3: Tue | L3: Wed | M3: Thu | N3: Fri | O3: Sat | P3: Sun | Q3: Mon | R3: Tue | S3: Wed | T3: Thu | U3: Fri | V3: Sat | W3: Sun | X3: Mon | Y3: Tue | Z3: Wed | AA3: Thu | AB3: Fri | AC3: Sat | AD3: Sun | AE3: Mon | AF3: Pitch | AG3: Trailer tent
A4: No. | B4: 1 | C4: 2 | D4: 3 | E4: 4 | F4: 5 | G4: 6 | H4: 7 | I4: 8 | J4: 9 | K4: 10 | L4: 11 | M4: 12 | N4: 13 | O4: 14 | P4: 15 | Q4: 16 | R4: 17 | S4: 18 | T4: 19 | U4: 20 | V4: 21 | W4: 22 | X4: 23 | Y4: 24 | Z4: 25 | AA4: 26 | AB4: 27 | AC4: 28 | AD4: 29 | AE4: 30 | AF4: No. | AG4: Caravan
A5: 1 | C5: Zimmermann | F5: Seaton | G5: Bradford | H5: Williams | I5: ostertag | J5: Key | N5: Goodwin | R5: Chiesa | V5: Townhill | Z5: Simon | AA5: Matley-Jones | AF5: 1 | AG5: Camper van
A6: 1a | B6: Steve Keep | H6: Steve £140 | O6: Steve £140 | V6: Steve £140 | AC6: Steve £140 | AF6: 1a | AG6: Motorhome
A7: 2 | K7: Ellis | N7: Robinson | O7: Pentrey | V7: Saunders | AB7: Skelland | AC7: Holmes | AD7: Summer | AF7: 2 | AG7: NO DOGS
A8: 4 | B8: Sadler cont.. | H8: Keelan | M8: Hignell | W8: NOT IN USE | AF8: 4 | AG8: NO DOGS
A9: Solaris | N9: Hignell | AA9: Helen Baker | AF9: Solaris | AG9: NO DOGS
A10: 5 | G10: Chadwick | N10: Santo | Q10: Ege | U10: Chadwick - do not move | AB10: Prentice-do not move | AF10: 5 | AG10: NO DOGS
A11: 6 | C11: Wandiss | G11: Short | J11: Till 6pm | N11: Bradshaw | Q11: 5-6pm | U11: Cox | AB11: Sycamore - do not move | AF11: 6 | AG11: NO DOGS
A12: 7 | B12: Kelly cont | E12: Smith | I12: Burch | K12: Woods early arrival 9am | V12: Ferrie | AB12: Wiseman | AF12: 7 | AG12: NO DOGS
A13: 8 | B13: Knabe | E13: Craven | G13: Store | N13: Weishaupt | P13: vd Veen | Q13: Bell | W13: Visconti | Y13: Burch | AA13: Ward-do not move | AE13: Wharton | AF13: 8
A14: 9 | C14: Plews | F14: Bray | J14: Plews | N14: Martin | Q14: Plews | U14: Dyer | X14: Plews | AB14: Warrilow | AC14: Jones | AE14: Plews | AF14: 9
A15: 10 | B15: Price | C15: Marriott | G15: 1 | N15: 2wks | U15: 3wks | Y15: P512 JYC | AB15: 4wks | AF15: 10
A16: 11 | B16: Messingham Cont…. Dark blue Astra vis | I16: Hepworth | L16: Birchley | P16: Pettit | V16: Hitchman | AB16: Plumb | AD16: Seeny | AE16: Phebi | AF16: 11
A17: 12 | E17: Longman with Craven | G17: Parks | I17: Leavesley | V17: Perruchoud | AB17: Clarke | AF17: 12 | AG17: Did not turn up
A18: 13 | B18: 2wks | C18: Ian Letch | I18: 1wk | P18: 2 | Q18: Ian Letch | W18: 1wk | AF18: 13 | AG18: RV
A19: 14 | B19: Mario | AF19: 14 | AG19: Free night
A20: 15 | X20: 0 | AF20: 15 | AG20: Poss Extra / late stay
A21: 16 | C21: Hendrie | M21: Hutcheson | T21: Hutchinson | AB21: Griffin | AF21: 16 | AG21: Hard Standing
A22: 16a | AB22: Ingles | AF22: 16a | AG22: Not in use
A23: 17 | B23: Seldon cont | E23: De Witte | H23: Moss | M23: Zyl | T23: Paggart | Z23: Hough | AF23: 17 | AG23: late stay
A24: 17a | B24: Timson cont | E24: Drupsteen | AF24: 17a | AG24: Refund
A25: 18 | M25: Hunt | O25: Chamberlain | AB25: Day | AF25: 18 | AG25: Cancelled
A26: 18a | B26: NO ELECTRIC - - - - - - - - - - - - - - - - - - - - - - - - - - - - - - - - - | S26: NO ELECTRIC - - - - - - - - - - - - - - - - - - - - - - - - - - - - - - - - - | AF26: 18a
A27: 19 | B27: Krummen-Archer ~Cont | F27: Brake | H27: Egerer | J27: Adams | N27: Parsons | R27: Peak | W27: Brim | Z27: Browitali | AB27: Lyon-Shaw | AF27: 19
A28: 20 | C28: Gunther | G28: Redrup | K28: Clayton | N28: King | R28: Brake | S28: Conway | T28: Stamm | U28: Shelagh & Barrry- to be paid | AA28: Loveridge | AF28: 20 | AG28: =ALERTS!E33 -> 0
A29: 21 | B29: McWirther cont | H29: Martin | J29: Clayton | K29: Shelagh & Barrry - | U29: Carter Do not move | Z29: Shelagh & Barrry | AF29: 21 | AG29: =ALERTS!E34 -> 0
A30: 22 | B30: Leonie | C30: Duty | E30: Away on cruise | I30: Duty | K30: Duty | M30: Duty | O30: Duty | Q30: Duty | S30: Duty | U30: Duty | W30: Duty | Y30: Duty | AA30: Duty | AC30: Duty | AE30: Duty | AF30: 22 | AG30: =ALERTS!E35 -> 0
A31: Pitch | B31: =B3 -> Sun | C31: =C3 -> Mon | D31: =D3 -> Tue | E31: =E3 -> Wed | F31: =F3 -> Thu | G31: =G3 -> Fri | H31: =H3 -> Sat | I31: =I3 -> Sun | ... AE31: =AE3 -> Mon | AF31: Pitch
A32: No. | B32: 1 | C32: 2 | D32: 3 | E32: 4 | F32: 5 | G32: 6 | H32: 7 | I32: 8 | J32: 9 | K32: 10 | L32: 11 | M32: 12 | N32: 13 | O32: 14 | P32: 15 | Q32: 16 | R32: 17 | S32: 18 | T32: 19 | U32: 20 | V32: 21 | W32: 22 | X32: 23 | Y32: 24 | Z32: 25 | AA32: 26 | AB32: 27 | AC32: 28 | AD32: 29 | AE32: 30 | AF32: No.
A33: 23 | B33: Ian Stark cont | I33: £147 Paid Ref? | P33: Ian Stark | W33: Ian Stark - in France from 21 - 29 June | AD33: Ian Stark | AF33: 23 | AG33: TODAY IS
A34: 23a | B34: Victor Buckley | K34: V ic & wife here | AF34: 23a | AG34: =TODAY() -> 45692
A35: 24 | B35: Hedley | I35: 2wks | J35: Hedley | P35: 1 | W35: 2 | X35: Hedley | AD35: 1 | AF35: 24
A36: 25 | B36: Justin Sanders | AF36: 25
A37: 26 | B37: Maddy | D37: Duty | E37: Duty | F37: Duty | H37: Duty | J37: Duty | L37: Duty | N37: Duty | P37: Duty | R37: Duty | T37: Duty | V37: Duty | X37: Duty | Z37: Duty | AB37: Duty | AD37: Duty | AF37: 26
A38: 27 | B38: John Talbot | I38: £120 paid | N38: Away on holiday until 23rd June | X38: Due | AD38: Talbot | AF38: 27
A39: 28 | B39: Alan Kite cont… | G39: 4wks | H39: Kite | N39: 1 | T39: Alan back | AB39: Lucas | AC39: Peak | AF39: 28
A40: 29 | B40: Tom Keep | H40: Tom | N40: 1 wk | O40: Tom | U40: 1 wk | V40: Tom £140 | AB40: 1wk | AC40: Tom | AF40: 29 | AG40: NO DOGS
...

Sheet July 2014
A1: BACK-UP done 31 July @ 1800 | L1: DO NOT LET CHICKENS OUT12-13 juLY | V1: Stella on 27 July @ 0830 | AH1: Not here
D2: OFF PEAK | J2: OFF PEAK | M2: dog show | Q2: OFF PEAK | Y2: PEAK | AD2: PEAK | AH2: Tent
A3: Pitch | B3: Tue | C3: Wed | D3: Thu | E3: Fri | F3: Sat | G3: Sun | H3: Mon | I3: Tue | J3: Wed | K3: Thu | L3: Fri | M3: Sat | N3: Sun | O3: Mon | P3: Tue | Q3: Wed | R3: Thu | S3: Fri | T3: Sat | U3: Sun | V3: Mon | W3: Tue | X3: Wed | Y3: Thu | Z3: Fri | AA3: Sat | AB3: Sun | AC3: Mon | AD3: Tue | AE3: Wed | AF3: Thu | AG3: Pitch | AH3: Trailer tent
A4: No. | B4: 1 | C4: 2 | D4: 3 | E4: 4 | F4: 5 | G4: 6 | H4: 7 | I4: 8 | J4: 9 | K4: 10 | L4: 11 | M4: 12 | N4: 13 | O4: 14 | P4: 15 | Q4: 16 | R4: 17 | S4: 18 | T4: 19 | U4: 20 | V4: 21 | W4: 22 | X4: 23 | Y4: 24 | Z4: 25 | AA4: 26 | AB4: 27 | AC4: 28 | AD4: 29 | AE4: 30 | AF4: 31 | AG4: No. | AH4: Caravan
A5: 1 | E5: Arch | F5: Watkins | G5: Callard | L5: Matley-Jones do not move | N5: Tidey | O5: O'Neil | Q5: Buckney | S5: Clews-Cartwright | T5: Connor | V5: Watkins | W5: Nimmo | Y5: Marchant | Z5: Admans | AB5: Ezery | AC5: King | AG5: 1 | AH5: Camper van
A6: 1a | B6: Steve Keep | F6: Hughes - do not move | P6: Steve's van back on pitch | S6: Steve Due £169 (5x£20 3x£23) | AA6: Steve (given £8 off) | AG6: 1a | AH6: Motorhome
A7: 2 | F7: Hampshire | G7: Tanner | H7: Dear | J7: Newman | K7: Malcomson | L7: Hampshire | M7: Congreve | N7: Cook - folding caravan | R7: Barrott | V7: Uplegger | X7: Hughes - do not move | AA7: Evans | AB7: Hawkins | AC7: Cunningham | AF7: Rouse | AG7: 2 | AH7: NO DOGS
A8: 3 | J8: Do not use if Solaris is rented | P8: NO ELECTRIC - - - - - - - - - - - - - - - - - - - - - - - - - - - - - - - - - | AA8: Malewski | AG8: 3 | AH8: NO DOGS
A9: 4 | B9: Baker cont…. | D9: 1wk | J9: 2wks | AG9: Solaris | AH9: NO DOGS
A10: 5 | C10: Horne | E10: Stubbs | J10: Nijeboer | L10: Chadwick | O10: Frizelle | R10: Lunouvel | V10: Dekker | X10: Chadwick | Z10: Mosely | AB10: Simmer | AF10: Evans | AG10: 5 | AH10: NO DOGS
A11: 6 | B11: Morres | J11: Thomson | L11: Wheatly | T11: Hamil | W11: King | X11: 2 vis | Z11: Slade | AE11: ehrbar | AG11: 6 | AH11: NO DOGS
A12: 7 | B12: Wiseman | I12: Osman | S12: Martinet | X12: Wierick | AA12: Garland | AB12: Bickerton - do not move | AG12: 7 | AH12: NO DOGS
A13: 8 | B13: Wharton | C13: Huty | E13: Saunders | F13: Hussey | R13: Rasenberg | Y13: Mebbelke | AC13: Netherway | AE13: Unrch | AG13: 8
A14: 9 | B14: cont.. | F14: Dobson | I14: Plews | L14: Jansen | O14: Plews | R14: Scheffer | V14: Plews | Z14: Lancaster-Park | AC14: Thorne | AD14: Plews | AF14: Zoccante | AG14: 9
A15: 10 | B15: Marriott cont.. | F15: M/H | G15: M/H | H15: M/H | Z15: Capstick | AA15: Bailey | AB15: Olivotto | AC15: Bernards | AD15: Conquest- | AG15: 10
A16: 11 | B16: Phebi cont.. | L16: Davis | N16: Goodfellow | W16: Schumann | X16: Matley-Jones - DO NOT MOVE | Z16: Right | AB16: Smart | AC16: Schmidt | AE16: Kos | AG16: 11
A17: 12 | E17: Long | K17: wk | V17: Wright | Z17: Ball | AD17: Judge | AG17: 12
A18: 13 | I18: Rees | M18: Ian back | O18: Ian Letch £294+£48=£342 (12&13july) for 2wks | U18: 2 | AB18: 1 | AC18: Ian | AG18: 13 | AH18: RV
A19: 14 | B19: Mario | AG19: 14 | AH19: Free night
A20: 15 | X20: 0 | AF20: 15 | AG20: 15 | AH20: Poss Extra / late stay
A21: 16 | E21: Guidal | L21: Stredwick | O21: Kuipers | R21: Eccleshaw | U21: Davey | Y21: Barrett | AA21: Bishop | AF21: Tomline | AG21: 16 | AH21: Hard Standing
A22: 16a | E22: Manson | L22: Morris | M22: Turrell | R22: Christian | AA22: bishop/Marston | AG22: 16a | AH22: Not in use
A23: 17 | B23: Hough cont. | L23: Wilkinson | R23: Milnik | T23: Holcroft | U23: Ranson | AA23: Ody | AG23: 17 | AH23: late stay
A24: 17a | M24: Watson | T24: Pilkington | AA24: Jukes with Garland | AG24: 17a | AH24: Refund
A25: 18 | D25: Davey | E25: Cullen | L25: Huey - do not move | T25: Lister | U25: Falconer | X25: Carter | AG25: 18 | AH25: Cancelled
A26: 18a | B26: NO ELECTRIC - - - - - - - - - - - - - - - - - - - - - - - - - - - - - - - - - | T26: NO ELECTRIC - - - - - - - - - - - - - - - - - - - - - - - - - - - - - - - - - | AA26: Williams with Garland | AG26: 18a | AH26: Did not turn up
A27: 19 | E27: Peacock | G27: Adams | L27: Townsend | R27: Warren | Y27: Rowan - do not move | AG27: 19
A28: 20 | B28: Loveridge cont | C28: Hanson | E28: Green | G28: Bromley | H28: MacWhirter | K28: Last | O28: Meyer | P28: 7 | X28: Ingman | Y28: Mclaren - do not move | AG28: 20
A29: 21 | B29: Shelagh & Barrry- to be paid | AA29: Tomlinson | AD29: Hieber | AF29: Chapman | AG29: 21
A30: 22 | C30: Duty | E30: Duty | G30: Duty | I30: Duty | K30: Duty | M30: Duty | O30: Duty | Q30: Duty | S30: Duty | U30: Duty | W30: Duty | Y30: Duty | AA30: Duty | AC30: Duty | AE30: Duty | AG30: 22
A31: Pitch | B31: =B3 -> Tue | C31: =C3 -> Wed | D31: =D3 -> Thu | E31: =E3 -> Fri | F31: =F3 -> Sat | G31: =G3 -> Sun | H31: =H3 -> Mon | I31: =I3 -> Tue | ... AF31: =AF3 -> Thu | AG31: Pitch | AH31: =TODAY() -> 45692
A32: No. | B32: 1 | C32: 2 | D32: 3 | E32: 4 | F32: 5 | G32: 6 | H32: 7 | I32: 8 | J32: 9 | K32: 10 | L32: 11 | M32: 12 | N32: 13 | O32: 14 | P32: 15 | Q32: 16 | R32: 17 | S32: 18 | T32: 19 | U32: 20 | V32: 21 | W32: 22 | X32: 23 | Y32: 24 | Z32: 25 | AA32: 26 | AB32: 27 | AC32: 28 | AD32: 29 | AE32: 30 | AF32: 31 | AG32: No.
A33: 23 | B33: Ian Stark cont.. | F33: 1 | M33: 2 | N33: Ian Stark | T33: 1 | AA33: 2 | AB33: £160 wk peak time(given £8 off) | AG33: 23
A34: 23a | B34: Victor Buckley | AG34: 23a
A35: 24 | B35: Hedley | G35: 2 | H35: £116.60 x 3 | N35: 1 | U35: 2 | AB35: 1 wk | AG35: 24
A36: 25 | B36: Justin Sanders | Z36: Sands | AA36: Sechei - | AE36: Sechei | AG36: COMPASS 556
A37: 26 | B37: Maddy | D37: Duty | F37: Duty | H37: Duty | J37: Duty | L37: Duty | N37: Duty | P37: Duty | R37: Duty | T37: Duty | V37: Duty | X37: Duty | Z37: Duty | AB37: Duty | AD37: Duty | AF37: Duty | AG37: 26
A38: 27 | B38: John Talbot | H38: £120 due | O38: £120 due | V38: £126 due | AC38: £132 due | AG38: 27
A39: 28 | F39: Cox | G39: Barnes | H39: Webb | M39: Gunster | Q39: Georg | U39: Watkins | W39: Lane - DO NOT MOVE - thanks Stella | AG39: 28
A40: 29 | B40: Tom | F40: Tom | M40: Tom | T40: Tom | AA40: Tom | AG40: 29 | AH40: NO DOGS
...

Sheet Aug 2014
A1: BACK-UP done 31 August @ 1800 | W1: 3 night bookings only | AH1: Not here
D2: PEAK | K2: P E A K | N2: 5 | Q2: P E A K | W2: BANK HOLIDAY | AC2: P E A K | AH2: Tent
A3: Pitch | B3: Fri | C3: Sat | D3: Sun | E3: Mon | F3: Tue | G3: Wed | H3: Thu | I3: Fri | J3: Sat | K3: Sun | L3: Mon | M3: Tue | N3: Wed | O3: Thu | P3: Fri | Q3: Sat | R3: Sun | S3: Mon | T3: Tue | U3: Wed | V3: Thu | W3: Fri | X3: Sat | Y3: Sun | Z3: Mon | AA3: Tue | AB3: Wed | AC3: Thu | AD3: Fri | AE3: Sat | AF3: Sun | AG3: Pitch | AH3: Trailer tent
A4: No. | B4: 1 | C4: 2 | D4: 3 | E4: 4 | F4: 5 | G4: 6 | H4: 7 | I4: 8 | J4: 9 | K4: 10 | L4: 11 | M4: 12 | N4: 13 | O4: 14 | P4: 15 | Q4: 16 | R4: 17 | S4: 18 | T4: 19 | U4: 20 | V4: 21 | W4: 22 | X4: 23 | Y4: 24 | Z4: 25 | AA4: 26 | AB4: 27 | AC4: 28 | AD4: 29 | AE4: 30 | AF4: 31 | AG4: No. | AH4: Caravan
A5: 1 | B5: Brown | C5: Pendleton | D5: Brown - do not move SM | Q5: Lanaway | X5: Pegg | AA5: Dawson | AF5: Conway | AG5: 1 | AH5: Camper van
B6: cont.. | J6: Steve Keep | P6: Pettit | R6: Waudby | X6: Raynor | AA6: O'Hare | AD6: Orr | AE6: Payne | AG6: 1a | AH6: Motorhome
A7: 2 | B7: rouse cont | C7: Holmes | D7: Connor | E7: Muller | G7: Addy | L7: Hennig | P7: Jones | Q7: Darwood-Brown | R7: Eddy | W7: Timbrell | Z7: Down | AD7: Donnan | AG7: 2 | AH7: NO DOGS
A8: 3 | B8: Van Hoven | D8: Dale | I8: Meir | L8: Waterworth | M8: Banks | O8: Bald | R8: Dechelle | W8: Timbrell/Murch | Z8: Detlef | AB8: Born | AG8: 3 | AH8: NO DOGS
A9: 4 | B9: Palmer | I9: Peskatt | P9: Upsall | Q9: Brown | U9: Hirons with Davis | V9: Meir | W9: Varley | AG9: 4 | AH9: NO DOGS
A10: 5 | C10: Greenwood | D10: Evans | G10: Ehrler | J10: Perry | K10: Palmer | R10: Constable | U10: Shepherd | V10: Wright | W10: Doe | Z10: Turner | AF10: Garfield | AG10: 5 | AH10: NO DOGS
A11: 6 | C11: Wild | N11: Robin Paskins - do not move | AG11: 6 | AH11: NO DOGS
A12: 7 | B12: Bickerton cont | K12: Holdsworth DO NOT MOVE | Q12: 1wk | X12: 2wks | Y12: Jarvis | AA12: Warrington | AG12: 7 | AH12: NO DOGS
A13: 8 | B13: White | D13: Hayes | I13: Robottom | L13: Riley | Q13: Fuller | R13: Prince | U13: Marshall | AD13: Cairns-Smith | AG13: 8
A14: 9 | B14: Zoccante cont | C14: D'Mateo | E14: Plews | G14: Plews | L14: Plews | O14: Turner | P14: Elumi | Q14: Bulbeck | S14: Plews | V14: Winter | W14: Dean | Z14: Elwood | AA14: Plews | AC14: Leusink | AF14: Shilton | AG14: 9
A15: 10 | C15: Peake | E15: Boetcher | G15: Dechelle | J15: Simmons | L15: ` | P15: Young | V15: Vorowiec | W15: Hurst | Z15: Howden | AD15: Marriott | AG15: 10
A16: 11 | B16: cont.. | C16: Zoccante | E16: Ward | G16: Smith | J16: Simmons also | P16: Fabier | S16: Hardi | U16: Girling | W16: A.Smith | Z16: Horne | AB16: . | AD16: Cattermer | AF16: Brand | AG16: 11
A17: 12 | B17: Milkereit | H17: 1 | O17: 2 | V17: 3 | AC17: 4 | AG17: 12
A18: 13 | B18: Ian Letch | D18: 2 | K18: 1 | L18: Ian | R18: 2 | X18: Heath | AC18: Emery | AG18: 13 | AH18: RV
A19: 14 | B19: Mario | AG19: 14 | AH19: Free night
A20: 15 | X20: 0 | AF20: 15 | AG20: 15 | AH20: Poss Extra / late stay
A21: 16 | B21: cont.. | C21: Firth | D21: Bradley | E21: Hernden | L21: Parson | P21: Bertollo | Q21: Brooks-do not move | U21: ow | W21: Turner | AD21: Tween | AG21: 16 | AH21: Hard Standing
A22: 16a | B22: Garlick | E22: no children | L22: Parson/Skillern | Q22: Brooks/Cash-do not move | W22: Turner/Millership | AG22: 16a | AH22: Not in use
A23: 17 | B23: Ody cont… | E23: Munne | I23: Dyer | N23: Roughly | P23: Ford | V23: Springthorpe | W23: Jukes/Bennett - do not move | AC23: Parson | AG23: 17 | AH23: late stay
A24: 17a | B24: Molenaar | E24: thank you Stella | P24: Ford/Hubbard | V24: Gibson | W24: Jukes/Hopwood - do not move | AC24: Parson/ Toose | AG24: 17a | AH24: Refund
A25: 18 | B25: Abbott - with Francis | H25: Perry | Q25: Mitchell | W25: Jukes - do not move | AD25: Elliott | AE25: Doree | AG25: 18 | AH25: Cancelled
A26: 18a | B26: Francis - with Abbott | D26: NO ELECTRIC - - - - - - - - - - - - - - - - - - - - - - - - - - - - - - - - - | R26: NO ELECTRIC - - - - - - - - - - - - - - - - - - - - - - - - - - - - - - - - - | AG26: 18a | AH26: NO ELECTRIC
A27: 19 | B27: Rowan Cont | K27: Lancelot | L27: Fuller | R27: Bonner | V27: McDonald | AB27: Couch | AD27: Coella | AG27: 19 | AH27: Did not turn up
A28: 20 | B28: Mclaren cont | K28: Litchfield | Q28: 1 | X28: 2 | AE28: 3 | AG28: 20
A29: 21 | B29: cont | C29: Walker | D29: Costanzi | G29: Cirretti | J29: Brooks back | AD29: Moore with Coella | AG29: 21 | AH29: =TODAY() -> 45692
A30: 22 | B30: Duty | D30: Duty | F30: Duty | H30: Duty | J30: Duty | L30: Duty | N30: Duty | P30: Duty | R30: Duty | T30: Duty | V30: Duty | X30: Duty | Z30: Duty | AD30: Duty | AF30: Duty | AG30: 22
A31: Pitch | B31: =B3 -> Fri | C31: =C3 -> Sat | D31: =D3 -> Sun | E31: =E3 -> Mon | F31: =F3 -> Tue | G31: =G3 -> Wed | H31: =H3 -> Thu | I31: =I3 -> Fri | ... AF31: =AF3 -> Sun | AG31: Pitch
A32: No. | B32: 1 | C32: 2 | D32: 3 | E32: 4 | F32: 5 | G32: 6 | H32: 7 | I32: 8 | J32: 9 | K32: 10 | L32: 11 | M32: 12 | N32: 13 | O32: 14 | P32: 15 | Q32: 16 | R32: 17 | S32: 18 | T32: 19 | U32: 20 | V32: 21 | W32: 22 | X32: 23 | Y32: 24 | Z32: 25 | AA32: 26 | AB32: 27 | AC32: 28 | AD32: 29 | AE32: 30 | AF32: 31 | AG32: No.
A33: 23 | B33: Ian Stark cont.. | C33: 1 | D33: Ian Stark | J33: 2 | Q33: 1 | R33: Ian Stark | X33: 2 | AE33: 1 | AG33: 23
A34: 23a | B34: Victor Buckley | AG34: 23a
A35: 24 | B35: Hedley | D35: 2wks | E35: £116.60 x 3 | K35: 1wk | R35: 2wks | S35: Hedley | Y35: 1wk | AF35: 2wks | AG35: 24
A36: 25 | B36: cont.. | G36: Sechei | M36: 1 | N36: Sechei | T36: 2 | U36: Sorin Sechei | AB36: Adrian Marchis | AG36: 25 | AH36: Compass
A37: 26 | C37: Maddy | E37: Duty | G37: Duty | I37: Duty | K37: Duty | M37: Duty | O37: Duty | Q37: Duty | S37: Duty | U37: Duty | W37: Duty | Y37: Duty | AA37: Duty | AC37: Duty | AE37: Duty | AG37: 26
A38: 27 | B38: John Talbot | L38: £132 due | S38: John Talbot | Z38: £132 due | AG38: 27
A39: 28 | B39: Lane | Q39: Robinson | V39: Delmeiren | W39: Rixon | Z39: Gallagher | AD39: Praschak | AG39: 28
A40: 29 | B40: Tom Keep | J40: Tom | Q40: Tom | X40: Tom | AE40: Tom | AG40: 29 | AH40: NO DOGS
...

Sheet Sep 2014
A1: BACK-UP 30 Sept @ 2020 | AG1: Not here
A2: . | I2: 2 | Q2: BOAT SHOW | X2: Padstow | AA2: Off Peak | AG2: Tent
A3: Pitch | B3: Mon | C3: Tue | D3: Wed | E3: Thu | F3: Fri | G3: Sat | H3: Sun | I3: Mon | J3: Tue | K3: Wed | L3: Thu | M3: Fri | N3: Sat | O3: Sun | P3: Mon | Q3: Tue | R3: Wed | S3: Thu | T3: Fri | U3: Sat | V3: Sun | W3: Mon | X3: Tue | Y3: Wed | Z3: Thu | AA3: Fri | AB3: Sat | AC3: Sun | AD3: Mon | AE3: Tue | AF3: Pitch | AG3: Trailer tent
A4: No. | B4: 1 | C4: 2 | D4: 3 | E4: 4 | F4: 5 | G4: 6 | H4: 7 | I4: 8 | J4: 9 | K4: 10 | L4: 11 | M4: 12 | N4: 13 | O4: 14 | P4: 15 | Q4: 16 | R4: 17 | S4: 18 | T4: 19 | U4: 20 | V4: 21 | W4: 22 | X4: 23 | Y4: 24 | Z4: 25 | AA4: 26 | AB4: 27 | AC4: 28 | AD4: 29 | AE4: 30 | AF4: No. | AG4: Caravan
A5: 1 | E5: Everett | F5: Emmerson | G5: Jackson | L5: McCauley | N5: Wise | P5: Spicer | R5: Overbury | U5: Massey | Z5: Smith | AA5: Baker+late stay | AC5: O'Neill | AF5: 1 | AG5: Camper van
A6: 1a | E6: Carr | H6: Gregory | L6: Bonnie - reserved 1515 on 8th Sep | Z6: Colls | AF6: 1a | AG6: Motorhome
A7: 2 | F7: Priest | G7: Stone | M7: Potts | O7: Dean | P7: Phair | Q7: Pagliaro | S7: Taylor | T7: McGowan | AA7: Redmond | AF7: 2 | AG7: NO DOGS
A8: 3 | D8: Williams | M8: Cavanagh | U8: Kelbrick | AC8: Martin | AF8: 3 | AG8: NO DOGS
A9: 4 | AF9: 4 | AG9: NO DOGS
A10: 5 | B10: Garfield cont | F10: Duffy | K10: Dodds | M10: Wheatlans | R10: Dunkley | T10: Chattell | W10: Hall | AC10: Reilly | AF10: 5 | AG10: NO DOGS
A11: 6 | G11: Massey | K11: Teall | L11: Phair | M11: Maile | R11: Holden | V11: Woods | AA11: Santo | AF11: 6 | AG11: NO DOGS
A12: 7 | H12: Wesley | L12: Darley | T12: Barnes | AB12: Box | AF12: 7 | AG12: NO DOGS
A13: 8 | B13: Perry | C13: Marshall | E13: Setter | Q13: Tony Woods | V13: Lee - SM do not move | AF13: 8
A14: 9 | B14: Shilton cont | H14: Wynn | I14: Haven | J14: Plews | L14: Blackshaw | P14: Plews | S14: Stephenson | U14: Waters | V14: Rogers | W14: Plews | Z14: Farrell | AD14: Plews | AF14: 9
A15: 10 | B15: Jackie Marriott cont.. | N15: Beddow | R15: Parkman | T15: Rolf | V15: Lovett | AA15: Abbott | AF15: 10
A16: 11 | B16: Jakes | E16: Berry | F16: Pearson | G16: Newman | K16: Searle | M16: Jenny & Neil | Q16: Grant | S16: Cook | W16: Mobly | AA16: Herbert | AF16: 11
A17: 12 | G17: Stevenson | H17: Shelton moving from pl 9 | S17: Winder | T17: Palmer | Y17: Eale | AA17: Mullen | AF17: 12
A18: 13 | I18: Scherenbrand | L18: Farmer | M18: Jones | O18: Cooper | Q18: Lillywhite | S18: Crittenden | V18: Letch £153 due | AA18: 1 | AB18: 1 | AC18: Ian | AF18: 13 | AG18: RV
A19: 14 | B19: Mario Del-Rey | Q19: OTR | AF19: 14 | AG19: Free night
A20: 15 | X20: 0 | AF20: 15 | AG20: Poss Extra / late stay
A21: 16 | F21: Gladwell | M21: Cazey | Q21: Small | AA21: Clark | AE21: Pakes | AF21: 16 | AG21: Hard Standing
A22: 16a | G22: Yildrrim | M22: Timbrell | AF22: 16a | AG22: Not in use
A23: 17 | F23: Drew | G23: Jenny Morgan | N23: Driscoll | T23: Cattermer with Humes | AF23: 17 | AG23: late stay
A24: 17a | F24: Griffin | G24: Jenny Morgan/ Hollobone | O24: Race | T24: Humes with Cattermer | AF24: 17a | AG24: Refund
A25: 18 | B25: Doree cont | E25: Sloggett | H25: Carter | I25: Hayes | N25: Peake | AF25: 18 | AG25: Cancelled
A26: 18a | B26: NO ELECTRIC - - - - - - - - - - - - - - - - - - - - - - - - - - - - - - - - - | E26: Lindsell | T26: NO ELECTRIC - - - - - - - - - - - - - - - - - - - - - - - - - - - - - - - - - | AF26: 18a | AG26: Did not turn up
A27: 19 | F27: Talman | H27: Hinchcliff | I27: Pegg | L27: Aldercroft | N27: Smith | P27: Price | Q27: sxxxxxxxx | T27: Loveday | Y27: Bell | AA27: Parsons | AD27: Nater | AE27: Shrimpton with Ward | AF27: 19
A28: 20 | B28: Litchfield | H28: 1 | O28: 2 | V28: 3 | AC28: 4 | AF28: 20
A29: 21 | I29: Hood | L29: Roberts | R29: Hoare | T29: Townsend | X29: Malcom & Leonie | AB29: Ursell | AE29: McKillop | AF29: 21
A30: 22 | C30: Duty | E30: Duty | G30: Duty | I30: Duty | K30: Duty | M30: Duty | O30: Duty | Q30: Duty | S30: Duty | U30: Duty | W30: Duty | Y30: Duty | AA30: Duty | AC30: Duty | AE30: Duty | AF30: 22
A31: Pitch | B31: =B3 -> Mon | C31: =C3 -> Tue | D31: =D3 -> Wed | E31: =E3 -> Thu | F31: =F3 -> Fri | G31: =G3 -> Sat | H31: =H3 -> Sun | I31: =I3 -> Mon | ... AE31: =AE3 -> Tue | AF31: Pitch
A32: No. | B32: 1 | C32: 2 | D32: 3 | E32: 4 | F32: 5 | G32: 6 | H32: 7 | I32: 8 | J32: 9 | K32: 10 | L32: 11 | M32: 12 | N32: 13 | O32: 14 | P32: 15 | Q32: 16 | R32: 17 | S32: 18 | T32: 19 | U32: 20 | V32: 21 | W32: 22 | X32: 23 | Y32: 24 | Z32: 25 | AA32: 26 | AB32: 27 | AC32: 28 | AD32: 29 | AE32: 30 | AF32: No.
A33: 23 | B33: Ian Stark | F33: Ian away - back on 24/9 | AF33: 23
A34: 23a | B34: Victor Buckley | AF34: 23a
A35: 24 | B35: Hedley | H35: 1wk | O35: 2wks | P35: May be last week | V35: 1wk | W35: Hedley | AB35: Shelton | AF35: 24
A36: 25 | B36: cont | D36: Marchis | L36: Turner-Jones | R36: £50 per night during boat show + £10 for bedding | AF36: Compass
A37: 26 | B37: Maddy | F37: Duty | G37: off | H37: Duty | J37: Duty | L37: Duty | N37: Duty | P37: Duty | R37: Duty | T37: Duty | V37: Duty | X37: Duty | Z37: Duty | AF37: 26
A38: 27 | B38: John Talbot | I38: Talbot | P38: £132 due | W38: 120 | AD38: Talbot | AF38: 27
A39: 28 | G39: Graham | I39: Stratmann | L39: Sketcher | R39: 1 | Y39: 2 | AA39: Hunt | AF39: 28
A40: 29 | B40: Tom Keep | F40: 1 | G40: Tom Keep | M40: 2 | T40: 1 | U40: Tom Craig owes £153 | AA40: 2 | AB40: £131 if just 2 persons as £16 refund for Pegg) | AF40: 29 | AG40: NO DOGS
...

Sheet Oct 2014
A1: BACK-UP 31 Oct @ 1710 | AH1: Not here
H2: OFF PEAK | L2: Stella away cruise | R2: OFF PEAK | U2: ` | W2: OFF PEAK | AB2: OFF PEAK | AH2: Tent
A3: Pitch | B3: Wed | C3: Thu | D3: Fri | E3: Sat | F3: Sun | G3: Mon | H3: Tue | I3: Wed | J3: Thu | K3: Fri | L3: Sat | M3: Sun | N3: Mon | O3: Tue | P3: Wed | Q3: Thu | R3: Fri | S3: Sat | T3: Sun | U3: Mon | V3: Tue | W3: Wed | X3: Thu | Y3: Fri | Z3: Sat | AA3: Sun | AB3: Mon | AC3: Tue | AD3: Wed | AE3: Thu | AF3: Fri | AG3: Pitch | AH3: Trailer tent
A4: No. | B4: 1 | C4: 2 | D4: 3 | E4: 4 | F4: 5 | G4: 6 | H4: 7 | I4: 8 | J4: 9 | K4: 10 | L4: 11 | M4: 12 | N4: 13 | O4: 14 | P4: 15 | Q4: 16 | R4: 17 | S4: 18 | T4: 19 | U4: 20 | V4: 21 | W4: 22 | X4: 23 | Y4: 24 | Z4: 25 | AA4: 26 | AB4: 27 | AC4: 28 | AD4: 29 | AE4: 30 | AF4: 31 | AG4: No. | AH4: Caravan
A5: 1 | E5: Jones | K5: Pergunas | M5: Brown | AD5: Armstrong | AE5: Gradidge | AF5: Rigby | AG5: 1 | AH5: Camper van
A6: 1a | Z6: Allinson | AG6: 1a | AH6: Motorhome
A7: 2 | AG7: 2 | AH7: NO DOGS
A8: 3 | B8: cont.. | Y8: Ledwith | AG8: 3 | AH8: NO DOGS
A9: 4 | AG9: 4 | AH9: NO DOGS
A10: 5 | B10: cont.. | Z10: Pool | AG10: 5 | AH10: NO DOGS
A11: 6 | Y11: Fabes | AD11: Hawkridge | AG11: 6 | AH11: NO DOGS
A12: 7 | B12: Box cont.. | K12: White | R12: Morgan | Z12: Tofes | AG12: 7 | AH12: NO DOGS
A13: 8 | J13: Apel Trath | L13: Loose - do not move | P13: Kerton | T13: Stead | X13: Smith | Y13: Waterton | Z13: Catheral - Do not move | AG13: 8
A14: 9 | C14: Kirkpatrick | G14: Plews | K14: Robinson | N14: Plews | Q14: Wills | U14: Plews | Z14: Thomas | AB14: Plews | AF14: Dunn | AG14: 9
A15: 10 | H15: Lawlor | K15: Stefinuti | R15: Day | U15: Worm | Y15: Harborow | AB15: Hales | AF15: Armstrong | AG15: 10
A16: 11 | B16: Pelham | J16: Feuldath | K16: Wild | Y16: Smith | AG16: 11
A17: 12 | G17: Pelham | J17: Newbold | R17: Chewter | X17: Bateson | AG17: 12
A18: 13 | B18: Letch | F18: £294 for 2wks | L18: 1 | S18: 2 | T18: Ian | Z18: 3 | AA18: Marshall | AC18: Wheeler | AG18: 13 | AH18: RV
A19: 14 | B19: Mario Del-Rey | AG19: 14 | AH19: Free night
A20: 15 | AG20: 15 | AH20: Poss Extra / late stay
A21: 16 | B21: cont…. | E21: Bolton with Frewin | Z21: Dean | AG21: 16 | AH21: Hard Standing
A22: 16a | E22: Frewin with Bolton | AG22: 16a | AH22: Not in use
A23: 17 | Z23: Bayliss | AG23: 17 | AH23: late stay
A24: 17a | AG24: 17a | AH24: Refund
A25: 18 | B25: Ward with Shrimpton | H25: s | Z25: Jeffries | AG25: 18 | AH25: Cancelled
A26: 18a | B26: NO ELECTRIC - - - - - - - - - - - - - - - - - - - - - - - - - - - - - - - - - | T26: NO ELECTRIC - - - - - - - - - - - - - - - - - - - - - - - - - - - - - - - - - | AG26: 18a
A27: 19 | B27: Shrimpton cont…. | G27: Barnes | J27: Barnes | O27: Hood | X27: Young | AD27: Glendenning | AG27: 19
A28: 20 | B28: Kerry Litchfield | AG28: 20 | AH28: =ALERTS!E45 -> 0
A29: 21 | C29: Platts | O29: Cranfield | R29: Terry Morgan | W29: Howlett | AE29: Slater | AG29: 21
A30: 22 | C30: Duty | E30: Duty | G30: Duty | I30: Duty | K30: Duty | M30: Duty | Y30: Duty | AA30: Duty | AC30: Duty | AE30: Duty | AG30: 22 | AI30: Duty | AK30: Duty
A31: Pitch | B31: =B3 -> Wed | C31: =C3 -> Thu | D31: =D3 -> Fri | E31: =E3 -> Sat | F31: =F3 -> Sun | G31: =G3 -> Mon | H31: =H3 -> Tue | I31: =I3 -> Wed | ... AF31: =AF3 -> Fri | AG31: Pitch
A32: No. | B32: 1 | C32: 2 | D32: 3 | E32: 4 | F32: 5 | G32: 6 | H32: 7 | I32: 8 | J32: 9 | K32: 10 | L32: 11 | M32: 12 | N32: 13 | O32: 14 | P32: 15 | Q32: 16 | R32: 17 | S32: 18 | T32: 19 | U32: 20 | V32: 21 | W32: 22 | X32: 23 | Y32: 24 | Z32: 25 | AA32: 26 | AB32: 27 | AC32: 28 | AD32: 29 | AE32: 30 | AF32: 31 | AG32: No.
A33: 23 | B33: Ian Stark | E33: £147 due | H33: move to pl 25 if possible | M33: Stark | S33: 1 | T33: stark | Z33: 2 | AA33: £147 paid | AG33: 23
A34: 23a | B34: Victor Buckley | AG34: 23a
A35: 24 | B35: Shelton | F35: Shelton | L35: 1 | S35: 2 | T35: Matt | Z35: 1 | AG35: 24 | AH35: TODAY IS
A36: 25 | W36: Irvine | AG36: 25 | AH36: =TODAY() -> 45692
A37: 26 | Q37: Scott May | Z37: Parker | AA37: Stephenson | AB37: Newton | AD37: Middleton | AG37: 26
A38: 27 | B38: John Talbot cont… | G38: Talbot | N38: Talbot | U38: John | AB38: £48 due | AG38: 27
A39: 28 | B39: Garner | F39: Rossi | J39: Medley | L39: Atkinson | P39: Marshall | R39: =+I:AG -> 0 | S39: Eborall | U39: Morris | Y39: Huelin | AA39: Mabbott | AB39: Atkinson | AC39: Kucmyda | AD39: Tales | AF39: Clegg | AG39: 28
A40: 29 | B40: Tom Keep | D40: 1 | E40: Paid - see comment | K40: 2 | L40: 175 less £40 overcharged Total due £135 | S40: Tom Craig | Y40: 2 | Z40: Tom Keep £175 due | AF40: 1 | AG40: 29
...

Sheet Nov 2014
A1: BACK-UP 30 Nov @ 16.00 | AG1: Not here
G2: Stella & Bill Oriana | R2: OFF PEAK | V2: Stella & Bill Thailand | W2: & Bill Holiday | X2: Holiday | Z2: OFF PEAK | AG2: Tent
A3: Pitch | B3: Sat | C3: Sun | D3: Mon | E3: Tue | F3: Wed | G3: Thu | H3: Fri | I3: Sat | J3: Sun | K3: Mon | L3: Tue | M3: Wed | N3: Thu | O3: Fri | P3: Sat | Q3: Sun | R3: Mon | S3: Tue | T3: Wed | U3: Thu | V3: Fri | W3: Sat | X3: Sun | Y3: Mon | Z3: Tue | AA3: Wed | AB3: Thu | AC3: Fri | AD3: Sat | AE3: Sun | AF3: Pitch | AG3: Trailer tent
A4: No. | B4: 1 | C4: 2 | D4: 3 | E4: 4 | F4: 5 | G4: 6 | H4: 7 | I4: 8 | J4: 9 | K4: 10 | L4: 11 | M4: 12 | N4: 13 | O4: 14 | P4: 15 | Q4: 16 | R4: 17 | S4: 18 | T4: 19 | U4: 20 | V4: 21 | W4: 22 | X4: 23 | Y4: 24 | Z4: 25 | AA4: 26 | AB4: 27 | AC4: 28 | AD4: 29 | AE4: 30 | AF4: No. | AG4: Caravan
A5: 1 | B5: Green | C5: Bulpitt | E5: Gladwin | G5: Latten | H5: Cameron | J5: Birkenshaw | K5: Usher - do not move | L5: Hartnoll | P5: Huxley | Q5: Corns | S5: Simmons | T5: Bulpitt | AB5: Rally/Southeran | AF5: 1 | AG5: Camper van
A6: 1a | B6: Finch | C6: no need to move can stay here but must park car in car park | AD6: Price | AF6: 1a | AG6: Motorhome
A7: 2 | I7: Brown | AF7: 2 | AG7: NO DOGS
A8: 3 | AB8: Rally / Davey | AF8: 3 | AG8: NO DOGS
A9: 4 | AF9: 4 | AG9: NO DOGS
A10: 5 | H10: Demmery | AF10: 5 | AG10: NO DOGS
A11: 6 | B11: Hawkridge cont.. | AF11: 6 | AG11: NO DOGS
A12: 7 | AF12: 7 | AG12: NO DOGS
A13: 8 | B13: Hall | G13: Wallis | H13: Sellen | K13: Etasse | P13: Carrigan | R13: Andrews | V13: Nelson | Z13: Patience | AB13: Ward - do not move | AE13: Rally- Alder | AF13: 8
A14: 9 | B14: cont.. | H14: Bussell | I14: Brown | P14: Burt | V14: Taylor | Y14: Mitchell | AA14: Kegleman | AD14: Reed | AF14: 9
A15: 10 | B15: cont.. | C15: Marriott | J15: Nigel | Q15: Jackie Marriott | V15: Dash | X15: Marriott back | Y15: £147 for wk | AD15: Paid £231 see note | AF15: 10
A16: 11 | E16: Bulpitt | R16: Bulpitt | V16: Martin | AC16: Matley-Jones | AE16: Davis | AF16: 11
A17: 12 | B17: TRUE | C17: Whitehouse | P17: Campbell | V17: Davies | W17: Walker | Y17: Pickton | AB17: Rally/ O'Dell | AF17: 12
A18: 13 | B18: Wheeler cont.. | H18: Blair | O18: Barker | V18: Burrows | Y18: Harris | AA18: Lilley | AF18: 13 | AG18: RV
A19: 14 | B19: Mario | I19: Brett/Bonny | O19: Stark | AA19: Hodges | AF19: 14 | AG19: Free night
A20: 15 | AF20: 15 | AG20: Poss Extra / late stay
A21: 16 | AF21: 16 | AG21: Hard Standing
A22: 16a | AF22: 16a | AG22: Not in use
A23: 17 | AF23: 17 | AG23: late stay
A24: 17a | AF24: 17a | AG24: Refund
A25: 18 | AF25: 18 | AG25: Cancelled
A26: 18a | B26: NO ELECTRIC - - - - - - - - - - - - - - - - - - - - - - - - - - - - - - - - - | U26: NO ELECTRIC - - - - - - - - - - - - - - - - - - - - - - - - - - - - - - - - - | AC26: Rally- Alder | AF26: 18a
A27: 19 | D27: Saunders | I27: Graham | L27: Wylie | O27: Bolton | P27: Haden | Q27: Garner | V27: Ward | Y27: Deakin | AB27: Rally/Antil | AF27: 19
A28: 20 | B28: Litchfield | AF28: 20 | AG28: =ALERTS!E48 -> 0
A29: 21 | D29: Miller | I29: Dewhurst | K29: Kennedy | O29: Wherry | Q29: Buckley | AB29: Rally/Woods | AF29: 21 | AG29: =ALERTS!E49 -> 0
A30: 22 | B30: Duty | D30: Duty | F30: Duty | H30: Duty | J30: Duty | P30: Duty | R30: Duty | T30: away for day | V30: Duty | X30: Duty | Z30: Duty | AB30: Duty | AD30: Duty | AF30: 22 | AG30: =ALERTS!E50 -> 0
A31: Pitch | B31: =B3 -> Sat | C31: =C3 -> Sun | D31: =D3 -> Mon | E31: =E3 -> Tue | F31: =F3 -> Wed | G31: =G3 -> Thu | H31: =H3 -> Fri | I31: =I3 -> Sat | ... AE31: =AE3 -> Sun | AF31: Pitch
A32: No. | B32: 1 | C32: 2 | D32: 3 | E32: 4 | F32: 5 | G32: 6 | H32: 7 | I32: 8 | J32: 9 | K32: 10 | L32: 11 | M32: 12 | N32: 13 | O32: 14 | P32: 15 | Q32: 16 | R32: 17 | S32: 18 | T32: 19 | U32: 20 | V32: 21 | W32: 22 | X32: 23 | Y32: 24 | Z32: 25 | AA32: 26 | AB32: 27 | AC32: 28 | AD32: 29 | AE32: 30 | AF32: No.
A33: 23 | B33: Ian Stark | I33: 1 | J33: Stark | P33: 1 | Q33: Ian | W33: 1 | AD33: 1 | AE33: 147 paid | AF33: 23
A34: 23a | B34: Victor Buckley | AF34: 23a | AG34: TODAY IS
A35: 24 | B35: Shelton | J35: Shelton back | Q35: Matt | AA35: Rally - Roy & Margaret Martin | AF35: 24 | AG35: =TODAY() -> 45692
A36: 25 | B36: Irvine | D36: Higgins | H36: Harrison | I36: Watts | P36: Joanne | U36: Dabek | Z36: Hudson | AC36: Lyne | AF36: 25
A37: 26 | B37: Middleton | F37: Paul | M37: Middleton | T37: Middleton | AA37: Middleton - £170 paid | AF37: 26
A38: 27 | E38: John Talbot | J38: 1 | K38: John Talbot | Q38: 1 | R38: Talbot | X38: 1 | AE38: 2 | AF38: 27
A39: 28 | B39: Clegg cont | D39: Johnston | E39: Gould | G39: Soul | J39: Cameron | K39: Stephenson | L39: Winfield | O39: Oxlade | S39: Allen | Z39: Clifton | AB39: Rally/Parker | AF39: 28
A40: 29 | B40: Tom Craig | H40: 2 | I40: Tom Keep | O40: 1 | P40: Tom Craig | V40: 2 | W40: Tom Keep £147 | AC40: 1 | AD40: 175 | AF40: 29 | AG40: NO DOGS
...

Sheet Dec 2014
A1: BACK-UP 31 Dec 1610 | AH1: Not here
I2: OFF PEAK | R2: OFF PEAK | Y2: P E A K | AD2: P E A K | AH2: Tent
A3: Pitch | B3: Mon | C3: Tue | D3: Wed | E3: Thu | F3: Fri | G3: Sat | H3: Sun | I3: Mon | J3: Tue | K3: Wed | L3: Thu | M3: Fri | N3: Sat | O3: Sun | P3: Mon | Q3: Tue | R3: Wed | S3: Thu | T3: Fri | U3: Sat | V3: Sun | W3: Mon | X3: Tue | Y3: Wed | Z3: Thu | AA3: Fri | AB3: Sat | AC3: Sun | AD3: Mon | AE3: Tue | AF3: Wed | AG3: Pitch | AH3: Trailer tent
A4: No. | B4: 1 | C4: 2 | D4: 3 | E4: 4 | F4: 5 | G4: 6 | H4: 7 | I4: 8 | J4: 9 | K4: 10 | L4: 11 | M4: 12 | N4: 13 | O4: 14 | P4: 15 | Q4: 16 | R4: 17 | S4: 18 | T4: 19 | U4: 20 | V4: 21 | W4: 22 | X4: 23 | Y4: 24 | Z4: 25 | AA4: 26 | AB4: 27 | AC4: 28 | AD4: 29 | AE4: 30 | AF4: 31 | AG4: No. | AH4: Caravan
A5: 1 | B5: Harris | G5: Mac | I5: Hitchen | M5: Hartnoll | AA5: Kelland | AG5: 1 | AH5: Camper van
A6: 1a | H6: Fear | AG6: 1a | AH6: Motorhome
A7: 2 | O7: Pye | AG7: 2 | AH7: NO DOGS
A8: 3 | P8: Jaskolka | AG8: 3 | AH8: NO DOGS
A9: 4 | AG9: 4 | AH9: NO DOGS
A10: 5 | AG10: 5 | AH10: NO DOGS
A11: 6 | T11: Bilson | AG11: 6 | AH11: NO DOGS
A12: 7 | AG12: 7 | AH12: NO DOGS
A13: 8 | B13: Collett | C13: Stroud | F13: Fernandez | G13: Judd | I13: Ketley | L13: Mansell | N13: Bryce | U13: Watts | Y13: Roberts | AC13: Ward - do not move | AG13: 8
A14: 9 | E14: Korczakowski | I14: Paddock | M14: Bilson | AA14: Bilson Knows pitch and code | AF14: Mason | AG14: 9
A15: 10 | B15: Marriott cont | F15: Baker | I15: Franks | AG15: 10
A16: 11 | B16: Davis cont | X16: Roe with Stewart | AE16: Keel - with Baker pl 20 | AG16: 11
A17: 12 | F17: Wanklyn | I17: Sears | X17: Stewart with Roe | AD17: Love | AG17: 12
A18: 13 | AG18: 13 | AH18: RV
A19: 14 | B19: Carrie Litchfield | H19: 1 | O19: 2 | V19: 3 | AC19: 4 | AG19: 14 | AH19: Free night
A20: 15 | AG20: 15 | AH20: Poss Extra / late stay
A21: 16 | AG21: 16 | AH21: Hard Standing
A22: 16a | AG22: 16a | AH22: Not in use
A23: 17 | AG23: 17 | AH23: late stay
A24: 17a | AG24: 17a | AH24: Refund
A25: 18 | AG25: 18 | AH25: Cancelled
A26: 18a | B26: NO ELECTRIC - - - - - - - - - - - - - - - - - - - - - - - - - - - - - - - - - | T26: NO ELECTRIC - - - - - - - - - - - - - - - - - - - - - - - - - - - - - - - - - | AG26: 18a
A27: 19 | F27: Goddard | I27: Ketley | N27: Blunt | P27: Sammels | Q27: Buckley | V27: Sue Noyes - do not move | AG27: 19
A28: 20 | C28: Green | S28: Carr | AC28: Tanya Baker -do not move | AG28: 20 | AH28: =ALERTS!E51 -> 0
A29: 21 | C29: Marks | F29: Cross | H29: Smith | W29: Richmond | AD29: Simpson - do not move | AG29: 21 | AH29: =ALERTS!E52 -> 0
A30: 22 | B30: Duty | D30: Duty | F30: Duty | H30: Duty | L30: Duty | N30: Duty | P30: Duty | R30: Duty | T30: Duty | V30: Duty | AB30: Duty | AD30: Duty | AF30: Duty | AG30: 22 | AH30: =ALERTS!E53 -> 0
A31: Pitch | B31: =B3 -> Mon | C31: =C3 -> Tue | D31: =D3 -> Wed | E31: =E3 -> Thu | F31: =F3 -> Fri | G31: =G3 -> Sat | H31: =H3 -> Sun | I31: =I3 -> Mon | ... AF31: =AF3 -> Wed | AG31: Pitch
