Workbook
Name car: #REF!
Name car: #REF!
Name car: #REF!
Name car: #REF!
Name car: #REF!
Name car: #REF!
Name car: #REF!
Name car: #REF!
Name car: #REF!
Name car: #REF!
Name car: #REF!
Name car: #REF!
Name car: #REF!
Name car: #REF!
Name car: #REF!
Name car: #REF!
Name car: #REF!
Name car: #REF!
Name car: #REF!
Name car: #REF!
Name car: #REF!
Name car: #REF!
Name coach: #REF!
Name coach: #REF!
Name coach: #REF!
Name coach: #REF!
Name coach: #REF!
Name coach: #REF!
Name coach: #REF!
Name coach: #REF!
Name coach: #REF!
Name coach: #REF!
Name coach: #REF!
Name coach: #REF!
Name coach: #REF!
Name coach: #REF!
Name coach: #REF!
Name coach: #REF!
Name coach: #REF!
Name coach: #REF!
Name coach: #REF!
Name coach: #REF!
Name coach: #REF!
Name coach: #REF!
Name lgv: #REF!
Name lgv: #REF!
Name lgv: #REF!
Name lgv: #REF!
Name lgv: #REF!
Name lgv: #REF!
Name lgv: #REF!
Name lgv: #REF!
Name lgv: #REF!
Name lgv: #REF!
Name lgv: #REF!
Name lgv: #REF!
Name lgv: #REF!
Name lgv: #REF!
Name lgv: #REF!
Name lgv: #REF!

Sheet Site 4 Diagram
D36: Site / Location: | F36: Site 4,Stoneham Interchange | M36: Project No: | N36: 16367 | O36: Drawing No: | Q36: 16367-03 | S36: Drawn By: | T36: BVR
D38: Survey Date: | F38: Thursday 13th February 2025 | M38: Project Name: | O38: SOUTHAMPTON
D40: Survey Times: | F40: 07:00 to 10:00 & 16:00 to 19:00 | M40: Drawing Title: | O40: Site Layout and Observed Movements

Sheet Arm A Lane 2
C1: Site | D1: ='Site 4 Diagram'!$F$36:$F$36 -> Site 4,Stoneham Interchange | J1: Class | L1: PCL | M1: MCL | N1: CAR | O1: LGV | P1: OGV1 | Q1: OGV2 | R1: PSV | V1: Day | W1: ='Site 4 Diagram'!$F$38:$F$38 -> Thursday 13th February 2025
C2: Stop Line | D2: =MID(CELL("filename",A1),FIND("]",CELL("filename",A1))+1,256) -> #VALUE! | J2: PCU value | L2: 0.2 | M2: 0.4 | N2: 1 | O2: 1 | P2: 1.5 | Q2: 2.3 | R2: 2 | V2: Time Period | W2: AM
L3: Firast Flow | AF3: Second Flow | AZ3: Third Flow | BT3: Fourth Flow
B4: Queue | J4: Green On | L4: Low Demand (Unsaturated) | T4: High Demand (Saturated) | AF4: Low Demand (Unsaturated) | AN4: High Demand (Saturated) | AZ4: Low Demand (Unsaturated) | BH4: High Demand (Saturated) | BT4: Low Demand (Unsaturated) | CC4: Flare Storage | CL4: Red On | CM4: Next Green On | CN4: High Demand at: | CQ4: 0.00013888889 | CR4: 7 | CS4: Sat Flow (PCU/hr) | CU4: Flare Storage (PCU) | CV4: High Demand (PCU) | CW4: Duration of HD (seconds) | CX4: Status of HD | CY4: Low Demand (PCU) | CZ4: Green & Amber (seconds) | DA4: Total Flow (PCU) | DB4: Underutilised Green Time [UGT] (S) | DC4: Degree of Saturation [DoS] (%)
B5: =$L$1 -> PCL | C5: =$M$1 -> MCL | D5: =$N$1 -> CAR | E5: =$O$1 -> LGV | F5: =$P$1 -> OGV1 | G5: =$Q$1 -> OGV2 | H5: =$R$1 -> PSV | I5: Total PCU's | L5: =$L$1 -> PCL | M5: =$M$1 -> MCL | N5: =$N$1 -> CAR | O5: =$O$1 -> LGV | P5: =$P$1 -> OGV1 | Q5: =$Q$1 -> OGV2 | R5: =$R$1 -> PSV | S5: Total PCU's | T5: Start of #1 HD | U5: =$L$1 -> PCL | V5: =$M$1 -> MCL | W5: =$N$1 -> CAR | X5: =$O$1 -> LGV | Y5: =$P$1 -> OGV1 | Z5: =$Q$1 -> OGV2 | AA5: =$R$1 -> PSV | AB5: Total PCU's | AC5: End of #1 HD | AD5: Duration of #1 HD flow | AF5: =$L$1 -> PCL | AG5: =$M$1 -> MCL | AH5: =$N$1 -> CAR | AI5: =$O$1 -> LGV | AJ5: =$P$1 -> OGV1 | AK5: =$Q$1 -> OGV2 | AL5: =$R$1 -> PSV | AM5: Total PCU's | AN5: Start of #2 HD | AO5: =$L$1 -> PCL | AP5: =$M$1 -> MCL | AQ5: =$N$1 -> CAR | AR5: =$O$1 -> LGV | AS5: =$P$1 -> OGV1 | AT5: =$Q$1 -> OGV2 | AU5: =$R$1 -> PSV | AV5: Total PCU's | AW5: End of #2 HD | AX5: Duration of #2 HD flow | AZ5: =$L$1 -> PCL | BA5: =$M$1 -> MCL | BB5: =$N$1 -> CAR | BC5: =$O$1 -> LGV | BD5: =$P$1 -> OGV1 | BE5: =$Q$1 -> OGV2 | BF5: =$R$1 -> PSV | BG5: Total PCU's | BH5: Start of #3 HD | BI5: =$L$1 -> PCL | BJ5: =$M$1 -> MCL | BK5: =$N$1 -> CAR | BL5: =$O$1 -> LGV | BM5: =$P$1 -> OGV1 | BN5: =$Q$1 -> OGV2 | BO5: =$R$1 -> PSV | BP5: Total PCU's | BQ5: End of #3 HD | BR5: Duration of #3 HD flow | BT5: =$L$1 -> PCL | BU5: =$M$1 -> MCL | BV5: =$N$1 -> CAR | BW5: =$O$1 -> LGV | BX5: =$P$1 -> OGV1 | BY5: =$Q$1 -> OGV2 | BZ5: =$R$1 -> PSV | CA5: Total PCU's | CC5: =$L$1 -> PCL | CD5: =$M$1 -> MCL | CE5: =$N$1 -> CAR | CF5: =$O$1 -> LGV | CG5: =$P$1 -> OGV1 | CH5: =$Q$1 -> OGV2 | CI5: =$R$1 -> PSV | CJ5: Total PCU's | CN5: Start of Green | CO5: End of Amber | CP5: Blocked Junction | CQ5: First flow duration | CR5: Suitable? | DD5: Lost Time (Lt) | DE5: Normal Green [Gn] (S) | DF5: Cycle Time (S) | DG5: Actual Green Time (S) | DH5: 1 | DI5: 2 | DJ5: 3 | DK5: 4 | DL5: UGT | DM5: Dos | DN5: HD /G&A | DO5: Queue >Flow
A6: 1 | D6: 10 | E6: 3 | G6: 1 | I6: =IF($J6="","-",B6*$L$2+C6*$M$2+D6*$N$2+E6*$O$2+F6*$P$2+G6*$Q$2+H6*$R$2) -> 15.3 | J6: 0.33621528 | S6: =IF($J6="","-",L6*$L$2+M6*$M$2+N6*$N$2+O6*$O$2+P6*$P$2+Q6*$Q$2+R6*$R$2) -> 0 | T6: 0.33623843 | W6: 6 | X6: 1 | AB6: =IF($J6="","-",U6*$L$2+V6*$M$2+W6*$N$2+X6*$O$2+Y6*$P$2+Z6*$Q$2+AA6*$R$2) -> 7 | AC6: 0.33637731 | AD6: =IF($J6="","-",AC6-T6) -> 0.00013888889 | AM6: =IF($J6="","-",AF6*$L$2+AG6*$M$2+AH6*$N$2+AI6*$O$2+AJ6*$P$2+AK6*$Q$2+AL6*$R$2) -> 0 | AV6: =IF($J6="","-",AO6*$L$2+AP6*$M$2+AQ6*$N$2+AR6*$O$2+AS6*$P$2+AT6*$Q$2+AU6*$R$2) -> 0 | AX6: =IF($J6="","-",AW6-AN6) -> 0 | BG6: =IF($J6="","-",AZ6*$L$2+BA6*$M$2+BB6*$N$2+BC6*$O$2+BD6*$P$2+BE6*$Q$2+BF6*$R$2) -> 0 | BP6: =IF($J6="","-",BI6*$L$2+BJ6*$M$2+BK6*$N$2+BL6*$O$2+BM6*$P$2+BN6*$Q$2+BO6*$R$2) -> 0 | BR6: =IF($J6="","-",BQ6-BH6) -> 0 | CA6: =IF($J6="","-",BT6*$L$2+BU6*$M$2+BV6*$N$2+BW6*$O$2+BX6*$P$2+BY6*$Q$2+BZ6*$R$2) -> 0 | CJ6: =IF($J6="","-",CC6*$L$2+CD6*$M$2+CE6*$N$2+CF6*$O$2+CG6*$P$2+CH6*$Q$2+CI6*$R$2) -> 0 | CL6: 0.33640046 | CM6: 0.33717593 | CN6: =IF($J6="","-",IF(AND(AB6>0,S6=0),"Y","N")) -> Y | CO6: Y | CP6: N | CQ6: =IF($J6="","-",IF(AC6=0,0,AC6-J6)) -> 0.00016203704 | CR6: =IF($J6="","-",IF(AND(I6>=CR$4,CQ6>=CQ$4,CP6="N",S6=0),"Yes","No")) -> Yes | CS6: =IF($J6="","",IF(S6>0,0,IF(AD6=0,0,AB6/(AD6*24)))) -> 2100 | CU6: =IF(J6="","-",CJ6) -> 0 | CV6: =IF($J6="","-",AB6+AV6+BP6) -> 7 | CW6: =IF($J6="","-",(AD6+AX6+BR6)*86400) -> 12 | CX6: =IF($J6="","-",IF(CP6="Y",2,IF(AND(CN6="y",CO6="y"),2,IF(AND(CN6="y",CO6="n"),1,IF(AND(CN6="n",CO6="y"),3,IF(AND(CN6="n",CO6="n"),4,"error")))))) -> 2 | CY6: =IF($J6="","-",S6+AM6+BG6+CA6) -> 0 | CZ6: =IF($J6="","-",(CL6-J6)*86400) -> 16 | DA6: =IF($J6="","-",CV6+CY6+CU6) -> 7 | DB6: =IF($J6="","-",IF(CW6=0,0,CW6-DD6-DE6)) -> -1.1046665 | DC6: =IF($J6="", "-", IF(AND(CV6=0, CX6=2), 1, IFERROR((DA6*3600)/(IFERROR(CZ6-DB6-2,CZ6-2)*$CS$56+CU6*3600),0))) -> 0.73518118 | DD6: =IF($J6="","-",IF(OR(CX6=1,CX6=3),1,IF(CX6=2,2,IF(CX6=4,0,0)))) -> 2 | DE6: =IF($J6="","-",IFERROR((3600*CV6/$CS$56),0)) -> 11.104666 | DF6: =IF(J6="","-",(CM6-J6)*86400) -> 83 | DG6: =IF($J6="","-",(CL6-J6-(3/86400))*86400) -> 13 | DH6: =IF($J6="","-",IF($CW6=0,0, $CW6-IFERROR(3600*$CV6/$CS$56,0)-1)) -> -0.10466649 | DI6: =IF($J6="","-",IF($CW6=0,0, $CW6-IFERROR(3600*$CV6/$CS$56,0)-2)) -> -1.1046665 | DJ6: =IF($J6="","-",IF($CW6=0,0, $CW6-IFERROR(3600*$CV6/$CS$56,0)-1)) -> -0.10466649 | DK6: =IF($J6="","-",IF($CW6=0,0, $CW6-IFERROR(3600*$CV6/$CS$56,0))) -> 0.89533351 | DL6: =IF($J6="","-",HLOOKUP(CX6,$DH$5:$DK$55,A6+1, FALSE)) -> -1.1046665 | DM6: =IF($J6="","-",IFERROR(IF(CU6=0,((DA6*(3600/DF6))/($CS$56*((DG6-DB6+1)/DF6))),((DA6*(3600/DF6))/(($CS$56*(((DG6-DB6+1)/DF6)))+((CU6*3600)/DF6)))),0)) -> 0.73518118 | DN6: =IF($J6="","-",CW6/CZ6) -> 0.75 | DO6: =IF(AND(I6>DA6,CP6<>"Y"),"Blocked?","OK") -> Blocked? | DP6: 1 | DQ6: High demand at start of green
A7: 2 | D7: 12 | E7: 1 | G7: 1 | I7: =IF($J7="","-",B7*$L$2+C7*$M$2+D7*$N$2+E7*$O$2+F7*$P$2+G7*$Q$2+H7*$R$2) -> 15.3 | J7: 0.33717593 | S7: =IF($J7="","-",L7*$L$2+M7*$M$2+N7*$N$2+O7*$O$2+P7*$P$2+Q7*$Q$2+R7*$R$2) -> 0 | T7: 0.33719907 | W7: 7 | Z7: 1 | AB7: =IF($J7="","-",U7*$L$2+V7*$M$2+W7*$N$2+X7*$O$2+Y7*$P$2+Z7*$Q$2+AA7*$R$2) -> 9.3 | AC7: 0.33736111 | AD7: =IF($J7="","-",AC7-T7) -> 0.00016203704 | AM7: =IF($J7="","-",AF7*$L$2+AG7*$M$2+AH7*$N$2+AI7*$O$2+AJ7*$P$2+AK7*$Q$2+AL7*$R$2) -> 0 | AV7: =IF($J7="","-",AO7*$L$2+AP7*$M$2+AQ7*$N$2+AR7*$O$2+AS7*$P$2+AT7*$Q$2+AU7*$R$2) -> 0 | AX7: =IF($J7="","-",AW7-AN7) -> 0 | BG7: =IF($J7="","-",AZ7*$L$2+BA7*$M$2+BB7*$N$2+BC7*$O$2+BD7*$P$2+BE7*$Q$2+BF7*$R$2) -> 0 | BP7: =IF($J7="","-",BI7*$L$2+BJ7*$M$2+BK7*$N$2+BL7*$O$2+BM7*$P$2+BN7*$Q$2+BO7*$R$2) -> 0 | BR7: =IF($J7="","-",BQ7-BH7) -> 0 | CA7: =IF($J7="","-",BT7*$L$2+BU7*$M$2+BV7*$N$2+BW7*$O$2+BX7*$P$2+BY7*$Q$2+BZ7*$R$2) -> 0 | CJ7: =IF($J7="","-",CC7*$L$2+CD7*$M$2+CE7*$N$2+CF7*$O$2+CG7*$P$2+CH7*$Q$2+CI7*$R$2) -> 0 | CL7: 0.33737269 | CM7: 0.33810185 | CN7: =IF($J7="","-",IF(AND(AB7>0,S7=0),"Y","N")) -> Y | CO7: Y | CP7: N | CQ7: =IF($J7="","-",IF(AC7=0,0,AC7-J7)) -> 0.00018518519 | CR7: =IF($J7="","-",IF(AND(I7>=CR$4,CQ7>=CQ$4,CP7="N",S7=0),"Yes","No")) -> Yes | CS7: =IF($J7="","",IF(S7>0,0,IF(AD7=0,0,AB7/(AD7*24)))) -> 2391.4286 | CU7: =IF(J7="","-",CJ7) -> 0 | CV7: =IF($J7="","-",AB7+AV7+BP7) -> 9.3 | CW7: =IF($J7="","-",(AD7+AX7+BR7)*86400) -> 14 | CX7: =IF($J7="","-",IF(CP7="Y",2,IF(AND(CN7="y",CO7="y"),2,IF(AND(CN7="y",CO7="n"),1,IF(AND(CN7="n",CO7="y"),3,IF(AND(CN7="n",CO7="n"),4,"error")))))) -> 2 | CY7: =IF($J7="","-",S7+AM7+BG7+CA7) -> 0 | CZ7: =IF($J7="","-",(CL7-J7)*86400) -> 17 | DA7: =IF($J7="","-",CV7+CY7+CU7) -> 9.3 | DB7: =IF($J7="","-",IF(CW7=0,0,CW7-DD7-DE7)) -> -2.7533426 | DC7: =IF($J7="", "-", IF(AND(CV7=0, CX7=2), 1, IFERROR((DA7*3600)/(IFERROR(CZ7-DB7-2,CZ7-2)*$CS$56+CU7*3600),0))) -> 0.83101774 | DD7: =IF($J7="","-",IF(OR(CX7=1,CX7=3),1,IF(CX7=2,2,IF(CX7=4,0,0)))) -> 2 | DE7: =IF($J7="","-",IFERROR((3600*CV7/$CS$56),0)) -> 14.753343 | DF7: =IF(J7="","-",(CM7-J7)*86400) -> 80 | DG7: =IF($J7="","-",(CL7-J7-(3/86400))*86400) -> 14 | DH7: =IF($J7="","-",IF($CW7=0,0, $CW7-IFERROR(3600*$CV7/$CS$56,0)-1)) -> -1.7533426 | DI7: =IF($J7="","-",IF($CW7=0,0, $CW7-IFERROR(3600*$CV7/$CS$56,0)-2)) -> -2.7533426 | DJ7: =IF($J7="","-",IF($CW7=0,0, $CW7-IFERROR(3600*$CV7/$CS$56,0)-1)) -> -1.7533426 | DK7: =IF($J7="","-",IF($CW7=0,0, $CW7-IFERROR(3600*$CV7/$CS$56,0))) -> -0.75334262 | DL7: =IF($J7="","-",HLOOKUP(CX7,$DH$5:$DK$55,A7+1, FALSE)) -> -2.7533426 | DM7: =IF($J7="","-",IFERROR(IF(CU7=0,((DA7*(3600/DF7))/($CS$56*((DG7-DB7+1)/DF7))),((DA7*(3600/DF7))/(($CS$56*(((DG7-DB7+1)/DF7)))+((CU7*3600)/DF7)))),0)) -> 0.83101774 | DN7: =IF($J7="","-",CW7/CZ7) -> 0.82352941 | DO7: =IF(AND(I7>DA7,CP7<>"Y"),"Blocked?","OK") -> Blocked? | DP7: 2 | DQ7: High demand at start of green and end of amber
A8: 3 | D8: 13 | E8: 2 | I8: =IF($J8="","-",B8*$L$2+C8*$M$2+D8*$N$2+E8*$O$2+F8*$P$2+G8*$Q$2+H8*$R$2) -> 15 | J8: 0.33991898 | S8: =IF($J8="","-",L8*$L$2+M8*$M$2+N8*$N$2+O8*$O$2+P8*$P$2+Q8*$Q$2+R8*$R$2) -> 0 | T8: 0.33993056 | W8: 6 | X8: 1 | AB8: =IF($J8="","-",U8*$L$2+V8*$M$2+W8*$N$2+X8*$O$2+Y8*$P$2+Z8*$Q$2+AA8*$R$2) -> 7 | AC8: 0.34005787 | AD8: =IF($J8="","-",AC8-T8) -> 0.00012731481 | AM8: =IF($J8="","-",AF8*$L$2+AG8*$M$2+AH8*$N$2+AI8*$O$2+AJ8*$P$2+AK8*$Q$2+AL8*$R$2) -> 0 | AV8: =IF($J8="","-",AO8*$L$2+AP8*$M$2+AQ8*$N$2+AR8*$O$2+AS8*$P$2+AT8*$Q$2+AU8*$R$2) -> 0 | AX8: =IF($J8="","-",AW8-AN8) -> 0 | BG8: =IF($J8="","-",AZ8*$L$2+BA8*$M$2+BB8*$N$2+BC8*$O$2+BD8*$P$2+BE8*$Q$2+BF8*$R$2) -> 0 | BP8: =IF($J8="","-",BI8*$L$2+BJ8*$M$2+BK8*$N$2+BL8*$O$2+BM8*$P$2+BN8*$Q$2+BO8*$R$2) -> 0 | BR8: =IF($J8="","-",BQ8-BH8) -> 0 | CA8: =IF($J8="","-",BT8*$L$2+BU8*$M$2+BV8*$N$2+BW8*$O$2+BX8*$P$2+BY8*$Q$2+BZ8*$R$2) -> 0 | CJ8: =IF($J8="","-",CC8*$L$2+CD8*$M$2+CE8*$N$2+CF8*$O$2+CG8*$P$2+CH8*$Q$2+CI8*$R$2) -> 0 | CL8: 0.34006944 | CM8: 0.34079861 | CN8: =IF($J8="","-",IF(AND(AB8>0,S8=0),"Y","N")) -> Y | CO8: Y | CP8: N | CQ8: =IF($J8="","-",IF(AC8=0,0,AC8-J8)) -> 0.00013888889 | CR8: =IF($J8="","-",IF(AND(I8>=CR$4,CQ8>=CQ$4,CP8="N",S8=0),"Yes","No")) -> No | CS8: =IF($J8="","",IF(S8>0,0,IF(AD8=0,0,AB8/(AD8*24)))) -> 2290.9091 | CU8: =IF(J8="","-",CJ8) -> 0 | CV8: =IF($J8="","-",AB8+AV8+BP8) -> 7 | CW8: =IF($J8="","-",(AD8+AX8+BR8)*86400) -> 11 | CX8: =IF($J8="","-",IF(CP8="Y",2,IF(AND(CN8="y",CO8="y"),2,IF(AND(CN8="y",CO8="n"),1,IF(AND(CN8="n",CO8="y"),3,IF(AND(CN8="n",CO8="n"),4,"error")))))) -> 2 | CY8: =IF($J8="","-",S8+AM8+BG8+CA8) -> 0 | CZ8: =IF($J8="","-",(CL8-J8)*86400) -> 13 | DA8: =IF($J8="","-",CV8+CY8+CU8) -> 7 | DB8: =IF($J8="","-",IF(CW8=0,0,CW8-DD8-DE8)) -> -2.1046665 | DC8: =IF($J8="", "-", IF(AND(CV8=0, CX8=2), 1, IFERROR((DA8*3600)/(IFERROR(CZ8-DB8-2,CZ8-2)*$CS$56+CU8*3600),0))) -> 0.84738261 | DD8: =IF($J8="","-",IF(OR(CX8=1,CX8=3),1,IF(CX8=2,2,IF(CX8=4,0,0)))) -> 2 | DE8: =IF($J8="","-",IFERROR((3600*CV8/$CS$56),0)) -> 11.104666 | DF8: =IF(J8="","-",(CM8-J8)*86400) -> 76 | DG8: =IF($J8="","-",(CL8-J8-(3/86400))*86400) -> 10 | DH8: =IF($J8="","-",IF($CW8=0,0, $CW8-IFERROR(3600*$CV8/$CS$56,0)-1)) -> -1.1046665 | DI8: =IF($J8="","-",IF($CW8=0,0, $CW8-IFERROR(3600*$CV8/$CS$56,0)-2)) -> -2.1046665 | DJ8: =IF($J8="","-",IF($CW8=0,0, $CW8-IFERROR(3600*$CV8/$CS$56,0)-1)) -> -1.1046665 | DK8: =IF($J8="","-",IF($CW8=0,0, $CW8-IFERROR(3600*$CV8/$CS$56,0))) -> -0.10466649 | DL8: =IF($J8="","-",HLOOKUP(CX8,$DH$5:$DK$55,A8+1, FALSE)) -> -2.1046665 | DM8: =IF($J8="","-",IFERROR(IF(CU8=0,((DA8*(3600/DF8))/($CS$56*((DG8-DB8+1)/DF8))),((DA8*(3600/DF8))/(($CS$56*(((DG8-DB8+1)/DF8)))+((CU8*3600)/DF8)))),0)) -> 0.84738261 | DN8: =IF($J8="","-",CW8/CZ8) -> 0.84615385 | DO8: =IF(AND(I8>DA8,CP8<>"Y"),"Blocked?","OK") -> Blocked? | DP8: 3 | DQ8: High demand at end of amber but not start of green
A9: 4 | D9: 13 | I9: =IF($J9="","-",B9*$L$2+C9*$M$2+D9*$N$2+E9*$O$2+F9*$P$2+G9*$Q$2+H9*$R$2) -> 13 | J9: 0.34175926 | S9: =IF($J9="","-",L9*$L$2+M9*$M$2+N9*$N$2+O9*$O$2+P9*$P$2+Q9*$Q$2+R9*$R$2) -> 0 | T9: 0.34177083 | W9: 8 | AB9: =IF($J9="","-",U9*$L$2+V9*$M$2+W9*$N$2+X9*$O$2+Y9*$P$2+Z9*$Q$2+AA9*$R$2) -> 8 | AC9: 0.34190972 | AD9: =IF($J9="","-",AC9-T9) -> 0.00013888889 | AM9: =IF($J9="","-",AF9*$L$2+AG9*$M$2+AH9*$N$2+AI9*$O$2+AJ9*$P$2+AK9*$Q$2+AL9*$R$2) -> 0 | AV9: =IF($J9="","-",AO9*$L$2+AP9*$M$2+AQ9*$N$2+AR9*$O$2+AS9*$P$2+AT9*$Q$2+AU9*$R$2) -> 0 | AX9: =IF($J9="","-",AW9-AN9) -> 0 | BG9: =IF($J9="","-",AZ9*$L$2+BA9*$M$2+BB9*$N$2+BC9*$O$2+BD9*$P$2+BE9*$Q$2+BF9*$R$2) -> 0 | BP9: =IF($J9="","-",BI9*$L$2+BJ9*$M$2+BK9*$N$2+BL9*$O$2+BM9*$P$2+BN9*$Q$2+BO9*$R$2) -> 0 | BR9: =IF($J9="","-",BQ9-BH9) -> 0 | CA9: =IF($J9="","-",BT9*$L$2+BU9*$M$2+BV9*$N$2+BW9*$O$2+BX9*$P$2+BY9*$Q$2+BZ9*$R$2) -> 0 | CJ9: =IF($J9="","-",CC9*$L$2+CD9*$M$2+CE9*$N$2+CF9*$O$2+CG9*$P$2+CH9*$Q$2+CI9*$R$2) -> 0 | CL9: 0.3419213 | CM9: 0.34261574 | CN9: =IF($J9="","-",IF(AND(AB9>0,S9=0),"Y","N")) -> Y | CO9: Y | CP9: N | CQ9: =IF($J9="","-",IF(AC9=0,0,AC9-J9)) -> 0.00015046296 | CR9: =IF($J9="","-",IF(AND(I9>=CR$4,CQ9>=CQ$4,CP9="N",S9=0),"Yes","No")) -> Yes | CS9: =IF($J9="","",IF(S9>0,0,IF(AD9=0,0,AB9/(AD9*24)))) -> 2400 | CU9: =IF(J9="","-",CJ9) -> 0 | CV9: =IF($J9="","-",AB9+AV9+BP9) -> 8 | CW9: =IF($J9="","-",(AD9+AX9+BR9)*86400) -> 12 | CX9: =IF($J9="","-",IF(CP9="Y",2,IF(AND(CN9="y",CO9="y"),2,IF(AND(CN9="y",CO9="n"),1,IF(AND(CN9="n",CO9="y"),3,IF(AND(CN9="n",CO9="n"),4,"error")))))) -> 2 | CY9: =IF($J9="","-",S9+AM9+BG9+CA9) -> 0 | CZ9: =IF($J9="","-",(CL9-J9)*86400) -> 14 | DA9: =IF($J9="","-",CV9+CY9+CU9) -> 8 | DB9: =IF($J9="","-",IF(CW9=0,0,CW9-DD9-DE9)) -> -2.6910474 | DC9: =IF($J9="", "-", IF(AND(CV9=0, CX9=2), 1, IFERROR((DA9*3600)/(IFERROR(CZ9-DB9-2,CZ9-2)*$CS$56+CU9*3600),0))) -> 0.86386267 | DD9: =IF($J9="","-",IF(OR(CX9=1,CX9=3),1,IF(CX9=2,2,IF(CX9=4,0,0)))) -> 2 | DE9: =IF($J9="","-",IFERROR((3600*CV9/$CS$56),0)) -> 12.691047 | DF9: =IF(J9="","-",(CM9-J9)*86400) -> 74 | DG9: =IF($J9="","-",(CL9-J9-(3/86400))*86400) -> 11 | DH9: =IF($J9="","-",IF($CW9=0,0, $CW9-IFERROR(3600*$CV9/$CS$56,0)-1)) -> -1.6910474 | DI9: =IF($J9="","-",IF($CW9=0,0, $CW9-IFERROR(3600*$CV9/$CS$56,0)-2)) -> -2.6910474 | DJ9: =IF($J9="","-",IF($CW9=0,0, $CW9-IFERROR(3600*$CV9/$CS$56,0)-1)) -> -1.6910474 | DK9: =IF($J9="","-",IF($CW9=0,0, $CW9-IFERROR(3600*$CV9/$CS$56,0))) -> -0.69104742 | DL9: =IF($J9="","-",HLOOKUP(CX9,$DH$5:$DK$55,A9+1, FALSE)) -> -2.6910474 | DM9: =IF($J9="","-",IFERROR(IF(CU9=0,((DA9*(3600/DF9))/($CS$56*((DG9-DB9+1)/DF9))),((DA9*(3600/DF9))/(($CS$56*(((DG9-DB9+1)/DF9)))+((CU9*3600)/DF9)))),0)) -> 0.86386267 | DN9: =IF($J9="","-",CW9/CZ9) -> 0.85714286 | DO9: =IF(AND(I9>DA9,CP9<>"Y"),"Blocked?","OK") -> Blocked? | DP9: 4 | DQ9: No high demand at start of green or end of amber
A10: 5 | D10: 11 | I10: =IF($J10="","-",B10*$L$2+C10*$M$2+D10*$N$2+E10*$O$2+F10*$P$2+G10*$Q$2+H10*$R$2) -> 11 | J10: 0.34261574 | S10: =IF($J10="","-",L10*$L$2+M10*$M$2+N10*$N$2+O10*$O$2+P10*$P$2+Q10*$Q$2+R10*$R$2) -> 0 | T10: 0.34262731 | W10: 11 | AB10: =IF($J10="","-",U10*$L$2+V10*$M$2+W10*$N$2+X10*$O$2+Y10*$P$2+Z10*$Q$2+AA10*$R$2) -> 11 | AC10: 0.34283565 | AD10: =IF($J10="","-",AC10-T10) -> 0.00020833333 | AM10: =IF($J10="","-",AF10*$L$2+AG10*$M$2+AH10*$N$2+AI10*$O$2+AJ10*$P$2+AK10*$Q$2+AL10*$R$2) -> 0 | AV10: =IF($J10="","-",AO10*$L$2+AP10*$M$2+AQ10*$N$2+AR10*$O$2+AS10*$P$2+AT10*$Q$2+AU10*$R$2) -> 0 | AX10: =IF($J10="","-",AW10-AN10) -> 0 | BG10: =IF($J10="","-",AZ10*$L$2+BA10*$M$2+BB10*$N$2+BC10*$O$2+BD10*$P$2+BE10*$Q$2+BF10*$R$2) -> 0 | BP10: =IF($J10="","-",BI10*$L$2+BJ10*$M$2+BK10*$N$2+BL10*$O$2+BM10*$P$2+BN10*$Q$2+BO10*$R$2) -> 0 | BR10: =IF($J10="","-",BQ10-BH10) -> 0 | CA10: =IF($J10="","-",BT10*$L$2+BU10*$M$2+BV10*$N$2+BW10*$O$2+BX10*$P$2+BY10*$Q$2+BZ10*$R$2) -> 0 | CJ10: =IF($J10="","-",CC10*$L$2+CD10*$M$2+CE10*$N$2+CF10*$O$2+CG10*$P$2+CH10*$Q$2+CI10*$R$2) -> 0 | CL10: 0.3428588 | CM10: 0.34362269 | CN10: =IF($J10="","-",IF(AND(AB10>0,S10=0),"Y","N")) -> Y | CO10: Y | CP10: N | CQ10: =IF($J10="","-",IF(AC10=0,0,AC10-J10)) -> 0.00021990741 | CR10: =IF($J10="","-",IF(AND(I10>=CR$4,CQ10>=CQ$4,CP10="N",S10=0),"Yes","No")) -> Yes | CS10: =IF($J10="","",IF(S10>0,0,IF(AD10=0,0,AB10/(AD10*24)))) -> 2200 | CU10: =IF(J10="","-",CJ10) -> 0 | CV10: =IF($J10="","-",AB10+AV10+BP10) -> 11 | CW10: =IF($J10="","-",(AD10+AX10+BR10)*86400) -> 18 | CX10: =IF($J10="","-",IF(CP10="Y",2,IF(AND(CN10="y",CO10="y"),2,IF(AND(CN10="y",CO10="n"),1,IF(AND(CN10="n",CO10="y"),3,IF(AND(CN10="n",CO10="n"),4,"error")))))) -> 2 | CY10: =IF($J10="","-",S10+AM10+BG10+CA10) -> 0 | CZ10: =IF($J10="","-",(CL10-J10)*86400) -> 21 | DA10: =IF($J10="","-",CV10+CY10+CU10) -> 11 | DB10: =IF($J10="","-",IF(CW10=0,0,CW10-DD10-DE10)) -> -1.4501902 | DC10: =IF($J10="", "-", IF(AND(CV10=0, CX10=2), 1, IFERROR((DA10*3600)/(IFERROR(CZ10-DB10-2,CZ10-2)*$CS$56+CU10*3600),0))) -> 0.8533021 | DD10: =IF($J10="","-",IF(OR(CX10=1,CX10=3),1,IF(CX10=2,2,IF(CX10=4,0,0)))) -> 2 | DE10: =IF($J10="","-",IFERROR((3600*CV10/$CS$56),0)) -> 17.45019 | DF10: =IF(J10="","-",(CM10-J10)*86400) -> 87 | DG10: =IF($J10="","-",(CL10-J10-(3/86400))*86400) -> 18 | DH10: =IF($J10="","-",IF($CW10=0,0, $CW10-IFERROR(3600*$CV10/$CS$56,0)-1)) -> -0.4501902 | DI10: =IF($J10="","-",IF($CW10=0,0, $CW10-IFERROR(3600*$CV10/$CS$56,0)-2)) -> -1.4501902 | DJ10: =IF($J10="","-",IF($CW10=0,0, $CW10-IFERROR(3600*$CV10/$CS$56,0)-1)) -> -0.4501902 | DK10: =IF($J10="","-",IF($CW10=0,0, $CW10-IFERROR(3600*$CV10/$CS$56,0))) -> 0.5498098 | DL10: =IF($J10="","-",HLOOKUP(CX10,$DH$5:$DK$55,A10+1, FALSE)) -> -1.4501902 | DM10: =IF($J10="","-",IFERROR(IF(CU10=0,((DA10*(3600/DF10))/($CS$56*((DG10-DB10+1)/DF10))),((DA10*(3600/DF10))/(($CS$56*(((DG10-DB10+1)/DF10)))+((CU10*3600)/DF10)))),0)) -> 0.8533021 | DN10: =IF($J10="","-",CW10/CZ10) -> 0.85714286 | DO10: =IF(AND(I10>DA10,CP10<>"Y"),"Blocked?","OK") -> OK
A11: 6 | D11: 12 | H11: 1 | I11: =IF($J11="","-",B11*$L$2+C11*$M$2+D11*$N$2+E11*$O$2+F11*$P$2+G11*$Q$2+H11*$R$2) -> 14 | J11: 0.35269676 | S11: =IF($J11="","-",L11*$L$2+M11*$M$2+N11*$N$2+O11*$O$2+P11*$P$2+Q11*$Q$2+R11*$R$2) -> 0 | T11: 0.35271991 | W11: 13 | AA11: 1 | AB11: =IF($J11="","-",U11*$L$2+V11*$M$2+W11*$N$2+X11*$O$2+Y11*$P$2+Z11*$Q$2+AA11*$R$2) -> 15 | AC11: 0.35300926 | AD11: =IF($J11="","-",AC11-T11) -> 0.00028935185 | AM11: =IF($J11="","-",AF11*$L$2+AG11*$M$2+AH11*$N$2+AI11*$O$2+AJ11*$P$2+AK11*$Q$2+AL11*$R$2) -> 0 | AV11: =IF($J11="","-",AO11*$L$2+AP11*$M$2+AQ11*$N$2+AR11*$O$2+AS11*$P$2+AT11*$Q$2+AU11*$R$2) -> 0 | AX11: =IF($J11="","-",AW11-AN11) -> 0 | BG11: =IF($J11="","-",AZ11*$L$2+BA11*$M$2+BB11*$N$2+BC11*$O$2+BD11*$P$2+BE11*$Q$2+BF11*$R$2) -> 0 | BP11: =IF($J11="","-",BI11*$L$2+BJ11*$M$2+BK11*$N$2+BL11*$O$2+BM11*$P$2+BN11*$Q$2+BO11*$R$2) -> 0 | BR11: =IF($J11="","-",BQ11-BH11) -> 0 | CA11: =IF($J11="","-",BT11*$L$2+BU11*$M$2+BV11*$N$2+BW11*$O$2+BX11*$P$2+BY11*$Q$2+BZ11*$R$2) -> 0 | CJ11: =IF($J11="","-",CC11*$L$2+CD11*$M$2+CE11*$N$2+CF11*$O$2+CG11*$P$2+CH11*$Q$2+CI11*$R$2) -> 0 | CL11: 0.35303241 | CM11: 0.35366898 | CN11: =IF($J11="","-",IF(AND(AB11>0,S11=0),"Y","N")) -> Y | CO11: Y | CP11: N | CQ11: =IF($J11="","-",IF(AC11=0,0,AC11-J11)) -> 0.0003125 | CR11: =IF($J11="","-",IF(AND(I11>=CR$4,CQ11>=CQ$4,CP11="N",S11=0),"Yes","No")) -> Yes | CS11: =IF($J11="","",IF(S11>0,0,IF(AD11=0,0,AB11/(AD11*24)))) -> 2160 | CU11: =IF(J11="","-",CJ11) -> 0 | CV11: =IF($J11="","-",AB11+AV11+BP11) -> 15 | CW11: =IF($J11="","-",(AD11+AX11+BR11)*86400) -> 25 | CX11: =IF($J11="","-",IF(CP11="Y",2,IF(AND(CN11="y",CO11="y"),2,IF(AND(CN11="y",CO11="n"),1,IF(AND(CN11="n",CO11="y"),3,IF(AND(CN11="n",CO11="n"),4,"error")))))) -> 2 | CY11: =IF($J11="","-",S11+AM11+BG11+CA11) -> 0 | CZ11: =IF($J11="","-",(CL11-J11)*86400) -> 29 | DA11: =IF($J11="","-",CV11+CY11+CU11) -> 15 | DB11: =IF($J11="","-",IF(CW11=0,0,CW11-DD11-DE11)) -> -0.79571391 | DC11: =IF($J11="", "-", IF(AND(CV11=0, CX11=2), 1, IFERROR((DA11*3600)/(IFERROR(CZ11-DB11-2,CZ11-2)*$CS$56+CU11*3600),0))) -> 0.85609292 | DD11: =IF($J11="","-",IF(OR(CX11=1,CX11=3),1,IF(CX11=2,2,IF(CX11=4,0,0)))) -> 2 | DE11: =IF($J11="","-",IFERROR((3600*CV11/$CS$56),0)) -> 23.795714 | DF11: =IF(J11="","-",(CM11-J11)*86400) -> 84 | DG11: =IF($J11="","-",(CL11-J11-(3/86400))*86400) -> 26 | DH11: =IF($J11="","-",IF($CW11=0,0, $CW11-IFERROR(3600*$CV11/$CS$56,0)-1)) -> 0.20428609 | DI11: =IF($J11="","-",IF($CW11=0,0, $CW11-IFERROR(3600*$CV11/$CS$56,0)-2)) -> -0.79571391 | DJ11: =IF($J11="","-",IF($CW11=0,0, $CW11-IFERROR(3600*$CV11/$CS$56,0)-1)) -> 0.20428609 | DK11: =IF($J11="","-",IF($CW11=0,0, $CW11-IFERROR(3600*$CV11/$CS$56,0))) -> 1.2042861 | DL11: =IF($J11="","-",HLOOKUP(CX11,$DH$5:$DK$55,A11+1, FALSE)) -> -0.79571391 | DM11: =IF($J11="","-",IFERROR(IF(CU11=0,((DA11*(3600/DF11))/($CS$56*((DG11-DB11+1)/DF11))),((DA11*(3600/DF11))/(($CS$56*(((DG11-DB11+1)/DF11)))+((CU11*3600)/DF11)))),0)) -> 0.85609292 | DN11: =IF($J11="","-",CW11/CZ11) -> 0.86206897 | DO11: =IF(AND(I11>DA11,CP11<>"Y"),"Blocked?","OK") -> OK
A12: 7 | D12: 10 | E12: 1 | I12: =IF($J12="","-",B12*$L$2+C12*$M$2+D12*$N$2+E12*$O$2+F12*$P$2+G12*$Q$2+H12*$R$2) -> 11 | J12: 0.35736111 | S12: =IF($J12="","-",L12*$L$2+M12*$M$2+N12*$N$2+O12*$O$2+P12*$P$2+Q12*$Q$2+R12*$R$2) -> 0 | T12: 0.35738426 | W12: 10 | X12: 1 | AA12: 1 | AB12: =IF($J12="","-",U12*$L$2+V12*$M$2+W12*$N$2+X12*$O$2+Y12*$P$2+Z12*$Q$2+AA12*$R$2) -> 13 | AC12: 0.35762731 | AD12: =IF($J12="","-",AC12-T12) -> 0.00024305556 | AM12: =IF($J12="","-",AF12*$L$2+AG12*$M$2+AH12*$N$2+AI12*$O$2+AJ12*$P$2+AK12*$Q$2+AL12*$R$2) -> 0 | AV12: =IF($J12="","-",AO12*$L$2+AP12*$M$2+AQ12*$N$2+AR12*$O$2+AS12*$P$2+AT12*$Q$2+AU12*$R$2) -> 0 | AX12: =IF($J12="","-",AW12-AN12) -> 0 | BG12: =IF($J12="","-",AZ12*$L$2+BA12*$M$2+BB12*$N$2+BC12*$O$2+BD12*$P$2+BE12*$Q$2+BF12*$R$2) -> 0 | BP12: =IF($J12="","-",BI12*$L$2+BJ12*$M$2+BK12*$N$2+BL12*$O$2+BM12*$P$2+BN12*$Q$2+BO12*$R$2) -> 0 | BR12: =IF($J12="","-",BQ12-BH12) -> 0 | CA12: =IF($J12="","-",BT12*$L$2+BU12*$M$2+BV12*$N$2+BW12*$O$2+BX12*$P$2+BY12*$Q$2+BZ12*$R$2) -> 0 | CJ12: =IF($J12="","-",CC12*$L$2+CD12*$M$2+CE12*$N$2+CF12*$O$2+CG12*$P$2+CH12*$Q$2+CI12*$R$2) -> 0 | CL12: 0.35767361 | CM12: 0.35840278 | CN12: =IF($J12="","-",IF(AND(AB12>0,S12=0),"Y","N")) -> Y | CO12: N | CP12: N | CQ12: =IF($J12="","-",IF(AC12=0,0,AC12-J12)) -> 0.0002662037 | CR12: =IF($J12="","-",IF(AND(I12>=CR$4,CQ12>=CQ$4,CP12="N",S12=0),"Yes","No")) -> Yes | CS12: =IF($J12="","",IF(S12>0,0,IF(AD12=0,0,AB12/(AD12*24)))) -> 2228.5714 | CU12: =IF(J12="","-",CJ12) -> 0 | CV12: =IF($J12="","-",AB12+AV12+BP12) -> 13 | CW12: =IF($J12="","-",(AD12+AX12+BR12)*86400) -> 21 | CX12: =IF($J12="","-",IF(CP12="Y",2,IF(AND(CN12="y",CO12="y"),2,IF(AND(CN12="y",CO12="n"),1,IF(AND(CN12="n",CO12="y"),3,IF(AND(CN12="n",CO12="n"),4,"error")))))) -> 1 | CY12: =IF($J12="","-",S12+AM12+BG12+CA12) -> 0 | CZ12: =IF($J12="","-",(CL12-J12)*86400) -> 27 | DA12: =IF($J12="","-",CV12+CY12+CU12) -> 13 | DB12: =IF($J12="","-",IF(CW12=0,0,CW12-DD12-DE12)) -> -0.62295205 | DC12: =IF($J12="", "-", IF(AND(CV12=0, CX12=2), 1, IFERROR((DA12*3600)/(IFERROR(CZ12-DB12-2,CZ12-2)*$CS$56+CU12*3600),0))) -> 0.80486245 | DD12: =IF($J12="","-",IF(OR(CX12=1,CX12=3),1,IF(CX12=2,2,IF(CX12=4,0,0)))) -> 1 | DE12: =IF($J12="","-",IFERROR((3600*CV12/$CS$56),0)) -> 20.622952 | DF12: =IF(J12="","-",(CM12-J12)*86400) -> 90 | DG12: =IF($J12="","-",(CL12-J12-(3/86400))*86400) -> 24 | DH12: =IF($J12="","-",IF($CW12=0,0, $CW12-IFERROR(3600*$CV12/$CS$56,0)-1)) -> -0.62295205 | DI12: =IF($J12="","-",IF($CW12=0,0, $CW12-IFERROR(3600*$CV12/$CS$56,0)-2)) -> -1.6229521 | DJ12: =IF($J12="","-",IF($CW12=0,0, $CW12-IFERROR(3600*$CV12/$CS$56,0)-1)) -> -0.62295205 | DK12: =IF($J12="","-",IF($CW12=0,0, $CW12-IFERROR(3600*$CV12/$CS$56,0))) -> 0.37704795 | DL12: =IF($J12="","-",HLOOKUP(CX12,$DH$5:$DK$55,A12+1, FALSE)) -> -0.62295205 | DM12: =IF($J12="","-",IFERROR(IF(CU12=0,((DA12*(3600/DF12))/($CS$56*((DG12-DB12+1)/DF12))),((DA12*(3600/DF12))/(($CS$56*(((DG12-DB12+1)/DF12)))+((CU12*3600)/DF12)))),0)) -> 0.80486245 | DN12: =IF($J12="","-",CW12/CZ12) -> 0.77777778 | DO12: =IF(AND(I12>DA12,CP12<>"Y"),"Blocked?","OK") -> OK
A13: 8 | D13: 10 | E13: 2 | F13: 2 | I13: =IF($J13="","-",B13*$L$2+C13*$M$2+D13*$N$2+E13*$O$2+F13*$P$2+G13*$Q$2+H13*$R$2) -> 15 | J13: 0.3649537 | S13: =IF($J13="","-",L13*$L$2+M13*$M$2+N13*$N$2+O13*$O$2+P13*$P$2+Q13*$Q$2+R13*$R$2) -> 0 | T13: 0.36496528 | W13: 5 | X13: 2 | Y13: 1 | AB13: =IF($J13="","-",U13*$L$2+V13*$M$2+W13*$N$2+X13*$O$2+Y13*$P$2+Z13*$Q$2+AA13*$R$2) -> 8.5 | AC13: 0.36511574 | AD13: =IF($J13="","-",AC13-T13) -> 0.00015046296 | AM13: =IF($J13="","-",AF13*$L$2+AG13*$M$2+AH13*$N$2+AI13*$O$2+AJ13*$P$2+AK13*$Q$2+AL13*$R$2) -> 0 | AV13: =IF($J13="","-",AO13*$L$2+AP13*$M$2+AQ13*$N$2+AR13*$O$2+AS13*$P$2+AT13*$Q$2+AU13*$R$2) -> 0 | AX13: =IF($J13="","-",AW13-AN13) -> 0 | BG13: =IF($J13="","-",AZ13*$L$2+BA13*$M$2+BB13*$N$2+BC13*$O$2+BD13*$P$2+BE13*$Q$2+BF13*$R$2) -> 0 | BP13: =IF($J13="","-",BI13*$L$2+BJ13*$M$2+BK13*$N$2+BL13*$O$2+BM13*$P$2+BN13*$Q$2+BO13*$R$2) -> 0 | BR13: =IF($J13="","-",BQ13-BH13) -> 0 | CA13: =IF($J13="","-",BT13*$L$2+BU13*$M$2+BV13*$N$2+BW13*$O$2+BX13*$P$2+BY13*$Q$2+BZ13*$R$2) -> 0 | CJ13: =IF($J13="","-",CC13*$L$2+CD13*$M$2+CE13*$N$2+CF13*$O$2+CG13*$P$2+CH13*$Q$2+CI13*$R$2) -> 0 | CL13: 0.36511574 | CM13: 0.36585648 | CN13: =IF($J13="","-",IF(AND(AB13>0,S13=0),"Y","N")) -> Y | CO13: Y | CP13: N | CQ13: =IF($J13="","-",IF(AC13=0,0,AC13-J13)) -> 0.00016203704 | CR13: =IF($J13="","-",IF(AND(I13>=CR$4,CQ13>=CQ$4,CP13="N",S13=0),"Yes","No")) -> Yes | CS13: =IF($J13="","",IF(S13>0,0,IF(AD13=0,0,AB13/(AD13*24)))) -> 2353.8462 | CU13: =IF(J13="","-",CJ13) -> 0 | CV13: =IF($J13="","-",AB13+AV13+BP13) -> 8.5 | CW13: =IF($J13="","-",(AD13+AX13+BR13)*86400) -> 13 | CX13: =IF($J13="","-",IF(CP13="Y",2,IF(AND(CN13="y",CO13="y"),2,IF(AND(CN13="y",CO13="n"),1,IF(AND(CN13="n",CO13="y"),3,IF(AND(CN13="n",CO13="n"),4,"error")))))) -> 2 | CY13: =IF($J13="","-",S13+AM13+BG13+CA13) -> 0 | CZ13: =IF($J13="","-",(CL13-J13)*86400) -> 14 | DA13: =IF($J13="","-",CV13+CY13+CU13) -> 8.5 | DB13: =IF($J13="","-",IF(CW13=0,0,CW13-DD13-DE13)) -> -2.4842379 | DC13: =IF($J13="", "-", IF(AND(CV13=0, CX13=2), 1, IFERROR((DA13*3600)/(IFERROR(CZ13-DB13-2,CZ13-2)*$CS$56+CU13*3600),0))) -> 0.93095943 | DD13: =IF($J13="","-",IF(OR(CX13=1,CX13=3),1,IF(CX13=2,2,IF(CX13=4,0,0)))) -> 2 | DE13: =IF($J13="","-",IFERROR((3600*CV13/$CS$56),0)) -> 13.484238 | DF13: =IF(J13="","-",(CM13-J13)*86400) -> 78 | DG13: =IF($J13="","-",(CL13-J13-(3/86400))*86400) -> 11 | DH13: =IF($J13="","-",IF($CW13=0,0, $CW13-IFERROR(3600*$CV13/$CS$56,0)-1)) -> -1.4842379 | DI13: =IF($J13="","-",IF($CW13=0,0, $CW13-IFERROR(3600*$CV13/$CS$56,0)-2)) -> -2.4842379 | DJ13: =IF($J13="","-",IF($CW13=0,0, $CW13-IFERROR(3600*$CV13/$CS$56,0)-1)) -> -1.4842379 | DK13: =IF($J13="","-",IF($CW13=0,0, $CW13-IFERROR(3600*$CV13/$CS$56,0))) -> -0.48423788 | DL13: =IF($J13="","-",HLOOKUP(CX13,$DH$5:$DK$55,A13+1, FALSE)) -> -2.4842379 | DM13: =IF($J13="","-",IFERROR(IF(CU13=0,((DA13*(3600/DF13))/($CS$56*((DG13-DB13+1)/DF13))),((DA13*(3600/DF13))/(($CS$56*(((DG13-DB13+1)/DF13)))+((CU13*3600)/DF13)))),0)) -> 0.93095943 | DN13: =IF($J13="","-",CW13/CZ13) -> 0.92857143 | DO13: =IF(AND(I13>DA13,CP13<>"Y"),"Blocked?","OK") -> Blocked?
A14: 9 | D14: 10 | E14: 1 | F14: 1 | I14: =IF($J14="","-",B14*$L$2+C14*$M$2+D14*$N$2+E14*$O$2+F14*$P$2+G14*$Q$2+H14*$R$2) -> 12.5 | J14: 0.36585648 | S14: =IF($J14="","-",L14*$L$2+M14*$M$2+N14*$N$2+O14*$O$2+P14*$P$2+Q14*$Q$2+R14*$R$2) -> 0 | T14: 0.36586806 | W14: 5 | X14: 1 | Y14: 1 | AB14: =IF($J14="","-",U14*$L$2+V14*$M$2+W14*$N$2+X14*$O$2+Y14*$P$2+Z14*$Q$2+AA14*$R$2) -> 7.5 | AC14: 0.36600694 | AD14: =IF($J14="","-",AC14-T14) -> 0.00013888889 | AM14: =IF($J14="","-",AF14*$L$2+AG14*$M$2+AH14*$N$2+AI14*$O$2+AJ14*$P$2+AK14*$Q$2+AL14*$R$2) -> 0 | AV14: =IF($J14="","-",AO14*$L$2+AP14*$M$2+AQ14*$N$2+AR14*$O$2+AS14*$P$2+AT14*$Q$2+AU14*$R$2) -> 0 | AX14: =IF($J14="","-",AW14-AN14) -> 0 | BG14: =IF($J14="","-",AZ14*$L$2+BA14*$M$2+BB14*$N$2+BC14*$O$2+BD14*$P$2+BE14*$Q$2+BF14*$R$2) -> 0 | BP14: =IF($J14="","-",BI14*$L$2+BJ14*$M$2+BK14*$N$2+BL14*$O$2+BM14*$P$2+BN14*$Q$2+BO14*$R$2) -> 0 | BR14: =IF($J14="","-",BQ14-BH14) -> 0 | CA14: =IF($J14="","-",BT14*$L$2+BU14*$M$2+BV14*$N$2+BW14*$O$2+BX14*$P$2+BY14*$Q$2+BZ14*$R$2) -> 0 | CJ14: =IF($J14="","-",CC14*$L$2+CD14*$M$2+CE14*$N$2+CF14*$O$2+CG14*$P$2+CH14*$Q$2+CI14*$R$2) -> 0 | CL14: 0.36600694 | CM14: 0.36678241 | CN14: =IF($J14="","-",IF(AND(AB14>0,S14=0),"Y","N")) -> Y | CO14: Y | CP14: N | CQ14: =IF($J14="","-",IF(AC14=0,0,AC14-J14)) -> 0.00015046296 | CR14: =IF($J14="","-",IF(AND(I14>=CR$4,CQ14>=CQ$4,CP14="N",S14=0),"Yes","No")) -> Yes | CS14: =IF($J14="","",IF(S14>0,0,IF(AD14=0,0,AB14/(AD14*24)))) -> 2250 | CU14: =IF(J14="","-",CJ14) -> 0 | CV14: =IF($J14="","-",AB14+AV14+BP14) -> 7.5 | CW14: =IF($J14="","-",(AD14+AX14+BR14)*86400) -> 12 | CX14: =IF($J14="","-",IF(CP14="Y",2,IF(AND(CN14="y",CO14="y"),2,IF(AND(CN14="y",CO14="n"),1,IF(AND(CN14="n",CO14="y"),3,IF(AND(CN14="n",CO14="n"),4,"error")))))) -> 2 | CY14: =IF($J14="","-",S14+AM14+BG14+CA14) -> 0 | CZ14: =IF($J14="","-",(CL14-J14)*86400) -> 13 | DA14: =IF($J14="","-",CV14+CY14+CU14) -> 7.5 | DB14: =IF($J14="","-",IF(CW14=0,0,CW14-DD14-DE14)) -> -1.897857 | DC14: =IF($J14="", "-", IF(AND(CV14=0, CX14=2), 1, IFERROR((DA14*3600)/(IFERROR(CZ14-DB14-2,CZ14-2)*$CS$56+CU14*3600),0))) -> 0.92246774 | DD14: =IF($J14="","-",IF(OR(CX14=1,CX14=3),1,IF(CX14=2,2,IF(CX14=4,0,0)))) -> 2 | DE14: =IF($J14="","-",IFERROR((3600*CV14/$CS$56),0)) -> 11.897857 | DF14: =IF(J14="","-",(CM14-J14)*86400) -> 80 | DG14: =IF($J14="","-",(CL14-J14-(3/86400))*86400) -> 10 | DH14: =IF($J14="","-",IF($CW14=0,0, $CW14-IFERROR(3600*$CV14/$CS$56,0)-1)) -> -0.89785695 | DI14: =IF($J14="","-",IF($CW14=0,0, $CW14-IFERROR(3600*$CV14/$CS$56,0)-2)) -> -1.897857 | DJ14: =IF($J14="","-",IF($CW14=0,0, $CW14-IFERROR(3600*$CV14/$CS$56,0)-1)) -> -0.89785695 | DK14: =IF($J14="","-",IF($CW14=0,0, $CW14-IFERROR(3600*$CV14/$CS$56,0))) -> 0.10214305 | DL14: =IF($J14="","-",HLOOKUP(CX14,$DH$5:$DK$55,A14+1, FALSE)) -> -1.897857 | DM14: =IF($J14="","-",IFERROR(IF(CU14=0,((DA14*(3600/DF14))/($CS$56*((DG14-DB14+1)/DF14))),((DA14*(3600/DF14))/(($CS$56*(((DG14-DB14+1)/DF14)))+((CU14*3600)/DF14)))),0)) -> 0.92246774 | DN14: =IF($J14="","-",CW14/CZ14) -> 0.92307692 | DO14: =IF(AND(I14>DA14,CP14<>"Y"),"Blocked?","OK") -> Blocked?
A15: 10 | D15: 10 | E15: 3 | G15: 1 | H15: 1 | I15: =IF($J15="","-",B15*$L$2+C15*$M$2+D15*$N$2+E15*$O$2+F15*$P$2+G15*$Q$2+H15*$R$2) -> 17.3 | J15: 0.37232639 | S15: =IF($J15="","-",L15*$L$2+M15*$M$2+N15*$N$2+O15*$O$2+P15*$P$2+Q15*$Q$2+R15*$R$2) -> 0 | T15: 0.37236111 | W15: 7 | X15: 3 | Z15: 1 | AA15: 1 | AB15: =IF($J15="","-",U15*$L$2+V15*$M$2+W15*$N$2+X15*$O$2+Y15*$P$2+Z15*$Q$2+AA15*$R$2) -> 14.3 | AC15: 0.37261574 | AD15: =IF($J15="","-",AC15-T15) -> 0.00025462963 | AM15: =IF($J15="","-",AF15*$L$2+AG15*$M$2+AH15*$N$2+AI15*$O$2+AJ15*$P$2+AK15*$Q$2+AL15*$R$2) -> 0 | AV15: =IF($J15="","-",AO15*$L$2+AP15*$M$2+AQ15*$N$2+AR15*$O$2+AS15*$P$2+AT15*$Q$2+AU15*$R$2) -> 0 | AX15: =IF($J15="","-",AW15-AN15) -> 0 | BG15: =IF($J15="","-",AZ15*$L$2+BA15*$M$2+BB15*$N$2+BC15*$O$2+BD15*$P$2+BE15*$Q$2+BF15*$R$2) -> 0 | BP15: =IF($J15="","-",BI15*$L$2+BJ15*$M$2+BK15*$N$2+BL15*$O$2+BM15*$P$2+BN15*$Q$2+BO15*$R$2) -> 0 | BR15: =IF($J15="","-",BQ15-BH15) -> 0 | CA15: =IF($J15="","-",BT15*$L$2+BU15*$M$2+BV15*$N$2+BW15*$O$2+BX15*$P$2+BY15*$Q$2+BZ15*$R$2) -> 0 | CJ15: =IF($J15="","-",CC15*$L$2+CD15*$M$2+CE15*$N$2+CF15*$O$2+CG15*$P$2+CH15*$Q$2+CI15*$R$2) -> 0 | CL15: 0.37261574 | CM15: 0.37328704 | CN15: =IF($J15="","-",IF(AND(AB15>0,S15=0),"Y","N")) -> Y | CO15: Y | CP15: N | CQ15: =IF($J15="","-",IF(AC15=0,0,AC15-J15)) -> 0.00028935185 | CR15: =IF($J15="","-",IF(AND(I15>=CR$4,CQ15>=CQ$4,CP15="N",S15=0),"Yes","No")) -> Yes | CS15: =IF($J15="","",IF(S15>0,0,IF(AD15=0,0,AB15/(AD15*24)))) -> 2340 | CU15: =IF(J15="","-",CJ15) -> 0 | CV15: =IF($J15="","-",AB15+AV15+BP15) -> 14.3 | CW15: =IF($J15="","-",(AD15+AX15+BR15)*86400) -> 22 | CX15: =IF($J15="","-",IF(CP15="Y",2,IF(AND(CN15="y",CO15="y"),2,IF(AND(CN15="y",CO15="n"),1,IF(AND(CN15="n",CO15="y"),3,IF(AND(CN15="n",CO15="n"),4,"error")))))) -> 2 | CY15: =IF($J15="","-",S15+AM15+BG15+CA15) -> 0 | CZ15: =IF($J15="","-",(CL15-J15)*86400) -> 25 | DA15: =IF($J15="","-",CV15+CY15+CU15) -> 14.3 | DB15: =IF($J15="","-",IF(CW15=0,0,CW15-DD15-DE15)) -> -2.6852473 | DC15: =IF($J15="", "-", IF(AND(CV15=0, CX15=2), 1, IFERROR((DA15*3600)/(IFERROR(CZ15-DB15-2,CZ15-2)*$CS$56+CU15*3600),0))) -> 0.88320144 | DD15: =IF($J15="","-",IF(OR(CX15=1,CX15=3),1,IF(CX15=2,2,IF(CX15=4,0,0)))) -> 2 | DE15: =IF($J15="","-",IFERROR((3600*CV15/$CS$56),0)) -> 22.685247 | DF15: =IF(J15="","-",(CM15-J15)*86400) -> 83 | DG15: =IF($J15="","-",(CL15-J15-(3/86400))*86400) -> 22 | DH15: =IF($J15="","-",IF($CW15=0,0, $CW15-IFERROR(3600*$CV15/$CS$56,0)-1)) -> -1.6852473 | DI15: =IF($J15="","-",IF($CW15=0,0, $CW15-IFERROR(3600*$CV15/$CS$56,0)-2)) -> -2.6852473 | DJ15: =IF($J15="","-",IF($CW15=0,0, $CW15-IFERROR(3600*$CV15/$CS$56,0)-1)) -> -1.6852473 | DK15: =IF($J15="","-",IF($CW15=0,0, $CW15-IFERROR(3600*$CV15/$CS$56,0))) -> -0.68524726 | DL15: =IF($J15="","-",HLOOKUP(CX15,$DH$5:$DK$55,A15+1, FALSE)) -> -2.6852473 | DM15: =IF($J15="","-",IFERROR(IF(CU15=0,((DA15*(3600/DF15))/($CS$56*((DG15-DB15+1)/DF15))),((DA15*(3600/DF15))/(($CS$56*(((DG15-DB15+1)/DF15)))+((CU15*3600)/DF15)))),0)) -> 0.88320144 | DN15: =IF($J15="","-",CW15/CZ15) -> 0.88 | DO15: =IF(AND(I15>DA15,CP15<>"Y"),"Blocked?","OK") -> Blocked?
A16: 11 | I16: =IF($J16="","-",B16*$L$2+C16*$M$2+D16*$N$2+E16*$O$2+F16*$P$2+G16*$Q$2+H16*$R$2) -> - | S16: =IF($J16="","-",L16*$L$2+M16*$M$2+N16*$N$2+O16*$O$2+P16*$P$2+Q16*$Q$2+R16*$R$2) -> - | AB16: =IF($J16="","-",U16*$L$2+V16*$M$2+W16*$N$2+X16*$O$2+Y16*$P$2+Z16*$Q$2+AA16*$R$2) -> - | AD16: =IF($J16="","-",AC16-T16) -> - | AM16: =IF($J16="","-",AF16*$L$2+AG16*$M$2+AH16*$N$2+AI16*$O$2+AJ16*$P$2+AK16*$Q$2+AL16*$R$2) -> - | AV16: =IF($J16="","-",AO16*$L$2+AP16*$M$2+AQ16*$N$2+AR16*$O$2+AS16*$P$2+AT16*$Q$2+AU16*$R$2) -> - | AX16: =IF($J16="","-",AW16-AN16) -> - | BG16: =IF($J16="","-",AZ16*$L$2+BA16*$M$2+BB16*$N$2+BC16*$O$2+BD16*$P$2+BE16*$Q$2+BF16*$R$2) -> - | BP16: =IF($J16="","-",BI16*$L$2+BJ16*$M$2+BK16*$N$2+BL16*$O$2+BM16*$P$2+BN16*$Q$2+BO16*$R$2) -> - | BR16: =IF($J16="","-",BQ16-BH16) -> - | CA16: =IF($J16="","-",BT16*$L$2+BU16*$M$2+BV16*$N$2+BW16*$O$2+BX16*$P$2+BY16*$Q$2+BZ16*$R$2) -> - | CJ16: =IF($J16="","-",CC16*$L$2+CD16*$M$2+CE16*$N$2+CF16*$O$2+CG16*$P$2+CH16*$Q$2+CI16*$R$2) -> - | CN16: =IF($J16="","-",IF(AND(AB16>0,S16=0),"Y","N")) -> - | CQ16: =IF($J16="","-",IF(AC16=0,0,AC16-J16)) -> - | CR16: =IF($J16="","-",IF(AND(I16>=CR$4,CQ16>=CQ$4,CP16="N",S16=0),"Yes","No")) -> - | CS16: =IF($J16="","",IF(S16>0,0,IF(AD16=0,0,AB16/(AD16*24)))) | CU16: =IF(J16="","-",CJ16) -> - | CV16: =IF($J16="","-",AB16+AV16+BP16) -> - | CW16: =IF($J16="","-",(AD16+AX16+BR16)*86400) -> - | CX16: =IF($J16="","-",IF(CP16="Y",2,IF(AND(CN16="y",CO16="y"),2,IF(AND(CN16="y",CO16="n"),1,IF(AND(CN16="n",CO16="y"),3,IF(AND(CN16="n",CO16="n"),4,"error")))))) -> - | CY16: =IF($J16="","-",S16+AM16+BG16+CA16) -> - | CZ16: =IF($J16="","-",(CL16-J16)*86400) -> - | DA16: =IF($J16="","-",CV16+CY16+CU16) -> - | DB16: =IF($J16="","-",IF(CW16=0,0,CW16-DD16-DE16)) -> - | DC16: =IF($J16="", "-", IF(AND(CV16=0, CX16=2), 1, IFERROR((DA16*3600)/(IFERROR(CZ16-DB16-2,CZ16-2)*$CS$56+CU16*3600),0))) -> - | DD16: =IF($J16="","-",IF(OR(CX16=1,CX16=3),1,IF(CX16=2,2,IF(CX16=4,0,0)))) -> - | DE16: =IF($J16="","-",IFERROR((3600*CV16/$CS$56),0)) -> - | DF16: =IF(J16="","-",(CM16-J16)*86400) -> - | DG16: =IF($J16="","-",(CL16-J16-(3/86400))*86400) -> - | DH16: =IF($J16="","-",IF($CW16=0,0, $CW16-IFERROR(3600*$CV16/$CS$56,0)-1)) -> - | DI16: =IF($J16="","-",IF($CW16=0,0, $CW16-IFERROR(3600*$CV16/$CS$56,0)-2)) -> - | DJ16: =IF($J16="","-",IF($CW16=0,0, $CW16-IFERROR(3600*$CV16/$CS$56,0)-1)) -> - | DK16: =IF($J16="","-",IF($CW16=0,0, $CW16-IFERROR(3600*$CV16/$CS$56,0))) -> - | DL16: =IF($J16="","-",HLOOKUP(CX16,$DH$5:$DK$55,A16+1, FALSE)) -> - | DM16: =IF($J16="","-",IFERROR(IF(CU16=0,((DA16*(3600/DF16))/($CS$56*((DG16-DB16+1)/DF16))),((DA16*(3600/DF16))/(($CS$56*(((DG16-DB16+1)/DF16)))+((CU16*3600)/DF16)))),0)) -> - | DN16: =IF($J16="","-",CW16/CZ16) -> - | DO16: =IF(AND(I16>DA16,CP16<>"Y"),"Blocked?","OK") -> OK
A17: 12 | I17: =IF($J17="","-",B17*$L$2+C17*$M$2+D17*$N$2+E17*$O$2+F17*$P$2+G17*$Q$2+H17*$R$2) -> - | S17: =IF($J17="","-",L17*$L$2+M17*$M$2+N17*$N$2+O17*$O$2+P17*$P$2+Q17*$Q$2+R17*$R$2) -> - | AB17: =IF($J17="","-",U17*$L$2+V17*$M$2+W17*$N$2+X17*$O$2+Y17*$P$2+Z17*$Q$2+AA17*$R$2) -> - | AD17: =IF($J17="","-",AC17-T17) -> - | AM17: =IF($J17="","-",AF17*$L$2+AG17*$M$2+AH17*$N$2+AI17*$O$2+AJ17*$P$2+AK17*$Q$2+AL17*$R$2) -> - | AV17: =IF($J17="","-",AO17*$L$2+AP17*$M$2+AQ17*$N$2+AR17*$O$2+AS17*$P$2+AT17*$Q$2+AU17*$R$2) -> - | AX17: =IF($J17="","-",AW17-AN17) -> - | BG17: =IF($J17="","-",AZ17*$L$2+BA17*$M$2+BB17*$N$2+BC17*$O$2+BD17*$P$2+BE17*$Q$2+BF17*$R$2) -> - | BP17: =IF($J17="","-",BI17*$L$2+BJ17*$M$2+BK17*$N$2+BL17*$O$2+BM17*$P$2+BN17*$Q$2+BO17*$R$2) -> - | BR17: =IF($J17="","-",BQ17-BH17) -> - | CA17: =IF($J17="","-",BT17*$L$2+BU17*$M$2+BV17*$N$2+BW17*$O$2+BX17*$P$2+BY17*$Q$2+BZ17*$R$2) -> - | CJ17: =IF($J17="","-",CC17*$L$2+CD17*$M$2+CE17*$N$2+CF17*$O$2+CG17*$P$2+CH17*$Q$2+CI17*$R$2) -> - | CN17: =IF($J17="","-",IF(AND(AB17>0,S17=0),"Y","N")) -> - | CQ17: =IF($J17="","-",IF(AC17=0,0,AC17-J17)) -> - | CR17: =IF($J17="","-",IF(AND(I17>=CR$4,CQ17>=CQ$4,CP17="N",S17=0),"Yes","No")) -> - | CS17: =IF($J17="","",IF(S17>0,0,IF(AD17=0,0,AB17/(AD17*24)))) | CU17: =IF(J17="","-",CJ17) -> - | CV17: =IF($J17="","-",AB17+AV17+BP17) -> - | CW17: =IF($J17="","-",(AD17+AX17+BR17)*86400) -> - | CX17: =IF($J17="","-",IF(CP17="Y",2,IF(AND(CN17="y",CO17="y"),2,IF(AND(CN17="y",CO17="n"),1,IF(AND(CN17="n",CO17="y"),3,IF(AND(CN17="n",CO17="n"),4,"error")))))) -> - | CY17: =IF($J17="","-",S17+AM17+BG17+CA17) -> - | CZ17: =IF($J17="","-",(CL17-J17)*86400) -> - | DA17: =IF($J17="","-",CV17+CY17+CU17) -> - | DB17: =IF($J17="","-",IF(CW17=0,0,CW17-DD17-DE17)) -> - | DC17: =IF($J17="", "-", IF(AND(CV17=0, CX17=2), 1, IFERROR((DA17*3600)/(IFERROR(CZ17-DB17-2,CZ17-2)*$CS$56+CU17*3600),0))) -> - | DD17: =IF($J17="","-",IF(OR(CX17=1,CX17=3),1,IF(CX17=2,2,IF(CX17=4,0,0)))) -> - | DE17: =IF($J17="","-",IFERROR((3600*CV17/$CS$56),0)) -> - | DF17: =IF(J17="","-",(CM17-J17)*86400) -> - | DG17: =IF($J17="","-",(CL17-J17-(3/86400))*86400) -> - | DH17: =IF($J17="","-",IF($CW17=0,0, $CW17-IFERROR(3600*$CV17/$CS$56,0)-1)) -> - | DI17: =IF($J17="","-",IF($CW17=0,0, $CW17-IFERROR(3600*$CV17/$CS$56,0)-2)) -> - | DJ17: =IF($J17="","-",IF($CW17=0,0, $CW17-IFERROR(3600*$CV17/$CS$56,0)-1)) -> - | DK17: =IF($J17="","-",IF($CW17=0,0, $CW17-IFERROR(3600*$CV17/$CS$56,0))) -> - | DL17: =IF($J17="","-",HLOOKUP(CX17,$DH$5:$DK$55,A17+1, FALSE)) -> - | DM17: =IF($J17="","-",IFERROR(IF(CU17=0,((DA17*(3600/DF17))/($CS$56*((DG17-DB17+1)/DF17))),((DA17*(3600/DF17))/(($CS$56*(((DG17-DB17+1)/DF17)))+((CU17*3600)/DF17)))),0)) -> - | DN17: =IF($J17="","-",CW17/CZ17) -> - | DO17: =IF(AND(I17>DA17,CP17<>"Y"),"Blocked?","OK") -> OK
A18: 13 | I18: =IF($J18="","-",B18*$L$2+C18*$M$2+D18*$N$2+E18*$O$2+F18*$P$2+G18*$Q$2+H18*$R$2) -> - | S18: =IF($J18="","-",L18*$L$2+M18*$M$2+N18*$N$2+O18*$O$2+P18*$P$2+Q18*$Q$2+R18*$R$2) -> - | AB18: =IF($J18="","-",U18*$L$2+V18*$M$2+W18*$N$2+X18*$O$2+Y18*$P$2+Z18*$Q$2+AA18*$R$2) -> - | AD18: =IF($J18="","-",AC18-T18) -> - | AM18: =IF($J18="","-",AF18*$L$2+AG18*$M$2+AH18*$N$2+AI18*$O$2+AJ18*$P$2+AK18*$Q$2+AL18*$R$2) -> - | AV18: =IF($J18="","-",AO18*$L$2+AP18*$M$2+AQ18*$N$2+AR18*$O$2+AS18*$P$2+AT18*$Q$2+AU18*$R$2) -> - | AX18: =IF($J18="","-",AW18-AN18) -> - | BG18: =IF($J18="","-",AZ18*$L$2+BA18*$M$2+BB18*$N$2+BC18*$O$2+BD18*$P$2+BE18*$Q$2+BF18*$R$2) -> - | BP18: =IF($J18="","-",BI18*$L$2+BJ18*$M$2+BK18*$N$2+BL18*$O$2+BM18*$P$2+BN18*$Q$2+BO18*$R$2) -> - | BR18: =IF($J18="","-",BQ18-BH18) -> - | CA18: =IF($J18="","-",BT18*$L$2+BU18*$M$2+BV18*$N$2+BW18*$O$2+BX18*$P$2+BY18*$Q$2+BZ18*$R$2) -> - | CJ18: =IF($J18="","-",CC18*$L$2+CD18*$M$2+CE18*$N$2+CF18*$O$2+CG18*$P$2+CH18*$Q$2+CI18*$R$2) -> - | CN18: =IF($J18="","-",IF(AND(AB18>0,S18=0),"Y","N")) -> - | CQ18: =IF($J18="","-",IF(AC18=0,0,AC18-J18)) -> - | CR18: =IF($J18="","-",IF(AND(I18>=CR$4,CQ18>=CQ$4,CP18="N",S18=0),"Yes","No")) -> - | CS18: =IF($J18="","",IF(S18>0,0,IF(AD18=0,0,AB18/(AD18*24)))) | CU18: =IF(J18="","-",CJ18) -> - | CV18: =IF($J18="","-",AB18+AV18+BP18) -> - | CW18: =IF($J18="","-",(AD18+AX18+BR18)*86400) -> - | CX18: =IF($J18="","-",IF(CP18="Y",2,IF(AND(CN18="y",CO18="y"),2,IF(AND(CN18="y",CO18="n"),1,IF(AND(CN18="n",CO18="y"),3,IF(AND(CN18="n",CO18="n"),4,"error")))))) -> - | CY18: =IF($J18="","-",S18+AM18+BG18+CA18) -> - | CZ18: =IF($J18="","-",(CL18-J18)*86400) -> - | DA18: =IF($J18="","-",CV18+CY18+CU18) -> - | DB18: =IF($J18="","-",IF(CW18=0,0,CW18-DD18-DE18)) -> - | DC18: =IF($J18="", "-", IF(AND(CV18=0, CX18=2), 1, IFERROR((DA18*3600)/(IFERROR(CZ18-DB18-2,CZ18-2)*$CS$56+CU18*3600),0))) -> - | DD18: =IF($J18="","-",IF(OR(CX18=1,CX18=3),1,IF(CX18=2,2,IF(CX18=4,0,0)))) -> - | DE18: =IF($J18="","-",IFERROR((3600*CV18/$CS$56),0)) -> - | DF18: =IF(J18="","-",(CM18-J18)*86400) -> - | DG18: =IF($J18="","-",(CL18-J18-(3/86400))*86400) -> - | DH18: =IF($J18="","-",IF($CW18=0,0, $CW18-IFERROR(3600*$CV18/$CS$56,0)-1)) -> - | DI18: =IF($J18="","-",IF($CW18=0,0, $CW18-IFERROR(3600*$CV18/$CS$56,0)-2)) -> - | DJ18: =IF($J18="","-",IF($CW18=0,0, $CW18-IFERROR(3600*$CV18/$CS$56,0)-1)) -> - | DK18: =IF($J18="","-",IF($CW18=0,0, $CW18-IFERROR(3600*$CV18/$CS$56,0))) -> - | DL18: =IF($J18="","-",HLOOKUP(CX18,$DH$5:$DK$55,A18+1, FALSE)) -> - | DM18: =IF($J18="","-",IFERROR(IF(CU18=0,((DA18*(3600/DF18))/($CS$56*((DG18-DB18+1)/DF18))),((DA18*(3600/DF18))/(($CS$56*(((DG18-DB18+1)/DF18)))+((CU18*3600)/DF18)))),0)) -> - | DN18: =IF($J18="","-",CW18/CZ18) -> - | DO18: =IF(AND(I18>DA18,CP18<>"Y"),"Blocked?","OK") -> OK
A19: 14 | I19: =IF($J19="","-",B19*$L$2+C19*$M$2+D19*$N$2+E19*$O$2+F19*$P$2+G19*$Q$2+H19*$R$2) -> - | S19: =IF($J19="","-",L19*$L$2+M19*$M$2+N19*$N$2+O19*$O$2+P19*$P$2+Q19*$Q$2+R19*$R$2) -> - | AB19: =IF($J19="","-",U19*$L$2+V19*$M$2+W19*$N$2+X19*$O$2+Y19*$P$2+Z19*$Q$2+AA19*$R$2) -> - | AD19: =IF($J19="","-",AC19-T19) -> - | AM19: =IF($J19="","-",AF19*$L$2+AG19*$M$2+AH19*$N$2+AI19*$O$2+AJ19*$P$2+AK19*$Q$2+AL19*$R$2) -> - | AV19: =IF($J19="","-",AO19*$L$2+AP19*$M$2+AQ19*$N$2+AR19*$O$2+AS19*$P$2+AT19*$Q$2+AU19*$R$2) -> - | AX19: =IF($J19="","-",AW19-AN19) -> - | BG19: =IF($J19="","-",AZ19*$L$2+BA19*$M$2+BB19*$N$2+BC19*$O$2+BD19*$P$2+BE19*$Q$2+BF19*$R$2) -> - | BP19: =IF($J19="","-",BI19*$L$2+BJ19*$M$2+BK19*$N$2+BL19*$O$2+BM19*$P$2+BN19*$Q$2+BO19*$R$2) -> - | BR19: =IF($J19="","-",BQ19-BH19) -> - | CA19: =IF($J19="","-",BT19*$L$2+BU19*$M$2+BV19*$N$2+BW19*$O$2+BX19*$P$2+BY19*$Q$2+BZ19*$R$2) -> - | CJ19: =IF($J19="","-",CC19*$L$2+CD19*$M$2+CE19*$N$2+CF19*$O$2+CG19*$P$2+CH19*$Q$2+CI19*$R$2) -> - | CN19: =IF($J19="","-",IF(AND(AB19>0,S19=0),"Y","N")) -> - | CQ19: =IF($J19="","-",IF(AC19=0,0,AC19-J19)) -> - | CR19: =IF($J19="","-",IF(AND(I19>=CR$4,CQ19>=CQ$4,CP19="N",S19=0),"Yes","No")) -> - | CS19: =IF($J19="","",IF(S19>0,0,IF(AD19=0,0,AB19/(AD19*24)))) | CU19: =IF(J19="","-",CJ19) -> - | CV19: =IF($J19="","-",AB19+AV19+BP19) -> - | CW19: =IF($J19="","-",(AD19+AX19+BR19)*86400) -> - | CX19: =IF($J19="","-",IF(CP19="Y",2,IF(AND(CN19="y",CO19="y"),2,IF(AND(CN19="y",CO19="n"),1,IF(AND(CN19="n",CO19="y"),3,IF(AND(CN19="n",CO19="n"),4,"error")))))) -> - | CY19: =IF($J19="","-",S19+AM19+BG19+CA19) -> - | CZ19: =IF($J19="","-",(CL19-J19)*86400) -> - | DA19: =IF($J19="","-",CV19+CY19+CU19) -> - | DB19: =IF($J19="","-",IF(CW19=0,0,CW19-DD19-DE19)) -> - | DC19: =IF($J19="", "-", IF(AND(CV19=0, CX19=2), 1, IFERROR((DA19*3600)/(IFERROR(CZ19-DB19-2,CZ19-2)*$CS$56+CU19*3600),0))) -> - | DD19: =IF($J19="","-",IF(OR(CX19=1,CX19=3),1,IF(CX19=2,2,IF(CX19=4,0,0)))) -> - | DE19: =IF($J19="","-",IFERROR((3600*CV19/$CS$56),0)) -> - | DF19: =IF(J19="","-",(CM19-J19)*86400) -> - | DG19: =IF($J19="","-",(CL19-J19-(3/86400))*86400) -> - | DH19: =IF($J19="","-",IF($CW19=0,0, $CW19-IFERROR(3600*$CV19/$CS$56,0)-1)) -> - | DI19: =IF($J19="","-",IF($CW19=0,0, $CW19-IFERROR(3600*$CV19/$CS$56,0)-2)) -> - | DJ19: =IF($J19="","-",IF($CW19=0,0, $CW19-IFERROR(3600*$CV19/$CS$56,0)-1)) -> - | DK19: =IF($J19="","-",IF($CW19=0,0, $CW19-IFERROR(3600*$CV19/$CS$56,0))) -> - | DL19: =IF($J19="","-",HLOOKUP(CX19,$DH$5:$DK$55,A19+1, FALSE)) -> - | DM19: =IF($J19="","-",IFERROR(IF(CU19=0,((DA19*(3600/DF19))/($CS$56*((DG19-DB19+1)/DF19))),((DA19*(3600/DF19))/(($CS$56*(((DG19-DB19+1)/DF19)))+((CU19*3600)/DF19)))),0)) -> - | DN19: =IF($J19="","-",CW19/CZ19) -> - | DO19: =IF(AND(I19>DA19,CP19<>"Y"),"Blocked?","OK") -> OK
A20: 15 | I20: =IF($J20="","-",B20*$L$2+C20*$M$2+D20*$N$2+E20*$O$2+F20*$P$2+G20*$Q$2+H20*$R$2) -> - | S20: =IF($J20="","-",L20*$L$2+M20*$M$2+N20*$N$2+O20*$O$2+P20*$P$2+Q20*$Q$2+R20*$R$2) -> - | AB20: =IF($J20="","-",U20*$L$2+V20*$M$2+W20*$N$2+X20*$O$2+Y20*$P$2+Z20*$Q$2+AA20*$R$2) -> - | AD20: =IF($J20="","-",AC20-T20) -> - | AM20: =IF($J20="","-",AF20*$L$2+AG20*$M$2+AH20*$N$2+AI20*$O$2+AJ20*$P$2+AK20*$Q$2+AL20*$R$2) -> - | AV20: =IF($J20="","-",AO20*$L$2+AP20*$M$2+AQ20*$N$2+AR20*$O$2+AS20*$P$2+AT20*$Q$2+AU20*$R$2) -> - | AX20: =IF($J20="","-",AW20-AN20) -> - | BG20: =IF($J20="","-",AZ20*$L$2+BA20*$M$2+BB20*$N$2+BC20*$O$2+BD20*$P$2+BE20*$Q$2+BF20*$R$2) -> - | BP20: =IF($J20="","-",BI20*$L$2+BJ20*$M$2+BK20*$N$2+BL20*$O$2+BM20*$P$2+BN20*$Q$2+BO20*$R$2) -> - | BR20: =IF($J20="","-",BQ20-BH20) -> - | CA20: =IF($J20="","-",BT20*$L$2+BU20*$M$2+BV20*$N$2+BW20*$O$2+BX20*$P$2+BY20*$Q$2+BZ20*$R$2) -> - | CJ20: =IF($J20="","-",CC20*$L$2+CD20*$M$2+CE20*$N$2+CF20*$O$2+CG20*$P$2+CH20*$Q$2+CI20*$R$2) -> - | CN20: =IF($J20="","-",IF(AND(AB20>0,S20=0),"Y","N")) -> - | CQ20: =IF($J20="","-",IF(AC20=0,0,AC20-J20)) -> - | CR20: =IF($J20="","-",IF(AND(I20>=CR$4,CQ20>=CQ$4,CP20="N",S20=0),"Yes","No")) -> - | CS20: =IF($J20="","",IF(S20>0,0,IF(AD20=0,0,AB20/(AD20*24)))) | CU20: =IF(J20="","-",CJ20) -> - | CV20: =IF($J20="","-",AB20+AV20+BP20) -> - | CW20: =IF($J20="","-",(AD20+AX20+BR20)*86400) -> - | CX20: =IF($J20="","-",IF(CP20="Y",2,IF(AND(CN20="y",CO20="y"),2,IF(AND(CN20="y",CO20="n"),1,IF(AND(CN20="n",CO20="y"),3,IF(AND(CN20="n",CO20="n"),4,"error")))))) -> - | CY20: =IF($J20="","-",S20+AM20+BG20+CA20) -> - | CZ20: =IF($J20="","-",(CL20-J20)*86400) -> - | DA20: =IF($J20="","-",CV20+CY20+CU20) -> - | DB20: =IF($J20="","-",IF(CW20=0,0,CW20-DD20-DE20)) -> - | DC20: =IF($J20="", "-", IF(AND(CV20=0, CX20=2), 1, IFERROR((DA20*3600)/(IFERROR(CZ20-DB20-2,CZ20-2)*$CS$56+CU20*3600),0))) -> - | DD20: =IF($J20="","-",IF(OR(CX20=1,CX20=3),1,IF(CX20=2,2,IF(CX20=4,0,0)))) -> - | DE20: =IF($J20="","-",IFERROR((3600*CV20/$CS$56),0)) -> - | DF20: =IF(J20="","-",(CM20-J20)*86400) -> - | DG20: =IF($J20="","-",(CL20-J20-(3/86400))*86400) -> - | DH20: =IF($J20="","-",IF($CW20=0,0, $CW20-IFERROR(3600*$CV20/$CS$56,0)-1)) -> - | DI20: =IF($J20="","-",IF($CW20=0,0, $CW20-IFERROR(3600*$CV20/$CS$56,0)-2)) -> - | DJ20: =IF($J20="","-",IF($CW20=0,0, $CW20-IFERROR(3600*$CV20/$CS$56,0)-1)) -> - | DK20: =IF($J20="","-",IF($CW20=0,0, $CW20-IFERROR(3600*$CV20/$CS$56,0))) -> - | DL20: =IF($J20="","-",HLOOKUP(CX20,$DH$5:$DK$55,A20+1, FALSE)) -> - | DM20: =IF($J20="","-",IFERROR(IF(CU20=0,((DA20*(3600/DF20))/($CS$56*((DG20-DB20+1)/DF20))),((DA20*(3600/DF20))/(($CS$56*(((DG20-DB20+1)/DF20)))+((CU20*3600)/DF20)))),0)) -> - | DN20: =IF($J20="","-",CW20/CZ20) -> - | DO20: =IF(AND(I20>DA20,CP20<>"Y"),"Blocked?","OK") -> OK
A21: 16 | I21: =IF($J21="","-",B21*$L$2+C21*$M$2+D21*$N$2+E21*$O$2+F21*$P$2+G21*$Q$2+H21*$R$2) -> - | S21: =IF($J21="","-",L21*$L$2+M21*$M$2+N21*$N$2+O21*$O$2+P21*$P$2+Q21*$Q$2+R21*$R$2) -> - | AB21: =IF($J21="","-",U21*$L$2+V21*$M$2+W21*$N$2+X21*$O$2+Y21*$P$2+Z21*$Q$2+AA21*$R$2) -> - | AD21: =IF($J21="","-",AC21-T21) -> - | AM21: =IF($J21="","-",AF21*$L$2+AG21*$M$2+AH21*$N$2+AI21*$O$2+AJ21*$P$2+AK21*$Q$2+AL21*$R$2) -> - | AV21: =IF($J21="","-",AO21*$L$2+AP21*$M$2+AQ21*$N$2+AR21*$O$2+AS21*$P$2+AT21*$Q$2+AU21*$R$2) -> - | AX21: =IF($J21="","-",AW21-AN21) -> - | BG21: =IF($J21="","-",AZ21*$L$2+BA21*$M$2+BB21*$N$2+BC21*$O$2+BD21*$P$2+BE21*$Q$2+BF21*$R$2) -> - | BP21: =IF($J21="","-",BI21*$L$2+BJ21*$M$2+BK21*$N$2+BL21*$O$2+BM21*$P$2+BN21*$Q$2+BO21*$R$2) -> - | BR21: =IF($J21="","-",BQ21-BH21) -> - | CA21: =IF($J21="","-",BT21*$L$2+BU21*$M$2+BV21*$N$2+BW21*$O$2+BX21*$P$2+BY21*$Q$2+BZ21*$R$2) -> - | CJ21: =IF($J21="","-",CC21*$L$2+CD21*$M$2+CE21*$N$2+CF21*$O$2+CG21*$P$2+CH21*$Q$2+CI21*$R$2) -> - | CN21: =IF($J21="","-",IF(AND(AB21>0,S21=0),"Y","N")) -> - | CQ21: =IF($J21="","-",IF(AC21=0,0,AC21-J21)) -> - | CR21: =IF($J21="","-",IF(AND(I21>=CR$4,CQ21>=CQ$4,CP21="N",S21=0),"Yes","No")) -> - | CS21: =IF($J21="","",IF(S21>0,0,IF(AD21=0,0,AB21/(AD21*24)))) | CU21: =IF(J21="","-",CJ21) -> - | CV21: =IF($J21="","-",AB21+AV21+BP21) -> - | CW21: =IF($J21="","-",(AD21+AX21+BR21)*86400) -> - | CX21: =IF($J21="","-",IF(CP21="Y",2,IF(AND(CN21="y",CO21="y"),2,IF(AND(CN21="y",CO21="n"),1,IF(AND(CN21="n",CO21="y"),3,IF(AND(CN21="n",CO21="n"),4,"error")))))) -> - | CY21: =IF($J21="","-",S21+AM21+BG21+CA21) -> - | CZ21: =IF($J21="","-",(CL21-J21)*86400) -> - | DA21: =IF($J21="","-",CV21+CY21+CU21) -> - | DB21: =IF($J21="","-",IF(CW21=0,0,CW21-DD21-DE21)) -> - | DC21: =IF($J21="", "-", IF(AND(CV21=0, CX21=2), 1, IFERROR((DA21*3600)/(IFERROR(CZ21-DB21-2,CZ21-2)*$CS$56+CU21*3600),0))) -> - | DD21: =IF($J21="","-",IF(OR(CX21=1,CX21=3),1,IF(CX21=2,2,IF(CX21=4,0,0)))) -> - | DE21: =IF($J21="","-",IFERROR((3600*CV21/$CS$56),0)) -> - | DF21: =IF(J21="","-",(CM21-J21)*86400) -> - | DG21: =IF($J21="","-",(CL21-J21-(3/86400))*86400) -> - | DH21: =IF($J21="","-",IF($CW21=0,0, $CW21-IFERROR(3600*$CV21/$CS$56,0)-1)) -> - | DI21: =IF($J21="","-",IF($CW21=0,0, $CW21-IFERROR(3600*$CV21/$CS$56,0)-2)) -> - | DJ21: =IF($J21="","-",IF($CW21=0,0, $CW21-IFERROR(3600*$CV21/$CS$56,0)-1)) -> - | DK21: =IF($J21="","-",IF($CW21=0,0, $CW21-IFERROR(3600*$CV21/$CS$56,0))) -> - | DL21: =IF($J21="","-",HLOOKUP(CX21,$DH$5:$DK$55,A21+1, FALSE)) -> - | DM21: =IF($J21="","-",IFERROR(IF(CU21=0,((DA21*(3600/DF21))/($CS$56*((DG21-DB21+1)/DF21))),((DA21*(3600/DF21))/(($CS$56*(((DG21-DB21+1)/DF21)))+((CU21*3600)/DF21)))),0)) -> - | DN21: =IF($J21="","-",CW21/CZ21) -> - | DO21: =IF(AND(I21>DA21,CP21<>"Y"),"Blocked?","OK") -> OK
A22: 17 | I22: =IF($J22="","-",B22*$L$2+C22*$M$2+D22*$N$2+E22*$O$2+F22*$P$2+G22*$Q$2+H22*$R$2) -> - | S22: =IF($J22="","-",L22*$L$2+M22*$M$2+N22*$N$2+O22*$O$2+P22*$P$2+Q22*$Q$2+R22*$R$2) -> - | AB22: =IF($J22="","-",U22*$L$2+V22*$M$2+W22*$N$2+X22*$O$2+Y22*$P$2+Z22*$Q$2+AA22*$R$2) -> - | AD22: =IF($J22="","-",AC22-T22) -> - | AM22: =IF($J22="","-",AF22*$L$2+AG22*$M$2+AH22*$N$2+AI22*$O$2+AJ22*$P$2+AK22*$Q$2+AL22*$R$2) -> - | AV22: =IF($J22="","-",AO22*$L$2+AP22*$M$2+AQ22*$N$2+AR22*$O$2+AS22*$P$2+AT22*$Q$2+AU22*$R$2) -> - | AX22: =IF($J22="","-",AW22-AN22) -> - | BG22: =IF($J22="","-",AZ22*$L$2+BA22*$M$2+BB22*$N$2+BC22*$O$2+BD22*$P$2+BE22*$Q$2+BF22*$R$2) -> - | BP22: =IF($J22="","-",BI22*$L$2+BJ22*$M$2+BK22*$N$2+BL22*$O$2+BM22*$P$2+BN22*$Q$2+BO22*$R$2) -> - | BR22: =IF($J22="","-",BQ22-BH22) -> - | CA22: =IF($J22="","-",BT22*$L$2+BU22*$M$2+BV22*$N$2+BW22*$O$2+BX22*$P$2+BY22*$Q$2+BZ22*$R$2) -> - | CJ22: =IF($J22="","-",CC22*$L$2+CD22*$M$2+CE22*$N$2+CF22*$O$2+CG22*$P$2+CH22*$Q$2+CI22*$R$2) -> - | CN22: =IF($J22="","-",IF(AND(AB22>0,S22=0),"Y","N")) -> - | CQ22: =IF($J22="","-",IF(AC22=0,0,AC22-J22)) -> - | CR22: =IF($J22="","-",IF(AND(I22>=CR$4,CQ22>=CQ$4,CP22="N",S22=0),"Yes","No")) -> - | CS22: =IF($J22="","",IF(S22>0,0,IF(AD22=0,0,AB22/(AD22*24)))) | CU22: =IF(J22="","-",CJ22) -> - | CV22: =IF($J22="","-",AB22+AV22+BP22) -> - | CW22: =IF($J22="","-",(AD22+AX22+BR22)*86400) -> - | CX22: =IF($J22="","-",IF(CP22="Y",2,IF(AND(CN22="y",CO22="y"),2,IF(AND(CN22="y",CO22="n"),1,IF(AND(CN22="n",CO22="y"),3,IF(AND(CN22="n",CO22="n"),4,"error")))))) -> - | CY22: =IF($J22="","-",S22+AM22+BG22+CA22) -> - | CZ22: =IF($J22="","-",(CL22-J22)*86400) -> - | DA22: =IF($J22="","-",CV22+CY22+CU22) -> - | DB22: =IF($J22="","-",IF(CW22=0,0,CW22-DD22-DE22)) -> - | DC22: =IF($J22="", "-", IF(AND(CV22=0, CX22=2), 1, IFERROR((DA22*3600)/(IFERROR(CZ22-DB22-2,CZ22-2)*$CS$56+CU22*3600),0))) -> - | DD22: =IF($J22="","-",IF(OR(CX22=1,CX22=3),1,IF(CX22=2,2,IF(CX22=4,0,0)))) -> - | DE22: =IF($J22="","-",IFERROR((3600*CV22/$CS$56),0)) -> - | DF22: =IF(J22="","-",(CM22-J22)*86400) -> - | DG22: =IF($J22="","-",(CL22-J22-(3/86400))*86400) -> - | DH22: =IF($J22="","-",IF($CW22=0,0, $CW22-IFERROR(3600*$CV22/$CS$56,0)-1)) -> - | DI22: =IF($J22="","-",IF($CW22=0,0, $CW22-IFERROR(3600*$CV22/$CS$56,0)-2)) -> - | DJ22: =IF($J22="","-",IF($CW22=0,0, $CW22-IFERROR(3600*$CV22/$CS$56,0)-1)) -> - | DK22: =IF($J22="","-",IF($CW22=0,0, $CW22-IFERROR(3600*$CV22/$CS$56,0))) -> - | DL22: =IF($J22="","-",HLOOKUP(CX22,$DH$5:$DK$55,A22+1, FALSE)) -> - | DM22: =IF($J22="","-",IFERROR(IF(CU22=0,((DA22*(3600/DF22))/($CS$56*((DG22-DB22+1)/DF22))),((DA22*(3600/DF22))/(($CS$56*(((DG22-DB22+1)/DF22)))+((CU22*3600)/DF22)))),0)) -> - | DN22: =IF($J22="","-",CW22/CZ22) -> - | DO22: =IF(AND(I22>DA22,CP22<>"Y"),"Blocked?","OK") -> OK
A23: 18 | I23: =IF($J23="","-",B23*$L$2+C23*$M$2+D23*$N$2+E23*$O$2+F23*$P$2+G23*$Q$2+H23*$R$2) -> - | S23: =IF($J23="","-",L23*$L$2+M23*$M$2+N23*$N$2+O23*$O$2+P23*$P$2+Q23*$Q$2+R23*$R$2) -> - | AB23: =IF($J23="","-",U23*$L$2+V23*$M$2+W23*$N$2+X23*$O$2+Y23*$P$2+Z23*$Q$2+AA23*$R$2) -> - | AD23: =IF($J23="","-",AC23-T23) -> - | AM23: =IF($J23="","-",AF23*$L$2+AG23*$M$2+AH23*$N$2+AI23*$O$2+AJ23*$P$2+AK23*$Q$2+AL23*$R$2) -> - | AV23: =IF($J23="","-",AO23*$L$2+AP23*$M$2+AQ23*$N$2+AR23*$O$2+AS23*$P$2+AT23*$Q$2+AU23*$R$2) -> - | AX23: =IF($J23="","-",AW23-AN23) -> - | BG23: =IF($J23="","-",AZ23*$L$2+BA23*$M$2+BB23*$N$2+BC23*$O$2+BD23*$P$2+BE23*$Q$2+BF23*$R$2) -> - | BP23: =IF($J23="","-",BI23*$L$2+BJ23*$M$2+BK23*$N$2+BL23*$O$2+BM23*$P$2+BN23*$Q$2+BO23*$R$2) -> - | BR23: =IF($J23="","-",BQ23-BH23) -> - | CA23: =IF($J23="","-",BT23*$L$2+BU23*$M$2+BV23*$N$2+BW23*$O$2+BX23*$P$2+BY23*$Q$2+BZ23*$R$2) -> - | CJ23: =IF($J23="","-",CC23*$L$2+CD23*$M$2+CE23*$N$2+CF23*$O$2+CG23*$P$2+CH23*$Q$2+CI23*$R$2) -> - | CN23: =IF($J23="","-",IF(AND(AB23>0,S23=0),"Y","N")) -> - | CQ23: =IF($J23="","-",IF(AC23=0,0,AC23-J23)) -> - | CR23: =IF($J23="","-",IF(AND(I23>=CR$4,CQ23>=CQ$4,CP23="N",S23=0),"Yes","No")) -> - | CS23: =IF($J23="","",IF(S23>0,0,IF(AD23=0,0,AB23/(AD23*24)))) | CU23: =IF(J23="","-",CJ23) -> - | CV23: =IF($J23="","-",AB23+AV23+BP23) -> - | CW23: =IF($J23="","-",(AD23+AX23+BR23)*86400) -> - | CX23: =IF($J23="","-",IF(CP23="Y",2,IF(AND(CN23="y",CO23="y"),2,IF(AND(CN23="y",CO23="n"),1,IF(AND(CN23="n",CO23="y"),3,IF(AND(CN23="n",CO23="n"),4,"error")))))) -> - | CY23: =IF($J23="","-",S23+AM23+BG23+CA23) -> - | CZ23: =IF($J23="","-",(CL23-J23)*86400) -> - | DA23: =IF($J23="","-",CV23+CY23+CU23) -> - | DB23: =IF($J23="","-",IF(CW23=0,0,CW23-DD23-DE23)) -> - | DC23: =IF($J23="", "-", IF(AND(CV23=0, CX23=2), 1, IFERROR((DA23*3600)/(IFERROR(CZ23-DB23-2,CZ23-2)*$CS$56+CU23*3600),0))) -> - | DD23: =IF($J23="","-",IF(OR(CX23=1,CX23=3),1,IF(CX23=2,2,IF(CX23=4,0,0)))) -> - | DE23: =IF($J23="","-",IFERROR((3600*CV23/$CS$56),0)) -> - | DF23: =IF(J23="","-",(CM23-J23)*86400) -> - | DG23: =IF($J23="","-",(CL23-J23-(3/86400))*86400) -> - | DH23: =IF($J23="","-",IF($CW23=0,0, $CW23-IFERROR(3600*$CV23/$CS$56,0)-1)) -> - | DI23: =IF($J23="","-",IF($CW23=0,0, $CW23-IFERROR(3600*$CV23/$CS$56,0)-2)) -> - | DJ23: =IF($J23="","-",IF($CW23=0,0, $CW23-IFERROR(3600*$CV23/$CS$56,0)-1)) -> - | DK23: =IF($J23="","-",IF($CW23=0,0, $CW23-IFERROR(3600*$CV23/$CS$56,0))) -> - | DL23: =IF($J23="","-",HLOOKUP(CX23,$DH$5:$DK$55,A23+1, FALSE)) -> - | DM23: =IF($J23="","-",IFERROR(IF(CU23=0,((DA23*(3600/DF23))/($CS$56*((DG23-DB23+1)/DF23))),((DA23*(3600/DF23))/(($CS$56*(((DG23-DB23+1)/DF23)))+((CU23*3600)/DF23)))),0)) -> - | DN23: =IF($J23="","-",CW23/CZ23) -> - | DO23: =IF(AND(I23>DA23,CP23<>"Y"),"Blocked?","OK") -> OK
A24: 19 | I24: =IF($J24="","-",B24*$L$2+C24*$M$2+D24*$N$2+E24*$O$2+F24*$P$2+G24*$Q$2+H24*$R$2) -> - | S24: =IF($J24="","-",L24*$L$2+M24*$M$2+N24*$N$2+O24*$O$2+P24*$P$2+Q24*$Q$2+R24*$R$2) -> - | AB24: =IF($J24="","-",U24*$L$2+V24*$M$2+W24*$N$2+X24*$O$2+Y24*$P$2+Z24*$Q$2+AA24*$R$2) -> - | AD24: =IF($J24="","-",AC24-T24) -> - | AM24: =IF($J24="","-",AF24*$L$2+AG24*$M$2+AH24*$N$2+AI24*$O$2+AJ24*$P$2+AK24*$Q$2+AL24*$R$2) -> - | AV24: =IF($J24="","-",AO24*$L$2+AP24*$M$2+AQ24*$N$2+AR24*$O$2+AS24*$P$2+AT24*$Q$2+AU24*$R$2) -> - | AX24: =IF($J24="","-",AW24-AN24) -> - | BG24: =IF($J24="","-",AZ24*$L$2+BA24*$M$2+BB24*$N$2+BC24*$O$2+BD24*$P$2+BE24*$Q$2+BF24*$R$2) -> - | BP24: =IF($J24="","-",BI24*$L$2+BJ24*$M$2+BK24*$N$2+BL24*$O$2+BM24*$P$2+BN24*$Q$2+BO24*$R$2) -> - | BR24: =IF($J24="","-",BQ24-BH24) -> - | CA24: =IF($J24="","-",BT24*$L$2+BU24*$M$2+BV24*$N$2+BW24*$O$2+BX24*$P$2+BY24*$Q$2+BZ24*$R$2) -> - | CJ24: =IF($J24="","-",CC24*$L$2+CD24*$M$2+CE24*$N$2+CF24*$O$2+CG24*$P$2+CH24*$Q$2+CI24*$R$2) -> - | CN24: =IF($J24="","-",IF(AND(AB24>0,S24=0),"Y","N")) -> - | CQ24: =IF($J24="","-",IF(AC24=0,0,AC24-J24)) -> - | CR24: =IF($J24="","-",IF(AND(I24>=CR$4,CQ24>=CQ$4,CP24="N",S24=0),"Yes","No")) -> - | CS24: =IF($J24="","",IF(S24>0,0,IF(AD24=0,0,AB24/(AD24*24)))) | CU24: =IF(J24="","-",CJ24) -> - | CV24: =IF($J24="","-",AB24+AV24+BP24) -> - | CW24: =IF($J24="","-",(AD24+AX24+BR24)*86400) -> - | CX24: =IF($J24="","-",IF(CP24="Y",2,IF(AND(CN24="y",CO24="y"),2,IF(AND(CN24="y",CO24="n"),1,IF(AND(CN24="n",CO24="y"),3,IF(AND(CN24="n",CO24="n"),4,"error")))))) -> - | CY24: =IF($J24="","-",S24+AM24+BG24+CA24) -> - | CZ24: =IF($J24="","-",(CL24-J24)*86400) -> - | DA24: =IF($J24="","-",CV24+CY24+CU24) -> - | DB24: =IF($J24="","-",IF(CW24=0,0,CW24-DD24-DE24)) -> - | DC24: =IF($J24="", "-", IF(AND(CV24=0, CX24=2), 1, IFERROR((DA24*3600)/(IFERROR(CZ24-DB24-2,CZ24-2)*$CS$56+CU24*3600),0))) -> - | DD24: =IF($J24="","-",IF(OR(CX24=1,CX24=3),1,IF(CX24=2,2,IF(CX24=4,0,0)))) -> - | DE24: =IF($J24="","-",IFERROR((3600*CV24/$CS$56),0)) -> - | DF24: =IF(J24="","-",(CM24-J24)*86400) -> - | DG24: =IF($J24="","-",(CL24-J24-(3/86400))*86400) -> - | DH24: =IF($J24="","-",IF($CW24=0,0, $CW24-IFERROR(3600*$CV24/$CS$56,0)-1)) -> - | DI24: =IF($J24="","-",IF($CW24=0,0, $CW24-IFERROR(3600*$CV24/$CS$56,0)-2)) -> - | DJ24: =IF($J24="","-",IF($CW24=0,0, $CW24-IFERROR(3600*$CV24/$CS$56,0)-1)) -> - | DK24: =IF($J24="","-",IF($CW24=0,0, $CW24-IFERROR(3600*$CV24/$CS$56,0))) -> - | DL24: =IF($J24="","-",HLOOKUP(CX24,$DH$5:$DK$55,A24+1, FALSE)) -> - | DM24: =IF($J24="","-",IFERROR(IF(CU24=0,((DA24*(3600/DF24))/($CS$56*((DG24-DB24+1)/DF24))),((DA24*(3600/DF24))/(($CS$56*(((DG24-DB24+1)/DF24)))+((CU24*3600)/DF24)))),0)) -> - | DN24: =IF($J24="","-",CW24/CZ24) -> - | DO24: =IF(AND(I24>DA24,CP24<>"Y"),"Blocked?","OK") -> OK
A25: 20 | I25: =IF($J25="","-",B25*$L$2+C25*$M$2+D25*$N$2+E25*$O$2+F25*$P$2+G25*$Q$2+H25*$R$2) -> - | S25: =IF($J25="","-",L25*$L$2+M25*$M$2+N25*$N$2+O25*$O$2+P25*$P$2+Q25*$Q$2+R25*$R$2) -> - | AB25: =IF($J25="","-",U25*$L$2+V25*$M$2+W25*$N$2+X25*$O$2+Y25*$P$2+Z25*$Q$2+AA25*$R$2) -> - | AD25: =IF($J25="","-",AC25-T25) -> - | AM25: =IF($J25="","-",AF25*$L$2+AG25*$M$2+AH25*$N$2+AI25*$O$2+AJ25*$P$2+AK25*$Q$2+AL25*$R$2) -> - | AV25: =IF($J25="","-",AO25*$L$2+AP25*$M$2+AQ25*$N$2+AR25*$O$2+AS25*$P$2+AT25*$Q$2+AU25*$R$2) -> - | AX25: =IF($J25="","-",AW25-AN25) -> - | BG25: =IF($J25="","-",AZ25*$L$2+BA25*$M$2+BB25*$N$2+BC25*$O$2+BD25*$P$2+BE25*$Q$2+BF25*$R$2) -> - | BP25: =IF($J25="","-",BI25*$L$2+BJ25*$M$2+BK25*$N$2+BL25*$O$2+BM25*$P$2+BN25*$Q$2+BO25*$R$2) -> - | BR25: =IF($J25="","-",BQ25-BH25) -> - | CA25: =IF($J25="","-",BT25*$L$2+BU25*$M$2+BV25*$N$2+BW25*$O$2+BX25*$P$2+BY25*$Q$2+BZ25*$R$2) -> - | CJ25: =IF($J25="","-",CC25*$L$2+CD25*$M$2+CE25*$N$2+CF25*$O$2+CG25*$P$2+CH25*$Q$2+CI25*$R$2) -> - | CN25: =IF($J25="","-",IF(AND(AB25>0,S25=0),"Y","N")) -> - | CQ25: =IF($J25="","-",IF(AC25=0,0,AC25-J25)) -> - | CR25: =IF($J25="","-",IF(AND(I25>=CR$4,CQ25>=CQ$4,CP25="N",S25=0),"Yes","No")) -> - | CS25: =IF($J25="","",IF(S25>0,0,IF(AD25=0,0,AB25/(AD25*24)))) | CU25: =IF(J25="","-",CJ25) -> - | CV25: =IF($J25="","-",AB25+AV25+BP25) -> - | CW25: =IF($J25="","-",(AD25+AX25+BR25)*86400) -> - | CX25: =IF($J25="","-",IF(CP25="Y",2,IF(AND(CN25="y",CO25="y"),2,IF(AND(CN25="y",CO25="n"),1,IF(AND(CN25="n",CO25="y"),3,IF(AND(CN25="n",CO25="n"),4,"error")))))) -> - | CY25: =IF($J25="","-",S25+AM25+BG25+CA25) -> - | CZ25: =IF($J25="","-",(CL25-J25)*86400) -> - | DA25: =IF($J25="","-",CV25+CY25+CU25) -> - | DB25: =IF($J25="","-",IF(CW25=0,0,CW25-DD25-DE25)) -> - | DC25: =IF($J25="", "-", IF(AND(CV25=0, CX25=2), 1, IFERROR((DA25*3600)/(IFERROR(CZ25-DB25-2,CZ25-2)*$CS$56+CU25*3600),0))) -> - | DD25: =IF($J25="","-",IF(OR(CX25=1,CX25=3),1,IF(CX25=2,2,IF(CX25=4,0,0)))) -> - | DE25: =IF($J25="","-",IFERROR((3600*CV25/$CS$56),0)) -> - | DF25: =IF(J25="","-",(CM25-J25)*86400) -> - | DG25: =IF($J25="","-",(CL25-J25-(3/86400))*86400) -> - | DH25: =IF($J25="","-",IF($CW25=0,0, $CW25-IFERROR(3600*$CV25/$CS$56,0)-1)) -> - | DI25: =IF($J25="","-",IF($CW25=0,0, $CW25-IFERROR(3600*$CV25/$CS$56,0)-2)) -> - | DJ25: =IF($J25="","-",IF($CW25=0,0, $CW25-IFERROR(3600*$CV25/$CS$56,0)-1)) -> - | DK25: =IF($J25="","-",IF($CW25=0,0, $CW25-IFERROR(3600*$CV25/$CS$56,0))) -> - | DL25: =IF($J25="","-",HLOOKUP(CX25,$DH$5:$DK$55,A25+1, FALSE)) -> - | DM25: =IF($J25="","-",IFERROR(IF(CU25=0,((DA25*(3600/DF25))/($CS$56*((DG25-DB25+1)/DF25))),((DA25*(3600/DF25))/(($CS$56*(((DG25-DB25+1)/DF25)))+((CU25*3600)/DF25)))),0)) -> - | DN25: =IF($J25="","-",CW25/CZ25) -> - | DO25: =IF(AND(I25>DA25,CP25<>"Y"),"Blocked?","OK") -> OK
A26: 21 | I26: =IF($J26="","-",B26*$L$2+C26*$M$2+D26*$N$2+E26*$O$2+F26*$P$2+G26*$Q$2+H26*$R$2) -> - | S26: =IF($J26="","-",L26*$L$2+M26*$M$2+N26*$N$2+O26*$O$2+P26*$P$2+Q26*$Q$2+R26*$R$2) -> - | AB26: =IF($J26="","-",U26*$L$2+V26*$M$2+W26*$N$2+X26*$O$2+Y26*$P$2+Z26*$Q$2+AA26*$R$2) -> - | AD26: =IF($J26="","-",AC26-T26) -> - | AM26: =IF($J26="","-",AF26*$L$2+AG26*$M$2+AH26*$N$2+AI26*$O$2+AJ26*$P$2+AK26*$Q$2+AL26*$R$2) -> - | AV26: =IF($J26="","-",AO26*$L$2+AP26*$M$2+AQ26*$N$2+AR26*$O$2+AS26*$P$2+AT26*$Q$2+AU26*$R$2) -> - | AX26: =IF($J26="","-",AW26-AN26) -> - | BG26: =IF($J26="","-",AZ26*$L$2+BA26*$M$2+BB26*$N$2+BC26*$O$2+BD26*$P$2+BE26*$Q$2+BF26*$R$2) -> - | BP26: =IF($J26="","-",BI26*$L$2+BJ26*$M$2+BK26*$N$2+BL26*$O$2+BM26*$P$2+BN26*$Q$2+BO26*$R$2) -> - | BR26: =IF($J26="","-",BQ26-BH26) -> - | CA26: =IF($J26="","-",BT26*$L$2+BU26*$M$2+BV26*$N$2+BW26*$O$2+BX26*$P$2+BY26*$Q$2+BZ26*$R$2) -> - | CJ26: =IF($J26="","-",CC26*$L$2+CD26*$M$2+CE26*$N$2+CF26*$O$2+CG26*$P$2+CH26*$Q$2+CI26*$R$2) -> - | CN26: =IF($J26="","-",IF(AND(AB26>0,S26=0),"Y","N")) -> - | CQ26: =IF($J26="","-",IF(AC26=0,0,AC26-J26)) -> - | CR26: =IF($J26="","-",IF(AND(I26>=CR$4,CQ26>=CQ$4,CP26="N",S26=0),"Yes","No")) -> - | CS26: =IF($J26="","",IF(S26>0,0,IF(AD26=0,0,AB26/(AD26*24)))) | CU26: =IF(J26="","-",CJ26) -> - | CV26: =IF($J26="","-",AB26+AV26+BP26) -> - | CW26: =IF($J26="","-",(AD26+AX26+BR26)*86400) -> - | CX26: =IF($J26="","-",IF(CP26="Y",2,IF(AND(CN26="y",CO26="y"),2,IF(AND(CN26="y",CO26="n"),1,IF(AND(CN26="n",CO26="y"),3,IF(AND(CN26="n",CO26="n"),4,"error")))))) -> - | CY26: =IF($J26="","-",S26+AM26+BG26+CA26) -> - | CZ26: =IF($J26="","-",(CL26-J26)*86400) -> - | DA26: =IF($J26="","-",CV26+CY26+CU26) -> - | DB26: =IF($J26="","-",IF(CW26=0,0,CW26-DD26-DE26)) -> - | DC26: =IF($J26="", "-", IF(AND(CV26=0, CX26=2), 1, IFERROR((DA26*3600)/(IFERROR(CZ26-DB26-2,CZ26-2)*$CS$56+CU26*3600),0))) -> - | DD26: =IF($J26="","-",IF(OR(CX26=1,CX26=3),1,IF(CX26=2,2,IF(CX26=4,0,0)))) -> - | DE26: =IF($J26="","-",IFERROR((3600*CV26/$CS$56),0)) -> - | DF26: =IF(J26="","-",(CM26-J26)*86400) -> - | DG26: =IF($J26="","-",(CL26-J26-(3/86400))*86400) -> - | DH26: =IF($J26="","-",IF($CW26=0,0, $CW26-IFERROR(3600*$CV26/$CS$56,0)-1)) -> - | DI26: =IF($J26="","-",IF($CW26=0,0, $CW26-IFERROR(3600*$CV26/$CS$56,0)-2)) -> - | DJ26: =IF($J26="","-",IF($CW26=0,0, $CW26-IFERROR(3600*$CV26/$CS$56,0)-1)) -> - | DK26: =IF($J26="","-",IF($CW26=0,0, $CW26-IFERROR(3600*$CV26/$CS$56,0))) -> - | DL26: =IF($J26="","-",HLOOKUP(CX26,$DH$5:$DK$55,A26+1, FALSE)) -> - | DM26: =IF($J26="","-",IFERROR(IF(CU26=0,((DA26*(3600/DF26))/($CS$56*((DG26-DB26+1)/DF26))),((DA26*(3600/DF26))/(($CS$56*(((DG26-DB26+1)/DF26)))+((CU26*3600)/DF26)))),0)) -> - | DN26: =IF($J26="","-",CW26/CZ26) -> - | DO26: =IF(AND(I26>DA26,CP26<>"Y"),"Blocked?","OK") -> OK
A27: 22 | I27: =IF($J27="","-",B27*$L$2+C27*$M$2+D27*$N$2+E27*$O$2+F27*$P$2+G27*$Q$2+H27*$R$2) -> - | S27: =IF($J27="","-",L27*$L$2+M27*$M$2+N27*$N$2+O27*$O$2+P27*$P$2+Q27*$Q$2+R27*$R$2) -> - | AB27: =IF($J27="","-",U27*$L$2+V27*$M$2+W27*$N$2+X27*$O$2+Y27*$P$2+Z27*$Q$2+AA27*$R$2) -> - | AD27: =IF($J27="","-",AC27-T27) -> - | AM27: =IF($J27="","-",AF27*$L$2+AG27*$M$2+AH27*$N$2+AI27*$O$2+AJ27*$P$2+AK27*$Q$2+AL27*$R$2) -> - | AV27: =IF($J27="","-",AO27*$L$2+AP27*$M$2+AQ27*$N$2+AR27*$O$2+AS27*$P$2+AT27*$Q$2+AU27*$R$2) -> - | AX27: =IF($J27="","-",AW27-AN27) -> - | BG27: =IF($J27="","-",AZ27*$L$2+BA27*$M$2+BB27*$N$2+BC27*$O$2+BD27*$P$2+BE27*$Q$2+BF27*$R$2) -> - | BP27: =IF($J27="","-",BI27*$L$2+BJ27*$M$2+BK27*$N$2+BL27*$O$2+BM27*$P$2+BN27*$Q$2+BO27*$R$2) -> - | BR27: =IF($J27="","-",BQ27-BH27) -> - | CA27: =IF($J27="","-",BT27*$L$2+BU27*$M$2+BV27*$N$2+BW27*$O$2+BX27*$P$2+BY27*$Q$2+BZ27*$R$2) -> - | CJ27: =IF($J27="","-",CC27*$L$2+CD27*$M$2+CE27*$N$2+CF27*$O$2+CG27*$P$2+CH27*$Q$2+CI27*$R$2) -> - | CN27: =IF($J27="","-",IF(AND(AB27>0,S27=0),"Y","N")) -> - | CQ27: =IF($J27="","-",IF(AC27=0,0,AC27-J27)) -> - | CR27: =IF($J27="","-",IF(AND(I27>=CR$4,CQ27>=CQ$4,CP27="N",S27=0),"Yes","No")) -> - | CS27: =IF($J27="","",IF(S27>0,0,IF(AD27=0,0,AB27/(AD27*24)))) | CU27: =IF(J27="","-",CJ27) -> - | CV27: =IF($J27="","-",AB27+AV27+BP27) -> - | CW27: =IF($J27="","-",(AD27+AX27+BR27)*86400) -> - | CX27: =IF($J27="","-",IF(CP27="Y",2,IF(AND(CN27="y",CO27="y"),2,IF(AND(CN27="y",CO27="n"),1,IF(AND(CN27="n",CO27="y"),3,IF(AND(CN27="n",CO27="n"),4,"error")))))) -> - | CY27: =IF($J27="","-",S27+AM27+BG27+CA27) -> - | CZ27: =IF($J27="","-",(CL27-J27)*86400) -> - | DA27: =IF($J27="","-",CV27+CY27+CU27) -> - | DB27: =IF($J27="","-",IF(CW27=0,0,CW27-DD27-DE27)) -> - | DC27: =IF($J27="", "-", IF(AND(CV27=0, CX27=2), 1, IFERROR((DA27*3600)/(IFERROR(CZ27-DB27-2,CZ27-2)*$CS$56+CU27*3600),0))) -> - | DD27: =IF($J27="","-",IF(OR(CX27=1,CX27=3),1,IF(CX27=2,2,IF(CX27=4,0,0)))) -> - | DE27: =IF($J27="","-",IFERROR((3600*CV27/$CS$56),0)) -> - | DF27: =IF(J27="","-",(CM27-J27)*86400) -> - | DG27: =IF($J27="","-",(CL27-J27-(3/86400))*86400) -> - | DH27: =IF($J27="","-",IF($CW27=0,0, $CW27-IFERROR(3600*$CV27/$CS$56,0)-1)) -> - | DI27: =IF($J27="","-",IF($CW27=0,0, $CW27-IFERROR(3600*$CV27/$CS$56,0)-2)) -> - | DJ27: =IF($J27="","-",IF($CW27=0,0, $CW27-IFERROR(3600*$CV27/$CS$56,0)-1)) -> - | DK27: =IF($J27="","-",IF($CW27=0,0, $CW27-IFERROR(3600*$CV27/$CS$56,0))) -> - | DL27: =IF($J27="","-",HLOOKUP(CX27,$DH$5:$DK$55,A27+1, FALSE)) -> - | DM27: =IF($J27="","-",IFERROR(IF(CU27=0,((DA27*(3600/DF27))/($CS$56*((DG27-DB27+1)/DF27))),((DA27*(3600/DF27))/(($CS$56*(((DG27-DB27+1)/DF27)))+((CU27*3600)/DF27)))),0)) -> - | DN27: =IF($J27="","-",CW27/CZ27) -> - | DO27: =IF(AND(I27>DA27,CP27<>"Y"),"Blocked?","OK") -> OK
... A55: 50 | I55: =IF($J55="","-",B55*$L$2+C55*$M$2+D55*$N$2+E55*$O$2+F55*$P$2+G55*$Q$2+H55*$R$2) -> - | S55: =IF($J55="","-",L55*$L$2+M55*$M$2+N55*$N$2+O55*$O$2+P55*$P$2+Q55*$Q$2+R55*$R$2) -> - | AB55: =IF($J55="","-",U55*$L$2+V55*$M$2+W55*$N$2+X55*$O$2+Y55*$P$2+Z55*$Q$2+AA55*$R$2) -> - | AD55: =IF($J55="","-",AC55-T55) -> - | AM55: =IF($J55="","-",AF55*$L$2+AG55*$M$2+AH55*$N$2+AI55*$O$2+AJ55*$P$2+AK55*$Q$2+AL55*$R$2) -> - | AV55: =IF($J55="","-",AO55*$L$2+AP55*$M$2+AQ55*$N$2+AR55*$O$2+AS55*$P$2+AT55*$Q$2+AU55*$R$2) -> - | AX55: =IF($J55="","-",AW55-AN55) -> - | BG55: =IF($J55="","-",AZ55*$L$2+BA55*$M$2+BB55*$N$2+BC55*$O$2+BD55*$P$2+BE55*$Q$2+BF55*$R$2) -> - | BP55: =IF($J55="","-",BI55*$L$2+BJ55*$M$2+BK55*$N$2+BL55*$O$2+BM55*$P$2+BN55*$Q$2+BO55*$R$2) -> - | BR55: =IF($J55="","-",BQ55-BH55) -> - | CA55: =IF($J55="","-",BT55*$L$2+BU55*$M$2+BV55*$N$2+BW55*$O$2+BX55*$P$2+BY55*$Q$2+BZ55*$R$2) -> - | CJ55: =IF($J55="","-",CC55*$L$2+CD55*$M$2+CE55*$N$2+CF55*$O$2+CG55*$P$2+CH55*$Q$2+CI55*$R$2) -> - | CN55: =IF($J55="","-",IF(AND(AB55>0,S55=0),"Y","N")) -> - | CQ55: =IF($J55="","-",IF(AC55=0,0,AC55-J55)) -> - | CR55: =IF($J55="","-",IF(AND(I55>=CR$4,CQ55>=CQ$4,CP55="N",S55=0),"Yes","No")) -> - | CS55: =IF($J55="","",IF(S55>0,0,IF(AD55=0,0,AB55/(AD55*24)))) | CU55: =IF(J55="","-",CJ55) -> - | CV55: =IF($J55="","-",AB55+AV55+BP55) -> - | CW55: =IF($J55="","-",(AD55+AX55+BR55)*86400) -> - | CX55: =IF($J55="","-",IF(CP55="Y",2,IF(AND(CN55="y",CO55="y"),2,IF(AND(CN55="y",CO55="n"),1,IF(AND(CN55="n",CO55="y"),3,IF(AND(CN55="n",CO55="n"),4,"error")))))) -> - | CY55: =IF($J55="","-",S55+AM55+BG55+CA55) -> - | CZ55: =IF($J55="","-",(CL55-J55)*86400) -> - | DA55: =IF($J55="","-",CV55+CY55+CU55) -> - | DB55: =IF($J55="","-",IF(CW55=0,0,CW55-DD55-DE55)) -> - | DC55: =IF($J55="", "-", IF(AND(CV55=0, CX55=2), 1, IFERROR((DA55*3600)/(IFERROR(CZ55-DB55-2,CZ55-2)*$CS$56+CU55*3600),0))) -> - | DD55: =IF($J55="","-",IF(OR(CX55=1,CX55=3),1,IF(CX55=2,2,IF(CX55=4,0,0)))) -> - | DE55: =IF($J55="","-",IFERROR((3600*CV55/$CS$56),0)) -> - | DF55: =IF(J55="","-",(CM55-J55)*86400) -> - | DG55: =IF($J55="","-",(CL55-J55-(3/86400))*86400) -> - | DH55: =IF($J55="","-",IF($CW55=0,0, $CW55-IFERROR(3600*$CV55/$CS$56,0)-1)) -> - | DI55: =IF($J55="","-",IF($CW55=0,0, $CW55-IFERROR(3600*$CV55/$CS$56,0)-2)) -> - | DJ55: =IF($J55="","-",IF($CW55=0,0, $CW55-IFERROR(3600*$CV55/$CS$56,0)-1)) -> - | DK55: =IF($J55="","-",IF($CW55=0,0, $CW55-IFERROR(3600*$CV55/$CS$56,0))) -> - | DL55: =IF($J55="","-",HLOOKUP(CX55,$DH$5:$DK$55,A55+1, FALSE)) -> - | DM55: =IF($J55="","-",IFERROR(IF(CU55=0,((DA55*(3600/DF55))/($CS$56*((DG55-DB55+1)/DF55))),((DA55*(3600/DF55))/(($CS$56*(((DG55-DB55+1)/DF55)))+((CU55*3600)/DF55)))),0)) -> - | DN55: =IF($J55="","-",CW55/CZ55) -> - | DO55: =IF(AND(I55>DA55,CP55<>"Y"),"Blocked?","OK") -> OK
B56: =IFERROR(SUMIFS(B6:B55,$J6:$J55,">0")/COUNTIFS($J6:$J55,">0"),0)*$L$2 -> 0 | C56: =IFERROR(SUMIFS(C6:C55,$J6:$J55,">0")/COUNTIFS($J6:$J55,">0"),0)*$M$2 -> 0 | D56: =IFERROR(SUMIFS(D6:D55,$J6:$J55,">0")/COUNTIFS($J6:$J55,">0"),0)*$N$2 -> 11.1 | E56: =IFERROR(SUMIFS(E6:E55,$J6:$J55,">0")/COUNTIFS($J6:$J55,">0"),0)*$O$2 -> 1.3 | F56: =IFERROR(SUMIFS(F6:F55,$J6:$J55,">0")/COUNTIFS($J6:$J55,">0"),0)*$O$2 -> 0.3 | G56: =IFERROR(SUMIFS(G6:G55,$J6:$J55,">0")/COUNTIFS($J6:$J55,">0"),0)*$O$2 -> 0.3 | H56: =IFERROR(SUMIFS(H6:H55,$J6:$J55,">0")/COUNTIFS($J6:$J55,">0"),0)*$R$2 -> 0.4 | I56: =IFERROR(SUMIFS(I6:I55,$J6:$J55,">0")/COUNTIFS($J6:$J55,">0"),0) -> 13.94 | J56: =COUNTIFS($J6:$J55,">0",J6:J55,">0") -> 10 | L56: =IFERROR(SUMIFS(L6:L55,$J6:$J55,">0")/COUNTIFS($J6:$J55,">0"),0)*$L$2 -> 0 | M56: =IFERROR(SUMIFS(M6:M55,$J6:$J55,">0")/COUNTIFS($J6:$J55,">0"),0)*$M$2 -> 0 | N56: =IFERROR(SUMIFS(N6:N55,$J6:$J55,">0")/COUNTIFS($J6:$J55,">0"),0)*$N$2 -> 0 | O56: =IFERROR(SUMIFS(O6:O55,$J6:$J55,">0")/COUNTIFS($J6:$J55,">0"),0)*$O$2 -> 0 | P56: =IFERROR(SUMIFS(P6:P55,$J6:$J55,">0")/COUNTIFS($J6:$J55,">0"),0)*$O$2 -> 0 | Q56: =IFERROR(SUMIFS(Q6:Q55,$J6:$J55,">0")/COUNTIFS($J6:$J55,">0"),0)*$O$2 -> 0 | R56: =IFERROR(SUMIFS(R6:R55,$J6:$J55,">0")/COUNTIFS($J6:$J55,">0"),0)*$R$2 -> 0 | S56: =IFERROR(SUMIFS(S6:S55,$J6:$J55,">0")/COUNTIFS($J6:$J55,">0"),0) -> 0 | T56: =COUNTIFS($J6:$J55,">0",T6:T55,">0") -> 10 | U56: =IFERROR(SUMIFS(U6:U55,$J6:$J55,">0")/COUNTIFS($J6:$J55,">0"),0)*$L$2 -> 0 | V56: =IFERROR(SUMIFS(V6:V55,$J6:$J55,">0")/COUNTIFS($J6:$J55,">0"),0)*$M$2 -> 0 | W56: =IFERROR(SUMIFS(W6:W55,$J6:$J55,">0")/COUNTIFS($J6:$J55,">0"),0)*$N$2 -> 7.8 | X56: =IFERROR(SUMIFS(X6:X55,$J6:$J55,">0")/COUNTIFS($J6:$J55,">0"),0)*$O$2 -> 0.9 | Y56: =IFERROR(SUMIFS(Y6:Y55,$J6:$J55,">0")/COUNTIFS($J6:$J55,">0"),0)*$O$2 -> 0.2 | Z56: =IFERROR(SUMIFS(Z6:Z55,$J6:$J55,">0")/COUNTIFS($J6:$J55,">0"),0)*$O$2 -> 0.2 | AA56: =IFERROR(SUMIFS(AA6:AA55,$J6:$J55,">0")/COUNTIFS($J6:$J55,">0"),0)*$R$2 -> 0.6 | AB56: =IFERROR(SUMIFS(AB6:AB55,$J6:$J55,">0")/COUNTIFS($J6:$J55,">0"),0) -> 10.06 | AC56: =COUNTIFS($J6:$J55,">0",AC6:AC55,">0") -> 10 | AD56: =IFERROR(SUMIFS(AD6:AD55,$J6:$J55,">0")/COUNTIFS($J6:$J55,">0"),0) -> 0.00018518519 | AF56: =IFERROR(SUMIFS(AF6:AF55,$J6:$J55,">0")/COUNTIFS($J6:$J55,">0"),0)*$L$2 -> 0 | AG56: =IFERROR(SUMIFS(AG6:AG55,$J6:$J55,">0")/COUNTIFS($J6:$J55,">0"),0)*$M$2 -> 0 | AH56: =IFERROR(SUMIFS(AH6:AH55,$J6:$J55,">0")/COUNTIFS($J6:$J55,">0"),0)*$N$2 -> 0 | AI56: =IFERROR(SUMIFS(AI6:AI55,$J6:$J55,">0")/COUNTIFS($J6:$J55,">0"),0)*$O$2 -> 0 | AJ56: =IFERROR(SUMIFS(AJ6:AJ55,$J6:$J55,">0")/COUNTIFS($J6:$J55,">0"),0)*$O$2 -> 0 | AK56: =IFERROR(SUMIFS(AK6:AK55,$J6:$J55,">0")/COUNTIFS($J6:$J55,">0"),0)*$O$2 -> 0 | AL56: =IFERROR(SUMIFS(AL6:AL55,$J6:$J55,">0")/COUNTIFS($J6:$J55,">0"),0)*$R$2 -> 0 | AM56: =IFERROR(SUMIFS(AM6:AM55,$J6:$J55,">0")/COUNTIFS($J6:$J55,">0"),0) -> 0 | AN56: =COUNTIFS($J6:$J55,">0",AN6:AN55,">0") -> 0 | AO56: =IFERROR(SUMIFS(AO6:AO55,$J6:$J55,">0")/COUNTIFS($J6:$J55,">0"),0)*$L$2 -> 0 | AP56: =IFERROR(SUMIFS(AP6:AP55,$J6:$J55,">0")/COUNTIFS($J6:$J55,">0"),0)*$M$2 -> 0 | AQ56: =IFERROR(SUMIFS(AQ6:AQ55,$J6:$J55,">0")/COUNTIFS($J6:$J55,">0"),0)*$N$2 -> 0 | AR56: =IFERROR(SUMIFS(AR6:AR55,$J6:$J55,">0")/COUNTIFS($J6:$J55,">0"),0)*$O$2 -> 0 | AS56: =IFERROR(SUMIFS(AS6:AS55,$J6:$J55,">0")/COUNTIFS($J6:$J55,">0"),0)*$O$2 -> 0 | AT56: =IFERROR(SUMIFS(AT6:AT55,$J6:$J55,">0")/COUNTIFS($J6:$J55,">0"),0)*$O$2 -> 0 | AU56: =IFERROR(SUMIFS(AU6:AU55,$J6:$J55,">0")/COUNTIFS($J6:$J55,">0"),0)*$O$2 -> 0 | AV56: =IFERROR(SUMIFS(AV6:AV55,$J6:$J55,">0")/COUNTIFS($J6:$J55,">0"),0) -> 0 | AW56: =COUNTIFS($J6:$J55,">0",AW6:AW55,">0") -> 0 | AX56: =IFERROR(SUMIFS(AX6:AX55,$J6:$J55,">0")/COUNTIFS($J6:$J55,">0"),0) -> 0 | AZ56: =IFERROR(SUMIFS(AZ6:AZ55,$J6:$J55,">0")/COUNTIFS($J6:$J55,">0"),0)*$L$2 -> 0 | BA56: =IFERROR(SUMIFS(BA6:BA55,$J6:$J55,">0")/COUNTIFS($J6:$J55,">0"),0)*$L$2 -> 0 | BB56: =IFERROR(SUMIFS(BB6:BB55,$J6:$J55,">0")/COUNTIFS($J6:$J55,">0"),0)*$L$2 -> 0 | BC56: =IFERROR(SUMIFS(BC6:BC55,$J6:$J55,">0")/COUNTIFS($J6:$J55,">0"),0)*$L$2 -> 0 | BD56: =IFERROR(SUMIFS(BD6:BD55,$J6:$J55,">0")/COUNTIFS($J6:$J55,">0"),0)*$L$2 -> 0 | BE56: =IFERROR(SUMIFS(BE6:BE55,$J6:$J55,">0")/COUNTIFS($J6:$J55,">0"),0)*$L$2 -> 0 | BF56: =IFERROR(SUMIFS(BF6:BF55,$J6:$J55,">0")/COUNTIFS($J6:$J55,">0"),0)*$L$2 -> 0 | BG56: =IFERROR(SUMIFS(BG6:BG55,$J6:$J55,">0")/COUNTIFS($J6:$J55,">0"),0) -> 0 | BH56: =COUNTIFS($J6:$J55,">0",BH6:BH55,">0") -> 0 | BI56: =IFERROR(SUMIFS(BI6:BI55,$J6:$J55,">0")/COUNTIFS($J6:$J55,">0"),0)*$L$2 -> 0 | BJ56: =IFERROR(SUMIFS(BJ6:BJ55,$J6:$J55,">0")/COUNTIFS($J6:$J55,">0"),0)*$M$2 -> 0 | BK56: =IFERROR(SUMIFS(BK6:BK55,$J6:$J55,">0")/COUNTIFS($J6:$J55,">0"),0)*$N$2 -> 0 | BL56: =IFERROR(SUMIFS(BL6:BL55,$J6:$J55,">0")/COUNTIFS($J6:$J55,">0"),0)*$O$2 -> 0 | BM56: =IFERROR(SUMIFS(BM6:BM55,$J6:$J55,">0")/COUNTIFS($J6:$J55,">0"),0)*$O$2 -> 0 | BN56: =IFERROR(SUMIFS(BN6:BN55,$J6:$J55,">0")/COUNTIFS($J6:$J55,">0"),0)*$O$2 -> 0 | BO56: =IFERROR(SUMIFS(BO6:BO55,$J6:$J55,">0")/COUNTIFS($J6:$J55,">0"),0)*$O$2 -> 0 | BP56: =IFERROR(SUMIFS(BP6:BP55,$J6:$J55,">0")/COUNTIFS($J6:$J55,">0"),0) -> 0 | BQ56: =COUNTIFS($J6:$J55,">0",BQ6:BQ55,">0") -> 0 | BR56: =IFERROR(SUMIFS(BR6:BR55,$J6:$J55,">0")/COUNTIFS($J6:$J55,">0"),0) -> 0 | BT56: =IFERROR(SUMIFS(BT6:BT55,$J6:$J55,">0")/COUNTIFS($J6:$J55,">0"),0)*$L$2 -> 0 | BU56: =IFERROR(SUMIFS(BU6:BU55,$J6:$J55,">0")/COUNTIFS($J6:$J55,">0"),0)*$M$2 -> 0 | BV56: =IFERROR(SUMIFS(BV6:BV55,$J6:$J55,">0")/COUNTIFS($J6:$J55,">0"),0)*$N$2 -> 0 | BW56: =IFERROR(SUMIFS(BW6:BW55,$J6:$J55,">0")/COUNTIFS($J6:$J55,">0"),0)*$O$2 -> 0 | BX56: =IFERROR(SUMIFS(BX6:BX55,$J6:$J55,">0")/COUNTIFS($J6:$J55,">0"),0)*$O$2 -> 0 | BY56: =IFERROR(SUMIFS(BY6:BY55,$J6:$J55,">0")/COUNTIFS($J6:$J55,">0"),0)*$O$2 -> 0 | BZ56: =IFERROR(SUMIFS(BZ6:BZ55,$J6:$J55,">0")/COUNTIFS($J6:$J55,">0"),0)*$O$2 -> 0 | CA56: =IFERROR(SUMIFS(CA6:CA55,$J6:$J55,">0")/COUNTIFS($J6:$J55,">0"),0) -> 0 | CC56: =IFERROR(SUMIFS(CC6:CC55,$J6:$J55,">0")/COUNTIFS($J6:$J55,">0"),0)*$L$2 -> 0 | CD56: =IFERROR(SUMIFS(CD6:CD55,$J6:$J55,">0")/COUNTIFS($J6:$J55,">0"),0)*$M$2 -> 0 | CE56: =IFERROR(SUMIFS(CE6:CE55,$J6:$J55,">0")/COUNTIFS($J6:$J55,">0"),0)*$N$2 -> 0 | CF56: =IFERROR(SUMIFS(CF6:CF55,$J6:$J55,">0")/COUNTIFS($J6:$J55,">0"),0)*$O$2 -> 0 | CG56: =IFERROR(SUMIFS(CG6:CG55,$J6:$J55,">0")/COUNTIFS($J6:$J55,">0"),0)*$O$2 -> 0 | CH56: =IFERROR(SUMIFS(CH6:CH55,$J6:$J55,">0")/COUNTIFS($J6:$J55,">0"),0)*$O$2 -> 0 | CI56: =IFERROR(SUMIFS(CI6:CI55,$J6:$J55,">0")/COUNTIFS($J6:$J55,">0"),0)*$O$2 -> 0 | CJ56: =IFERROR(SUMIFS(CJ6:CJ55,$J6:$J55,">0")/COUNTIFS($J6:$J55,">0"),0) -> 0 | CL56: =COUNTIFS($J6:$J55,">0",CL6:CL55,">0") -> 10 | CM56: =COUNTIFS($J6:$J55,">0",CM6:CM55,">0") -> 10 | CR56: =COUNTIF(CR6:CR55,"yes") -> 9 | CS56: =IFERROR(SUMIFS(CS6:CS55,$CR6:$CR55,"Yes")/COUNTIFS($CR6:$CR55,"Yes"),0) -> 2269.3162 | CU56: =IFERROR(SUMIFS(CU6:CU55,$J6:$J55,">0")/COUNTIFS($J6:$J55,">0"),0) -> 0 | CV56: =IFERROR(SUMIFS(CV6:CV55,$J6:$J55,">0")/COUNTIFS($J6:$J55,">0"),0) -> 10.06 | CW56: =IFERROR(SUMIFS(CW6:CW55,$J6:$J55,">0")/COUNTIFS($J6:$J55,">0"),0) -> 16 | CY56: =IFERROR(SUMIFS(CY6:CY55,$J6:$J55,">0")/COUNTIFS($J6:$J55,">0"),0) -> 0 | CZ56: =IFERROR(SUMIFS(CZ6:CZ55,$J6:$J55,">0")/COUNTIFS($J6:$J55,">0"),0) -> 18.9 | DA56: =IFERROR(SUMIFS(DA6:DA55,$J6:$J55,">0")/COUNTIFS($J6:$J55,">0"),0) -> 10.06 | DB56: =IFERROR(SUMIFS(DB6:DB55,$J6:$J55,">0")/COUNTIFS($J6:$J55,">0"),0) -> -1.8589921 | DC56: =IFERROR(SUMIFS(DC6:DC55,$J6:$J55,">0")/COUNTIFS($J6:$J55,">0"),0) -> 0.85283303
B57: Average | C57: Average | D57: Average | E57: Average | F57: Average | G57: Average | H57: Average | I57: Average | J57: No. of cycles | L57: Average | M57: Average | N57: Average | O57: Average | P57: Average | Q57: Average | R57: Average | S57: Average | T57: No. of HD flows | U57: Average | V57: Average | W57: Average | X57: Average | Y57: Average | Z57: Average | AA57: Average | AB57: Average | AC57: No. of HD flows | AD57: Average | AF57: Average | AG57: Average | AH57: Average | AI57: Average | AJ57: Average | AK57: Average | AL57: Average | AM57: Average | AN57: No. of HD flows | AO57: Average | AP57: Average | AQ57: Average | AR57: Average | AS57: Average | AT57: Average | AU57: Average | AV57: Average | AW57: No. of HD flows | AX57: Average | AZ57: Average | BA57: Average | BB57: Average | BC57: Average | BD57: Average | BE57: Average | BF57: Average | BG57: Average | BH57: No. of HD flows | BI57: Average | BJ57: Average | BK57: Average | BL57: Average | BM57: Average | BN57: Average | BO57: Average | BP57: Average | BQ57: No. of HD flows | BR57: Average | BT57: Average | BU57: Average | BV57: Average | BW57: Average | BX57: Average | BY57: Average | BZ57: Average | CA57: Average | CC57: Average | CD57: Average | CE57: Average | CF57: Average | CG57: Average | CH57: Average | CI57: Average | CJ57: Average | CL57: No. of cycles | CM57: No. of cycles | CR57: No. of suitable | CS57: Average | CU57: Average | CV57: Average | CW57: Average | CY57: Average | CZ57: Average | DA57: Average | DB57: Average | DC57: Average
C59: Site | D59: =D1 -> Site 4,Stoneham Interchange | J59: Class | L59: =L1 -> PCL | M59: =M1 -> MCL | N59: =N1 -> CAR | O59: =O1 -> LGV | P59: =P1 -> OGV1 | Q59: =Q1 -> OGV2 | R59: =R1 -> PSV | V59: Day | W59: =W1 -> Thursday 13th February 2025
C60: Stop Line | D60: =D2 -> #VALUE! | J60: PCU value | L60: =L2 -> 0.2 | M60: =M2 -> 0.4 | N60: =N2 -> 1 | O60: =O2 -> 1 | P60: =P2 -> 1.5 | Q60: =Q2 -> 2.3 | R60: =R2 -> 2 | V60: Time Period | W60: PM
L61: Firast Flow | AF61: Second Flow | AZ61: Third Flow | BT61: Fourth Flow
B62: Queue | J62: Green On | L62: Low Demand (Unsaturated) | T62: High Demand (Saturated) | AF62: Low Demand (Unsaturated) | AN62: High Demand (Saturated) | AZ62: Low Demand (Unsaturated) | BH62: High Demand (Saturated) | BT62: Low Demand (Unsaturated) | CC62: Flare Storage | CL62: Red On | CM62: Next Green On | CN62: High Demand at: | CQ62: 0.00013888889 | CR62: =CR4 -> 7 | CS62: Sat Flow (PCU/hr) | CU62: Flare Storage (PCU) | CV62: High Demand (PCU) | CW62: Duration of HD (seconds) | CX62: Status of HD | CY62: Low Demand (PCU) | CZ62: Green & Amber (seconds) | DA62: Total Flow (PCU) | DB62: Underutilised Green Time [UGT] (S) | DC62: Degree of Saturation [DoS] (%)
B63: =$L$1 -> PCL | C63: =$M$1 -> MCL | D63: =$N$1 -> CAR | E63: =$O$1 -> LGV | F63: =$P$1 -> OGV1 | G63: =$Q$1 -> OGV2 | H63: =$R$1 -> PSV | I63: Total PCU's | L63: =$L$1 -> PCL | M63: =$M$1 -> MCL | N63: =$N$1 -> CAR | O63: =$O$1 -> LGV | P63: =$P$1 -> OGV1 | Q63: =$Q$1 -> OGV2 | R63: =$R$1 -> PSV | S63: Total PCU's | T63: Start of #1 HD | U63: =$L$1 -> PCL | V63: =$M$1 -> MCL | W63: =$N$1 -> CAR | X63: =$O$1 -> LGV | Y63: =$P$1 -> OGV1 | Z63: =$Q$1 -> OGV2 | AA63: =$R$1 -> PSV | AB63: Total PCU's | AC63: End of #1 HD | AD63: Duration of #1 HD flow | AF63: =$L$1 -> PCL | AG63: =$M$1 -> MCL | AH63: =$N$1 -> CAR | AI63: =$O$1 -> LGV | AJ63: =$P$1 -> OGV1 | AK63: =$Q$1 -> OGV2 | AL63: =$R$1 -> PSV | AM63: Total PCU's | AN63: Start of #2 HD | AO63: =$L$1 -> PCL | AP63: =$M$1 -> MCL | AQ63: =$N$1 -> CAR | AR63: =$O$1 -> LGV | AS63: =$P$1 -> OGV1 | AT63: =$Q$1 -> OGV2 | AU63: =$R$1 -> PSV | AV63: Total PCU's | AW63: End of #2 HD | AX63: Duration of #2 HD flow | AZ63: =$L$1 -> PCL | BA63: =$M$1 -> MCL | BB63: =$N$1 -> CAR | BC63: =$O$1 -> LGV | BD63: =$P$1 -> OGV1 | BE63: =$Q$1 -> OGV2 | BF63: =$R$1 -> PSV | BG63: Total PCU's | BH63: Start of #3 HD | BI63: =$L$1 -> PCL | BJ63: =$M$1 -> MCL | BK63: =$N$1 -> CAR | BL63: =$O$1 -> LGV | BM63: =$P$1 -> OGV1 | BN63: =$Q$1 -> OGV2 | BO63: =$R$1 -> PSV | BP63: Total PCU's | BQ63: End of #3 HD | BR63: Duration of #3 HD flow | BT63: =$L$1 -> PCL | BU63: =$M$1 -> MCL | BV63: =$N$1 -> CAR | BW63: =$O$1 -> LGV | BX63: =$P$1 -> OGV1 | BY63: =$Q$1 -> OGV2 | BZ63: =$R$1 -> PSV | CA63: Total PCU's | CC63: =$L$1 -> PCL | CD63: =$M$1 -> MCL | CE63: =$N$1 -> CAR | CF63: =$O$1 -> LGV | CG63: =$P$1 -> OGV1 | CH63: =$Q$1 -> OGV2 | CI63: =$R$1 -> PSV | CJ63: Total PCU's | CN63: Start of Green | CO63: End of Amber | CP63: Blocked Junction | CQ63: First flow duration | CR63: Suitable? | DD63: Lost Time (Lt) | DE63: Normal Green [Gn] (S) | DF63: Cycle Time (S) | DG63: Actual Green Time (S) | DH63: 1 | DI63: 2 | DJ63: 3 | DK63: 4 | DL63: UGT | DM63: Dos | DN63: HD /G&A | DO63: Queue >Flow
A64: 1 | D64: 6 | E64: 3 | I64: =IF($J64="","-",B64*$L$2+C64*$M$2+D64*$N$2+E64*$O$2+F64*$P$2+G64*$Q$2+H64*$R$2) -> 9 | J64: 0.71337963 | S64: =IF($J64="","-",L64*$L$2+M64*$M$2+N64*$N$2+O64*$O$2+P64*$P$2+Q64*$Q$2+R64*$R$2) -> 0 | T64: 0.71340278 | W64: 6 | X64: 3 | AB64: =IF($J64="","-",U64*$L$2+V64*$M$2+W64*$N$2+X64*$O$2+Y64*$P$2+Z64*$Q$2+AA64*$R$2) -> 9 | AC64: 0.71359954 | AD64: =IF($J64="","-",AC64-T64) -> 0.00019675926 | AM64: =IF($J64="","-",AF64*$L$2+AG64*$M$2+AH64*$N$2+AI64*$O$2+AJ64*$P$2+AK64*$Q$2+AL64*$R$2) -> 0 | AV64: =IF($J64="","-",AO64*$L$2+AP64*$M$2+AQ64*$N$2+AR64*$O$2+AS64*$P$2+AT64*$Q$2+AU64*$R$2) -> 0 | AX64: =IF($J64="","-",AW64-AN64) -> 0 | BG64: =IF($J64="","-",AZ64*$L$2+BA64*$M$2+BB64*$N$2+BC64*$O$2+BD64*$P$2+BE64*$Q$2+BF64*$R$2) -> 0 | BP64: =IF($J64="","-",BI64*$L$2+BJ64*$M$2+BK64*$N$2+BL64*$O$2+BM64*$P$2+BN64*$Q$2+BO64*$R$2) -> 0 | BR64: =IF($J64="","-",BQ64-BH64) -> 0 | CA64: =IF($J64="","-",BT64*$L$2+BU64*$M$2+BV64*$N$2+BW64*$O$2+BX64*$P$2+BY64*$Q$2+BZ64*$R$2) -> 0 | CJ64: =IF($J64="","-",CC64*$L$2+CD64*$M$2+CE64*$N$2+CF64*$O$2+CG64*$P$2+CH64*$Q$2+CI64*$R$2) -> 0 | CL64: 0.71361111 | CM64: 0.71424769 | CN64: =IF($J64="","-",IF(AND(AB64>0,S64=0),"Y","N")) -> Y | CO64: Y | CP64: N | CQ64: =IF($J64="","-",IF(AC64=0,0,AC64-J64)) -> 0.00021990741 | CR64: =IF($J64="","-",IF(AND(I64>=CR$4,CQ64>=CQ$4,CP64="N",S64=0),"Yes","No")) -> Yes | CS64: =IF($J64="","",IF(S64>0,0,IF(AD64=0,0,AB64/(AD64*24)))) -> 1905.8824 | CU64: =IF(J64="","-",CJ64) -> 0 | CV64: =IF($J64="","-",AB64+AV64+BP64) -> 9 | CW64: =IF($J64="","-",(AD64+AX64+BR64)*86400) -> 17 | CX64: =IF($J64="","-",IF(CP64="Y",2,IF(AND(CN64="y",CO64="y"),2,IF(AND(CN64="y",CO64="n"),1,IF(AND(CN64="n",CO64="y"),3,IF(AND(CN64="n",CO64="n"),4,"error")))))) -> 2 | CY64: =IF($J64="","-",S64+AM64+BG64+CA64) -> 0 | CZ64: =IF($J64="","-",(CL64-J64)*86400) -> 20 | DA64: =IF($J64="","-",CV64+CY64+CU64) -> 9 | DB64: =IF($J64="","-",IF(CW64=0,0,CW64-DD64-DE64)) -> -0.80754701 | DC64: =IF($J64="", "-", IF(AND(CV64=0, CX64=2), 1, IFERROR((DA64*3600)/(IFERROR(CZ64-DB64-2,CZ64-2)*$CS$114+CU64*3600),0))) -> 0.84048957 | DD64: =IF($J64="","-",IF(OR(CX64=1,CX64=3),1,IF(CX64=2,2,IF(CX64=4,0,0)))) -> 2 | DE64: =IF($J64="","-",IFERROR((3600*CV64/$CS$114),0)) -> 15.807547 | DF64: =IF(J64="","-",(CM64-J64)*86400) -> 75 | DG64: =IF($J64="","-",(CL64-J64-(3/86400))*86400) -> 17 | DH64: =IF($J64="","-",IF($CW64=0,0, $CW64-IFERROR(3600*$CV64/$CS$114,0)-1)) -> 0.19245299 | DI64: =IF($J64="","-",IF($CW64=0,0, $CW64-IFERROR(3600*$CV64/$CS$114,0)-2)) -> -0.80754701 | DJ64: =IF($J64="","-",IF($CW64=0,0, $CW64-IFERROR(3600*$CV64/$CS$114,0)-1)) -> 0.19245299 | DK64: =IF($J64="","-",IF($CW64=0,0, $CW64-IFERROR(3600*$CV64/$CS$114,0))) -> 1.192453 | DL64: =IF($J64="","-",HLOOKUP(CX64,$DH$63:$DK$113,A64+1, FALSE)) -> -0.80754701 | DM64: =IF($J64="","-",IFERROR(IF(CU64=0,((DA64*(3600/DF64))/($CS$114*((DG64-DB64+1)/DF64))),((DA64*(3600/DF64))/(($CS$114*(((DG64-DB64+1)/DF64)))+((CU64*3600)/DF64)))),0)) -> 0.84048957 | DN64: =IF($J64="","-",CW64/CZ64) -> 0.85 | DO64: =IF(AND(I64>DA64,CP64<>"Y"),"Blocked?","OK") -> OK
A65: 2 | D65: 6 | I65: =IF($J65="","-",B65*$L$2+C65*$M$2+D65*$N$2+E65*$O$2+F65*$P$2+G65*$Q$2+H65*$R$2) -> 6 | J65: 0.71905093 | S65: =IF($J65="","-",L65*$L$2+M65*$M$2+N65*$N$2+O65*$O$2+P65*$P$2+Q65*$Q$2+R65*$R$2) -> 0 | T65: 0.71908565 | W65: 4 | AB65: =IF($J65="","-",U65*$L$2+V65*$M$2+W65*$N$2+X65*$O$2+Y65*$P$2+Z65*$Q$2+AA65*$R$2) -> 4 | AC65: 0.71920139 | AD65: =IF($J65="","-",AC65-T65) -> 0.00011574074 | AM65: =IF($J65="","-",AF65*$L$2+AG65*$M$2+AH65*$N$2+AI65*$O$2+AJ65*$P$2+AK65*$Q$2+AL65*$R$2) -> 0 | AV65: =IF($J65="","-",AO65*$L$2+AP65*$M$2+AQ65*$N$2+AR65*$O$2+AS65*$P$2+AT65*$Q$2+AU65*$R$2) -> 0 | AX65: =IF($J65="","-",AW65-AN65) -> 0 | BG65: =IF($J65="","-",AZ65*$L$2+BA65*$M$2+BB65*$N$2+BC65*$O$2+BD65*$P$2+BE65*$Q$2+BF65*$R$2) -> 0 | BP65: =IF($J65="","-",BI65*$L$2+BJ65*$M$2+BK65*$N$2+BL65*$O$2+BM65*$P$2+BN65*$Q$2+BO65*$R$2) -> 0 | BR65: =IF($J65="","-",BQ65-BH65) -> 0 | CA65: =IF($J65="","-",BT65*$L$2+BU65*$M$2+BV65*$N$2+BW65*$O$2+BX65*$P$2+BY65*$Q$2+BZ65*$R$2) -> 0 | CJ65: =IF($J65="","-",CC65*$L$2+CD65*$M$2+CE65*$N$2+CF65*$O$2+CG65*$P$2+CH65*$Q$2+CI65*$R$2) -> 0 | CL65: 0.71923611 | CM65: 0.71993056 | CN65: =IF($J65="","-",IF(AND(AB65>0,S65=0),"Y","N")) -> Y | CO65: Y | CP65: N | CQ65: =IF($J65="","-",IF(AC65=0,0,AC65-J65)) -> 0.00015046296 | CR65: =IF($J65="","-",IF(AND(I65>=CR$4,CQ65>=CQ$4,CP65="N",S65=0),"Yes","No")) -> No | CS65: =IF($J65="","",IF(S65>0,0,IF(AD65=0,0,AB65/(AD65*24)))) -> 1440 | CU65: =IF(J65="","-",CJ65) -> 0 | CV65: =IF($J65="","-",AB65+AV65+BP65) -> 4 | CW65: =IF($J65="","-",(AD65+AX65+BR65)*86400) -> 10 | CX65: =IF($J65="","-",IF(CP65="Y",2,IF(AND(CN65="y",CO65="y"),2,IF(AND(CN65="y",CO65="n"),1,IF(AND(CN65="n",CO65="y"),3,IF(AND(CN65="n",CO65="n"),4,"error")))))) -> 2 | CY65: =IF($J65="","-",S65+AM65+BG65+CA65) -> 0 | CZ65: =IF($J65="","-",(CL65-J65)*86400) -> 16 | DA65: =IF($J65="","-",CV65+CY65+CU65) -> 4 | DB65: =IF($J65="","-",IF(CW65=0,0,CW65-DD65-DE65)) -> 0.97442355 | DC65: =IF($J65="", "-", IF(AND(CV65=0, CX65=2), 1, IFERROR((DA65*3600)/(IFERROR(CZ65-DB65-2,CZ65-2)*$CS$114+CU65*3600),0))) -> 0.5393678 | DD65: =IF($J65="","-",IF(OR(CX65=1,CX65=3),1,IF(CX65=2,2,IF(CX65=4,0,0)))) -> 2 | DE65: =IF($J65="","-",IFERROR((3600*CV65/$CS$114),0)) -> 7.0255765 | DF65: =IF(J65="","-",(CM65-J65)*86400) -> 76 | DG65: =IF($J65="","-",(CL65-J65-(3/86400))*86400) -> 13 | DH65: =IF($J65="","-",IF($CW65=0,0, $CW65-IFERROR(3600*$CV65/$CS$114,0)-1)) -> 1.9744235 | DI65: =IF($J65="","-",IF($CW65=0,0, $CW65-IFERROR(3600*$CV65/$CS$114,0)-2)) -> 0.97442355 | DJ65: =IF($J65="","-",IF($CW65=0,0, $CW65-IFERROR(3600*$CV65/$CS$114,0)-1)) -> 1.9744235 | DK65: =IF($J65="","-",IF($CW65=0,0, $CW65-IFERROR(3600*$CV65/$CS$114,0))) -> 2.9744235 | DL65: =IF($J65="","-",HLOOKUP(CX65,$DH$63:$DK$113,A65+1, FALSE)) -> 0.97442355 | DM65: =IF($J65="","-",IFERROR(IF(CU65=0,((DA65*(3600/DF65))/($CS$114*((DG65-DB65+1)/DF65))),((DA65*(3600/DF65))/(($CS$114*(((DG65-DB65+1)/DF65)))+((CU65*3600)/DF65)))),0)) -> 0.5393678 | DN65: =IF($J65="","-",CW65/CZ65) -> 0.625 | DO65: =IF(AND(I65>DA65,CP65<>"Y"),"Blocked?","OK") -> Blocked?
A66: 3 | D66: 7 | I66: =IF($J66="","-",B66*$L$2+C66*$M$2+D66*$N$2+E66*$O$2+F66*$P$2+G66*$Q$2+H66*$R$2) -> 7 | J66: 0.72079861 | S66: =IF($J66="","-",L66*$L$2+M66*$M$2+N66*$N$2+O66*$O$2+P66*$P$2+Q66*$Q$2+R66*$R$2) -> 0 | T66: 0.72086806 | W66: 6 | AB66: =IF($J66="","-",U66*$L$2+V66*$M$2+W66*$N$2+X66*$O$2+Y66*$P$2+Z66*$Q$2+AA66*$R$2) -> 6 | AC66: 0.72104167 | AD66: =IF($J66="","-",AC66-T66) -> 0.00017361111 | AM66: =IF($J66="","-",AF66*$L$2+AG66*$M$2+AH66*$N$2+AI66*$O$2+AJ66*$P$2+AK66*$Q$2+AL66*$R$2) -> 0 | AV66: =IF($J66="","-",AO66*$L$2+AP66*$M$2+AQ66*$N$2+AR66*$O$2+AS66*$P$2+AT66*$Q$2+AU66*$R$2) -> 0 | AX66: =IF($J66="","-",AW66-AN66) -> 0 | BG66: =IF($J66="","-",AZ66*$L$2+BA66*$M$2+BB66*$N$2+BC66*$O$2+BD66*$P$2+BE66*$Q$2+BF66*$R$2) -> 0 | BP66: =IF($J66="","-",BI66*$L$2+BJ66*$M$2+BK66*$N$2+BL66*$O$2+BM66*$P$2+BN66*$Q$2+BO66*$R$2) -> 0 | BR66: =IF($J66="","-",BQ66-BH66) -> 0 | CA66: =IF($J66="","-",BT66*$L$2+BU66*$M$2+BV66*$N$2+BW66*$O$2+BX66*$P$2+BY66*$Q$2+BZ66*$R$2) -> 0 | CJ66: =IF($J66="","-",CC66*$L$2+CD66*$M$2+CE66*$N$2+CF66*$O$2+CG66*$P$2+CH66*$Q$2+CI66*$R$2) -> 0 | CL66: 0.72108796 | CM66: 0.72170139 | CN66: =IF($J66="","-",IF(AND(AB66>0,S66=0),"Y","N")) -> Y | CO66: N | CP66: N | CQ66: =IF($J66="","-",IF(AC66=0,0,AC66-J66)) -> 0.00024305556 | CR66: =IF($J66="","-",IF(AND(I66>=CR$4,CQ66>=CQ$4,CP66="N",S66=0),"Yes","No")) -> Yes | CS66: =IF($J66="","",IF(S66>0,0,IF(AD66=0,0,AB66/(AD66*24)))) -> 1440 | CU66: =IF(J66="","-",CJ66) -> 0 | CV66: =IF($J66="","-",AB66+AV66+BP66) -> 6 | CW66: =IF($J66="","-",(AD66+AX66+BR66)*86400) -> 15 | CX66: =IF($J66="","-",IF(CP66="Y",2,IF(AND(CN66="y",CO66="y"),2,IF(AND(CN66="y",CO66="n"),1,IF(AND(CN66="n",CO66="y"),3,IF(AND(CN66="n",CO66="n"),4,"error")))))) -> 1 | CY66: =IF($J66="","-",S66+AM66+BG66+CA66) -> 0 | CZ66: =IF($J66="","-",(CL66-J66)*86400) -> 25 | DA66: =IF($J66="","-",CV66+CY66+CU66) -> 6 | DB66: =IF($J66="","-",IF(CW66=0,0,CW66-DD66-DE66)) -> 3.4616353 | DC66: =IF($J66="", "-", IF(AND(CV66=0, CX66=2), 1, IFERROR((DA66*3600)/(IFERROR(CZ66-DB66-2,CZ66-2)*$CS$114+CU66*3600),0))) -> 0.5393678 | DD66: =IF($J66="","-",IF(OR(CX66=1,CX66=3),1,IF(CX66=2,2,IF(CX66=4,0,0)))) -> 1 | DE66: =IF($J66="","-",IFERROR((3600*CV66/$CS$114),0)) -> 10.538365 | DF66: =IF(J66="","-",(CM66-J66)*86400) -> 78 | DG66: =IF($J66="","-",(CL66-J66-(3/86400))*86400) -> 22 | DH66: =IF($J66="","-",IF($CW66=0,0, $CW66-IFERROR(3600*$CV66/$CS$114,0)-1)) -> 3.4616353 | DI66: =IF($J66="","-",IF($CW66=0,0, $CW66-IFERROR(3600*$CV66/$CS$114,0)-2)) -> 2.4616353 | DJ66: =IF($J66="","-",IF($CW66=0,0, $CW66-IFERROR(3600*$CV66/$CS$114,0)-1)) -> 3.4616353 | DK66: =IF($J66="","-",IF($CW66=0,0, $CW66-IFERROR(3600*$CV66/$CS$114,0))) -> 4.4616353 | DL66: =IF($J66="","-",HLOOKUP(CX66,$DH$63:$DK$113,A66+1, FALSE)) -> 3.4616353 | DM66: =IF($J66="","-",IFERROR(IF(CU66=0,((DA66*(3600/DF66))/($CS$114*((DG66-DB66+1)/DF66))),((DA66*(3600/DF66))/(($CS$114*(((DG66-DB66+1)/DF66)))+((CU66*3600)/DF66)))),0)) -> 0.5393678 | DN66: =IF($J66="","-",CW66/CZ66) -> 0.6 | DO66: =IF(AND(I66>DA66,CP66<>"Y"),"Blocked?","OK") -> Blocked?
A67: 4 | D67: 8 | I67: =IF($J67="","-",B67*$L$2+C67*$M$2+D67*$N$2+E67*$O$2+F67*$P$2+G67*$Q$2+H67*$R$2) -> 8 | J67: 0.72581019 | S67: =IF($J67="","-",L67*$L$2+M67*$M$2+N67*$N$2+O67*$O$2+P67*$P$2+Q67*$Q$2+R67*$R$2) -> 0 | T67: 0.72582176 | W67: 7 | AB67: =IF($J67="","-",U67*$L$2+V67*$M$2+W67*$N$2+X67*$O$2+Y67*$P$2+Z67*$Q$2+AA67*$R$2) -> 7 | AC67: 0.72597222 | AD67: =IF($J67="","-",AC67-T67) -> 0.00015046296 | AM67: =IF($J67="","-",AF67*$L$2+AG67*$M$2+AH67*$N$2+AI67*$O$2+AJ67*$P$2+AK67*$Q$2+AL67*$R$2) -> 0 | AV67: =IF($J67="","-",AO67*$L$2+AP67*$M$2+AQ67*$N$2+AR67*$O$2+AS67*$P$2+AT67*$Q$2+AU67*$R$2) -> 0 | AX67: =IF($J67="","-",AW67-AN67) -> 0 | BG67: =IF($J67="","-",AZ67*$L$2+BA67*$M$2+BB67*$N$2+BC67*$O$2+BD67*$P$2+BE67*$Q$2+BF67*$R$2) -> 0 | BP67: =IF($J67="","-",BI67*$L$2+BJ67*$M$2+BK67*$N$2+BL67*$O$2+BM67*$P$2+BN67*$Q$2+BO67*$R$2) -> 0 | BR67: =IF($J67="","-",BQ67-BH67) -> 0 | CA67: =IF($J67="","-",BT67*$L$2+BU67*$M$2+BV67*$N$2+BW67*$O$2+BX67*$P$2+BY67*$Q$2+BZ67*$R$2) -> 0 | CJ67: =IF($J67="","-",CC67*$L$2+CD67*$M$2+CE67*$N$2+CF67*$O$2+CG67*$P$2+CH67*$Q$2+CI67*$R$2) -> 0 | CL67: 0.7259838 | CM67: 0.72659722 | CN67: =IF($J67="","-",IF(AND(AB67>0,S67=0),"Y","N")) -> Y | CO67: Y | CP67: N | CQ67: =IF($J67="","-",IF(AC67=0,0,AC67-J67)) -> 0.00016203704 | CR67: =IF($J67="","-",IF(AND(I67>=CR$4,CQ67>=CQ$4,CP67="N",S67=0),"Yes","No")) -> Yes | CS67: =IF($J67="","",IF(S67>0,0,IF(AD67=0,0,AB67/(AD67*24)))) -> 1938.4615 | CU67: =IF(J67="","-",CJ67) -> 0 | CV67: =IF($J67="","-",AB67+AV67+BP67) -> 7 | CW67: =IF($J67="","-",(AD67+AX67+BR67)*86400) -> 13 | CX67: =IF($J67="","-",IF(CP67="Y",2,IF(AND(CN67="y",CO67="y"),2,IF(AND(CN67="y",CO67="n"),1,IF(AND(CN67="n",CO67="y"),3,IF(AND(CN67="n",CO67="n"),4,"error")))))) -> 2 | CY67: =IF($J67="","-",S67+AM67+BG67+CA67) -> 0 | CZ67: =IF($J67="","-",(CL67-J67)*86400) -> 15 | DA67: =IF($J67="","-",CV67+CY67+CU67) -> 7 | DB67: =IF($J67="","-",IF(CW67=0,0,CW67-DD67-DE67)) -> -1.2947588 | DC67: =IF($J67="", "-", IF(AND(CV67=0, CX67=2), 1, IFERROR((DA67*3600)/(IFERROR(CZ67-DB67-2,CZ67-2)*$CS$114+CU67*3600),0))) -> 0.86008858 | DD67: =IF($J67="","-",IF(OR(CX67=1,CX67=3),1,IF(CX67=2,2,IF(CX67=4,0,0)))) -> 2 | DE67: =IF($J67="","-",IFERROR((3600*CV67/$CS$114),0)) -> 12.294759 | DF67: =IF(J67="","-",(CM67-J67)*86400) -> 68 | DG67: =IF($J67="","-",(CL67-J67-(3/86400))*86400) -> 12 | DH67: =IF($J67="","-",IF($CW67=0,0, $CW67-IFERROR(3600*$CV67/$CS$114,0)-1)) -> -0.29475879 | DI67: =IF($J67="","-",IF($CW67=0,0, $CW67-IFERROR(3600*$CV67/$CS$114,0)-2)) -> -1.2947588 | DJ67: =IF($J67="","-",IF($CW67=0,0, $CW67-IFERROR(3600*$CV67/$CS$114,0)-1)) -> -0.29475879 | DK67: =IF($J67="","-",IF($CW67=0,0, $CW67-IFERROR(3600*$CV67/$CS$114,0))) -> 0.70524121 | DL67: =IF($J67="","-",HLOOKUP(CX67,$DH$63:$DK$113,A67+1, FALSE)) -> -1.2947588 | DM67: =IF($J67="","-",IFERROR(IF(CU67=0,((DA67*(3600/DF67))/($CS$114*((DG67-DB67+1)/DF67))),((DA67*(3600/DF67))/(($CS$114*(((DG67-DB67+1)/DF67)))+((CU67*3600)/DF67)))),0)) -> 0.86008858 | DN67: =IF($J67="","-",CW67/CZ67) -> 0.86666667 | DO67: =IF(AND(I67>DA67,CP67<>"Y"),"Blocked?","OK") -> Blocked?
A68: 5 | D68: 9 | I68: =IF($J68="","-",B68*$L$2+C68*$M$2+D68*$N$2+E68*$O$2+F68*$P$2+G68*$Q$2+H68*$R$2) -> 9 | J68: 0.72659722 | S68: =IF($J68="","-",L68*$L$2+M68*$M$2+N68*$N$2+O68*$O$2+P68*$P$2+Q68*$Q$2+R68*$R$2) -> 0 | T68: 0.72662037 | W68: 8 | AB68: =IF($J68="","-",U68*$L$2+V68*$M$2+W68*$N$2+X68*$O$2+Y68*$P$2+Z68*$Q$2+AA68*$R$2) -> 8 | AC68: 0.72677083 | AD68: =IF($J68="","-",AC68-T68) -> 0.00015046296 | AM68: =IF($J68="","-",AF68*$L$2+AG68*$M$2+AH68*$N$2+AI68*$O$2+AJ68*$P$2+AK68*$Q$2+AL68*$R$2) -> 0 | AV68: =IF($J68="","-",AO68*$L$2+AP68*$M$2+AQ68*$N$2+AR68*$O$2+AS68*$P$2+AT68*$Q$2+AU68*$R$2) -> 0 | AX68: =IF($J68="","-",AW68-AN68) -> 0 | BG68: =IF($J68="","-",AZ68*$L$2+BA68*$M$2+BB68*$N$2+BC68*$O$2+BD68*$P$2+BE68*$Q$2+BF68*$R$2) -> 0 | BP68: =IF($J68="","-",BI68*$L$2+BJ68*$M$2+BK68*$N$2+BL68*$O$2+BM68*$P$2+BN68*$Q$2+BO68*$R$2) -> 0 | BR68: =IF($J68="","-",BQ68-BH68) -> 0 | CA68: =IF($J68="","-",BT68*$L$2+BU68*$M$2+BV68*$N$2+BW68*$O$2+BX68*$P$2+BY68*$Q$2+BZ68*$R$2) -> 0 | CJ68: =IF($J68="","-",CC68*$L$2+CD68*$M$2+CE68*$N$2+CF68*$O$2+CG68*$P$2+CH68*$Q$2+CI68*$R$2) -> 0 | CL68: 0.72679398 | CM68: 0.72752315 | CN68: =IF($J68="","-",IF(AND(AB68>0,S68=0),"Y","N")) -> Y | CO68: Y | CP68: N | CQ68: =IF($J68="","-",IF(AC68=0,0,AC68-J68)) -> 0.00017361111 | CR68: =IF($J68="","-",IF(AND(I68>=CR$4,CQ68>=CQ$4,CP68="N",S68=0),"Yes","No")) -> Yes | CS68: =IF($J68="","",IF(S68>0,0,IF(AD68=0,0,AB68/(AD68*24)))) -> 2215.3846 | CU68: =IF(J68="","-",CJ68) -> 0 | CV68: =IF($J68="","-",AB68+AV68+BP68) -> 8 | CW68: =IF($J68="","-",(AD68+AX68+BR68)*86400) -> 13 | CX68: =IF($J68="","-",IF(CP68="Y",2,IF(AND(CN68="y",CO68="y"),2,IF(AND(CN68="y",CO68="n"),1,IF(AND(CN68="n",CO68="y"),3,IF(AND(CN68="n",CO68="n"),4,"error")))))) -> 2 | CY68: =IF($J68="","-",S68+AM68+BG68+CA68) -> 0 | CZ68: =IF($J68="","-",(CL68-J68)*86400) -> 17 | DA68: =IF($J68="","-",CV68+CY68+CU68) -> 8 | DB68: =IF($J68="","-",IF(CW68=0,0,CW68-DD68-DE68)) -> -3.0511529 | DC68: =IF($J68="", "-", IF(AND(CV68=0, CX68=2), 1, IFERROR((DA68*3600)/(IFERROR(CZ68-DB68-2,CZ68-2)*$CS$114+CU68*3600),0))) -> 0.77840751 | DD68: =IF($J68="","-",IF(OR(CX68=1,CX68=3),1,IF(CX68=2,2,IF(CX68=4,0,0)))) -> 2 | DE68: =IF($J68="","-",IFERROR((3600*CV68/$CS$114),0)) -> 14.051153 | DF68: =IF(J68="","-",(CM68-J68)*86400) -> 80 | DG68: =IF($J68="","-",(CL68-J68-(3/86400))*86400) -> 14 | DH68: =IF($J68="","-",IF($CW68=0,0, $CW68-IFERROR(3600*$CV68/$CS$114,0)-1)) -> -2.0511529 | DI68: =IF($J68="","-",IF($CW68=0,0, $CW68-IFERROR(3600*$CV68/$CS$114,0)-2)) -> -3.0511529 | DJ68: =IF($J68="","-",IF($CW68=0,0, $CW68-IFERROR(3600*$CV68/$CS$114,0)-1)) -> -2.0511529 | DK68: =IF($J68="","-",IF($CW68=0,0, $CW68-IFERROR(3600*$CV68/$CS$114,0))) -> -1.0511529 | DL68: =IF($J68="","-",HLOOKUP(CX68,$DH$63:$DK$113,A68+1, FALSE)) -> -3.0511529 | DM68: =IF($J68="","-",IFERROR(IF(CU68=0,((DA68*(3600/DF68))/($CS$114*((DG68-DB68+1)/DF68))),((DA68*(3600/DF68))/(($CS$114*(((DG68-DB68+1)/DF68)))+((CU68*3600)/DF68)))),0)) -> 0.77840751 | DN68: =IF($J68="","-",CW68/CZ68) -> 0.76470588 | DO68: =IF(AND(I68>DA68,CP68<>"Y"),"Blocked?","OK") -> Blocked?
A69: 6 | D69: 7 | I69: =IF($J69="","-",B69*$L$2+C69*$M$2+D69*$N$2+E69*$O$2+F69*$P$2+G69*$Q$2+H69*$R$2) -> 7 | J69: 0.73013889 | S69: =IF($J69="","-",L69*$L$2+M69*$M$2+N69*$N$2+O69*$O$2+P69*$P$2+Q69*$Q$2+R69*$R$2) -> 0 | T69: 0.73017361 | W69: 7 | AB69: =IF($J69="","-",U69*$L$2+V69*$M$2+W69*$N$2+X69*$O$2+Y69*$P$2+Z69*$Q$2+AA69*$R$2) -> 7 | AC69: 0.73030093 | AD69: =IF($J69="","-",AC69-T69) -> 0.00012731481 | AM69: =IF($J69="","-",AF69*$L$2+AG69*$M$2+AH69*$N$2+AI69*$O$2+AJ69*$P$2+AK69*$Q$2+AL69*$R$2) -> 0 | AV69: =IF($J69="","-",AO69*$L$2+AP69*$M$2+AQ69*$N$2+AR69*$O$2+AS69*$P$2+AT69*$Q$2+AU69*$R$2) -> 0 | AX69: =IF($J69="","-",AW69-AN69) -> 0 | BG69: =IF($J69="","-",AZ69*$L$2+BA69*$M$2+BB69*$N$2+BC69*$O$2+BD69*$P$2+BE69*$Q$2+BF69*$R$2) -> 0 | BP69: =IF($J69="","-",BI69*$L$2+BJ69*$M$2+BK69*$N$2+BL69*$O$2+BM69*$P$2+BN69*$Q$2+BO69*$R$2) -> 0 | BR69: =IF($J69="","-",BQ69-BH69) -> 0 | CA69: =IF($J69="","-",BT69*$L$2+BU69*$M$2+BV69*$N$2+BW69*$O$2+BX69*$P$2+BY69*$Q$2+BZ69*$R$2) -> 0 | CJ69: =IF($J69="","-",CC69*$L$2+CD69*$M$2+CE69*$N$2+CF69*$O$2+CG69*$P$2+CH69*$Q$2+CI69*$R$2) -> 0 | CL69: 0.73030093 | CM69: 0.73106481 | CN69: =IF($J69="","-",IF(AND(AB69>0,S69=0),"Y","N")) -> Y | CO69: Y | CP69: N | CQ69: =IF($J69="","-",IF(AC69=0,0,AC69-J69)) -> 0.00016203704 | CR69: =IF($J69="","-",IF(AND(I69>=CR$4,CQ69>=CQ$4,CP69="N",S69=0),"Yes","No")) -> Yes | CS69: =IF($J69="","",IF(S69>0,0,IF(AD69=0,0,AB69/(AD69*24)))) -> 2290.9091 | CU69: =IF(J69="","-",CJ69) -> 0 | CV69: =IF($J69="","-",AB69+AV69+BP69) -> 7 | CW69: =IF($J69="","-",(AD69+AX69+BR69)*86400) -> 11 | CX69: =IF($J69="","-",IF(CP69="Y",2,IF(AND(CN69="y",CO69="y"),2,IF(AND(CN69="y",CO69="n"),1,IF(AND(CN69="n",CO69="y"),3,IF(AND(CN69="n",CO69="n"),4,"error")))))) -> 2 | CY69: =IF($J69="","-",S69+AM69+BG69+CA69) -> 0 | CZ69: =IF($J69="","-",(CL69-J69)*86400) -> 14 | DA69: =IF($J69="","-",CV69+CY69+CU69) -> 7 | DB69: =IF($J69="","-",IF(CW69=0,0,CW69-DD69-DE69)) -> -3.2947588 | DC69: =IF($J69="", "-", IF(AND(CV69=0, CX69=2), 1, IFERROR((DA69*3600)/(IFERROR(CZ69-DB69-2,CZ69-2)*$CS$114+CU69*3600),0))) -> 0.80385438 | DD69: =IF($J69="","-",IF(OR(CX69=1,CX69=3),1,IF(CX69=2,2,IF(CX69=4,0,0)))) -> 2 | DE69: =IF($J69="","-",IFERROR((3600*CV69/$CS$114),0)) -> 12.294759 | DF69: =IF(J69="","-",(CM69-J69)*86400) -> 80 | DG69: =IF($J69="","-",(CL69-J69-(3/86400))*86400) -> 11 | DH69: =IF($J69="","-",IF($CW69=0,0, $CW69-IFERROR(3600*$CV69/$CS$114,0)-1)) -> -2.2947588 | DI69: =IF($J69="","-",IF($CW69=0,0, $CW69-IFERROR(3600*$CV69/$CS$114,0)-2)) -> -3.2947588 | DJ69: =IF($J69="","-",IF($CW69=0,0, $CW69-IFERROR(3600*$CV69/$CS$114,0)-1)) -> -2.2947588 | DK69: =IF($J69="","-",IF($CW69=0,0, $CW69-IFERROR(3600*$CV69/$CS$114,0))) -> -1.2947588 | DL69: =IF($J69="","-",HLOOKUP(CX69,$DH$63:$DK$113,A69+1, FALSE)) -> -3.2947588 | DM69: =IF($J69="","-",IFERROR(IF(CU69=0,((DA69*(3600/DF69))/($CS$114*((DG69-DB69+1)/DF69))),((DA69*(3600/DF69))/(($CS$114*(((DG69-DB69+1)/DF69)))+((CU69*3600)/DF69)))),0)) -> 0.80385438 | DN69: =IF($J69="","-",CW69/CZ69) -> 0.78571429 | DO69: =IF(AND(I69>DA69,CP69<>"Y"),"Blocked?","OK") -> OK
A70: 7 | D70: 9 | I70: =IF($J70="","-",B70*$L$2+C70*$M$2+D70*$N$2+E70*$O$2+F70*$P$2+G70*$Q$2+H70*$R$2) -> 9 | J70: 0.7337037 | S70: =IF($J70="","-",L70*$L$2+M70*$M$2+N70*$N$2+O70*$O$2+P70*$P$2+Q70*$Q$2+R70*$R$2) -> 0 | T70: 0.7337037 | W70: 9 | AB70: =IF($J70="","-",U70*$L$2+V70*$M$2+W70*$N$2+X70*$O$2+Y70*$P$2+Z70*$Q$2+AA70*$R$2) -> 9 | AC70: 0.73385417 | AD70: =IF($J70="","-",AC70-T70) -> 0.00015046296 | AM70: =IF($J70="","-",AF70*$L$2+AG70*$M$2+AH70*$N$2+AI70*$O$2+AJ70*$P$2+AK70*$Q$2+AL70*$R$2) -> 0 | AV70: =IF($J70="","-",AO70*$L$2+AP70*$M$2+AQ70*$N$2+AR70*$O$2+AS70*$P$2+AT70*$Q$2+AU70*$R$2) -> 0 | AX70: =IF($J70="","-",AW70-AN70) -> 0 | BG70: =IF($J70="","-",AZ70*$L$2+BA70*$M$2+BB70*$N$2+BC70*$O$2+BD70*$P$2+BE70*$Q$2+BF70*$R$2) -> 0 | BP70: =IF($J70="","-",BI70*$L$2+BJ70*$M$2+BK70*$N$2+BL70*$O$2+BM70*$P$2+BN70*$Q$2+BO70*$R$2) -> 0 | BR70: =IF($J70="","-",BQ70-BH70) -> 0 | CA70: =IF($J70="","-",BT70*$L$2+BU70*$M$2+BV70*$N$2+BW70*$O$2+BX70*$P$2+BY70*$Q$2+BZ70*$R$2) -> 0 | CJ70: =IF($J70="","-",CC70*$L$2+CD70*$M$2+CE70*$N$2+CF70*$O$2+CG70*$P$2+CH70*$Q$2+CI70*$R$2) -> 0 | CL70: 0.73388889 | CM70: 0.73461806 | CN70: =IF($J70="","-",IF(AND(AB70>0,S70=0),"Y","N")) -> Y | CO70: Y | CP70: N | CQ70: =IF($J70="","-",IF(AC70=0,0,AC70-J70)) -> 0.00015046296 | CR70: =IF($J70="","-",IF(AND(I70>=CR$4,CQ70>=CQ$4,CP70="N",S70=0),"Yes","No")) -> Yes | CS70: =IF($J70="","",IF(S70>0,0,IF(AD70=0,0,AB70/(AD70*24)))) -> 2492.3077 | CU70: =IF(J70="","-",CJ70) -> 0 | CV70: =IF($J70="","-",AB70+AV70+BP70) -> 9 | CW70: =IF($J70="","-",(AD70+AX70+BR70)*86400) -> 13 | CX70: =IF($J70="","-",IF(CP70="Y",2,IF(AND(CN70="y",CO70="y"),2,IF(AND(CN70="y",CO70="n"),1,IF(AND(CN70="n",CO70="y"),3,IF(AND(CN70="n",CO70="n"),4,"error")))))) -> 2 | CY70: =IF($J70="","-",S70+AM70+BG70+CA70) -> 0 | CZ70: =IF($J70="","-",(CL70-J70)*86400) -> 16 | DA70: =IF($J70="","-",CV70+CY70+CU70) -> 9 | DB70: =IF($J70="","-",IF(CW70=0,0,CW70-DD70-DE70)) -> -4.807547 | DC70: =IF($J70="", "-", IF(AND(CV70=0, CX70=2), 1, IFERROR((DA70*3600)/(IFERROR(CZ70-DB70-2,CZ70-2)*$CS$114+CU70*3600),0))) -> 0.84048957 | DD70: =IF($J70="","-",IF(OR(CX70=1,CX70=3),1,IF(CX70=2,2,IF(CX70=4,0,0)))) -> 2 | DE70: =IF($J70="","-",IFERROR((3600*CV70/$CS$114),0)) -> 15.807547 | DF70: =IF(J70="","-",(CM70-J70)*86400) -> 79 | DG70: =IF($J70="","-",(CL70-J70-(3/86400))*86400) -> 13 | DH70: =IF($J70="","-",IF($CW70=0,0, $CW70-IFERROR(3600*$CV70/$CS$114,0)-1)) -> -3.807547 | DI70: =IF($J70="","-",IF($CW70=0,0, $CW70-IFERROR(3600*$CV70/$CS$114,0)-2)) -> -4.807547 | DJ70: =IF($J70="","-",IF($CW70=0,0, $CW70-IFERROR(3600*$CV70/$CS$114,0)-1)) -> -3.807547 | DK70: =IF($J70="","-",IF($CW70=0,0, $CW70-IFERROR(3600*$CV70/$CS$114,0))) -> -2.807547 | DL70: =IF($J70="","-",HLOOKUP(CX70,$DH$63:$DK$113,A70+1, FALSE)) -> -4.807547 | DM70: =IF($J70="","-",IFERROR(IF(CU70=0,((DA70*(3600/DF70))/($CS$114*((DG70-DB70+1)/DF70))),((DA70*(3600/DF70))/(($CS$114*(((DG70-DB70+1)/DF70)))+((CU70*3600)/DF70)))),0)) -> 0.84048957 | DN70: =IF($J70="","-",CW70/CZ70) -> 0.8125 | DO70: =IF(AND(I70>DA70,CP70<>"Y"),"Blocked?","OK") -> OK
A71: 8 | D71: 6 | I71: =IF($J71="","-",B71*$L$2+C71*$M$2+D71*$N$2+E71*$O$2+F71*$P$2+G71*$Q$2+H71*$R$2) -> 6 | J71: 0.74572917 | S71: =IF($J71="","-",L71*$L$2+M71*$M$2+N71*$N$2+O71*$O$2+P71*$P$2+Q71*$Q$2+R71*$R$2) -> 0 | T71: 0.74575231 | W71: 6 | AB71: =IF($J71="","-",U71*$L$2+V71*$M$2+W71*$N$2+X71*$O$2+Y71*$P$2+Z71*$Q$2+AA71*$R$2) -> 6 | AC71: 0.74585648 | AD71: =IF($J71="","-",AC71-T71) -> 0.00010416667 | AM71: =IF($J71="","-",AF71*$L$2+AG71*$M$2+AH71*$N$2+AI71*$O$2+AJ71*$P$2+AK71*$Q$2+AL71*$R$2) -> 0 | AV71: =IF($J71="","-",AO71*$L$2+AP71*$M$2+AQ71*$N$2+AR71*$O$2+AS71*$P$2+AT71*$Q$2+AU71*$R$2) -> 0 | AX71: =IF($J71="","-",AW71-AN71) -> 0 | BG71: =IF($J71="","-",AZ71*$L$2+BA71*$M$2+BB71*$N$2+BC71*$O$2+BD71*$P$2+BE71*$Q$2+BF71*$R$2) -> 0 | BP71: =IF($J71="","-",BI71*$L$2+BJ71*$M$2+BK71*$N$2+BL71*$O$2+BM71*$P$2+BN71*$Q$2+BO71*$R$2) -> 0 | BR71: =IF($J71="","-",BQ71-BH71) -> 0 | CA71: =IF($J71="","-",BT71*$L$2+BU71*$M$2+BV71*$N$2+BW71*$O$2+BX71*$P$2+BY71*$Q$2+BZ71*$R$2) -> 0 | CJ71: =IF($J71="","-",CC71*$L$2+CD71*$M$2+CE71*$N$2+CF71*$O$2+CG71*$P$2+CH71*$Q$2+CI71*$R$2) -> 0 | CL71: 0.74594907 | CM71: 0.74668981 | CN71: =IF($J71="","-",IF(AND(AB71>0,S71=0),"Y","N")) -> Y | CO71: N | CP71: N | CQ71: =IF($J71="","-",IF(AC71=0,0,AC71-J71)) -> 0.00012731481 | CR71: =IF($J71="","-",IF(AND(I71>=CR$4,CQ71>=CQ$4,CP71="N",S71=0),"Yes","No")) -> No | CS71: =IF($J71="","",IF(S71>0,0,IF(AD71=0,0,AB71/(AD71*24)))) -> 2400 | CU71: =IF(J71="","-",CJ71) -> 0 | CV71: =IF($J71="","-",AB71+AV71+BP71) -> 6 | CW71: =IF($J71="","-",(AD71+AX71+BR71)*86400) -> 9 | CX71: =IF($J71="","-",IF(CP71="Y",2,IF(AND(CN71="y",CO71="y"),2,IF(AND(CN71="y",CO71="n"),1,IF(AND(CN71="n",CO71="y"),3,IF(AND(CN71="n",CO71="n"),4,"error")))))) -> 1 | CY71: =IF($J71="","-",S71+AM71+BG71+CA71) -> 0 | CZ71: =IF($J71="","-",(CL71-J71)*86400) -> 19 | DA71: =IF($J71="","-",CV71+CY71+CU71) -> 6 | DB71: =IF($J71="","-",IF(CW71=0,0,CW71-DD71-DE71)) -> -2.5383647 | DC71: =IF($J71="", "-", IF(AND(CV71=0, CX71=2), 1, IFERROR((DA71*3600)/(IFERROR(CZ71-DB71-2,CZ71-2)*$CS$114+CU71*3600),0))) -> 0.5393678 | DD71: =IF($J71="","-",IF(OR(CX71=1,CX71=3),1,IF(CX71=2,2,IF(CX71=4,0,0)))) -> 1 | DE71: =IF($J71="","-",IFERROR((3600*CV71/$CS$114),0)) -> 10.538365 | DF71: =IF(J71="","-",(CM71-J71)*86400) -> 83 | DG71: =IF($J71="","-",(CL71-J71-(3/86400))*86400) -> 16 | DH71: =IF($J71="","-",IF($CW71=0,0, $CW71-IFERROR(3600*$CV71/$CS$114,0)-1)) -> -2.5383647 | DI71: =IF($J71="","-",IF($CW71=0,0, $CW71-IFERROR(3600*$CV71/$CS$114,0)-2)) -> -3.5383647 | DJ71: =IF($J71="","-",IF($CW71=0,0, $CW71-IFERROR(3600*$CV71/$CS$114,0)-1)) -> -2.5383647 | DK71: =IF($J71="","-",IF($CW71=0,0, $CW71-IFERROR(3600*$CV71/$CS$114,0))) -> -1.5383647 | DL71: =IF($J71="","-",HLOOKUP(CX71,$DH$63:$DK$113,A71+1, FALSE)) -> -2.5383647 | DM71: =IF($J71="","-",IFERROR(IF(CU71=0,((DA71*(3600/DF71))/($CS$114*((DG71-DB71+1)/DF71))),((DA71*(3600/DF71))/(($CS$114*(((DG71-DB71+1)/DF71)))+((CU71*3600)/DF71)))),0)) -> 0.5393678 | DN71: =IF($J71="","-",CW71/CZ71) -> 0.47368421 | DO71: =IF(AND(I71>DA71,CP71<>"Y"),"Blocked?","OK") -> OK
A72: 9 | D72: 9 | E72: 1 | F72: 1 | I72: =IF($J72="","-",B72*$L$2+C72*$M$2+D72*$N$2+E72*$O$2+F72*$P$2+G72*$Q$2+H72*$R$2) -> 11.5 | J72: 0.74668981 | S72: =IF($J72="","-",L72*$L$2+M72*$M$2+N72*$N$2+O72*$O$2+P72*$P$2+Q72*$Q$2+R72*$R$2) -> 0 | T72: 0.74671296 | W72: 8 | X72: 1 | Y72: 1 | AB72: =IF($J72="","-",U72*$L$2+V72*$M$2+W72*$N$2+X72*$O$2+Y72*$P$2+Z72*$Q$2+AA72*$R$2) -> 10.5 | AC72: 0.74695602 | AD72: =IF($J72="","-",AC72-T72) -> 0.00024305556 | AM72: =IF($J72="","-",AF72*$L$2+AG72*$M$2+AH72*$N$2+AI72*$O$2+AJ72*$P$2+AK72*$Q$2+AL72*$R$2) -> 0 | AV72: =IF($J72="","-",AO72*$L$2+AP72*$M$2+AQ72*$N$2+AR72*$O$2+AS72*$P$2+AT72*$Q$2+AU72*$R$2) -> 0 | AX72: =IF($J72="","-",AW72-AN72) -> 0 | BG72: =IF($J72="","-",AZ72*$L$2+BA72*$M$2+BB72*$N$2+BC72*$O$2+BD72*$P$2+BE72*$Q$2+BF72*$R$2) -> 0 | BP72: =IF($J72="","-",BI72*$L$2+BJ72*$M$2+BK72*$N$2+BL72*$O$2+BM72*$P$2+BN72*$Q$2+BO72*$R$2) -> 0 | BR72: =IF($J72="","-",BQ72-BH72) -> 0 | CA72: =IF($J72="","-",BT72*$L$2+BU72*$M$2+BV72*$N$2+BW72*$O$2+BX72*$P$2+BY72*$Q$2+BZ72*$R$2) -> 0 | CJ72: =IF($J72="","-",CC72*$L$2+CD72*$M$2+CE72*$N$2+CF72*$O$2+CG72*$P$2+CH72*$Q$2+CI72*$R$2) -> 0 | CL72: 0.74695602 | CM72: 0.74761574 | CN72: =IF($J72="","-",IF(AND(AB72>0,S72=0),"Y","N")) -> Y | CO72: Y | CP72: N | CQ72: =IF($J72="","-",IF(AC72=0,0,AC72-J72)) -> 0.0002662037 | CR72: =IF($J72="","-",IF(AND(I72>=CR$4,CQ72>=CQ$4,CP72="N",S72=0),"Yes","No")) -> Yes | CS72: =IF($J72="","",IF(S72>0,0,IF(AD72=0,0,AB72/(AD72*24)))) -> 1800 | CU72: =IF(J72="","-",CJ72) -> 0 | CV72: =IF($J72="","-",AB72+AV72+BP72) -> 10.5 | CW72: =IF($J72="","-",(AD72+AX72+BR72)*86400) -> 21 | CX72: =IF($J72="","-",IF(CP72="Y",2,IF(AND(CN72="y",CO72="y"),2,IF(AND(CN72="y",CO72="n"),1,IF(AND(CN72="n",CO72="y"),3,IF(AND(CN72="n",CO72="n"),4,"error")))))) -> 2 | CY72: =IF($J72="","-",S72+AM72+BG72+CA72) -> 0 | CZ72: =IF($J72="","-",(CL72-J72)*86400) -> 23 | DA72: =IF($J72="","-",CV72+CY72+CU72) -> 10.5 | DB72: =IF($J72="","-",IF(CW72=0,0,CW72-DD72-DE72)) -> 0.55786182 | DC72: =IF($J72="", "-", IF(AND(CV72=0, CX72=2), 1, IFERROR((DA72*3600)/(IFERROR(CZ72-DB72-2,CZ72-2)*$CS$114+CU72*3600),0))) -> 0.90216288 | DD72: =IF($J72="","-",IF(OR(CX72=1,CX72=3),1,IF(CX72=2,2,IF(CX72=4,0,0)))) -> 2 | DE72: =IF($J72="","-",IFERROR((3600*CV72/$CS$114),0)) -> 18.442138 | DF72: =IF(J72="","-",(CM72-J72)*86400) -> 80 | DG72: =IF($J72="","-",(CL72-J72-(3/86400))*86400) -> 20 | DH72: =IF($J72="","-",IF($CW72=0,0, $CW72-IFERROR(3600*$CV72/$CS$114,0)-1)) -> 1.5578618 | DI72: =IF($J72="","-",IF($CW72=0,0, $CW72-IFERROR(3600*$CV72/$CS$114,0)-2)) -> 0.55786182 | DJ72: =IF($J72="","-",IF($CW72=0,0, $CW72-IFERROR(3600*$CV72/$CS$114,0)-1)) -> 1.5578618 | DK72: =IF($J72="","-",IF($CW72=0,0, $CW72-IFERROR(3600*$CV72/$CS$114,0))) -> 2.5578618 | DL72: =IF($J72="","-",HLOOKUP(CX72,$DH$63:$DK$113,A72+1, FALSE)) -> 0.55786182 | DM72: =IF($J72="","-",IFERROR(IF(CU72=0,((DA72*(3600/DF72))/($CS$114*((DG72-DB72+1)/DF72))),((DA72*(3600/DF72))/(($CS$114*(((DG72-DB72+1)/DF72)))+((CU72*3600)/DF72)))),0)) -> 0.90216288 | DN72: =IF($J72="","-",CW72/CZ72) -> 0.91304348 | DO72: =IF(AND(I72>DA72,CP72<>"Y"),"Blocked?","OK") -> Blocked?
A73: 10 | D73: 6 | H73: 1 | I73: =IF($J73="","-",B73*$L$2+C73*$M$2+D73*$N$2+E73*$O$2+F73*$P$2+G73*$Q$2+H73*$R$2) -> 8 | J73: 0.74761574 | S73: =IF($J73="","-",L73*$L$2+M73*$M$2+N73*$N$2+O73*$O$2+P73*$P$2+Q73*$Q$2+R73*$R$2) -> 0 | T73: 0.74766204 | W73: 7 | AA73: 1 | AB73: =IF($J73="","-",U73*$L$2+V73*$M$2+W73*$N$2+X73*$O$2+Y73*$P$2+Z73*$Q$2+AA73*$R$2) -> 9 | AC73: 0.74782407 | AD73: =IF($J73="","-",AC73-T73) -> 0.00016203704 | AM73: =IF($J73="","-",AF73*$L$2+AG73*$M$2+AH73*$N$2+AI73*$O$2+AJ73*$P$2+AK73*$Q$2+AL73*$R$2) -> 0 | AV73: =IF($J73="","-",AO73*$L$2+AP73*$M$2+AQ73*$N$2+AR73*$O$2+AS73*$P$2+AT73*$Q$2+AU73*$R$2) -> 0 | AX73: =IF($J73="","-",AW73-AN73) -> 0 | BG73: =IF($J73="","-",AZ73*$L$2+BA73*$M$2+BB73*$N$2+BC73*$O$2+BD73*$P$2+BE73*$Q$2+BF73*$R$2) -> 0 | BP73: =IF($J73="","-",BI73*$L$2+BJ73*$M$2+BK73*$N$2+BL73*$O$2+BM73*$P$2+BN73*$Q$2+BO73*$R$2) -> 0 | BR73: =IF($J73="","-",BQ73-BH73) -> 0 | CA73: =IF($J73="","-",BT73*$L$2+BU73*$M$2+BV73*$N$2+BW73*$O$2+BX73*$P$2+BY73*$Q$2+BZ73*$R$2) -> 0 | CJ73: =IF($J73="","-",CC73*$L$2+CD73*$M$2+CE73*$N$2+CF73*$O$2+CG73*$P$2+CH73*$Q$2+CI73*$R$2) -> 0 | CL73: 0.74789352 | CM73: 0.74853009 | CN73: =IF($J73="","-",IF(AND(AB73>0,S73=0),"Y","N")) -> Y | CO73: N | CP73: N | CQ73: =IF($J73="","-",IF(AC73=0,0,AC73-J73)) -> 0.00020833333 | CR73: =IF($J73="","-",IF(AND(I73>=CR$4,CQ73>=CQ$4,CP73="N",S73=0),"Yes","No")) -> Yes | CS73: =IF($J73="","",IF(S73>0,0,IF(AD73=0,0,AB73/(AD73*24)))) -> 2314.2857 | CU73: =IF(J73="","-",CJ73) -> 0 | CV73: =IF($J73="","-",AB73+AV73+BP73) -> 9 | CW73: =IF($J73="","-",(AD73+AX73+BR73)*86400) -> 14 | CX73: =IF($J73="","-",IF(CP73="Y",2,IF(AND(CN73="y",CO73="y"),2,IF(AND(CN73="y",CO73="n"),1,IF(AND(CN73="n",CO73="y"),3,IF(AND(CN73="n",CO73="n"),4,"error")))))) -> 1 | CY73: =IF($J73="","-",S73+AM73+BG73+CA73) -> 0 | CZ73: =IF($J73="","-",(CL73-J73)*86400) -> 24 | DA73: =IF($J73="","-",CV73+CY73+CU73) -> 9 | DB73: =IF($J73="","-",IF(CW73=0,0,CW73-DD73-DE73)) -> -2.807547 | DC73: =IF($J73="", "-", IF(AND(CV73=0, CX73=2), 1, IFERROR((DA73*3600)/(IFERROR(CZ73-DB73-2,CZ73-2)*$CS$114+CU73*3600),0))) -> 0.63720718 | DD73: =IF($J73="","-",IF(OR(CX73=1,CX73=3),1,IF(CX73=2,2,IF(CX73=4,0,0)))) -> 1 | DE73: =IF($J73="","-",IFERROR((3600*CV73/$CS$114),0)) -> 15.807547 | DF73: =IF(J73="","-",(CM73-J73)*86400) -> 79 | DG73: =IF($J73="","-",(CL73-J73-(3/86400))*86400) -> 21 | DH73: =IF($J73="","-",IF($CW73=0,0, $CW73-IFERROR(3600*$CV73/$CS$114,0)-1)) -> -2.807547 | DI73: =IF($J73="","-",IF($CW73=0,0, $CW73-IFERROR(3600*$CV73/$CS$114,0)-2)) -> -3.807547 | DJ73: =IF($J73="","-",IF($CW73=0,0, $CW73-IFERROR(3600*$CV73/$CS$114,0)-1)) -> -2.807547 | DK73: =IF($J73="","-",IF($CW73=0,0, $CW73-IFERROR(3600*$CV73/$CS$114,0))) -> -1.807547 | DL73: =IF($J73="","-",HLOOKUP(CX73,$DH$63:$DK$113,A73+1, FALSE)) -> -2.807547 | DM73: =IF($J73="","-",IFERROR(IF(CU73=0,((DA73*(3600/DF73))/($CS$114*((DG73-DB73+1)/DF73))),((DA73*(3600/DF73))/(($CS$114*(((DG73-DB73+1)/DF73)))+((CU73*3600)/DF73)))),0)) -> 0.63720718 | DN73: =IF($J73="","-",CW73/CZ73) -> 0.58333333 | DO73: =IF(AND(I73>DA73,CP73<>"Y"),"Blocked?","OK") -> OK
A74: 11 | I74: =IF($J74="","-",B74*$L$2+C74*$M$2+D74*$N$2+E74*$O$2+F74*$P$2+G74*$Q$2+H74*$R$2) -> - | S74: =IF($J74="","-",L74*$L$2+M74*$M$2+N74*$N$2+O74*$O$2+P74*$P$2+Q74*$Q$2+R74*$R$2) -> - | AB74: =IF($J74="","-",U74*$L$2+V74*$M$2+W74*$N$2+X74*$O$2+Y74*$P$2+Z74*$Q$2+AA74*$R$2) -> - | AD74: =IF($J74="","-",AC74-T74) -> - | AM74: =IF($J74="","-",AF74*$L$2+AG74*$M$2+AH74*$N$2+AI74*$O$2+AJ74*$P$2+AK74*$Q$2+AL74*$R$2) -> - | AV74: =IF($J74="","-",AO74*$L$2+AP74*$M$2+AQ74*$N$2+AR74*$O$2+AS74*$P$2+AT74*$Q$2+AU74*$R$2) -> - | AX74: =IF($J74="","-",AW74-AN74) -> - | BG74: =IF($J74="","-",AZ74*$L$2+BA74*$M$2+BB74*$N$2+BC74*$O$2+BD74*$P$2+BE74*$Q$2+BF74*$R$2) -> - | BP74: =IF($J74="","-",BI74*$L$2+BJ74*$M$2+BK74*$N$2+BL74*$O$2+BM74*$P$2+BN74*$Q$2+BO74*$R$2) -> - | BR74: =IF($J74="","-",BQ74-BH74) -> - | CA74: =IF($J74="","-",BT74*$L$2+BU74*$M$2+BV74*$N$2+BW74*$O$2+BX74*$P$2+BY74*$Q$2+BZ74*$R$2) -> - | CJ74: =IF($J74="","-",CC74*$L$2+CD74*$M$2+CE74*$N$2+CF74*$O$2+CG74*$P$2+CH74*$Q$2+CI74*$R$2) -> - | CN74: =IF($J74="","-",IF(AND(AB74>0,S74=0),"Y","N")) -> - | CQ74: =IF($J74="","-",IF(AC74=0,0,AC74-J74)) -> - | CR74: =IF($J74="","-",IF(AND(I74>=CR$4,CQ74>=CQ$4,CP74="N",S74=0),"Yes","No")) -> - | CS74: =IF($J74="","",IF(S74>0,0,IF(AD74=0,0,AB74/(AD74*24)))) | CU74: =IF(J74="","-",CJ74) -> - | CV74: =IF($J74="","-",AB74+AV74+BP74) -> - | CW74: =IF($J74="","-",(AD74+AX74+BR74)*86400) -> - | CX74: =IF($J74="","-",IF(CP74="Y",2,IF(AND(CN74="y",CO74="y"),2,IF(AND(CN74="y",CO74="n"),1,IF(AND(CN74="n",CO74="y"),3,IF(AND(CN74="n",CO74="n"),4,"error")))))) -> - | CY74: =IF($J74="","-",S74+AM74+BG74+CA74) -> - | CZ74: =IF($J74="","-",(CL74-J74)*86400) -> - | DA74: =IF($J74="","-",CV74+CY74+CU74) -> - | DB74: =IF($J74="","-",IF(CW74=0,0,CW74-DD74-DE74)) -> - | DC74: =IF($J74="", "-", IF(AND(CV74=0, CX74=2), 1, IFERROR((DA74*3600)/(IFERROR(CZ74-DB74-2,CZ74-2)*$CS$114+CU74*3600),0))) -> - | DD74: =IF($J74="","-",IF(OR(CX74=1,CX74=3),1,IF(CX74=2,2,IF(CX74=4,0,0)))) -> - | DE74: =IF($J74="","-",IFERROR((3600*CV74/$CS$114),0)) -> - | DF74: =IF(J74="","-",(CM74-J74)*86400) -> - | DG74: =IF($J74="","-",(CL74-J74-(3/86400))*86400) -> - | DH74: =IF($J74="","-",IF($CW74=0,0, $CW74-IFERROR(3600*$CV74/$CS$114,0)-1)) -> - | DI74: =IF($J74="","-",IF($CW74=0,0, $CW74-IFERROR(3600*$CV74/$CS$114,0)-2)) -> - | DJ74: =IF($J74="","-",IF($CW74=0,0, $CW74-IFERROR(3600*$CV74/$CS$114,0)-1)) -> - | DK74: =IF($J74="","-",IF($CW74=0,0, $CW74-IFERROR(3600*$CV74/$CS$114,0))) -> - | DL74: =IF($J74="","-",HLOOKUP(CX74,$DH$63:$DK$113,A74+1, FALSE)) -> - | DM74: =IF($J74="","-",IFERROR(IF(CU74=0,((DA74*(3600/DF74))/($CS$114*((DG74-DB74+1)/DF74))),((DA74*(3600/DF74))/(($CS$114*(((DG74-DB74+1)/DF74)))+((CU74*3600)/DF74)))),0)) -> - | DN74: =IF($J74="","-",CW74/CZ74) -> - | DO74: =IF(AND(I74>DA74,CP74<>"Y"),"Blocked?","OK") -> OK
A75: 12 | I75: =IF($J75="","-",B75*$L$2+C75*$M$2+D75*$N$2+E75*$O$2+F75*$P$2+G75*$Q$2+H75*$R$2) -> - | S75: =IF($J75="","-",L75*$L$2+M75*$M$2+N75*$N$2+O75*$O$2+P75*$P$2+Q75*$Q$2+R75*$R$2) -> - | AB75: =IF($J75="","-",U75*$L$2+V75*$M$2+W75*$N$2+X75*$O$2+Y75*$P$2+Z75*$Q$2+AA75*$R$2) -> - | AD75: =IF($J75="","-",AC75-T75) -> - | AM75: =IF($J75="","-",AF75*$L$2+AG75*$M$2+AH75*$N$2+AI75*$O$2+AJ75*$P$2+AK75*$Q$2+AL75*$R$2) -> - | AV75: =IF($J75="","-",AO75*$L$2+AP75*$M$2+AQ75*$N$2+AR75*$O$2+AS75*$P$2+AT75*$Q$2+AU75*$R$2) -> - | AX75: =IF($J75="","-",AW75-AN75) -> - | BG75: =IF($J75="","-",AZ75*$L$2+BA75*$M$2+BB75*$N$2+BC75*$O$2+BD75*$P$2+BE75*$Q$2+BF75*$R$2) -> - | BP75: =IF($J75="","-",BI75*$L$2+BJ75*$M$2+BK75*$N$2+BL75*$O$2+BM75*$P$2+BN75*$Q$2+BO75*$R$2) -> - | BR75: =IF($J75="","-",BQ75-BH75) -> - | CA75: =IF($J75="","-",BT75*$L$2+BU75*$M$2+BV75*$N$2+BW75*$O$2+BX75*$P$2+BY75*$Q$2+BZ75*$R$2) -> - | CJ75: =IF($J75="","-",CC75*$L$2+CD75*$M$2+CE75*$N$2+CF75*$O$2+CG75*$P$2+CH75*$Q$2+CI75*$R$2) -> - | CN75: =IF($J75="","-",IF(AND(AB75>0,S75=0),"Y","N")) -> - | CQ75: =IF($J75="","-",IF(AC75=0,0,AC75-J75)) -> - | CR75: =IF($J75="","-",IF(AND(I75>=CR$4,CQ75>=CQ$4,CP75="N",S75=0),"Yes","No")) -> - | CS75: =IF($J75="","",IF(S75>0,0,IF(AD75=0,0,AB75/(AD75*24)))) | CU75: =IF(J75="","-",CJ75) -> - | CV75: =IF($J75="","-",AB75+AV75+BP75) -> - | CW75: =IF($J75="","-",(AD75+AX75+BR75)*86400) -> - | CX75: =IF($J75="","-",IF(CP75="Y",2,IF(AND(CN75="y",CO75="y"),2,IF(AND(CN75="y",CO75="n"),1,IF(AND(CN75="n",CO75="y"),3,IF(AND(CN75="n",CO75="n"),4,"error")))))) -> - | CY75: =IF($J75="","-",S75+AM75+BG75+CA75) -> - | CZ75: =IF($J75="","-",(CL75-J75)*86400) -> - | DA75: =IF($J75="","-",CV75+CY75+CU75) -> - | DB75: =IF($J75="","-",IF(CW75=0,0,CW75-DD75-DE75)) -> - | DC75: =IF($J75="", "-", IF(AND(CV75=0, CX75=2), 1, IFERROR((DA75*3600)/(IFERROR(CZ75-DB75-2,CZ75-2)*$CS$114+CU75*3600),0))) -> - | DD75: =IF($J75="","-",IF(OR(CX75=1,CX75=3),1,IF(CX75=2,2,IF(CX75=4,0,0)))) -> - | DE75: =IF($J75="","-",IFERROR((3600*CV75/$CS$114),0)) -> - | DF75: =IF(J75="","-",(CM75-J75)*86400) -> - | DG75: =IF($J75="","-",(CL75-J75-(3/86400))*86400) -> - | DH75: =IF($J75="","-",IF($CW75=0,0, $CW75-IFERROR(3600*$CV75/$CS$114,0)-1)) -> - | DI75: =IF($J75="","-",IF($CW75=0,0, $CW75-IFERROR(3600*$CV75/$CS$114,0)-2)) -> - | DJ75: =IF($J75="","-",IF($CW75=0,0, $CW75-IFERROR(3600*$CV75/$CS$114,0)-1)) -> - | DK75: =IF($J75="","-",IF($CW75=0,0, $CW75-IFERROR(3600*$CV75/$CS$114,0))) -> - | DL75: =IF($J75="","-",HLOOKUP(CX75,$DH$63:$DK$113,A75+1, FALSE)) -> - | DM75: =IF($J75="","-",IFERROR(IF(CU75=0,((DA75*(3600/DF75))/($CS$114*((DG75-DB75+1)/DF75))),((DA75*(3600/DF75))/(($CS$114*(((DG75-DB75+1)/DF75)))+((CU75*3600)/DF75)))),0)) -> - | DN75: =IF($J75="","-",CW75/CZ75) -> - | DO75: =IF(AND(I75>DA75,CP75<>"Y"),"Blocked?","OK") -> OK
A76: 13 | I76: =IF($J76="","-",B76*$L$2+C76*$M$2+D76*$N$2+E76*$O$2+F76*$P$2+G76*$Q$2+H76*$R$2) -> - | S76: =IF($J76="","-",L76*$L$2+M76*$M$2+N76*$N$2+O76*$O$2+P76*$P$2+Q76*$Q$2+R76*$R$2) -> - | AB76: =IF($J76="","-",U76*$L$2+V76*$M$2+W76*$N$2+X76*$O$2+Y76*$P$2+Z76*$Q$2+AA76*$R$2) -> - | AD76: =IF($J76="","-",AC76-T76) -> - | AM76: =IF($J76="","-",AF76*$L$2+AG76*$M$2+AH76*$N$2+AI76*$O$2+AJ76*$P$2+AK76*$Q$2+AL76*$R$2) -> - | AV76: =IF($J76="","-",AO76*$L$2+AP76*$M$2+AQ76*$N$2+AR76*$O$2+AS76*$P$2+AT76*$Q$2+AU76*$R$2) -> - | AX76: =IF($J76="","-",AW76-AN76) -> - | BG76: =IF($J76="","-",AZ76*$L$2+BA76*$M$2+BB76*$N$2+BC76*$O$2+BD76*$P$2+BE76*$Q$2+BF76*$R$2) -> - | BP76: =IF($J76="","-",BI76*$L$2+BJ76*$M$2+BK76*$N$2+BL76*$O$2+BM76*$P$2+BN76*$Q$2+BO76*$R$2) -> - | BR76: =IF($J76="","-",BQ76-BH76) -> - | CA76: =IF($J76="","-",BT76*$L$2+BU76*$M$2+BV76*$N$2+BW76*$O$2+BX76*$P$2+BY76*$Q$2+BZ76*$R$2) -> - | CJ76: =IF($J76="","-",CC76*$L$2+CD76*$M$2+CE76*$N$2+CF76*$O$2+CG76*$P$2+CH76*$Q$2+CI76*$R$2) -> - | CN76: =IF($J76="","-",IF(AND(AB76>0,S76=0),"Y","N")) -> - | CQ76: =IF($J76="","-",IF(AC76=0,0,AC76-J76)) -> - | CR76: =IF($J76="","-",IF(AND(I76>=CR$4,CQ76>=CQ$4,CP76="N",S76=0),"Yes","No")) -> - | CS76: =IF($J76="","",IF(S76>0,0,IF(AD76=0,0,AB76/(AD76*24)))) | CU76: =IF(J76="","-",CJ76) -> - | CV76: =IF($J76="","-",AB76+AV76+BP76) -> - | CW76: =IF($J76="","-",(AD76+AX76+BR76)*86400) -> - | CX76: =IF($J76="","-",IF(CP76="Y",2,IF(AND(CN76="y",CO76="y"),2,IF(AND(CN76="y",CO76="n"),1,IF(AND(CN76="n",CO76="y"),3,IF(AND(CN76="n",CO76="n"),4,"error")))))) -> - | CY76: =IF($J76="","-",S76+AM76+BG76+CA76) -> - | CZ76: =IF($J76="","-",(CL76-J76)*86400) -> - | DA76: =IF($J76="","-",CV76+CY76+CU76) -> - | DB76: =IF($J76="","-",IF(CW76=0,0,CW76-DD76-DE76)) -> - | DC76: =IF($J76="", "-", IF(AND(CV76=0, CX76=2), 1, IFERROR((DA76*3600)/(IFERROR(CZ76-DB76-2,CZ76-2)*$CS$114+CU76*3600),0))) -> - | DD76: =IF($J76="","-",IF(OR(CX76=1,CX76=3),1,IF(CX76=2,2,IF(CX76=4,0,0)))) -> - | DE76: =IF($J76="","-",IFERROR((3600*CV76/$CS$114),0)) -> - | DF76: =IF(J76="","-",(CM76-J76)*86400) -> - | DG76: =IF($J76="","-",(CL76-J76-(3/86400))*86400) -> - | DH76: =IF($J76="","-",IF($CW76=0,0, $CW76-IFERROR(3600*$CV76/$CS$114,0)-1)) -> - | DI76: =IF($J76="","-",IF($CW76=0,0, $CW76-IFERROR(3600*$CV76/$CS$114,0)-2)) -> - | DJ76: =IF($J76="","-",IF($CW76=0,0, $CW76-IFERROR(3600*$CV76/$CS$114,0)-1)) -> - | DK76: =IF($J76="","-",IF($CW76=0,0, $CW76-IFERROR(3600*$CV76/$CS$114,0))) -> - | DL76: =IF($J76="","-",HLOOKUP(CX76,$DH$63:$DK$113,A76+1, FALSE)) -> - | DM76: =IF($J76="","-",IFERROR(IF(CU76=0,((DA76*(3600/DF76))/($CS$114*((DG76-DB76+1)/DF76))),((DA76*(3600/DF76))/(($CS$114*(((DG76-DB76+1)/DF76)))+((CU76*3600)/DF76)))),0)) -> - | DN76: =IF($J76="","-",CW76/CZ76) -> - | DO76: =IF(AND(I76>DA76,CP76<>"Y"),"Blocked?","OK") -> OK
A77: 14 | I77: =IF($J77="","-",B77*$L$2+C77*$M$2+D77*$N$2+E77*$O$2+F77*$P$2+G77*$Q$2+H77*$R$2) -> - | S77: =IF($J77="","-",L77*$L$2+M77*$M$2+N77*$N$2+O77*$O$2+P77*$P$2+Q77*$Q$2+R77*$R$2) -> - | AB77: =IF($J77="","-",U77*$L$2+V77*$M$2+W77*$N$2+X77*$O$2+Y77*$P$2+Z77*$Q$2+AA77*$R$2) -> - | AD77: =IF($J77="","-",AC77-T77) -> - | AM77: =IF($J77="","-",AF77*$L$2+AG77*$M$2+AH77*$N$2+AI77*$O$2+AJ77*$P$2+AK77*$Q$2+AL77*$R$2) -> - | AV77: =IF($J77="","-",AO77*$L$2+AP77*$M$2+AQ77*$N$2+AR77*$O$2+AS77*$P$2+AT77*$Q$2+AU77*$R$2) -> - | AX77: =IF($J77="","-",AW77-AN77) -> - | BG77: =IF($J77="","-",AZ77*$L$2+BA77*$M$2+BB77*$N$2+BC77*$O$2+BD77*$P$2+BE77*$Q$2+BF77*$R$2) -> - | BP77: =IF($J77="","-",BI77*$L$2+BJ77*$M$2+BK77*$N$2+BL77*$O$2+BM77*$P$2+BN77*$Q$2+BO77*$R$2) -> - | BR77: =IF($J77="","-",BQ77-BH77) -> - | CA77: =IF($J77="","-",BT77*$L$2+BU77*$M$2+BV77*$N$2+BW77*$O$2+BX77*$P$2+BY77*$Q$2+BZ77*$R$2) -> - | CJ77: =IF($J77="","-",CC77*$L$2+CD77*$M$2+CE77*$N$2+CF77*$O$2+CG77*$P$2+CH77*$Q$2+CI77*$R$2) -> - | CN77: =IF($J77="","-",IF(AND(AB77>0,S77=0),"Y","N")) -> - | CQ77: =IF($J77="","-",IF(AC77=0,0,AC77-J77)) -> - | CR77: =IF($J77="","-",IF(AND(I77>=CR$4,CQ77>=CQ$4,CP77="N",S77=0),"Yes","No")) -> - | CS77: =IF($J77="","",IF(S77>0,0,IF(AD77=0,0,AB77/(AD77*24)))) | CU77: =IF(J77="","-",CJ77) -> - | CV77: =IF($J77="","-",AB77+AV77+BP77) -> - | CW77: =IF($J77="","-",(AD77+AX77+BR77)*86400) -> - | CX77: =IF($J77="","-",IF(CP77="Y",2,IF(AND(CN77="y",CO77="y"),2,IF(AND(CN77="y",CO77="n"),1,IF(AND(CN77="n",CO77="y"),3,IF(AND(CN77="n",CO77="n"),4,"error")))))) -> - | CY77: =IF($J77="","-",S77+AM77+BG77+CA77) -> - | CZ77: =IF($J77="","-",(CL77-J77)*86400) -> - | DA77: =IF($J77="","-",CV77+CY77+CU77) -> - | DB77: =IF($J77="","-",IF(CW77=0,0,CW77-DD77-DE77)) -> - | DC77: =IF($J77="", "-", IF(AND(CV77=0, CX77=2), 1, IFERROR((DA77*3600)/(IFERROR(CZ77-DB77-2,CZ77-2)*$CS$114+CU77*3600),0))) -> - | DD77: =IF($J77="","-",IF(OR(CX77=1,CX77=3),1,IF(CX77=2,2,IF(CX77=4,0,0)))) -> - | DE77: =IF($J77="","-",IFERROR((3600*CV77/$CS$114),0)) -> - | DF77: =IF(J77="","-",(CM77-J77)*86400) -> - | DG77: =IF($J77="","-",(CL77-J77-(3/86400))*86400) -> - | DH77: =IF($J77="","-",IF($CW77=0,0, $CW77-IFERROR(3600*$CV77/$CS$114,0)-1)) -> - | DI77: =IF($J77="","-",IF($CW77=0,0, $CW77-IFERROR(3600*$CV77/$CS$114,0)-2)) -> - | DJ77: =IF($J77="","-",IF($CW77=0,0, $CW77-IFERROR(3600*$CV77/$CS$114,0)-1)) -> - | DK77: =IF($J77="","-",IF($CW77=0,0, $CW77-IFERROR(3600*$CV77/$CS$114,0))) -> - | DL77: =IF($J77="","-",HLOOKUP(CX77,$DH$63:$DK$113,A77+1, FALSE)) -> - | DM77: =IF($J77="","-",IFERROR(IF(CU77=0,((DA77*(3600/DF77))/($CS$114*((DG77-DB77+1)/DF77))),((DA77*(3600/DF77))/(($CS$114*(((DG77-DB77+1)/DF77)))+((CU77*3600)/DF77)))),0)) -> - | DN77: =IF($J77="","-",CW77/CZ77) -> - | DO77: =IF(AND(I77>DA77,CP77<>"Y"),"Blocked?","OK") -> OK
A78: 15 | I78: =IF($J78="","-",B78*$L$2+C78*$M$2+D78*$N$2+E78*$O$2+F78*$P$2+G78*$Q$2+H78*$R$2) -> - | S78: =IF($J78="","-",L78*$L$2+M78*$M$2+N78*$N$2+O78*$O$2+P78*$P$2+Q78*$Q$2+R78*$R$2) -> - | AB78: =IF($J78="","-",U78*$L$2+V78*$M$2+W78*$N$2+X78*$O$2+Y78*$P$2+Z78*$Q$2+AA78*$R$2) -> - | AD78: =IF($J78="","-",AC78-T78) -> - | AM78: =IF($J78="","-",AF78*$L$2+AG78*$M$2+AH78*$N$2+AI78*$O$2+AJ78*$P$2+AK78*$Q$2+AL78*$R$2) -> - | AV78: =IF($J78="","-",AO78*$L$2+AP78*$M$2+AQ78*$N$2+AR78*$O$2+AS78*$P$2+AT78*$Q$2+AU78*$R$2) -> - | AX78: =IF($J78="","-",AW78-AN78) -> - | BG78: =IF($J78="","-",AZ78*$L$2+BA78*$M$2+BB78*$N$2+BC78*$O$2+BD78*$P$2+BE78*$Q$2+BF78*$R$2) -> - | BP78: =IF($J78="","-",BI78*$L$2+BJ78*$M$2+BK78*$N$2+BL78*$O$2+BM78*$P$2+BN78*$Q$2+BO78*$R$2) -> - | BR78: =IF($J78="","-",BQ78-BH78) -> - | CA78: =IF($J78="","-",BT78*$L$2+BU78*$M$2+BV78*$N$2+BW78*$O$2+BX78*$P$2+BY78*$Q$2+BZ78*$R$2) -> - | CJ78: =IF($J78="","-",CC78*$L$2+CD78*$M$2+CE78*$N$2+CF78*$O$2+CG78*$P$2+CH78*$Q$2+CI78*$R$2) -> - | CN78: =IF($J78="","-",IF(AND(AB78>0,S78=0),"Y","N")) -> - | CQ78: =IF($J78="","-",IF(AC78=0,0,AC78-J78)) -> - | CR78: =IF($J78="","-",IF(AND(I78>=CR$4,CQ78>=CQ$4,CP78="N",S78=0),"Yes","No")) -> - | CS78: =IF($J78="","",IF(S78>0,0,IF(AD78=0,0,AB78/(AD78*24)))) | CU78: =IF(J78="","-",CJ78) -> - | CV78: =IF($J78="","-",AB78+AV78+BP78) -> - | CW78: =IF($J78="","-",(AD78+AX78+BR78)*86400) -> - | CX78: =IF($J78="","-",IF(CP78="Y",2,IF(AND(CN78="y",CO78="y"),2,IF(AND(CN78="y",CO78="n"),1,IF(AND(CN78="n",CO78="y"),3,IF(AND(CN78="n",CO78="n"),4,"error")))))) -> - | CY78: =IF($J78="","-",S78+AM78+BG78+CA78) -> - | CZ78: =IF($J78="","-",(CL78-J78)*86400) -> - | DA78: =IF($J78="","-",CV78+CY78+CU78) -> - | DB78: =IF($J78="","-",IF(CW78=0,0,CW78-DD78-DE78)) -> - | DC78: =IF($J78="", "-", IF(AND(CV78=0, CX78=2), 1, IFERROR((DA78*3600)/(IFERROR(CZ78-DB78-2,CZ78-2)*$CS$114+CU78*3600),0))) -> - | DD78: =IF($J78="","-",IF(OR(CX78=1,CX78=3),1,IF(CX78=2,2,IF(CX78=4,0,0)))) -> - | DE78: =IF($J78="","-",IFERROR((3600*CV78/$CS$114),0)) -> - | DF78: =IF(J78="","-",(CM78-J78)*86400) -> - | DG78: =IF($J78="","-",(CL78-J78-(3/86400))*86400) -> - | DH78: =IF($J78="","-",IF($CW78=0,0, $CW78-IFERROR(3600*$CV78/$CS$114,0)-1)) -> - | DI78: =IF($J78="","-",IF($CW78=0,0, $CW78-IFERROR(3600*$CV78/$CS$114,0)-2)) -> - | DJ78: =IF($J78="","-",IF($CW78=0,0, $CW78-IFERROR(3600*$CV78/$CS$114,0)-1)) -> - | DK78: =IF($J78="","-",IF($CW78=0,0, $CW78-IFERROR(3600*$CV78/$CS$114,0))) -> - | DL78: =IF($J78="","-",HLOOKUP(CX78,$DH$63:$DK$113,A78+1, FALSE)) -> - | DM78: =IF($J78="","-",IFERROR(IF(CU78=0,((DA78*(3600/DF78))/($CS$114*((DG78-DB78+1)/DF78))),((DA78*(3600/DF78))/(($CS$114*(((DG78-DB78+1)/DF78)))+((CU78*3600)/DF78)))),0)) -> - | DN78: =IF($J78="","-",CW78/CZ78) -> - | DO78: =IF(AND(I78>DA78,CP78<>"Y"),"Blocked?","OK") -> OK
A79: 16 | I79: =IF($J79="","-",B79*$L$2+C79*$M$2+D79*$N$2+E79*$O$2+F79*$P$2+G79*$Q$2+H79*$R$2) -> - | S79: =IF($J79="","-",L79*$L$2+M79*$M$2+N79*$N$2+O79*$O$2+P79*$P$2+Q79*$Q$2+R79*$R$2) -> - | AB79: =IF($J79="","-",U79*$L$2+V79*$M$2+W79*$N$2+X79*$O$2+Y79*$P$2+Z79*$Q$2+AA79*$R$2) -> - | AD79: =IF($J79="","-",AC79-T79) -> - | AM79: =IF($J79="","-",AF79*$L$2+AG79*$M$2+AH79*$N$2+AI79*$O$2+AJ79*$P$2+AK79*$Q$2+AL79*$R$2) -> - | AV79: =IF($J79="","-",AO79*$L$2+AP79*$M$2+AQ79*$N$2+AR79*$O$2+AS79*$P$2+AT79*$Q$2+AU79*$R$2) -> - | AX79: =IF($J79="","-",AW79-AN79) -> - | BG79: =IF($J79="","-",AZ79*$L$2+BA79*$M$2+BB79*$N$2+BC79*$O$2+BD79*$P$2+BE79*$Q$2+BF79*$R$2) -> - | BP79: =IF($J79="","-",BI79*$L$2+BJ79*$M$2+BK79*$N$2+BL79*$O$2+BM79*$P$2+BN79*$Q$2+BO79*$R$2) -> - | BR79: =IF($J79="","-",BQ79-BH79) -> - | CA79: =IF($J79="","-",BT79*$L$2+BU79*$M$2+BV79*$N$2+BW79*$O$2+BX79*$P$2+BY79*$Q$2+BZ79*$R$2) -> - | CJ79: =IF($J79="","-",CC79*$L$2+CD79*$M$2+CE79*$N$2+CF79*$O$2+CG79*$P$2+CH79*$Q$2+CI79*$R$2) -> - | CN79: =IF($J79="","-",IF(AND(AB79>0,S79=0),"Y","N")) -> - | CQ79: =IF($J79="","-",IF(AC79=0,0,AC79-J79)) -> - | CR79: =IF($J79="","-",IF(AND(I79>=CR$4,CQ79>=CQ$4,CP79="N",S79=0),"Yes","No")) -> - | CS79: =IF($J79="","",IF(S79>0,0,IF(AD79=0,0,AB79/(AD79*24)))) | CU79: =IF(J79="","-",CJ79) -> - | CV79: =IF($J79="","-",AB79+AV79+BP79) -> - | CW79: =IF($J79="","-",(AD79+AX79+BR79)*86400) -> - | CX79: =IF($J79="","-",IF(CP79="Y",2,IF(AND(CN79="y",CO79="y"),2,IF(AND(CN79="y",CO79="n"),1,IF(AND(CN79="n",CO79="y"),3,IF(AND(CN79="n",CO79="n"),4,"error")))))) -> - | CY79: =IF($J79="","-",S79+AM79+BG79+CA79) -> - | CZ79: =IF($J79="","-",(CL79-J79)*86400) -> - | DA79: =IF($J79="","-",CV79+CY79+CU79) -> - | DB79: =IF($J79="","-",IF(CW79=0,0,CW79-DD79-DE79)) -> - | DC79: =IF($J79="", "-", IF(AND(CV79=0, CX79=2), 1, IFERROR((DA79*3600)/(IFERROR(CZ79-DB79-2,CZ79-2)*$CS$114+CU79*3600),0))) -> - | DD79: =IF($J79="","-",IF(OR(CX79=1,CX79=3),1,IF(CX79=2,2,IF(CX79=4,0,0)))) -> - | DE79: =IF($J79="","-",IFERROR((3600*CV79/$CS$114),0)) -> - | DF79: =IF(J79="","-",(CM79-J79)*86400) -> - | DG79: =IF($J79="","-",(CL79-J79-(3/86400))*86400) -> - | DH79: =IF($J79="","-",IF($CW79=0,0, $CW79-IFERROR(3600*$CV79/$CS$114,0)-1)) -> - | DI79: =IF($J79="","-",IF($CW79=0,0, $CW79-IFERROR(3600*$CV79/$CS$114,0)-2)) -> - | DJ79: =IF($J79="","-",IF($CW79=0,0, $CW79-IFERROR(3600*$CV79/$CS$114,0)-1)) -> - | DK79: =IF($J79="","-",IF($CW79=0,0, $CW79-IFERROR(3600*$CV79/$CS$114,0))) -> - | DL79: =IF($J79="","-",HLOOKUP(CX79,$DH$63:$DK$113,A79+1, FALSE)) -> - | DM79: =IF($J79="","-",IFERROR(IF(CU79=0,((DA79*(3600/DF79))/($CS$114*((DG79-DB79+1)/DF79))),((DA79*(3600/DF79))/(($CS$114*(((DG79-DB79+1)/DF79)))+((CU79*3600)/DF79)))),0)) -> - | DN79: =IF($J79="","-",CW79/CZ79) -> - | DO79: =IF(AND(I79>DA79,CP79<>"Y"),"Blocked?","OK") -> OK
A80: 17 | I80: =IF($J80="","-",B80*$L$2+C80*$M$2+D80*$N$2+E80*$O$2+F80*$P$2+G80*$Q$2+H80*$R$2) -> - | S80: =IF($J80="","-",L80*$L$2+M80*$M$2+N80*$N$2+O80*$O$2+P80*$P$2+Q80*$Q$2+R80*$R$2) -> - | AB80: =IF($J80="","-",U80*$L$2+V80*$M$2+W80*$N$2+X80*$O$2+Y80*$P$2+Z80*$Q$2+AA80*$R$2) -> - | AD80: =IF($J80="","-",AC80-T80) -> - | AM80: =IF($J80="","-",AF80*$L$2+AG80*$M$2+AH80*$N$2+AI80*$O$2+AJ80*$P$2+AK80*$Q$2+AL80*$R$2) -> - | AV80: =IF($J80="","-",AO80*$L$2+AP80*$M$2+AQ80*$N$2+AR80*$O$2+AS80*$P$2+AT80*$Q$2+AU80*$R$2) -> - | AX80: =IF($J80="","-",AW80-AN80) -> - | BG80: =IF($J80="","-",AZ80*$L$2+BA80*$M$2+BB80*$N$2+BC80*$O$2+BD80*$P$2+BE80*$Q$2+BF80*$R$2) -> - | BP80: =IF($J80="","-",BI80*$L$2+BJ80*$M$2+BK80*$N$2+BL80*$O$2+BM80*$P$2+BN80*$Q$2+BO80*$R$2) -> - | BR80: =IF($J80="","-",BQ80-BH80) -> - | CA80: =IF($J80="","-",BT80*$L$2+BU80*$M$2+BV80*$N$2+BW80*$O$2+BX80*$P$2+BY80*$Q$2+BZ80*$R$2) -> - | CJ80: =IF($J80="","-",CC80*$L$2+CD80*$M$2+CE80*$N$2+CF80*$O$2+CG80*$P$2+CH80*$Q$2+CI80*$R$2) -> - | CN80: =IF($J80="","-",IF(AND(AB80>0,S80=0),"Y","N")) -> - | CQ80: =IF($J80="","-",IF(AC80=0,0,AC80-J80)) -> - | CR80: =IF($J80="","-",IF(AND(I80>=CR$4,CQ80>=CQ$4,CP80="N",S80=0),"Yes","No")) -> - | CS80: =IF($J80="","",IF(S80>0,0,IF(AD80=0,0,AB80/(AD80*24)))) | CU80: =IF(J80="","-",CJ80) -> - | CV80: =IF($J80="","-",AB80+AV80+BP80) -> - | CW80: =IF($J80="","-",(AD80+AX80+BR80)*86400) -> - | CX80: =IF($J80="","-",IF(CP80="Y",2,IF(AND(CN80="y",CO80="y"),2,IF(AND(CN80="y",CO80="n"),1,IF(AND(CN80="n",CO80="y"),3,IF(AND(CN80="n",CO80="n"),4,"error")))))) -> - | CY80: =IF($J80="","-",S80+AM80+BG80+CA80) -> - | CZ80: =IF($J80="","-",(CL80-J80)*86400) -> - | DA80: =IF($J80="","-",CV80+CY80+CU80) -> - | DB80: =IF($J80="","-",IF(CW80=0,0,CW80-DD80-DE80)) -> - | DC80: =IF($J80="", "-", IF(AND(CV80=0, CX80=2), 1, IFERROR((DA80*3600)/(IFERROR(CZ80-DB80-2,CZ80-2)*$CS$114+CU80*3600),0))) -> - | DD80: =IF($J80="","-",IF(OR(CX80=1,CX80=3),1,IF(CX80=2,2,IF(CX80=4,0,0)))) -> - | DE80: =IF($J80="","-",IFERROR((3600*CV80/$CS$114),0)) -> - | DF80: =IF(J80="","-",(CM80-J80)*86400) -> - | DG80: =IF($J80="","-",(CL80-J80-(3/86400))*86400) -> - | DH80: =IF($J80="","-",IF($CW80=0,0, $CW80-IFERROR(3600*$CV80/$CS$114,0)-1)) -> - | DI80: =IF($J80="","-",IF($CW80=0,0, $CW80-IFERROR(3600*$CV80/$CS$114,0)-2)) -> - | DJ80: =IF($J80="","-",IF($CW80=0,0, $CW80-IFERROR(3600*$CV80/$CS$114,0)-1)) -> - | DK80: =IF($J80="","-",IF($CW80=0,0, $CW80-IFERROR(3600*$CV80/$CS$114,0))) -> - | DL80: =IF($J80="","-",HLOOKUP(CX80,$DH$63:$DK$113,A80+1, FALSE)) -> - | DM80: =IF($J80="","-",IFERROR(IF(CU80=0,((DA80*(3600/DF80))/($CS$114*((DG80-DB80+1)/DF80))),((DA80*(3600/DF80))/(($CS$114*(((DG80-DB80+1)/DF80)))+((CU80*3600)/DF80)))),0)) -> - | DN80: =IF($J80="","-",CW80/CZ80) -> - | DO80: =IF(AND(I80>DA80,CP80<>"Y"),"Blocked?","OK") -> OK
A81: 18 | I81: =IF($J81="","-",B81*$L$2+C81*$M$2+D81*$N$2+E81*$O$2+F81*$P$2+G81*$Q$2+H81*$R$2) -> - | S81: =IF($J81="","-",L81*$L$2+M81*$M$2+N81*$N$2+O81*$O$2+P81*$P$2+Q81*$Q$2+R81*$R$2) -> - | AB81: =IF($J81="","-",U81*$L$2+V81*$M$2+W81*$N$2+X81*$O$2+Y81*$P$2+Z81*$Q$2+AA81*$R$2) -> - | AD81: =IF($J81="","-",AC81-T81) -> - | AM81: =IF($J81="","-",AF81*$L$2+AG81*$M$2+AH81*$N$2+AI81*$O$2+AJ81*$P$2+AK81*$Q$2+AL81*$R$2) -> - | AV81: =IF($J81="","-",AO81*$L$2+AP81*$M$2+AQ81*$N$2+AR81*$O$2+AS81*$P$2+AT81*$Q$2+AU81*$R$2) -> - | AX81: =IF($J81="","-",AW81-AN81) -> - | BG81: =IF($J81="","-",AZ81*$L$2+BA81*$M$2+BB81*$N$2+BC81*$O$2+BD81*$P$2+BE81*$Q$2+BF81*$R$2) -> - | BP81: =IF($J81="","-",BI81*$L$2+BJ81*$M$2+BK81*$N$2+BL81*$O$2+BM81*$P$2+BN81*$Q$2+BO81*$R$2) -> - | BR81: =IF($J81="","-",BQ81-BH81) -> - | CA81: =IF($J81="","-",BT81*$L$2+BU81*$M$2+BV81*$N$2+BW81*$O$2+BX81*$P$2+BY81*$Q$2+BZ81*$R$2) -> - | CJ81: =IF($J81="","-",CC81*$L$2+CD81*$M$2+CE81*$N$2+CF81*$O$2+CG81*$P$2+CH81*$Q$2+CI81*$R$2) -> - | CN81: =IF($J81="","-",IF(AND(AB81>0,S81=0),"Y","N")) -> - | CQ81: =IF($J81="","-",IF(AC81=0,0,AC81-J81)) -> - | CR81: =IF($J81="","-",IF(AND(I81>=CR$4,CQ81>=CQ$4,CP81="N",S81=0),"Yes","No")) -> - | CS81: =IF($J81="","",IF(S81>0,0,IF(AD81=0,0,AB81/(AD81*24)))) | CU81: =IF(J81="","-",CJ81) -> - | CV81: =IF($J81="","-",AB81+AV81+BP81) -> - | CW81: =IF($J81="","-",(AD81+AX81+BR81)*86400) -> - | CX81: =IF($J81="","-",IF(CP81="Y",2,IF(AND(CN81="y",CO81="y"),2,IF(AND(CN81="y",CO81="n"),1,IF(AND(CN81="n",CO81="y"),3,IF(AND(CN81="n",CO81="n"),4,"error")))))) -> - | CY81: =IF($J81="","-",S81+AM81+BG81+CA81) -> - | CZ81: =IF($J81="","-",(CL81-J81)*86400) -> - | DA81: =IF($J81="","-",CV81+CY81+CU81) -> - | DB81: =IF($J81="","-",IF(CW81=0,0,CW81-DD81-DE81)) -> - | DC81: =IF($J81="", "-", IF(AND(CV81=0, CX81=2), 1, IFERROR((DA81*3600)/(IFERROR(CZ81-DB81-2,CZ81-2)*$CS$114+CU81*3600),0))) -> - | DD81: =IF($J81="","-",IF(OR(CX81=1,CX81=3),1,IF(CX81=2,2,IF(CX81=4,0,0)))) -> - | DE81: =IF($J81="","-",IFERROR((3600*CV81/$CS$114),0)) -> - | DF81: =IF(J81="","-",(CM81-J81)*86400) -> - | DG81: =IF($J81="","-",(CL81-J81-(3/86400))*86400) -> - | DH81: =IF($J81="","-",IF($CW81=0,0, $CW81-IFERROR(3600*$CV81/$CS$114,0)-1)) -> - | DI81: =IF($J81="","-",IF($CW81=0,0, $CW81-IFERROR(3600*$CV81/$CS$114,0)-2)) -> - | DJ81: =IF($J81="","-",IF($CW81=0,0, $CW81-IFERROR(3600*$CV81/$CS$114,0)-1)) -> - | DK81: =IF($J81="","-",IF($CW81=0,0, $CW81-IFERROR(3600*$CV81/$CS$114,0))) -> - | DL81: =IF($J81="","-",HLOOKUP(CX81,$DH$63:$DK$113,A81+1, FALSE)) -> - | DM81: =IF($J81="","-",IFERROR(IF(CU81=0,((DA81*(3600/DF81))/($CS$114*((DG81-DB81+1)/DF81))),((DA81*(3600/DF81))/(($CS$114*(((DG81-DB81+1)/DF81)))+((CU81*3600)/DF81)))),0)) -> - | DN81: =IF($J81="","-",CW81/CZ81) -> - | DO81: =IF(AND(I81>DA81,CP81<>"Y"),"Blocked?","OK") -> OK
A82: 19 | I82: =IF($J82="","-",B82*$L$2+C82*$M$2+D82*$N$2+E82*$O$2+F82*$P$2+G82*$Q$2+H82*$R$2) -> - | S82: =IF($J82="","-",L82*$L$2+M82*$M$2+N82*$N$2+O82*$O$2+P82*$P$2+Q82*$Q$2+R82*$R$2) -> - | AB82: =IF($J82="","-",U82*$L$2+V82*$M$2+W82*$N$2+X82*$O$2+Y82*$P$2+Z82*$Q$2+AA82*$R$2) -> - | AD82: =IF($J82="","-",AC82-T82) -> - | AM82: =IF($J82="","-",AF82*$L$2+AG82*$M$2+AH82*$N$2+AI82*$O$2+AJ82*$P$2+AK82*$Q$2+AL82*$R$2) -> - | AV82: =IF($J82="","-",AO82*$L$2+AP82*$M$2+AQ82*$N$2+AR82*$O$2+AS82*$P$2+AT82*$Q$2+AU82*$R$2) -> - | AX82: =IF($J82="","-",AW82-AN82) -> - | BG82: =IF($J82="","-",AZ82*$L$2+BA82*$M$2+BB82*$N$2+BC82*$O$2+BD82*$P$2+BE82*$Q$2+BF82*$R$2) -> - | BP82: =IF($J82="","-",BI82*$L$2+BJ82*$M$2+BK82*$N$2+BL82*$O$2+BM82*$P$2+BN82*$Q$2+BO82*$R$2) -> - | BR82: =IF($J82="","-",BQ82-BH82) -> - | CA82: =IF($J82="","-",BT82*$L$2+BU82*$M$2+BV82*$N$2+BW82*$O$2+BX82*$P$2+BY82*$Q$2+BZ82*$R$2) -> - | CJ82: =IF($J82="","-",CC82*$L$2+CD82*$M$2+CE82*$N$2+CF82*$O$2+CG82*$P$2+CH82*$Q$2+CI82*$R$2) -> - | CN82: =IF($J82="","-",IF(AND(AB82>0,S82=0),"Y","N")) -> - | CQ82: =IF($J82="","-",IF(AC82=0,0,AC82-J82)) -> - | CR82: =IF($J82="","-",IF(AND(I82>=CR$4,CQ82>=CQ$4,CP82="N",S82=0),"Yes","No")) -> - | CS82: =IF($J82="","",IF(S82>0,0,IF(AD82=0,0,AB82/(AD82*24)))) | CU82: =IF(J82="","-",CJ82) -> - | CV82: =IF($J82="","-",AB82+AV82+BP82) -> - | CW82: =IF($J82="","-",(AD82+AX82+BR82)*86400) -> - | CX82: =IF($J82="","-",IF(CP82="Y",2,IF(AND(CN82="y",CO82="y"),2,IF(AND(CN82="y",CO82="n"),1,IF(AND(CN82="n",CO82="y"),3,IF(AND(CN82="n",CO82="n"),4,"error")))))) -> - | CY82: =IF($J82="","-",S82+AM82+BG82+CA82) -> - | CZ82: =IF($J82="","-",(CL82-J82)*86400) -> - | DA82: =IF($J82="","-",CV82+CY82+CU82) -> - | DB82: =IF($J82="","-",IF(CW82=0,0,CW82-DD82-DE82)) -> - | DC82: =IF($J82="", "-", IF(AND(CV82=0, CX82=2), 1, IFERROR((DA82*3600)/(IFERROR(CZ82-DB82-2,CZ82-2)*$CS$114+CU82*3600),0))) -> - | DD82: =IF($J82="","-",IF(OR(CX82=1,CX82=3),1,IF(CX82=2,2,IF(CX82=4,0,0)))) -> - | DE82: =IF($J82="","-",IFERROR((3600*CV82/$CS$114),0)) -> - | DF82: =IF(J82="","-",(CM82-J82)*86400) -> - | DG82: =IF($J82="","-",(CL82-J82-(3/86400))*86400) -> - | DH82: =IF($J82="","-",IF($CW82=0,0, $CW82-IFERROR(3600*$CV82/$CS$114,0)-1)) -> - | DI82: =IF($J82="","-",IF($CW82=0,0, $CW82-IFERROR(3600*$CV82/$CS$114,0)-2)) -> - | DJ82: =IF($J82="","-",IF($CW82=0,0, $CW82-IFERROR(3600*$CV82/$CS$114,0)-1)) -> - | DK82: =IF($J82="","-",IF($CW82=0,0, $CW82-IFERROR(3600*$CV82/$CS$114,0))) -> - | DL82: =IF($J82="","-",HLOOKUP(CX82,$DH$63:$DK$113,A82+1, FALSE)) -> - | DM82: =IF($J82="","-",IFERROR(IF(CU82=0,((DA82*(3600/DF82))/($CS$114*((DG82-DB82+1)/DF82))),((DA82*(3600/DF82))/(($CS$114*(((DG82-DB82+1)/DF82)))+((CU82*3600)/DF82)))),0)) -> - | DN82: =IF($J82="","-",CW82/CZ82) -> - | DO82: =IF(AND(I82>DA82,CP82<>"Y"),"Blocked?","OK") -> OK
A83: 20 | I83: =IF($J83="","-",B83*$L$2+C83*$M$2+D83*$N$2+E83*$O$2+F83*$P$2+G83*$Q$2+H83*$R$2) -> - | S83: =IF($J83="","-",L83*$L$2+M83*$M$2+N83*$N$2+O83*$O$2+P83*$P$2+Q83*$Q$2+R83*$R$2) -> - | AB83: =IF($J83="","-",U83*$L$2+V83*$M$2+W83*$N$2+X83*$O$2+Y83*$P$2+Z83*$Q$2+AA83*$R$2) -> - | AD83: =IF($J83="","-",AC83-T83) -> - | AM83: =IF($J83="","-",AF83*$L$2+AG83*$M$2+AH83*$N$2+AI83*$O$2+AJ83*$P$2+AK83*$Q$2+AL83*$R$2) -> - | AV83: =IF($J83="","-",AO83*$L$2+AP83*$M$2+AQ83*$N$2+AR83*$O$2+AS83*$P$2+AT83*$Q$2+AU83*$R$2) -> - | AX83: =IF($J83="","-",AW83-AN83) -> - | BG83: =IF($J83="","-",AZ83*$L$2+BA83*$M$2+BB83*$N$2+BC83*$O$2+BD83*$P$2+BE83*$Q$2+BF83*$R$2) -> - | BP83: =IF($J83="","-",BI83*$L$2+BJ83*$M$2+BK83*$N$2+BL83*$O$2+BM83*$P$2+BN83*$Q$2+BO83*$R$2) -> - | BR83: =IF($J83="","-",BQ83-BH83) -> - | CA83: =IF($J83="","-",BT83*$L$2+BU83*$M$2+BV83*$N$2+BW83*$O$2+BX83*$P$2+BY83*$Q$2+BZ83*$R$2) -> - | CJ83: =IF($J83="","-",CC83*$L$2+CD83*$M$2+CE83*$N$2+CF83*$O$2+CG83*$P$2+CH83*$Q$2+CI83*$R$2) -> - | CN83: =IF($J83="","-",IF(AND(AB83>0,S83=0),"Y","N")) -> - | CQ83: =IF($J83="","-",IF(AC83=0,0,AC83-J83)) -> - | CR83: =IF($J83="","-",IF(AND(I83>=CR$4,CQ83>=CQ$4,CP83="N",S83=0),"Yes","No")) -> - | CS83: =IF($J83="","",IF(S83>0,0,IF(AD83=0,0,AB83/(AD83*24)))) | CU83: =IF(J83="","-",CJ83) -> - | CV83: =IF($J83="","-",AB83+AV83+BP83) -> - | CW83: =IF($J83="","-",(AD83+AX83+BR83)*86400) -> - | CX83: =IF($J83="","-",IF(CP83="Y",2,IF(AND(CN83="y",CO83="y"),2,IF(AND(CN83="y",CO83="n"),1,IF(AND(CN83="n",CO83="y"),3,IF(AND(CN83="n",CO83="n"),4,"error")))))) -> - | CY83: =IF($J83="","-",S83+AM83+BG83+CA83) -> - | CZ83: =IF($J83="","-",(CL83-J83)*86400) -> - | DA83: =IF($J83="","-",CV83+CY83+CU83) -> - | DB83: =IF($J83="","-",IF(CW83=0,0,CW83-DD83-DE83)) -> - | DC83: =IF($J83="", "-", IF(AND(CV83=0, CX83=2), 1, IFERROR((DA83*3600)/(IFERROR(CZ83-DB83-2,CZ83-2)*$CS$114+CU83*3600),0))) -> - | DD83: =IF($J83="","-",IF(OR(CX83=1,CX83=3),1,IF(CX83=2,2,IF(CX83=4,0,0)))) -> - | DE83: =IF($J83="","-",IFERROR((3600*CV83/$CS$114),0)) -> - | DF83: =IF(J83="","-",(CM83-J83)*86400) -> - | DG83: =IF($J83="","-",(CL83-J83-(3/86400))*86400) -> - | DH83: =IF($J83="","-",IF($CW83=0,0, $CW83-IFERROR(3600*$CV83/$CS$114,0)-1)) -> - | DI83: =IF($J83="","-",IF($CW83=0,0, $CW83-IFERROR(3600*$CV83/$CS$114,0)-2)) -> - | DJ83: =IF($J83="","-",IF($CW83=0,0, $CW83-IFERROR(3600*$CV83/$CS$114,0)-1)) -> - | DK83: =IF($J83="","-",IF($CW83=0,0, $CW83-IFERROR(3600*$CV83/$CS$114,0))) -> - | DL83: =IF($J83="","-",HLOOKUP(CX83,$DH$63:$DK$113,A83+1, FALSE)) -> - | DM83: =IF($J83="","-",IFERROR(IF(CU83=0,((DA83*(3600/DF83))/($CS$114*((DG83-DB83+1)/DF83))),((DA83*(3600/DF83))/(($CS$114*(((DG83-DB83+1)/DF83)))+((CU83*3600)/DF83)))),0)) -> - | DN83: =IF($J83="","-",CW83/CZ83) -> - | DO83: =IF(AND(I83>DA83,CP83<>"Y"),"Blocked?","OK") -> OK
A84: 21 | I84: =IF($J84="","-",B84*$L$2+C84*$M$2+D84*$N$2+E84*$O$2+F84*$P$2+G84*$Q$2+H84*$R$2) -> - | S84: =IF($J84="","-",L84*$L$2+M84*$M$2+N84*$N$2+O84*$O$2+P84*$P$2+Q84*$Q$2+R84*$R$2) -> - | AB84: =IF($J84="","-",U84*$L$2+V84*$M$2+W84*$N$2+X84*$O$2+Y84*$P$2+Z84*$Q$2+AA84*$R$2) -> - | AD84: =IF($J84="","-",AC84-T84) -> - | AM84: =IF($J84="","-",AF84*$L$2+AG84*$M$2+AH84*$N$2+AI84*$O$2+AJ84*$P$2+AK84*$Q$2+AL84*$R$2) -> - | AV84: =IF($J84="","-",AO84*$L$2+AP84*$M$2+AQ84*$N$2+AR84*$O$2+AS84*$P$2+AT84*$Q$2+AU84*$R$2) -> - | AX84: =IF($J84="","-",AW84-AN84) -> - | BG84: =IF($J84="","-",AZ84*$L$2+BA84*$M$2+BB84*$N$2+BC84*$O$2+BD84*$P$2+BE84*$Q$2+BF84*$R$2) -> - | BP84: =IF($J84="","-",BI84*$L$2+BJ84*$M$2+BK84*$N$2+BL84*$O$2+BM84*$P$2+BN84*$Q$2+BO84*$R$2) -> - | BR84: =IF($J84="","-",BQ84-BH84) -> - | CA84: =IF($J84="","-",BT84*$L$2+BU84*$M$2+BV84*$N$2+BW84*$O$2+BX84*$P$2+BY84*$Q$2+BZ84*$R$2) -> - | CJ84: =IF($J84="","-",CC84*$L$2+CD84*$M$2+CE84*$N$2+CF84*$O$2+CG84*$P$2+CH84*$Q$2+CI84*$R$2) -> - | CN84: =IF($J84="","-",IF(AND(AB84>0,S84=0),"Y","N")) -> - | CQ84: =IF($J84="","-",IF(AC84=0,0,AC84-J84)) -> - | CR84: =IF($J84="","-",IF(AND(I84>=CR$4,CQ84>=CQ$4,CP84="N",S84=0),"Yes","No")) -> - | CS84: =IF($J84="","",IF(S84>0,0,IF(AD84=0,0,AB84/(AD84*24)))) | CU84: =IF(J84="","-",CJ84) -> - | CV84: =IF($J84="","-",AB84+AV84+BP84) -> - | CW84: =IF($J84="","-",(AD84+AX84+BR84)*86400) -> - | CX84: =IF($J84="","-",IF(CP84="Y",2,IF(AND(CN84="y",CO84="y"),2,IF(AND(CN84="y",CO84="n"),1,IF(AND(CN84="n",CO84="y"),3,IF(AND(CN84="n",CO84="n"),4,"error")))))) -> - | CY84: =IF($J84="","-",S84+AM84+BG84+CA84) -> - | CZ84: =IF($J84="","-",(CL84-J84)*86400) -> - | DA84: =IF($J84="","-",CV84+CY84+CU84) -> - | DB84: =IF($J84="","-",IF(CW84=0,0,CW84-DD84-DE84)) -> - | DC84: =IF($J84="", "-", IF(AND(CV84=0, CX84=2), 1, IFERROR((DA84*3600)/(IFERROR(CZ84-DB84-2,CZ84-2)*$CS$114+CU84*3600),0))) -> - | DD84: =IF($J84="","-",IF(OR(CX84=1,CX84=3),1,IF(CX84=2,2,IF(CX84=4,0,0)))) -> - | DE84: =IF($J84="","-",IFERROR((3600*CV84/$CS$114),0)) -> - | DF84: =IF(J84="","-",(CM84-J84)*86400) -> - | DG84: =IF($J84="","-",(CL84-J84-(3/86400))*86400) -> - | DH84: =IF($J84="","-",IF($CW84=0,0, $CW84-IFERROR(3600*$CV84/$CS$114,0)-1)) -> - | DI84: =IF($J84="","-",IF($CW84=0,0, $CW84-IFERROR(3600*$CV84/$CS$114,0)-2)) -> - | DJ84: =IF($J84="","-",IF($CW84=0,0, $CW84-IFERROR(3600*$CV84/$CS$114,0)-1)) -> - | DK84: =IF($J84="","-",IF($CW84=0,0, $CW84-IFERROR(3600*$CV84/$CS$114,0))) -> - | DL84: =IF($J84="","-",HLOOKUP(CX84,$DH$63:$DK$113,A84+1, FALSE)) -> - | DM84: =IF($J84="","-",IFERROR(IF(CU84=0,((DA84*(3600/DF84))/($CS$114*((DG84-DB84+1)/DF84))),((DA84*(3600/DF84))/(($CS$114*(((DG84-DB84+1)/DF84)))+((CU84*3600)/DF84)))),0)) -> - | DN84: =IF($J84="","-",CW84/CZ84) -> - | DO84: =IF(AND(I84>DA84,CP84<>"Y"),"Blocked?","OK") -> OK
A85: 22 | I85: =IF($J85="","-",B85*$L$2+C85*$M$2+D85*$N$2+E85*$O$2+F85*$P$2+G85*$Q$2+H85*$R$2) -> - | S85: =IF($J85="","-",L85*$L$2+M85*$M$2+N85*$N$2+O85*$O$2+P85*$P$2+Q85*$Q$2+R85*$R$2) -> - | AB85: =IF($J85="","-",U85*$L$2+V85*$M$2+W85*$N$2+X85*$O$2+Y85*$P$2+Z85*$Q$2+AA85*$R$2) -> - | AD85: =IF($J85="","-",AC85-T85) -> - | AM85: =IF($J85="","-",AF85*$L$2+AG85*$M$2+AH85*$N$2+AI85*$O$2+AJ85*$P$2+AK85*$Q$2+AL85*$R$2) -> - | AV85: =IF($J85="","-",AO85*$L$2+AP85*$M$2+AQ85*$N$2+AR85*$O$2+AS85*$P$2+AT85*$Q$2+AU85*$R$2) -> - | AX85: =IF($J85="","-",AW85-AN85) -> - | BG85: =IF($J85="","-",AZ85*$L$2+BA85*$M$2+BB85*$N$2+BC85*$O$2+BD85*$P$2+BE85*$Q$2+BF85*$R$2) -> - | BP85: =IF($J85="","-",BI85*$L$2+BJ85*$M$2+BK85*$N$2+BL85*$O$2+BM85*$P$2+BN85*$Q$2+BO85*$R$2) -> - | BR85: =IF($J85="","-",BQ85-BH85) -> - | CA85: =IF($J85="","-",BT85*$L$2+BU85*$M$2+BV85*$N$2+BW85*$O$2+BX85*$P$2+BY85*$Q$2+BZ85*$R$2) -> - | CJ85: =IF($J85="","-",CC85*$L$2+CD85*$M$2+CE85*$N$2+CF85*$O$2+CG85*$P$2+CH85*$Q$2+CI85*$R$2) -> - | CN85: =IF($J85="","-",IF(AND(AB85>0,S85=0),"Y","N")) -> - | CQ85: =IF($J85="","-",IF(AC85=0,0,AC85-J85)) -> - | CR85: =IF($J85="","-",IF(AND(I85>=CR$4,CQ85>=CQ$4,CP85="N",S85=0),"Yes","No")) -> - | CS85: =IF($J85="","",IF(S85>0,0,IF(AD85=0,0,AB85/(AD85*24)))) | CU85: =IF(J85="","-",CJ85) -> - | CV85: =IF($J85="","-",AB85+AV85+BP85) -> - | CW85: =IF($J85="","-",(AD85+AX85+BR85)*86400) -> - | CX85: =IF($J85="","-",IF(CP85="Y",2,IF(AND(CN85="y",CO85="y"),2,IF(AND(CN85="y",CO85="n"),1,IF(AND(CN85="n",CO85="y"),3,IF(AND(CN85="n",CO85="n"),4,"error")))))) -> - | CY85: =IF($J85="","-",S85+AM85+BG85+CA85) -> - | CZ85: =IF($J85="","-",(CL85-J85)*86400) -> - | DA85: =IF($J85="","-",CV85+CY85+CU85) -> - | DB85: =IF($J85="","-",IF(CW85=0,0,CW85-DD85-DE85)) -> - | DC85: =IF($J85="", "-", IF(AND(CV85=0, CX85=2), 1, IFERROR((DA85*3600)/(IFERROR(CZ85-DB85-2,CZ85-2)*$CS$114+CU85*3600),0))) -> - | DD85: =IF($J85="","-",IF(OR(CX85=1,CX85=3),1,IF(CX85=2,2,IF(CX85=4,0,0)))) -> - | DE85: =IF($J85="","-",IFERROR((3600*CV85/$CS$114),0)) -> - | DF85: =IF(J85="","-",(CM85-J85)*86400) -> - | DG85: =IF($J85="","-",(CL85-J85-(3/86400))*86400) -> - | DH85: =IF($J85="","-",IF($CW85=0,0, $CW85-IFERROR(3600*$CV85/$CS$114,0)-1)) -> - | DI85: =IF($J85="","-",IF($CW85=0,0, $CW85-IFERROR(3600*$CV85/$CS$114,0)-2)) -> - | DJ85: =IF($J85="","-",IF($CW85=0,0, $CW85-IFERROR(3600*$CV85/$CS$114,0)-1)) -> - | DK85: =IF($J85="","-",IF($CW85=0,0, $CW85-IFERROR(3600*$CV85/$CS$114,0))) -> - | DL85: =IF($J85="","-",HLOOKUP(CX85,$DH$63:$DK$113,A85+1, FALSE)) -> - | DM85: =IF($J85="","-",IFERROR(IF(CU85=0,((DA85*(3600/DF85))/($CS$114*((DG85-DB85+1)/DF85))),((DA85*(3600/DF85))/(($CS$114*(((DG85-DB85+1)/DF85)))+((CU85*3600)/DF85)))),0)) -> - | DN85: =IF($J85="","-",CW85/CZ85) -> - | DO85: =IF(AND(I85>DA85,CP85<>"Y"),"Blocked?","OK") -> OK
... A113: 50 | I113: =IF($J113="","-",B113*$L$2+C113*$M$2+D113*$N$2+E113*$O$2+F113*$P$2+G113*$Q$2+H113*$R$2) -> - | S113: =IF($J113="","-",L113*$L$2+M113*$M$2+N113*$N$2+O113*$O$2+P113*$P$2+Q113*$Q$2+R113*$R$2) -> - | AB113: =IF($J113="","-",U113*$L$2+V113*$M$2+W113*$N$2+X113*$O$2+Y113*$P$2+Z113*$Q$2+AA113*$R$2) -> - | AD113: =IF($J113="","-",AC113-T113) -> - | AM113: =IF($J113="","-",AF113*$L$2+AG113*$M$2+AH113*$N$2+AI113*$O$2+AJ113*$P$2+AK113*$Q$2+AL113*$R$2) -> - | AV113: =IF($J113="","-",AO113*$L$2+AP113*$M$2+AQ113*$N$2+AR113*$O$2+AS113*$P$2+AT113*$Q$2+AU113*$R$2) -> - | AX113: =IF($J113="","-",AW113-AN113) -> - | BG113: =IF($J113="","-",AZ113*$L$2+BA113*$M$2+BB113*$N$2+BC113*$O$2+BD113*$P$2+BE113*$Q$2+BF113*$R$2) -> - | BP113: =IF($J113="","-",BI113*$L$2+BJ113*$M$2+BK113*$N$2+BL113*$O$2+BM113*$P$2+BN113*$Q$2+BO113*$R$2) -> - | BR113: =IF($J113="","-",BQ113-BH113) -> - | CA113: =IF($J113="","-",BT113*$L$2+BU113*$M$2+BV113*$N$2+BW113*$O$2+BX113*$P$2+BY113*$Q$2+BZ113*$R$2) -> - | CJ113: =IF($J113="","-",CC113*$L$2+CD113*$M$2+CE113*$N$2+CF113*$O$2+CG113*$P$2+CH113*$Q$2+CI113*$R$2) -> - | CN113: =IF($J113="","-",IF(AND(AB113>0,S113=0),"Y","N")) -> - | CQ113: =IF($J113="","-",IF(AC113=0,0,AC113-J113)) -> - | CR113: =IF($J113="","-",IF(AND(I113>=CR$4,CQ113>=CQ$4,CP113="N",S113=0),"Yes","No")) -> - | CS113: =IF($J113="","",IF(S113>0,0,IF(AD113=0,0,AB113/(AD113*24)))) | CU113: =IF(J113="","-",CJ113) -> - | CV113: =IF($J113="","-",AB113+AV113+BP113) -> - | CW113: =IF($J113="","-",(AD113+AX113+BR113)*86400) -> - | CX113: =IF($J113="","-",IF(CP113="Y",2,IF(AND(CN113="y",CO113="y"),2,IF(AND(CN113="y",CO113="n"),1,IF(AND(CN113="n",CO113="y"),3,IF(AND(CN113="n",CO113="n"),4,"error")))))) -> - | CY113: =IF($J113="","-",S113+AM113+BG113+CA113) -> - | CZ113: =IF($J113="","-",(CL113-J113)*86400) -> - | DA113: =IF($J113="","-",CV113+CY113+CU113) -> - | DB113: =IF($J113="","-",IF(CW113=0,0,CW113-DD113-DE113)) -> - | DC113: =IF($J113="", "-", IF(AND(CV113=0, CX113=2), 1, IFERROR((DA113*3600)/(IFERROR(CZ113-DB113-2,CZ113-2)*$CS$114+CU113*3600),0))) -> - | DD113: =IF($J113="","-",IF(OR(CX113=1,CX113=3),1,IF(CX113=2,2,IF(CX113=4,0,0)))) -> - | DE113: =IF($J113="","-",IFERROR((3600*CV113/$CS$114),0)) -> - | DF113: =IF(J113="","-",(CM113-J113)*86400) -> - | DG113: =IF($J113="","-",(CL113-J113-(3/86400))*86400) -> - | DH113: =IF($J113="","-",IF($CW113=0,0, $CW113-IFERROR(3600*$CV113/$CS$114,0)-1)) -> - | DI113: =IF($J113="","-",IF($CW113=0,0, $CW113-IFERROR(3600*$CV113/$CS$114,0)-2)) -> - | DJ113: =IF($J113="","-",IF($CW113=0,0, $CW113-IFERROR(3600*$CV113/$CS$114,0)-1)) -> - | DK113: =IF($J113="","-",IF($CW113=0,0, $CW113-IFERROR(3600*$CV113/$CS$114,0))) -> - | DL113: =IF($J113="","-",HLOOKUP(CX113,$DH$63:$DK$113,A113+1, FALSE)) -> - | DM113: =IF($J113="","-",IFERROR(IF(CU113=0,((DA113*(3600/DF113))/($CS$114*((DG113-DB113+1)/DF113))),((DA113*(3600/DF113))/(($CS$114*(((DG113-DB113+1)/DF113)))+((CU113*3600)/DF113)))),0)) -> - | DN113: =IF($J113="","-",CW113/CZ113) -> - | DO113: =IF(AND(I113>DA113,CP113<>"Y"),"Blocked?","OK") -> OK
B114: =IFERROR(SUMIFS(B64:B113,$J64:$J113,">0")/COUNTIFS($J64:$J113,">0"),0)*$L$2 -> 0 | C114: =IFERROR(SUMIFS(C64:C113,$J64:$J113,">0")/COUNTIFS($J64:$J113,">0"),0)*$M$2 -> 0 | D114: =IFERROR(SUMIFS(D64:D113,$J64:$J113,">0")/COUNTIFS($J64:$J113,">0"),0)*$N$2 -> 7.3 | E114: =IFERROR(SUMIFS(E64:E113,$J64:$J113,">0")/COUNTIFS($J64:$J113,">0"),0)*$O$2 -> 0.4 | F114: =IFERROR(SUMIFS(F64:F113,$J64:$J113,">0")/COUNTIFS($J64:$J113,">0"),0)*$O$2 -> 0.1 | G114: =IFERROR(SUMIFS(G64:G113,$J64:$J113,">0")/COUNTIFS($J64:$J113,">0"),0)*$O$2 -> 0 | H114: =IFERROR(SUMIFS(H64:H113,$J64:$J113,">0")/COUNTIFS($J64:$J113,">0"),0)*$O$2 -> 0.1 | I114: =IFERROR(SUMIFS(I64:I113,$J64:$J113,">0")/COUNTIFS($J64:$J113,">0"),0) -> 8.05 | J114: =COUNTIFS($J64:$J113,">0",J64:J113,">0") -> 10 | L114: =IFERROR(SUMIFS(L64:L113,$J64:$J113,">0")/COUNTIFS($J64:$J113,">0"),0)*$L$2 -> 0 | M114: =IFERROR(SUMIFS(M64:M113,$J64:$J113,">0")/COUNTIFS($J64:$J113,">0"),0)*$M$2 -> 0 | N114: =IFERROR(SUMIFS(N64:N113,$J64:$J113,">0")/COUNTIFS($J64:$J113,">0"),0)*$N$2 -> 0 | O114: =IFERROR(SUMIFS(O64:O113,$J64:$J113,">0")/COUNTIFS($J64:$J113,">0"),0)*$O$2 -> 0 | P114: =IFERROR(SUMIFS(P64:P113,$J64:$J113,">0")/COUNTIFS($J64:$J113,">0"),0)*$O$2 -> 0 | Q114: =IFERROR(SUMIFS(Q64:Q113,$J64:$J113,">0")/COUNTIFS($J64:$J113,">0"),0)*$O$2 -> 0 | R114: =IFERROR(SUMIFS(R64:R113,$J64:$J113,">0")/COUNTIFS($J64:$J113,">0"),0)*$O$2 -> 0 | S114: =IFERROR(SUMIFS(S64:S113,$J64:$J113,">0")/COUNTIFS($J64:$J113,">0"),0) -> 0 | T114: =COUNTIFS($J64:$J113,">0",T64:T113,">0") -> 10 | U114: =IFERROR(SUMIFS(U64:U113,$J64:$J113,">0")/COUNTIFS($J64:$J113,">0"),0)*$L$2 -> 0 | V114: =IFERROR(SUMIFS(V64:V113,$J64:$J113,">0")/COUNTIFS($J64:$J113,">0"),0)*$M$2 -> 0 | W114: =IFERROR(SUMIFS(W64:W113,$J64:$J113,">0")/COUNTIFS($J64:$J113,">0"),0)*$N$2 -> 6.8 | X114: =IFERROR(SUMIFS(X64:X113,$J64:$J113,">0")/COUNTIFS($J64:$J113,">0"),0)*$O$2 -> 0.4 | Y114: =IFERROR(SUMIFS(Y64:Y113,$J64:$J113,">0")/COUNTIFS($J64:$J113,">0"),0)*$O$2 -> 0.1 | Z114: =IFERROR(SUMIFS(Z64:Z113,$J64:$J113,">0")/COUNTIFS($J64:$J113,">0"),0)*$O$2 -> 0 | AA114: =IFERROR(SUMIFS(AA64:AA113,$J64:$J113,">0")/COUNTIFS($J64:$J113,">0"),0)*$O$2 -> 0.1 | AB114: =IFERROR(SUMIFS(AB64:AB113,$J64:$J113,">0")/COUNTIFS($J64:$J113,">0"),0) -> 7.55 | AC114: =COUNTIFS($J64:$J113,">0",AC64:AC113,">0") -> 10 | AD114: =IFERROR(SUMIFS(AD64:AD113,$J64:$J113,">0")/COUNTIFS($J64:$J113,">0"),0) -> 0.00015740741 | AF114: =IFERROR(SUMIFS(AF64:AF113,$J64:$J113,">0")/COUNTIFS($J64:$J113,">0"),0)*$L$2 -> 0 | AG114: =IFERROR(SUMIFS(AG64:AG113,$J64:$J113,">0")/COUNTIFS($J64:$J113,">0"),0)*$M$2 -> 0 | AH114: =IFERROR(SUMIFS(AH64:AH113,$J64:$J113,">0")/COUNTIFS($J64:$J113,">0"),0)*$N$2 -> 0 | AI114: =IFERROR(SUMIFS(AI64:AI113,$J64:$J113,">0")/COUNTIFS($J64:$J113,">0"),0)*$O$2 -> 0 | AJ114: =IFERROR(SUMIFS(AJ64:AJ113,$J64:$J113,">0")/COUNTIFS($J64:$J113,">0"),0)*$O$2 -> 0 | AK114: =IFERROR(SUMIFS(AK64:AK113,$J64:$J113,">0")/COUNTIFS($J64:$J113,">0"),0)*$O$2 -> 0 | AL114: =IFERROR(SUMIFS(AL64:AL113,$J64:$J113,">0")/COUNTIFS($J64:$J113,">0"),0)*$O$2 -> 0 | AM114: =IFERROR(SUMIFS(AM64:AM113,$J64:$J113,">0")/COUNTIFS($J64:$J113,">0"),0) -> 0 | AN114: =COUNTIFS($J64:$J113,">0",AN64:AN113,">0") -> 0 | AO114: =IFERROR(SUMIFS(AO64:AO113,$J64:$J113,">0")/COUNTIFS($J64:$J113,">0"),0)*$L$2 -> 0 | AP114: =IFERROR(SUMIFS(AP64:AP113,$J64:$J113,">0")/COUNTIFS($J64:$J113,">0"),0)*$M$2 -> 0 | AQ114: =IFERROR(SUMIFS(AQ64:AQ113,$J64:$J113,">0")/COUNTIFS($J64:$J113,">0"),0)*$N$2 -> 0 | AR114: =IFERROR(SUMIFS(AR64:AR113,$J64:$J113,">0")/COUNTIFS($J64:$J113,">0"),0)*$O$2 -> 0 | AS114: =IFERROR(SUMIFS(AS64:AS113,$J64:$J113,">0")/COUNTIFS($J64:$J113,">0"),0)*$O$2 -> 0 | AT114: =IFERROR(SUMIFS(AT64:AT113,$J64:$J113,">0")/COUNTIFS($J64:$J113,">0"),0)*$O$2 -> 0 | AU114: =IFERROR(SUMIFS(AU64:AU113,$J64:$J113,">0")/COUNTIFS($J64:$J113,">0"),0)*$O$2 -> 0 | AV114: =IFERROR(SUMIFS(AV64:AV113,$J64:$J113,">0")/COUNTIFS($J64:$J113,">0"),0) -> 0 | AW114: =COUNTIFS($J64:$J113,">0",AW64:AW113,">0") -> 0 | AX114: =IFERROR(SUMIFS(AX64:AX113,$J64:$J113,">0")/COUNTIFS($J64:$J113,">0"),0) -> 0 | AZ114: =IFERROR(SUMIFS(AZ64:AZ113,$J64:$J113,">0")/COUNTIFS($J64:$J113,">0"),0)*$L$2 -> 0 | BA114: =IFERROR(SUMIFS(BA64:BA113,$J64:$J113,">0")/COUNTIFS($J64:$J113,">0"),0)*$M$2 -> 0 | BB114: =IFERROR(SUMIFS(BB64:BB113,$J64:$J113,">0")/COUNTIFS($J64:$J113,">0"),0)*$N$2 -> 0 | BC114: =IFERROR(SUMIFS(BC64:BC113,$J64:$J113,">0")/COUNTIFS($J64:$J113,">0"),0)*$O$2 -> 0 | BD114: =IFERROR(SUMIFS(BD64:BD113,$J64:$J113,">0")/COUNTIFS($J64:$J113,">0"),0)*$O$2 -> 0 | BE114: =IFERROR(SUMIFS(BE64:BE113,$J64:$J113,">0")/COUNTIFS($J64:$J113,">0"),0)*$O$2 -> 0 | BF114: =IFERROR(SUMIFS(BF64:BF113,$J64:$J113,">0")/COUNTIFS($J64:$J113,">0"),0)*$O$2 -> 0 | BG114: =IFERROR(SUMIFS(BG64:BG113,$J64:$J113,">0")/COUNTIFS($J64:$J113,">0"),0) -> 0 | BH114: =COUNTIFS($J64:$J113,">0",BH64:BH113,">0") -> 0 | BI114: =IFERROR(SUMIFS(BI64:BI113,$J64:$J113,">0")/COUNTIFS($J64:$J113,">0"),0)*$L$2 -> 0 | BJ114: =IFERROR(SUMIFS(BJ64:BJ113,$J64:$J113,">0")/COUNTIFS($J64:$J113,">0"),0)*$M$2 -> 0 | BK114: =IFERROR(SUMIFS(BK64:BK113,$J64:$J113,">0")/COUNTIFS($J64:$J113,">0"),0)*$N$2 -> 0 | BL114: =IFERROR(SUMIFS(BL64:BL113,$J64:$J113,">0")/COUNTIFS($J64:$J113,">0"),0)*$O$2 -> 0 | BM114: =IFERROR(SUMIFS(BM64:BM113,$J64:$J113,">0")/COUNTIFS($J64:$J113,">0"),0)*$O$2 -> 0 | BN114: =IFERROR(SUMIFS(BN64:BN113,$J64:$J113,">0")/COUNTIFS($J64:$J113,">0"),0)*$O$2 -> 0 | BO114: =IFERROR(SUMIFS(BO64:BO113,$J64:$J113,">0")/COUNTIFS($J64:$J113,">0"),0)*$O$2 -> 0 | BP114: =IFERROR(SUMIFS(BP64:BP113,$J64:$J113,">0")/COUNTIFS($J64:$J113,">0"),0) -> 0 | BQ114: =COUNTIFS($J64:$J113,">0",BQ64:BQ113,">0") -> 0 | BR114: =IFERROR(SUMIFS(BR64:BR113,$J64:$J113,">0")/COUNTIFS($J64:$J113,">0"),0) -> 0 | BT114: =IFERROR(SUMIFS(BT64:BT113,$J64:$J113,">0")/COUNTIFS($J64:$J113,">0"),0)*$L$2 -> 0 | BU114: =IFERROR(SUMIFS(BU64:BU113,$J64:$J113,">0")/COUNTIFS($J64:$J113,">0"),0)*$M$2 -> 0 | BV114: =IFERROR(SUMIFS(BV64:BV113,$J64:$J113,">0")/COUNTIFS($J64:$J113,">0"),0)*$N$2 -> 0 | BW114: =IFERROR(SUMIFS(BW64:BW113,$J64:$J113,">0")/COUNTIFS($J64:$J113,">0"),0)*$O$2 -> 0 | BX114: =IFERROR(SUMIFS(BX64:BX113,$J64:$J113,">0")/COUNTIFS($J64:$J113,">0"),0)*$O$2 -> 0 | BY114: =IFERROR(SUMIFS(BY64:BY113,$J64:$J113,">0")/COUNTIFS($J64:$J113,">0"),0)*$O$2 -> 0 | BZ114: =IFERROR(SUMIFS(BZ64:BZ113,$J64:$J113,">0")/COUNTIFS($J64:$J113,">0"),0)*$O$2 -> 0 | CA114: =IFERROR(SUMIFS(CA64:CA113,$J64:$J113,">0")/COUNTIFS($J64:$J113,">0"),0) -> 0 | CC114: =IFERROR(SUMIFS(CC64:CC113,$J64:$J113,">0")/COUNTIFS($J64:$J113,">0"),0)*$L$2 -> 0 | CD114: =IFERROR(SUMIFS(CD64:CD113,$J64:$J113,">0")/COUNTIFS($J64:$J113,">0"),0)*$M$2 -> 0 | CE114: =IFERROR(SUMIFS(CE64:CE113,$J64:$J113,">0")/COUNTIFS($J64:$J113,">0"),0)*$N$2 -> 0 | CF114: =IFERROR(SUMIFS(CF64:CF113,$J64:$J113,">0")/COUNTIFS($J64:$J113,">0"),0)*$O$2 -> 0 | CG114: =IFERROR(SUMIFS(CG64:CG113,$J64:$J113,">0")/COUNTIFS($J64:$J113,">0"),0)*$O$2 -> 0 | CH114: =IFERROR(SUMIFS(CH64:CH113,$J64:$J113,">0")/COUNTIFS($J64:$J113,">0"),0)*$O$2 -> 0 | CI114: =IFERROR(SUMIFS(CI64:CI113,$J64:$J113,">0")/COUNTIFS($J64:$J113,">0"),0)*$O$2 -> 0 | CJ114: =IFERROR(SUMIFS(CJ64:CJ113,$J64:$J113,">0")/COUNTIFS($J64:$J113,">0"),0) -> 0 | CL114: =COUNTIFS($J64:$J113,">0",CL64:CL113,">0") -> 10 | CM114: =COUNTIFS($J64:$J113,">0",CM64:CM113,">0") -> 10 | CR114: =COUNTIF(CR64:CR113,"yes") -> 8 | CS114: =IFERROR(SUMIFS(CS64:CS113,$CR64:$CR113,"Yes")/COUNTIFS($CR64:$CR113,"Yes"),0) -> 2049.6539 | CU114: =IFERROR(SUMIFS(CU64:CU113,$J64:$J113,">0")/COUNTIFS($J64:$J113,">0"),0) -> 0 | CV114: =IFERROR(SUMIFS(CV64:CV113,$J64:$J113,">0")/COUNTIFS($J64:$J113,">0"),0) -> 7.55 | CW114: =IFERROR(SUMIFS(CW64:CW113,$J64:$J113,">0")/COUNTIFS($J64:$J113,">0"),0) -> 13.6 | CY114: =IFERROR(SUMIFS(CY64:CY113,$J64:$J113,">0")/COUNTIFS($J64:$J113,">0"),0) -> 0 | CZ114: =IFERROR(SUMIFS(CZ64:CZ113,$J64:$J113,">0")/COUNTIFS($J64:$J113,">0"),0) -> 18.9 | DA114: =IFERROR(SUMIFS(DA64:DA113,$J64:$J113,">0")/COUNTIFS($J64:$J113,">0"),0) -> 7.55 | DB114: =IFERROR(SUMIFS(DB64:DB113,$J64:$J113,">0")/COUNTIFS($J64:$J113,">0"),0) -> -1.3607756 | DC114: =IFERROR(SUMIFS(DC64:DC113,$J64:$J113,">0")/COUNTIFS($J64:$J113,">0"),0) -> 0.7280803
B115: Average | C115: Average | D115: Average | E115: Average | F115: Average | G115: Average | H115: Average | I115: Average | J115: No. of cycles | L115: Average | M115: Average | N115: Average | O115: Average | P115: Average | Q115: Average | R115: Average | S115: Average | T115: No. of HD flows | U115: Average | V115: Average | W115: Average | X115: Average | Y115: Average | Z115: Average | AA115: Average | AB115: Average | AC115: No. of HD flows | AD115: Average | AF115: Average | AG115: Average | AH115: Average | AI115: Average | AJ115: Average | AK115: Average | AL115: Average | AM115: Average | AN115: No. of HD flows | AO115: Average | AP115: Average | AQ115: Average | AR115: Average | AS115: Average | AT115: Average | AU115: Average | AV115: Average | AW115: No. of HD flows | AX115: Average | AZ115: Average | BA115: Average | BB115: Average | BC115: Average | BD115: Average | BE115: Average | BF115: Average | BG115: Average | BH115: No. of HD flows | BI115: Average | BJ115: Average | BK115: Average | BL115: Average | BM115: Average | BN115: Average | BO115: Average | BP115: Average | BQ115: No. of HD flows | BR115: Average | BT115: Average | BU115: Average | BV115: Average | BW115: Average | BX115: Average | BY115: Average | BZ115: Average | CA115: Average | CC115: Average | CD115: Average | CE115: Average | CF115: Average | CG115: Average | CH115: Average | CI115: Average | CJ115: Average | CL115: No. of cycles | CM115: No. of cycles | CR115: No. of suitable | CS115: Average | CU115: Average | CV115: Average | CW115: Average | CY115: Average | CZ115: Average | DA115: Average | DB115: Average | DC115: Average

Sheet Arm A Lane 3
C1: Site | D1: ='Site 4 Diagram'!$F$36:$F$36 -> Site 4,Stoneham Interchange | J1: Class | L1: PCL | M1: MCL | N1: CAR | O1: LGV | P1: OGV1 | Q1: OGV2 | R1: PSV | V1: Day | W1: ='Site 4 Diagram'!$F$38:$F$38 -> Thursday 13th February 2025
C2: Stop Line | D2: =MID(CELL("filename",A1),FIND("]",CELL("filename",A1))+1,256) -> #VALUE! | J2: PCU value | L2: 0.2 | M2: 0.4 | N2: 1 | O2: 1 | P2: 1.5 | Q2: 2.3 | R2: 2 | V2: Time Period | W2: AM
L3: Firast Flow | AF3: Second Flow | AZ3: Third Flow | BT3: Fourth Flow
B4: Queue | J4: Green On | L4: Low Demand (Unsaturated) | T4: High Demand (Saturated) | AF4: Low Demand (Unsaturated) | AN4: High Demand (Saturated) | AZ4: Low Demand (Unsaturated) | BH4: High Demand (Saturated) | BT4: Low Demand (Unsaturated) | CC4: Flare Storage | CL4: Red On | CM4: Next Green On | CN4: High Demand at: | CQ4: 0.00013888889 | CR4: 7 | CS4: Sat Flow (PCU/hr) | CU4: Flare Storage (PCU) | CV4: High Demand (PCU) | CW4: Duration of HD (seconds) | CX4: Status of HD | CY4: Low Demand (PCU) | CZ4: Green & Amber (seconds) | DA4: Total Flow (PCU) | DB4: Underutilised Green Time [UGT] (S) | DC4: Degree of Saturation [DoS] (%)
B5: =$L$1 -> PCL | C5: =$M$1 -> MCL | D5: =$N$1 -> CAR | E5: =$O$1 -> LGV | F5: =$P$1 -> OGV1 | G5: =$Q$1 -> OGV2 | H5: =$R$1 -> PSV | I5: Total PCU's | L5: =$L$1 -> PCL | M5: =$M$1 -> MCL | N5: =$N$1 -> CAR | O5: =$O$1 -> LGV | P5: =$P$1 -> OGV1 | Q5: =$Q$1 -> OGV2 | R5: =$R$1 -> PSV | S5: Total PCU's | T5: Start of #1 HD | U5: =$L$1 -> PCL | V5: =$M$1 -> MCL | W5: =$N$1 -> CAR | X5: =$O$1 -> LGV | Y5: =$P$1 -> OGV1 | Z5: =$Q$1 -> OGV2 | AA5: =$R$1 -> PSV | AB5: Total PCU's | AC5: End of #1 HD | AD5: Duration of #1 HD flow | AF5: =$L$1 -> PCL | AG5: =$M$1 -> MCL | AH5: =$N$1 -> CAR | AI5: =$O$1 -> LGV | AJ5: =$P$1 -> OGV1 | AK5: =$Q$1 -> OGV2 | AL5: =$R$1 -> PSV | AM5: Total PCU's | AN5: Start of #2 HD | AO5: =$L$1 -> PCL | AP5: =$M$1 -> MCL | AQ5: =$N$1 -> CAR | AR5: =$O$1 -> LGV | AS5: =$P$1 -> OGV1 | AT5: =$Q$1 -> OGV2 | AU5: =$R$1 -> PSV | AV5: Total PCU's | AW5: End of #2 HD | AX5: Duration of #2 HD flow | AZ5: =$L$1 -> PCL | BA5: =$M$1 -> MCL | BB5: =$N$1 -> CAR | BC5: =$O$1 -> LGV | BD5: =$P$1 -> OGV1 | BE5: =$Q$1 -> OGV2 | BF5: =$R$1 -> PSV | BG5: Total PCU's | BH5: Start of #3 HD | BI5: =$L$1 -> PCL | BJ5: =$M$1 -> MCL | BK5: =$N$1 -> CAR | BL5: =$O$1 -> LGV | BM5: =$P$1 -> OGV1 | BN5: =$Q$1 -> OGV2 | BO5: =$R$1 -> PSV | BP5: Total PCU's | BQ5: End of #3 HD | BR5: Duration of #3 HD flow | BT5: =$L$1 -> PCL | BU5: =$M$1 -> MCL | BV5: =$N$1 -> CAR | BW5: =$O$1 -> LGV | BX5: =$P$1 -> OGV1 | BY5: =$Q$1 -> OGV2 | BZ5: =$R$1 -> PSV | CA5: Total PCU's | CC5: =$L$1 -> PCL | CD5: =$M$1 -> MCL | CE5: =$N$1 -> CAR | CF5: =$O$1 -> LGV | CG5: =$P$1 -> OGV1 | CH5: =$Q$1 -> OGV2 | CI5: =$R$1 -> PSV | CJ5: Total PCU's | CN5: Start of Green | CO5: End of Amber | CP5: Blocked Junction | CQ5: First flow duration | CR5: Suitable? | DD5: Lost Time (Lt) | DE5: Normal Green [Gn] (S) | DF5: Cycle Time (S) | DG5: Actual Green Time (S) | DH5: 1 | DI5: 2 | DJ5: 3 | DK5: 4 | DL5: UGT | DM5: Dos | DN5: HD /G&A | DO5: Queue >Flow
A6: 1 | D6: 5 | E6: 2 | I6: =IF($J6="","-",B6*$L$2+C6*$M$2+D6*$N$2+E6*$O$2+F6*$P$2+G6*$Q$2+H6*$R$2) -> 7 | J6: 0.33621528 | S6: =IF($J6="","-",L6*$L$2+M6*$M$2+N6*$N$2+O6*$O$2+P6*$P$2+Q6*$Q$2+R6*$R$2) -> 0 | T6: 0.33622685 | W6: 6 | X6: 3 | AB6: =IF($J6="","-",U6*$L$2+V6*$M$2+W6*$N$2+X6*$O$2+Y6*$P$2+Z6*$Q$2+AA6*$R$2) -> 9 | AC6: 0.33638889 | AD6: =IF($J6="","-",AC6-T6) -> 0.00016203704 | AM6: =IF($J6="","-",AF6*$L$2+AG6*$M$2+AH6*$N$2+AI6*$O$2+AJ6*$P$2+AK6*$Q$2+AL6*$R$2) -> 0 | AV6: =IF($J6="","-",AO6*$L$2+AP6*$M$2+AQ6*$N$2+AR6*$O$2+AS6*$P$2+AT6*$Q$2+AU6*$R$2) -> 0 | AX6: =IF($J6="","-",AW6-AN6) -> 0 | BG6: =IF($J6="","-",AZ6*$L$2+BA6*$M$2+BB6*$N$2+BC6*$O$2+BD6*$P$2+BE6*$Q$2+BF6*$R$2) -> 0 | BP6: =IF($J6="","-",BI6*$L$2+BJ6*$M$2+BK6*$N$2+BL6*$O$2+BM6*$P$2+BN6*$Q$2+BO6*$R$2) -> 0 | BR6: =IF($J6="","-",BQ6-BH6) -> 0 | CA6: =IF($J6="","-",BT6*$L$2+BU6*$M$2+BV6*$N$2+BW6*$O$2+BX6*$P$2+BY6*$Q$2+BZ6*$R$2) -> 0 | CJ6: =IF($J6="","-",CC6*$L$2+CD6*$M$2+CE6*$N$2+CF6*$O$2+CG6*$P$2+CH6*$Q$2+CI6*$R$2) -> 0 | CL6: 0.33640046 | CM6: 0.33717593 | CN6: =IF($J6="","-",IF(AND(AB6>0,S6=0),"Y","N")) -> Y | CO6: Y | CP6: N | CQ6: =IF($J6="","-",IF(AC6=0,0,AC6-J6)) -> 0.00017361111 | CR6: =IF($J6="","-",IF(AND(I6>=CR$4,CQ6>=CQ$4,CP6="N",S6=0),"Yes","No")) -> Yes | CS6: =IF($J6="","",IF(S6>0,0,IF(AD6=0,0,AB6/(AD6*24)))) -> 2314.2857 | CU6: =IF(J6="","-",CJ6) -> 0 | CV6: =IF($J6="","-",AB6+AV6+BP6) -> 9 | CW6: =IF($J6="","-",(AD6+AX6+BR6)*86400) -> 14 | CX6: =IF($J6="","-",IF(CP6="Y",2,IF(AND(CN6="y",CO6="y"),2,IF(AND(CN6="y",CO6="n"),1,IF(AND(CN6="n",CO6="y"),3,IF(AND(CN6="n",CO6="n"),4,"error")))))) -> 2 | CY6: =IF($J6="","-",S6+AM6+BG6+CA6) -> 0 | CZ6: =IF($J6="","-",(CL6-J6)*86400) -> 16 | DA6: =IF($J6="","-",CV6+CY6+CU6) -> 9 | DB6: =IF($J6="","-",IF(CW6=0,0,CW6-DD6-DE6)) -> -2.5093652 | DC6: =IF($J6="", "-", IF(AND(CV6=0, CX6=2), 1, IFERROR((DA6*3600)/(IFERROR(CZ6-DB6-2,CZ6-2)*$CS$56+CU6*3600),0))) -> 0.87885664 | DD6: =IF($J6="","-",IF(OR(CX6=1,CX6=3),1,IF(CX6=2,2,IF(CX6=4,0,0)))) -> 2 | DE6: =IF($J6="","-",IFERROR((3600*CV6/$CS$56),0)) -> 14.509365 | DF6: =IF(J6="","-",(CM6-J6)*86400) -> 83 | DG6: =IF($J6="","-",(CL6-J6-(3/86400))*86400) -> 13 | DH6: =IF($J6="","-",IF($CW6=0,0, $CW6-IFERROR(3600*$CV6/$CS$56,0)-1)) -> -1.5093652 | DI6: =IF($J6="","-",IF($CW6=0,0, $CW6-IFERROR(3600*$CV6/$CS$56,0)-2)) -> -2.5093652 | DJ6: =IF($J6="","-",IF($CW6=0,0, $CW6-IFERROR(3600*$CV6/$CS$56,0)-1)) -> -1.5093652 | DK6: =IF($J6="","-",IF($CW6=0,0, $CW6-IFERROR(3600*$CV6/$CS$56,0))) -> -0.50936522 | DL6: =IF($J6="","-",HLOOKUP(CX6,$DH$5:$DK$55,A6+1, FALSE)) -> -2.5093652 | DM6: =IF($J6="","-",IFERROR(IF(CU6=0,((DA6*(3600/DF6))/($CS$56*((DG6-DB6+1)/DF6))),((DA6*(3600/DF6))/(($CS$56*(((DG6-DB6+1)/DF6)))+((CU6*3600)/DF6)))),0)) -> 0.87885664 | DN6: =IF($J6="","-",CW6/CZ6) -> 0.875 | DO6: =IF(AND(I6>DA6,CP6<>"Y"),"Blocked?","OK") -> OK | DP6: 1 | DQ6: High demand at start of green
A7: 2 | D7: 7 | E7: 2 | I7: =IF($J7="","-",B7*$L$2+C7*$M$2+D7*$N$2+E7*$O$2+F7*$P$2+G7*$Q$2+H7*$R$2) -> 9 | J7: 0.33717593 | S7: =IF($J7="","-",L7*$L$2+M7*$M$2+N7*$N$2+O7*$O$2+P7*$P$2+Q7*$Q$2+R7*$R$2) -> 0 | T7: 0.3371875 | W7: 7 | X7: 2 | AB7: =IF($J7="","-",U7*$L$2+V7*$M$2+W7*$N$2+X7*$O$2+Y7*$P$2+Z7*$Q$2+AA7*$R$2) -> 9 | AC7: 0.33734954 | AD7: =IF($J7="","-",AC7-T7) -> 0.00016203704 | AM7: =IF($J7="","-",AF7*$L$2+AG7*$M$2+AH7*$N$2+AI7*$O$2+AJ7*$P$2+AK7*$Q$2+AL7*$R$2) -> 0 | AV7: =IF($J7="","-",AO7*$L$2+AP7*$M$2+AQ7*$N$2+AR7*$O$2+AS7*$P$2+AT7*$Q$2+AU7*$R$2) -> 0 | AX7: =IF($J7="","-",AW7-AN7) -> 0 | BG7: =IF($J7="","-",AZ7*$L$2+BA7*$M$2+BB7*$N$2+BC7*$O$2+BD7*$P$2+BE7*$Q$2+BF7*$R$2) -> 0 | BP7: =IF($J7="","-",BI7*$L$2+BJ7*$M$2+BK7*$N$2+BL7*$O$2+BM7*$P$2+BN7*$Q$2+BO7*$R$2) -> 0 | BR7: =IF($J7="","-",BQ7-BH7) -> 0 | CA7: =IF($J7="","-",BT7*$L$2+BU7*$M$2+BV7*$N$2+BW7*$O$2+BX7*$P$2+BY7*$Q$2+BZ7*$R$2) -> 0 | CJ7: =IF($J7="","-",CC7*$L$2+CD7*$M$2+CE7*$N$2+CF7*$O$2+CG7*$P$2+CH7*$Q$2+CI7*$R$2) -> 0 | CL7: 0.33737269 | CM7: 0.33810185 | CN7: =IF($J7="","-",IF(AND(AB7>0,S7=0),"Y","N")) -> Y | CO7: Y | CP7: N | CQ7: =IF($J7="","-",IF(AC7=0,0,AC7-J7)) -> 0.00017361111 | CR7: =IF($J7="","-",IF(AND(I7>=CR$4,CQ7>=CQ$4,CP7="N",S7=0),"Yes","No")) -> Yes | CS7: =IF($J7="","",IF(S7>0,0,IF(AD7=0,0,AB7/(AD7*24)))) -> 2314.2857 | CU7: =IF(J7="","-",CJ7) -> 0 | CV7: =IF($J7="","-",AB7+AV7+BP7) -> 9 | CW7: =IF($J7="","-",(AD7+AX7+BR7)*86400) -> 14 | CX7: =IF($J7="","-",IF(CP7="Y",2,IF(AND(CN7="y",CO7="y"),2,IF(AND(CN7="y",CO7="n"),1,IF(AND(CN7="n",CO7="y"),3,IF(AND(CN7="n",CO7="n"),4,"error")))))) -> 2 | CY7: =IF($J7="","-",S7+AM7+BG7+CA7) -> 0 | CZ7: =IF($J7="","-",(CL7-J7)*86400) -> 17 | DA7: =IF($J7="","-",CV7+CY7+CU7) -> 9 | DB7: =IF($J7="","-",IF(CW7=0,0,CW7-DD7-DE7)) -> -2.5093652 | DC7: =IF($J7="", "-", IF(AND(CV7=0, CX7=2), 1, IFERROR((DA7*3600)/(IFERROR(CZ7-DB7-2,CZ7-2)*$CS$56+CU7*3600),0))) -> 0.82866312 | DD7: =IF($J7="","-",IF(OR(CX7=1,CX7=3),1,IF(CX7=2,2,IF(CX7=4,0,0)))) -> 2 | DE7: =IF($J7="","-",IFERROR((3600*CV7/$CS$56),0)) -> 14.509365 | DF7: =IF(J7="","-",(CM7-J7)*86400) -> 80 | DG7: =IF($J7="","-",(CL7-J7-(3/86400))*86400) -> 14 | DH7: =IF($J7="","-",IF($CW7=0,0, $CW7-IFERROR(3600*$CV7/$CS$56,0)-1)) -> -1.5093652 | DI7: =IF($J7="","-",IF($CW7=0,0, $CW7-IFERROR(3600*$CV7/$CS$56,0)-2)) -> -2.5093652 | DJ7: =IF($J7="","-",IF($CW7=0,0, $CW7-IFERROR(3600*$CV7/$CS$56,0)-1)) -> -1.5093652 | DK7: =IF($J7="","-",IF($CW7=0,0, $CW7-IFERROR(3600*$CV7/$CS$56,0))) -> -0.50936522 | DL7: =IF($J7="","-",HLOOKUP(CX7,$DH$5:$DK$55,A7+1, FALSE)) -> -2.5093652 | DM7: =IF($J7="","-",IFERROR(IF(CU7=0,((DA7*(3600/DF7))/($CS$56*((DG7-DB7+1)/DF7))),((DA7*(3600/DF7))/(($CS$56*(((DG7-DB7+1)/DF7)))+((CU7*3600)/DF7)))),0)) -> 0.82866312 | DN7: =IF($J7="","-",CW7/CZ7) -> 0.82352941 | DO7: =IF(AND(I7>DA7,CP7<>"Y"),"Blocked?","OK") -> OK | DP7: 2 | DQ7: High demand at start of green and end of amber
A8: 3 | D8: 10 | I8: =IF($J8="","-",B8*$L$2+C8*$M$2+D8*$N$2+E8*$O$2+F8*$P$2+G8*$Q$2+H8*$R$2) -> 10 | J8: 0.34079861 | S8: =IF($J8="","-",L8*$L$2+M8*$M$2+N8*$N$2+O8*$O$2+P8*$P$2+Q8*$Q$2+R8*$R$2) -> 0 | T8: 0.34081019 | W8: 8 | AB8: =IF($J8="","-",U8*$L$2+V8*$M$2+W8*$N$2+X8*$O$2+Y8*$P$2+Z8*$Q$2+AA8*$R$2) -> 8 | AC8: 0.34094907 | AD8: =IF($J8="","-",AC8-T8) -> 0.00013888889 | AM8: =IF($J8="","-",AF8*$L$2+AG8*$M$2+AH8*$N$2+AI8*$O$2+AJ8*$P$2+AK8*$Q$2+AL8*$R$2) -> 0 | AV8: =IF($J8="","-",AO8*$L$2+AP8*$M$2+AQ8*$N$2+AR8*$O$2+AS8*$P$2+AT8*$Q$2+AU8*$R$2) -> 0 | AX8: =IF($J8="","-",AW8-AN8) -> 0 | BG8: =IF($J8="","-",AZ8*$L$2+BA8*$M$2+BB8*$N$2+BC8*$O$2+BD8*$P$2+BE8*$Q$2+BF8*$R$2) -> 0 | BP8: =IF($J8="","-",BI8*$L$2+BJ8*$M$2+BK8*$N$2+BL8*$O$2+BM8*$P$2+BN8*$Q$2+BO8*$R$2) -> 0 | BR8: =IF($J8="","-",BQ8-BH8) -> 0 | CA8: =IF($J8="","-",BT8*$L$2+BU8*$M$2+BV8*$N$2+BW8*$O$2+BX8*$P$2+BY8*$Q$2+BZ8*$R$2) -> 0 | CJ8: =IF($J8="","-",CC8*$L$2+CD8*$M$2+CE8*$N$2+CF8*$O$2+CG8*$P$2+CH8*$Q$2+CI8*$R$2) -> 0 | CL8: 0.34094907 | CM8: 0.34175926 | CN8: =IF($J8="","-",IF(AND(AB8>0,S8=0),"Y","N")) -> Y | CO8: Y | CP8: N | CQ8: =IF($J8="","-",IF(AC8=0,0,AC8-J8)) -> 0.00015046296 | CR8: =IF($J8="","-",IF(AND(I8>=CR$4,CQ8>=CQ$4,CP8="N",S8=0),"Yes","No")) -> Yes | CS8: =IF($J8="","",IF(S8>0,0,IF(AD8=0,0,AB8/(AD8*24)))) -> 2400 | CU8: =IF(J8="","-",CJ8) -> 0 | CV8: =IF($J8="","-",AB8+AV8+BP8) -> 8 | CW8: =IF($J8="","-",(AD8+AX8+BR8)*86400) -> 12 | CX8: =IF($J8="","-",IF(CP8="Y",2,IF(AND(CN8="y",CO8="y"),2,IF(AND(CN8="y",CO8="n"),1,IF(AND(CN8="n",CO8="y"),3,IF(AND(CN8="n",CO8="n"),4,"error")))))) -> 2 | CY8: =IF($J8="","-",S8+AM8+BG8+CA8) -> 0 | CZ8: =IF($J8="","-",(CL8-J8)*86400) -> 13 | DA8: =IF($J8="","-",CV8+CY8+CU8) -> 8 | DB8: =IF($J8="","-",IF(CW8=0,0,CW8-DD8-DE8)) -> -2.8972135 | DC8: =IF($J8="", "-", IF(AND(CV8=0, CX8=2), 1, IFERROR((DA8*3600)/(IFERROR(CZ8-DB8-2,CZ8-2)*$CS$56+CU8*3600),0))) -> 0.92804313 | DD8: =IF($J8="","-",IF(OR(CX8=1,CX8=3),1,IF(CX8=2,2,IF(CX8=4,0,0)))) -> 2 | DE8: =IF($J8="","-",IFERROR((3600*CV8/$CS$56),0)) -> 12.897214 | DF8: =IF(J8="","-",(CM8-J8)*86400) -> 83 | DG8: =IF($J8="","-",(CL8-J8-(3/86400))*86400) -> 10 | DH8: =IF($J8="","-",IF($CW8=0,0, $CW8-IFERROR(3600*$CV8/$CS$56,0)-1)) -> -1.8972135 | DI8: =IF($J8="","-",IF($CW8=0,0, $CW8-IFERROR(3600*$CV8/$CS$56,0)-2)) -> -2.8972135 | DJ8: =IF($J8="","-",IF($CW8=0,0, $CW8-IFERROR(3600*$CV8/$CS$56,0)-1)) -> -1.8972135 | DK8: =IF($J8="","-",IF($CW8=0,0, $CW8-IFERROR(3600*$CV8/$CS$56,0))) -> -0.89721353 | DL8: =IF($J8="","-",HLOOKUP(CX8,$DH$5:$DK$55,A8+1, FALSE)) -> -2.8972135 | DM8: =IF($J8="","-",IFERROR(IF(CU8=0,((DA8*(3600/DF8))/($CS$56*((DG8-DB8+1)/DF8))),((DA8*(3600/DF8))/(($CS$56*(((DG8-DB8+1)/DF8)))+((CU8*3600)/DF8)))),0)) -> 0.92804313 | DN8: =IF($J8="","-",CW8/CZ8) -> 0.92307692 | DO8: =IF(AND(I8>DA8,CP8<>"Y"),"Blocked?","OK") -> Blocked? | DP8: 3 | DQ8: High demand at end of amber but not start of green
A9: 4 | D9: 8 | I9: =IF($J9="","-",B9*$L$2+C9*$M$2+D9*$N$2+E9*$O$2+F9*$P$2+G9*$Q$2+H9*$R$2) -> 8 | J9: 0.34443287 | S9: =IF($J9="","-",L9*$L$2+M9*$M$2+N9*$N$2+O9*$O$2+P9*$P$2+Q9*$Q$2+R9*$R$2) -> 0 | T9: 0.34443287 | W9: 8 | AB9: =IF($J9="","-",U9*$L$2+V9*$M$2+W9*$N$2+X9*$O$2+Y9*$P$2+Z9*$Q$2+AA9*$R$2) -> 8 | AC9: 0.34459491 | AD9: =IF($J9="","-",AC9-T9) -> 0.00016203704 | AM9: =IF($J9="","-",AF9*$L$2+AG9*$M$2+AH9*$N$2+AI9*$O$2+AJ9*$P$2+AK9*$Q$2+AL9*$R$2) -> 0 | AV9: =IF($J9="","-",AO9*$L$2+AP9*$M$2+AQ9*$N$2+AR9*$O$2+AS9*$P$2+AT9*$Q$2+AU9*$R$2) -> 0 | AX9: =IF($J9="","-",AW9-AN9) -> 0 | BG9: =IF($J9="","-",AZ9*$L$2+BA9*$M$2+BB9*$N$2+BC9*$O$2+BD9*$P$2+BE9*$Q$2+BF9*$R$2) -> 0 | BP9: =IF($J9="","-",BI9*$L$2+BJ9*$M$2+BK9*$N$2+BL9*$O$2+BM9*$P$2+BN9*$Q$2+BO9*$R$2) -> 0 | BR9: =IF($J9="","-",BQ9-BH9) -> 0 | CA9: =IF($J9="","-",BT9*$L$2+BU9*$M$2+BV9*$N$2+BW9*$O$2+BX9*$P$2+BY9*$Q$2+BZ9*$R$2) -> 0 | CJ9: =IF($J9="","-",CC9*$L$2+CD9*$M$2+CE9*$N$2+CF9*$O$2+CG9*$P$2+CH9*$Q$2+CI9*$R$2) -> 0 | CL9: 0.34462963 | CM9: 0.34532407 | CN9: =IF($J9="","-",IF(AND(AB9>0,S9=0),"Y","N")) -> Y | CO9: Y | CP9: N | CQ9: =IF($J9="","-",IF(AC9=0,0,AC9-J9)) -> 0.00016203704 | CR9: =IF($J9="","-",IF(AND(I9>=CR$4,CQ9>=CQ$4,CP9="N",S9=0),"Yes","No")) -> Yes | CS9: =IF($J9="","",IF(S9>0,0,IF(AD9=0,0,AB9/(AD9*24)))) -> 2057.1429 | CU9: =IF(J9="","-",CJ9) -> 0 | CV9: =IF($J9="","-",AB9+AV9+BP9) -> 8 | CW9: =IF($J9="","-",(AD9+AX9+BR9)*86400) -> 14 | CX9: =IF($J9="","-",IF(CP9="Y",2,IF(AND(CN9="y",CO9="y"),2,IF(AND(CN9="y",CO9="n"),1,IF(AND(CN9="n",CO9="y"),3,IF(AND(CN9="n",CO9="n"),4,"error")))))) -> 2 | CY9: =IF($J9="","-",S9+AM9+BG9+CA9) -> 0 | CZ9: =IF($J9="","-",(CL9-J9)*86400) -> 17 | DA9: =IF($J9="","-",CV9+CY9+CU9) -> 8 | DB9: =IF($J9="","-",IF(CW9=0,0,CW9-DD9-DE9)) -> -0.89721353 | DC9: =IF($J9="", "-", IF(AND(CV9=0, CX9=2), 1, IFERROR((DA9*3600)/(IFERROR(CZ9-DB9-2,CZ9-2)*$CS$56+CU9*3600),0))) -> 0.81128768 | DD9: =IF($J9="","-",IF(OR(CX9=1,CX9=3),1,IF(CX9=2,2,IF(CX9=4,0,0)))) -> 2 | DE9: =IF($J9="","-",IFERROR((3600*CV9/$CS$56),0)) -> 12.897214 | DF9: =IF(J9="","-",(CM9-J9)*86400) -> 77 | DG9: =IF($J9="","-",(CL9-J9-(3/86400))*86400) -> 14 | DH9: =IF($J9="","-",IF($CW9=0,0, $CW9-IFERROR(3600*$CV9/$CS$56,0)-1)) -> 0.10278647 | DI9: =IF($J9="","-",IF($CW9=0,0, $CW9-IFERROR(3600*$CV9/$CS$56,0)-2)) -> -0.89721353 | DJ9: =IF($J9="","-",IF($CW9=0,0, $CW9-IFERROR(3600*$CV9/$CS$56,0)-1)) -> 0.10278647 | DK9: =IF($J9="","-",IF($CW9=0,0, $CW9-IFERROR(3600*$CV9/$CS$56,0))) -> 1.1027865 | DL9: =IF($J9="","-",HLOOKUP(CX9,$DH$5:$DK$55,A9+1, FALSE)) -> -0.89721353 | DM9: =IF($J9="","-",IFERROR(IF(CU9=0,((DA9*(3600/DF9))/($CS$56*((DG9-DB9+1)/DF9))),((DA9*(3600/DF9))/(($CS$56*(((DG9-DB9+1)/DF9)))+((CU9*3600)/DF9)))),0)) -> 0.81128768 | DN9: =IF($J9="","-",CW9/CZ9) -> 0.82352941 | DO9: =IF(AND(I9>DA9,CP9<>"Y"),"Blocked?","OK") -> OK | DP9: 4 | DQ9: No high demand at start of green or end of amber
A10: 5 | D10: 7 | I10: =IF($J10="","-",B10*$L$2+C10*$M$2+D10*$N$2+E10*$O$2+F10*$P$2+G10*$Q$2+H10*$R$2) -> 7 | J10: 0.35269676 | S10: =IF($J10="","-",L10*$L$2+M10*$M$2+N10*$N$2+O10*$O$2+P10*$P$2+Q10*$Q$2+R10*$R$2) -> 0 | T10: 0.35273148 | W10: 7 | AB10: =IF($J10="","-",U10*$L$2+V10*$M$2+W10*$N$2+X10*$O$2+Y10*$P$2+Z10*$Q$2+AA10*$R$2) -> 7 | AC10: 0.3528588 | AD10: =IF($J10="","-",AC10-T10) -> 0.00012731481 | AM10: =IF($J10="","-",AF10*$L$2+AG10*$M$2+AH10*$N$2+AI10*$O$2+AJ10*$P$2+AK10*$Q$2+AL10*$R$2) -> 0 | AV10: =IF($J10="","-",AO10*$L$2+AP10*$M$2+AQ10*$N$2+AR10*$O$2+AS10*$P$2+AT10*$Q$2+AU10*$R$2) -> 0 | AX10: =IF($J10="","-",AW10-AN10) -> 0 | BG10: =IF($J10="","-",AZ10*$L$2+BA10*$M$2+BB10*$N$2+BC10*$O$2+BD10*$P$2+BE10*$Q$2+BF10*$R$2) -> 0 | BP10: =IF($J10="","-",BI10*$L$2+BJ10*$M$2+BK10*$N$2+BL10*$O$2+BM10*$P$2+BN10*$Q$2+BO10*$R$2) -> 0 | BR10: =IF($J10="","-",BQ10-BH10) -> 0 | CA10: =IF($J10="","-",BT10*$L$2+BU10*$M$2+BV10*$N$2+BW10*$O$2+BX10*$P$2+BY10*$Q$2+BZ10*$R$2) -> 0 | CJ10: =IF($J10="","-",CC10*$L$2+CD10*$M$2+CE10*$N$2+CF10*$O$2+CG10*$P$2+CH10*$Q$2+CI10*$R$2) -> 0 | CL10: 0.35303241 | CM10: 0.35366898 | CN10: =IF($J10="","-",IF(AND(AB10>0,S10=0),"Y","N")) -> Y | CO10: N | CP10: N | CQ10: =IF($J10="","-",IF(AC10=0,0,AC10-J10)) -> 0.00016203704 | CR10: =IF($J10="","-",IF(AND(I10>=CR$4,CQ10>=CQ$4,CP10="N",S10=0),"Yes","No")) -> Yes | CS10: =IF($J10="","",IF(S10>0,0,IF(AD10=0,0,AB10/(AD10*24)))) -> 2290.9091 | CU10: =IF(J10="","-",CJ10) -> 0 | CV10: =IF($J10="","-",AB10+AV10+BP10) -> 7 | CW10: =IF($J10="","-",(AD10+AX10+BR10)*86400) -> 11 | CX10: =IF($J10="","-",IF(CP10="Y",2,IF(AND(CN10="y",CO10="y"),2,IF(AND(CN10="y",CO10="n"),1,IF(AND(CN10="n",CO10="y"),3,IF(AND(CN10="n",CO10="n"),4,"error")))))) -> 1 | CY10: =IF($J10="","-",S10+AM10+BG10+CA10) -> 0 | CZ10: =IF($J10="","-",(CL10-J10)*86400) -> 29 | DA10: =IF($J10="","-",CV10+CY10+CU10) -> 7 | DB10: =IF($J10="","-",IF(CW10=0,0,CW10-DD10-DE10)) -> -1.2850618 | DC10: =IF($J10="", "-", IF(AND(CV10=0, CX10=2), 1, IFERROR((DA10*3600)/(IFERROR(CZ10-DB10-2,CZ10-2)*$CS$56+CU10*3600),0))) -> 0.39897604 | DD10: =IF($J10="","-",IF(OR(CX10=1,CX10=3),1,IF(CX10=2,2,IF(CX10=4,0,0)))) -> 1 | DE10: =IF($J10="","-",IFERROR((3600*CV10/$CS$56),0)) -> 11.285062 | DF10: =IF(J10="","-",(CM10-J10)*86400) -> 84 | DG10: =IF($J10="","-",(CL10-J10-(3/86400))*86400) -> 26 | DH10: =IF($J10="","-",IF($CW10=0,0, $CW10-IFERROR(3600*$CV10/$CS$56,0)-1)) -> -1.2850618 | DI10: =IF($J10="","-",IF($CW10=0,0, $CW10-IFERROR(3600*$CV10/$CS$56,0)-2)) -> -2.2850618 | DJ10: =IF($J10="","-",IF($CW10=0,0, $CW10-IFERROR(3600*$CV10/$CS$56,0)-1)) -> -1.2850618 | DK10: =IF($J10="","-",IF($CW10=0,0, $CW10-IFERROR(3600*$CV10/$CS$56,0))) -> -0.28506184 | DL10: =IF($J10="","-",HLOOKUP(CX10,$DH$5:$DK$55,A10+1, FALSE)) -> -1.2850618 | DM10: =IF($J10="","-",IFERROR(IF(CU10=0,((DA10*(3600/DF10))/($CS$56*((DG10-DB10+1)/DF10))),((DA10*(3600/DF10))/(($CS$56*(((DG10-DB10+1)/DF10)))+((CU10*3600)/DF10)))),0)) -> 0.39897604 | DN10: =IF($J10="","-",CW10/CZ10) -> 0.37931034 | DO10: =IF(AND(I10>DA10,CP10<>"Y"),"Blocked?","OK") -> OK
A11: 6 | D11: 9 | I11: =IF($J11="","-",B11*$L$2+C11*$M$2+D11*$N$2+E11*$O$2+F11*$P$2+G11*$Q$2+H11*$R$2) -> 9 | J11: 0.35736111 | S11: =IF($J11="","-",L11*$L$2+M11*$M$2+N11*$N$2+O11*$O$2+P11*$P$2+Q11*$Q$2+R11*$R$2) -> 0 | T11: 0.35737269 | W11: 9 | AB11: =IF($J11="","-",U11*$L$2+V11*$M$2+W11*$N$2+X11*$O$2+Y11*$P$2+Z11*$Q$2+AA11*$R$2) -> 9 | AC11: 0.35756944 | AD11: =IF($J11="","-",AC11-T11) -> 0.00019675926 | AI11: 2 | AM11: =IF($J11="","-",AF11*$L$2+AG11*$M$2+AH11*$N$2+AI11*$O$2+AJ11*$P$2+AK11*$Q$2+AL11*$R$2) -> 2 | AV11: =IF($J11="","-",AO11*$L$2+AP11*$M$2+AQ11*$N$2+AR11*$O$2+AS11*$P$2+AT11*$Q$2+AU11*$R$2) -> 0 | AX11: =IF($J11="","-",AW11-AN11) -> 0 | BG11: =IF($J11="","-",AZ11*$L$2+BA11*$M$2+BB11*$N$2+BC11*$O$2+BD11*$P$2+BE11*$Q$2+BF11*$R$2) -> 0 | BP11: =IF($J11="","-",BI11*$L$2+BJ11*$M$2+BK11*$N$2+BL11*$O$2+BM11*$P$2+BN11*$Q$2+BO11*$R$2) -> 0 | BR11: =IF($J11="","-",BQ11-BH11) -> 0 | CA11: =IF($J11="","-",BT11*$L$2+BU11*$M$2+BV11*$N$2+BW11*$O$2+BX11*$P$2+BY11*$Q$2+BZ11*$R$2) -> 0 | CJ11: =IF($J11="","-",CC11*$L$2+CD11*$M$2+CE11*$N$2+CF11*$O$2+CG11*$P$2+CH11*$Q$2+CI11*$R$2) -> 0 | CL11: 0.35767361 | CM11: 0.35840278 | CN11: =IF($J11="","-",IF(AND(AB11>0,S11=0),"Y","N")) -> Y | CO11: N | CP11: N | CQ11: =IF($J11="","-",IF(AC11=0,0,AC11-J11)) -> 0.00020833333 | CR11: =IF($J11="","-",IF(AND(I11>=CR$4,CQ11>=CQ$4,CP11="N",S11=0),"Yes","No")) -> Yes | CS11: =IF($J11="","",IF(S11>0,0,IF(AD11=0,0,AB11/(AD11*24)))) -> 1905.8824 | CU11: =IF(J11="","-",CJ11) -> 0 | CV11: =IF($J11="","-",AB11+AV11+BP11) -> 9 | CW11: =IF($J11="","-",(AD11+AX11+BR11)*86400) -> 17 | CX11: =IF($J11="","-",IF(CP11="Y",2,IF(AND(CN11="y",CO11="y"),2,IF(AND(CN11="y",CO11="n"),1,IF(AND(CN11="n",CO11="y"),3,IF(AND(CN11="n",CO11="n"),4,"error")))))) -> 1 | CY11: =IF($J11="","-",S11+AM11+BG11+CA11) -> 2 | CZ11: =IF($J11="","-",(CL11-J11)*86400) -> 27 | DA11: =IF($J11="","-",CV11+CY11+CU11) -> 11 | DB11: =IF($J11="","-",IF(CW11=0,0,CW11-DD11-DE11)) -> 1.4906348 | DC11: =IF($J11="", "-", IF(AND(CV11=0, CX11=2), 1, IFERROR((DA11*3600)/(IFERROR(CZ11-DB11-2,CZ11-2)*$CS$56+CU11*3600),0))) -> 0.75432358 | DD11: =IF($J11="","-",IF(OR(CX11=1,CX11=3),1,IF(CX11=2,2,IF(CX11=4,0,0)))) -> 1 | DE11: =IF($J11="","-",IFERROR((3600*CV11/$CS$56),0)) -> 14.509365 | DF11: =IF(J11="","-",(CM11-J11)*86400) -> 90 | DG11: =IF($J11="","-",(CL11-J11-(3/86400))*86400) -> 24 | DH11: =IF($J11="","-",IF($CW11=0,0, $CW11-IFERROR(3600*$CV11/$CS$56,0)-1)) -> 1.4906348 | DI11: =IF($J11="","-",IF($CW11=0,0, $CW11-IFERROR(3600*$CV11/$CS$56,0)-2)) -> 0.49063478 | DJ11: =IF($J11="","-",IF($CW11=0,0, $CW11-IFERROR(3600*$CV11/$CS$56,0)-1)) -> 1.4906348 | DK11: =IF($J11="","-",IF($CW11=0,0, $CW11-IFERROR(3600*$CV11/$CS$56,0))) -> 2.4906348 | DL11: =IF($J11="","-",HLOOKUP(CX11,$DH$5:$DK$55,A11+1, FALSE)) -> 1.4906348 | DM11: =IF($J11="","-",IFERROR(IF(CU11=0,((DA11*(3600/DF11))/($CS$56*((DG11-DB11+1)/DF11))),((DA11*(3600/DF11))/(($CS$56*(((DG11-DB11+1)/DF11)))+((CU11*3600)/DF11)))),0)) -> 0.75432358 | DN11: =IF($J11="","-",CW11/CZ11) -> 0.62962963 | DO11: =IF(AND(I11>DA11,CP11<>"Y"),"Blocked?","OK") -> OK
A12: 7 | D12: 7 | E12: 1 | I12: =IF($J12="","-",B12*$L$2+C12*$M$2+D12*$N$2+E12*$O$2+F12*$P$2+G12*$Q$2+H12*$R$2) -> 8 | J12: 0.36585648 | S12: =IF($J12="","-",L12*$L$2+M12*$M$2+N12*$N$2+O12*$O$2+P12*$P$2+Q12*$Q$2+R12*$R$2) -> 0 | T12: 0.36587963 | W12: 6 | X12: 1 | AB12: =IF($J12="","-",U12*$L$2+V12*$M$2+W12*$N$2+X12*$O$2+Y12*$P$2+Z12*$Q$2+AA12*$R$2) -> 7 | AC12: 0.36600694 | AD12: =IF($J12="","-",AC12-T12) -> 0.00012731481 | AM12: =IF($J12="","-",AF12*$L$2+AG12*$M$2+AH12*$N$2+AI12*$O$2+AJ12*$P$2+AK12*$Q$2+AL12*$R$2) -> 0 | AV12: =IF($J12="","-",AO12*$L$2+AP12*$M$2+AQ12*$N$2+AR12*$O$2+AS12*$P$2+AT12*$Q$2+AU12*$R$2) -> 0 | AX12: =IF($J12="","-",AW12-AN12) -> 0 | BG12: =IF($J12="","-",AZ12*$L$2+BA12*$M$2+BB12*$N$2+BC12*$O$2+BD12*$P$2+BE12*$Q$2+BF12*$R$2) -> 0 | BP12: =IF($J12="","-",BI12*$L$2+BJ12*$M$2+BK12*$N$2+BL12*$O$2+BM12*$P$2+BN12*$Q$2+BO12*$R$2) -> 0 | BR12: =IF($J12="","-",BQ12-BH12) -> 0 | CA12: =IF($J12="","-",BT12*$L$2+BU12*$M$2+BV12*$N$2+BW12*$O$2+BX12*$P$2+BY12*$Q$2+BZ12*$R$2) -> 0 | CJ12: =IF($J12="","-",CC12*$L$2+CD12*$M$2+CE12*$N$2+CF12*$O$2+CG12*$P$2+CH12*$Q$2+CI12*$R$2) -> 0 | CL12: 0.36600694 | CM12: 0.36678241 | CN12: =IF($J12="","-",IF(AND(AB12>0,S12=0),"Y","N")) -> Y | CO12: Y | CP12: N | CQ12: =IF($J12="","-",IF(AC12=0,0,AC12-J12)) -> 0.00015046296 | CR12: =IF($J12="","-",IF(AND(I12>=CR$4,CQ12>=CQ$4,CP12="N",S12=0),"Yes","No")) -> Yes | CS12: =IF($J12="","",IF(S12>0,0,IF(AD12=0,0,AB12/(AD12*24)))) -> 2290.9091 | CU12: =IF(J12="","-",CJ12) -> 0 | CV12: =IF($J12="","-",AB12+AV12+BP12) -> 7 | CW12: =IF($J12="","-",(AD12+AX12+BR12)*86400) -> 11 | CX12: =IF($J12="","-",IF(CP12="Y",2,IF(AND(CN12="y",CO12="y"),2,IF(AND(CN12="y",CO12="n"),1,IF(AND(CN12="n",CO12="y"),3,IF(AND(CN12="n",CO12="n"),4,"error")))))) -> 2 | CY12: =IF($J12="","-",S12+AM12+BG12+CA12) -> 0 | CZ12: =IF($J12="","-",(CL12-J12)*86400) -> 13 | DA12: =IF($J12="","-",CV12+CY12+CU12) -> 7 | DB12: =IF($J12="","-",IF(CW12=0,0,CW12-DD12-DE12)) -> -2.2850618 | DC12: =IF($J12="", "-", IF(AND(CV12=0, CX12=2), 1, IFERROR((DA12*3600)/(IFERROR(CZ12-DB12-2,CZ12-2)*$CS$56+CU12*3600),0))) -> 0.84945497 | DD12: =IF($J12="","-",IF(OR(CX12=1,CX12=3),1,IF(CX12=2,2,IF(CX12=4,0,0)))) -> 2 | DE12: =IF($J12="","-",IFERROR((3600*CV12/$CS$56),0)) -> 11.285062 | DF12: =IF(J12="","-",(CM12-J12)*86400) -> 80 | DG12: =IF($J12="","-",(CL12-J12-(3/86400))*86400) -> 10 | DH12: =IF($J12="","-",IF($CW12=0,0, $CW12-IFERROR(3600*$CV12/$CS$56,0)-1)) -> -1.2850618 | DI12: =IF($J12="","-",IF($CW12=0,0, $CW12-IFERROR(3600*$CV12/$CS$56,0)-2)) -> -2.2850618 | DJ12: =IF($J12="","-",IF($CW12=0,0, $CW12-IFERROR(3600*$CV12/$CS$56,0)-1)) -> -1.2850618 | DK12: =IF($J12="","-",IF($CW12=0,0, $CW12-IFERROR(3600*$CV12/$CS$56,0))) -> -0.28506184 | DL12: =IF($J12="","-",HLOOKUP(CX12,$DH$5:$DK$55,A12+1, FALSE)) -> -2.2850618 | DM12: =IF($J12="","-",IFERROR(IF(CU12=0,((DA12*(3600/DF12))/($CS$56*((DG12-DB12+1)/DF12))),((DA12*(3600/DF12))/(($CS$56*(((DG12-DB12+1)/DF12)))+((CU12*3600)/DF12)))),0)) -> 0.84945497 | DN12: =IF($J12="","-",CW12/CZ12) -> 0.84615385 | DO12: =IF(AND(I12>DA12,CP12<>"Y"),"Blocked?","OK") -> Blocked?
A13: 8 | D13: 7 | I13: =IF($J13="","-",B13*$L$2+C13*$M$2+D13*$N$2+E13*$O$2+F13*$P$2+G13*$Q$2+H13*$R$2) -> 7 | J13: 0.36774306 | S13: =IF($J13="","-",L13*$L$2+M13*$M$2+N13*$N$2+O13*$O$2+P13*$P$2+Q13*$Q$2+R13*$R$2) -> 0 | T13: 0.36775463 | W13: 6 | AB13: =IF($J13="","-",U13*$L$2+V13*$M$2+W13*$N$2+X13*$O$2+Y13*$P$2+Z13*$Q$2+AA13*$R$2) -> 6 | AC13: 0.3678588 | AD13: =IF($J13="","-",AC13-T13) -> 0.00010416667 | AM13: =IF($J13="","-",AF13*$L$2+AG13*$M$2+AH13*$N$2+AI13*$O$2+AJ13*$P$2+AK13*$Q$2+AL13*$R$2) -> 0 | AV13: =IF($J13="","-",AO13*$L$2+AP13*$M$2+AQ13*$N$2+AR13*$O$2+AS13*$P$2+AT13*$Q$2+AU13*$R$2) -> 0 | AX13: =IF($J13="","-",AW13-AN13) -> 0 | BG13: =IF($J13="","-",AZ13*$L$2+BA13*$M$2+BB13*$N$2+BC13*$O$2+BD13*$P$2+BE13*$Q$2+BF13*$R$2) -> 0 | BP13: =IF($J13="","-",BI13*$L$2+BJ13*$M$2+BK13*$N$2+BL13*$O$2+BM13*$P$2+BN13*$Q$2+BO13*$R$2) -> 0 | BR13: =IF($J13="","-",BQ13-BH13) -> 0 | CA13: =IF($J13="","-",BT13*$L$2+BU13*$M$2+BV13*$N$2+BW13*$O$2+BX13*$P$2+BY13*$Q$2+BZ13*$R$2) -> 0 | CJ13: =IF($J13="","-",CC13*$L$2+CD13*$M$2+CE13*$N$2+CF13*$O$2+CG13*$P$2+CH13*$Q$2+CI13*$R$2) -> 0 | CL13: 0.3678588 | CM13: 0.36862269 | CN13: =IF($J13="","-",IF(AND(AB13>0,S13=0),"Y","N")) -> Y | CO13: Y | CP13: N | CQ13: =IF($J13="","-",IF(AC13=0,0,AC13-J13)) -> 0.00011574074 | CR13: =IF($J13="","-",IF(AND(I13>=CR$4,CQ13>=CQ$4,CP13="N",S13=0),"Yes","No")) -> No | CS13: =IF($J13="","",IF(S13>0,0,IF(AD13=0,0,AB13/(AD13*24)))) -> 2400 | CU13: =IF(J13="","-",CJ13) -> 0 | CV13: =IF($J13="","-",AB13+AV13+BP13) -> 6 | CW13: =IF($J13="","-",(AD13+AX13+BR13)*86400) -> 9 | CX13: =IF($J13="","-",IF(CP13="Y",2,IF(AND(CN13="y",CO13="y"),2,IF(AND(CN13="y",CO13="n"),1,IF(AND(CN13="n",CO13="y"),3,IF(AND(CN13="n",CO13="n"),4,"error")))))) -> 2 | CY13: =IF($J13="","-",S13+AM13+BG13+CA13) -> 0 | CZ13: =IF($J13="","-",(CL13-J13)*86400) -> 10 | DA13: =IF($J13="","-",CV13+CY13+CU13) -> 6 | DB13: =IF($J13="","-",IF(CW13=0,0,CW13-DD13-DE13)) -> -2.6729101 | DC13: =IF($J13="", "-", IF(AND(CV13=0, CX13=2), 1, IFERROR((DA13*3600)/(IFERROR(CZ13-DB13-2,CZ13-2)*$CS$56+CU13*3600),0))) -> 0.90630484 | DD13: =IF($J13="","-",IF(OR(CX13=1,CX13=3),1,IF(CX13=2,2,IF(CX13=4,0,0)))) -> 2 | DE13: =IF($J13="","-",IFERROR((3600*CV13/$CS$56),0)) -> 9.6729101 | DF13: =IF(J13="","-",(CM13-J13)*86400) -> 76 | DG13: =IF($J13="","-",(CL13-J13-(3/86400))*86400) -> 7 | DH13: =IF($J13="","-",IF($CW13=0,0, $CW13-IFERROR(3600*$CV13/$CS$56,0)-1)) -> -1.6729101 | DI13: =IF($J13="","-",IF($CW13=0,0, $CW13-IFERROR(3600*$CV13/$CS$56,0)-2)) -> -2.6729101 | DJ13: =IF($J13="","-",IF($CW13=0,0, $CW13-IFERROR(3600*$CV13/$CS$56,0)-1)) -> -1.6729101 | DK13: =IF($J13="","-",IF($CW13=0,0, $CW13-IFERROR(3600*$CV13/$CS$56,0))) -> -0.67291015 | DL13: =IF($J13="","-",HLOOKUP(CX13,$DH$5:$DK$55,A13+1, FALSE)) -> -2.6729101 | DM13: =IF($J13="","-",IFERROR(IF(CU13=0,((DA13*(3600/DF13))/($CS$56*((DG13-DB13+1)/DF13))),((DA13*(3600/DF13))/(($CS$56*(((DG13-DB13+1)/DF13)))+((CU13*3600)/DF13)))),0)) -> 0.90630484 | DN13: =IF($J13="","-",CW13/CZ13) -> 0.9 | DO13: =IF(AND(I13>DA13,CP13<>"Y"),"Blocked?","OK") -> Blocked?
A14: 9 | D14: 7 | E14: 1 | I14: =IF($J14="","-",B14*$L$2+C14*$M$2+D14*$N$2+E14*$O$2+F14*$P$2+G14*$Q$2+H14*$R$2) -> 8 | J14: 0.36862269 | S14: =IF($J14="","-",L14*$L$2+M14*$M$2+N14*$N$2+O14*$O$2+P14*$P$2+Q14*$Q$2+R14*$R$2) -> 0 | T14: 0.36862269 | W14: 6 | X14: 1 | AB14: =IF($J14="","-",U14*$L$2+V14*$M$2+W14*$N$2+X14*$O$2+Y14*$P$2+Z14*$Q$2+AA14*$R$2) -> 7 | AC14: 0.36875 | AD14: =IF($J14="","-",AC14-T14) -> 0.00012731481 | AM14: =IF($J14="","-",AF14*$L$2+AG14*$M$2+AH14*$N$2+AI14*$O$2+AJ14*$P$2+AK14*$Q$2+AL14*$R$2) -> 0 | AV14: =IF($J14="","-",AO14*$L$2+AP14*$M$2+AQ14*$N$2+AR14*$O$2+AS14*$P$2+AT14*$Q$2+AU14*$R$2) -> 0 | AX14: =IF($J14="","-",AW14-AN14) -> 0 | BG14: =IF($J14="","-",AZ14*$L$2+BA14*$M$2+BB14*$N$2+BC14*$O$2+BD14*$P$2+BE14*$Q$2+BF14*$R$2) -> 0 | BP14: =IF($J14="","-",BI14*$L$2+BJ14*$M$2+BK14*$N$2+BL14*$O$2+BM14*$P$2+BN14*$Q$2+BO14*$R$2) -> 0 | BR14: =IF($J14="","-",BQ14-BH14) -> 0 | CA14: =IF($J14="","-",BT14*$L$2+BU14*$M$2+BV14*$N$2+BW14*$O$2+BX14*$P$2+BY14*$Q$2+BZ14*$R$2) -> 0 | CJ14: =IF($J14="","-",CC14*$L$2+CD14*$M$2+CE14*$N$2+CF14*$O$2+CG14*$P$2+CH14*$Q$2+CI14*$R$2) -> 0 | CL14: 0.36878472 | CM14: 0.36944444 | CN14: =IF($J14="","-",IF(AND(AB14>0,S14=0),"Y","N")) -> Y | CO14: Y | CP14: N | CQ14: =IF($J14="","-",IF(AC14=0,0,AC14-J14)) -> 0.00012731481 | CR14: =IF($J14="","-",IF(AND(I14>=CR$4,CQ14>=CQ$4,CP14="N",S14=0),"Yes","No")) -> No | CS14: =IF($J14="","",IF(S14>0,0,IF(AD14=0,0,AB14/(AD14*24)))) -> 2290.9091 | CU14: =IF(J14="","-",CJ14) -> 0 | CV14: =IF($J14="","-",AB14+AV14+BP14) -> 7 | CW14: =IF($J14="","-",(AD14+AX14+BR14)*86400) -> 11 | CX14: =IF($J14="","-",IF(CP14="Y",2,IF(AND(CN14="y",CO14="y"),2,IF(AND(CN14="y",CO14="n"),1,IF(AND(CN14="n",CO14="y"),3,IF(AND(CN14="n",CO14="n"),4,"error")))))) -> 2 | CY14: =IF($J14="","-",S14+AM14+BG14+CA14) -> 0 | CZ14: =IF($J14="","-",(CL14-J14)*86400) -> 14 | DA14: =IF($J14="","-",CV14+CY14+CU14) -> 7 | DB14: =IF($J14="","-",IF(CW14=0,0,CW14-DD14-DE14)) -> -2.2850618 | DC14: =IF($J14="", "-", IF(AND(CV14=0, CX14=2), 1, IFERROR((DA14*3600)/(IFERROR(CZ14-DB14-2,CZ14-2)*$CS$56+CU14*3600),0))) -> 0.78999041 | DD14: =IF($J14="","-",IF(OR(CX14=1,CX14=3),1,IF(CX14=2,2,IF(CX14=4,0,0)))) -> 2 | DE14: =IF($J14="","-",IFERROR((3600*CV14/$CS$56),0)) -> 11.285062 | DF14: =IF(J14="","-",(CM14-J14)*86400) -> 71 | DG14: =IF($J14="","-",(CL14-J14-(3/86400))*86400) -> 11 | DH14: =IF($J14="","-",IF($CW14=0,0, $CW14-IFERROR(3600*$CV14/$CS$56,0)-1)) -> -1.2850618 | DI14: =IF($J14="","-",IF($CW14=0,0, $CW14-IFERROR(3600*$CV14/$CS$56,0)-2)) -> -2.2850618 | DJ14: =IF($J14="","-",IF($CW14=0,0, $CW14-IFERROR(3600*$CV14/$CS$56,0)-1)) -> -1.2850618 | DK14: =IF($J14="","-",IF($CW14=0,0, $CW14-IFERROR(3600*$CV14/$CS$56,0))) -> -0.28506184 | DL14: =IF($J14="","-",HLOOKUP(CX14,$DH$5:$DK$55,A14+1, FALSE)) -> -2.2850618 | DM14: =IF($J14="","-",IFERROR(IF(CU14=0,((DA14*(3600/DF14))/($CS$56*((DG14-DB14+1)/DF14))),((DA14*(3600/DF14))/(($CS$56*(((DG14-DB14+1)/DF14)))+((CU14*3600)/DF14)))),0)) -> 0.78999041 | DN14: =IF($J14="","-",CW14/CZ14) -> 0.78571429 | DO14: =IF(AND(I14>DA14,CP14<>"Y"),"Blocked?","OK") -> Blocked?
A15: 10 | D15: 6 | E15: 1 | I15: =IF($J15="","-",B15*$L$2+C15*$M$2+D15*$N$2+E15*$O$2+F15*$P$2+G15*$Q$2+H15*$R$2) -> 7 | J15: 0.37328704 | S15: =IF($J15="","-",L15*$L$2+M15*$M$2+N15*$N$2+O15*$O$2+P15*$P$2+Q15*$Q$2+R15*$R$2) -> 0 | T15: 0.37331019 | W15: 6 | X15: 1 | AB15: =IF($J15="","-",U15*$L$2+V15*$M$2+W15*$N$2+X15*$O$2+Y15*$P$2+Z15*$Q$2+AA15*$R$2) -> 7 | AC15: 0.3734375 | AD15: =IF($J15="","-",AC15-T15) -> 0.00012731481 | AM15: =IF($J15="","-",AF15*$L$2+AG15*$M$2+AH15*$N$2+AI15*$O$2+AJ15*$P$2+AK15*$Q$2+AL15*$R$2) -> 0 | AV15: =IF($J15="","-",AO15*$L$2+AP15*$M$2+AQ15*$N$2+AR15*$O$2+AS15*$P$2+AT15*$Q$2+AU15*$R$2) -> 0 | AX15: =IF($J15="","-",AW15-AN15) -> 0 | BG15: =IF($J15="","-",AZ15*$L$2+BA15*$M$2+BB15*$N$2+BC15*$O$2+BD15*$P$2+BE15*$Q$2+BF15*$R$2) -> 0 | BP15: =IF($J15="","-",BI15*$L$2+BJ15*$M$2+BK15*$N$2+BL15*$O$2+BM15*$P$2+BN15*$Q$2+BO15*$R$2) -> 0 | BR15: =IF($J15="","-",BQ15-BH15) -> 0 | CA15: =IF($J15="","-",BT15*$L$2+BU15*$M$2+BV15*$N$2+BW15*$O$2+BX15*$P$2+BY15*$Q$2+BZ15*$R$2) -> 0 | CJ15: =IF($J15="","-",CC15*$L$2+CD15*$M$2+CE15*$N$2+CF15*$O$2+CG15*$P$2+CH15*$Q$2+CI15*$R$2) -> 0 | CL15: 0.37355324 | CM15: 0.37423611 | CN15: =IF($J15="","-",IF(AND(AB15>0,S15=0),"Y","N")) -> Y | CO15: N | CP15: N | CQ15: =IF($J15="","-",IF(AC15=0,0,AC15-J15)) -> 0.00015046296 | CR15: =IF($J15="","-",IF(AND(I15>=CR$4,CQ15>=CQ$4,CP15="N",S15=0),"Yes","No")) -> Yes | CS15: =IF($J15="","",IF(S15>0,0,IF(AD15=0,0,AB15/(AD15*24)))) -> 2290.9091 | CU15: =IF(J15="","-",CJ15) -> 0 | CV15: =IF($J15="","-",AB15+AV15+BP15) -> 7 | CW15: =IF($J15="","-",(AD15+AX15+BR15)*86400) -> 11 | CX15: =IF($J15="","-",IF(CP15="Y",2,IF(AND(CN15="y",CO15="y"),2,IF(AND(CN15="y",CO15="n"),1,IF(AND(CN15="n",CO15="y"),3,IF(AND(CN15="n",CO15="n"),4,"error")))))) -> 1 | CY15: =IF($J15="","-",S15+AM15+BG15+CA15) -> 0 | CZ15: =IF($J15="","-",(CL15-J15)*86400) -> 23 | DA15: =IF($J15="","-",CV15+CY15+CU15) -> 7 | DB15: =IF($J15="","-",IF(CW15=0,0,CW15-DD15-DE15)) -> -1.2850618 | DC15: =IF($J15="", "-", IF(AND(CV15=0, CX15=2), 1, IFERROR((DA15*3600)/(IFERROR(CZ15-DB15-2,CZ15-2)*$CS$56+CU15*3600),0))) -> 0.50639581 | DD15: =IF($J15="","-",IF(OR(CX15=1,CX15=3),1,IF(CX15=2,2,IF(CX15=4,0,0)))) -> 1 | DE15: =IF($J15="","-",IFERROR((3600*CV15/$CS$56),0)) -> 11.285062 | DF15: =IF(J15="","-",(CM15-J15)*86400) -> 82 | DG15: =IF($J15="","-",(CL15-J15-(3/86400))*86400) -> 20 | DH15: =IF($J15="","-",IF($CW15=0,0, $CW15-IFERROR(3600*$CV15/$CS$56,0)-1)) -> -1.2850618 | DI15: =IF($J15="","-",IF($CW15=0,0, $CW15-IFERROR(3600*$CV15/$CS$56,0)-2)) -> -2.2850618 | DJ15: =IF($J15="","-",IF($CW15=0,0, $CW15-IFERROR(3600*$CV15/$CS$56,0)-1)) -> -1.2850618 | DK15: =IF($J15="","-",IF($CW15=0,0, $CW15-IFERROR(3600*$CV15/$CS$56,0))) -> -0.28506184 | DL15: =IF($J15="","-",HLOOKUP(CX15,$DH$5:$DK$55,A15+1, FALSE)) -> -1.2850618 | DM15: =IF($J15="","-",IFERROR(IF(CU15=0,((DA15*(3600/DF15))/($CS$56*((DG15-DB15+1)/DF15))),((DA15*(3600/DF15))/(($CS$56*(((DG15-DB15+1)/DF15)))+((CU15*3600)/DF15)))),0)) -> 0.50639581 | DN15: =IF($J15="","-",CW15/CZ15) -> 0.47826087 | DO15: =IF(AND(I15>DA15,CP15<>"Y"),"Blocked?","OK") -> OK
A16: 11 | I16: =IF($J16="","-",B16*$L$2+C16*$M$2+D16*$N$2+E16*$O$2+F16*$P$2+G16*$Q$2+H16*$R$2) -> - | S16: =IF($J16="","-",L16*$L$2+M16*$M$2+N16*$N$2+O16*$O$2+P16*$P$2+Q16*$Q$2+R16*$R$2) -> - | AB16: =IF($J16="","-",U16*$L$2+V16*$M$2+W16*$N$2+X16*$O$2+Y16*$P$2+Z16*$Q$2+AA16*$R$2) -> - | AD16: =IF($J16="","-",AC16-T16) -> - | AM16: =IF($J16="","-",AF16*$L$2+AG16*$M$2+AH16*$N$2+AI16*$O$2+AJ16*$P$2+AK16*$Q$2+AL16*$R$2) -> - | AV16: =IF($J16="","-",AO16*$L$2+AP16*$M$2+AQ16*$N$2+AR16*$O$2+AS16*$P$2+AT16*$Q$2+AU16*$R$2) -> - | AX16: =IF($J16="","-",AW16-AN16) -> - | BG16: =IF($J16="","-",AZ16*$L$2+BA16*$M$2+BB16*$N$2+BC16*$O$2+BD16*$P$2+BE16*$Q$2+BF16*$R$2) -> - | BP16: =IF($J16="","-",BI16*$L$2+BJ16*$M$2+BK16*$N$2+BL16*$O$2+BM16*$P$2+BN16*$Q$2+BO16*$R$2) -> - | BR16: =IF($J16="","-",BQ16-BH16) -> - | CA16: =IF($J16="","-",BT16*$L$2+BU16*$M$2+BV16*$N$2+BW16*$O$2+BX16*$P$2+BY16*$Q$2+BZ16*$R$2) -> - | CJ16: =IF($J16="","-",CC16*$L$2+CD16*$M$2+CE16*$N$2+CF16*$O$2+CG16*$P$2+CH16*$Q$2+CI16*$R$2) -> - | CN16: =IF($J16="","-",IF(AND(AB16>0,S16=0),"Y","N")) -> - | CQ16: =IF($J16="","-",IF(AC16=0,0,AC16-J16)) -> - | CR16: =IF($J16="","-",IF(AND(I16>=CR$4,CQ16>=CQ$4,CP16="N",S16=0),"Yes","No")) -> - | CS16: =IF($J16="","",IF(S16>0,0,IF(AD16=0,0,AB16/(AD16*24)))) | CU16: =IF(J16="","-",CJ16) -> - | CV16: =IF($J16="","-",AB16+AV16+BP16) -> - | CW16: =IF($J16="","-",(AD16+AX16+BR16)*86400) -> - | CX16: =IF($J16="","-",IF(CP16="Y",2,IF(AND(CN16="y",CO16="y"),2,IF(AND(CN16="y",CO16="n"),1,IF(AND(CN16="n",CO16="y"),3,IF(AND(CN16="n",CO16="n"),4,"error")))))) -> - | CY16: =IF($J16="","-",S16+AM16+BG16+CA16) -> - | CZ16: =IF($J16="","-",(CL16-J16)*86400) -> - | DA16: =IF($J16="","-",CV16+CY16+CU16) -> - | DB16: =IF($J16="","-",IF(CW16=0,0,CW16-DD16-DE16)) -> - | DC16: =IF($J16="", "-", IF(AND(CV16=0, CX16=2), 1, IFERROR((DA16*3600)/(IFERROR(CZ16-DB16-2,CZ16-2)*$CS$56+CU16*3600),0))) -> - | DD16: =IF($J16="","-",IF(OR(CX16=1,CX16=3),1,IF(CX16=2,2,IF(CX16=4,0,0)))) -> - | DE16: =IF($J16="","-",IFERROR((3600*CV16/$CS$56),0)) -> - | DF16: =IF(J16="","-",(CM16-J16)*86400) -> - | DG16: =IF($J16="","-",(CL16-J16-(3/86400))*86400) -> - | DH16: =IF($J16="","-",IF($CW16=0,0, $CW16-IFERROR(3600*$CV16/$CS$56,0)-1)) -> - | DI16: =IF($J16="","-",IF($CW16=0,0, $CW16-IFERROR(3600*$CV16/$CS$56,0)-2)) -> - | DJ16: =IF($J16="","-",IF($CW16=0,0, $CW16-IFERROR(3600*$CV16/$CS$56,0)-1)) -> - | DK16: =IF($J16="","-",IF($CW16=0,0, $CW16-IFERROR(3600*$CV16/$CS$56,0))) -> - | DL16: =IF($J16="","-",HLOOKUP(CX16,$DH$5:$DK$55,A16+1, FALSE)) -> - | DM16: =IF($J16="","-",IFERROR(IF(CU16=0,((DA16*(3600/DF16))/($CS$56*((DG16-DB16+1)/DF16))),((DA16*(3600/DF16))/(($CS$56*(((DG16-DB16+1)/DF16)))+((CU16*3600)/DF16)))),0)) -> - | DN16: =IF($J16="","-",CW16/CZ16) -> - | DO16: =IF(AND(I16>DA16,CP16<>"Y"),"Blocked?","OK") -> OK
