Workbook
Name car: #REF!
Name car: #REF!
Name car: #REF!
Name car: #REF!
Name car: #REF!
Name car: #REF!
Name car: #REF!
Name car: #REF!
Name car: #REF!
Name car: #REF!
Name car: #REF!
Name car: #REF!
Name car: #REF!
Name car: #REF!
Name car: #REF!
Name car: #REF!
Name car: #REF!
Name car: #REF!
Name car: #REF!
Name car: #REF!
Name car: #REF!
Name car: #REF!
Name coach: #REF!
Name coach: #REF!
Name coach: #REF!
Name coach: #REF!
Name coach: #REF!
Name coach: #REF!
Name coach: #REF!
Name coach: #REF!
Name coach: #REF!
Name coach: #REF!
Name coach: #REF!
Name coach: #REF!
Name coach: #REF!
Name coach: #REF!
Name coach: #REF!
Name coach: #REF!
Name coach: #REF!
Name coach: #REF!
Name coach: #REF!
Name coach: #REF!
Name coach: #REF!
Name coach: #REF!
Name lgv: #REF!
Name lgv: #REF!
Name lgv: #REF!
Name lgv: #REF!
Name lgv: #REF!
Name lgv: #REF!
Name lgv: #REF!
Name lgv: #REF!
Name lgv: #REF!
Name lgv: #REF!
Name lgv: #REF!
Name lgv: #REF!
Name lgv: #REF!
Name lgv: #REF!
Name lgv: #REF!
Name lgv: #REF!

Sheet Site 4 Diagram
D36: Site / Location: | F36: Site 4,Stoneham Interchange | M36: Project No: | N36: 16367 | O36: Drawing No: | Q36: 16367-03 | S36: Drawn By: | T36: BVR
D38: Survey Date: | F38: Thursday 13th February 2025 | M38: Project Name: | O38: SOUTHAMPTON
D40: Survey Times: | F40: 07:00 to 10:00 & 16:00 to 19:00 | M40: Drawing Title: | O40: Site Layout and Observed Movements

Sheet Arm A Lane 2
C1: Site | D1: ='Site 4 Diagram'!$F$36:$F$36 -> Site 4,Stoneham Interchange | J1: Class | L1: PCL | M1: MCL | N1: CAR | O1: LGV | P1: OGV1 | Q1: OGV2 | R1: PSV | V1: Day | W1: ='Site 4 Diagram'!$F$38:$F$38 -> Thursday 13th February 2025
C2: Stop Line | D2: =MID(CELL("filename",A1),FIND("]",CELL("filename",A1))+1,256) -> #VALUE! | J2: PCU value | L2: 0.2 | M2: 0.4 | N2: 1 | O2: 1 | P2: 1.5 | Q2: 2.3 | R2: 2 | V2: Time Period | W2: AM
L3: Firast Flow | AF3: Second Flow | AZ3: Third Flow | BT3: Fourth Flow
B4: Queue | J4: Green On | L4: Low Demand (Unsaturated) | T4: High Demand (Saturated) | AF4: Low Demand (Unsaturated) | AN4: High Demand (Saturated) | AZ4: Low Demand (Unsaturated) | BH4: High Demand (Saturated) | BT4: Low Demand (Unsaturated) | CC4: Flare Storage | CL4: Red On | CM4: Next Green On | CN4: High Demand at: | CQ4: 0.00013888889 | CR4: 7 | CS4: Sat Flow (PCU/hr) | CU4: Flare Storage (PCU) | CV4: High Demand (PCU) | CW4: Duration of HD (seconds) | CX4: Status of HD | CY4: Low Demand (PCU) | CZ4: Green & Amber (seconds) | DA4: Total Flow (PCU) | DB4: Underutilised Green Time [UGT] (S) | DC4: Degree of Saturation [DoS] (%)
B5: =$L$1 -> PCL | C5: =$M$1 -> MCL | D5: =$N$1 -> CAR | E5: =$O$1 -> LGV | F5: =$P$1 -> OGV1 | G5: =$Q$1 -> OGV2 | H5: =$R$1 -> PSV | I5: Total PCU's | L5: =$L$1 -> PCL | M5: =$M$1 -> MCL | N5: =$N$1 -> CAR | O5: =$O$1 -> LGV | P5: =$P$1 -> OGV1 | Q5: =$Q$1 -> OGV2 | R5: =$R$1 -> PSV | S5: Total PCU's | T5: Start of #1 HD | U5: =$L$1 -> PCL | V5: =$M$1 -> MCL | W5: =$N$1 -> CAR | X5: =$O$1 -> LGV | Y5: =$P$1 -> OGV1 | Z5: =$Q$1 -> OGV2 | AA5: =$R$1 -> PSV | AB5: Total PCU's | AC5: End of #1 HD | AD5: Duration of #1 HD flow | AF5: =$L$1 -> PCL | AG5: =$M$1 -> MCL | AH5: =$N$1 -> CAR | AI5: =$O$1 -> LGV | AJ5: =$P$1 -> OGV1 | AK5: =$Q$1 -> OGV2 | AL5: =$R$1 -> PSV | AM5: Total PCU's | AN5: Start of #2 HD | AO5: =$L$1 -> PCL | AP5: =$M$1 -> MCL | AQ5: =$N$1 -> CAR | AR5: =$O$1 -> LGV | AS5: =$P$1 -> OGV1 | AT5: =$Q$1 -> OGV2 | AU5: =$R$1 -> PSV | AV5: Total PCU's | AW5: End of #2 HD | AX5: Duration of #2 HD flow | AZ5: =$L$1 -> PCL | BA5: =$M$1 -> MCL | BB5: =$N$1 -> CAR | BC5: =$O$1 -> LGV | BD5: =$P$1 -> OGV1 | BE5: =$Q$1 -> OGV2 | BF5: =$R$1 -> PSV | BG5: Total PCU's | BH5: Start of #3 HD | BI5: =$L$1 -> PCL | BJ5: =$M$1 -> MCL | BK5: =$N$1 -> CAR | BL5: =$O$1 -> LGV | BM5: =$P$1 -> OGV1 | BN5: =$Q$1 -> OGV2 | BO5: =$R$1 -> PSV | BP5: Total PCU's | BQ5: End of #3 HD | BR5: Duration of #3 HD flow | BT5: =$L$1 -> PCL | BU5: =$M$1 -> MCL | BV5: =$N$1 -> CAR | BW5: =$O$1 -> LGV | BX5: =$P$1 -> OGV1 | BY5: =$Q$1 -> OGV2 | BZ5: =$R$1 -> PSV | CA5: Total PCU's | CC5: =$L$1 -> PCL | CD5: =$M$1 -> MCL | CE5: =$N$1 -> CAR | CF5: =$O$1 -> LGV | CG5: =$P$1 -> OGV1 | CH5: =$Q$1 -> OGV2 | CI5: =$R$1 -> PSV | CJ5: Total PCU's | CN5: Start of Green | CO5: End of Amber | CP5: Blocked Junction | CQ5: First flow duration | CR5: Suitable? | DD5: Lost Time (Lt) | DE5: Normal Green [Gn] (S) | DF5: Cycle Time (S) | DG5: Actual Green Time (S) | DH5: 1 | DI5: 2 | DJ5: 3 | DK5: 4 | DL5: UGT | DM5: Dos | DN5: HD /G&A | DO5: Queue >Flow
A6: 1 | D6: 10 | E6: 3 | G6: 1 | I6: =IF($J6="","-",B6*$L$2+C6*$M$2+D6*$N$2+E6*$O$2+F6*$P$2+G6*$Q$2+H6*$R$2) -> 15.3 | J6: 0.33621528 | S6: =IF($J6="","-",L6*$L$2+M6*$M$2+N6*$N$2+O6*$O$2+P6*$P$2+Q6*$Q$2+R6*$R$2) -> 0 | T6: 0.33623843 | W6: 6 | X6: 1 | AB6: =IF($J6="","-",U6*$L$2+V6*$M$2+W6*$N$2+X6*$O$2+Y6*$P$2+Z6*$Q$2+AA6*$R$2) -> 7 | AC6: 0.33637731 | AD6: =IF($J6="","-",AC6-T6) -> 0.00013888889 | AM6: =IF($J6="","-",AF6*$L$2+AG6*$M$2+AH6*$N$2+AI6*$O$2+AJ6*$P$2+AK6*$Q$2+AL6*$R$2) -> 0 | AV6: =IF($J6="","-",AO6*$L$2+AP6*$M$2+AQ6*$N$2+AR6*$O$2+AS6*$P$2+AT6*$Q$2+AU6*$R$2) -> 0 | AX6: =IF($J6="","-",AW6-AN6) -> 0 | BG6: =IF($J6="","-",AZ6*$L$2+BA6*$M$2+BB6*$N$2+BC6*$O$2+BD6*$P$2+BE6*$Q$2+BF6*$R$2) -> 0 | BP6: =IF($J6="","-",BI6*$L$2+BJ6*$M$2+BK6*$N$2+BL6*$O$2+BM6*$P$2+BN6*$Q$2+BO6*$R$2) -> 0 | BR6: =IF($J6="","-",BQ6-BH6) -> 0 | CA6: =IF($J6="","-",BT6*$L$2+BU6*$M$2+BV6*$N$2+BW6*$O$2+BX6*$P$2+BY6*$Q$2+BZ6*$R$2) -> 0 | CJ6: =IF($J6="","-",CC6*$L$2+CD6*$M$2+CE6*$N$2+CF6*$O$2+CG6*$P$2+CH6*$Q$2+CI6*$R$2) -> 0 | CL6: 0.33640046 | CM6: 0.33717593 | CN6: =IF($J6="","-",IF(AND(AB6>0,S6=0),"Y","N")) -> Y | CO6: Y | CP6: N | CQ6: =IF($J6="","-",IF(AC6=0,0,AC6-J6)) -> 0.00016203704 | CR6: =IF($J6="","-",IF(AND(I6>=CR$4,CQ6>=CQ$4,CP6="N",S6=0),"Yes","No")) -> Yes | CS6: =IF($J6="","",IF(S6>0,0,IF(AD6=0,0,AB6/(AD6*24)))) -> 2100 | CU6: =IF(J6="","-",CJ6) -> 0 | CV6: =IF($J6="","-",AB6+AV6+BP6) -> 7 | CW6: =IF($J6="","-",(AD6+AX6+BR6)*86400) -> 12 | CX6: =IF($J6="","-",IF(CP6="Y",2,IF(AND(CN6="y",CO6="y"),2,IF(AND(CN6="y",CO6="n"),1,IF(AND(CN6="n",CO6="y"),3,IF(AND(CN6="n",CO6="n"),4,"error")))))) -> 2 | CY6: =IF($J6="","-",S6+AM6+BG6+CA6) -> 0 | CZ6: =IF($J6="","-",(CL6-J6)*86400) -> 16 | DA6: =IF($J6="","-",CV6+CY6+CU6) -> 7 | DB6: =IF($J6="","-",IF(CW6=0,0,CW6-DD6-DE6)) -> -1.1046665 | DC6: =IF($J6="", "-", IF(AND(CV6=0, CX6=2), 1, IFERROR((DA6*3600)/(IFERROR(CZ6-DB6-2,CZ6-2)*$CS$56+CU6*3600),0))) -> 0.73518118 | DD6: =IF($J6="","-",IF(OR(CX6=1,CX6=3),1,IF(CX6=2,2,IF(CX6=4,0,0)))) -> 2 | DE6: =IF($J6="","-",IFERROR((3600*CV6/$CS$56),0)) -> 11.104666 | DF6: =IF(J6="","-",(CM6-J6)*86400) -> 83 | DG6: =IF($J6="","-",(CL6-J6-(3/86400))*86400) -> 13 | DH6: =IF($J6="","-",IF($CW6=0,0, $CW6-IFERROR(3600*$CV6/$CS$56,0)-1)) -> -0.10466649 | DI6: =IF($J6="","-",IF($CW6=0,0, $CW6-IFERROR(3600*$CV6/$CS$56,0)-2)) -> -1.1046665 | DJ6: =IF($J6="","-",IF($CW6=0,0, $CW6-IFERROR(3600*$CV6/$CS$56,0)-1)) -> -0.10466649 | DK6: =IF($J6="","-",IF($CW6=0,0, $CW6-IFERROR(3600*$CV6/$CS$56,0))) -> 0.89533351 | DL6: =IF($J6="","-",HLOOKUP(CX6,$DH$5:$DK$55,A6+1, FALSE)) -> -1.1046665 | DM6: =IF($J6="","-",IFERROR(IF(CU6=0,((DA6*(3600/DF6))/($CS$56*((DG6-DB6+1)/DF6))),((DA6*(3600/DF6))/(($CS$56*(((DG6-DB6+1)/DF6)))+((CU6*3600)/DF6)))),0)) -> 0.73518118 | DN6: =IF($J6="","-",CW6/CZ6) -> 0.75 | DO6: =IF(AND(I6>DA6,CP6<>"Y"),"Blocked?","OK") -> Blocked? | DP6: 1 | DQ6: High demand at start of green
A7: 2 | D7: 12 | E7: 1 | G7: 1 | I7: =IF($J7="","-",B7*$L$2+C7*$M$2+D7*$N$2+E7*$O$2+F7*$P$2+G7*$Q$2+H7*$R$2) -> 15.3 | J7: 0.33717593 | S7: =IF($J7="","-",L7*$L$2+M7*$M$2+N7*$N$2+O7*$O$2+P7*$P$2+Q7*$Q$2+R7*$R$2) -> 0 | T7: 0.33719907 | W7: 7 | Z7: 1 | AB7: =IF($J7="","-",U7*$L$2+V7*$M$2+W7*$N$2+X7*$O$2+Y7*$P$2+Z7*$Q$2+AA7*$R$2) -> 9.3 | AC7: 0.33736111 | AD7: =IF($J7="","-",AC7-T7) -> 0.00016203704 | AM7: =IF($J7="","-",AF7*$L$2+AG7*$M$2+AH7*$N$2+AI7*$O$2+AJ7*$P$2+AK7*$Q$2+AL7*$R$2) -> 0 | AV7: =IF($J7="","-",AO7*$L$2+AP7*$M$2+AQ7*$N$2+AR7*$O$2+AS7*$P$2+AT7*$Q$2+AU7*$R$2) -> 0 | AX7: =IF($J7="","-",AW7-AN7) -> 0 | BG7: =IF($J7="","-",AZ7*$L$2+BA7*$M$2+BB7*$N$2+BC7*$O$2+BD7*$P$2+BE7*$Q$2+BF7*$R$2) -> 0 | BP7: =IF($J7="","-",BI7*$L$2+BJ7*$M$2+BK7*$N$2+BL7*$O$2+BM7*$P$2+BN7*$Q$2+BO7*$R$2) -> 0 | BR7: =IF($J7="","-",BQ7-BH7) -> 0 | CA7: =IF($J7="","-",BT7*$L$2+BU7*$M$2+BV7*$N$2+BW7*$O$2+BX7*$P$2+BY7*$Q$2+BZ7*$R$2) -> 0 | CJ7: =IF($J7="","-",CC7*$L$2+CD7*$M$2+CE7*$N$2+CF7*$O$2+CG7*$P$2+CH7*$Q$2+CI7*$R$2) -> 0 | CL7: 0.33737269 | CM7: 0.33810185 | CN7: =IF($J7="","-",IF(AND(AB7>0,S7=0),"Y","N")) -> Y | CO7: Y | CP7: N | CQ7: =IF($J7="","-",IF(AC7=0,0,AC7-J7)) -> 0.00018518519 | CR7: =IF($J7="","-",IF(AND(I7>=CR$4,CQ7>=CQ$4,CP7="N",S7=0),"Yes","No")) -> Yes | CS7: =IF($J7="","",IF(S7>0,0,IF(AD7=0,0,AB7/(AD7*24)))) -> 2391.4286 | CU7: =IF(J7="","-",CJ7) -> 0 | CV7: =IF($J7="","-",AB7+AV7+BP7) -> 9.3 | CW7: =IF($J7="","-",(AD7+AX7+BR7)*86400) -> 14 | CX7: =IF($J7="","-",IF(CP7="Y",2,IF(AND(CN7="y",CO7="y"),2,IF(AND(CN7="y",CO7="n"),1,IF(AND(CN7="n",CO7="y"),3,IF(AND(CN7="n",CO7="n"),4,"error")))))) -> 2 | CY7: =IF($J7="","-",S7+AM7+BG7+CA7) -> 0 | CZ7: =IF($J7="","-",(CL7-J7)*86400) -> 17 | DA7: =IF($J7="","-",CV7+CY7+CU7) -> 9.3 | DB7: =IF($J7="","-",IF(CW7=0,0,CW7-DD7-DE7)) -> -2.7533426 | DC7: =IF($J7="", "-", IF(AND(CV7=0, CX7=2), 1, IFERROR((DA7*3600)/(IFERROR(CZ7-DB7-2,CZ7-2)*$CS$56+CU7*3600),0))) -> 0.83101774 | DD7: =IF($J7="","-",IF(OR(CX7=1,CX7=3),1,IF(CX7=2,2,IF(CX7=4,0,0)))) -> 2 | DE7: =IF($J7="","-",IFERROR((3600*CV7/$CS$56),0)) -> 14.753343 | DF7: =IF(J7="","-",(CM7-J7)*86400) -> 80 | DG7: =IF($J7="","-",(CL7-J7-(3/86400))*86400) -> 14 | DH7: =IF($J7="","-",IF($CW7=0,0, $CW7-IFERROR(3600*$CV7/$CS$56,0)-1)) -> -1.7533426 | DI7: =IF($J7="","-",IF($CW7=0,0, $CW7-IFERROR(3600*$CV7/$CS$56,0)-2)) -> -2.7533426 | DJ7: =IF($J7="","-",IF($CW7=0,0, $CW7-IFERROR(3600*$CV7/$CS$56,0)-1)) -> -1.7533426 | DK7: =IF($J7="","-",IF($CW7=0,0, $CW7-IFERROR(3600*$CV7/$CS$56,0))) -> -0.75334262 | DL7: =IF($J7="","-",HLOOKUP(CX7,$DH$5:$DK$55,A7+1, FALSE)) -> -2.7533426 | DM7: =IF($J7="","-",IFERROR(IF(CU7=0,((DA7*(3600/DF7))/($CS$56*((DG7-DB7+1)/DF7))),((DA7*(3600/DF7))/(($CS$56*(((DG7-DB7+1)/DF7)))+((CU7*3600)/DF7)))),0)) -> 0.83101774 | DN7: =IF($J7="","-",CW7/CZ7) -> 0.82352941 | DO7: =IF(AND(I7>DA7,CP7<>"Y"),"Blocked?","OK") -> Blocked? | DP7: 2 | DQ7: High demand at start of green and end of amber
A8: 3 | D8: 13 | E8: 2 | I8: =IF($J8="","-",B8*$L$2+C8*$M$2+D8*$N$2+E8*$O$2+F8*$P$2+G8*$Q$2+H8*$R$2) -> 15 | J8: 0.33991898 | S8: =IF($J8="","-",L8*$L$2+M8*$M$2+N8*$N$2+O8*$O$2+P8*$P$2+Q8*$Q$2+R8*$R$2) -> 0 | T8: 0.33993056 | W8: 6 | X8: 1 | AB8: =IF($J8="","-",U8*$L$2+V8*$M$2+W8*$N$2+X8*$O$2+Y8*$P$2+Z8*$Q$2+AA8*$R$2) -> 7 | AC8: 0.34005787 | AD8: =IF($J8="","-",AC8-T8) -> 0.00012731481 | AM8: =IF($J8="","-",AF8*$L$2+AG8*$M$2+AH8*$N$2+AI8*$O$2+AJ8*$P$2+AK8*$Q$2+AL8*$R$2) -> 0 | AV8: =IF($J8="","-",AO8*$L$2+AP8*$M$2+AQ8*$N$2+AR8*$O$2+AS8*$P$2+AT8*$Q$2+AU8*$R$2) -> 0 | AX8: =IF($J8="","-",AW8-AN8) -> 0 | BG8: =IF($J8="","-",AZ8*$L$2+BA8*$M$2+BB8*$N$2+BC8*$O$2+BD8*$P$2+BE8*$Q$2+BF8*$R$2) -> 0 | BP8: =IF($J8="","-",BI8*$L$2+BJ8*$M$2+BK8*$N$2+BL8*$O$2+BM8*$P$2+BN8*$Q$2+BO8*$R$2) -> 0 | BR8: =IF($J8="","-",BQ8-BH8) -> 0 | CA8: =IF($J8="","-",BT8*$L$2+BU8*$M$2+BV8*$N$2+BW8*$O$2+BX8*$P$2+BY8*$Q$2+BZ8*$R$2) -> 0 | CJ8: =IF($J8="","-",CC8*$L$2+CD8*$M$2+CE8*$N$2+CF8*$O$2+CG8*$P$2+CH8*$Q$2+CI8*$R$2) -> 0 | CL8: 0.34006944 | CM8: 0.34079861 | CN8: =IF($J8="","-",IF(AND(AB8>0,S8=0),"Y","N")) -> Y | CO8: Y | CP8: N | CQ8: =IF($J8="","-",IF(AC8=0,0,AC8-J8)) -> 0.00013888889 | CR8: =IF($J8="","-",IF(AND(I8>=CR$4,CQ8>=CQ$4,CP8="N",S8=0),"Yes","No")) -> No | CS8: =IF($J8="","",IF(S8>0,0,IF(AD8=0,0,AB8/(AD8*24)))) -> 2290.9091 | CU8: =IF(J8="","-",CJ8) -> 0 | CV8: =IF($J8="","-",AB8+AV8+BP8) -> 7 | CW8: =IF($J8="","-",(AD8+AX8+BR8)*86400) -> 11 | CX8: =IF($J8="","-",IF(CP8="Y",2,IF(AND(CN8="y",CO8="y"),2,IF(AND(CN8="y",CO8="n"),1,IF(AND(CN8="n",CO8="y"),3,IF(AND(CN8="n",CO8="n"),4,"error")))))) -> 2 | CY8: =IF($J8="","-",S8+AM8+BG8+CA8) -> 0 | CZ8: =IF($J8="","-",(CL8-J8)*86400) -> 13 | DA8: =IF($J8="","-",CV8+CY8+CU8) -> 7 | DB8: =IF($J8="","-",IF(CW8=0,0,CW8-DD8-DE8)) -> -2.1046665 | DC8: =IF($J8="", "-", IF(AND(CV8=0, CX8=2), 1, IFERROR((DA8*3600)/(IFERROR(CZ8-DB8-2,CZ8-2)*$CS$56+CU8*3600),0))) -> 0.84738261 | DD8: =IF($J8="","-",IF(OR(CX8=1,CX8=3),1,IF(CX8=2,2,IF(CX8=4,0,0)))) -> 2 | DE8: =IF($J8="","-",IFERROR((3600*CV8/$CS$56),0)) -> 11.104666 | DF8: =IF(J8="","-",(CM8-J8)*86400) -> 76 | DG8: =IF($J8="","-",(CL8-J8-(3/86400))*86400) -> 10 | DH8: =IF($J8="","-",IF($CW8=0,0, $CW8-IFERROR(3600*$CV8/$CS$56,0)-1)) -> -1.1046665 | DI8: =IF($J8="","-",IF($CW8=0,0, $CW8-IFERROR(3600*$CV8/$CS$56,0)-2)) -> -2.1046665 | DJ8: =IF($J8="","-",IF($CW8=0,0, $CW8-IFERROR(3600*$CV8/$CS$56,0)-1)) -> -1.1046665 | DK8: =IF($J8="","-",IF($CW8=0,0, $CW8-IFERROR(3600*$CV8/$CS$56,0))) -> -0.10466649 | DL8: =IF($J8="","-",HLOOKUP(CX8,$DH$5:$DK$55,A8+1, FALSE)) -> -2.1046665 | DM8: =IF($J8="","-",IFERROR(IF(CU8=0,((DA8*(3600/DF8))/($CS$56*((DG8-DB8+1)/DF8))),((DA8*(3600/DF8))/(($CS$56*(((DG8-DB8+1)/DF8)))+((CU8*3600)/DF8)))),0)) -> 0.84738261 | DN8: =IF($J8="","-",CW8/CZ8) -> 0.84615385 | DO8: =IF(AND(I8>DA8,CP8<>"Y"),"Blocked?","OK") -> Blocked? | DP8: 3 | DQ8: High demand at end of amber but not start of green
A9: 4 | D9: 13 | I9: =IF($J9="","-",B9*$L$2+C9*$M$2+D9*$N$2+E9*$O$2+F9*$P$2+G9*$Q$2+H9*$R$2) -> 13 | J9: 0.34175926 | S9: =IF($J9="","-",L9*$L$2+M9*$M$2+N9*$N$2+O9*$O$2+P9*$P$2+Q9*$Q$2+R9*$R$2) -> 0 | T9: 0.34177083 | W9: 8 | AB9: =IF($J9="","-",U9*$L$2+V9*$M$2+W9*$N$2+X9*$O$2+Y9*$P$2+Z9*$Q$2+AA9*$R$2) -> 8 | AC9: 0.34190972 | AD9: =IF($J9="","-",AC9-T9) -> 0.00013888889 | AM9: =IF($J9="","-",AF9*$L$2+AG9*$M$2+AH9*$N$2+AI9*$O$2+AJ9*$P$2+AK9*$Q$2+AL9*$R$2) -> 0 | AV9: =IF($J9="","-",AO9*$L$2+AP9*$M$2+AQ9*$N$2+AR9*$O$2+AS9*$P$2+AT9*$Q$2+AU9*$R$2) -> 0 | AX9: =IF($J9="","-",AW9-AN9) -> 0 | BG9: =IF($J9="","-",AZ9*$L$2+BA9*$M$2+BB9*$N$2+BC9*$O$2+BD9*$P$2+BE9*$Q$2+BF9*$R$2) -> 0 | BP9: =IF($J9="","-",BI9*$L$2+BJ9*$M$2+BK9*$N$2+BL9*$O$2+BM9*$P$2+BN9*$Q$2+BO9*$R$2) -> 0 | BR9: =IF($J9="","-",BQ9-BH9) -> 0 | CA9: =IF($J9="","-",BT9*$L$2+BU9*$M$2+BV9*$N$2+BW9*$O$2+BX9*$P$2+BY9*$Q$2+BZ9*$R$2) -> 0 | CJ9: =IF($J9="","-",CC9*$L$2+CD9*$M$2+CE9*$N$2+CF9*$O$2+CG9*$P$2+CH9*$Q$2+CI9*$R$2) -> 0 | CL9: 0.3419213 | CM9: 0.34261574 | CN9: =IF($J9="","-",IF(AND(AB9>0,S9=0),"Y","N")) -> Y | CO9: Y | CP9: N | CQ9: =IF($J9="","-",IF(AC9=0,0,AC9-J9)) -> 0.00015046296 | CR9: =IF($J9="","-",IF(AND(I9>=CR$4,CQ9>=CQ$4,CP9="N",S9=0),"Yes","No")) -> Yes | CS9: =IF($J9="","",IF(S9>0,0,IF(AD9=0,0,AB9/(AD9*24)))) -> 2400 | CU9: =IF(J9="","-",CJ9) -> 0 | CV9: =IF($J9="","-",AB9+AV9+BP9) -> 8 | CW9: =IF($J9="","-",(AD9+AX9+BR9)*86400) -> 12 | CX9: =IF($J9="","-",IF(CP9="Y",2,IF(AND(CN9="y",CO9="y"),2,IF(AND(CN9="y",CO9="n"),1,IF(AND(CN9="n",CO9="y"),3,IF(AND(CN9="n",CO9="n"),4,"error")))))) -> 2 | CY9: =IF($J9="","-",S9+AM9+BG9+CA9) -> 0 | CZ9: =IF($J9="","-",(CL9-J9)*86400) -> 14 | DA9: =IF($J9="","-",CV9+CY9+CU9) -> 8 | DB9: =IF($J9="","-",IF(CW9=0,0,CW9-DD9-DE9)) -> -2.6910474 | DC9: =IF($J9="", "-", IF(AND(CV9=0, CX9=2), 1, IFERROR((DA9*3600)/(IFERROR(CZ9-DB9-2,CZ9-2)*$CS$56+CU9*3600),0))) -> 0.86386267 | DD9: =IF($J9="","-",IF(OR(CX9=1,CX9=3),1,IF(CX9=2,2,IF(CX9=4,0,0)))) -> 2 | DE9: =IF($J9="","-",IFERROR((3600*CV9/$CS$56),0)) -> 12.691047 | DF9: =IF(J9="","-",(CM9-J9)*86400) -> 74 | DG9: =IF($J9="","-",(CL9-J9-(3/86400))*86400) -> 11 | DH9: =IF($J9="","-",IF($CW9=0,0, $CW9-IFERROR(3600*$CV9/$CS$56,0)-1)) -> -1.6910474 | DI9: =IF($J9="","-",IF($CW9=0,0, $CW9-IFERROR(3600*$CV9/$CS$56,0)-2)) -> -2.6910474 | DJ9: =IF($J9="","-",IF($CW9=0,0, $CW9-IFERROR(3600*$CV9/$CS$56,0)-1)) -> -1.6910474 | DK9: =IF($J9="","-",IF($CW9=0,0, $CW9-IFERROR(3600*$CV9/$CS$56,0))) -> -0.69104742 | DL9: =IF($J9="","-",HLOOKUP(CX9,$DH$5:$DK$55,A9+1, FALSE)) -> -2.6910474 | DM9: =IF($J9="","-",IFERROR(IF(CU9=0,((DA9*(3600/DF9))/($CS$56*((DG9-DB9+1)/DF9))),((DA9*(3600/DF9))/(($CS$56*(((DG9-DB9+1)/DF9)))+((CU9*3600)/DF9)))),0)) -> 0.86386267 | DN9: =IF($J9="","-",CW9/CZ9) -> 0.85714286 | DO9: =IF(AND(I9>DA9,CP9<>"Y"),"Blocked?","OK") -> Blocked? | DP9: 4 | DQ9: No high demand at start of green or end of amber
A10: 5 | D10: 11 | I10: =IF($J10="","-",B10*$L$2+C10*$M$2+D10*$N$2+E10*$O$2+F10*$P$2+G10*$Q$2+H10*$R$2) -> 11 | J10: 0.34261574 | S10: =IF($J10="","-",L10*$L$2+M10*$M$2+N10*$N$2+O10*$O$2+P10*$P$2+Q10*$Q$2+R10*$R$2) -> 0 | T10: 0.34262731 | W10: 11 | AB10: =IF($J10="","-",U10*$L$2+V10*$M$2+W10*$N$2+X10*$O$2+Y10*$P$2+Z10*$Q$2+AA10*$R$2) -> 11 | AC10: 0.34283565 | AD10: =IF($J10="","-",AC10-T10) -> 0.00020833333 | AM10: =IF($J10="","-",AF10*$L$2+AG10*$M$2+AH10*$N$2+AI10*$O$2+AJ10*$P$2+AK10*$Q$2+AL10*$R$2) -> 0 | AV10: =IF($J10="","-",AO10*$L$2+AP10*$M$2+AQ10*$N$2+AR10*$O$2+AS10*$P$2+AT10*$Q$2+AU10*$R$2) -> 0 | AX10: =IF($J10="","-",AW10-AN10) -> 0 | BG10: =IF($J10="","-",AZ10*$L$2+BA10*$M$2+BB10*$N$2+BC10*$O$2+BD10*$P$2+BE10*$Q$2+BF10*$R$2) -> 0 | BP10: =IF($J10="","-",BI10*$L$2+BJ10*$M$2+BK10*$N$2+BL10*$O$2+BM10*$P$2+BN10*$Q$2+BO10*$R$2) -> 0 | BR10: =IF($J10="","-",BQ10-BH10) -> 0 | CA10: =IF($J10="","-",BT10*$L$2+BU10*$M$2+BV10*$N$2+BW10*$O$2+BX10*$P$2+BY10*$Q$2+BZ10*$R$2) -> 0 | CJ10: =IF($J10="","-",CC10*$L$2+CD10*$M$2+CE10*$N$2+CF10*$O$2+CG10*$P$2+CH10*$Q$2+CI10*$R$2) -> 0 | CL10: 0.3428588 | CM10: 0.34362269 | CN10: =IF($J10="","-",IF(AND(AB10>0,S10=0),"Y","N")) -> Y | CO10: Y | CP10: N | CQ10: =IF($J10="","-",IF(AC10=0,0,AC10-J10)) -> 0.00021990741 | CR10: =IF($J10="","-",IF(AND(I10>=CR$4,CQ10>=CQ$4,CP10="N",S10=0),"Yes","No")) -> Yes | CS10: =IF($J10="","",IF(S10>0,0,IF(AD10=0,0,AB10/(AD10*24)))) -> 2200 | CU10: =IF(J10="","-",CJ10) -> 0 | CV10: =IF($J10="","-",AB10+AV10+BP10) -> 11 | CW10: =IF($J10="","-",(AD10+AX10+BR10)*86400) -> 18 | CX10: =IF($J10="","-",IF(CP10="Y",2,IF(AND(CN10="y",CO10="y"),2,IF(AND(CN10="y",CO10="n"),1,IF(AND(CN10="n",CO10="y"),3,IF(AND(CN10="n",CO10="n"),4,"error")))))) -> 2 | CY10: =IF($J10="","-",S10+AM10+BG10+CA10) -> 0 | CZ10: =IF($J10="","-",(CL10-J10)*86400) -> 21 | DA10: =IF($J10="","-",CV10+CY10+CU10) -> 11 | DB10: =IF($J10="","-",IF(CW10=0,0,CW10-DD10-DE10)) -> -1.4501902 | DC10: =IF($J10="", "-", IF(AND(CV10=0, CX10=2), 1, IFERROR((DA10*3600)/(IFERROR(CZ10-DB10-2,CZ10-2)*$CS$56+CU10*3600),0))) -> 0.8533021 | DD10: =IF($J10="","-",IF(OR(CX10=1,CX10=3),1,IF(CX10=2,2,IF(CX10=4,0,0)))) -> 2 | DE10: =IF($J10="","-",IFERROR((3600*CV10/$CS$56),0)) -> 17.45019 | DF10: =IF(J10="","-",(CM10-J10)*86400) -> 87 | DG10: =IF($J10="","-",(CL10-J10-(3/86400))*86400) -> 18 | DH10: =IF($J10="","-",IF($CW10=0,0, $CW10-IFERROR(3600*$CV10/$CS$56,0)-1)) -> -0.4501902 | DI10: =IF($J10="","-",IF($CW10=0,0, $CW10-IFERROR(3600*$CV10/$CS$56,0)-2)) -> -1.4501902 | DJ10: =IF($J10="","-",IF($CW10=0,0, $CW10-IFERROR(3600*$CV10/$CS$56,0)-1)) -> -0.4501902 | DK10: =IF($J10="","-",IF($CW10=0,0, $CW10-IFERROR(3600*$CV10/$CS$56,0))) -> 0.5498098 | DL10: =IF($J10="","-",HLOOKUP(CX10,$DH$5:$DK$55,A10+1, FALSE)) -> -1.4501902 | DM10: =IF($J10="","-",IFERROR(IF(CU10=0,((DA10*(3600/DF10))/($CS$56*((DG10-DB10+1)/DF10))),((DA10*(3600/DF10))/(($CS$56*(((DG10-DB10+1)/DF10)))+((CU10*3600)/DF10)))),0)) -> 0.8533021 | DN10: =IF($J10="","-",CW10/CZ10) -> 0.85714286 | DO10: =IF(AND(I10>DA10,CP10<>"Y"),"Blocked?","OK") -> OK
A11: 6 | D11: 12 | H11: 1 | I11: =IF($J11="","-",B11*$L$2+C11*$M$2+D11*$N$2+E11*$O$2+F11*$P$2+G11*$Q$2+H11*$R$2) -> 14 | J11: 0.35269676 | S11: =IF($J11="","-",L11*$L$2+M11*$M$2+N11*$N$2+O11*$O$2+P11*$P$2+Q11*$Q$2+R11*$R$2) -> 0 | T11: 0.35271991 | W11: 13 | AA11: 1 | AB11: =IF($J11="","-",U11*$L$2+V11*$M$2+W11*$N$2+X11*$O$2+Y11*$P$2+Z11*$Q$2+AA11*$R$2) -> 15 | AC11: 0.35300926 | AD11: =IF($J11="","-",AC11-T11) -> 0.00028935185 | AM11: =IF($J11="","-",AF11*$L$2+AG11*$M$2+AH11*$N$2+AI11*$O$2+AJ11*$P$2+AK11*$Q$2+AL11*$R$2) -> 0 | AV11: =IF($J11="","-",AO11*$L$2+AP11*$M$2+AQ11*$N$2+AR11*$O$2+AS11*$P$2+AT11*$Q$2+AU11*$R$2) -> 0 | AX11: =IF($J11="","-",AW11-AN11) -> 0 | BG11: =IF($J11="","-",AZ11*$L$2+BA11*$M$2+BB11*$N$2+BC11*$O$2+BD11*$P$2+BE11*$Q$2+BF11*$R$2) -> 0 | BP11: =IF($J11="","-",BI11*$L$2+BJ11*$M$2+BK11*$N$2+BL11*$O$2+BM11*$P$2+BN11*$Q$2+BO11*$R$2) -> 0 | BR11: =IF($J11="","-",BQ11-BH11) -> 0 | CA11: =IF($J11="","-",BT11*$L$2+BU11*$M$2+BV11*$N$2+BW11*$O$2+BX11*$P$2+BY11*$Q$2+BZ11*$R$2) -> 0 | CJ11: =IF($J11="","-",CC11*$L$2+CD11*$M$2+CE11*$N$2+CF11*$O$2+CG11*$P$2+CH11*$Q$2+CI11*$R$2) -> 0 | CL11: 0.35303241 | CM11: 0.35366898 | CN11: =IF($J11="","-",IF(AND(AB11>0,S11=0),"Y","N")) -> Y | CO11: Y | CP11: N | CQ11: =IF($J11="","-",IF(AC11=0,0,AC11-J11)) -> 0.0003125 | CR11: =IF($J11="","-",IF(AND(I11>=CR$4,CQ11>=CQ$4,CP11="N",S11=0),"Yes","No")) -> Yes | CS11: =IF($J11="","",IF(S11>0,0,IF(AD11=0,0,AB11/(AD11*24)))) -> 2160 | CU11: =IF(J11="","-",CJ11) -> 0 | CV11: =IF($J11="","-",AB11+AV11+BP11) -> 15 | CW11: =IF($J11="","-",(AD11+AX11+BR11)*86400) -> 25 | CX11: =IF($J11="","-",IF(CP11="Y",2,IF(AND(CN11="y",CO11="y"),2,IF(AND(CN11="y",CO11="n"),1,IF(AND(CN11="n",CO11="y"),3,IF(AND(CN11="n",CO11="n"),4,"error")))))) -> 2 | CY11: =IF($J11="","-",S11+AM11+BG11+CA11) -> 0 | CZ11: =IF($J11="","-",(CL11-J11)*86400) -> 29 | DA11: =IF($J11="","-",CV11+CY11+CU11) -> 15 | DB11: =IF($J11="","-",IF(CW11=0,0,CW11-DD11-DE11)) -> -0.79571391 | DC11: =IF($J11="", "-", IF(AND(CV11=0, CX11=2), 1, IFERROR((DA11*3600)/(IFERROR(CZ11-DB11-2,CZ11-2)*$CS$56+CU11*3600),0))) -> 0.85609292 | DD11: =IF($J11="","-",IF(OR(CX11=1,CX11=3),1,IF(CX11=2,2,IF(CX11=4,0,0)))) -> 2 | DE11: =IF($J11="","-",IFERROR((3600*CV11/$CS$56),0)) -> 23.795714 | DF11: =IF(J11="","-",(CM11-J11)*86400) -> 84 | DG11: =IF($J11="","-",(CL11-J11-(3/86400))*86400) -> 26 | DH11: =IF($J11="","-",IF($CW11=0,0, $CW11-IFERROR(3600*$CV11/$CS$56,0)-1)) -> 0.20428609 | DI11: =IF($J11="","-",IF($CW11=0,0, $CW11-IFERROR(3600*$CV11/$CS$56,0)-2)) -> -0.79571391 | DJ11: =IF($J11="","-",IF($CW11=0,0, $CW11-IFERROR(3600*$CV11/$CS$56,0)-1)) -> 0.20428609 | DK11: =IF($J11="","-",IF($CW11=0,0, $CW11-IFERROR(3600*$CV11/$CS$56,0))) -> 1.2042861 | DL11: =IF($J11="","-",HLOOKUP(CX11,$DH$5:$DK$55,A11+1, FALSE)) -> -0.79571391 | DM11: =IF($J11="","-",IFERROR(IF(CU11=0,((DA11*(3600/DF11))/($CS$56*((DG11-DB11+1)/DF11))),((DA11*(3600/DF11))/(($CS$56*(((DG11-DB11+1)/DF11)))+((CU11*3600)/DF11)))),0)) -> 0.85609292 | DN11: =IF($J11="","-",CW11/CZ11) -> 0.86206897 | DO11: =IF(AND(I11>DA11,CP11<>"Y"),"Blocked?","OK") -> OK
A12: 7 | D12: 10 | E12: 1 | I12: =IF($J12="","-",B12*$L$2+C12*$M$2+D12*$N$2+E12*$O$2+F12*$P$2+G12*$Q$2+H12*$R$2) -> 11 | J12: 0.35736111 | S12: =IF($J12="","-",L12*$L$2+M12*$M$2+N12*$N$2+O12*$O$2+P12*$P$2+Q12*$Q$2+R12*$R$2) -> 0 | T12: 0.35738426 | W12: 10 | X12: 1 | AA12: 1 | AB12: =IF($J12="","-",U12*$L$2+V12*$M$2+W12*$N$2+X12*$O$2+Y12*$P$2+Z12*$Q$2+AA12*$R$2) -> 13 | AC12: 0.35762731 | AD12: =IF($J12="","-",AC12-T12) -> 0.00024305556 | AM12: =IF($J12="","-",AF12*$L$2+AG12*$M$2+AH12*$N$2+AI12*$O$2+AJ12*$P$2+AK12*$Q$2+AL12*$R$2) -> 0 | AV12: =IF($J12="","-",AO12*$L$2+AP12*$M$2+AQ12*$N$2+AR12*$O$2+AS12*$P$2+AT12*$Q$2+AU12*$R$2) -> 0 | AX12: =IF($J12="","-",AW12-AN12) -> 0 | BG12: =IF($J12="","-",AZ12*$L$2+BA12*$M$2+BB12*$N$2+BC12*$O$2+BD12*$P$2+BE12*$Q$2+BF12*$R$2) -> 0 | BP12: =IF($J12="","-",BI12*$L$2+BJ12*$M$2+BK12*$N$2+BL12*$O$2+BM12*$P$2+BN12*$Q$2+BO12*$R$2) -> 0 | BR12: =IF($J12="","-",BQ12-BH12) -> 0 | CA12: =IF($J12="","-",BT12*$L$2+BU12*$M$2+BV12*$N$2+BW12*$O$2+BX12*$P$2+BY12*$Q$2+BZ12*$R$2) -> 0 | CJ12: =IF($J12="","-",CC12*$L$2+CD12*$M$2+CE12*$N$2+CF12*$O$2+CG12*$P$2+CH12*$Q$2+CI12*$R$2) -> 0 | CL12: 0.35767361 | CM12: 0.35840278 | CN12: =IF($J12="","-",IF(AND(AB12>0,S12=0),"Y","N")) -> Y | CO12: N | CP12: N | CQ12: =IF($J12="","-",IF(AC12=0,0,AC12-J12)) -> 0.0002662037 | CR12: =IF($J12="","-",IF(AND(I12>=CR$4,CQ12>=CQ$4,CP12="N",S12=0),"Yes","No")) -> Yes | CS12: =IF($J12="","",IF(S12>0,0,IF(AD12=0,0,AB12/(AD12*24)))) -> 2228.5714 | CU12: =IF(J12="","-",CJ12) -> 0 | CV12: =IF($J12="","-",AB12+AV12+BP12) -> 13 | CW12: =IF($J12="","-",(AD12+AX12+BR12)*86400) -> 21 | CX12: =IF($J12="","-",IF(CP12="Y",2,IF(AND(CN12="y",CO12="y"),2,IF(AND(CN12="y",CO12="n"),1,IF(AND(CN12="n",CO12="y"),3,IF(AND(CN12="n",CO12="n"),4,"error")))))) -> 1 | CY12: =IF($J12="","-",S12+AM12+BG12+CA12) -> 0 | CZ12: =IF($J12="","-",(CL12-J12)*86400) -> 27 | DA12: =IF($J12="","-",CV12+CY12+CU12) -> 13 | DB12: =IF($J12="","-",IF(CW12=0,0,CW12-DD12-DE12)) -> -0.62295205 | DC12: =IF($J12="", "-", IF(AND(CV12=0, CX12=2), 1, IFERROR((DA12*3600)/(IFERROR(CZ12-DB12-2,CZ12-2)*$CS$56+CU12*3600),0))) -> 0.80486245 | DD12: =IF($J12="","-",IF(OR(CX12=1,CX12=3),1,IF(CX12=2,2,IF(CX12=4,0,0)))) -> 1 | DE12: =IF($J12="","-",IFERROR((3600*CV12/$CS$56),0)) -> 20.622952 | DF12: =IF(J12="","-",(CM12-J12)*86400) -> 90 | DG12: =IF($J12="","-",(CL12-J12-(3/86400))*86400) -> 24 | DH12: =IF($J12="","-",IF($CW12=0,0, $CW12-IFERROR(3600*$CV12/$CS$56,0)-1)) -> -0.62295205 | DI12: =IF($J12="","-",IF($CW12=0,0, $CW12-IFERROR(3600*$CV12/$CS$56,0)-2)) -> -1.6229521 | DJ12: =IF($J12="","-",IF($CW12=0,0, $CW12-IFERROR(3600*$CV12/$CS$56,0)-1)) -> -0.62295205 | DK12: =IF($J12="","-",IF($CW12=0,0, $CW12-IFERROR(3600*$CV12/$CS$56,0))) -> 0.37704795 | DL12: =IF($J12="","-",HLOOKUP(CX12,$DH$5:$DK$55,A12+1, FALSE)) -> -0.62295205 | DM12: =IF($J12="","-",IFERROR(IF(CU12=0,((DA12*(3600/DF12))/($CS$56*((DG12-DB12+1)/DF12))),((DA12*(3600/DF12))/(($CS$56*(((DG12-DB12+1)/DF12)))+((CU12*3600)/DF12)))),0)) -> 0.80486245 | DN12: =IF($J12="","-",CW12/CZ12) -> 0.77777778 | DO12: =IF(AND(I12>DA12,CP12<>"Y"),"Blocked?","OK") -> OK
A13: 8 | D13: 10 | E13: 2 | F13: 2 | I13: =IF($J13="","-",B13*$L$2+C13*$M$2+D13*$N$2+E13*$O$2+F13*$P$2+G13*$Q$2+H13*$R$2) -> 15 | J13: 0.3649537 | S13: =IF($J13="","-",L13*$L$2+M13*$M$2+N13*$N$2+O13*$O$2+P13*$P$2+Q13*$Q$2+R13*$R$2) -> 0 | T13: 0.36496528 | W13: 5 | X13: 2 | Y13: 1 | AB13: =IF($J13="","-",U13*$L$2+V13*$M$2+W13*$N$2+X13*$O$2+Y13*$P$2+Z13*$Q$2+AA13*$R$2) -> 8.5 | AC13: 0.36511574 | AD13: =IF($J13="","-",AC13-T13) -> 0.00015046296 | AM13: =IF($J13="","-",AF13*$L$2+AG13*$M$2+AH13*$N$2+AI13*$O$2+AJ13*$P$2+AK13*$Q$2+AL13*$R$2) -> 0 | AV13: =IF($J13="","-",AO13*$L$2+AP13*$M$2+AQ13*$N$2+AR13*$O$2+AS13*$P$2+AT13*$Q$2+AU13*$R$2) -> 0 | AX13: =IF($J13="","-",AW13-AN13) -> 0 | BG13: =IF($J13="","-",AZ13*$L$2+BA13*$M$2+BB13*$N$2+BC13*$O$2+BD13*$P$2+BE13*$Q$2+BF13*$R$2) -> 0 | BP13: =IF($J13="","-",BI13*$L$2+BJ13*$M$2+BK13*$N$2+BL13*$O$2+BM13*$P$2+BN13*$Q$2+BO13*$R$2) -> 0 | BR13: =IF($J13="","-",BQ13-BH13) -> 0 | CA13: =IF($J13="","-",BT13*$L$2+BU13*$M$2+BV13*$N$2+BW13*$O$2+BX13*$P$2+BY13*$Q$2+BZ13*$R$2) -> 0 | CJ13: =IF($J13="","-",CC13*$L$2+CD13*$M$2+CE13*$N$2+CF13*$O$2+CG13*$P$2+CH13*$Q$2+CI13*$R$2) -> 0 | CL13: 0.36511574 | CM13: 0.36585648 | CN13: =IF($J13="","-",IF(AND(AB13>0,S13=0),"Y","N")) -> Y | CO13: Y | CP13: N | CQ13: =IF($J13="","-",IF(AC13=0,0,AC13-J13)) -> 0.00016203704 | CR13: =IF($J13="","-",IF(AND(I13>=CR$4,CQ13>=CQ$4,CP13="N",S13=0),"Yes","No")) -> Yes | CS13: =IF($J13="","",IF(S13>0,0,IF(AD13=0,0,AB13/(AD13*24)))) -> 2353.8462 | CU13: =IF(J13="","-",CJ13) -> 0 | CV13: =IF($J13="","-",AB13+AV13+BP13) -> 8.5 | CW13: =IF($J13="","-",(AD13+AX13+BR13)*86400) -> 13 | CX13: =IF($J13="","-",IF(CP13="Y",2,IF(AND(CN13="y",CO13="y"),2,IF(AND(CN13="y",CO13="n"),1,IF(AND(CN13="n",CO13="y"),3,IF(AND(CN13="n",CO13="n"),4,"error")))))) -> 2 | CY13: =IF($J13="","-",S13+AM13+BG13+CA13) -> 0 | CZ13: =IF($J13="","-",(CL13-J13)*86400) -> 14 | DA13: =IF($J13="","-",CV13+CY13+CU13) -> 8.5 | DB13: =IF($J13="","-",IF(CW13=0,0,CW13-DD13-DE13)) -> -2.4842379 | DC13: =IF($J13="", "-", IF(AND(CV13=0, CX13=2), 1, IFERROR((DA13*3600)/(IFERROR(CZ13-DB13-2,CZ13-2)*$CS$56+CU13*3600),0))) -> 0.93095943 | DD13: =IF($J13="","-",IF(OR(CX13=1,CX13=3),1,IF(CX13=2,2,IF(CX13=4,0,0)))) -> 2 | DE13: =IF($J13="","-",IFERROR((3600*CV13/$CS$56),0)) -> 13.484238 | DF13: =IF(J13="","-",(CM13-J13)*86400) -> 78 | DG13: =IF($J13="","-",(CL13-J13-(3/86400))*86400) -> 11 | DH13: =IF($J13="","-",IF($CW13=0,0, $CW13-IFERROR(3600*$CV13/$CS$56,0)-1)) -> -1.4842379 | DI13: =IF($J13="","-",IF($CW13=0,0, $CW13-IFERROR(3600*$CV13/$CS$56,0)-2)) -> -2.4842379 | DJ13: =IF($J13="","-",IF($CW13=0,0, $CW13-IFERROR(3600*$CV13/$CS$56,0)-1)) -> -1.4842379 | DK13: =IF($J13="","-",IF($CW13=0,0, $CW13-IFERROR(3600*$CV13/$CS$56,0))) -> -0.48423788 | DL13: =IF($J13="","-",HLOOKUP(CX13,$DH$5:$DK$55,A13+1, FALSE)) -> -2.4842379 | DM13: =IF($J13="","-",IFERROR(IF(CU13=0,((DA13*(3600/DF13))/($CS$56*((DG13-DB13+1)/DF13))),((DA13*(3600/DF13))/(($CS$56*(((DG13-DB13+1)/DF13)))+((CU13*3600)/DF13)))),0)) -> 0.93095943 | DN13: =IF($J13="","-",CW13/CZ13) -> 0.92857143 | DO13: =IF(AND(I13>DA13,CP13<>"Y"),"Blocked?","OK") -> Blocked?
A14: 9 | D14: 10 | E14: 1 | F14: 1 | I14: =IF($J14="","-",B14*$L$2+C14*$M$2+D14*$N$2+E14*$O$2+F14*$P$2+G14*$Q$2+H14*$R$2) -> 12.5 | J14: 0.36585648 | S14: =IF($J14="","-",L14*$L$2+M14*$M$2+N14*$N$2+O14*$O$2+P14*$P$2+Q14*$Q$2+R14*$R$2) -> 0 | T14: 0.36586806 | W14: 5 | X14: 1 | Y14: 1 | AB14: =IF($J14="","-",U14*$L$2+V14*$M$2+W14*$N$2+X14*$O$2+Y14*$P$2+Z14*$Q$2+AA14*$R$2) -> 7.5 | AC14: 0.36600694 | AD14: =IF($J14="","-",AC14-T14) -> 0.00013888889 | AM14: =IF($J14="","-",AF14*$L$2+AG14*$M$2+AH14*$N$2+AI14*$O$2+AJ14*$P$2+AK14*$Q$2+AL14*$R$2) -> 0 | AV14: =IF($J14="","-",AO14*$L$2+AP14*$M$2+AQ14*$N$2+AR14*$O$2+AS14*$P$2+AT14*$Q$2+AU14*$R$2) -> 0 | AX14: =IF($J14="","-",AW14-AN14) -> 0 | BG14: =IF($J14="","-",AZ14*$L$2+BA14*$M$2+BB14*$N$2+BC14*$O$2+BD14*$P$2+BE14*$Q$2+BF14*$R$2) -> 0 | BP14: =IF($J14="","-",BI14*$L$2+BJ14*$M$2+BK14*$N$2+BL14*$O$2+BM14*$P$2+BN14*$Q$2+BO14*$R$2) -> 0 | BR14: =IF($J14="","-",BQ14-BH14) -> 0 | CA14: =IF($J14="","-",BT14*$L$2+BU14*$M$2+BV14*$N$2+BW14*$O$2+BX14*$P$2+BY14*$Q$2+BZ14*$R$2) -> 0 | CJ14: =IF($J14="","-",CC14*$L$2+CD14*$M$2+CE14*$N$2+CF14*$O$2+CG14*$P$2+CH14*$Q$2+CI14*$R$2) -> 0 | CL14: 0.36600694 | CM14: 0.36678241 | CN14: =IF($J14="","-",IF(AND(AB14>0,S14=0),"Y","N")) -> Y | CO14: Y | CP14: N | CQ14: =IF($J14="","-",IF(AC14=0,0,AC14-J14)) -> 0.00015046296 | CR14: =IF($J14="","-",IF(AND(I14>=CR$4,CQ14>=CQ$4,CP14="N",S14=0),"Yes","No")) -> Yes | CS14: =IF($J14="","",IF(S14>0,0,IF(AD14=0,0,AB14/(AD14*24)))) -> 2250 | CU14: =IF(J14="","-",CJ14) -> 0 | CV14: =IF($J14="","-",AB14+AV14+BP14) -> 7.5 | CW14: =IF($J14="","-",(AD14+AX14+BR14)*86400) -> 12 | CX14: =IF($J14="","-",IF(CP14="Y",2,IF(AND(CN14="y",CO14="y"),2,IF(AND(CN14="y",CO14="n"),1,IF(AND(CN14="n",CO14="y"),3,IF(AND(CN14="n",CO14="n"),4,"error")))))) -> 2 | CY14: =IF($J14="","-",S14+AM14+BG14+CA14) -> 0 | CZ14: =IF($J14="","-",(CL14-J14)*86400) -> 13 | DA14: =IF($J14="","-",CV14+CY14+CU14) -> 7.5 | DB14: =IF($J14="","-",IF(CW14=0,0,CW14-DD14-DE14)) -> -1.897857 | DC14: =IF($J14="", "-", IF(AND(CV14=0, CX14=2), 1, IFERROR((DA14*3600)/(IFERROR(CZ14-DB14-2,CZ14-2)*$CS$56+CU14*3600),0))) -> 0.92246774 | DD14: =IF($J14="","-",IF(OR(CX14=1,CX14=3),1,IF(CX14=2,2,IF(CX14=4,0,0)))) -> 2 | DE14: =IF($J14="","-",IFERROR((3600*CV14/$CS$56),0)) -> 11.897857 | DF14: =IF(J14="","-",(CM14-J14)*86400) -> 80 | DG14: =IF($J14="","-",(CL14-J14-(3/86400))*86400) -> 10 | DH14: =IF($J14="","-",IF($CW14=0,0, $CW14-IFERROR(3600*$CV14/$CS$56,0)-1)) -> -0.89785695 | DI14: =IF($J14="","-",IF($CW14=0,0, $CW14-IFERROR(3600*$CV14/$CS$56,0)-2)) -> -1.897857 | DJ14: =IF($J14="","-",IF($CW14=0,0, $CW14-IFERROR(3600*$CV14/$CS$56,0)-1)) -> -0.89785695 | DK14: =IF($J14="","-",IF($CW14=0,0, $CW14-IFERROR(3600*$CV14/$CS$56,0))) -> 0.10214305 | DL14: =IF($J14="","-",HLOOKUP(CX14,$DH$5:$DK$55,A14+1, FALSE)) -> -1.897857 | DM14: =IF($J14="","-",IFERROR(IF(CU14=0,((DA14*(3600/DF14))/($CS$56*((DG14-DB14+1)/DF14))),((DA14*(3600/DF14))/(($CS$56*(((DG14-DB14+1)/DF14)))+((CU14*3600)/DF14)))),0)) -> 0.92246774 | DN14: =IF($J14="","-",CW14/CZ14) -> 0.92307692 | DO14: =IF(AND(I14>DA14,CP14<>"Y"),"Blocked?","OK") -> Blocked?
A15: 10 | D15: 10 | E15: 3 | G15: 1 | H15: 1 | I15: =IF($J15="","-",B15*$L$2+C15*$M$2+D15*$N$2+E15*$O$2+F15*$P$2+G15*$Q$2+H15*$R$2) -> 17.3 | J15: 0.37232639 | S15: =IF($J15="","-",L15*$L$2+M15*$M$2+N15*$N$2+O15*$O$2+P15*$P$2+Q15*$Q$2+R15*$R$2) -> 0 | T15: 0.37236111 | W15: 7 | X15: 3 | Z15: 1 | AA15: 1 | AB15: =IF($J15="","-",U15*$L$2+V15*$M$2+W15*$N$2+X15*$O$2+Y15*$P$2+Z15*$Q$2+AA15*$R$2) -> 14.3 | AC15: 0.37261574 | AD15: =IF($J15="","-",AC15-T15) -> 0.00025462963 | AM15: =IF($J15="","-",AF15*$L$2+AG15*$M$2+AH15*$N$2+AI15*$O$2+AJ15*$P$2+AK15*$Q$2+AL15*$R$2) -> 0 | AV15: =IF($J15="","-",AO15*$L$2+AP15*$M$2+AQ15*$N$2+AR15*$O$2+AS15*$P$2+AT15*$Q$2+AU15*$R$2) -> 0 | AX15: =IF($J15="","-",AW15-AN15) -> 0 | BG15: =IF($J15="","-",AZ15*$L$2+BA15*$M$2+BB15*$N$2+BC15*$O$2+BD15*$P$2+BE15*$Q$2+BF15*$R$2) -> 0 | BP15: =IF($J15="","-",BI15*$L$2+BJ15*$M$2+BK15*$N$2+BL15*$O$2+BM15*$P$2+BN15*$Q$2+BO15*$R$2) -> 0 | BR15: =IF($J15="","-",BQ15-BH15) -> 0 | CA15: =IF($J15="","-",BT15*$L$2+BU15*$M$2+BV15*$N$2+BW15*$O$2+BX15*$P$2+BY15*$Q$2+BZ15*$R$2) -> 0 | CJ15: =IF($J15="","-",CC15*$L$2+CD15*$M$2+CE15*$N$2+CF15*$O$2+CG15*$P$2+CH15*$Q$2+CI15*$R$2) -> 0 | CL15: 0.37261574 | CM15: 0.37328704 | CN15: =IF($J15="","-",IF(AND(AB15>0,S15=0),"Y","N")) -> Y | CO15: Y | CP15: N | CQ15: =IF($J15="","-",IF(AC15=0,0,AC15-J15)) -> 0.00028935185 | CR15: =IF($J15="","-",IF(AND(I15>=CR$4,CQ15>=CQ$4,CP15="N",S15=0),"Yes","No")) -> Yes | CS15: =IF($J15="","",IF(S15>0,0,IF(AD15=0,0,AB15/(AD15*24)))) -> 2340 | CU15: =IF(J15="","-",CJ15) -> 0 | CV15: =IF($J15="","-",AB15+AV15+BP15) -> 14.3 | CW15: =IF($J15="","-",(AD15+AX15+BR15)*86400) -> 22 | CX15: =IF($J15="","-",IF(CP15="Y",2,IF(AND(CN15="y",CO15="y"),2,IF(AND(CN15="y",CO15="n"),1,IF(AND(CN15="n",CO15="y"),3,IF(AND(CN15="n",CO15="n"),4,"error")))))) -> 2 | CY15: =IF($J15="","-",S15+AM15+BG15+CA15) -> 0 | CZ15: =IF($J15="","-",(CL15-J15)*86400) -> 25 | DA15: =IF($J15="","-",CV15+CY15+CU15) -> 14.3 | DB15: =IF($J15="","-",IF(CW15=0,0,CW15-DD15-DE15)) -> -2.6852473 | DC15: =IF($J15="", "-", IF(AND(CV15=0, CX15=2), 1, IFERROR((DA15*3600)/(IFERROR(CZ15-DB15-2,CZ15-2)*$CS$56+CU15*3600),0))) -> 0.88320144 | DD15: =IF($J15="","-",IF(OR(CX15=1,CX15=3),1,IF(CX15=2,2,IF(CX15=4,0,0)))) -> 2 | DE15: =IF($J15="","-",IFERROR((3600*CV15/$CS$56),0)) -> 22.685247 | DF15: =IF(J15="","-",(CM15-J15)*86400) -> 83 | DG15: =IF($J15="","-",(CL15-J15-(3/86400))*86400) -> 22 | DH15: =IF($J15="","-",IF($CW15=0,0, $CW15-IFERROR(3600*$CV15/$CS$56,0)-1)) -> -1.6852473 | DI15: =IF($J15="","-",IF($CW15=0,0, $CW15-IFERROR(3600*$CV15/$CS$56,0)-2)) -> -2.6852473 | DJ15: =IF($J15="","-",IF($CW15=0,0, $CW15-IFERROR(3600*$CV15/$CS$56,0)-1)) -> -1.6852473 | DK15: =IF($J15="","-",IF($CW15=0,0, $CW15-IFERROR(3600*$CV15/$CS$56,0))) -> -0.68524726 | DL15: =IF($J15="","-",HLOOKUP(CX15,$DH$5:$DK$55,A15+1, FALSE)) -> -2.6852473 | DM15: =IF($J15="","-",IFERROR(IF(CU15=0,((DA15*(3600/DF15))/($CS$56*((DG15-DB15+1)/DF15))),((DA15*(3600/DF15))/(($CS$56*(((DG15-DB15+1)/DF15)))+((CU15*3600)/DF15)))),0)) -> 0.88320144 | DN15: =IF($J15="","-",CW15/CZ15) -> 0.88 | DO15: =IF(AND(I15>DA15,CP15<>"Y"),"Blocked?","OK") -> Blocked?
A16: 11 | I16: =IF($J16="","-",B16*$L$2+C16*$M$2+D16*$N$2+E16*$O$2+F16*$P$2+G16*$Q$2+H16*$R$2) -> - | S16: =IF($J16="","-",L16*$L$2+M16*$M$2+N16*$N$2+O16*$O$2+P16*$P$2+Q16*$Q$2+R16*$R$2) -> - | AB16: =IF($J16="","-",U16*$L$2+V16*$M$2+W16*$N$2+X16*$O$2+Y16*$P$2+Z16*$Q$2+AA16*$R$2) -> - | AD16: =IF($J16="","-",AC16-T16) -> - | AM16: =IF($J16="","-",AF16*$L$2+AG16*$M$2+AH16*$N$2+AI16*$O$2+AJ16*$P$2+AK16*$Q$2+AL16*$R$2) -> - | AV16: =IF($J16="","-",AO16*$L$2+AP16*$M$2+AQ16*$N$2+AR16*$O$2+AS16*$P$2+AT16*$Q$2+AU16*$R$2) -> - | AX16: =IF($J16="","-",AW16-AN16) -> - | BG16: =IF($J16="","-",AZ16*$L$2+BA16*$M$2+BB16*$N$2+BC16*$O$2+BD16*$P$2+BE16*$Q$2+BF16*$R$2) -> - | BP16: =IF($J16="","-",BI16*$L$2+BJ16*$M$2+BK16*$N$2+BL16*$O$2+BM16*$P$2+BN16*$Q$2+BO16*$R$2) -> - | BR16: =IF($J16="","-",BQ16-BH16) -> - | CA16: =IF($J16="","-",BT16*$L$2+BU16*$M$2+BV16*$N$2+BW16*$O$2+BX16*$P$2+BY16*$Q$2+BZ16*$R$2) -> - | CJ16: =IF($J16="","-",CC16*$L$2+CD16*$M$2+CE16*$N$2+CF16*$O$2+CG16*$P$2+CH16*$Q$2+CI16*$R$2) -> - | CN16: =IF($J16="","-",IF(AND(AB16>0,S16=0),"Y","N")) -> - | CQ16: =IF($J16="","-",IF(AC16=0,0,AC16-J16)) -> - | CR16: =IF($J16="","-",IF(AND(I16>=CR$4,CQ16>=CQ$4,CP16="N",S16=0),"Yes","No")) -> - | CS16: =IF($J16="","",IF(S16>0,0,IF(AD16=0,0,AB16/(AD16*24)))) | CU16: =IF(J16="","-",CJ16) -> - | CV16: =IF($J16="","-",AB16+AV16+BP16) -> - | CW16: =IF($J16="","-",(AD16+AX16+BR16)*86400) -> - | CX16: =IF($J16="","-",IF(CP16="Y",2,IF(AND(CN16="y",CO16="y"),2,IF(AND(CN16="y",CO16="n"),1,IF(AND(CN16="n",CO16="y"),3,IF(AND(CN16="n",CO16="n"),4,"error")))))) -> - | CY16: =IF($J16="","-",S16+AM16+BG16+CA16) -> - | CZ16: =IF($J16="","-",(CL16-J16)*86400) -> - | DA16: =IF($J16="","-",CV16+CY16+CU16) -> - | DB16: =IF($J16="","-",IF(CW16=0,0,CW16-DD16-DE16)) -> - | DC16: =IF($J16="", "-", IF(AND(CV16=0, CX16=2), 1, IFERROR((DA16*3600)/(IFERROR(CZ16-DB16-2,CZ16-2)*$CS$56+CU16*3600),0))) -> - | DD16: =IF($J16="","-",IF(OR(CX16=1,CX16=3),1,IF(CX16=2,2,IF(CX16=4,0,0)))) -> - | DE16: =IF($J16="","-",IFERROR((3600*CV16/$CS$56),0)) -> - | DF16: =IF(J16="","-",(CM16-J16)*86400) -> - | DG16: =IF($J16="","-",(CL16-J16-(3/86400))*86400) -> - | DH16: =IF($J16="","-",IF($CW16=0,0, $CW16-IFERROR(3600*$CV16/$CS$56,0)-1)) -> - | DI16: =IF($J16="","-",IF($CW16=0,0, $CW16-IFERROR(3600*$CV16/$CS$56,0)-2)) -> - | DJ16: =IF($J16="","-",IF($CW16=0,0, $CW16-IFERROR(3600*$CV16/$CS$56,0)-1)) -> - | DK16: =IF($J16="","-",IF($CW16=0,0, $CW16-IFERROR(3600*$CV16/$CS$56,0))) -> - | DL16: =IF($J16="","-",HLOOKUP(CX16,$DH$5:$DK$55,A16+1, FALSE)) -> - | DM16: =IF($J16="","-",IFERROR(IF(CU16=0,((DA16*(3600/DF16))/($CS$56*((DG16-DB16+1)/DF16))),((DA16*(3600/DF16))/(($CS$56*(((DG16-DB16+1)/DF16)))+((CU16*3600)/DF16)))),0)) -> - | DN16: =IF($J16="","-",CW16/CZ16) -> - | DO16: =IF(AND(I16>DA16,CP16<>"Y"),"Blocked?","OK") -> OK
A17: 12 | I17: =IF($J17="","-",B17*$L$2+C17*$M$2+D17*$N$2+E17*$O$2+F17*$P$2+G17*$Q$2+H17*$R$2) -> - | S17: =IF($J17="","-",L17*$L$2+M17*$M$2+N17*$N$2+O17*$O$2+P17*$P$2+Q17*$Q$2+R17*$R$2) -> - | AB17: =IF($J17="","-",U17*$L$2+V17*$M$2+W17*$N$2+X17*$O$2+Y17*$P$2+Z17*$Q$2+AA17*$R$2) -> - | AD17: =IF($J17="","-",AC17-T17) -> - | AM17: =IF($J17="","-",AF17*$L$2+AG17*$M$2+AH17*$N$2+AI17*$O$2+AJ17*$P$2+AK17*$Q$2+AL17*$R$2) -> - | AV17: =IF($J17="","-",AO17*$L$2+AP17*$M$2+AQ17*$N$2+AR17*$O$2+AS17*$P$2+AT17*$Q$2+AU17*$R$2) -> - | AX17: =IF($J17="","-",AW17-AN17) -> - | BG17: =IF($J17="","-",AZ17*$L$2+BA17*$M$2+BB17*$N$2+BC17*$O$2+BD17*$P$2+BE17*$Q$2+BF17*$R$2) -> - | BP17: =IF($J17="","-",BI17*$L$2+BJ17*$M$2+BK17*$N$2+BL17*$O$2+BM17*$P$2+BN17*$Q$2+BO17*$R$2) -> - | BR17: =IF($J17="","-",BQ17-BH17) -> - | CA17: =IF($J17="","-",BT17*$L$2+BU17*$M$2+BV17*$N$2+BW17*$O$2+BX17*$P$2+BY17*$Q$2+BZ17*$R$2) -> - | CJ17: =IF($J17="","-",CC17*$L$2+CD17*$M$2+CE17*$N$2+CF17*$O$2+CG17*$P$2+CH17*$Q$2+CI17*$R$2) -> - | CN17: =IF($J17="","-",IF(AND(AB17>0,S17=0),"Y","N")) -> - | CQ17: =IF($J17="","-",IF(AC17=0,0,AC17-J17)) -> - | CR17: =IF($J17="","-",IF(AND(I17>=CR$4,CQ17>=CQ$4,CP17="N",S17=0),"Yes","No")) -> - | CS17: =IF($J17="","",IF(S17>0,0,IF(AD17=0,0,AB17/(AD17*24)))) | CU17: =IF(J17="","-",CJ17) -> - | CV17: =IF($J17="","-",AB17+AV17+BP17) -> - | CW17: =IF($J17="","-",(AD17+AX17+BR17)*86400) -> - | CX17: =IF($J17="","-",IF(CP17="Y",2,IF(AND(CN17="y",CO17="y"),2,IF(AND(CN17="y",CO17="n"),1,IF(AND(CN17="n",CO17="y"),3,IF(AND(CN17="n",CO17="n"),4,"error")))))) -> - | CY17: =IF($J17="","-",S17+AM17+BG17+CA17) -> - | CZ17: =IF($J17="","-",(CL17-J17)*86400) -> - | DA17: =IF($J17="","-",CV17+CY17+CU17) -> - | DB17: =IF($J17="","-",IF(CW17=0,0,CW17-DD17-DE17)) -> - | DC17: =IF($J17="", "-", IF(AND(CV17=0, CX17=2), 1, IFERROR((DA17*3600)/(IFERROR(CZ17-DB17-2,CZ17-2)*$CS$56+CU17*3600),0))) -> - | DD17: =IF($J17="","-",IF(OR(CX17=1,CX17=3),1,IF(CX17=2,2,IF(CX17=4,0,0)))) -> - | DE17: =IF($J17="","-",IFERROR((3600*CV17/$CS$56),0)) -> - | DF17: =IF(J17="","-",(CM17-J17)*86400) -> - | DG17: =IF($J17="","-",(CL17-J17-(3/86400))*86400) -> - | DH17: =IF($J17="","-",IF($CW17=0,0, $CW17-IFERROR(3600*$CV17/$CS$56,0)-1)) -> - | DI17: =IF($J17="","-",IF($CW17=0,0, $CW17-IFERROR(3600*$CV17/$CS$56,0)-2)) -> - | DJ17: =IF($J17="","-",IF($CW17=0,0, $CW17-IFERROR(3600*$CV17/$CS$56,0)-1)) -> - | DK17: =IF($J17="","-",IF($CW17=0,0, $CW17-IFERROR(3600*$CV17/$CS$56,0))) -> - | DL17: =IF($J17="","-",HLOOKUP(CX17,$DH$5:$DK$55,A17+1, FALSE)) -> - | DM17: =IF($J17="","-",IFERROR(IF(CU17=0,((DA17*(3600/DF17))/($CS$56*((DG17-DB17+1)/DF17))),((DA17*(3600/DF17))/(($CS$56*(((DG17-DB17+1)/DF17)))+((CU17*3600)/DF17)))),0)) -> - | DN17: =IF($J17="","-",CW17/CZ17) -> - | DO17: =IF(AND(I17>DA17,CP17<>"Y"),"Blocked?","OK") -> OK
A18: 13 | I18: =IF($J18="","-",B18*$L$2+C18*$M$2+D18*$N$2+E18*$O$2+F18*$P$2+G18*$Q$2+H18*$R$2) -> - | S18: =IF($J18="","-",L18*$L$2+M18*$M$2+N18*$N$2+O18*$O$2+P18*$P$2+Q18*$Q$2+R18*$R$2) -> - | AB18: =IF($J18="","-",U18*$L$2+V18*$M$2+W18*$N$2+X18*$O$2+Y18*$P$2+Z18*$Q$2+AA18*$R$2) -> - | AD18: =IF($J18="","-",AC18-T18) -> - | AM18: =IF($J18="","-",AF18*$L$2+AG18*$M$2+AH18*$N$2+AI18*$O$2+AJ18*$P$2+AK18*$Q$2+AL18*$R$2) -> - | AV18: =IF($J18="","-",AO18*$L$2+AP18*$M$2+AQ18*$N$2+AR18*$O$2+AS18*$P$2+AT18*$Q$2+AU18*$R$2) -> - | AX18: =IF($J18="","-",AW18-AN18) -> - | BG18: =IF($J18="","-",AZ18*$L$2+BA18*$M$2+BB18*$N$2+BC18*$O$2+BD18*$P$2+BE18*$Q$2+BF18*$R$2) -> - | BP18: =IF($J18="","-",BI18*$L$2+BJ18*$M$2+BK18*$N$2+BL18*$O$2+BM18*$P$2+BN18*$Q$2+BO18*$R$2) -> - | BR18: =IF($J18="","-",BQ18-BH18) -> - | CA18: =IF($J18="","-",BT18*$L$2+BU18*$M$2+BV18*$N$2+BW18*$O$2+BX18*$P$2+BY18*$Q$2+BZ18*$R$2) -> - | CJ18: =IF($J18="","-",CC18*$L$2+CD18*$M$2+CE18*$N$2+CF18*$O$2+CG18*$P$2+CH18*$Q$2+CI18*$R$2) -> - | CN18: =IF($J18="","-",IF(AND(AB18>0,S18=0),"Y","N")) -> - | CQ18: =IF($J18="","-",IF(AC18=0,0,AC18-J18)) -> - | CR18: =IF($J18="","-",IF(AND(I18>=CR$4,CQ18>=CQ$4,CP18="N",S18=0),"Yes","No")) -> - | CS18: =IF($J18="","",IF(S18>0,0,IF(AD18=0,0,AB18/(AD18*24)))) | CU18: =IF(J18="","-",CJ18) -> - | CV18: =IF($J18="","-",AB18+AV18+BP18) -> - | CW18: =IF($J18="","-",(AD18+AX18+BR18)*86400) -> - | CX18: =IF($J18="","-",IF(CP18="Y",2,IF(AND(CN18="y",CO18="y"),2,IF(AND(CN18="y",CO18="n"),1,IF(AND(CN18="n",CO18="y"),3,IF(AND(CN18="n",CO18="n"),4,"error")))))) -> - | CY18: =IF($J18="","-",S18+AM18+BG18+CA18) -> - | CZ18: =IF($J18="","-",(CL18-J18)*86400) -> - | DA18: =IF($J18="","-",CV18+CY18+CU18) -> - | DB18: =IF($J18="","-",IF(CW18=0,0,CW18-DD18-DE18)) -> - | DC18: =IF($J18="", "-", IF(AND(CV18=0, CX18=2), 1, IFERROR((DA18*3600)/(IFERROR(CZ18-DB18-2,CZ18-2)*$CS$56+CU18*3600),0))) -> - | DD18: =IF($J18="","-",IF(OR(CX18=1,CX18=3),1,IF(CX18=2,2,IF(CX18=4,0,0)))) -> - | DE18: =IF($J18="","-",IFERROR((3600*CV18/$CS$56),0)) -> - | DF18: =IF(J18="","-",(CM18-J18)*86400) -> - | DG18: =IF($J18="","-",(CL18-J18-(3/86400))*86400) -> - | DH18: =IF($J18="","-",IF($CW18=0,0, $CW18-IFERROR(3600*$CV18/$CS$56,0)-1)) -> - | DI18: =IF($J18="","-",IF($CW18=0,0, $CW18-IFERROR(3600*$CV18/$CS$56,0)-2)) -> - | DJ18: =IF($J18="","-",IF($CW18=0,0, $CW18-IFERROR(3600*$CV18/$CS$56,0)-1)) -> - | DK18: =IF($J18="","-",IF($CW18=0,0, $CW18-IFERROR(3600*$CV18/$CS$56,0))) -> - | DL18: =IF($J18="","-",HLOOKUP(CX18,$DH$5:$DK$55,A18+1, FALSE)) -> - | DM18: =IF($J18="","-",IFERROR(IF(CU18=0,((DA18*(3600/DF18))/($CS$56*((DG18-DB18+1)/DF18))),((DA18*(3600/DF18))/(($CS$56*(((DG18-DB18+1)/DF18)))+((CU18*3600)/DF18)))),0)) -> - | DN18: =IF($J18="","-",CW18/CZ18) -> - | DO18: =IF(AND(I18>DA18,CP18<>"Y"),"Blocked?","OK") -> OK
A19: 14 | I19: =IF($J19="","-",B19*$L$2+C19*$M$2+D19*$N$2+E19*$O$2+F19*$P$2+G19*$Q$2+H19*$R$2) -> - | S19: =IF($J19="","-",L19*$L$2+M19*$M$2+N19*$N$2+O19*$O$2+P19*$P$2+Q19*$Q$2+R19*$R$2) -> - | AB19: =IF($J19="","-",U19*$L$2+V19*$M$2+W19*$N$2+X19*$O$2+Y19*$P$2+Z19*$Q$2+AA19*$R$2) -> - | AD19: =IF($J19="","-",AC19-T19) -> - | AM19: =IF($J19="","-",AF19*$L$2+AG19*$M$2+AH19*$N$2+AI19*$O$2+AJ19*$P$2+AK19*$Q$2+AL19*$R$2) -> - | AV19: =IF($J19="","-",AO19*$L$2+AP19*$M$2+AQ19*$N$2+AR19*$O$2+AS19*$P$2+AT19*$Q$2+AU19*$R$2) -> - | AX19: =IF($J19="","-",AW19-AN19) -> - | BG19: =IF($J19="","-",AZ19*$L$2+BA19*$M$2+BB19*$N$2+BC19*$O$2+BD19*$P$2+BE19*$Q$2+BF19*$R$2) -> - | BP19: =IF($J19="","-",BI19*$L$2+BJ19*$M$2+BK19*$N$2+BL19*$O$2+BM19*$P$2+BN19*$Q$2+BO19*$R$2) -> - | BR19: =IF($J19="","-",BQ19-BH19) -> - | CA19: =IF($J19="","-",BT19*$L$2+BU19*$M$2+BV19*$N$2+BW19*$O$2+BX19*$P$2+BY19*$Q$2+BZ19*$R$2) -> - | CJ19: =IF($J19="","-",CC19*$L$2+CD19*$M$2+CE19*$N$2+CF19*$O$2+CG19*$P$2+CH19*$Q$2+CI19*$R$2) -> - | CN19: =IF($J19="","-",IF(AND(AB19>0,S19=0),"Y","N")) -> - | CQ19: =IF($J19="","-",IF(AC19=0,0,AC19-J19)) -> - | CR19: =IF($J19="","-",IF(AND(I19>=CR$4,CQ19>=CQ$4,CP19="N",S19=0),"Yes","No")) -> - | CS19: =IF($J19="","",IF(S19>0,0,IF(AD19=0,0,AB19/(AD19*24)))) | CU19: =IF(J19="","-",CJ19) -> - | CV19: =IF($J19="","-",AB19+AV19+BP19) -> - | CW19: =IF($J19="","-",(AD19+AX19+BR19)*86400) -> - | CX19: =IF($J19="","-",IF(CP19="Y",2,IF(AND(CN19="y",CO19="y"),2,IF(AND(CN19="y",CO19="n"),1,IF(AND(CN19="n",CO19="y"),3,IF(AND(CN19="n",CO19="n"),4,"error")))))) -> - | CY19: =IF($J19="","-",S19+AM19+BG19+CA19) -> - | CZ19: =IF($J19="","-",(CL19-J19)*86400) -> - | DA19: =IF($J19="","-",CV19+CY19+CU19) -> - | DB19: =IF($J19="","-",IF(CW19=0,0,CW19-DD19-DE19)) -> - | DC19: =IF($J19="", "-", IF(AND(CV19=0, CX19=2), 1, IFERROR((DA19*3600)/(IFERROR(CZ19-DB19-2,CZ19-2)*$CS$56+CU19*3600),0))) -> - | DD19: =IF($J19="","-",IF(OR(CX19=1,CX19=3),1,IF(CX19=2,2,IF(CX19=4,0,0)))) -> - | DE19: =IF($J19="","-",IFERROR((3600*CV19/$CS$56),0)) -> - | DF19: =IF(J19="","-",(CM19-J19)*86400) -> - | DG19: =IF($J19="","-",(CL19-J19-(3/86400))*86400) -> - | DH19: =IF($J19="","-",IF($CW19=0,0, $CW19-IFERROR(3600*$CV19/$CS$56,0)-1)) -> - | DI19: =IF($J19="","-",IF($CW19=0,0, $CW19-IFERROR(3600*$CV19/$CS$56,0)-2)) -> - | DJ19: =IF($J19="","-",IF($CW19=0,0, $CW19-IFERROR(3600*$CV19/$CS$56,0)-1)) -> - | DK19: =IF($J19="","-",IF($CW19=0,0, $CW19-IFERROR(3600*$CV19/$CS$56,0))) -> - | DL19: =IF($J19="","-",HLOOKUP(CX19,$DH$5:$DK$55,A19+1, FALSE)) -> - | DM19: =IF($J19="","-",IFERROR(IF(CU19=0,((DA19*(3600/DF19))/($CS$56*((DG19-DB19+1)/DF19))),((DA19*(3600/DF19))/(($CS$56*(((DG19-DB19+1)/DF19)))+((CU19*3600)/DF19)))),0)) -> - | DN19: =IF($J19="","-",CW19/CZ19) -> - | DO19: =IF(AND(I19>DA19,CP19<>"Y"),"Blocked?","OK") -> OK
A20: 15 | I20: =IF($J20="","-",B20*$L$2+C20*$M$2+D20*$N$2+E20*$O$2+F20*$P$2+G20*$Q$2+H20*$R$2) -> - | S20: =IF($J20="","-",L20*$L$2+M20*$M$2+N20*$N$2+O20*$O$2+P20*$P$2+Q20*$Q$2+R20*$R$2) -> - | AB20: =IF($J20="","-",U20*$L$2+V20*$M$2+W20*$N$2+X20*$O$2+Y20*$P$2+Z20*$Q$2+AA20*$R$2) -> - | AD20: =IF($J20="","-",AC20-T20) -> - | AM20: =IF($J20="","-",AF20*$L$2+AG20*$M$2+AH20*$N$2+AI20*$O$2+AJ20*$P$2+AK20*$Q$2+AL20*$R$2) -> - | AV20: =IF($J20="","-",AO20*$L$2+AP20*$M$2+AQ20*$N$2+AR20*$O$2+AS20*$P$2+AT20*$Q$2+AU20*$R$2) -> - | AX20: =IF($J20="","-",AW20-AN20) -> - | BG20: =IF($J20="","-",AZ20*$L$2+BA20*$M$2+BB20*$N$2+BC20*$O$2+BD20*$P$2+BE20*$Q$2+BF20*$R$2) -> - | BP20: =IF($J20="","-",BI20*$L$2+BJ20*$M$2+BK20*$N$2+BL20*$O$2+BM20*$P$2+BN20*$Q$2+BO20*$R$2) -> - | BR20: =IF($J20="","-",BQ20-BH20) -> - | CA20: =IF($J20="","-",BT20*$L$2+BU20*$M$2+BV20*$N$2+BW20*$O$2+BX20*$P$2+BY20*$Q$2+BZ20*$R$2) -> - | CJ20: =IF($J20="","-",CC20*$L$2+CD20*$M$2+CE20*$N$2+CF20*$O$2+CG20*$P$2+CH20*$Q$2+CI20*$R$2) -> - | CN20: =IF($J20="","-",IF(AND(AB20>0,S20=0),"Y","N")) -> - | CQ20: =IF($J20="","-",IF(AC20=0,0,AC20-J20)) -> - | CR20: =IF($J20="","-",IF(AND(I20>=CR$4,CQ20>=CQ$4,CP20="N",S20=0),"Yes","No")) -> - | CS20: =IF($J20="","",IF(S20>0,0,IF(AD20=0,0,AB20/(AD20*24)))) | CU20: =IF(J20="","-",CJ20) -> - | CV20: =IF($J20="","-",AB20+AV20+BP20) -> - | CW20: =IF($J20="","-",(AD20+AX20+BR20)*86400) -> - | CX20: =IF($J20="","-",IF(CP20="Y",2,IF(AND(CN20="y",CO20="y"),2,IF(AND(CN20="y",CO20="n"),1,IF(AND(CN20="n",CO20="y"),3,IF(AND(CN20="n",CO20="n"),4,"error")))))) -> - | CY20: =IF($J20="","-",S20+AM20+BG20+CA20) -> - | CZ20: =IF($J20="","-",(CL20-J20)*86400) -> - | DA20: =IF($J20="","-",CV20+CY20+CU20) -> - | DB20: =IF($J20="","-",IF(CW20=0,0,CW20-DD20-DE20)) -> - | DC20: =IF($J20="", "-", IF(AND(CV20=0, CX20=2), 1, IFERROR((DA20*3600)/(IFERROR(CZ20-DB20-2,CZ20-2)*$CS$56+CU20*3600),0))) -> - | DD20: =IF($J20="","-",IF(OR(CX20=1,CX20=3),1,IF(CX20=2,2,IF(CX20=4,0,0)))) -> - | DE20: =IF($J20="","-",IFERROR((3600*CV20/$CS$56),0)) -> - | DF20: =IF(J20="","-",(CM20-J20)*86400) -> - | DG20: =IF($J20="","-",(CL20-J20-(3/86400))*86400) -> - | DH20: =IF($J20="","-",IF($CW20=0,0, $CW20-IFERROR(3600*$CV20/$CS$56,0)-1)) -> - | DI20: =IF($J20="","-",IF($CW20=0,0, $CW20-IFERROR(3600*$CV20/$CS$56,0)-2)) -> - | DJ20: =IF($J20="","-",IF($CW20=0,0, $CW20-IFERROR(3600*$CV20/$CS$56,0)-1)) -> - | DK20: =IF($J20="","-",IF($CW20=0,0, $CW20-IFERROR(3600*$CV20/$CS$56,0))) -> - | DL20: =IF($J20="","-",HLOOKUP(CX20,$DH$5:$DK$55,A20+1, FALSE)) -> - | DM20: =IF($J20="","-",IFERROR(IF(CU20=0,((DA20*(3600/DF20))/($CS$56*((DG20-DB20+1)/DF20))),((DA20*(3600/DF20))/(($CS$56*(((DG20-DB20+1)/DF20)))+((CU20*3600)/DF20)))),0)) -> - | DN20: =IF($J20="","-",CW20/CZ20) -> - | DO20: =IF(AND(I20>DA20,CP20<>"Y"),"Blocked?","OK") -> OK
A21: 16 | I21: =IF($J21="","-",B21*$L$2+C21*$M$2+D21*$N$2+E21*$O$2+F21*$P$2+G21*$Q$2+H21*$R$2) -> - | S21: =IF($J21="","-",L21*$L$2+M21*$M$2+N21*$N$2+O21*$O$2+P21*$P$2+Q21*$Q$2+R21*$R$2) -> - | AB21: =IF($J21="","-",U21*$L$2+V21*$M$2+W21*$N$2+X21*$O$2+Y21*$P$2+Z21*$Q$2+AA21*$R$2) -> - | AD21: =IF($J21="","-",AC21-T21) -> - | AM21: =IF($J21="","-",AF21*$L$2+AG21*$M$2+AH21*$N$2+AI21*$O$2+AJ21*$P$2+AK21*$Q$2+AL21*$R$2) -> - | AV21: =IF($J21="","-",AO21*$L$2+AP21*$M$2+AQ21*$N$2+AR21*$O$2+AS21*$P$2+AT21*$Q$2+AU21*$R$2) -> - | AX21: =IF($J21="","-",AW21-AN21) -> - | BG21: =IF($J21="","-",AZ21*$L$2+BA21*$M$2+BB21*$N$2+BC21*$O$2+BD21*$P$2+BE21*$Q$2+BF21*$R$2) -> - | BP21: =IF($J21="","-",BI21*$L$2+BJ21*$M$2+BK21*$N$2+BL21*$O$2+BM21*$P$2+BN21*$Q$2+BO21*$R$2) -> - | BR21: =IF($J21="","-",BQ21-BH21) -> - | CA21: =IF($J21="","-",BT21*$L$2+BU21*$M$2+BV21*$N$2+BW21*$O$2+BX21*$P$2+BY21*$Q$2+BZ21*$R$2) -> - | CJ21: =IF($J21="","-",CC21*$L$2+CD21*$M$2+CE21*$N$2+CF21*$O$2+CG21*$P$2+CH21*$Q$2+CI21*$R$2) -> - | CN21: =IF($J21="","-",IF(AND(AB21>0,S21=0),"Y","N")) -> - | CQ21: =IF($J21="","-",IF(AC21=0,0,AC21-J21)) -> - | CR21: =IF($J21="","-",IF(AND(I21>=CR$4,CQ21>=CQ$4,CP21="N",S21=0),"Yes","No")) -> - | CS21: =IF($J21="","",IF(S21>0,0,IF(AD21=0,0,AB21/(AD21*24)))) | CU21: =IF(J21="","-",CJ21) -> - | CV21: =IF($J21="","-",AB21+AV21+BP21) -> - | CW21: =IF($J21="","-",(AD21+AX21+BR21)*86400) -> - | CX21: =IF($J21="","-",IF(CP21="Y",2,IF(AND(CN21="y",CO21="y"),2,IF(AND(CN21="y",CO21="n"),1,IF(AND(CN21="n",CO21="y"),3,IF(AND(CN21="n",CO21="n"),4,"error")))))) -> - | CY21: =IF($J21="","-",S21+AM21+BG21+CA21) -> - | CZ21: =IF($J21="","-",(CL21-J21)*86400) -> - | DA21: =IF($J21="","-",CV21+CY21+CU21) -> - | DB21: =IF($J21="","-",IF(CW21=0,0,CW21-DD21-DE21)) -> - | DC21: =IF($J21="", "-", IF(AND(CV21=0, CX21=2), 1, IFERROR((DA21*3600)/(IFERROR(CZ21-DB21-2,CZ21-2)*$CS$56+CU21*3600),0))) -> - | DD21: =IF($J21="","-",IF(OR(CX21=1,CX21=3),1,IF(CX21=2,2,IF(CX21=4,0,0)))) -> - | DE21: =IF($J21="","-",IFERROR((3600*CV21/$CS$56),0)) -> - | DF21: =IF(J21="","-",(CM21-J21)*86400) -> - | DG21: =IF($J21="","-",(CL21-J21-(3/86400))*86400) -> - | DH21: =IF($J21="","-",IF($CW21=0,0, $CW21-IFERROR(3600*$CV21/$CS$56,0)-1)) -> - | DI21: =IF($J21="","-",IF($CW21=0,0, $CW21-IFERROR(3600*$CV21/$CS$56,0)-2)) -> - | DJ21: =IF($J21="","-",IF($CW21=0,0, $CW21-IFERROR(3600*$CV21/$CS$56,0)-1)) -> - | DK21: =IF($J21="","-",IF($CW21=0,0, $CW21-IFERROR(3600*$CV21/$CS$56,0))) -> - | DL21: =IF($J21="","-",HLOOKUP(CX21,$DH$5:$DK$55,A21+1, FALSE)) -> - | DM21: =IF($J21="","-",IFERROR(IF(CU21=0,((DA21*(3600/DF21))/($CS$56*((DG21-DB21+1)/DF21))),((DA21*(3600/DF21))/(($CS$56*(((DG21-DB21+1)/DF21)))+((CU21*3600)/DF21)))),0)) -> - | DN21: =IF($J21="","-",CW21/CZ21) -> - | DO21: =IF(AND(I21>DA21,CP21<>"Y"),"Blocked?","OK") -> OK
A22: 17 | I22: =IF($J22="","-",B22*$L$2+C22*$M$2+D22*$N$2+E22*$O$2+F22*$P$2+G22*$Q$2+H22*$R$2) -> - | S22: =IF($J22="","-",L22*$L$2+M22*$M$2+N22*$N$2+O22*$O$2+P22*$P$2+Q22*$Q$2+R22*$R$2) -> - | AB22: =IF($J22="","-",U22*$L$2+V22*$M$2+W22*$N$2+X22*$O$2+Y22*$P$2+Z22*$Q$2+AA22*$R$2) -> - | AD22: =IF($J22="","-",AC22-T22) -> - | AM22: =IF($J22="","-",AF22*$L$2+AG22*$M$2+AH22*$N$2+AI22*$O$2+AJ22*$P$2+AK22*$Q$2+AL22*$R$2) -> - | AV22: =IF($J22="","-",AO22*$L$2+AP22*$M$2+AQ22*$N$2+AR22*$O$2+AS22*$P$2+AT22*$Q$2+AU22*$R$2) -> - | AX22: =IF($J22="","-",AW22-AN22) -> - | BG22: =IF($J22="","-",AZ22*$L$2+BA22*$M$2+BB22*$N$2+BC22*$O$2+BD22*$P$2+BE22*$Q$2+BF22*$R$2) -> - | BP22: =IF($J22="","-",BI22*$L$2+BJ22*$M$2+BK22*$N$2+BL22*$O$2+BM22*$P$2+BN22*$Q$2+BO22*$R$2) -> - | BR22: =IF($J22="","-",BQ22-BH22) -> - | CA22: =IF($J22="","-",BT22*$L$2+BU22*$M$2+BV22*$N$2+BW22*$O$2+BX22*$P$2+BY22*$Q$2+BZ22*$R$2) -> - | CJ22: =IF($J22="","-",CC22*$L$2+CD22*$M$2+CE22*$N$2+CF22*$O$2+CG22*$P$2+CH22*$Q$2+CI22*$R$2) -> - | CN22: =IF($J22="","-",IF(AND(AB22>0,S22=0),"Y","N")) -> - | CQ22: =IF($J22="","-",IF(AC22=0,0,AC22-J22)) -> - | CR22: =IF($J22="","-",IF(AND(I22>=CR$4,CQ22>=CQ$4,CP22="N",S22=0),"Yes","No")) -> - | CS22: =IF($J22="","",IF(S22>0,0,IF(AD22=0,0,AB22/(AD22*24)))) | CU22: =IF(J22="","-",CJ22) -> - | CV22: =IF($J22="","-",AB22+AV22+BP22) -> - | CW22: =IF($J22="","-",(AD22+AX22+BR22)*86400) -> - | CX22: =IF($J22="","-",IF(CP22="Y",2,IF(AND(CN22="y",CO22="y"),2,IF(AND(CN22="y",CO22="n"),1,IF(AND(CN22="n",CO22="y"),3,IF(AND(CN22="n",CO22="n"),4,"error")))))) -> - | CY22: =IF($J22="","-",S22+AM22+BG22+CA22) -> - | CZ22: =IF($J22="","-",(CL22-J22)*86400) -> - | DA22: =IF($J22="","-",CV22+CY22+CU22) -> - | DB22: =IF($J22="","-",IF(CW22=0,0,CW22-DD22-DE22)) -> - | DC22: =IF($J22="", "-", IF(AND(CV22=0, CX22=2), 1, IFERROR((DA22*3600)/(IFERROR(CZ22-DB22-2,CZ22-2)*$CS$56+CU22*3600),0))) -> - | DD22: =IF($J22="","-",IF(OR(CX22=1,CX22=3),1,IF(CX22=2,2,IF(CX22=4,0,0)))) -> - | DE22: =IF($J22="","-",IFERROR((3600*CV22/$CS$56),0)) -> - | DF22: =IF(J22="","-",(CM22-J22)*86400) -> - | DG22: =IF($J22="","-",(CL22-J22-(3/86400))*86400) -> - | DH22: =IF($J22="","-",IF($CW22=0,0, $CW22-IFERROR(3600*$CV22/$CS$56,0)-1)) -> - | DI22: =IF($J22="","-",IF($CW22=0,0, $CW22-IFERROR(3600*$CV22/$CS$56,0)-2)) -> - | DJ22: =IF($J22="","-",IF($CW22=0,0, $CW22-IFERROR(3600*$CV22/$CS$56,0)-1)) -> - | DK22: =IF($J22="","-",IF($CW22=0,0, $CW22-IFERROR(3600*$CV22/$CS$56,0))) -> - | DL22: =IF($J22="","-",HLOOKUP(CX22,$DH$5:$DK$55,A22+1, FALSE)) -> - | DM22: =IF($J22="","-",IFERROR(IF(CU22=0,((DA22*(3600/DF22))/($CS$56*((DG22-DB22+1)/DF22))),((DA22*(3600/DF22))/(($CS$56*(((DG22-DB22+1)/DF22)))+((CU22*3600)/DF22)))),0)) -> - | DN22: =IF($J22="","-",CW22/CZ22) -> - | DO22: =IF(AND(I22>DA22,CP22<>"Y"),"Blocked?","OK") -> OK
A23: 18 | I23: =IF($J23="","-",B23*$L$2+C23*$M$2+D23*$N$2+E23*$O$2+F23*$P$2+G23*$Q$2+H23*$R$2) -> - | S23: =IF($J23="","-",L23*$L$2+M23*$M$2+N23*$N$2+O23*$O$2+P23*$P$2+Q23*$Q$2+R23*$R$2) -> - | AB23: =IF($J23="","-",U23*$L$2+V23*$M$2+W23*$N$2+X23*$O$2+Y23*$P$2+Z23*$Q$2+AA23*$R$2) -> - | AD23: =IF($J23="","-",AC23-T23) -> - | AM23: =IF($J23="","-",AF23*$L$2+AG23*$M$2+AH23*$N$2+AI23*$O$2+AJ23*$P$2+AK23*$Q$2+AL23*$R$2) -> - | AV23: =IF($J23="","-",AO23*$L$2+AP23*$M$2+AQ23*$N$2+AR23*$O$2+AS23*$P$2+AT23*$Q$2+AU23*$R$2) -> - | AX23: =IF($J23="","-",AW23-AN23) -> - | BG23: =IF($J23="","-",AZ23*$L$2+BA23*$M$2+BB23*$N$2+BC23*$O$2+BD23*$P$2+BE23*$Q$2+BF23*$R$2) -> - | BP23: =IF($J23="","-",BI23*$L$2+BJ23*$M$2+BK23*$N$2+BL23*$O$2+BM23*$P$2+BN23*$Q$2+BO23*$R$2) -> - | BR23: =IF($J23="","-",BQ23-BH23) -> - | CA23: =IF($J23="","-",BT23*$L$2+BU23*$M$2+BV23*$N$2+BW23*$O$2+BX23*$P$2+BY23*$Q$2+BZ23*$R$2) -> - | CJ23: =IF($J23="","-",CC23*$L$2+CD23*$M$2+CE23*$N$2+CF23*$O$2+CG23*$P$2+CH23*$Q$2+CI23*$R$2) -> - | CN23: =IF($J23="","-",IF(AND(AB23>0,S23=0),"Y","N")) -> - | CQ23: =IF($J23="","-",IF(AC23=0,0,AC23-J23)) -> - | CR23: =IF($J23="","-",IF(AND(I23>=CR$4,CQ23>=CQ$4,CP23="N",S23=0),"Yes","No")) -> - | CS23: =IF($J23="","",IF(S23>0,0,IF(AD23=0,0,AB23/(AD23*24)))) | CU23: =IF(J23="","-",CJ23) -> - | CV23: =IF($J23="","-",AB23+AV23+BP23) -> - | CW23: =IF($J23="","-",(AD23+AX23+BR23)*86400) -> - | CX23: =IF($J23="","-",IF(CP23="Y",2,IF(AND(CN23="y",CO23="y"),2,IF(AND(CN23="y",CO23="n"),1,IF(AND(CN23="n",CO23="y"),3,IF(AND(CN23="n",CO23="n"),4,"error")))))) -> - | CY23: =IF($J23="","-",S23+AM23+BG23+CA23) -> - | CZ23: =IF($J23="","-",(CL23-J23)*86400) -> - | DA23: =IF($J23="","-",CV23+CY23+CU23) -> - | DB23: =IF($J23="","-",IF(CW23=0,0,CW23-DD23-DE23)) -> - | DC23: =IF($J23="", "-", IF(AND(CV23=0, CX23=2), 1, IFERROR((DA23*3600)/(IFERROR(CZ23-DB23-2,CZ23-2)*$CS$56+CU23*3600),0))) -> - | DD23: =IF($J23="","-",IF(OR(CX23=1,CX23=3),1,IF(CX23=2,2,IF(CX23=4,0,0)))) -> - | DE23: =IF($J23="","-",IFERROR((3600*CV23/$CS$56),0)) -> - | DF23: =IF(J23="","-",(CM23-J23)*86400) -> - | DG23: =IF($J23="","-",(CL23-J23-(3/86400))*86400) -> - | DH23: =IF($J23="","-",IF($CW23=0,0, $CW23-IFERROR(3600*$CV23/$CS$56,0)-1)) -> - | DI23: =IF($J23="","-",IF($CW23=0,0, $CW23-IFERROR(3600*$CV23/$CS$56,0)-2)) -> - | DJ23: =IF($J23="","-",IF($CW23=0,0, $CW23-IFERROR(3600*$CV23/$CS$56,0)-1)) -> - | DK23: =IF($J23="","-",IF($CW23=0,0, $CW23-IFERROR(3600*$CV23/$CS$56,0))) -> - | DL23: =IF($J23="","-",HLOOKUP(CX23,$DH$5:$DK$55,A23+1, FALSE)) -> - | DM23: =IF($J23="","-",IFERROR(IF(CU23=0,((DA23*(3600/DF23))/($CS$56*((DG23-DB23+1)/DF23))),((DA23*(3600/DF23))/(($CS$56*(((DG23-DB23+1)/DF23)))+((CU23*3600)/DF23)))),0)) -> - | DN23: =IF($J23="","-",CW23/CZ23) -> - | DO23: =IF(AND(I23>DA23,CP23<>"Y"),"Blocked?","OK") -> OK
