Workbook
Name car: #REF!
Name car: #REF!
Name car: #REF!
Name car: #REF!
Name car: #REF!
Name car: #REF!
Name car: #REF!
Name car: #REF!
Name car: #REF!
Name car: #REF!
Name coach: #REF!
Name coach: #REF!
Name coach: #REF!
Name coach: #REF!
Name coach: #REF!
Name coach: #REF!
Name coach: #REF!
Name coach: #REF!
Name coach: #REF!
Name coach: #REF!
Name lgv: #REF!
Name lgv: #REF!
Name lgv: #REF!
Name lgv: #REF!
Name lgv: #REF!
Name lgv: #REF!
Name lgv: #REF!
Name lgv: #REF!
Name lgv: #REF!
Name lgv: #REF!
Name mcl: #REF!
Name mcl: #REF!
Name mcl: #REF!
Name mcl: #REF!
Name mcl: #REF!
Name mcl: #REF!
Name mcl: #REF!
Name mcl: #REF!
Name mcl: #REF!
Name mcl: #REF!
Name NEW: #REF!
Name NEW: #REF!
Name NEW: #REF!
Name NEW: #REF!
Name NEW: #REF!
Name NEW: #REF!
Name NEW: #REF!
Name NEW: #REF!
Name NEW: #REF!
Name NEW: #REF!
Name ogva: #REF!
Name ogva: #REF!
Name ogva: #REF!
Name ogva: #REF!
Name ogva: #REF!
Name ogva: #REF!
Name ogva: #REF!
Name ogva: #REF!
Name ogva: #REF!
Name ogva: #REF!

Sheet Site 4 Diagram
D36: Site / Location: | F36: Site 4, Stoneham Interchange | M36: Project No: | N36: 16367 | O36: Drawing No: | Q36: 16367-03 | S36: Drawn By: | T36: BVR
D38: Survey Date: | F38: Thursday 13th February 2025 | M38: Project Name: | O38: SOUTHAMPTON
D40: Survey Times: | F40: 07:00 to 10:00 & 16:00 to 19:00 | M40: Drawing Title: | O40: Site Layout and Observed Movements

Sheet Site 4 Arm A
U2: 16367 / SOUTHAMPTON
U3: =UPPER(TEXT(U8,"mMmm yyyy")) -> FEBRUARY 2025
U4: QUEUE LENGTH SURVEY
A8: SITE: | C8: 4 | T8: DATE: | U8: 45701
A10: LOCATION: | C10: Stoneham Interchange | T10: DAY: | U10: =UPPER(TEXT(U8,"dddd")) -> THURSDAY
A12: ANALYSIS: All queues in each 5 minute period at the start of the green phase.
A14: Arm A - Lane 1 | H14: Arm A - Lane 2 | O14: Arm A - Lane 3
A15: Time | B15: Total | C15: Cars | D15: OGV1 | E15: OGV2 | F15: PSV | G15: Metres | H15: Time | I15: Total | J15: Cars | K15: OGV1 | L15: OGV2 | M15: PSV | N15: Metres | O15: Time | P15: Total | Q15: Cars | R15: OGV1 | S15: OGV2 | T15: PSV | U15: Metres
A16: 0.29166667 | B16: =C16*PCUs!$B$2+D16*PCUs!$B$3+E16*PCUs!$B$4+F16*PCUs!$B$5 -> 0 | G16: =B16*5.75 -> 0 | H16: 0.29166667 | I16: =J16*PCUs!$B$2+K16*PCUs!$B$3+L16*PCUs!$B$4+M16*PCUs!$B$5 -> 5 | J16: 5 | K16: 0 | L16: 0 | M16: 0 | N16: =I16*5.75 -> 28.75 | O16: 0.29166667 | P16: =Q16*PCUs!$B$2+R16*PCUs!$B$3+S16*PCUs!$B$4+T16*PCUs!$B$5 -> 3 | Q16: 3 | R16: 0 | S16: 0 | T16: 0 | U16: =P16*5.75 -> 17.25
A17: =A16 -> 0.29166667 | B17: =C17*PCUs!$B$2+D17*PCUs!$B$3+E17*PCUs!$B$4+F17*PCUs!$B$5 -> 0 | G17: =B17*5.75 -> 0 | H17: =H16 -> 0.29166667 | I17: =J17*PCUs!$B$2+K17*PCUs!$B$3+L17*PCUs!$B$4+M17*PCUs!$B$5 -> 3 | J17: 3 | K17: 0 | L17: 0 | M17: 0 | N17: =I17*5.75 -> 17.25 | O17: =O16 -> 0.29166667 | P17: =Q17*PCUs!$B$2+R17*PCUs!$B$3+S17*PCUs!$B$4+T17*PCUs!$B$5 -> 1 | Q17: 1 | R17: 0 | S17: 0 | T17: 0 | U17: =P17*5.75 -> 5.75
A18: =A17 -> 0.29166667 | B18: =C18*PCUs!$B$2+D18*PCUs!$B$3+E18*PCUs!$B$4+F18*PCUs!$B$5 -> 0 | G18: =B18*5.75 -> 0 | H18: =H17 -> 0.29166667 | I18: =J18*PCUs!$B$2+K18*PCUs!$B$3+L18*PCUs!$B$4+M18*PCUs!$B$5 -> 3 | J18: 3 | K18: 0 | L18: 0 | M18: 0 | N18: =I18*5.75 -> 17.25 | O18: =O17 -> 0.29166667 | P18: =Q18*PCUs!$B$2+R18*PCUs!$B$3+S18*PCUs!$B$4+T18*PCUs!$B$5 -> 1 | Q18: 1 | R18: 0 | S18: 0 | T18: 0 | U18: =P18*5.75 -> 5.75
A19: =A18 -> 0.29166667 | B19: =C19*PCUs!$B$2+D19*PCUs!$B$3+E19*PCUs!$B$4+F19*PCUs!$B$5 -> 0 | G19: =B19*5.75 -> 0 | H19: =H18 -> 0.29166667 | I19: =J19*PCUs!$B$2+K19*PCUs!$B$3+L19*PCUs!$B$4+M19*PCUs!$B$5 -> 5.3 | J19: 3 | K19: 0 | L19: 1 | M19: 0 | N19: =I19*5.75 -> 30.475 | O19: =O18 -> 0.29166667 | P19: =Q19*PCUs!$B$2+R19*PCUs!$B$3+S19*PCUs!$B$4+T19*PCUs!$B$5 -> 3 | Q19: 3 | R19: 0 | S19: 0 | T19: 0 | U19: =P19*5.75 -> 17.25
A20: =A19 -> 0.29166667 | B20: =C20*PCUs!$B$2+D20*PCUs!$B$3+E20*PCUs!$B$4+F20*PCUs!$B$5 -> 0 | G20: =B20*5.75 -> 0 | H20: =H19 -> 0.29166667 | I20: =J20*PCUs!$B$2+K20*PCUs!$B$3+L20*PCUs!$B$4+M20*PCUs!$B$5 -> 0 | N20: =I20*5.75 -> 0 | O20: =O19 -> 0.29166667 | P20: =Q20*PCUs!$B$2+R20*PCUs!$B$3+S20*PCUs!$B$4+T20*PCUs!$B$5 -> 0 | U20: =P20*5.75 -> 0
A21: =A20 -> 0.29166667 | B21: =C21*PCUs!$B$2+D21*PCUs!$B$3+E21*PCUs!$B$4+F21*PCUs!$B$5 -> 0 | G21: =B21*5.75 -> 0 | H21: =H20 -> 0.29166667 | I21: =J21*PCUs!$B$2+K21*PCUs!$B$3+L21*PCUs!$B$4+M21*PCUs!$B$5 -> 0 | N21: =I21*5.75 -> 0 | O21: =O20 -> 0.29166667 | P21: =Q21*PCUs!$B$2+R21*PCUs!$B$3+S21*PCUs!$B$4+T21*PCUs!$B$5 -> 0 | U21: =P21*5.75 -> 0
A22: =A21 -> 0.29166667 | B22: =C22*PCUs!$B$2+D22*PCUs!$B$3+E22*PCUs!$B$4+F22*PCUs!$B$5 -> 0 | G22: =B22*5.75 -> 0 | H22: =H21 -> 0.29166667 | I22: =J22*PCUs!$B$2+K22*PCUs!$B$3+L22*PCUs!$B$4+M22*PCUs!$B$5 -> 0 | N22: =I22*5.75 -> 0 | O22: =O21 -> 0.29166667 | P22: =Q22*PCUs!$B$2+R22*PCUs!$B$3+S22*PCUs!$B$4+T22*PCUs!$B$5 -> 0 | U22: =P22*5.75 -> 0
A23: =A22 -> 0.29166667 | B23: =C23*PCUs!$B$2+D23*PCUs!$B$3+E23*PCUs!$B$4+F23*PCUs!$B$5 -> 0 | G23: =B23*5.75 -> 0 | H23: =H22 -> 0.29166667 | I23: =J23*PCUs!$B$2+K23*PCUs!$B$3+L23*PCUs!$B$4+M23*PCUs!$B$5 -> 0 | N23: =I23*5.75 -> 0 | O23: =O22 -> 0.29166667 | P23: =Q23*PCUs!$B$2+R23*PCUs!$B$3+S23*PCUs!$B$4+T23*PCUs!$B$5 -> 0 | U23: =P23*5.75 -> 0
A24: =A23 -> 0.29166667 | B24: =C24*PCUs!$B$2+D24*PCUs!$B$3+E24*PCUs!$B$4+F24*PCUs!$B$5 -> 0 | G24: =B24*5.75 -> 0 | H24: =H23 -> 0.29166667 | I24: =J24*PCUs!$B$2+K24*PCUs!$B$3+L24*PCUs!$B$4+M24*PCUs!$B$5 -> 0 | N24: =I24*5.75 -> 0 | O24: =O23 -> 0.29166667 | P24: =Q24*PCUs!$B$2+R24*PCUs!$B$3+S24*PCUs!$B$4+T24*PCUs!$B$5 -> 0 | U24: =P24*5.75 -> 0
A25: =A24 -> 0.29166667 | B25: =C25*PCUs!$B$2+D25*PCUs!$B$3+E25*PCUs!$B$4+F25*PCUs!$B$5 -> 0 | G25: =B25*5.75 -> 0 | H25: =H24 -> 0.29166667 | I25: =J25*PCUs!$B$2+K25*PCUs!$B$3+L25*PCUs!$B$4+M25*PCUs!$B$5 -> 0 | N25: =I25*5.75 -> 0 | O25: =O24 -> 0.29166667 | P25: =Q25*PCUs!$B$2+R25*PCUs!$B$3+S25*PCUs!$B$4+T25*PCUs!$B$5 -> 0 | U25: =P25*5.75 -> 0
A26: =A25 -> 0.29166667 | B26: =C26*PCUs!$B$2+D26*PCUs!$B$3+E26*PCUs!$B$4+F26*PCUs!$B$5 -> 0 | G26: =B26*5.75 -> 0 | H26: =H25 -> 0.29166667 | I26: =J26*PCUs!$B$2+K26*PCUs!$B$3+L26*PCUs!$B$4+M26*PCUs!$B$5 -> 0 | N26: =I26*5.75 -> 0 | O26: =O25 -> 0.29166667 | P26: =Q26*PCUs!$B$2+R26*PCUs!$B$3+S26*PCUs!$B$4+T26*PCUs!$B$5 -> 0 | U26: =P26*5.75 -> 0
A27: =A26 -> 0.29166667 | B27: =C27*PCUs!$B$2+D27*PCUs!$B$3+E27*PCUs!$B$4+F27*PCUs!$B$5 -> 0 | G27: =B27*5.75 -> 0 | H27: =H26 -> 0.29166667 | I27: =J27*PCUs!$B$2+K27*PCUs!$B$3+L27*PCUs!$B$4+M27*PCUs!$B$5 -> 0 | N27: =I27*5.75 -> 0 | O27: =O26 -> 0.29166667 | P27: =Q27*PCUs!$B$2+R27*PCUs!$B$3+S27*PCUs!$B$4+T27*PCUs!$B$5 -> 0 | U27: =P27*5.75 -> 0
A28: =A27 -> 0.29166667 | B28: =MAX(B16:B27) -> 0 | C28: =VLOOKUP(B28,B16:F27,2,FALSE) -> 0 | D28: =VLOOKUP(B28,B16:F27,3,FALSE) -> 0 | E28: =VLOOKUP(B28,B16:F27,4,FALSE) -> 0 | F28: =VLOOKUP(B28,B16:F27,5,FALSE) -> 0 | G28: =B28*5.75 -> 0 | H28: =H27 -> 0.29166667 | I28: =MAX(I16:I27) -> 5.3 | J28: =VLOOKUP(I28,I16:M27,2,FALSE) -> 3 | K28: =VLOOKUP(I28,I16:M27,3,FALSE) -> 0 | L28: =VLOOKUP(I28,I16:M27,4,FALSE) -> 1 | M28: =VLOOKUP(I28,I16:M27,5,FALSE) -> 0 | N28: =I28*5.75 -> 30.475 | O28: =O27 -> 0.29166667 | P28: =MAX(P16:P27) -> 3 | Q28: =VLOOKUP(P28,P16:T27,2,FALSE) -> 3 | R28: =VLOOKUP(P28,P16:T27,3,FALSE) -> 0 | S28: =VLOOKUP(P28,P16:T27,4,FALSE) -> 0 | T28: =VLOOKUP(P28,P16:T27,5,FALSE) -> 0 | U28: =P28*5.75 -> 17.25
A29: =A27+"00:05" -> 0.29513889 | B29: =C29*PCUs!$B$2+D29*PCUs!$B$3+E29*PCUs!$B$4+F29*PCUs!$B$5 -> 0 | G29: =B29*5.75 -> 0 | H29: =H27+"00:05" -> 0.29513889 | I29: =J29*PCUs!$B$2+K29*PCUs!$B$3+L29*PCUs!$B$4+M29*PCUs!$B$5 -> 3 | J29: 3 | K29: 0 | L29: 0 | M29: 0 | N29: =I29*5.75 -> 17.25 | O29: =O27+"00:05" -> 0.29513889 | P29: =Q29*PCUs!$B$2+R29*PCUs!$B$3+S29*PCUs!$B$4+T29*PCUs!$B$5 -> 1 | Q29: 1 | R29: 0 | S29: 0 | T29: 0 | U29: =P29*5.75 -> 5.75
A30: =A29 -> 0.29513889 | B30: =C30*PCUs!$B$2+D30*PCUs!$B$3+E30*PCUs!$B$4+F30*PCUs!$B$5 -> 0 | G30: =B30*5.75 -> 0 | H30: =H29 -> 0.29513889 | I30: =J30*PCUs!$B$2+K30*PCUs!$B$3+L30*PCUs!$B$4+M30*PCUs!$B$5 -> 1 | J30: 1 | K30: 0 | L30: 0 | M30: 0 | N30: =I30*5.75 -> 5.75 | O30: =O29 -> 0.29513889 | P30: =Q30*PCUs!$B$2+R30*PCUs!$B$3+S30*PCUs!$B$4+T30*PCUs!$B$5 -> 4 | Q30: 4 | R30: 0 | S30: 0 | T30: 0 | U30: =P30*5.75 -> 23
A31: =A30 -> 0.29513889 | B31: =C31*PCUs!$B$2+D31*PCUs!$B$3+E31*PCUs!$B$4+F31*PCUs!$B$5 -> 0 | G31: =B31*5.75 -> 0 | H31: =H30 -> 0.29513889 | I31: =J31*PCUs!$B$2+K31*PCUs!$B$3+L31*PCUs!$B$4+M31*PCUs!$B$5 -> 3 | J31: 3 | K31: 0 | L31: 0 | M31: 0 | N31: =I31*5.75 -> 17.25 | O31: =O30 -> 0.29513889 | P31: =Q31*PCUs!$B$2+R31*PCUs!$B$3+S31*PCUs!$B$4+T31*PCUs!$B$5 -> 4 | Q31: 4 | R31: 0 | S31: 0 | T31: 0 | U31: =P31*5.75 -> 23
A32: =A31 -> 0.29513889 | B32: =C32*PCUs!$B$2+D32*PCUs!$B$3+E32*PCUs!$B$4+F32*PCUs!$B$5 -> 0 | G32: =B32*5.75 -> 0 | H32: =H31 -> 0.29513889 | I32: =J32*PCUs!$B$2+K32*PCUs!$B$3+L32*PCUs!$B$4+M32*PCUs!$B$5 -> 6.8 | J32: 3 | K32: 1 | L32: 1 | M32: 0 | N32: =I32*5.75 -> 39.1 | O32: =O31 -> 0.29513889 | P32: =Q32*PCUs!$B$2+R32*PCUs!$B$3+S32*PCUs!$B$4+T32*PCUs!$B$5 -> 0 | Q32: 0 | R32: 0 | S32: 0 | T32: 0 | U32: =P32*5.75 -> 0
A33: =A32 -> 0.29513889 | B33: =C33*PCUs!$B$2+D33*PCUs!$B$3+E33*PCUs!$B$4+F33*PCUs!$B$5 -> 0 | G33: =B33*5.75 -> 0 | H33: =H32 -> 0.29513889 | I33: =J33*PCUs!$B$2+K33*PCUs!$B$3+L33*PCUs!$B$4+M33*PCUs!$B$5 -> 4.5 | J33: 3 | K33: 1 | L33: 0 | M33: 0 | N33: =I33*5.75 -> 25.875 | O33: =O32 -> 0.29513889 | P33: =Q33*PCUs!$B$2+R33*PCUs!$B$3+S33*PCUs!$B$4+T33*PCUs!$B$5 -> 0 | Q33: 0 | R33: 0 | S33: 0 | T33: 0 | U33: =P33*5.75 -> 0
A34: =A33 -> 0.29513889 | B34: =C34*PCUs!$B$2+D34*PCUs!$B$3+E34*PCUs!$B$4+F34*PCUs!$B$5 -> 0 | G34: =B34*5.75 -> 0 | H34: =H33 -> 0.29513889 | I34: =J34*PCUs!$B$2+K34*PCUs!$B$3+L34*PCUs!$B$4+M34*PCUs!$B$5 -> 6 | J34: 6 | K34: 0 | L34: 0 | M34: 0 | N34: =I34*5.75 -> 34.5 | O34: =O33 -> 0.29513889 | P34: =Q34*PCUs!$B$2+R34*PCUs!$B$3+S34*PCUs!$B$4+T34*PCUs!$B$5 -> 1 | Q34: 1 | R34: 0 | S34: 0 | T34: 0 | U34: =P34*5.75 -> 5.75
A35: =A34 -> 0.29513889 | B35: =C35*PCUs!$B$2+D35*PCUs!$B$3+E35*PCUs!$B$4+F35*PCUs!$B$5 -> 0 | G35: =B35*5.75 -> 0 | H35: =H34 -> 0.29513889 | I35: =J35*PCUs!$B$2+K35*PCUs!$B$3+L35*PCUs!$B$4+M35*PCUs!$B$5 -> 0 | N35: =I35*5.75 -> 0 | O35: =O34 -> 0.29513889 | P35: =Q35*PCUs!$B$2+R35*PCUs!$B$3+S35*PCUs!$B$4+T35*PCUs!$B$5 -> 0 | U35: =P35*5.75 -> 0
A36: =A35 -> 0.29513889 | B36: =C36*PCUs!$B$2+D36*PCUs!$B$3+E36*PCUs!$B$4+F36*PCUs!$B$5 -> 0 | G36: =B36*5.75 -> 0 | H36: =H35 -> 0.29513889 | I36: =J36*PCUs!$B$2+K36*PCUs!$B$3+L36*PCUs!$B$4+M36*PCUs!$B$5 -> 0 | N36: =I36*5.75 -> 0 | O36: =O35 -> 0.29513889 | P36: =Q36*PCUs!$B$2+R36*PCUs!$B$3+S36*PCUs!$B$4+T36*PCUs!$B$5 -> 0 | U36: =P36*5.75 -> 0
A37: =A36 -> 0.29513889 | B37: =C37*PCUs!$B$2+D37*PCUs!$B$3+E37*PCUs!$B$4+F37*PCUs!$B$5 -> 0 | G37: =B37*5.75 -> 0 | H37: =H36 -> 0.29513889 | I37: =J37*PCUs!$B$2+K37*PCUs!$B$3+L37*PCUs!$B$4+M37*PCUs!$B$5 -> 0 | N37: =I37*5.75 -> 0 | O37: =O36 -> 0.29513889 | P37: =Q37*PCUs!$B$2+R37*PCUs!$B$3+S37*PCUs!$B$4+T37*PCUs!$B$5 -> 0 | U37: =P37*5.75 -> 0
A38: =A37 -> 0.29513889 | B38: =C38*PCUs!$B$2+D38*PCUs!$B$3+E38*PCUs!$B$4+F38*PCUs!$B$5 -> 0 | G38: =B38*5.75 -> 0 | H38: =H37 -> 0.29513889 | I38: =J38*PCUs!$B$2+K38*PCUs!$B$3+L38*PCUs!$B$4+M38*PCUs!$B$5 -> 0 | N38: =I38*5.75 -> 0 | O38: =O37 -> 0.29513889 | P38: =Q38*PCUs!$B$2+R38*PCUs!$B$3+S38*PCUs!$B$4+T38*PCUs!$B$5 -> 0 | U38: =P38*5.75 -> 0
A39: =A38 -> 0.29513889 | B39: =C39*PCUs!$B$2+D39*PCUs!$B$3+E39*PCUs!$B$4+F39*PCUs!$B$5 -> 0 | G39: =B39*5.75 -> 0 | H39: =H38 -> 0.29513889 | I39: =J39*PCUs!$B$2+K39*PCUs!$B$3+L39*PCUs!$B$4+M39*PCUs!$B$5 -> 0 | N39: =I39*5.75 -> 0 | O39: =O38 -> 0.29513889 | P39: =Q39*PCUs!$B$2+R39*PCUs!$B$3+S39*PCUs!$B$4+T39*PCUs!$B$5 -> 0 | U39: =P39*5.75 -> 0
A40: =A39 -> 0.29513889 | B40: =C40*PCUs!$B$2+D40*PCUs!$B$3+E40*PCUs!$B$4+F40*PCUs!$B$5 -> 0 | G40: =B40*5.75 -> 0 | H40: =H39 -> 0.29513889 | I40: =J40*PCUs!$B$2+K40*PCUs!$B$3+L40*PCUs!$B$4+M40*PCUs!$B$5 -> 0 | N40: =I40*5.75 -> 0 | O40: =O39 -> 0.29513889 | P40: =Q40*PCUs!$B$2+R40*PCUs!$B$3+S40*PCUs!$B$4+T40*PCUs!$B$5 -> 0 | U40: =P40*5.75 -> 0
A41: =A40 -> 0.29513889 | B41: =MAX(B29:B40) -> 0 | C41: =VLOOKUP(B41,B29:F40,2,FALSE) -> 0 | D41: =VLOOKUP(B41,B29:F40,3,FALSE) -> 0 | E41: =VLOOKUP(B41,B29:F40,4,FALSE) -> 0 | F41: =VLOOKUP(B41,B29:F40,5,FALSE) -> 0 | G41: =B41*5.75 -> 0 | H41: =H40 -> 0.29513889 | I41: =MAX(I29:I40) -> 6.8 | J41: =VLOOKUP(I41,I29:M40,2,FALSE) -> 3 | K41: =VLOOKUP(I41,I29:M40,3,FALSE) -> 1 | L41: =VLOOKUP(I41,I29:M40,4,FALSE) -> 1 | M41: =VLOOKUP(I41,I29:M40,5,FALSE) -> 0 | N41: =I41*5.75 -> 39.1 | O41: =O40 -> 0.29513889 | P41: =MAX(P29:P40) -> 4 | Q41: =VLOOKUP(P41,P29:T40,2,FALSE) -> 4 | R41: =VLOOKUP(P41,P29:T40,3,FALSE) -> 0 | S41: =VLOOKUP(P41,P29:T40,4,FALSE) -> 0 | T41: =VLOOKUP(P41,P29:T40,5,FALSE) -> 0 | U41: =P41*5.75 -> 23
A42: =A40+"00:05" -> 0.29861111 | B42: =C42*PCUs!$B$2+D42*PCUs!$B$3+E42*PCUs!$B$4+F42*PCUs!$B$5 -> 0 | G42: =B42*5.75 -> 0 | H42: =H40+"00:05" -> 0.29861111 | I42: =J42*PCUs!$B$2+K42*PCUs!$B$3+L42*PCUs!$B$4+M42*PCUs!$B$5 -> 2 | J42: 2 | K42: 0 | L42: 0 | M42: 0 | N42: =I42*5.75 -> 11.5 | O42: =O40+"00:05" -> 0.29861111 | P42: =Q42*PCUs!$B$2+R42*PCUs!$B$3+S42*PCUs!$B$4+T42*PCUs!$B$5 -> 1 | Q42: 1 | R42: 0 | S42: 0 | T42: 0 | U42: =P42*5.75 -> 5.75
A43: =A42 -> 0.29861111 | B43: =C43*PCUs!$B$2+D43*PCUs!$B$3+E43*PCUs!$B$4+F43*PCUs!$B$5 -> 0 | G43: =B43*5.75 -> 0 | H43: =H42 -> 0.29861111 | I43: =J43*PCUs!$B$2+K43*PCUs!$B$3+L43*PCUs!$B$4+M43*PCUs!$B$5 -> 3.3 | J43: 1 | K43: 0 | L43: 1 | M43: 0 | N43: =I43*5.75 -> 18.975 | O43: =O42 -> 0.29861111 | P43: =Q43*PCUs!$B$2+R43*PCUs!$B$3+S43*PCUs!$B$4+T43*PCUs!$B$5 -> 5 | Q43: 5 | R43: 0 | S43: 0 | T43: 0 | U43: =P43*5.75 -> 28.75
A44: =A43 -> 0.29861111 | B44: =C44*PCUs!$B$2+D44*PCUs!$B$3+E44*PCUs!$B$4+F44*PCUs!$B$5 -> 0 | G44: =B44*5.75 -> 0 | H44: =H43 -> 0.29861111 | I44: =J44*PCUs!$B$2+K44*PCUs!$B$3+L44*PCUs!$B$4+M44*PCUs!$B$5 -> 3 | J44: 3 | K44: 0 | L44: 0 | M44: 0 | N44: =I44*5.75 -> 17.25 | O44: =O43 -> 0.29861111 | P44: =Q44*PCUs!$B$2+R44*PCUs!$B$3+S44*PCUs!$B$4+T44*PCUs!$B$5 -> 1 | Q44: 1 | R44: 0 | S44: 0 | T44: 0 | U44: =P44*5.75 -> 5.75
A45: =A44 -> 0.29861111 | B45: =C45*PCUs!$B$2+D45*PCUs!$B$3+E45*PCUs!$B$4+F45*PCUs!$B$5 -> 0 | G45: =B45*5.75 -> 0 | H45: =H44 -> 0.29861111 | I45: =J45*PCUs!$B$2+K45*PCUs!$B$3+L45*PCUs!$B$4+M45*PCUs!$B$5 -> 1 | J45: 1 | K45: 0 | L45: 0 | M45: 0 | N45: =I45*5.75 -> 5.75 | O45: =O44 -> 0.29861111 | P45: =Q45*PCUs!$B$2+R45*PCUs!$B$3+S45*PCUs!$B$4+T45*PCUs!$B$5 -> 1 | Q45: 1 | R45: 0 | S45: 0 | T45: 0 | U45: =P45*5.75 -> 5.75
A46: =A45 -> 0.29861111 | B46: =C46*PCUs!$B$2+D46*PCUs!$B$3+E46*PCUs!$B$4+F46*PCUs!$B$5 -> 0 | G46: =B46*5.75 -> 0 | H46: =H45 -> 0.29861111 | I46: =J46*PCUs!$B$2+K46*PCUs!$B$3+L46*PCUs!$B$4+M46*PCUs!$B$5 -> 3 | J46: 3 | K46: 0 | L46: 0 | M46: 0 | N46: =I46*5.75 -> 17.25 | O46: =O45 -> 0.29861111 | P46: =Q46*PCUs!$B$2+R46*PCUs!$B$3+S46*PCUs!$B$4+T46*PCUs!$B$5 -> 1 | Q46: 1 | R46: 0 | S46: 0 | T46: 0 | U46: =P46*5.75 -> 5.75
A47: =A46 -> 0.29861111 | B47: =C47*PCUs!$B$2+D47*PCUs!$B$3+E47*PCUs!$B$4+F47*PCUs!$B$5 -> 0 | G47: =B47*5.75 -> 0 | H47: =H46 -> 0.29861111 | I47: =J47*PCUs!$B$2+K47*PCUs!$B$3+L47*PCUs!$B$4+M47*PCUs!$B$5 -> 0 | J47: 0 | K47: 0 | L47: 0 | M47: 0 | N47: =I47*5.75 -> 0 | O47: =O46 -> 0.29861111 | P47: =Q47*PCUs!$B$2+R47*PCUs!$B$3+S47*PCUs!$B$4+T47*PCUs!$B$5 -> 0 | Q47: 0 | R47: 0 | S47: 0 | T47: 0 | U47: =P47*5.75 -> 0
A48: =A47 -> 0.29861111 | B48: =C48*PCUs!$B$2+D48*PCUs!$B$3+E48*PCUs!$B$4+F48*PCUs!$B$5 -> 0 | G48: =B48*5.75 -> 0 | H48: =H47 -> 0.29861111 | I48: =J48*PCUs!$B$2+K48*PCUs!$B$3+L48*PCUs!$B$4+M48*PCUs!$B$5 -> 4 | J48: 4 | K48: 0 | L48: 0 | M48: 0 | N48: =I48*5.75 -> 23 | O48: =O47 -> 0.29861111 | P48: =Q48*PCUs!$B$2+R48*PCUs!$B$3+S48*PCUs!$B$4+T48*PCUs!$B$5 -> 1 | Q48: 1 | R48: 0 | S48: 0 | T48: 0 | U48: =P48*5.75 -> 5.75
A49: =A48 -> 0.29861111 | B49: =C49*PCUs!$B$2+D49*PCUs!$B$3+E49*PCUs!$B$4+F49*PCUs!$B$5 -> 0 | G49: =B49*5.75 -> 0 | H49: =H48 -> 0.29861111 | I49: =J49*PCUs!$B$2+K49*PCUs!$B$3+L49*PCUs!$B$4+M49*PCUs!$B$5 -> 0 | N49: =I49*5.75 -> 0 | O49: =O48 -> 0.29861111 | P49: =Q49*PCUs!$B$2+R49*PCUs!$B$3+S49*PCUs!$B$4+T49*PCUs!$B$5 -> 0 | U49: =P49*5.75 -> 0
A50: =A49 -> 0.29861111 | B50: =C50*PCUs!$B$2+D50*PCUs!$B$3+E50*PCUs!$B$4+F50*PCUs!$B$5 -> 0 | G50: =B50*5.75 -> 0 | H50: =H49 -> 0.29861111 | I50: =J50*PCUs!$B$2+K50*PCUs!$B$3+L50*PCUs!$B$4+M50*PCUs!$B$5 -> 0 | N50: =I50*5.75 -> 0 | O50: =O49 -> 0.29861111 | P50: =Q50*PCUs!$B$2+R50*PCUs!$B$3+S50*PCUs!$B$4+T50*PCUs!$B$5 -> 0 | U50: =P50*5.75 -> 0
A51: =A50 -> 0.29861111 | B51: =C51*PCUs!$B$2+D51*PCUs!$B$3+E51*PCUs!$B$4+F51*PCUs!$B$5 -> 0 | G51: =B51*5.75 -> 0 | H51: =H50 -> 0.29861111 | I51: =J51*PCUs!$B$2+K51*PCUs!$B$3+L51*PCUs!$B$4+M51*PCUs!$B$5 -> 0 | N51: =I51*5.75 -> 0 | O51: =O50 -> 0.29861111 | P51: =Q51*PCUs!$B$2+R51*PCUs!$B$3+S51*PCUs!$B$4+T51*PCUs!$B$5 -> 0 | U51: =P51*5.75 -> 0
A52: =A51 -> 0.29861111 | B52: =C52*PCUs!$B$2+D52*PCUs!$B$3+E52*PCUs!$B$4+F52*PCUs!$B$5 -> 0 | G52: =B52*5.75 -> 0 | H52: =H51 -> 0.29861111 | I52: =J52*PCUs!$B$2+K52*PCUs!$B$3+L52*PCUs!$B$4+M52*PCUs!$B$5 -> 0 | N52: =I52*5.75 -> 0 | O52: =O51 -> 0.29861111 | P52: =Q52*PCUs!$B$2+R52*PCUs!$B$3+S52*PCUs!$B$4+T52*PCUs!$B$5 -> 0 | U52: =P52*5.75 -> 0
A53: =A52 -> 0.29861111 | B53: =C53*PCUs!$B$2+D53*PCUs!$B$3+E53*PCUs!$B$4+F53*PCUs!$B$5 -> 0 | G53: =B53*5.75 -> 0 | H53: =H52 -> 0.29861111 | I53: =J53*PCUs!$B$2+K53*PCUs!$B$3+L53*PCUs!$B$4+M53*PCUs!$B$5 -> 0 | N53: =I53*5.75 -> 0 | O53: =O52 -> 0.29861111 | P53: =Q53*PCUs!$B$2+R53*PCUs!$B$3+S53*PCUs!$B$4+T53*PCUs!$B$5 -> 0 | U53: =P53*5.75 -> 0
A54: =A53 -> 0.29861111 | B54: =MAX(B42:B53) -> 0 | C54: =VLOOKUP(B54,B42:F53,2,FALSE) -> 0 | D54: =VLOOKUP(B54,B42:F53,3,FALSE) -> 0 | E54: =VLOOKUP(B54,B42:F53,4,FALSE) -> 0 | F54: =VLOOKUP(B54,B42:F53,5,FALSE) -> 0 | G54: =B54*5.75 -> 0 | H54: =H53 -> 0.29861111 | I54: =MAX(I42:I53) -> 4 | J54: =VLOOKUP(I54,I42:M53,2,FALSE) -> 4 | K54: =VLOOKUP(I54,I42:M53,3,FALSE) -> 0 | L54: =VLOOKUP(I54,I42:M53,4,FALSE) -> 0 | M54: =VLOOKUP(I54,I42:M53,5,FALSE) -> 0 | N54: =I54*5.75 -> 23 | O54: =O53 -> 0.29861111 | P54: =MAX(P42:P53) -> 5 | Q54: =VLOOKUP(P54,P42:T53,2,FALSE) -> 5 | R54: =VLOOKUP(P54,P42:T53,3,FALSE) -> 0 | S54: =VLOOKUP(P54,P42:T53,4,FALSE) -> 0 | T54: =VLOOKUP(P54,P42:T53,5,FALSE) -> 0 | U54: =P54*5.75 -> 28.75
A55: =A53+"00:05" -> 0.30208333 | B55: =C55*PCUs!$B$2+D55*PCUs!$B$3+E55*PCUs!$B$4+F55*PCUs!$B$5 -> 0 | G55: =B55*5.75 -> 0 | H55: =H53+"00:05" -> 0.30208333 | I55: =J55*PCUs!$B$2+K55*PCUs!$B$3+L55*PCUs!$B$4+M55*PCUs!$B$5 -> 3.8 | J55: 0 | K55: 1 | L55: 1 | M55: 0 | N55: =I55*5.75 -> 21.85 | O55: =O53+"00:05" -> 0.30208333 | P55: =Q55*PCUs!$B$2+R55*PCUs!$B$3+S55*PCUs!$B$4+T55*PCUs!$B$5 -> 1 | Q55: 1 | R55: 0 | S55: 0 | T55: 0 | U55: =P55*5.75 -> 5.75
A56: =A55 -> 0.30208333 | B56: =C56*PCUs!$B$2+D56*PCUs!$B$3+E56*PCUs!$B$4+F56*PCUs!$B$5 -> 0 | G56: =B56*5.75 -> 0 | H56: =H55 -> 0.30208333 | I56: =J56*PCUs!$B$2+K56*PCUs!$B$3+L56*PCUs!$B$4+M56*PCUs!$B$5 -> 3 | J56: 3 | K56: 0 | L56: 0 | M56: 0 | N56: =I56*5.75 -> 17.25 | O56: =O55 -> 0.30208333 | P56: =Q56*PCUs!$B$2+R56*PCUs!$B$3+S56*PCUs!$B$4+T56*PCUs!$B$5 -> 0 | Q56: 0 | R56: 0 | S56: 0 | T56: 0 | U56: =P56*5.75 -> 0
A57: =A56 -> 0.30208333 | B57: =C57*PCUs!$B$2+D57*PCUs!$B$3+E57*PCUs!$B$4+F57*PCUs!$B$5 -> 0 | G57: =B57*5.75 -> 0 | H57: =H56 -> 0.30208333 | I57: =J57*PCUs!$B$2+K57*PCUs!$B$3+L57*PCUs!$B$4+M57*PCUs!$B$5 -> 2 | J57: 2 | K57: 0 | L57: 0 | M57: 0 | N57: =I57*5.75 -> 11.5 | O57: =O56 -> 0.30208333 | P57: =Q57*PCUs!$B$2+R57*PCUs!$B$3+S57*PCUs!$B$4+T57*PCUs!$B$5 -> 3 | Q57: 3 | R57: 0 | S57: 0 | T57: 0 | U57: =P57*5.75 -> 17.25
A58: =A57 -> 0.30208333 | B58: =C58*PCUs!$B$2+D58*PCUs!$B$3+E58*PCUs!$B$4+F58*PCUs!$B$5 -> 0 | G58: =B58*5.75 -> 0 | H58: =H57 -> 0.30208333 | I58: =J58*PCUs!$B$2+K58*PCUs!$B$3+L58*PCUs!$B$4+M58*PCUs!$B$5 -> 2.5 | J58: 1 | K58: 1 | L58: 0 | M58: 0 | N58: =I58*5.75 -> 14.375 | O58: =O57 -> 0.30208333 | P58: =Q58*PCUs!$B$2+R58*PCUs!$B$3+S58*PCUs!$B$4+T58*PCUs!$B$5 -> 0 | Q58: 0 | R58: 0 | S58: 0 | T58: 0 | U58: =P58*5.75 -> 0
A59: =A58 -> 0.30208333 | B59: =C59*PCUs!$B$2+D59*PCUs!$B$3+E59*PCUs!$B$4+F59*PCUs!$B$5 -> 0 | G59: =B59*5.75 -> 0 | H59: =H58 -> 0.30208333 | I59: =J59*PCUs!$B$2+K59*PCUs!$B$3+L59*PCUs!$B$4+M59*PCUs!$B$5 -> 7.5 | J59: 3 | K59: 3 | L59: 0 | M59: 0 | N59: =I59*5.75 -> 43.125 | O59: =O58 -> 0.30208333 | P59: =Q59*PCUs!$B$2+R59*PCUs!$B$3+S59*PCUs!$B$4+T59*PCUs!$B$5 -> 0 | Q59: 0 | R59: 0 | S59: 0 | T59: 0 | U59: =P59*5.75 -> 0
A60: =A59 -> 0.30208333 | B60: =C60*PCUs!$B$2+D60*PCUs!$B$3+E60*PCUs!$B$4+F60*PCUs!$B$5 -> 0 | G60: =B60*5.75 -> 0 | H60: =H59 -> 0.30208333 | I60: =J60*PCUs!$B$2+K60*PCUs!$B$3+L60*PCUs!$B$4+M60*PCUs!$B$5 -> 7 | J60: 4 | K60: 2 | L60: 0 | M60: 0 | N60: =I60*5.75 -> 40.25 | O60: =O59 -> 0.30208333 | P60: =Q60*PCUs!$B$2+R60*PCUs!$B$3+S60*PCUs!$B$4+T60*PCUs!$B$5 -> 3 | Q60: 3 | R60: 0 | S60: 0 | T60: 0 | U60: =P60*5.75 -> 17.25
A61: =A60 -> 0.30208333 | B61: =C61*PCUs!$B$2+D61*PCUs!$B$3+E61*PCUs!$B$4+F61*PCUs!$B$5 -> 0 | G61: =B61*5.75 -> 0 | H61: =H60 -> 0.30208333 | I61: =J61*PCUs!$B$2+K61*PCUs!$B$3+L61*PCUs!$B$4+M61*PCUs!$B$5 -> 0 | N61: =I61*5.75 -> 0 | O61: =O60 -> 0.30208333 | P61: =Q61*PCUs!$B$2+R61*PCUs!$B$3+S61*PCUs!$B$4+T61*PCUs!$B$5 -> 0 | U61: =P61*5.75 -> 0
A62: =A61 -> 0.30208333 | B62: =C62*PCUs!$B$2+D62*PCUs!$B$3+E62*PCUs!$B$4+F62*PCUs!$B$5 -> 0 | G62: =B62*5.75 -> 0 | H62: =H61 -> 0.30208333 | I62: =J62*PCUs!$B$2+K62*PCUs!$B$3+L62*PCUs!$B$4+M62*PCUs!$B$5 -> 0 | N62: =I62*5.75 -> 0 | O62: =O61 -> 0.30208333 | P62: =Q62*PCUs!$B$2+R62*PCUs!$B$3+S62*PCUs!$B$4+T62*PCUs!$B$5 -> 0 | U62: =P62*5.75 -> 0
A63: =A62 -> 0.30208333 | B63: =C63*PCUs!$B$2+D63*PCUs!$B$3+E63*PCUs!$B$4+F63*PCUs!$B$5 -> 0 | G63: =B63*5.75 -> 0 | H63: =H62 -> 0.30208333 | I63: =J63*PCUs!$B$2+K63*PCUs!$B$3+L63*PCUs!$B$4+M63*PCUs!$B$5 -> 0 | N63: =I63*5.75 -> 0 | O63: =O62 -> 0.30208333 | P63: =Q63*PCUs!$B$2+R63*PCUs!$B$3+S63*PCUs!$B$4+T63*PCUs!$B$5 -> 0 | U63: =P63*5.75 -> 0
A64: =A63 -> 0.30208333 | B64: =C64*PCUs!$B$2+D64*PCUs!$B$3+E64*PCUs!$B$4+F64*PCUs!$B$5 -> 0 | G64: =B64*5.75 -> 0 | H64: =H63 -> 0.30208333 | I64: =J64*PCUs!$B$2+K64*PCUs!$B$3+L64*PCUs!$B$4+M64*PCUs!$B$5 -> 0 | N64: =I64*5.75 -> 0 | O64: =O63 -> 0.30208333 | P64: =Q64*PCUs!$B$2+R64*PCUs!$B$3+S64*PCUs!$B$4+T64*PCUs!$B$5 -> 0 | U64: =P64*5.75 -> 0
A65: =A64 -> 0.30208333 | B65: =C65*PCUs!$B$2+D65*PCUs!$B$3+E65*PCUs!$B$4+F65*PCUs!$B$5 -> 0 | G65: =B65*5.75 -> 0 | H65: =H64 -> 0.30208333 | I65: =J65*PCUs!$B$2+K65*PCUs!$B$3+L65*PCUs!$B$4+M65*PCUs!$B$5 -> 0 | N65: =I65*5.75 -> 0 | O65: =O64 -> 0.30208333 | P65: =Q65*PCUs!$B$2+R65*PCUs!$B$3+S65*PCUs!$B$4+T65*PCUs!$B$5 -> 0 | U65: =P65*5.75 -> 0
A66: =A65 -> 0.30208333 | B66: =C66*PCUs!$B$2+D66*PCUs!$B$3+E66*PCUs!$B$4+F66*PCUs!$B$5 -> 0 | G66: =B66*5.75 -> 0 | H66: =H65 -> 0.30208333 | I66: =J66*PCUs!$B$2+K66*PCUs!$B$3+L66*PCUs!$B$4+M66*PCUs!$B$5 -> 0 | N66: =I66*5.75 -> 0 | O66: =O65 -> 0.30208333 | P66: =Q66*PCUs!$B$2+R66*PCUs!$B$3+S66*PCUs!$B$4+T66*PCUs!$B$5 -> 0 | U66: =P66*5.75 -> 0
A67: =A66 -> 0.30208333 | B67: =MAX(B55:B66) -> 0 | C67: =VLOOKUP(B67,B55:F66,2,FALSE) -> 0 | D67: =VLOOKUP(B67,B55:F66,3,FALSE) -> 0 | E67: =VLOOKUP(B67,B55:F66,4,FALSE) -> 0 | F67: =VLOOKUP(B67,B55:F66,5,FALSE) -> 0 | G67: =B67*5.75 -> 0 | H67: =H66 -> 0.30208333 | I67: =MAX(I55:I66) -> 7.5 | J67: =VLOOKUP(I67,I55:M66,2,FALSE) -> 3 | K67: =VLOOKUP(I67,I55:M66,3,FALSE) -> 3 | L67: =VLOOKUP(I67,I55:M66,4,FALSE) -> 0 | M67: =VLOOKUP(I67,I55:M66,5,FALSE) -> 0 | N67: =I67*5.75 -> 43.125 | O67: =O66 -> 0.30208333 | P67: =MAX(P55:P66) -> 3 | Q67: =VLOOKUP(P67,P55:T66,2,FALSE) -> 3 | R67: =VLOOKUP(P67,P55:T66,3,FALSE) -> 0 | S67: =VLOOKUP(P67,P55:T66,4,FALSE) -> 0 | T67: =VLOOKUP(P67,P55:T66,5,FALSE) -> 0 | U67: =P67*5.75 -> 17.25
A68: =A66+"00:05" -> 0.30555556 | B68: =C68*PCUs!$B$2+D68*PCUs!$B$3+E68*PCUs!$B$4+F68*PCUs!$B$5 -> 0 | G68: =B68*5.75 -> 0 | H68: =H66+"00:05" -> 0.30555556 | I68: =J68*PCUs!$B$2+K68*PCUs!$B$3+L68*PCUs!$B$4+M68*PCUs!$B$5 -> 3 | J68: 3 | K68: 0 | L68: 0 | M68: 0 | N68: =I68*5.75 -> 17.25 | O68: =O66+"00:05" -> 0.30555556 | P68: =Q68*PCUs!$B$2+R68*PCUs!$B$3+S68*PCUs!$B$4+T68*PCUs!$B$5 -> 4 | Q68: 4 | R68: 0 | S68: 0 | T68: 0 | U68: =P68*5.75 -> 23
A69: =A68 -> 0.30555556 | B69: =C69*PCUs!$B$2+D69*PCUs!$B$3+E69*PCUs!$B$4+F69*PCUs!$B$5 -> 0 | G69: =B69*5.75 -> 0 | H69: =H68 -> 0.30555556 | I69: =J69*PCUs!$B$2+K69*PCUs!$B$3+L69*PCUs!$B$4+M69*PCUs!$B$5 -> 1 | J69: 1 | K69: 0 | L69: 0 | M69: 0 | N69: =I69*5.75 -> 5.75 | O69: =O68 -> 0.30555556 | P69: =Q69*PCUs!$B$2+R69*PCUs!$B$3+S69*PCUs!$B$4+T69*PCUs!$B$5 -> 1 | Q69: 1 | R69: 0 | S69: 0 | T69: 0 | U69: =P69*5.75 -> 5.75
A70: =A69 -> 0.30555556 | B70: =C70*PCUs!$B$2+D70*PCUs!$B$3+E70*PCUs!$B$4+F70*PCUs!$B$5 -> 0 | G70: =B70*5.75 -> 0 | H70: =H69 -> 0.30555556 | I70: =J70*PCUs!$B$2+K70*PCUs!$B$3+L70*PCUs!$B$4+M70*PCUs!$B$5 -> 3.5 | J70: 2 | K70: 1 | L70: 0 | M70: 0 | N70: =I70*5.75 -> 20.125 | O70: =O69 -> 0.30555556 | P70: =Q70*PCUs!$B$2+R70*PCUs!$B$3+S70*PCUs!$B$4+T70*PCUs!$B$5 -> 1 | Q70: 1 | R70: 0 | S70: 0 | T70: 0 | U70: =P70*5.75 -> 5.75
A71: =A70 -> 0.30555556 | B71: =C71*PCUs!$B$2+D71*PCUs!$B$3+E71*PCUs!$B$4+F71*PCUs!$B$5 -> 0 | G71: =B71*5.75 -> 0 | H71: =H70 -> 0.30555556 | I71: =J71*PCUs!$B$2+K71*PCUs!$B$3+L71*PCUs!$B$4+M71*PCUs!$B$5 -> 2 | J71: 2 | K71: 0 | L71: 0 | M71: 0 | N71: =I71*5.75 -> 11.5 | O71: =O70 -> 0.30555556 | P71: =Q71*PCUs!$B$2+R71*PCUs!$B$3+S71*PCUs!$B$4+T71*PCUs!$B$5 -> 2 | Q71: 2 | R71: 0 | S71: 0 | T71: 0 | U71: =P71*5.75 -> 11.5
A72: =A71 -> 0.30555556 | B72: =C72*PCUs!$B$2+D72*PCUs!$B$3+E72*PCUs!$B$4+F72*PCUs!$B$5 -> 0 | G72: =B72*5.75 -> 0 | H72: =H71 -> 0.30555556 | I72: =J72*PCUs!$B$2+K72*PCUs!$B$3+L72*PCUs!$B$4+M72*PCUs!$B$5 -> 0 | J72: 0 | K72: 0 | L72: 0 | M72: 0 | N72: =I72*5.75 -> 0 | O72: =O71 -> 0.30555556 | P72: =Q72*PCUs!$B$2+R72*PCUs!$B$3+S72*PCUs!$B$4+T72*PCUs!$B$5 -> 3 | Q72: 3 | R72: 0 | S72: 0 | T72: 0 | U72: =P72*5.75 -> 17.25
A73: =A72 -> 0.30555556 | B73: =C73*PCUs!$B$2+D73*PCUs!$B$3+E73*PCUs!$B$4+F73*PCUs!$B$5 -> 0 | G73: =B73*5.75 -> 0 | H73: =H72 -> 0.30555556 | I73: =J73*PCUs!$B$2+K73*PCUs!$B$3+L73*PCUs!$B$4+M73*PCUs!$B$5 -> 12 | J73: 6 | K73: 4 | L73: 0 | M73: 0 | N73: =I73*5.75 -> 69 | O73: =O72 -> 0.30555556 | P73: =Q73*PCUs!$B$2+R73*PCUs!$B$3+S73*PCUs!$B$4+T73*PCUs!$B$5 -> 10 | Q73: 10 | R73: 0 | S73: 0 | T73: 0 | U73: =P73*5.75 -> 57.5
A74: =A73 -> 0.30555556 | B74: =C74*PCUs!$B$2+D74*PCUs!$B$3+E74*PCUs!$B$4+F74*PCUs!$B$5 -> 0 | G74: =B74*5.75 -> 0 | H74: =H73 -> 0.30555556 | I74: =J74*PCUs!$B$2+K74*PCUs!$B$3+L74*PCUs!$B$4+M74*PCUs!$B$5 -> 0 | N74: =I74*5.75 -> 0 | O74: =O73 -> 0.30555556 | P74: =Q74*PCUs!$B$2+R74*PCUs!$B$3+S74*PCUs!$B$4+T74*PCUs!$B$5 -> 0 | U74: =P74*5.75 -> 0
A75: =A74 -> 0.30555556 | B75: =C75*PCUs!$B$2+D75*PCUs!$B$3+E75*PCUs!$B$4+F75*PCUs!$B$5 -> 0 | G75: =B75*5.75 -> 0 | H75: =H74 -> 0.30555556 | I75: =J75*PCUs!$B$2+K75*PCUs!$B$3+L75*PCUs!$B$4+M75*PCUs!$B$5 -> 0 | N75: =I75*5.75 -> 0 | O75: =O74 -> 0.30555556 | P75: =Q75*PCUs!$B$2+R75*PCUs!$B$3+S75*PCUs!$B$4+T75*PCUs!$B$5 -> 0 | U75: =P75*5.75 -> 0
A76: =A75 -> 0.30555556 | B76: =C76*PCUs!$B$2+D76*PCUs!$B$3+E76*PCUs!$B$4+F76*PCUs!$B$5 -> 0 | G76: =B76*5.75 -> 0 | H76: =H75 -> 0.30555556 | I76: =J76*PCUs!$B$2+K76*PCUs!$B$3+L76*PCUs!$B$4+M76*PCUs!$B$5 -> 0 | N76: =I76*5.75 -> 0 | O76: =O75 -> 0.30555556 | P76: =Q76*PCUs!$B$2+R76*PCUs!$B$3+S76*PCUs!$B$4+T76*PCUs!$B$5 -> 0 | U76: =P76*5.75 -> 0
A77: =A76 -> 0.30555556 | B77: =C77*PCUs!$B$2+D77*PCUs!$B$3+E77*PCUs!$B$4+F77*PCUs!$B$5 -> 0 | G77: =B77*5.75 -> 0 | H77: =H76 -> 0.30555556 | I77: =J77*PCUs!$B$2+K77*PCUs!$B$3+L77*PCUs!$B$4+M77*PCUs!$B$5 -> 0 | N77: =I77*5.75 -> 0 | O77: =O76 -> 0.30555556 | P77: =Q77*PCUs!$B$2+R77*PCUs!$B$3+S77*PCUs!$B$4+T77*PCUs!$B$5 -> 0 | U77: =P77*5.75 -> 0
A78: =A77 -> 0.30555556 | B78: =C78*PCUs!$B$2+D78*PCUs!$B$3+E78*PCUs!$B$4+F78*PCUs!$B$5 -> 0 | G78: =B78*5.75 -> 0 | H78: =H77 -> 0.30555556 | I78: =J78*PCUs!$B$2+K78*PCUs!$B$3+L78*PCUs!$B$4+M78*PCUs!$B$5 -> 0 | N78: =I78*5.75 -> 0 | O78: =O77 -> 0.30555556 | P78: =Q78*PCUs!$B$2+R78*PCUs!$B$3+S78*PCUs!$B$4+T78*PCUs!$B$5 -> 0 | U78: =P78*5.75 -> 0
A79: =A78 -> 0.30555556 | B79: =C79*PCUs!$B$2+D79*PCUs!$B$3+E79*PCUs!$B$4+F79*PCUs!$B$5 -> 0 | G79: =B79*5.75 -> 0 | H79: =H78 -> 0.30555556 | I79: =J79*PCUs!$B$2+K79*PCUs!$B$3+L79*PCUs!$B$4+M79*PCUs!$B$5 -> 0 | N79: =I79*5.75 -> 0 | O79: =O78 -> 0.30555556 | P79: =Q79*PCUs!$B$2+R79*PCUs!$B$3+S79*PCUs!$B$4+T79*PCUs!$B$5 -> 0 | U79: =P79*5.75 -> 0
A80: =A79 -> 0.30555556 | B80: =MAX(B68:B79) -> 0 | C80: =VLOOKUP(B80,B68:F79,2,FALSE) -> 0 | D80: =VLOOKUP(B80,B68:F79,3,FALSE) -> 0 | E80: =VLOOKUP(B80,B68:F79,4,FALSE) -> 0 | F80: =VLOOKUP(B80,B68:F79,5,FALSE) -> 0 | G80: =B80*5.75 -> 0 | H80: =H79 -> 0.30555556 | I80: =MAX(I68:I79) -> 12 | J80: =VLOOKUP(I80,I68:M79,2,FALSE) -> 6 | K80: =VLOOKUP(I80,I68:M79,3,FALSE) -> 4 | L80: =VLOOKUP(I80,I68:M79,4,FALSE) -> 0 | M80: =VLOOKUP(I80,I68:M79,5,FALSE) -> 0 | N80: =I80*5.75 -> 69 | O80: =O79 -> 0.30555556 | P80: =MAX(P68:P79) -> 10 | Q80: =VLOOKUP(P80,P68:T79,2,FALSE) -> 10 | R80: =VLOOKUP(P80,P68:T79,3,FALSE) -> 0 | S80: =VLOOKUP(P80,P68:T79,4,FALSE) -> 0 | T80: =VLOOKUP(P80,P68:T79,5,FALSE) -> 0 | U80: =P80*5.75 -> 57.5
A81: =A79+"00:05" -> 0.30902778 | B81: =C81*PCUs!$B$2+D81*PCUs!$B$3+E81*PCUs!$B$4+F81*PCUs!$B$5 -> 0 | G81: =B81*5.75 -> 0 | H81: =H79+"00:05" -> 0.30902778 | I81: =J81*PCUs!$B$2+K81*PCUs!$B$3+L81*PCUs!$B$4+M81*PCUs!$B$5 -> 10.5 | J81: 9 | K81: 1 | L81: 0 | M81: 0 | N81: =I81*5.75 -> 60.375 | O81: =O79+"00:05" -> 0.30902778 | P81: =Q81*PCUs!$B$2+R81*PCUs!$B$3+S81*PCUs!$B$4+T81*PCUs!$B$5 -> 5.5 | Q81: 4 | R81: 1 | S81: 0 | T81: 0 | U81: =P81*5.75 -> 31.625
A82: =A81 -> 0.30902778 | B82: =C82*PCUs!$B$2+D82*PCUs!$B$3+E82*PCUs!$B$4+F82*PCUs!$B$5 -> 0 | G82: =B82*5.75 -> 0 | H82: =H81 -> 0.30902778 | I82: =J82*PCUs!$B$2+K82*PCUs!$B$3+L82*PCUs!$B$4+M82*PCUs!$B$5 -> 3 | J82: 3 | K82: 0 | L82: 0 | M82: 0 | N82: =I82*5.75 -> 17.25 | O82: =O81 -> 0.30902778 | P82: =Q82*PCUs!$B$2+R82*PCUs!$B$3+S82*PCUs!$B$4+T82*PCUs!$B$5 -> 2 | Q82: 2 | R82: 0 | S82: 0 | T82: 0 | U82: =P82*5.75 -> 11.5
A83: =A82 -> 0.30902778 | B83: =C83*PCUs!$B$2+D83*PCUs!$B$3+E83*PCUs!$B$4+F83*PCUs!$B$5 -> 0 | G83: =B83*5.75 -> 0 | H83: =H82 -> 0.30902778 | I83: =J83*PCUs!$B$2+K83*PCUs!$B$3+L83*PCUs!$B$4+M83*PCUs!$B$5 -> 7.5 | J83: 6 | K83: 1 | L83: 0 | M83: 0 | N83: =I83*5.75 -> 43.125 | O83: =O82 -> 0.30902778 | P83: =Q83*PCUs!$B$2+R83*PCUs!$B$3+S83*PCUs!$B$4+T83*PCUs!$B$5 -> 4.5 | Q83: 3 | R83: 1 | S83: 0 | T83: 0 | U83: =P83*5.75 -> 25.875
A84: =A83 -> 0.30902778 | B84: =C84*PCUs!$B$2+D84*PCUs!$B$3+E84*PCUs!$B$4+F84*PCUs!$B$5 -> 0 | G84: =B84*5.75 -> 0 | H84: =H83 -> 0.30902778 | I84: =J84*PCUs!$B$2+K84*PCUs!$B$3+L84*PCUs!$B$4+M84*PCUs!$B$5 -> 11 | J84: 9 | K84: 0 | L84: 0 | M84: 1 | N84: =I84*5.75 -> 63.25 | O84: =O83 -> 0.30902778 | P84: =Q84*PCUs!$B$2+R84*PCUs!$B$3+S84*PCUs!$B$4+T84*PCUs!$B$5 -> 4 | Q84: 4 | R84: 0 | S84: 0 | T84: 0 | U84: =P84*5.75 -> 23
A85: =A84 -> 0.30902778 | B85: =C85*PCUs!$B$2+D85*PCUs!$B$3+E85*PCUs!$B$4+F85*PCUs!$B$5 -> 0 | G85: =B85*5.75 -> 0 | H85: =H84 -> 0.30902778 | I85: =J85*PCUs!$B$2+K85*PCUs!$B$3+L85*PCUs!$B$4+M85*PCUs!$B$5 -> 0 | N85: =I85*5.75 -> 0 | O85: =O84 -> 0.30902778 | P85: =Q85*PCUs!$B$2+R85*PCUs!$B$3+S85*PCUs!$B$4+T85*PCUs!$B$5 -> 0 | U85: =P85*5.75 -> 0
A86: =A85 -> 0.30902778 | B86: =C86*PCUs!$B$2+D86*PCUs!$B$3+E86*PCUs!$B$4+F86*PCUs!$B$5 -> 0 | G86: =B86*5.75 -> 0 | H86: =H85 -> 0.30902778 | I86: =J86*PCUs!$B$2+K86*PCUs!$B$3+L86*PCUs!$B$4+M86*PCUs!$B$5 -> 0 | N86: =I86*5.75 -> 0 | O86: =O85 -> 0.30902778 | P86: =Q86*PCUs!$B$2+R86*PCUs!$B$3+S86*PCUs!$B$4+T86*PCUs!$B$5 -> 0 | U86: =P86*5.75 -> 0
A87: =A86 -> 0.30902778 | B87: =C87*PCUs!$B$2+D87*PCUs!$B$3+E87*PCUs!$B$4+F87*PCUs!$B$5 -> 0 | G87: =B87*5.75 -> 0 | H87: =H86 -> 0.30902778 | I87: =J87*PCUs!$B$2+K87*PCUs!$B$3+L87*PCUs!$B$4+M87*PCUs!$B$5 -> 0 | N87: =I87*5.75 -> 0 | O87: =O86 -> 0.30902778 | P87: =Q87*PCUs!$B$2+R87*PCUs!$B$3+S87*PCUs!$B$4+T87*PCUs!$B$5 -> 0 | U87: =P87*5.75 -> 0
A88: =A87 -> 0.30902778 | B88: =C88*PCUs!$B$2+D88*PCUs!$B$3+E88*PCUs!$B$4+F88*PCUs!$B$5 -> 0 | G88: =B88*5.75 -> 0 | H88: =H87 -> 0.30902778 | I88: =J88*PCUs!$B$2+K88*PCUs!$B$3+L88*PCUs!$B$4+M88*PCUs!$B$5 -> 0 | N88: =I88*5.75 -> 0 | O88: =O87 -> 0.30902778 | P88: =Q88*PCUs!$B$2+R88*PCUs!$B$3+S88*PCUs!$B$4+T88*PCUs!$B$5 -> 0 | U88: =P88*5.75 -> 0
A89: =A88 -> 0.30902778 | B89: =C89*PCUs!$B$2+D89*PCUs!$B$3+E89*PCUs!$B$4+F89*PCUs!$B$5 -> 0 | G89: =B89*5.75 -> 0 | H89: =H88 -> 0.30902778 | I89: =J89*PCUs!$B$2+K89*PCUs!$B$3+L89*PCUs!$B$4+M89*PCUs!$B$5 -> 0 | N89: =I89*5.75 -> 0 | O89: =O88 -> 0.30902778 | P89: =Q89*PCUs!$B$2+R89*PCUs!$B$3+S89*PCUs!$B$4+T89*PCUs!$B$5 -> 0 | U89: =P89*5.75 -> 0
A90: =A89 -> 0.30902778 | B90: =C90*PCUs!$B$2+D90*PCUs!$B$3+E90*PCUs!$B$4+F90*PCUs!$B$5 -> 0 | G90: =B90*5.75 -> 0 | H90: =H89 -> 0.30902778 | I90: =J90*PCUs!$B$2+K90*PCUs!$B$3+L90*PCUs!$B$4+M90*PCUs!$B$5 -> 0 | N90: =I90*5.75 -> 0 | O90: =O89 -> 0.30902778 | P90: =Q90*PCUs!$B$2+R90*PCUs!$B$3+S90*PCUs!$B$4+T90*PCUs!$B$5 -> 0 | U90: =P90*5.75 -> 0
A91: =A90 -> 0.30902778 | B91: =C91*PCUs!$B$2+D91*PCUs!$B$3+E91*PCUs!$B$4+F91*PCUs!$B$5 -> 0 | G91: =B91*5.75 -> 0 | H91: =H90 -> 0.30902778 | I91: =J91*PCUs!$B$2+K91*PCUs!$B$3+L91*PCUs!$B$4+M91*PCUs!$B$5 -> 0 | N91: =I91*5.75 -> 0 | O91: =O90 -> 0.30902778 | P91: =Q91*PCUs!$B$2+R91*PCUs!$B$3+S91*PCUs!$B$4+T91*PCUs!$B$5 -> 0 | U91: =P91*5.75 -> 0
A92: =A91 -> 0.30902778 | B92: =C92*PCUs!$B$2+D92*PCUs!$B$3+E92*PCUs!$B$4+F92*PCUs!$B$5 -> 0 | G92: =B92*5.75 -> 0 | H92: =H91 -> 0.30902778 | I92: =J92*PCUs!$B$2+K92*PCUs!$B$3+L92*PCUs!$B$4+M92*PCUs!$B$5 -> 0 | N92: =I92*5.75 -> 0 | O92: =O91 -> 0.30902778 | P92: =Q92*PCUs!$B$2+R92*PCUs!$B$3+S92*PCUs!$B$4+T92*PCUs!$B$5 -> 0 | U92: =P92*5.75 -> 0
A93: =A92 -> 0.30902778 | B93: =MAX(B81:B92) -> 0 | C93: =VLOOKUP(B93,B81:F92,2,FALSE) -> 0 | D93: =VLOOKUP(B93,B81:F92,3,FALSE) -> 0 | E93: =VLOOKUP(B93,B81:F92,4,FALSE) -> 0 | F93: =VLOOKUP(B93,B81:F92,5,FALSE) -> 0 | G93: =B93*5.75 -> 0 | H93: =H92 -> 0.30902778 | I93: =MAX(I81:I92) -> 11 | J93: =VLOOKUP(I93,I81:M92,2,FALSE) -> 9 | K93: =VLOOKUP(I93,I81:M92,3,FALSE) -> 0 | L93: =VLOOKUP(I93,I81:M92,4,FALSE) -> 0 | M93: =VLOOKUP(I93,I81:M92,5,FALSE) -> 1 | N93: =I93*5.75 -> 63.25 | O93: =O92 -> 0.30902778 | P93: =MAX(P81:P92) -> 5.5 | Q93: =VLOOKUP(P93,P81:T92,2,FALSE) -> 4 | R93: =VLOOKUP(P93,P81:T92,3,FALSE) -> 1 | S93: =VLOOKUP(P93,P81:T92,4,FALSE) -> 0 | T93: =VLOOKUP(P93,P81:T92,5,FALSE) -> 0 | U93: =P93*5.75 -> 31.625
A94: =A92+"00:05" -> 0.3125 | B94: =C94*PCUs!$B$2+D94*PCUs!$B$3+E94*PCUs!$B$4+F94*PCUs!$B$5 -> 0 | G94: =B94*5.75 -> 0 | H94: =H92+"00:05" -> 0.3125 | I94: =J94*PCUs!$B$2+K94*PCUs!$B$3+L94*PCUs!$B$4+M94*PCUs!$B$5 -> 10 | J94: 10 | K94: 0 | L94: 0 | M94: 0 | N94: =I94*5.75 -> 57.5 | O94: =O92+"00:05" -> 0.3125 | P94: =Q94*PCUs!$B$2+R94*PCUs!$B$3+S94*PCUs!$B$4+T94*PCUs!$B$5 -> 3 | Q94: 3 | R94: 0 | S94: 0 | T94: 0 | U94: =P94*5.75 -> 17.25
A95: =A94 -> 0.3125 | B95: =C95*PCUs!$B$2+D95*PCUs!$B$3+E95*PCUs!$B$4+F95*PCUs!$B$5 -> 0 | G95: =B95*5.75 -> 0 | H95: =H94 -> 0.3125 | I95: =J95*PCUs!$B$2+K95*PCUs!$B$3+L95*PCUs!$B$4+M95*PCUs!$B$5 -> 6 | J95: 6 | K95: 0 | L95: 0 | M95: 0 | N95: =I95*5.75 -> 34.5 | O95: =O94 -> 0.3125 | P95: =Q95*PCUs!$B$2+R95*PCUs!$B$3+S95*PCUs!$B$4+T95*PCUs!$B$5 -> 1 | Q95: 1 | R95: 0 | S95: 0 | T95: 0 | U95: =P95*5.75 -> 5.75
A96: =A95 -> 0.3125 | B96: =C96*PCUs!$B$2+D96*PCUs!$B$3+E96*PCUs!$B$4+F96*PCUs!$B$5 -> 0 | G96: =B96*5.75 -> 0 | H96: =H95 -> 0.3125 | I96: =J96*PCUs!$B$2+K96*PCUs!$B$3+L96*PCUs!$B$4+M96*PCUs!$B$5 -> 6.5 | J96: 5 | K96: 1 | L96: 0 | M96: 0 | N96: =I96*5.75 -> 37.375 | O96: =O95 -> 0.3125 | P96: =Q96*PCUs!$B$2+R96*PCUs!$B$3+S96*PCUs!$B$4+T96*PCUs!$B$5 -> 2 | Q96: 2 | R96: 0 | S96: 0 | T96: 0 | U96: =P96*5.75 -> 11.5
A97: =A96 -> 0.3125 | B97: =C97*PCUs!$B$2+D97*PCUs!$B$3+E97*PCUs!$B$4+F97*PCUs!$B$5 -> 0 | G97: =B97*5.75 -> 0 | H97: =H96 -> 0.3125 | I97: =J97*PCUs!$B$2+K97*PCUs!$B$3+L97*PCUs!$B$4+M97*PCUs!$B$5 -> 5 | J97: 5 | K97: 0 | L97: 0 | M97: 0 | N97: =I97*5.75 -> 28.75 | O97: =O96 -> 0.3125 | P97: =Q97*PCUs!$B$2+R97*PCUs!$B$3+S97*PCUs!$B$4+T97*PCUs!$B$5 -> 3 | Q97: 3 | R97: 0 | S97: 0 | T97: 0 | U97: =P97*5.75 -> 17.25
A98: =A97 -> 0.3125 | B98: =C98*PCUs!$B$2+D98*PCUs!$B$3+E98*PCUs!$B$4+F98*PCUs!$B$5 -> 0 | G98: =B98*5.75 -> 0 | H98: =H97 -> 0.3125 | I98: =J98*PCUs!$B$2+K98*PCUs!$B$3+L98*PCUs!$B$4+M98*PCUs!$B$5 -> 9.3 | J98: 7 | K98: 0 | L98: 1 | M98: 0 | N98: =I98*5.75 -> 53.475 | O98: =O97 -> 0.3125 | P98: =Q98*PCUs!$B$2+R98*PCUs!$B$3+S98*PCUs!$B$4+T98*PCUs!$B$5 -> 7 | Q98: 7 | R98: 0 | S98: 0 | T98: 0 | U98: =P98*5.75 -> 40.25
A99: =A98 -> 0.3125 | B99: =C99*PCUs!$B$2+D99*PCUs!$B$3+E99*PCUs!$B$4+F99*PCUs!$B$5 -> 0 | G99: =B99*5.75 -> 0 | H99: =H98 -> 0.3125 | I99: =J99*PCUs!$B$2+K99*PCUs!$B$3+L99*PCUs!$B$4+M99*PCUs!$B$5 -> 0 | N99: =I99*5.75 -> 0 | O99: =O98 -> 0.3125 | P99: =Q99*PCUs!$B$2+R99*PCUs!$B$3+S99*PCUs!$B$4+T99*PCUs!$B$5 -> 0 | U99: =P99*5.75 -> 0
A100: =A99 -> 0.3125 | B100: =C100*PCUs!$B$2+D100*PCUs!$B$3+E100*PCUs!$B$4+F100*PCUs!$B$5 -> 0 | G100: =B100*5.75 -> 0 | H100: =H99 -> 0.3125 | I100: =J100*PCUs!$B$2+K100*PCUs!$B$3+L100*PCUs!$B$4+M100*PCUs!$B$5 -> 0 | N100: =I100*5.75 -> 0 | O100: =O99 -> 0.3125 | P100: =Q100*PCUs!$B$2+R100*PCUs!$B$3+S100*PCUs!$B$4+T100*PCUs!$B$5 -> 0 | U100: =P100*5.75 -> 0
A101: =A100 -> 0.3125 | B101: =C101*PCUs!$B$2+D101*PCUs!$B$3+E101*PCUs!$B$4+F101*PCUs!$B$5 -> 0 | G101: =B101*5.75 -> 0 | H101: =H100 -> 0.3125 | I101: =J101*PCUs!$B$2+K101*PCUs!$B$3+L101*PCUs!$B$4+M101*PCUs!$B$5 -> 0 | N101: =I101*5.75 -> 0 | O101: =O100 -> 0.3125 | P101: =Q101*PCUs!$B$2+R101*PCUs!$B$3+S101*PCUs!$B$4+T101*PCUs!$B$5 -> 0 | U101: =P101*5.75 -> 0
A102: =A101 -> 0.3125 | B102: =C102*PCUs!$B$2+D102*PCUs!$B$3+E102*PCUs!$B$4+F102*PCUs!$B$5 -> 0 | G102: =B102*5.75 -> 0 | H102: =H101 -> 0.3125 | I102: =J102*PCUs!$B$2+K102*PCUs!$B$3+L102*PCUs!$B$4+M102*PCUs!$B$5 -> 0 | N102: =I102*5.75 -> 0 | O102: =O101 -> 0.3125 | P102: =Q102*PCUs!$B$2+R102*PCUs!$B$3+S102*PCUs!$B$4+T102*PCUs!$B$5 -> 0 | U102: =P102*5.75 -> 0
A103: =A102 -> 0.3125 | B103: =C103*PCUs!$B$2+D103*PCUs!$B$3+E103*PCUs!$B$4+F103*PCUs!$B$5 -> 0 | G103: =B103*5.75 -> 0 | H103: =H102 -> 0.3125 | I103: =J103*PCUs!$B$2+K103*PCUs!$B$3+L103*PCUs!$B$4+M103*PCUs!$B$5 -> 0 | N103: =I103*5.75 -> 0 | O103: =O102 -> 0.3125 | P103: =Q103*PCUs!$B$2+R103*PCUs!$B$3+S103*PCUs!$B$4+T103*PCUs!$B$5 -> 0 | U103: =P103*5.75 -> 0
A104: =A103 -> 0.3125 | B104: =C104*PCUs!$B$2+D104*PCUs!$B$3+E104*PCUs!$B$4+F104*PCUs!$B$5 -> 0 | G104: =B104*5.75 -> 0 | H104: =H103 -> 0.3125 | I104: =J104*PCUs!$B$2+K104*PCUs!$B$3+L104*PCUs!$B$4+M104*PCUs!$B$5 -> 0 | N104: =I104*5.75 -> 0 | O104: =O103 -> 0.3125 | P104: =Q104*PCUs!$B$2+R104*PCUs!$B$3+S104*PCUs!$B$4+T104*PCUs!$B$5 -> 0 | U104: =P104*5.75 -> 0
A105: =A104 -> 0.3125 | B105: =C105*PCUs!$B$2+D105*PCUs!$B$3+E105*PCUs!$B$4+F105*PCUs!$B$5 -> 0 | G105: =B105*5.75 -> 0 | H105: =H104 -> 0.3125 | I105: =J105*PCUs!$B$2+K105*PCUs!$B$3+L105*PCUs!$B$4+M105*PCUs!$B$5 -> 0 | N105: =I105*5.75 -> 0 | O105: =O104 -> 0.3125 | P105: =Q105*PCUs!$B$2+R105*PCUs!$B$3+S105*PCUs!$B$4+T105*PCUs!$B$5 -> 0 | U105: =P105*5.75 -> 0
A106: =A105 -> 0.3125 | B106: =MAX(B94:B105) -> 0 | C106: =VLOOKUP(B106,B94:F105,2,FALSE) -> 0 | D106: =VLOOKUP(B106,B94:F105,3,FALSE) -> 0 | E106: =VLOOKUP(B106,B94:F105,4,FALSE) -> 0 | F106: =VLOOKUP(B106,B94:F105,5,FALSE) -> 0 | G106: =B106*5.75 -> 0 | H106: =H105 -> 0.3125 | I106: =MAX(I94:I105) -> 10 | J106: =VLOOKUP(I106,I94:M105,2,FALSE) -> 10 | K106: =VLOOKUP(I106,I94:M105,3,FALSE) -> 0 | L106: =VLOOKUP(I106,I94:M105,4,FALSE) -> 0 | M106: =VLOOKUP(I106,I94:M105,5,FALSE) -> 0 | N106: =I106*5.75 -> 57.5 | O106: =O105 -> 0.3125 | P106: =MAX(P94:P105) -> 7 | Q106: =VLOOKUP(P106,P94:T105,2,FALSE) -> 7 | R106: =VLOOKUP(P106,P94:T105,3,FALSE) -> 0 | S106: =VLOOKUP(P106,P94:T105,4,FALSE) -> 0 | T106: =VLOOKUP(P106,P94:T105,5,FALSE) -> 0 | U106: =P106*5.75 -> 40.25
A107: =A105+"00:05" -> 0.31597222 | B107: =C107*PCUs!$B$2+D107*PCUs!$B$3+E107*PCUs!$B$4+F107*PCUs!$B$5 -> 0 | G107: =B107*5.75 -> 0 | H107: =H105+"00:05" -> 0.31597222 | I107: =J107*PCUs!$B$2+K107*PCUs!$B$3+L107*PCUs!$B$4+M107*PCUs!$B$5 -> 11.5 | J107: 10 | K107: 1 | L107: 0 | M107: 0 | N107: =I107*5.75 -> 66.125 | O107: =O105+"00:05" -> 0.31597222 | P107: =Q107*PCUs!$B$2+R107*PCUs!$B$3+S107*PCUs!$B$4+T107*PCUs!$B$5 -> 4 | Q107: 4 | R107: 0 | S107: 0 | T107: 0 | U107: =P107*5.75 -> 23
...

Sheet Site 4 Arm B
U2: 16367 / SOUTHAMPTON
U3: =UPPER(TEXT(U8,"mMmm yyyy")) -> FEBRUARY 2025
U4: QUEUE LENGTH SURVEY
A8: SITE: | C8: 4 | T8: DATE: | U8: 45701
A10: LOCATION: | C10: Stoneham Interchange | T10: DAY: | U10: =UPPER(TEXT(U8,"dddd")) -> THURSDAY
A12: ANALYSIS: All queues in each 5 minute period at the start of the green phase.
A14: Arm B - Lane 1 | H14: Arm B - Lane 2 | O14: Arm B - Lane 3
A15: Time | B15: Total | C15: Cars | D15: OGV1 | E15: OGV2 | F15: PSV | G15: Metres | H15: Time | I15: Total | J15: Cars | K15: OGV1 | L15: OGV2 | M15: PSV | N15: Metres | O15: Time | P15: Total | Q15: Cars | R15: OGV1 | S15: OGV2 | T15: PSV | U15: Metres
A16: 0.29166667 | B16: =C16*PCUs!$B$2+D16*PCUs!$B$3+E16*PCUs!$B$4+F16*PCUs!$B$5 -> 3 | C16: 3 | D16: 0 | E16: 0 | F16: 0 | G16: =B16*5.75 -> 17.25 | H16: 0.29166667 | I16: =J16*PCUs!$B$2+K16*PCUs!$B$3+L16*PCUs!$B$4+M16*PCUs!$B$5 -> 2.5 | J16: 1 | K16: 1 | L16: 0 | M16: 0 | N16: =I16*5.75 -> 14.375 | O16: 0.29166667 | P16: =Q16*PCUs!$B$2+R16*PCUs!$B$3+S16*PCUs!$B$4+T16*PCUs!$B$5 -> 1 | Q16: 1 | R16: 0 | S16: 0 | T16: 0 | U16: =P16*5.75 -> 5.75
A17: =A16 -> 0.29166667 | B17: =C17*PCUs!$B$2+D17*PCUs!$B$3+E17*PCUs!$B$4+F17*PCUs!$B$5 -> 2 | C17: 2 | D17: 0 | E17: 0 | F17: 0 | G17: =B17*5.75 -> 11.5 | H17: =H16 -> 0.29166667 | I17: =J17*PCUs!$B$2+K17*PCUs!$B$3+L17*PCUs!$B$4+M17*PCUs!$B$5 -> 1 | J17: 1 | K17: 0 | L17: 0 | M17: 0 | N17: =I17*5.75 -> 5.75 | O17: =O16 -> 0.29166667 | P17: =Q17*PCUs!$B$2+R17*PCUs!$B$3+S17*PCUs!$B$4+T17*PCUs!$B$5 -> 0 | Q17: 0 | R17: 0 | S17: 0 | T17: 0 | U17: =P17*5.75 -> 0
A18: =A17 -> 0.29166667 | B18: =C18*PCUs!$B$2+D18*PCUs!$B$3+E18*PCUs!$B$4+F18*PCUs!$B$5 -> 8.3 | C18: 6 | D18: 0 | E18: 1 | F18: 0 | G18: =B18*5.75 -> 47.725 | H18: =H17 -> 0.29166667 | I18: =J18*PCUs!$B$2+K18*PCUs!$B$3+L18*PCUs!$B$4+M18*PCUs!$B$5 -> 4 | J18: 4 | K18: 0 | L18: 0 | M18: 0 | N18: =I18*5.75 -> 23 | O18: =O17 -> 0.29166667 | P18: =Q18*PCUs!$B$2+R18*PCUs!$B$3+S18*PCUs!$B$4+T18*PCUs!$B$5 -> 0 | Q18: 0 | R18: 0 | S18: 0 | T18: 0 | U18: =P18*5.75 -> 0
A19: =A18 -> 0.29166667 | B19: =C19*PCUs!$B$2+D19*PCUs!$B$3+E19*PCUs!$B$4+F19*PCUs!$B$5 -> 16.5 | C19: 15 | D19: 1 | E19: 0 | F19: 0 | G19: =B19*5.75 -> 94.875 | H19: =H18 -> 0.29166667 | I19: =J19*PCUs!$B$2+K19*PCUs!$B$3+L19*PCUs!$B$4+M19*PCUs!$B$5 -> 5 | J19: 5 | K19: 0 | L19: 0 | M19: 0 | N19: =I19*5.75 -> 28.75 | O19: =O18 -> 0.29166667 | P19: =Q19*PCUs!$B$2+R19*PCUs!$B$3+S19*PCUs!$B$4+T19*PCUs!$B$5 -> 0 | Q19: 0 | R19: 0 | S19: 0 | T19: 0 | U19: =P19*5.75 -> 0
A20: =A19 -> 0.29166667 | B20: =C20*PCUs!$B$2+D20*PCUs!$B$3+E20*PCUs!$B$4+F20*PCUs!$B$5 -> 14.5 | C20: 13 | D20: 1 | E20: 0 | F20: 0 | G20: =B20*5.75 -> 83.375 | H20: =H19 -> 0.29166667 | I20: =J20*PCUs!$B$2+K20*PCUs!$B$3+L20*PCUs!$B$4+M20*PCUs!$B$5 -> 0 | J20: 0 | K20: 0 | L20: 0 | M20: 0 | N20: =I20*5.75 -> 0 | O20: =O19 -> 0.29166667 | P20: =Q20*PCUs!$B$2+R20*PCUs!$B$3+S20*PCUs!$B$4+T20*PCUs!$B$5 -> 0 | Q20: 0 | R20: 0 | S20: 0 | T20: 0 | U20: =P20*5.75 -> 0
A21: =A20 -> 0.29166667 | B21: =C21*PCUs!$B$2+D21*PCUs!$B$3+E21*PCUs!$B$4+F21*PCUs!$B$5 -> 15 | C21: 15 | D21: 0 | E21: 0 | F21: 0 | G21: =B21*5.75 -> 86.25 | H21: =H20 -> 0.29166667 | I21: =J21*PCUs!$B$2+K21*PCUs!$B$3+L21*PCUs!$B$4+M21*PCUs!$B$5 -> 1 | J21: 1 | K21: 0 | L21: 0 | M21: 0 | N21: =I21*5.75 -> 5.75 | O21: =O20 -> 0.29166667 | P21: =Q21*PCUs!$B$2+R21*PCUs!$B$3+S21*PCUs!$B$4+T21*PCUs!$B$5 -> 1 | Q21: 1 | R21: 0 | S21: 0 | T21: 0 | U21: =P21*5.75 -> 5.75
A22: =A21 -> 0.29166667 | B22: =C22*PCUs!$B$2+D22*PCUs!$B$3+E22*PCUs!$B$4+F22*PCUs!$B$5 -> 0 | G22: =B22*5.75 -> 0 | H22: =H21 -> 0.29166667 | I22: =J22*PCUs!$B$2+K22*PCUs!$B$3+L22*PCUs!$B$4+M22*PCUs!$B$5 -> 0 | N22: =I22*5.75 -> 0 | O22: =O21 -> 0.29166667 | P22: =Q22*PCUs!$B$2+R22*PCUs!$B$3+S22*PCUs!$B$4+T22*PCUs!$B$5 -> 0 | U22: =P22*5.75 -> 0
A23: =A22 -> 0.29166667 | B23: =C23*PCUs!$B$2+D23*PCUs!$B$3+E23*PCUs!$B$4+F23*PCUs!$B$5 -> 0 | G23: =B23*5.75 -> 0 | H23: =H22 -> 0.29166667 | I23: =J23*PCUs!$B$2+K23*PCUs!$B$3+L23*PCUs!$B$4+M23*PCUs!$B$5 -> 0 | N23: =I23*5.75 -> 0 | O23: =O22 -> 0.29166667 | P23: =Q23*PCUs!$B$2+R23*PCUs!$B$3+S23*PCUs!$B$4+T23*PCUs!$B$5 -> 0 | U23: =P23*5.75 -> 0
A24: =A23 -> 0.29166667 | B24: =C24*PCUs!$B$2+D24*PCUs!$B$3+E24*PCUs!$B$4+F24*PCUs!$B$5 -> 0 | G24: =B24*5.75 -> 0 | H24: =H23 -> 0.29166667 | I24: =J24*PCUs!$B$2+K24*PCUs!$B$3+L24*PCUs!$B$4+M24*PCUs!$B$5 -> 0 | N24: =I24*5.75 -> 0 | O24: =O23 -> 0.29166667 | P24: =Q24*PCUs!$B$2+R24*PCUs!$B$3+S24*PCUs!$B$4+T24*PCUs!$B$5 -> 0 | U24: =P24*5.75 -> 0
A25: =A24 -> 0.29166667 | B25: =C25*PCUs!$B$2+D25*PCUs!$B$3+E25*PCUs!$B$4+F25*PCUs!$B$5 -> 0 | G25: =B25*5.75 -> 0 | H25: =H24 -> 0.29166667 | I25: =J25*PCUs!$B$2+K25*PCUs!$B$3+L25*PCUs!$B$4+M25*PCUs!$B$5 -> 0 | N25: =I25*5.75 -> 0 | O25: =O24 -> 0.29166667 | P25: =Q25*PCUs!$B$2+R25*PCUs!$B$3+S25*PCUs!$B$4+T25*PCUs!$B$5 -> 0 | U25: =P25*5.75 -> 0
A26: =A25 -> 0.29166667 | B26: =C26*PCUs!$B$2+D26*PCUs!$B$3+E26*PCUs!$B$4+F26*PCUs!$B$5 -> 0 | G26: =B26*5.75 -> 0 | H26: =H25 -> 0.29166667 | I26: =J26*PCUs!$B$2+K26*PCUs!$B$3+L26*PCUs!$B$4+M26*PCUs!$B$5 -> 0 | N26: =I26*5.75 -> 0 | O26: =O25 -> 0.29166667 | P26: =Q26*PCUs!$B$2+R26*PCUs!$B$3+S26*PCUs!$B$4+T26*PCUs!$B$5 -> 0 | U26: =P26*5.75 -> 0
A27: =A26 -> 0.29166667 | B27: =C27*PCUs!$B$2+D27*PCUs!$B$3+E27*PCUs!$B$4+F27*PCUs!$B$5 -> 0 | G27: =B27*5.75 -> 0 | H27: =H26 -> 0.29166667 | I27: =J27*PCUs!$B$2+K27*PCUs!$B$3+L27*PCUs!$B$4+M27*PCUs!$B$5 -> 0 | N27: =I27*5.75 -> 0 | O27: =O26 -> 0.29166667 | P27: =Q27*PCUs!$B$2+R27*PCUs!$B$3+S27*PCUs!$B$4+T27*PCUs!$B$5 -> 0 | U27: =P27*5.75 -> 0
A28: =A27 -> 0.29166667 | B28: =MAX(B16:B27) -> 16.5 | C28: =VLOOKUP(B28,B16:F27,2,FALSE) -> 15 | D28: =VLOOKUP(B28,B16:F27,3,FALSE) -> 1 | E28: =VLOOKUP(B28,B16:F27,4,FALSE) -> 0 | F28: =VLOOKUP(B28,B16:F27,5,FALSE) -> 0 | G28: =B28*5.75 -> 94.875 | H28: =H27 -> 0.29166667 | I28: =MAX(I16:I27) -> 5 | J28: =VLOOKUP(I28,I16:M27,2,FALSE) -> 5 | K28: =VLOOKUP(I28,I16:M27,3,FALSE) -> 0 | L28: =VLOOKUP(I28,I16:M27,4,FALSE) -> 0 | M28: =VLOOKUP(I28,I16:M27,5,FALSE) -> 0 | N28: =I28*5.75 -> 28.75 | O28: =O27 -> 0.29166667 | P28: =MAX(P16:P27) -> 1 | Q28: =VLOOKUP(P28,P16:T27,2,FALSE) -> 1 | R28: =VLOOKUP(P28,P16:T27,3,FALSE) -> 0 | S28: =VLOOKUP(P28,P16:T27,4,FALSE) -> 0 | T28: =VLOOKUP(P28,P16:T27,5,FALSE) -> 0 | U28: =P28*5.75 -> 5.75
A29: =A27+"00:05" -> 0.29513889 | B29: =C29*PCUs!$B$2+D29*PCUs!$B$3+E29*PCUs!$B$4+F29*PCUs!$B$5 -> 13.3 | C29: 11 | D29: 0 | E29: 1 | F29: 0 | G29: =B29*5.75 -> 76.475 | H29: =H27+"00:05" -> 0.29513889 | I29: =J29*PCUs!$B$2+K29*PCUs!$B$3+L29*PCUs!$B$4+M29*PCUs!$B$5 -> 0 | J29: 0 | K29: 0 | L29: 0 | M29: 0 | N29: =I29*5.75 -> 0 | O29: =O27+"00:05" -> 0.29513889 | P29: =Q29*PCUs!$B$2+R29*PCUs!$B$3+S29*PCUs!$B$4+T29*PCUs!$B$5 -> 1 | Q29: 1 | R29: 0 | S29: 0 | T29: 0 | U29: =P29*5.75 -> 5.75
A30: =A29 -> 0.29513889 | B30: =C30*PCUs!$B$2+D30*PCUs!$B$3+E30*PCUs!$B$4+F30*PCUs!$B$5 -> 12.3 | C30: 10 | D30: 0 | E30: 1 | F30: 0 | G30: =B30*5.75 -> 70.725 | H30: =H29 -> 0.29513889 | I30: =J30*PCUs!$B$2+K30*PCUs!$B$3+L30*PCUs!$B$4+M30*PCUs!$B$5 -> 10 | J30: 10 | K30: 0 | L30: 0 | M30: 0 | N30: =I30*5.75 -> 57.5 | O30: =O29 -> 0.29513889 | P30: =Q30*PCUs!$B$2+R30*PCUs!$B$3+S30*PCUs!$B$4+T30*PCUs!$B$5 -> 0 | Q30: 0 | R30: 0 | S30: 0 | T30: 0 | U30: =P30*5.75 -> 0
A31: =A30 -> 0.29513889 | B31: =C31*PCUs!$B$2+D31*PCUs!$B$3+E31*PCUs!$B$4+F31*PCUs!$B$5 -> 9 | C31: 9 | D31: 0 | E31: 0 | F31: 0 | G31: =B31*5.75 -> 51.75 | H31: =H30 -> 0.29513889 | I31: =J31*PCUs!$B$2+K31*PCUs!$B$3+L31*PCUs!$B$4+M31*PCUs!$B$5 -> 4 | J31: 4 | K31: 0 | L31: 0 | M31: 0 | N31: =I31*5.75 -> 23 | O31: =O30 -> 0.29513889 | P31: =Q31*PCUs!$B$2+R31*PCUs!$B$3+S31*PCUs!$B$4+T31*PCUs!$B$5 -> 0 | Q31: 0 | R31: 0 | S31: 0 | T31: 0 | U31: =P31*5.75 -> 0
A32: =A31 -> 0.29513889 | B32: =C32*PCUs!$B$2+D32*PCUs!$B$3+E32*PCUs!$B$4+F32*PCUs!$B$5 -> 9.5 | C32: 8 | D32: 1 | E32: 0 | F32: 0 | G32: =B32*5.75 -> 54.625 | H32: =H31 -> 0.29513889 | I32: =J32*PCUs!$B$2+K32*PCUs!$B$3+L32*PCUs!$B$4+M32*PCUs!$B$5 -> 6 | J32: 6 | K32: 0 | L32: 0 | M32: 0 | N32: =I32*5.75 -> 34.5 | O32: =O31 -> 0.29513889 | P32: =Q32*PCUs!$B$2+R32*PCUs!$B$3+S32*PCUs!$B$4+T32*PCUs!$B$5 -> 0 | Q32: 0 | R32: 0 | S32: 0 | T32: 0 | U32: =P32*5.75 -> 0
A33: =A32 -> 0.29513889 | B33: =C33*PCUs!$B$2+D33*PCUs!$B$3+E33*PCUs!$B$4+F33*PCUs!$B$5 -> 3 | C33: 3 | D33: 0 | E33: 0 | F33: 0 | G33: =B33*5.75 -> 17.25 | H33: =H32 -> 0.29513889 | I33: =J33*PCUs!$B$2+K33*PCUs!$B$3+L33*PCUs!$B$4+M33*PCUs!$B$5 -> 5 | J33: 5 | K33: 0 | L33: 0 | M33: 0 | N33: =I33*5.75 -> 28.75 | O33: =O32 -> 0.29513889 | P33: =Q33*PCUs!$B$2+R33*PCUs!$B$3+S33*PCUs!$B$4+T33*PCUs!$B$5 -> 2 | Q33: 2 | R33: 0 | S33: 0 | T33: 0 | U33: =P33*5.75 -> 11.5
A34: =A33 -> 0.29513889 | B34: =C34*PCUs!$B$2+D34*PCUs!$B$3+E34*PCUs!$B$4+F34*PCUs!$B$5 -> 0 | G34: =B34*5.75 -> 0 | H34: =H33 -> 0.29513889 | I34: =J34*PCUs!$B$2+K34*PCUs!$B$3+L34*PCUs!$B$4+M34*PCUs!$B$5 -> 0 | N34: =I34*5.75 -> 0 | O34: =O33 -> 0.29513889 | P34: =Q34*PCUs!$B$2+R34*PCUs!$B$3+S34*PCUs!$B$4+T34*PCUs!$B$5 -> 0 | U34: =P34*5.75 -> 0
A35: =A34 -> 0.29513889 | B35: =C35*PCUs!$B$2+D35*PCUs!$B$3+E35*PCUs!$B$4+F35*PCUs!$B$5 -> 0 | G35: =B35*5.75 -> 0 | H35: =H34 -> 0.29513889 | I35: =J35*PCUs!$B$2+K35*PCUs!$B$3+L35*PCUs!$B$4+M35*PCUs!$B$5 -> 0 | N35: =I35*5.75 -> 0 | O35: =O34 -> 0.29513889 | P35: =Q35*PCUs!$B$2+R35*PCUs!$B$3+S35*PCUs!$B$4+T35*PCUs!$B$5 -> 0 | U35: =P35*5.75 -> 0
A36: =A35 -> 0.29513889 | B36: =C36*PCUs!$B$2+D36*PCUs!$B$3+E36*PCUs!$B$4+F36*PCUs!$B$5 -> 0 | G36: =B36*5.75 -> 0 | H36: =H35 -> 0.29513889 | I36: =J36*PCUs!$B$2+K36*PCUs!$B$3+L36*PCUs!$B$4+M36*PCUs!$B$5 -> 0 | N36: =I36*5.75 -> 0 | O36: =O35 -> 0.29513889 | P36: =Q36*PCUs!$B$2+R36*PCUs!$B$3+S36*PCUs!$B$4+T36*PCUs!$B$5 -> 0 | U36: =P36*5.75 -> 0
A37: =A36 -> 0.29513889 | B37: =C37*PCUs!$B$2+D37*PCUs!$B$3+E37*PCUs!$B$4+F37*PCUs!$B$5 -> 0 | G37: =B37*5.75 -> 0 | H37: =H36 -> 0.29513889 | I37: =J37*PCUs!$B$2+K37*PCUs!$B$3+L37*PCUs!$B$4+M37*PCUs!$B$5 -> 0 | N37: =I37*5.75 -> 0 | O37: =O36 -> 0.29513889 | P37: =Q37*PCUs!$B$2+R37*PCUs!$B$3+S37*PCUs!$B$4+T37*PCUs!$B$5 -> 0 | U37: =P37*5.75 -> 0
A38: =A37 -> 0.29513889 | B38: =C38*PCUs!$B$2+D38*PCUs!$B$3+E38*PCUs!$B$4+F38*PCUs!$B$5 -> 0 | G38: =B38*5.75 -> 0 | H38: =H37 -> 0.29513889 | I38: =J38*PCUs!$B$2+K38*PCUs!$B$3+L38*PCUs!$B$4+M38*PCUs!$B$5 -> 0 | N38: =I38*5.75 -> 0 | O38: =O37 -> 0.29513889 | P38: =Q38*PCUs!$B$2+R38*PCUs!$B$3+S38*PCUs!$B$4+T38*PCUs!$B$5 -> 0 | U38: =P38*5.75 -> 0
A39: =A38 -> 0.29513889 | B39: =C39*PCUs!$B$2+D39*PCUs!$B$3+E39*PCUs!$B$4+F39*PCUs!$B$5 -> 0 | G39: =B39*5.75 -> 0 | H39: =H38 -> 0.29513889 | I39: =J39*PCUs!$B$2+K39*PCUs!$B$3+L39*PCUs!$B$4+M39*PCUs!$B$5 -> 0 | N39: =I39*5.75 -> 0 | O39: =O38 -> 0.29513889 | P39: =Q39*PCUs!$B$2+R39*PCUs!$B$3+S39*PCUs!$B$4+T39*PCUs!$B$5 -> 0 | U39: =P39*5.75 -> 0
A40: =A39 -> 0.29513889 | B40: =C40*PCUs!$B$2+D40*PCUs!$B$3+E40*PCUs!$B$4+F40*PCUs!$B$5 -> 0 | G40: =B40*5.75 -> 0 | H40: =H39 -> 0.29513889 | I40: =J40*PCUs!$B$2+K40*PCUs!$B$3+L40*PCUs!$B$4+M40*PCUs!$B$5 -> 0 | N40: =I40*5.75 -> 0 | O40: =O39 -> 0.29513889 | P40: =Q40*PCUs!$B$2+R40*PCUs!$B$3+S40*PCUs!$B$4+T40*PCUs!$B$5 -> 0 | U40: =P40*5.75 -> 0
A41: =A40 -> 0.29513889 | B41: =MAX(B29:B40) -> 13.3 | C41: =VLOOKUP(B41,B29:F40,2,FALSE) -> 11 | D41: =VLOOKUP(B41,B29:F40,3,FALSE) -> 0 | E41: =VLOOKUP(B41,B29:F40,4,FALSE) -> 1 | F41: =VLOOKUP(B41,B29:F40,5,FALSE) -> 0 | G41: =B41*5.75 -> 76.475 | H41: =H40 -> 0.29513889 | I41: =MAX(I29:I40) -> 10 | J41: =VLOOKUP(I41,I29:M40,2,FALSE) -> 10 | K41: =VLOOKUP(I41,I29:M40,3,FALSE) -> 0 | L41: =VLOOKUP(I41,I29:M40,4,FALSE) -> 0 | M41: =VLOOKUP(I41,I29:M40,5,FALSE) -> 0 | N41: =I41*5.75 -> 57.5 | O41: =O40 -> 0.29513889 | P41: =MAX(P29:P40) -> 2 | Q41: =VLOOKUP(P41,P29:T40,2,FALSE) -> 2 | R41: =VLOOKUP(P41,P29:T40,3,FALSE) -> 0 | S41: =VLOOKUP(P41,P29:T40,4,FALSE) -> 0 | T41: =VLOOKUP(P41,P29:T40,5,FALSE) -> 0 | U41: =P41*5.75 -> 11.5
A42: =A40+"00:05" -> 0.29861111 | B42: =C42*PCUs!$B$2+D42*PCUs!$B$3+E42*PCUs!$B$4+F42*PCUs!$B$5 -> 10.5 | C42: 9 | D42: 1 | E42: 0 | F42: 0 | G42: =B42*5.75 -> 60.375 | H42: =H40+"00:05" -> 0.29861111 | I42: =J42*PCUs!$B$2+K42*PCUs!$B$3+L42*PCUs!$B$4+M42*PCUs!$B$5 -> 8 | J42: 8 | K42: 0 | L42: 0 | M42: 0 | N42: =I42*5.75 -> 46 | O42: =O40+"00:05" -> 0.29861111 | P42: =Q42*PCUs!$B$2+R42*PCUs!$B$3+S42*PCUs!$B$4+T42*PCUs!$B$5 -> 1 | Q42: 1 | R42: 0 | S42: 0 | T42: 0 | U42: =P42*5.75 -> 5.75
A43: =A42 -> 0.29861111 | B43: =C43*PCUs!$B$2+D43*PCUs!$B$3+E43*PCUs!$B$4+F43*PCUs!$B$5 -> 7.5 | C43: 6 | D43: 1 | E43: 0 | F43: 0 | G43: =B43*5.75 -> 43.125 | H43: =H42 -> 0.29861111 | I43: =J43*PCUs!$B$2+K43*PCUs!$B$3+L43*PCUs!$B$4+M43*PCUs!$B$5 -> 0 | J43: 0 | K43: 0 | L43: 0 | M43: 0 | N43: =I43*5.75 -> 0 | O43: =O42 -> 0.29861111 | P43: =Q43*PCUs!$B$2+R43*PCUs!$B$3+S43*PCUs!$B$4+T43*PCUs!$B$5 -> 0 | Q43: 0 | R43: 0 | S43: 0 | T43: 0 | U43: =P43*5.75 -> 0
A44: =A43 -> 0.29861111 | B44: =C44*PCUs!$B$2+D44*PCUs!$B$3+E44*PCUs!$B$4+F44*PCUs!$B$5 -> 1 | C44: 1 | D44: 0 | E44: 0 | F44: 0 | G44: =B44*5.75 -> 5.75 | H44: =H43 -> 0.29861111 | I44: =J44*PCUs!$B$2+K44*PCUs!$B$3+L44*PCUs!$B$4+M44*PCUs!$B$5 -> 0 | J44: 0 | K44: 0 | L44: 0 | M44: 0 | N44: =I44*5.75 -> 0 | O44: =O43 -> 0.29861111 | P44: =Q44*PCUs!$B$2+R44*PCUs!$B$3+S44*PCUs!$B$4+T44*PCUs!$B$5 -> 1 | Q44: 1 | R44: 0 | S44: 0 | T44: 0 | U44: =P44*5.75 -> 5.75
A45: =A44 -> 0.29861111 | B45: =C45*PCUs!$B$2+D45*PCUs!$B$3+E45*PCUs!$B$4+F45*PCUs!$B$5 -> 4 | C45: 4 | D45: 0 | E45: 0 | F45: 0 | G45: =B45*5.75 -> 23 | H45: =H44 -> 0.29861111 | I45: =J45*PCUs!$B$2+K45*PCUs!$B$3+L45*PCUs!$B$4+M45*PCUs!$B$5 -> 5 | J45: 5 | K45: 0 | L45: 0 | M45: 0 | N45: =I45*5.75 -> 28.75 | O45: =O44 -> 0.29861111 | P45: =Q45*PCUs!$B$2+R45*PCUs!$B$3+S45*PCUs!$B$4+T45*PCUs!$B$5 -> 0 | Q45: 0 | R45: 0 | S45: 0 | T45: 0 | U45: =P45*5.75 -> 0
A46: =A45 -> 0.29861111 | B46: =C46*PCUs!$B$2+D46*PCUs!$B$3+E46*PCUs!$B$4+F46*PCUs!$B$5 -> 6 | C46: 6 | D46: 0 | E46: 0 | F46: 0 | G46: =B46*5.75 -> 34.5 | H46: =H45 -> 0.29861111 | I46: =J46*PCUs!$B$2+K46*PCUs!$B$3+L46*PCUs!$B$4+M46*PCUs!$B$5 -> 1 | J46: 1 | K46: 0 | L46: 0 | M46: 0 | N46: =I46*5.75 -> 5.75 | O46: =O45 -> 0.29861111 | P46: =Q46*PCUs!$B$2+R46*PCUs!$B$3+S46*PCUs!$B$4+T46*PCUs!$B$5 -> 0 | Q46: 0 | R46: 0 | S46: 0 | T46: 0 | U46: =P46*5.75 -> 0
A47: =A46 -> 0.29861111 | B47: =C47*PCUs!$B$2+D47*PCUs!$B$3+E47*PCUs!$B$4+F47*PCUs!$B$5 -> 6 | C47: 6 | D47: 0 | E47: 0 | F47: 0 | G47: =B47*5.75 -> 34.5 | H47: =H46 -> 0.29861111 | I47: =J47*PCUs!$B$2+K47*PCUs!$B$3+L47*PCUs!$B$4+M47*PCUs!$B$5 -> 2 | J47: 2 | K47: 0 | L47: 0 | M47: 0 | N47: =I47*5.75 -> 11.5 | O47: =O46 -> 0.29861111 | P47: =Q47*PCUs!$B$2+R47*PCUs!$B$3+S47*PCUs!$B$4+T47*PCUs!$B$5 -> 1 | Q47: 1 | R47: 0 | S47: 0 | T47: 0 | U47: =P47*5.75 -> 5.75
A48: =A47 -> 0.29861111 | B48: =C48*PCUs!$B$2+D48*PCUs!$B$3+E48*PCUs!$B$4+F48*PCUs!$B$5 -> 0 | G48: =B48*5.75 -> 0 | H48: =H47 -> 0.29861111 | I48: =J48*PCUs!$B$2+K48*PCUs!$B$3+L48*PCUs!$B$4+M48*PCUs!$B$5 -> 0 | N48: =I48*5.75 -> 0 | O48: =O47 -> 0.29861111 | P48: =Q48*PCUs!$B$2+R48*PCUs!$B$3+S48*PCUs!$B$4+T48*PCUs!$B$5 -> 0 | U48: =P48*5.75 -> 0
A49: =A48 -> 0.29861111 | B49: =C49*PCUs!$B$2+D49*PCUs!$B$3+E49*PCUs!$B$4+F49*PCUs!$B$5 -> 0 | G49: =B49*5.75 -> 0 | H49: =H48 -> 0.29861111 | I49: =J49*PCUs!$B$2+K49*PCUs!$B$3+L49*PCUs!$B$4+M49*PCUs!$B$5 -> 0 | N49: =I49*5.75 -> 0 | O49: =O48 -> 0.29861111 | P49: =Q49*PCUs!$B$2+R49*PCUs!$B$3+S49*PCUs!$B$4+T49*PCUs!$B$5 -> 0 | U49: =P49*5.75 -> 0
A50: =A49 -> 0.29861111 | B50: =C50*PCUs!$B$2+D50*PCUs!$B$3+E50*PCUs!$B$4+F50*PCUs!$B$5 -> 0 | G50: =B50*5.75 -> 0 | H50: =H49 -> 0.29861111 | I50: =J50*PCUs!$B$2+K50*PCUs!$B$3+L50*PCUs!$B$4+M50*PCUs!$B$5 -> 0 | N50: =I50*5.75 -> 0 | O50: =O49 -> 0.29861111 | P50: =Q50*PCUs!$B$2+R50*PCUs!$B$3+S50*PCUs!$B$4+T50*PCUs!$B$5 -> 0 | U50: =P50*5.75 -> 0
A51: =A50 -> 0.29861111 | B51: =C51*PCUs!$B$2+D51*PCUs!$B$3+E51*PCUs!$B$4+F51*PCUs!$B$5 -> 0 | G51: =B51*5.75 -> 0 | H51: =H50 -> 0.29861111 | I51: =J51*PCUs!$B$2+K51*PCUs!$B$3+L51*PCUs!$B$4+M51*PCUs!$B$5 -> 0 | N51: =I51*5.75 -> 0 | O51: =O50 -> 0.29861111 | P51: =Q51*PCUs!$B$2+R51*PCUs!$B$3+S51*PCUs!$B$4+T51*PCUs!$B$5 -> 0 | U51: =P51*5.75 -> 0
A52: =A51 -> 0.29861111 | B52: =C52*PCUs!$B$2+D52*PCUs!$B$3+E52*PCUs!$B$4+F52*PCUs!$B$5 -> 0 | G52: =B52*5.75 -> 0 | H52: =H51 -> 0.29861111 | I52: =J52*PCUs!$B$2+K52*PCUs!$B$3+L52*PCUs!$B$4+M52*PCUs!$B$5 -> 0 | N52: =I52*5.75 -> 0 | O52: =O51 -> 0.29861111 | P52: =Q52*PCUs!$B$2+R52*PCUs!$B$3+S52*PCUs!$B$4+T52*PCUs!$B$5 -> 0 | U52: =P52*5.75 -> 0
A53: =A52 -> 0.29861111 | B53: =C53*PCUs!$B$2+D53*PCUs!$B$3+E53*PCUs!$B$4+F53*PCUs!$B$5 -> 0 | G53: =B53*5.75 -> 0 | H53: =H52 -> 0.29861111 | I53: =J53*PCUs!$B$2+K53*PCUs!$B$3+L53*PCUs!$B$4+M53*PCUs!$B$5 -> 0 | N53: =I53*5.75 -> 0 | O53: =O52 -> 0.29861111 | P53: =Q53*PCUs!$B$2+R53*PCUs!$B$3+S53*PCUs!$B$4+T53*PCUs!$B$5 -> 0 | U53: =P53*5.75 -> 0
A54: =A53 -> 0.29861111 | B54: =MAX(B42:B53) -> 10.5 | C54: =VLOOKUP(B54,B42:F53,2,FALSE) -> 9 | D54: =VLOOKUP(B54,B42:F53,3,FALSE) -> 1 | E54: =VLOOKUP(B54,B42:F53,4,FALSE) -> 0 | F54: =VLOOKUP(B54,B42:F53,5,FALSE) -> 0 | G54: =B54*5.75 -> 60.375 | H54: =H53 -> 0.29861111 | I54: =MAX(I42:I53) -> 8 | J54: =VLOOKUP(I54,I42:M53,2,FALSE) -> 8 | K54: =VLOOKUP(I54,I42:M53,3,FALSE) -> 0 | L54: =VLOOKUP(I54,I42:M53,4,FALSE) -> 0 | M54: =VLOOKUP(I54,I42:M53,5,FALSE) -> 0 | N54: =I54*5.75 -> 46 | O54: =O53 -> 0.29861111 | P54: =MAX(P42:P53) -> 1 | Q54: =VLOOKUP(P54,P42:T53,2,FALSE) -> 1 | R54: =VLOOKUP(P54,P42:T53,3,FALSE) -> 0 | S54: =VLOOKUP(P54,P42:T53,4,FALSE) -> 0 | T54: =VLOOKUP(P54,P42:T53,5,FALSE) -> 0 | U54: =P54*5.75 -> 5.75
A55: =A53+"00:05" -> 0.30208333 | B55: =C55*PCUs!$B$2+D55*PCUs!$B$3+E55*PCUs!$B$4+F55*PCUs!$B$5 -> 5 | C55: 5 | D55: 0 | E55: 0 | F55: 0 | G55: =B55*5.75 -> 28.75 | H55: =H53+"00:05" -> 0.30208333 | I55: =J55*PCUs!$B$2+K55*PCUs!$B$3+L55*PCUs!$B$4+M55*PCUs!$B$5 -> 3 | J55: 3 | K55: 0 | L55: 0 | M55: 0 | N55: =I55*5.75 -> 17.25 | O55: =O53+"00:05" -> 0.30208333 | P55: =Q55*PCUs!$B$2+R55*PCUs!$B$3+S55*PCUs!$B$4+T55*PCUs!$B$5 -> 1 | Q55: 1 | R55: 0 | S55: 0 | T55: 0 | U55: =P55*5.75 -> 5.75
A56: =A55 -> 0.30208333 | B56: =C56*PCUs!$B$2+D56*PCUs!$B$3+E56*PCUs!$B$4+F56*PCUs!$B$5 -> 9.5 | C56: 8 | D56: 1 | E56: 0 | F56: 0 | G56: =B56*5.75 -> 54.625 | H56: =H55 -> 0.30208333 | I56: =J56*PCUs!$B$2+K56*PCUs!$B$3+L56*PCUs!$B$4+M56*PCUs!$B$5 -> 4 | J56: 4 | K56: 0 | L56: 0 | M56: 0 | N56: =I56*5.75 -> 23 | O56: =O55 -> 0.30208333 | P56: =Q56*PCUs!$B$2+R56*PCUs!$B$3+S56*PCUs!$B$4+T56*PCUs!$B$5 -> 1 | Q56: 1 | R56: 0 | S56: 0 | T56: 0 | U56: =P56*5.75 -> 5.75
A57: =A56 -> 0.30208333 | B57: =C57*PCUs!$B$2+D57*PCUs!$B$3+E57*PCUs!$B$4+F57*PCUs!$B$5 -> 8 | C57: 8 | D57: 0 | E57: 0 | F57: 0 | G57: =B57*5.75 -> 46 | H57: =H56 -> 0.30208333 | I57: =J57*PCUs!$B$2+K57*PCUs!$B$3+L57*PCUs!$B$4+M57*PCUs!$B$5 -> 1 | J57: 1 | K57: 0 | L57: 0 | M57: 0 | N57: =I57*5.75 -> 5.75 | O57: =O56 -> 0.30208333 | P57: =Q57*PCUs!$B$2+R57*PCUs!$B$3+S57*PCUs!$B$4+T57*PCUs!$B$5 -> 0 | Q57: 0 | R57: 0 | S57: 0 | T57: 0 | U57: =P57*5.75 -> 0
A58: =A57 -> 0.30208333 | B58: =C58*PCUs!$B$2+D58*PCUs!$B$3+E58*PCUs!$B$4+F58*PCUs!$B$5 -> 5.5 | C58: 4 | D58: 1 | E58: 0 | F58: 0 | G58: =B58*5.75 -> 31.625 | H58: =H57 -> 0.30208333 | I58: =J58*PCUs!$B$2+K58*PCUs!$B$3+L58*PCUs!$B$4+M58*PCUs!$B$5 -> 1 | J58: 1 | K58: 0 | L58: 0 | M58: 0 | N58: =I58*5.75 -> 5.75 | O58: =O57 -> 0.30208333 | P58: =Q58*PCUs!$B$2+R58*PCUs!$B$3+S58*PCUs!$B$4+T58*PCUs!$B$5 -> 0 | Q58: 0 | R58: 0 | S58: 0 | T58: 0 | U58: =P58*5.75 -> 0
A59: =A58 -> 0.30208333 | B59: =C59*PCUs!$B$2+D59*PCUs!$B$3+E59*PCUs!$B$4+F59*PCUs!$B$5 -> 1.5 | C59: 0 | D59: 1 | E59: 0 | F59: 0 | G59: =B59*5.75 -> 8.625 | H59: =H58 -> 0.30208333 | I59: =J59*PCUs!$B$2+K59*PCUs!$B$3+L59*PCUs!$B$4+M59*PCUs!$B$5 -> 1 | J59: 1 | K59: 0 | L59: 0 | M59: 0 | N59: =I59*5.75 -> 5.75 | O59: =O58 -> 0.30208333 | P59: =Q59*PCUs!$B$2+R59*PCUs!$B$3+S59*PCUs!$B$4+T59*PCUs!$B$5 -> 0 | Q59: 0 | R59: 0 | S59: 0 | T59: 0 | U59: =P59*5.75 -> 0
A60: =A59 -> 0.30208333 | B60: =C60*PCUs!$B$2+D60*PCUs!$B$3+E60*PCUs!$B$4+F60*PCUs!$B$5 -> 11.8 | C60: 8 | D60: 1 | E60: 1 | F60: 0 | G60: =B60*5.75 -> 67.85 | H60: =H59 -> 0.30208333 | I60: =J60*PCUs!$B$2+K60*PCUs!$B$3+L60*PCUs!$B$4+M60*PCUs!$B$5 -> 6 | J60: 6 | K60: 0 | L60: 0 | M60: 0 | N60: =I60*5.75 -> 34.5 | O60: =O59 -> 0.30208333 | P60: =Q60*PCUs!$B$2+R60*PCUs!$B$3+S60*PCUs!$B$4+T60*PCUs!$B$5 -> 0 | Q60: 0 | R60: 0 | S60: 0 | T60: 0 | U60: =P60*5.75 -> 0
A61: =A60 -> 0.30208333 | B61: =C61*PCUs!$B$2+D61*PCUs!$B$3+E61*PCUs!$B$4+F61*PCUs!$B$5 -> 5.5 | C61: 4 | D61: 1 | E61: 0 | F61: 0 | G61: =B61*5.75 -> 31.625 | H61: =H60 -> 0.30208333 | I61: =J61*PCUs!$B$2+K61*PCUs!$B$3+L61*PCUs!$B$4+M61*PCUs!$B$5 -> 1 | J61: 1 | K61: 0 | L61: 0 | M61: 0 | N61: =I61*5.75 -> 5.75 | O61: =O60 -> 0.30208333 | P61: =Q61*PCUs!$B$2+R61*PCUs!$B$3+S61*PCUs!$B$4+T61*PCUs!$B$5 -> 0 | Q61: 0 | R61: 0 | S61: 0 | T61: 0 | U61: =P61*5.75 -> 0
A62: =A61 -> 0.30208333 | B62: =C62*PCUs!$B$2+D62*PCUs!$B$3+E62*PCUs!$B$4+F62*PCUs!$B$5 -> 0 | C62: 0 | D62: 0 | E62: 0 | F62: 0 | G62: =B62*5.75 -> 0 | H62: =H61 -> 0.30208333 | I62: =J62*PCUs!$B$2+K62*PCUs!$B$3+L62*PCUs!$B$4+M62*PCUs!$B$5 -> 0 | J62: 0 | K62: 0 | L62: 0 | M62: 0 | N62: =I62*5.75 -> 0 | O62: =O61 -> 0.30208333 | P62: =Q62*PCUs!$B$2+R62*PCUs!$B$3+S62*PCUs!$B$4+T62*PCUs!$B$5 -> 1 | Q62: 1 | R62: 0 | S62: 0 | T62: 0 | U62: =P62*5.75 -> 5.75
A63: =A62 -> 0.30208333 | B63: =C63*PCUs!$B$2+D63*PCUs!$B$3+E63*PCUs!$B$4+F63*PCUs!$B$5 -> 0 | G63: =B63*5.75 -> 0 | H63: =H62 -> 0.30208333 | I63: =J63*PCUs!$B$2+K63*PCUs!$B$3+L63*PCUs!$B$4+M63*PCUs!$B$5 -> 0 | N63: =I63*5.75 -> 0 | O63: =O62 -> 0.30208333 | P63: =Q63*PCUs!$B$2+R63*PCUs!$B$3+S63*PCUs!$B$4+T63*PCUs!$B$5 -> 0 | U63: =P63*5.75 -> 0
A64: =A63 -> 0.30208333 | B64: =C64*PCUs!$B$2+D64*PCUs!$B$3+E64*PCUs!$B$4+F64*PCUs!$B$5 -> 0 | G64: =B64*5.75 -> 0 | H64: =H63 -> 0.30208333 | I64: =J64*PCUs!$B$2+K64*PCUs!$B$3+L64*PCUs!$B$4+M64*PCUs!$B$5 -> 0 | N64: =I64*5.75 -> 0 | O64: =O63 -> 0.30208333 | P64: =Q64*PCUs!$B$2+R64*PCUs!$B$3+S64*PCUs!$B$4+T64*PCUs!$B$5 -> 0 | U64: =P64*5.75 -> 0
A65: =A64 -> 0.30208333 | B65: =C65*PCUs!$B$2+D65*PCUs!$B$3+E65*PCUs!$B$4+F65*PCUs!$B$5 -> 0 | G65: =B65*5.75 -> 0 | H65: =H64 -> 0.30208333 | I65: =J65*PCUs!$B$2+K65*PCUs!$B$3+L65*PCUs!$B$4+M65*PCUs!$B$5 -> 0 | N65: =I65*5.75 -> 0 | O65: =O64 -> 0.30208333 | P65: =Q65*PCUs!$B$2+R65*PCUs!$B$3+S65*PCUs!$B$4+T65*PCUs!$B$5 -> 0 | U65: =P65*5.75 -> 0
A66: =A65 -> 0.30208333 | B66: =C66*PCUs!$B$2+D66*PCUs!$B$3+E66*PCUs!$B$4+F66*PCUs!$B$5 -> 0 | G66: =B66*5.75 -> 0 | H66: =H65 -> 0.30208333 | I66: =J66*PCUs!$B$2+K66*PCUs!$B$3+L66*PCUs!$B$4+M66*PCUs!$B$5 -> 0 | N66: =I66*5.75 -> 0 | O66: =O65 -> 0.30208333 | P66: =Q66*PCUs!$B$2+R66*PCUs!$B$3+S66*PCUs!$B$4+T66*PCUs!$B$5 -> 0 | U66: =P66*5.75 -> 0
A67: =A66 -> 0.30208333 | B67: =MAX(B55:B66) -> 11.8 | C67: =VLOOKUP(B67,B55:F66,2,FALSE) -> 8 | D67: =VLOOKUP(B67,B55:F66,3,FALSE) -> 1 | E67: =VLOOKUP(B67,B55:F66,4,FALSE) -> 1 | F67: =VLOOKUP(B67,B55:F66,5,FALSE) -> 0 | G67: =B67*5.75 -> 67.85 | H67: =H66 -> 0.30208333 | I67: =MAX(I55:I66) -> 6 | J67: =VLOOKUP(I67,I55:M66,2,FALSE) -> 6 | K67: =VLOOKUP(I67,I55:M66,3,FALSE) -> 0 | L67: =VLOOKUP(I67,I55:M66,4,FALSE) -> 0 | M67: =VLOOKUP(I67,I55:M66,5,FALSE) -> 0 | N67: =I67*5.75 -> 34.5 | O67: =O66 -> 0.30208333 | P67: =MAX(P55:P66) -> 1 | Q67: =VLOOKUP(P67,P55:T66,2,FALSE) -> 1 | R67: =VLOOKUP(P67,P55:T66,3,FALSE) -> 0 | S67: =VLOOKUP(P67,P55:T66,4,FALSE) -> 0 | T67: =VLOOKUP(P67,P55:T66,5,FALSE) -> 0 | U67: =P67*5.75 -> 5.75
A68: =A66+"00:05" -> 0.30555556 | B68: =C68*PCUs!$B$2+D68*PCUs!$B$3+E68*PCUs!$B$4+F68*PCUs!$B$5 -> 7.5 | C68: 6 | D68: 1 | E68: 0 | F68: 0 | G68: =B68*5.75 -> 43.125 | H68: =H66+"00:05" -> 0.30555556 | I68: =J68*PCUs!$B$2+K68*PCUs!$B$3+L68*PCUs!$B$4+M68*PCUs!$B$5 -> 3 | J68: 3 | K68: 0 | L68: 0 | M68: 0 | N68: =I68*5.75 -> 17.25 | O68: =O66+"00:05" -> 0.30555556 | P68: =Q68*PCUs!$B$2+R68*PCUs!$B$3+S68*PCUs!$B$4+T68*PCUs!$B$5 -> 0 | Q68: 0 | R68: 0 | S68: 0 | T68: 0 | U68: =P68*5.75 -> 0
A69: =A68 -> 0.30555556 | B69: =C69*PCUs!$B$2+D69*PCUs!$B$3+E69*PCUs!$B$4+F69*PCUs!$B$5 -> 3 | C69: 3 | D69: 0 | E69: 0 | F69: 0 | G69: =B69*5.75 -> 17.25 | H69: =H68 -> 0.30555556 | I69: =J69*PCUs!$B$2+K69*PCUs!$B$3+L69*PCUs!$B$4+M69*PCUs!$B$5 -> 1 | J69: 1 | K69: 0 | L69: 0 | M69: 0 | N69: =I69*5.75 -> 5.75 | O69: =O68 -> 0.30555556 | P69: =Q69*PCUs!$B$2+R69*PCUs!$B$3+S69*PCUs!$B$4+T69*PCUs!$B$5 -> 0 | Q69: 0 | R69: 0 | S69: 0 | T69: 0 | U69: =P69*5.75 -> 0
A70: =A69 -> 0.30555556 | B70: =C70*PCUs!$B$2+D70*PCUs!$B$3+E70*PCUs!$B$4+F70*PCUs!$B$5 -> 3 | C70: 3 | D70: 0 | E70: 0 | F70: 0 | G70: =B70*5.75 -> 17.25 | H70: =H69 -> 0.30555556 | I70: =J70*PCUs!$B$2+K70*PCUs!$B$3+L70*PCUs!$B$4+M70*PCUs!$B$5 -> 2 | J70: 2 | K70: 0 | L70: 0 | M70: 0 | N70: =I70*5.75 -> 11.5 | O70: =O69 -> 0.30555556 | P70: =Q70*PCUs!$B$2+R70*PCUs!$B$3+S70*PCUs!$B$4+T70*PCUs!$B$5 -> 0 | Q70: 0 | R70: 0 | S70: 0 | T70: 0 | U70: =P70*5.75 -> 0
A71: =A70 -> 0.30555556 | B71: =C71*PCUs!$B$2+D71*PCUs!$B$3+E71*PCUs!$B$4+F71*PCUs!$B$5 -> 6 | C71: 6 | D71: 0 | E71: 0 | F71: 0 | G71: =B71*5.75 -> 34.5 | H71: =H70 -> 0.30555556 | I71: =J71*PCUs!$B$2+K71*PCUs!$B$3+L71*PCUs!$B$4+M71*PCUs!$B$5 -> 1 | J71: 1 | K71: 0 | L71: 0 | M71: 0 | N71: =I71*5.75 -> 5.75 | O71: =O70 -> 0.30555556 | P71: =Q71*PCUs!$B$2+R71*PCUs!$B$3+S71*PCUs!$B$4+T71*PCUs!$B$5 -> 0 | Q71: 0 | R71: 0 | S71: 0 | T71: 0 | U71: =P71*5.75 -> 0
A72: =A71 -> 0.30555556 | B72: =C72*PCUs!$B$2+D72*PCUs!$B$3+E72*PCUs!$B$4+F72*PCUs!$B$5 -> 9 | C72: 9 | D72: 0 | E72: 0 | F72: 0 | G72: =B72*5.75 -> 51.75 | H72: =H71 -> 0.30555556 | I72: =J72*PCUs!$B$2+K72*PCUs!$B$3+L72*PCUs!$B$4+M72*PCUs!$B$5 -> 4 | J72: 4 | K72: 0 | L72: 0 | M72: 0 | N72: =I72*5.75 -> 23 | O72: =O71 -> 0.30555556 | P72: =Q72*PCUs!$B$2+R72*PCUs!$B$3+S72*PCUs!$B$4+T72*PCUs!$B$5 -> 0 | Q72: 0 | R72: 0 | S72: 0 | T72: 0 | U72: =P72*5.75 -> 0
A73: =A72 -> 0.30555556 | B73: =C73*PCUs!$B$2+D73*PCUs!$B$3+E73*PCUs!$B$4+F73*PCUs!$B$5 -> 4 | C73: 4 | D73: 0 | E73: 0 | F73: 0 | G73: =B73*5.75 -> 23 | H73: =H72 -> 0.30555556 | I73: =J73*PCUs!$B$2+K73*PCUs!$B$3+L73*PCUs!$B$4+M73*PCUs!$B$5 -> 4 | J73: 4 | K73: 0 | L73: 0 | M73: 0 | N73: =I73*5.75 -> 23 | O73: =O72 -> 0.30555556 | P73: =Q73*PCUs!$B$2+R73*PCUs!$B$3+S73*PCUs!$B$4+T73*PCUs!$B$5 -> 1 | Q73: 1 | R73: 0 | S73: 0 | T73: 0 | U73: =P73*5.75 -> 5.75
A74: =A73 -> 0.30555556 | B74: =C74*PCUs!$B$2+D74*PCUs!$B$3+E74*PCUs!$B$4+F74*PCUs!$B$5 -> 5.5 | C74: 4 | D74: 1 | E74: 0 | F74: 0 | G74: =B74*5.75 -> 31.625 | H74: =H73 -> 0.30555556 | I74: =J74*PCUs!$B$2+K74*PCUs!$B$3+L74*PCUs!$B$4+M74*PCUs!$B$5 -> 3 | J74: 3 | K74: 0 | L74: 0 | M74: 0 | N74: =I74*5.75 -> 17.25 | O74: =O73 -> 0.30555556 | P74: =Q74*PCUs!$B$2+R74*PCUs!$B$3+S74*PCUs!$B$4+T74*PCUs!$B$5 -> 1 | Q74: 1 | R74: 0 | S74: 0 | T74: 0 | U74: =P74*5.75 -> 5.75
A75: =A74 -> 0.30555556 | B75: =C75*PCUs!$B$2+D75*PCUs!$B$3+E75*PCUs!$B$4+F75*PCUs!$B$5 -> 0 | G75: =B75*5.75 -> 0 | H75: =H74 -> 0.30555556 | I75: =J75*PCUs!$B$2+K75*PCUs!$B$3+L75*PCUs!$B$4+M75*PCUs!$B$5 -> 0 | N75: =I75*5.75 -> 0 | O75: =O74 -> 0.30555556 | P75: =Q75*PCUs!$B$2+R75*PCUs!$B$3+S75*PCUs!$B$4+T75*PCUs!$B$5 -> 0 | U75: =P75*5.75 -> 0
A76: =A75 -> 0.30555556 | B76: =C76*PCUs!$B$2+D76*PCUs!$B$3+E76*PCUs!$B$4+F76*PCUs!$B$5 -> 0 | G76: =B76*5.75 -> 0 | H76: =H75 -> 0.30555556 | I76: =J76*PCUs!$B$2+K76*PCUs!$B$3+L76*PCUs!$B$4+M76*PCUs!$B$5 -> 0 | N76: =I76*5.75 -> 0 | O76: =O75 -> 0.30555556 | P76: =Q76*PCUs!$B$2+R76*PCUs!$B$3+S76*PCUs!$B$4+T76*PCUs!$B$5 -> 0 | U76: =P76*5.75 -> 0
A77: =A76 -> 0.30555556 | B77: =C77*PCUs!$B$2+D77*PCUs!$B$3+E77*PCUs!$B$4+F77*PCUs!$B$5 -> 0 | G77: =B77*5.75 -> 0 | H77: =H76 -> 0.30555556 | I77: =J77*PCUs!$B$2+K77*PCUs!$B$3+L77*PCUs!$B$4+M77*PCUs!$B$5 -> 0 | N77: =I77*5.75 -> 0 | O77: =O76 -> 0.30555556 | P77: =Q77*PCUs!$B$2+R77*PCUs!$B$3+S77*PCUs!$B$4+T77*PCUs!$B$5 -> 0 | U77: =P77*5.75 -> 0
A78: =A77 -> 0.30555556 | B78: =C78*PCUs!$B$2+D78*PCUs!$B$3+E78*PCUs!$B$4+F78*PCUs!$B$5 -> 0 | G78: =B78*5.75 -> 0 | H78: =H77 -> 0.30555556 | I78: =J78*PCUs!$B$2+K78*PCUs!$B$3+L78*PCUs!$B$4+M78*PCUs!$B$5 -> 0 | N78: =I78*5.75 -> 0 | O78: =O77 -> 0.30555556 | P78: =Q78*PCUs!$B$2+R78*PCUs!$B$3+S78*PCUs!$B$4+T78*PCUs!$B$5 -> 0 | U78: =P78*5.75 -> 0
A79: =A78 -> 0.30555556 | B79: =C79*PCUs!$B$2+D79*PCUs!$B$3+E79*PCUs!$B$4+F79*PCUs!$B$5 -> 0 | G79: =B79*5.75 -> 0 | H79: =H78 -> 0.30555556 | I79: =J79*PCUs!$B$2+K79*PCUs!$B$3+L79*PCUs!$B$4+M79*PCUs!$B$5 -> 0 | N79: =I79*5.75 -> 0 | O79: =O78 -> 0.30555556 | P79: =Q79*PCUs!$B$2+R79*PCUs!$B$3+S79*PCUs!$B$4+T79*PCUs!$B$5 -> 0 | U79: =P79*5.75 -> 0
A80: =A79 -> 0.30555556 | B80: =MAX(B68:B79) -> 9 | C80: =VLOOKUP(B80,B68:F79,2,FALSE) -> 9 | D80: =VLOOKUP(B80,B68:F79,3,FALSE) -> 0 | E80: =VLOOKUP(B80,B68:F79,4,FALSE) -> 0 | F80: =VLOOKUP(B80,B68:F79,5,FALSE) -> 0 | G80: =B80*5.75 -> 51.75 | H80: =H79 -> 0.30555556 | I80: =MAX(I68:I79) -> 4 | J80: =VLOOKUP(I80,I68:M79,2,FALSE) -> 4 | K80: =VLOOKUP(I80,I68:M79,3,FALSE) -> 0 | L80: =VLOOKUP(I80,I68:M79,4,FALSE) -> 0 | M80: =VLOOKUP(I80,I68:M79,5,FALSE) -> 0 | N80: =I80*5.75 -> 23 | O80: =O79 -> 0.30555556 | P80: =MAX(P68:P79) -> 1 | Q80: =VLOOKUP(P80,P68:T79,2,FALSE) -> 1 | R80: =VLOOKUP(P80,P68:T79,3,FALSE) -> 0 | S80: =VLOOKUP(P80,P68:T79,4,FALSE) -> 0 | T80: =VLOOKUP(P80,P68:T79,5,FALSE) -> 0 | U80: =P80*5.75 -> 5.75
A81: =A79+"00:05" -> 0.30902778 | B81: =C81*PCUs!$B$2+D81*PCUs!$B$3+E81*PCUs!$B$4+F81*PCUs!$B$5 -> 4 | C81: 4 | D81: 0 | E81: 0 | F81: 0 | G81: =B81*5.75 -> 23 | H81: =H79+"00:05" -> 0.30902778 | I81: =J81*PCUs!$B$2+K81*PCUs!$B$3+L81*PCUs!$B$4+M81*PCUs!$B$5 -> 5 | J81: 5 | K81: 0 | L81: 0 | M81: 0 | N81: =I81*5.75 -> 28.75 | O81: =O79+"00:05" -> 0.30902778 | P81: =Q81*PCUs!$B$2+R81*PCUs!$B$3+S81*PCUs!$B$4+T81*PCUs!$B$5 -> 0 | Q81: 0 | R81: 0 | S81: 0 | T81: 0 | U81: =P81*5.75 -> 0
A82: =A81 -> 0.30902778 | B82: =C82*PCUs!$B$2+D82*PCUs!$B$3+E82*PCUs!$B$4+F82*PCUs!$B$5 -> 4 | C82: 4 | D82: 0 | E82: 0 | F82: 0 | G82: =B82*5.75 -> 23 | H82: =H81 -> 0.30902778 | I82: =J82*PCUs!$B$2+K82*PCUs!$B$3+L82*PCUs!$B$4+M82*PCUs!$B$5 -> 2 | J82: 2 | K82: 0 | L82: 0 | M82: 0 | N82: =I82*5.75 -> 11.5 | O82: =O81 -> 0.30902778 | P82: =Q82*PCUs!$B$2+R82*PCUs!$B$3+S82*PCUs!$B$4+T82*PCUs!$B$5 -> 1 | Q82: 1 | R82: 0 | S82: 0 | T82: 0 | U82: =P82*5.75 -> 5.75
A83: =A82 -> 0.30902778 | B83: =C83*PCUs!$B$2+D83*PCUs!$B$3+E83*PCUs!$B$4+F83*PCUs!$B$5 -> 11 | C83: 11 | D83: 0 | E83: 0 | F83: 0 | G83: =B83*5.75 -> 63.25 | H83: =H82 -> 0.30902778 | I83: =J83*PCUs!$B$2+K83*PCUs!$B$3+L83*PCUs!$B$4+M83*PCUs!$B$5 -> 5 | J83: 5 | K83: 0 | L83: 0 | M83: 0 | N83: =I83*5.75 -> 28.75 | O83: =O82 -> 0.30902778 | P83: =Q83*PCUs!$B$2+R83*PCUs!$B$3+S83*PCUs!$B$4+T83*PCUs!$B$5 -> 3 | Q83: 3 | R83: 0 | S83: 0 | T83: 0 | U83: =P83*5.75 -> 17.25
A84: =A83 -> 0.30902778 | B84: =C84*PCUs!$B$2+D84*PCUs!$B$3+E84*PCUs!$B$4+F84*PCUs!$B$5 -> 4.5 | C84: 3 | D84: 1 | E84: 0 | F84: 0 | G84: =B84*5.75 -> 25.875 | H84: =H83 -> 0.30902778 | I84: =J84*PCUs!$B$2+K84*PCUs!$B$3+L84*PCUs!$B$4+M84*PCUs!$B$5 -> 5.5 | J84: 4 | K84: 1 | L84: 0 | M84: 0 | N84: =I84*5.75 -> 31.625 | O84: =O83 -> 0.30902778 | P84: =Q84*PCUs!$B$2+R84*PCUs!$B$3+S84*PCUs!$B$4+T84*PCUs!$B$5 -> 2 | Q84: 2 | R84: 0 | S84: 0 | T84: 0 | U84: =P84*5.75 -> 11.5
A85: =A84 -> 0.30902778 | B85: =C85*PCUs!$B$2+D85*PCUs!$B$3+E85*PCUs!$B$4+F85*PCUs!$B$5 -> 7 | C85: 7 | D85: 0 | E85: 0 | F85: 0 | G85: =B85*5.75 -> 40.25 | H85: =H84 -> 0.30902778 | I85: =J85*PCUs!$B$2+K85*PCUs!$B$3+L85*PCUs!$B$4+M85*PCUs!$B$5 -> 4 | J85: 4 | K85: 0 | L85: 0 | M85: 0 | N85: =I85*5.75 -> 23 | O85: =O84 -> 0.30902778 | P85: =Q85*PCUs!$B$2+R85*PCUs!$B$3+S85*PCUs!$B$4+T85*PCUs!$B$5 -> 1 | Q85: 1 | R85: 0 | S85: 0 | T85: 0 | U85: =P85*5.75 -> 5.75
A86: =A85 -> 0.30902778 | B86: =C86*PCUs!$B$2+D86*PCUs!$B$3+E86*PCUs!$B$4+F86*PCUs!$B$5 -> 0 | G86: =B86*5.75 -> 0 | H86: =H85 -> 0.30902778 | I86: =J86*PCUs!$B$2+K86*PCUs!$B$3+L86*PCUs!$B$4+M86*PCUs!$B$5 -> 0 | N86: =I86*5.75 -> 0 | O86: =O85 -> 0.30902778 | P86: =Q86*PCUs!$B$2+R86*PCUs!$B$3+S86*PCUs!$B$4+T86*PCUs!$B$5 -> 0 | U86: =P86*5.75 -> 0
A87: =A86 -> 0.30902778 | B87: =C87*PCUs!$B$2+D87*PCUs!$B$3+E87*PCUs!$B$4+F87*PCUs!$B$5 -> 0 | G87: =B87*5.75 -> 0 | H87: =H86 -> 0.30902778 | I87: =J87*PCUs!$B$2+K87*PCUs!$B$3+L87*PCUs!$B$4+M87*PCUs!$B$5 -> 0 | N87: =I87*5.75 -> 0 | O87: =O86 -> 0.30902778 | P87: =Q87*PCUs!$B$2+R87*PCUs!$B$3+S87*PCUs!$B$4+T87*PCUs!$B$5 -> 0 | U87: =P87*5.75 -> 0
A88: =A87 -> 0.30902778 | B88: =C88*PCUs!$B$2+D88*PCUs!$B$3+E88*PCUs!$B$4+F88*PCUs!$B$5 -> 0 | G88: =B88*5.75 -> 0 | H88: =H87 -> 0.30902778 | I88: =J88*PCUs!$B$2+K88*PCUs!$B$3+L88*PCUs!$B$4+M88*PCUs!$B$5 -> 0 | N88: =I88*5.75 -> 0 | O88: =O87 -> 0.30902778 | P88: =Q88*PCUs!$B$2+R88*PCUs!$B$3+S88*PCUs!$B$4+T88*PCUs!$B$5 -> 0 | U88: =P88*5.75 -> 0
A89: =A88 -> 0.30902778 | B89: =C89*PCUs!$B$2+D89*PCUs!$B$3+E89*PCUs!$B$4+F89*PCUs!$B$5 -> 0 | G89: =B89*5.75 -> 0 | H89: =H88 -> 0.30902778 | I89: =J89*PCUs!$B$2+K89*PCUs!$B$3+L89*PCUs!$B$4+M89*PCUs!$B$5 -> 0 | N89: =I89*5.75 -> 0 | O89: =O88 -> 0.30902778 | P89: =Q89*PCUs!$B$2+R89*PCUs!$B$3+S89*PCUs!$B$4+T89*PCUs!$B$5 -> 0 | U89: =P89*5.75 -> 0
A90: =A89 -> 0.30902778 | B90: =C90*PCUs!$B$2+D90*PCUs!$B$3+E90*PCUs!$B$4+F90*PCUs!$B$5 -> 0 | G90: =B90*5.75 -> 0 | H90: =H89 -> 0.30902778 | I90: =J90*PCUs!$B$2+K90*PCUs!$B$3+L90*PCUs!$B$4+M90*PCUs!$B$5 -> 0 | N90: =I90*5.75 -> 0 | O90: =O89 -> 0.30902778 | P90: =Q90*PCUs!$B$2+R90*PCUs!$B$3+S90*PCUs!$B$4+T90*PCUs!$B$5 -> 0 | U90: =P90*5.75 -> 0
A91: =A90 -> 0.30902778 | B91: =C91*PCUs!$B$2+D91*PCUs!$B$3+E91*PCUs!$B$4+F91*PCUs!$B$5 -> 0 | G91: =B91*5.75 -> 0 | H91: =H90 -> 0.30902778 | I91: =J91*PCUs!$B$2+K91*PCUs!$B$3+L91*PCUs!$B$4+M91*PCUs!$B$5 -> 0 | N91: =I91*5.75 -> 0 | O91: =O90 -> 0.30902778 | P91: =Q91*PCUs!$B$2+R91*PCUs!$B$3+S91*PCUs!$B$4+T91*PCUs!$B$5 -> 0 | U91: =P91*5.75 -> 0
A92: =A91 -> 0.30902778 | B92: =C92*PCUs!$B$2+D92*PCUs!$B$3+E92*PCUs!$B$4+F92*PCUs!$B$5 -> 0 | G92: =B92*5.75 -> 0 | H92: =H91 -> 0.30902778 | I92: =J92*PCUs!$B$2+K92*PCUs!$B$3+L92*PCUs!$B$4+M92*PCUs!$B$5 -> 0 | N92: =I92*5.75 -> 0 | O92: =O91 -> 0.30902778 | P92: =Q92*PCUs!$B$2+R92*PCUs!$B$3+S92*PCUs!$B$4+T92*PCUs!$B$5 -> 0 | U92: =P92*5.75 -> 0
A93: =A92 -> 0.30902778 | B93: =MAX(B81:B92) -> 11 | C93: =VLOOKUP(B93,B81:F92,2,FALSE) -> 11 | D93: =VLOOKUP(B93,B81:F92,3,FALSE) -> 0 | E93: =VLOOKUP(B93,B81:F92,4,FALSE) -> 0 | F93: =VLOOKUP(B93,B81:F92,5,FALSE) -> 0 | G93: =B93*5.75 -> 63.25 | H93: =H92 -> 0.30902778 | I93: =MAX(I81:I92) -> 5.5 | J93: =VLOOKUP(I93,I81:M92,2,FALSE) -> 4 | K93: =VLOOKUP(I93,I81:M92,3,FALSE) -> 1 | L93: =VLOOKUP(I93,I81:M92,4,FALSE) -> 0 | M93: =VLOOKUP(I93,I81:M92,5,FALSE) -> 0 | N93: =I93*5.75 -> 31.625 | O93: =O92 -> 0.30902778 | P93: =MAX(P81:P92) -> 3 | Q93: =VLOOKUP(P93,P81:T92,2,FALSE) -> 3 | R93: =VLOOKUP(P93,P81:T92,3,FALSE) -> 0 | S93: =VLOOKUP(P93,P81:T92,4,FALSE) -> 0 | T93: =VLOOKUP(P93,P81:T92,5,FALSE) -> 0 | U93: =P93*5.75 -> 17.25
A94: =A92+"00:05" -> 0.3125 | B94: =C94*PCUs!$B$2+D94*PCUs!$B$3+E94*PCUs!$B$4+F94*PCUs!$B$5 -> 9 | C94: 9 | D94: 0 | E94: 0 | F94: 0 | G94: =B94*5.75 -> 51.75 | H94: =H92+"00:05" -> 0.3125 | I94: =J94*PCUs!$B$2+K94*PCUs!$B$3+L94*PCUs!$B$4+M94*PCUs!$B$5 -> 6 | J94: 6 | K94: 0 | L94: 0 | M94: 0 | N94: =I94*5.75 -> 34.5 | O94: =O92+"00:05" -> 0.3125 | P94: =Q94*PCUs!$B$2+R94*PCUs!$B$3+S94*PCUs!$B$4+T94*PCUs!$B$5 -> 2 | Q94: 2 | R94: 0 | S94: 0 | T94: 0 | U94: =P94*5.75 -> 11.5
A95: =A94 -> 0.3125 | B95: =C95*PCUs!$B$2+D95*PCUs!$B$3+E95*PCUs!$B$4+F95*PCUs!$B$5 -> 9.3 | C95: 7 | D95: 0 | E95: 1 | F95: 0 | G95: =B95*5.75 -> 53.475 | H95: =H94 -> 0.3125 | I95: =J95*PCUs!$B$2+K95*PCUs!$B$3+L95*PCUs!$B$4+M95*PCUs!$B$5 -> 4 | J95: 4 | K95: 0 | L95: 0 | M95: 0 | N95: =I95*5.75 -> 23 | O95: =O94 -> 0.3125 | P95: =Q95*PCUs!$B$2+R95*PCUs!$B$3+S95*PCUs!$B$4+T95*PCUs!$B$5 -> 1 | Q95: 1 | R95: 0 | S95: 0 | T95: 0 | U95: =P95*5.75 -> 5.75
A96: =A95 -> 0.3125 | B96: =C96*PCUs!$B$2+D96*PCUs!$B$3+E96*PCUs!$B$4+F96*PCUs!$B$5 -> 9 | C96: 9 | D96: 0 | E96: 0 | F96: 0 | G96: =B96*5.75 -> 51.75 | H96: =H95 -> 0.3125 | I96: =J96*PCUs!$B$2+K96*PCUs!$B$3+L96*PCUs!$B$4+M96*PCUs!$B$5 -> 4 | J96: 4 | K96: 0 | L96: 0 | M96: 0 | N96: =I96*5.75 -> 23 | O96: =O95 -> 0.3125 | P96: =Q96*PCUs!$B$2+R96*PCUs!$B$3+S96*PCUs!$B$4+T96*PCUs!$B$5 -> 1 | Q96: 1 | R96: 0 | S96: 0 | T96: 0 | U96: =P96*5.75 -> 5.75
A97: =A96 -> 0.3125 | B97: =C97*PCUs!$B$2+D97*PCUs!$B$3+E97*PCUs!$B$4+F97*PCUs!$B$5 -> 11.5 | C97: 10 | D97: 1 | E97: 0 | F97: 0 | G97: =B97*5.75 -> 66.125 | H97: =H96 -> 0.3125 | I97: =J97*PCUs!$B$2+K97*PCUs!$B$3+L97*PCUs!$B$4+M97*PCUs!$B$5 -> 2 | J97: 2 | K97: 0 | L97: 0 | M97: 0 | N97: =I97*5.75 -> 11.5 | O97: =O96 -> 0.3125 | P97: =Q97*PCUs!$B$2+R97*PCUs!$B$3+S97*PCUs!$B$4+T97*PCUs!$B$5 -> 0 | Q97: 0 | R97: 0 | S97: 0 | T97: 0 | U97: =P97*5.75 -> 0
A98: =A97 -> 0.3125 | B98: =C98*PCUs!$B$2+D98*PCUs!$B$3+E98*PCUs!$B$4+F98*PCUs!$B$5 -> 5 | C98: 5 | D98: 0 | E98: 0 | F98: 0 | G98: =B98*5.75 -> 28.75 | H98: =H97 -> 0.3125 | I98: =J98*PCUs!$B$2+K98*PCUs!$B$3+L98*PCUs!$B$4+M98*PCUs!$B$5 -> 1 | J98: 1 | K98: 0 | L98: 0 | M98: 0 | N98: =I98*5.75 -> 5.75 | O98: =O97 -> 0.3125 | P98: =Q98*PCUs!$B$2+R98*PCUs!$B$3+S98*PCUs!$B$4+T98*PCUs!$B$5 -> 2 | Q98: 2 | R98: 0 | S98: 0 | T98: 0 | U98: =P98*5.75 -> 11.5
A99: =A98 -> 0.3125 | B99: =C99*PCUs!$B$2+D99*PCUs!$B$3+E99*PCUs!$B$4+F99*PCUs!$B$5 -> 0 | G99: =B99*5.75 -> 0 | H99: =H98 -> 0.3125 | I99: =J99*PCUs!$B$2+K99*PCUs!$B$3+L99*PCUs!$B$4+M99*PCUs!$B$5 -> 0 | N99: =I99*5.75 -> 0 | O99: =O98 -> 0.3125 | P99: =Q99*PCUs!$B$2+R99*PCUs!$B$3+S99*PCUs!$B$4+T99*PCUs!$B$5 -> 0 | U99: =P99*5.75 -> 0
A100: =A99 -> 0.3125 | B100: =C100*PCUs!$B$2+D100*PCUs!$B$3+E100*PCUs!$B$4+F100*PCUs!$B$5 -> 0 | G100: =B100*5.75 -> 0 | H100: =H99 -> 0.3125 | I100: =J100*PCUs!$B$2+K100*PCUs!$B$3+L100*PCUs!$B$4+M100*PCUs!$B$5 -> 0 | N100: =I100*5.75 -> 0 | O100: =O99 -> 0.3125 | P100: =Q100*PCUs!$B$2+R100*PCUs!$B$3+S100*PCUs!$B$4+T100*PCUs!$B$5 -> 0 | U100: =P100*5.75 -> 0
A101: =A100 -> 0.3125 | B101: =C101*PCUs!$B$2+D101*PCUs!$B$3+E101*PCUs!$B$4+F101*PCUs!$B$5 -> 0 | G101: =B101*5.75 -> 0 | H101: =H100 -> 0.3125 | I101: =J101*PCUs!$B$2+K101*PCUs!$B$3+L101*PCUs!$B$4+M101*PCUs!$B$5 -> 0 | N101: =I101*5.75 -> 0 | O101: =O100 -> 0.3125 | P101: =Q101*PCUs!$B$2+R101*PCUs!$B$3+S101*PCUs!$B$4+T101*PCUs!$B$5 -> 0 | U101: =P101*5.75 -> 0
A102: =A101 -> 0.3125 | B102: =C102*PCUs!$B$2+D102*PCUs!$B$3+E102*PCUs!$B$4+F102*PCUs!$B$5 -> 0 | G102: =B102*5.75 -> 0 | H102: =H101 -> 0.3125 | I102: =J102*PCUs!$B$2+K102*PCUs!$B$3+L102*PCUs!$B$4+M102*PCUs!$B$5 -> 0 | N102: =I102*5.75 -> 0 | O102: =O101 -> 0.3125 | P102: =Q102*PCUs!$B$2+R102*PCUs!$B$3+S102*PCUs!$B$4+T102*PCUs!$B$5 -> 0 | U102: =P102*5.75 -> 0
A103: =A102 -> 0.3125 | B103: =C103*PCUs!$B$2+D103*PCUs!$B$3+E103*PCUs!$B$4+F103*PCUs!$B$5 -> 0 | G103: =B103*5.75 -> 0 | H103: =H102 -> 0.3125 | I103: =J103*PCUs!$B$2+K103*PCUs!$B$3+L103*PCUs!$B$4+M103*PCUs!$B$5 -> 0 | N103: =I103*5.75 -> 0 | O103: =O102 -> 0.3125 | P103: =Q103*PCUs!$B$2+R103*PCUs!$B$3+S103*PCUs!$B$4+T103*PCUs!$B$5 -> 0 | U103: =P103*5.75 -> 0
A104: =A103 -> 0.3125 | B104: =C104*PCUs!$B$2+D104*PCUs!$B$3+E104*PCUs!$B$4+F104*PCUs!$B$5 -> 0 | G104: =B104*5.75 -> 0 | H104: =H103 -> 0.3125 | I104: =J104*PCUs!$B$2+K104*PCUs!$B$3+L104*PCUs!$B$4+M104*PCUs!$B$5 -> 0 | N104: =I104*5.75 -> 0 | O104: =O103 -> 0.3125 | P104: =Q104*PCUs!$B$2+R104*PCUs!$B$3+S104*PCUs!$B$4+T104*PCUs!$B$5 -> 0 | U104: =P104*5.75 -> 0
A105: =A104 -> 0.3125 | B105: =C105*PCUs!$B$2+D105*PCUs!$B$3+E105*PCUs!$B$4+F105*PCUs!$B$5 -> 0 | G105: =B105*5.75 -> 0 | H105: =H104 -> 0.3125 | I105: =J105*PCUs!$B$2+K105*PCUs!$B$3+L105*PCUs!$B$4+M105*PCUs!$B$5 -> 0 | N105: =I105*5.75 -> 0 | O105: =O104 -> 0.3125 | P105: =Q105*PCUs!$B$2+R105*PCUs!$B$3+S105*PCUs!$B$4+T105*PCUs!$B$5 -> 0 | U105: =P105*5.75 -> 0
A106: =A105 -> 0.3125 | B106: =MAX(B94:B105) -> 11.5 | C106: =VLOOKUP(B106,B94:F105,2,FALSE) -> 10 | D106: =VLOOKUP(B106,B94:F105,3,FALSE) -> 1 | E106: =VLOOKUP(B106,B94:F105,4,FALSE) -> 0 | F106: =VLOOKUP(B106,B94:F105,5,FALSE) -> 0 | G106: =B106*5.75 -> 66.125 | H106: =H105 -> 0.3125 | I106: =MAX(I94:I105) -> 6 | J106: =VLOOKUP(I106,I94:M105,2,FALSE) -> 6 | K106: =VLOOKUP(I106,I94:M105,3,FALSE) -> 0 | L106: =VLOOKUP(I106,I94:M105,4,FALSE) -> 0 | M106: =VLOOKUP(I106,I94:M105,5,FALSE) -> 0 | N106: =I106*5.75 -> 34.5 | O106: =O105 -> 0.3125 | P106: =MAX(P94:P105) -> 2 | Q106: =VLOOKUP(P106,P94:T105,2,FALSE) -> 2 | R106: =VLOOKUP(P106,P94:T105,3,FALSE) -> 0 | S106: =VLOOKUP(P106,P94:T105,4,FALSE) -> 0 | T106: =VLOOKUP(P106,P94:T105,5,FALSE) -> 0 | U106: =P106*5.75 -> 11.5
A107: =A105+"00:05" -> 0.31597222 | B107: =C107*PCUs!$B$2+D107*PCUs!$B$3+E107*PCUs!$B$4+F107*PCUs!$B$5 -> 7 | C107: 7 | D107: 0 | E107: 0 | F107: 0 | G107: =B107*5.75 -> 40.25 | H107: =H105+"00:05" -> 0.31597222 | I107: =J107*PCUs!$B$2+K107*PCUs!$B$3+L107*PCUs!$B$4+M107*PCUs!$B$5 -> 4.5 | J107: 3 | K107: 1 | L107: 0 | M107: 0 | N107: =I107*5.75 -> 25.875 | O107: =O105+"00:05" -> 0.31597222 | P107: =Q107*PCUs!$B$2+R107*PCUs!$B$3+S107*PCUs!$B$4+T107*PCUs!$B$5 -> 2 | Q107: 2 | R107: 0 | S107: 0 | T107: 0 | U107: =P107*5.75 -> 11.5
...

Sheet Site 4 Arm C
U2: 16367 / SOUTHAMPTON
U3: =UPPER(TEXT(U8,"mMmm yyyy")) -> FEBRUARY 2025
U4: QUEUE LENGTH SURVEY
A8: SITE: | C8: 4 | T8: DATE: | U8: 45701
A10: LOCATION: | C10: Stoneham Interchange | T10: DAY: | U10: =UPPER(TEXT(U8,"dddd")) -> THURSDAY
A12: ANALYSIS: All queues in each 5 minute period at the start of the green phase.
A14: Arm C - Lane 1 | H14: Arm C - Lane 2 | O14: Arm C - Lane 3
A15: Time | B15: Total | C15: Cars | D15: OGV1 | E15: OGV2 | F15: PSV | G15: Metres | H15: Time | I15: Total | J15: Cars | K15: OGV1 | L15: OGV2 | M15: PSV | N15: Metres | O15: Time | P15: Total | Q15: Cars | R15: OGV1 | S15: OGV2 | T15: PSV | U15: Metres
A16: 0.29166667 | B16: =C16*PCUs!$B$2+D16*PCUs!$B$3+E16*PCUs!$B$4+F16*PCUs!$B$5 -> 3 | C16: 3 | D16: 0 | E16: 0 | F16: 0 | G16: =B16*5.75 -> 17.25 | H16: 0.29166667 | I16: =J16*PCUs!$B$2+K16*PCUs!$B$3+L16*PCUs!$B$4+M16*PCUs!$B$5 -> 1 | J16: 1 | K16: 0 | L16: 0 | M16: 0 | N16: =I16*5.75 -> 5.75 | O16: 0.29166667 | P16: =Q16*PCUs!$B$2+R16*PCUs!$B$3+S16*PCUs!$B$4+T16*PCUs!$B$5 -> 6 | Q16: 6 | R16: 0 | S16: 0 | T16: 0 | U16: =P16*5.75 -> 34.5
A17: =A16 -> 0.29166667 | B17: =C17*PCUs!$B$2+D17*PCUs!$B$3+E17*PCUs!$B$4+F17*PCUs!$B$5 -> 2 | C17: 2 | D17: 0 | E17: 0 | F17: 0 | G17: =B17*5.75 -> 11.5 | H17: =H16 -> 0.29166667 | I17: =J17*PCUs!$B$2+K17*PCUs!$B$3+L17*PCUs!$B$4+M17*PCUs!$B$5 -> 2 | J17: 2 | K17: 0 | L17: 0 | M17: 0 | N17: =I17*5.75 -> 11.5 | O17: =O16 -> 0.29166667 | P17: =Q17*PCUs!$B$2+R17*PCUs!$B$3+S17*PCUs!$B$4+T17*PCUs!$B$5 -> 1 | Q17: 1 | R17: 0 | S17: 0 | T17: 0 | U17: =P17*5.75 -> 5.75
A18: =A17 -> 0.29166667 | B18: =C18*PCUs!$B$2+D18*PCUs!$B$3+E18*PCUs!$B$4+F18*PCUs!$B$5 -> 2 | C18: 2 | D18: 0 | E18: 0 | F18: 0 | G18: =B18*5.75 -> 11.5 | H18: =H17 -> 0.29166667 | I18: =J18*PCUs!$B$2+K18*PCUs!$B$3+L18*PCUs!$B$4+M18*PCUs!$B$5 -> 1 | J18: 1 | K18: 0 | L18: 0 | M18: 0 | N18: =I18*5.75 -> 5.75 | O18: =O17 -> 0.29166667 | P18: =Q18*PCUs!$B$2+R18*PCUs!$B$3+S18*PCUs!$B$4+T18*PCUs!$B$5 -> 2 | Q18: 2 | R18: 0 | S18: 0 | T18: 0 | U18: =P18*5.75 -> 11.5
A19: =A18 -> 0.29166667 | B19: =C19*PCUs!$B$2+D19*PCUs!$B$3+E19*PCUs!$B$4+F19*PCUs!$B$5 -> 4.5 | C19: 3 | D19: 1 | E19: 0 | F19: 0 | G19: =B19*5.75 -> 25.875 | H19: =H18 -> 0.29166667 | I19: =J19*PCUs!$B$2+K19*PCUs!$B$3+L19*PCUs!$B$4+M19*PCUs!$B$5 -> 3 | J19: 3 | K19: 0 | L19: 0 | M19: 0 | N19: =I19*5.75 -> 17.25 | O19: =O18 -> 0.29166667 | P19: =Q19*PCUs!$B$2+R19*PCUs!$B$3+S19*PCUs!$B$4+T19*PCUs!$B$5 -> 3 | Q19: 3 | R19: 0 | S19: 0 | T19: 0 | U19: =P19*5.75 -> 17.25
A20: =A19 -> 0.29166667 | B20: =C20*PCUs!$B$2+D20*PCUs!$B$3+E20*PCUs!$B$4+F20*PCUs!$B$5 -> 0 | G20: =B20*5.75 -> 0 | H20: =H19 -> 0.29166667 | I20: =J20*PCUs!$B$2+K20*PCUs!$B$3+L20*PCUs!$B$4+M20*PCUs!$B$5 -> 0 | N20: =I20*5.75 -> 0 | O20: =O19 -> 0.29166667 | P20: =Q20*PCUs!$B$2+R20*PCUs!$B$3+S20*PCUs!$B$4+T20*PCUs!$B$5 -> 0 | U20: =P20*5.75 -> 0
A21: =A20 -> 0.29166667 | B21: =C21*PCUs!$B$2+D21*PCUs!$B$3+E21*PCUs!$B$4+F21*PCUs!$B$5 -> 0 | G21: =B21*5.75 -> 0 | H21: =H20 -> 0.29166667 | I21: =J21*PCUs!$B$2+K21*PCUs!$B$3+L21*PCUs!$B$4+M21*PCUs!$B$5 -> 0 | N21: =I21*5.75 -> 0 | O21: =O20 -> 0.29166667 | P21: =Q21*PCUs!$B$2+R21*PCUs!$B$3+S21*PCUs!$B$4+T21*PCUs!$B$5 -> 0 | U21: =P21*5.75 -> 0
A22: =A21 -> 0.29166667 | B22: =C22*PCUs!$B$2+D22*PCUs!$B$3+E22*PCUs!$B$4+F22*PCUs!$B$5 -> 0 | G22: =B22*5.75 -> 0 | H22: =H21 -> 0.29166667 | I22: =J22*PCUs!$B$2+K22*PCUs!$B$3+L22*PCUs!$B$4+M22*PCUs!$B$5 -> 0 | N22: =I22*5.75 -> 0 | O22: =O21 -> 0.29166667 | P22: =Q22*PCUs!$B$2+R22*PCUs!$B$3+S22*PCUs!$B$4+T22*PCUs!$B$5 -> 0 | U22: =P22*5.75 -> 0
A23: =A22 -> 0.29166667 | B23: =C23*PCUs!$B$2+D23*PCUs!$B$3+E23*PCUs!$B$4+F23*PCUs!$B$5 -> 0 | G23: =B23*5.75 -> 0 | H23: =H22 -> 0.29166667 | I23: =J23*PCUs!$B$2+K23*PCUs!$B$3+L23*PCUs!$B$4+M23*PCUs!$B$5 -> 0 | N23: =I23*5.75 -> 0 | O23: =O22 -> 0.29166667 | P23: =Q23*PCUs!$B$2+R23*PCUs!$B$3+S23*PCUs!$B$4+T23*PCUs!$B$5 -> 0 | U23: =P23*5.75 -> 0
A24: =A23 -> 0.29166667 | B24: =C24*PCUs!$B$2+D24*PCUs!$B$3+E24*PCUs!$B$4+F24*PCUs!$B$5 -> 0 | G24: =B24*5.75 -> 0 | H24: =H23 -> 0.29166667 | I24: =J24*PCUs!$B$2+K24*PCUs!$B$3+L24*PCUs!$B$4+M24*PCUs!$B$5 -> 0 | N24: =I24*5.75 -> 0 | O24: =O23 -> 0.29166667 | P24: =Q24*PCUs!$B$2+R24*PCUs!$B$3+S24*PCUs!$B$4+T24*PCUs!$B$5 -> 0 | U24: =P24*5.75 -> 0
A25: =A24 -> 0.29166667 | B25: =C25*PCUs!$B$2+D25*PCUs!$B$3+E25*PCUs!$B$4+F25*PCUs!$B$5 -> 0 | G25: =B25*5.75 -> 0 | H25: =H24 -> 0.29166667 | I25: =J25*PCUs!$B$2+K25*PCUs!$B$3+L25*PCUs!$B$4+M25*PCUs!$B$5 -> 0 | N25: =I25*5.75 -> 0 | O25: =O24 -> 0.29166667 | P25: =Q25*PCUs!$B$2+R25*PCUs!$B$3+S25*PCUs!$B$4+T25*PCUs!$B$5 -> 0 | U25: =P25*5.75 -> 0
A26: =A25 -> 0.29166667 | B26: =C26*PCUs!$B$2+D26*PCUs!$B$3+E26*PCUs!$B$4+F26*PCUs!$B$5 -> 0 | G26: =B26*5.75 -> 0 | H26: =H25 -> 0.29166667 | I26: =J26*PCUs!$B$2+K26*PCUs!$B$3+L26*PCUs!$B$4+M26*PCUs!$B$5 -> 0 | N26: =I26*5.75 -> 0 | O26: =O25 -> 0.29166667 | P26: =Q26*PCUs!$B$2+R26*PCUs!$B$3+S26*PCUs!$B$4+T26*PCUs!$B$5 -> 0 | U26: =P26*5.75 -> 0
A27: =A26 -> 0.29166667 | B27: =C27*PCUs!$B$2+D27*PCUs!$B$3+E27*PCUs!$B$4+F27*PCUs!$B$5 -> 0 | G27: =B27*5.75 -> 0 | H27: =H26 -> 0.29166667 | I27: =J27*PCUs!$B$2+K27*PCUs!$B$3+L27*PCUs!$B$4+M27*PCUs!$B$5 -> 0 | N27: =I27*5.75 -> 0 | O27: =O26 -> 0.29166667 | P27: =Q27*PCUs!$B$2+R27*PCUs!$B$3+S27*PCUs!$B$4+T27*PCUs!$B$5 -> 0 | U27: =P27*5.75 -> 0
A28: =A27 -> 0.29166667 | B28: =MAX(B16:B27) -> 4.5 | C28: =VLOOKUP(B28,B16:F27,2,FALSE) -> 3 | D28: =VLOOKUP(B28,B16:F27,3,FALSE) -> 1 | E28: =VLOOKUP(B28,B16:F27,4,FALSE) -> 0 | F28: =VLOOKUP(B28,B16:F27,5,FALSE) -> 0 | G28: =B28*5.75 -> 25.875 | H28: =H27 -> 0.29166667 | I28: =MAX(I16:I27) -> 3 | J28: =VLOOKUP(I28,I16:M27,2,FALSE) -> 3 | K28: =VLOOKUP(I28,I16:M27,3,FALSE) -> 0 | L28: =VLOOKUP(I28,I16:M27,4,FALSE) -> 0 | M28: =VLOOKUP(I28,I16:M27,5,FALSE) -> 0 | N28: =I28*5.75 -> 17.25 | O28: =O27 -> 0.29166667 | P28: =MAX(P16:P27) -> 6 | Q28: =VLOOKUP(P28,P16:T27,2,FALSE) -> 6 | R28: =VLOOKUP(P28,P16:T27,3,FALSE) -> 0 | S28: =VLOOKUP(P28,P16:T27,4,FALSE) -> 0 | T28: =VLOOKUP(P28,P16:T27,5,FALSE) -> 0 | U28: =P28*5.75 -> 34.5
A29: =A27+"00:05" -> 0.29513889 | B29: =C29*PCUs!$B$2+D29*PCUs!$B$3+E29*PCUs!$B$4+F29*PCUs!$B$5 -> 0 | C29: 0 | D29: 0 | E29: 0 | F29: 0 | G29: =B29*5.75 -> 0 | H29: =H27+"00:05" -> 0.29513889 | I29: =J29*PCUs!$B$2+K29*PCUs!$B$3+L29*PCUs!$B$4+M29*PCUs!$B$5 -> 0 | J29: 0 | K29: 0 | L29: 0 | M29: 0 | N29: =I29*5.75 -> 0 | O29: =O27+"00:05" -> 0.29513889 | P29: =Q29*PCUs!$B$2+R29*PCUs!$B$3+S29*PCUs!$B$4+T29*PCUs!$B$5 -> 4 | Q29: 4 | R29: 0 | S29: 0 | T29: 0 | U29: =P29*5.75 -> 23
A30: =A29 -> 0.29513889 | B30: =C30*PCUs!$B$2+D30*PCUs!$B$3+E30*PCUs!$B$4+F30*PCUs!$B$5 -> 2 | C30: 2 | D30: 0 | E30: 0 | F30: 0 | G30: =B30*5.75 -> 11.5 | H30: =H29 -> 0.29513889 | I30: =J30*PCUs!$B$2+K30*PCUs!$B$3+L30*PCUs!$B$4+M30*PCUs!$B$5 -> 1 | J30: 1 | K30: 0 | L30: 0 | M30: 0 | N30: =I30*5.75 -> 5.75 | O30: =O29 -> 0.29513889 | P30: =Q30*PCUs!$B$2+R30*PCUs!$B$3+S30*PCUs!$B$4+T30*PCUs!$B$5 -> 2 | Q30: 2 | R30: 0 | S30: 0 | T30: 0 | U30: =P30*5.75 -> 11.5
A31: =A30 -> 0.29513889 | B31: =C31*PCUs!$B$2+D31*PCUs!$B$3+E31*PCUs!$B$4+F31*PCUs!$B$5 -> 3 | C31: 3 | D31: 0 | E31: 0 | F31: 0 | G31: =B31*5.75 -> 17.25 | H31: =H30 -> 0.29513889 | I31: =J31*PCUs!$B$2+K31*PCUs!$B$3+L31*PCUs!$B$4+M31*PCUs!$B$5 -> 3.5 | J31: 2 | K31: 1 | L31: 0 | M31: 0 | N31: =I31*5.75 -> 20.125 | O31: =O30 -> 0.29513889 | P31: =Q31*PCUs!$B$2+R31*PCUs!$B$3+S31*PCUs!$B$4+T31*PCUs!$B$5 -> 4 | Q31: 4 | R31: 0 | S31: 0 | T31: 0 | U31: =P31*5.75 -> 23
A32: =A31 -> 0.29513889 | B32: =C32*PCUs!$B$2+D32*PCUs!$B$3+E32*PCUs!$B$4+F32*PCUs!$B$5 -> 0 | G32: =B32*5.75 -> 0 | H32: =H31 -> 0.29513889 | I32: =J32*PCUs!$B$2+K32*PCUs!$B$3+L32*PCUs!$B$4+M32*PCUs!$B$5 -> 0 | N32: =I32*5.75 -> 0 | O32: =O31 -> 0.29513889 | P32: =Q32*PCUs!$B$2+R32*PCUs!$B$3+S32*PCUs!$B$4+T32*PCUs!$B$5 -> 0 | U32: =P32*5.75 -> 0
A33: =A32 -> 0.29513889 | B33: =C33*PCUs!$B$2+D33*PCUs!$B$3+E33*PCUs!$B$4+F33*PCUs!$B$5 -> 0 | G33: =B33*5.75 -> 0 | H33: =H32 -> 0.29513889 | I33: =J33*PCUs!$B$2+K33*PCUs!$B$3+L33*PCUs!$B$4+M33*PCUs!$B$5 -> 0 | N33: =I33*5.75 -> 0 | O33: =O32 -> 0.29513889 | P33: =Q33*PCUs!$B$2+R33*PCUs!$B$3+S33*PCUs!$B$4+T33*PCUs!$B$5 -> 0 | U33: =P33*5.75 -> 0
A34: =A33 -> 0.29513889 | B34: =C34*PCUs!$B$2+D34*PCUs!$B$3+E34*PCUs!$B$4+F34*PCUs!$B$5 -> 0 | G34: =B34*5.75 -> 0 | H34: =H33 -> 0.29513889 | I34: =J34*PCUs!$B$2+K34*PCUs!$B$3+L34*PCUs!$B$4+M34*PCUs!$B$5 -> 0 | N34: =I34*5.75 -> 0 | O34: =O33 -> 0.29513889 | P34: =Q34*PCUs!$B$2+R34*PCUs!$B$3+S34*PCUs!$B$4+T34*PCUs!$B$5 -> 0 | U34: =P34*5.75 -> 0
A35: =A34 -> 0.29513889 | B35: =C35*PCUs!$B$2+D35*PCUs!$B$3+E35*PCUs!$B$4+F35*PCUs!$B$5 -> 0 | G35: =B35*5.75 -> 0 | H35: =H34 -> 0.29513889 | I35: =J35*PCUs!$B$2+K35*PCUs!$B$3+L35*PCUs!$B$4+M35*PCUs!$B$5 -> 0 | N35: =I35*5.75 -> 0 | O35: =O34 -> 0.29513889 | P35: =Q35*PCUs!$B$2+R35*PCUs!$B$3+S35*PCUs!$B$4+T35*PCUs!$B$5 -> 0 | U35: =P35*5.75 -> 0
A36: =A35 -> 0.29513889 | B36: =C36*PCUs!$B$2+D36*PCUs!$B$3+E36*PCUs!$B$4+F36*PCUs!$B$5 -> 0 | G36: =B36*5.75 -> 0 | H36: =H35 -> 0.29513889 | I36: =J36*PCUs!$B$2+K36*PCUs!$B$3+L36*PCUs!$B$4+M36*PCUs!$B$5 -> 0 | N36: =I36*5.75 -> 0 | O36: =O35 -> 0.29513889 | P36: =Q36*PCUs!$B$2+R36*PCUs!$B$3+S36*PCUs!$B$4+T36*PCUs!$B$5 -> 0 | U36: =P36*5.75 -> 0
A37: =A36 -> 0.29513889 | B37: =C37*PCUs!$B$2+D37*PCUs!$B$3+E37*PCUs!$B$4+F37*PCUs!$B$5 -> 0 | G37: =B37*5.75 -> 0 | H37: =H36 -> 0.29513889 | I37: =J37*PCUs!$B$2+K37*PCUs!$B$3+L37*PCUs!$B$4+M37*PCUs!$B$5 -> 0 | N37: =I37*5.75 -> 0 | O37: =O36 -> 0.29513889 | P37: =Q37*PCUs!$B$2+R37*PCUs!$B$3+S37*PCUs!$B$4+T37*PCUs!$B$5 -> 0 | U37: =P37*5.75 -> 0
A38: =A37 -> 0.29513889 | B38: =C38*PCUs!$B$2+D38*PCUs!$B$3+E38*PCUs!$B$4+F38*PCUs!$B$5 -> 0 | G38: =B38*5.75 -> 0 | H38: =H37 -> 0.29513889 | I38: =J38*PCUs!$B$2+K38*PCUs!$B$3+L38*PCUs!$B$4+M38*PCUs!$B$5 -> 0 | N38: =I38*5.75 -> 0 | O38: =O37 -> 0.29513889 | P38: =Q38*PCUs!$B$2+R38*PCUs!$B$3+S38*PCUs!$B$4+T38*PCUs!$B$5 -> 0 | U38: =P38*5.75 -> 0
A39: =A38 -> 0.29513889 | B39: =C39*PCUs!$B$2+D39*PCUs!$B$3+E39*PCUs!$B$4+F39*PCUs!$B$5 -> 0 | G39: =B39*5.75 -> 0 | H39: =H38 -> 0.29513889 | I39: =J39*PCUs!$B$2+K39*PCUs!$B$3+L39*PCUs!$B$4+M39*PCUs!$B$5 -> 0 | N39: =I39*5.75 -> 0 | O39: =O38 -> 0.29513889 | P39: =Q39*PCUs!$B$2+R39*PCUs!$B$3+S39*PCUs!$B$4+T39*PCUs!$B$5 -> 0 | U39: =P39*5.75 -> 0
A40: =A39 -> 0.29513889 | B40: =C40*PCUs!$B$2+D40*PCUs!$B$3+E40*PCUs!$B$4+F40*PCUs!$B$5 -> 0 | G40: =B40*5.75 -> 0 | H40: =H39 -> 0.29513889 | I40: =J40*PCUs!$B$2+K40*PCUs!$B$3+L40*PCUs!$B$4+M40*PCUs!$B$5 -> 0 | N40: =I40*5.75 -> 0 | O40: =O39 -> 0.29513889 | P40: =Q40*PCUs!$B$2+R40*PCUs!$B$3+S40*PCUs!$B$4+T40*PCUs!$B$5 -> 0 | U40: =P40*5.75 -> 0
A41: =A40 -> 0.29513889 | B41: =MAX(B29:B40) -> 3 | C41: =VLOOKUP(B41,B29:F40,2,FALSE) -> 3 | D41: =VLOOKUP(B41,B29:F40,3,FALSE) -> 0 | E41: =VLOOKUP(B41,B29:F40,4,FALSE) -> 0 | F41: =VLOOKUP(B41,B29:F40,5,FALSE) -> 0 | G41: =B41*5.75 -> 17.25 | H41: =H40 -> 0.29513889 | I41: =MAX(I29:I40) -> 3.5 | J41: =VLOOKUP(I41,I29:M40,2,FALSE) -> 2 | K41: =VLOOKUP(I41,I29:M40,3,FALSE) -> 1 | L41: =VLOOKUP(I41,I29:M40,4,FALSE) -> 0 | M41: =VLOOKUP(I41,I29:M40,5,FALSE) -> 0 | N41: =I41*5.75 -> 20.125 | O41: =O40 -> 0.29513889 | P41: =MAX(P29:P40) -> 4 | Q41: =VLOOKUP(P41,P29:T40,2,FALSE) -> 4 | R41: =VLOOKUP(P41,P29:T40,3,FALSE) -> 0 | S41: =VLOOKUP(P41,P29:T40,4,FALSE) -> 0 | T41: =VLOOKUP(P41,P29:T40,5,FALSE) -> 0 | U41: =P41*5.75 -> 23
A42: =A40+"00:05" -> 0.29861111 | B42: =C42*PCUs!$B$2+D42*PCUs!$B$3+E42*PCUs!$B$4+F42*PCUs!$B$5 -> 1 | C42: 1 | D42: 0 | E42: 0 | F42: 0 | G42: =B42*5.75 -> 5.75 | H42: =H40+"00:05" -> 0.29861111 | I42: =J42*PCUs!$B$2+K42*PCUs!$B$3+L42*PCUs!$B$4+M42*PCUs!$B$5 -> 1 | J42: 1 | K42: 0 | L42: 0 | M42: 0 | N42: =I42*5.75 -> 5.75 | O42: =O40+"00:05" -> 0.29861111 | P42: =Q42*PCUs!$B$2+R42*PCUs!$B$3+S42*PCUs!$B$4+T42*PCUs!$B$5 -> 1 | Q42: 1 | R42: 0 | S42: 0 | T42: 0 | U42: =P42*5.75 -> 5.75
A43: =A42 -> 0.29861111 | B43: =C43*PCUs!$B$2+D43*PCUs!$B$3+E43*PCUs!$B$4+F43*PCUs!$B$5 -> 1 | C43: 1 | D43: 0 | E43: 0 | F43: 0 | G43: =B43*5.75 -> 5.75 | H43: =H42 -> 0.29861111 | I43: =J43*PCUs!$B$2+K43*PCUs!$B$3+L43*PCUs!$B$4+M43*PCUs!$B$5 -> 2 | J43: 2 | K43: 0 | L43: 0 | M43: 0 | N43: =I43*5.75 -> 11.5 | O43: =O42 -> 0.29861111 | P43: =Q43*PCUs!$B$2+R43*PCUs!$B$3+S43*PCUs!$B$4+T43*PCUs!$B$5 -> 1 | Q43: 1 | R43: 0 | S43: 0 | T43: 0 | U43: =P43*5.75 -> 5.75
A44: =A43 -> 0.29861111 | B44: =C44*PCUs!$B$2+D44*PCUs!$B$3+E44*PCUs!$B$4+F44*PCUs!$B$5 -> 12.5 | C44: 11 | D44: 1 | E44: 0 | F44: 0 | G44: =B44*5.75 -> 71.875 | H44: =H43 -> 0.29861111 | I44: =J44*PCUs!$B$2+K44*PCUs!$B$3+L44*PCUs!$B$4+M44*PCUs!$B$5 -> 3 | J44: 3 | K44: 0 | L44: 0 | M44: 0 | N44: =I44*5.75 -> 17.25 | O44: =O43 -> 0.29861111 | P44: =Q44*PCUs!$B$2+R44*PCUs!$B$3+S44*PCUs!$B$4+T44*PCUs!$B$5 -> 5 | Q44: 5 | R44: 0 | S44: 0 | T44: 0 | U44: =P44*5.75 -> 28.75
A45: =A44 -> 0.29861111 | B45: =C45*PCUs!$B$2+D45*PCUs!$B$3+E45*PCUs!$B$4+F45*PCUs!$B$5 -> 8 | C45: 8 | D45: 0 | E45: 0 | F45: 0 | G45: =B45*5.75 -> 46 | H45: =H44 -> 0.29861111 | I45: =J45*PCUs!$B$2+K45*PCUs!$B$3+L45*PCUs!$B$4+M45*PCUs!$B$5 -> 3 | J45: 3 | K45: 0 | L45: 0 | M45: 0 | N45: =I45*5.75 -> 17.25 | O45: =O44 -> 0.29861111 | P45: =Q45*PCUs!$B$2+R45*PCUs!$B$3+S45*PCUs!$B$4+T45*PCUs!$B$5 -> 9 | Q45: 9 | R45: 0 | S45: 0 | T45: 0 | U45: =P45*5.75 -> 51.75
A46: =A45 -> 0.29861111 | B46: =C46*PCUs!$B$2+D46*PCUs!$B$3+E46*PCUs!$B$4+F46*PCUs!$B$5 -> 0 | G46: =B46*5.75 -> 0 | H46: =H45 -> 0.29861111 | I46: =J46*PCUs!$B$2+K46*PCUs!$B$3+L46*PCUs!$B$4+M46*PCUs!$B$5 -> 0 | N46: =I46*5.75 -> 0 | O46: =O45 -> 0.29861111 | P46: =Q46*PCUs!$B$2+R46*PCUs!$B$3+S46*PCUs!$B$4+T46*PCUs!$B$5 -> 0 | U46: =P46*5.75 -> 0
A47: =A46 -> 0.29861111 | B47: =C47*PCUs!$B$2+D47*PCUs!$B$3+E47*PCUs!$B$4+F47*PCUs!$B$5 -> 0 | G47: =B47*5.75 -> 0 | H47: =H46 -> 0.29861111 | I47: =J47*PCUs!$B$2+K47*PCUs!$B$3+L47*PCUs!$B$4+M47*PCUs!$B$5 -> 0 | N47: =I47*5.75 -> 0 | O47: =O46 -> 0.29861111 | P47: =Q47*PCUs!$B$2+R47*PCUs!$B$3+S47*PCUs!$B$4+T47*PCUs!$B$5 -> 0 | U47: =P47*5.75 -> 0
A48: =A47 -> 0.29861111 | B48: =C48*PCUs!$B$2+D48*PCUs!$B$3+E48*PCUs!$B$4+F48*PCUs!$B$5 -> 0 | G48: =B48*5.75 -> 0 | H48: =H47 -> 0.29861111 | I48: =J48*PCUs!$B$2+K48*PCUs!$B$3+L48*PCUs!$B$4+M48*PCUs!$B$5 -> 0 | N48: =I48*5.75 -> 0 | O48: =O47 -> 0.29861111 | P48: =Q48*PCUs!$B$2+R48*PCUs!$B$3+S48*PCUs!$B$4+T48*PCUs!$B$5 -> 0 | U48: =P48*5.75 -> 0
A49: =A48 -> 0.29861111 | B49: =C49*PCUs!$B$2+D49*PCUs!$B$3+E49*PCUs!$B$4+F49*PCUs!$B$5 -> 0 | G49: =B49*5.75 -> 0 | H49: =H48 -> 0.29861111 | I49: =J49*PCUs!$B$2+K49*PCUs!$B$3+L49*PCUs!$B$4+M49*PCUs!$B$5 -> 0 | N49: =I49*5.75 -> 0 | O49: =O48 -> 0.29861111 | P49: =Q49*PCUs!$B$2+R49*PCUs!$B$3+S49*PCUs!$B$4+T49*PCUs!$B$5 -> 0 | U49: =P49*5.75 -> 0
A50: =A49 -> 0.29861111 | B50: =C50*PCUs!$B$2+D50*PCUs!$B$3+E50*PCUs!$B$4+F50*PCUs!$B$5 -> 0 | G50: =B50*5.75 -> 0 | H50: =H49 -> 0.29861111 | I50: =J50*PCUs!$B$2+K50*PCUs!$B$3+L50*PCUs!$B$4+M50*PCUs!$B$5 -> 0 | N50: =I50*5.75 -> 0 | O50: =O49 -> 0.29861111 | P50: =Q50*PCUs!$B$2+R50*PCUs!$B$3+S50*PCUs!$B$4+T50*PCUs!$B$5 -> 0 | U50: =P50*5.75 -> 0
A51: =A50 -> 0.29861111 | B51: =C51*PCUs!$B$2+D51*PCUs!$B$3+E51*PCUs!$B$4+F51*PCUs!$B$5 -> 0 | G51: =B51*5.75 -> 0 | H51: =H50 -> 0.29861111 | I51: =J51*PCUs!$B$2+K51*PCUs!$B$3+L51*PCUs!$B$4+M51*PCUs!$B$5 -> 0 | N51: =I51*5.75 -> 0 | O51: =O50 -> 0.29861111 | P51: =Q51*PCUs!$B$2+R51*PCUs!$B$3+S51*PCUs!$B$4+T51*PCUs!$B$5 -> 0 | U51: =P51*5.75 -> 0
A52: =A51 -> 0.29861111 | B52: =C52*PCUs!$B$2+D52*PCUs!$B$3+E52*PCUs!$B$4+F52*PCUs!$B$5 -> 0 | G52: =B52*5.75 -> 0 | H52: =H51 -> 0.29861111 | I52: =J52*PCUs!$B$2+K52*PCUs!$B$3+L52*PCUs!$B$4+M52*PCUs!$B$5 -> 0 | N52: =I52*5.75 -> 0 | O52: =O51 -> 0.29861111 | P52: =Q52*PCUs!$B$2+R52*PCUs!$B$3+S52*PCUs!$B$4+T52*PCUs!$B$5 -> 0 | U52: =P52*5.75 -> 0
A53: =A52 -> 0.29861111 | B53: =C53*PCUs!$B$2+D53*PCUs!$B$3+E53*PCUs!$B$4+F53*PCUs!$B$5 -> 0 | G53: =B53*5.75 -> 0 | H53: =H52 -> 0.29861111 | I53: =J53*PCUs!$B$2+K53*PCUs!$B$3+L53*PCUs!$B$4+M53*PCUs!$B$5 -> 0 | N53: =I53*5.75 -> 0 | O53: =O52 -> 0.29861111 | P53: =Q53*PCUs!$B$2+R53*PCUs!$B$3+S53*PCUs!$B$4+T53*PCUs!$B$5 -> 0 | U53: =P53*5.75 -> 0
A54: =A53 -> 0.29861111 | B54: =MAX(B42:B53) -> 12.5 | C54: =VLOOKUP(B54,B42:F53,2,FALSE) -> 11 | D54: =VLOOKUP(B54,B42:F53,3,FALSE) -> 1 | E54: =VLOOKUP(B54,B42:F53,4,FALSE) -> 0 | F54: =VLOOKUP(B54,B42:F53,5,FALSE) -> 0 | G54: =B54*5.75 -> 71.875 | H54: =H53 -> 0.29861111 | I54: =MAX(I42:I53) -> 3 | J54: =VLOOKUP(I54,I42:M53,2,FALSE) -> 3 | K54: =VLOOKUP(I54,I42:M53,3,FALSE) -> 0 | L54: =VLOOKUP(I54,I42:M53,4,FALSE) -> 0 | M54: =VLOOKUP(I54,I42:M53,5,FALSE) -> 0 | N54: =I54*5.75 -> 17.25 | O54: =O53 -> 0.29861111 | P54: =MAX(P42:P53) -> 9 | Q54: =VLOOKUP(P54,P42:T53,2,FALSE) -> 9 | R54: =VLOOKUP(P54,P42:T53,3,FALSE) -> 0 | S54: =VLOOKUP(P54,P42:T53,4,FALSE) -> 0 | T54: =VLOOKUP(P54,P42:T53,5,FALSE) -> 0 | U54: =P54*5.75 -> 51.75
A55: =A53+"00:05" -> 0.30208333 | B55: =C55*PCUs!$B$2+D55*PCUs!$B$3+E55*PCUs!$B$4+F55*PCUs!$B$5 -> 2 | C55: 2 | D55: 0 | E55: 0 | F55: 0 | G55: =B55*5.75 -> 11.5 | H55: =H53+"00:05" -> 0.30208333 | I55: =J55*PCUs!$B$2+K55*PCUs!$B$3+L55*PCUs!$B$4+M55*PCUs!$B$5 -> 3 | J55: 3 | K55: 0 | L55: 0 | M55: 0 | N55: =I55*5.75 -> 17.25 | O55: =O53+"00:05" -> 0.30208333 | P55: =Q55*PCUs!$B$2+R55*PCUs!$B$3+S55*PCUs!$B$4+T55*PCUs!$B$5 -> 4 | Q55: 4 | R55: 0 | S55: 0 | T55: 0 | U55: =P55*5.75 -> 23
A56: =A55 -> 0.30208333 | B56: =C56*PCUs!$B$2+D56*PCUs!$B$3+E56*PCUs!$B$4+F56*PCUs!$B$5 -> 7 | C56: 7 | D56: 0 | E56: 0 | F56: 0 | G56: =B56*5.75 -> 40.25 | H56: =H55 -> 0.30208333 | I56: =J56*PCUs!$B$2+K56*PCUs!$B$3+L56*PCUs!$B$4+M56*PCUs!$B$5 -> 1 | J56: 1 | K56: 0 | L56: 0 | M56: 0 | N56: =I56*5.75 -> 5.75 | O56: =O55 -> 0.30208333 | P56: =Q56*PCUs!$B$2+R56*PCUs!$B$3+S56*PCUs!$B$4+T56*PCUs!$B$5 -> 4 | Q56: 4 | R56: 0 | S56: 0 | T56: 0 | U56: =P56*5.75 -> 23
A57: =A56 -> 0.30208333 | B57: =C57*PCUs!$B$2+D57*PCUs!$B$3+E57*PCUs!$B$4+F57*PCUs!$B$5 -> 7.5 | C57: 6 | D57: 1 | E57: 0 | F57: 0 | G57: =B57*5.75 -> 43.125 | H57: =H56 -> 0.30208333 | I57: =J57*PCUs!$B$2+K57*PCUs!$B$3+L57*PCUs!$B$4+M57*PCUs!$B$5 -> 3 | J57: 3 | K57: 0 | L57: 0 | M57: 0 | N57: =I57*5.75 -> 17.25 | O57: =O56 -> 0.30208333 | P57: =Q57*PCUs!$B$2+R57*PCUs!$B$3+S57*PCUs!$B$4+T57*PCUs!$B$5 -> 4 | Q57: 4 | R57: 0 | S57: 0 | T57: 0 | U57: =P57*5.75 -> 23
A58: =A57 -> 0.30208333 | B58: =C58*PCUs!$B$2+D58*PCUs!$B$3+E58*PCUs!$B$4+F58*PCUs!$B$5 -> 5 | C58: 5 | D58: 0 | E58: 0 | F58: 0 | G58: =B58*5.75 -> 28.75 | H58: =H57 -> 0.30208333 | I58: =J58*PCUs!$B$2+K58*PCUs!$B$3+L58*PCUs!$B$4+M58*PCUs!$B$5 -> 1 | J58: 1 | K58: 0 | L58: 0 | M58: 0 | N58: =I58*5.75 -> 5.75 | O58: =O57 -> 0.30208333 | P58: =Q58*PCUs!$B$2+R58*PCUs!$B$3+S58*PCUs!$B$4+T58*PCUs!$B$5 -> 4 | Q58: 4 | R58: 0 | S58: 0 | T58: 0 | U58: =P58*5.75 -> 23
A59: =A58 -> 0.30208333 | B59: =C59*PCUs!$B$2+D59*PCUs!$B$3+E59*PCUs!$B$4+F59*PCUs!$B$5 -> 0 | G59: =B59*5.75 -> 0 | H59: =H58 -> 0.30208333 | I59: =J59*PCUs!$B$2+K59*PCUs!$B$3+L59*PCUs!$B$4+M59*PCUs!$B$5 -> 0 | N59: =I59*5.75 -> 0 | O59: =O58 -> 0.30208333 | P59: =Q59*PCUs!$B$2+R59*PCUs!$B$3+S59*PCUs!$B$4+T59*PCUs!$B$5 -> 0 | U59: =P59*5.75 -> 0
A60: =A59 -> 0.30208333 | B60: =C60*PCUs!$B$2+D60*PCUs!$B$3+E60*PCUs!$B$4+F60*PCUs!$B$5 -> 0 | G60: =B60*5.75 -> 0 | H60: =H59 -> 0.30208333 | I60: =J60*PCUs!$B$2+K60*PCUs!$B$3+L60*PCUs!$B$4+M60*PCUs!$B$5 -> 0 | N60: =I60*5.75 -> 0 | O60: =O59 -> 0.30208333 | P60: =Q60*PCUs!$B$2+R60*PCUs!$B$3+S60*PCUs!$B$4+T60*PCUs!$B$5 -> 0 | U60: =P60*5.75 -> 0
A61: =A60 -> 0.30208333 | B61: =C61*PCUs!$B$2+D61*PCUs!$B$3+E61*PCUs!$B$4+F61*PCUs!$B$5 -> 0 | G61: =B61*5.75 -> 0 | H61: =H60 -> 0.30208333 | I61: =J61*PCUs!$B$2+K61*PCUs!$B$3+L61*PCUs!$B$4+M61*PCUs!$B$5 -> 0 | N61: =I61*5.75 -> 0 | O61: =O60 -> 0.30208333 | P61: =Q61*PCUs!$B$2+R61*PCUs!$B$3+S61*PCUs!$B$4+T61*PCUs!$B$5 -> 0 | U61: =P61*5.75 -> 0
A62: =A61 -> 0.30208333 | B62: =C62*PCUs!$B$2+D62*PCUs!$B$3+E62*PCUs!$B$4+F62*PCUs!$B$5 -> 0 | G62: =B62*5.75 -> 0 | H62: =H61 -> 0.30208333 | I62: =J62*PCUs!$B$2+K62*PCUs!$B$3+L62*PCUs!$B$4+M62*PCUs!$B$5 -> 0 | N62: =I62*5.75 -> 0 | O62: =O61 -> 0.30208333 | P62: =Q62*PCUs!$B$2+R62*PCUs!$B$3+S62*PCUs!$B$4+T62*PCUs!$B$5 -> 0 | U62: =P62*5.75 -> 0
A63: =A62 -> 0.30208333 | B63: =C63*PCUs!$B$2+D63*PCUs!$B$3+E63*PCUs!$B$4+F63*PCUs!$B$5 -> 0 | G63: =B63*5.75 -> 0 | H63: =H62 -> 0.30208333 | I63: =J63*PCUs!$B$2+K63*PCUs!$B$3+L63*PCUs!$B$4+M63*PCUs!$B$5 -> 0 | N63: =I63*5.75 -> 0 | O63: =O62 -> 0.30208333 | P63: =Q63*PCUs!$B$2+R63*PCUs!$B$3+S63*PCUs!$B$4+T63*PCUs!$B$5 -> 0 | U63: =P63*5.75 -> 0
A64: =A63 -> 0.30208333 | B64: =C64*PCUs!$B$2+D64*PCUs!$B$3+E64*PCUs!$B$4+F64*PCUs!$B$5 -> 0 | G64: =B64*5.75 -> 0 | H64: =H63 -> 0.30208333 | I64: =J64*PCUs!$B$2+K64*PCUs!$B$3+L64*PCUs!$B$4+M64*PCUs!$B$5 -> 0 | N64: =I64*5.75 -> 0 | O64: =O63 -> 0.30208333 | P64: =Q64*PCUs!$B$2+R64*PCUs!$B$3+S64*PCUs!$B$4+T64*PCUs!$B$5 -> 0 | U64: =P64*5.75 -> 0
A65: =A64 -> 0.30208333 | B65: =C65*PCUs!$B$2+D65*PCUs!$B$3+E65*PCUs!$B$4+F65*PCUs!$B$5 -> 0 | G65: =B65*5.75 -> 0 | H65: =H64 -> 0.30208333 | I65: =J65*PCUs!$B$2+K65*PCUs!$B$3+L65*PCUs!$B$4+M65*PCUs!$B$5 -> 0 | N65: =I65*5.75 -> 0 | O65: =O64 -> 0.30208333 | P65: =Q65*PCUs!$B$2+R65*PCUs!$B$3+S65*PCUs!$B$4+T65*PCUs!$B$5 -> 0 | U65: =P65*5.75 -> 0
A66: =A65 -> 0.30208333 | B66: =C66*PCUs!$B$2+D66*PCUs!$B$3+E66*PCUs!$B$4+F66*PCUs!$B$5 -> 0 | G66: =B66*5.75 -> 0 | H66: =H65 -> 0.30208333 | I66: =J66*PCUs!$B$2+K66*PCUs!$B$3+L66*PCUs!$B$4+M66*PCUs!$B$5 -> 0 | N66: =I66*5.75 -> 0 | O66: =O65 -> 0.30208333 | P66: =Q66*PCUs!$B$2+R66*PCUs!$B$3+S66*PCUs!$B$4+T66*PCUs!$B$5 -> 0 | U66: =P66*5.75 -> 0
A67: =A66 -> 0.30208333 | B67: =MAX(B55:B66) -> 7.5 | C67: =VLOOKUP(B67,B55:F66,2,FALSE) -> 6 | D67: =VLOOKUP(B67,B55:F66,3,FALSE) -> 1 | E67: =VLOOKUP(B67,B55:F66,4,FALSE) -> 0 | F67: =VLOOKUP(B67,B55:F66,5,FALSE) -> 0 | G67: =B67*5.75 -> 43.125 | H67: =H66 -> 0.30208333 | I67: =MAX(I55:I66) -> 3 | J67: =VLOOKUP(I67,I55:M66,2,FALSE) -> 3 | K67: =VLOOKUP(I67,I55:M66,3,FALSE) -> 0 | L67: =VLOOKUP(I67,I55:M66,4,FALSE) -> 0 | M67: =VLOOKUP(I67,I55:M66,5,FALSE) -> 0 | N67: =I67*5.75 -> 17.25 | O67: =O66 -> 0.30208333 | P67: =MAX(P55:P66) -> 4 | Q67: =VLOOKUP(P67,P55:T66,2,FALSE) -> 4 | R67: =VLOOKUP(P67,P55:T66,3,FALSE) -> 0 | S67: =VLOOKUP(P67,P55:T66,4,FALSE) -> 0 | T67: =VLOOKUP(P67,P55:T66,5,FALSE) -> 0 | U67: =P67*5.75 -> 23
A68: =A66+"00:05" -> 0.30555556 | B68: =C68*PCUs!$B$2+D68*PCUs!$B$3+E68*PCUs!$B$4+F68*PCUs!$B$5 -> 10 | C68: 10 | D68: 0 | E68: 0 | F68: 0 | G68: =B68*5.75 -> 57.5 | H68: =H66+"00:05" -> 0.30555556 | I68: =J68*PCUs!$B$2+K68*PCUs!$B$3+L68*PCUs!$B$4+M68*PCUs!$B$5 -> 6 | J68: 6 | K68: 0 | L68: 0 | M68: 0 | N68: =I68*5.75 -> 34.5 | O68: =O66+"00:05" -> 0.30555556 | P68: =Q68*PCUs!$B$2+R68*PCUs!$B$3+S68*PCUs!$B$4+T68*PCUs!$B$5 -> 5.5 | Q68: 4 | R68: 1 | S68: 0 | T68: 0 | U68: =P68*5.75 -> 31.625
A69: =A68 -> 0.30555556 | B69: =C69*PCUs!$B$2+D69*PCUs!$B$3+E69*PCUs!$B$4+F69*PCUs!$B$5 -> 1.5 | C69: 0 | D69: 1 | E69: 0 | F69: 0 | G69: =B69*5.75 -> 8.625 | H69: =H68 -> 0.30555556 | I69: =J69*PCUs!$B$2+K69*PCUs!$B$3+L69*PCUs!$B$4+M69*PCUs!$B$5 -> 3 | J69: 3 | K69: 0 | L69: 0 | M69: 0 | N69: =I69*5.75 -> 17.25 | O69: =O68 -> 0.30555556 | P69: =Q69*PCUs!$B$2+R69*PCUs!$B$3+S69*PCUs!$B$4+T69*PCUs!$B$5 -> 4 | Q69: 2 | R69: 0 | S69: 0 | T69: 1 | U69: =P69*5.75 -> 23
A70: =A69 -> 0.30555556 | B70: =C70*PCUs!$B$2+D70*PCUs!$B$3+E70*PCUs!$B$4+F70*PCUs!$B$5 -> 3.5 | C70: 2 | D70: 1 | E70: 0 | F70: 0 | G70: =B70*5.75 -> 20.125 | H70: =H69 -> 0.30555556 | I70: =J70*PCUs!$B$2+K70*PCUs!$B$3+L70*PCUs!$B$4+M70*PCUs!$B$5 -> 4 | J70: 4 | K70: 0 | L70: 0 | M70: 0 | N70: =I70*5.75 -> 23 | O70: =O69 -> 0.30555556 | P70: =Q70*PCUs!$B$2+R70*PCUs!$B$3+S70*PCUs!$B$4+T70*PCUs!$B$5 -> 7 | Q70: 7 | R70: 0 | S70: 0 | T70: 0 | U70: =P70*5.75 -> 40.25
A71: =A70 -> 0.30555556 | B71: =C71*PCUs!$B$2+D71*PCUs!$B$3+E71*PCUs!$B$4+F71*PCUs!$B$5 -> 0 | G71: =B71*5.75 -> 0 | H71: =H70 -> 0.30555556 | I71: =J71*PCUs!$B$2+K71*PCUs!$B$3+L71*PCUs!$B$4+M71*PCUs!$B$5 -> 0 | N71: =I71*5.75 -> 0 | O71: =O70 -> 0.30555556 | P71: =Q71*PCUs!$B$2+R71*PCUs!$B$3+S71*PCUs!$B$4+T71*PCUs!$B$5 -> 0 | U71: =P71*5.75 -> 0
A72: =A71 -> 0.30555556 | B72: =C72*PCUs!$B$2+D72*PCUs!$B$3+E72*PCUs!$B$4+F72*PCUs!$B$5 -> 0 | G72: =B72*5.75 -> 0 | H72: =H71 -> 0.30555556 | I72: =J72*PCUs!$B$2+K72*PCUs!$B$3+L72*PCUs!$B$4+M72*PCUs!$B$5 -> 0 | N72: =I72*5.75 -> 0 | O72: =O71 -> 0.30555556 | P72: =Q72*PCUs!$B$2+R72*PCUs!$B$3+S72*PCUs!$B$4+T72*PCUs!$B$5 -> 0 | U72: =P72*5.75 -> 0
A73: =A72 -> 0.30555556 | B73: =C73*PCUs!$B$2+D73*PCUs!$B$3+E73*PCUs!$B$4+F73*PCUs!$B$5 -> 0 | G73: =B73*5.75 -> 0 | H73: =H72 -> 0.30555556 | I73: =J73*PCUs!$B$2+K73*PCUs!$B$3+L73*PCUs!$B$4+M73*PCUs!$B$5 -> 0 | N73: =I73*5.75 -> 0 | O73: =O72 -> 0.30555556 | P73: =Q73*PCUs!$B$2+R73*PCUs!$B$3+S73*PCUs!$B$4+T73*PCUs!$B$5 -> 0 | U73: =P73*5.75 -> 0
A74: =A73 -> 0.30555556 | B74: =C74*PCUs!$B$2+D74*PCUs!$B$3+E74*PCUs!$B$4+F74*PCUs!$B$5 -> 0 | G74: =B74*5.75 -> 0 | H74: =H73 -> 0.30555556 | I74: =J74*PCUs!$B$2+K74*PCUs!$B$3+L74*PCUs!$B$4+M74*PCUs!$B$5 -> 0 | N74: =I74*5.75 -> 0 | O74: =O73 -> 0.30555556 | P74: =Q74*PCUs!$B$2+R74*PCUs!$B$3+S74*PCUs!$B$4+T74*PCUs!$B$5 -> 0 | U74: =P74*5.75 -> 0
A75: =A74 -> 0.30555556 | B75: =C75*PCUs!$B$2+D75*PCUs!$B$3+E75*PCUs!$B$4+F75*PCUs!$B$5 -> 0 | G75: =B75*5.75 -> 0 | H75: =H74 -> 0.30555556 | I75: =J75*PCUs!$B$2+K75*PCUs!$B$3+L75*PCUs!$B$4+M75*PCUs!$B$5 -> 0 | N75: =I75*5.75 -> 0 | O75: =O74 -> 0.30555556 | P75: =Q75*PCUs!$B$2+R75*PCUs!$B$3+S75*PCUs!$B$4+T75*PCUs!$B$5 -> 0 | U75: =P75*5.75 -> 0
A76: =A75 -> 0.30555556 | B76: =C76*PCUs!$B$2+D76*PCUs!$B$3+E76*PCUs!$B$4+F76*PCUs!$B$5 -> 0 | G76: =B76*5.75 -> 0 | H76: =H75 -> 0.30555556 | I76: =J76*PCUs!$B$2+K76*PCUs!$B$3+L76*PCUs!$B$4+M76*PCUs!$B$5 -> 0 | N76: =I76*5.75 -> 0 | O76: =O75 -> 0.30555556 | P76: =Q76*PCUs!$B$2+R76*PCUs!$B$3+S76*PCUs!$B$4+T76*PCUs!$B$5 -> 0 | U76: =P76*5.75 -> 0
A77: =A76 -> 0.30555556 | B77: =C77*PCUs!$B$2+D77*PCUs!$B$3+E77*PCUs!$B$4+F77*PCUs!$B$5 -> 0 | G77: =B77*5.75 -> 0 | H77: =H76 -> 0.30555556 | I77: =J77*PCUs!$B$2+K77*PCUs!$B$3+L77*PCUs!$B$4+M77*PCUs!$B$5 -> 0 | N77: =I77*5.75 -> 0 | O77: =O76 -> 0.30555556 | P77: =Q77*PCUs!$B$2+R77*PCUs!$B$3+S77*PCUs!$B$4+T77*PCUs!$B$5 -> 0 | U77: =P77*5.75 -> 0
A78: =A77 -> 0.30555556 | B78: =C78*PCUs!$B$2+D78*PCUs!$B$3+E78*PCUs!$B$4+F78*PCUs!$B$5 -> 0 | G78: =B78*5.75 -> 0 | H78: =H77 -> 0.30555556 | I78: =J78*PCUs!$B$2+K78*PCUs!$B$3+L78*PCUs!$B$4+M78*PCUs!$B$5 -> 0 | N78: =I78*5.75 -> 0 | O78: =O77 -> 0.30555556 | P78: =Q78*PCUs!$B$2+R78*PCUs!$B$3+S78*PCUs!$B$4+T78*PCUs!$B$5 -> 0 | U78: =P78*5.75 -> 0
A79: =A78 -> 0.30555556 | B79: =C79*PCUs!$B$2+D79*PCUs!$B$3+E79*PCUs!$B$4+F79*PCUs!$B$5 -> 0 | G79: =B79*5.75 -> 0 | H79: =H78 -> 0.30555556 | I79: =J79*PCUs!$B$2+K79*PCUs!$B$3+L79*PCUs!$B$4+M79*PCUs!$B$5 -> 0 | N79: =I79*5.75 -> 0 | O79: =O78 -> 0.30555556 | P79: =Q79*PCUs!$B$2+R79*PCUs!$B$3+S79*PCUs!$B$4+T79*PCUs!$B$5 -> 0 | U79: =P79*5.75 -> 0
A80: =A79 -> 0.30555556 | B80: =MAX(B68:B79) -> 10 | C80: =VLOOKUP(B80,B68:F79,2,FALSE) -> 10 | D80: =VLOOKUP(B80,B68:F79,3,FALSE) -> 0 | E80: =VLOOKUP(B80,B68:F79,4,FALSE) -> 0 | F80: =VLOOKUP(B80,B68:F79,5,FALSE) -> 0 | G80: =B80*5.75 -> 57.5 | H80: =H79 -> 0.30555556 | I80: =MAX(I68:I79) -> 6 | J80: =VLOOKUP(I80,I68:M79,2,FALSE) -> 6 | K80: =VLOOKUP(I80,I68:M79,3,FALSE) -> 0 | L80: =VLOOKUP(I80,I68:M79,4,FALSE) -> 0 | M80: =VLOOKUP(I80,I68:M79,5,FALSE) -> 0 | N80: =I80*5.75 -> 34.5 | O80: =O79 -> 0.30555556 | P80: =MAX(P68:P79) -> 7 | Q80: =VLOOKUP(P80,P68:T79,2,FALSE) -> 7 | R80: =VLOOKUP(P80,P68:T79,3,FALSE) -> 0 | S80: =VLOOKUP(P80,P68:T79,4,FALSE) -> 0 | T80: =VLOOKUP(P80,P68:T79,5,FALSE) -> 0 | U80: =P80*5.75 -> 40.25
A81: =A79+"00:05" -> 0.30902778 | B81: =C81*PCUs!$B$2+D81*PCUs!$B$3+E81*PCUs!$B$4+F81*PCUs!$B$5 -> 5 | C81: 5 | D81: 0 | E81: 0 | F81: 0 | G81: =B81*5.75 -> 28.75 | H81: =H79+"00:05" -> 0.30902778 | I81: =J81*PCUs!$B$2+K81*PCUs!$B$3+L81*PCUs!$B$4+M81*PCUs!$B$5 -> 4 | J81: 4 | K81: 0 | L81: 0 | M81: 0 | N81: =I81*5.75 -> 23 | O81: =O79+"00:05" -> 0.30902778 | P81: =Q81*PCUs!$B$2+R81*PCUs!$B$3+S81*PCUs!$B$4+T81*PCUs!$B$5 -> 5 | Q81: 5 | R81: 0 | S81: 0 | T81: 0 | U81: =P81*5.75 -> 28.75
A82: =A81 -> 0.30902778 | B82: =C82*PCUs!$B$2+D82*PCUs!$B$3+E82*PCUs!$B$4+F82*PCUs!$B$5 -> 4 | C82: 4 | D82: 0 | E82: 0 | F82: 0 | G82: =B82*5.75 -> 23 | H82: =H81 -> 0.30902778 | I82: =J82*PCUs!$B$2+K82*PCUs!$B$3+L82*PCUs!$B$4+M82*PCUs!$B$5 -> 1 | J82: 1 | K82: 0 | L82: 0 | M82: 0 | N82: =I82*5.75 -> 5.75 | O82: =O81 -> 0.30902778 | P82: =Q82*PCUs!$B$2+R82*PCUs!$B$3+S82*PCUs!$B$4+T82*PCUs!$B$5 -> 1 | Q82: 1 | R82: 0 | S82: 0 | T82: 0 | U82: =P82*5.75 -> 5.75
A83: =A82 -> 0.30902778 | B83: =C83*PCUs!$B$2+D83*PCUs!$B$3+E83*PCUs!$B$4+F83*PCUs!$B$5 -> 3 | C83: 3 | D83: 0 | E83: 0 | F83: 0 | G83: =B83*5.75 -> 17.25 | H83: =H82 -> 0.30902778 | I83: =J83*PCUs!$B$2+K83*PCUs!$B$3+L83*PCUs!$B$4+M83*PCUs!$B$5 -> 2 | J83: 2 | K83: 0 | L83: 0 | M83: 0 | N83: =I83*5.75 -> 11.5 | O83: =O82 -> 0.30902778 | P83: =Q83*PCUs!$B$2+R83*PCUs!$B$3+S83*PCUs!$B$4+T83*PCUs!$B$5 -> 3.5 | Q83: 2 | R83: 1 | S83: 0 | T83: 0 | U83: =P83*5.75 -> 20.125
A84: =A83 -> 0.30902778 | B84: =C84*PCUs!$B$2+D84*PCUs!$B$3+E84*PCUs!$B$4+F84*PCUs!$B$5 -> 3.5 | C84: 2 | D84: 1 | E84: 0 | F84: 0 | G84: =B84*5.75 -> 20.125 | H84: =H83 -> 0.30902778 | I84: =J84*PCUs!$B$2+K84*PCUs!$B$3+L84*PCUs!$B$4+M84*PCUs!$B$5 -> 1 | J84: 1 | K84: 0 | L84: 0 | M84: 0 | N84: =I84*5.75 -> 5.75 | O84: =O83 -> 0.30902778 | P84: =Q84*PCUs!$B$2+R84*PCUs!$B$3+S84*PCUs!$B$4+T84*PCUs!$B$5 -> 2 | Q84: 2 | R84: 0 | S84: 0 | T84: 0 | U84: =P84*5.75 -> 11.5
A85: =A84 -> 0.30902778 | B85: =C85*PCUs!$B$2+D85*PCUs!$B$3+E85*PCUs!$B$4+F85*PCUs!$B$5 -> 0 | G85: =B85*5.75 -> 0 | H85: =H84 -> 0.30902778 | I85: =J85*PCUs!$B$2+K85*PCUs!$B$3+L85*PCUs!$B$4+M85*PCUs!$B$5 -> 0 | N85: =I85*5.75 -> 0 | O85: =O84 -> 0.30902778 | P85: =Q85*PCUs!$B$2+R85*PCUs!$B$3+S85*PCUs!$B$4+T85*PCUs!$B$5 -> 0 | U85: =P85*5.75 -> 0
A86: =A85 -> 0.30902778 | B86: =C86*PCUs!$B$2+D86*PCUs!$B$3+E86*PCUs!$B$4+F86*PCUs!$B$5 -> 0 | G86: =B86*5.75 -> 0 | H86: =H85 -> 0.30902778 | I86: =J86*PCUs!$B$2+K86*PCUs!$B$3+L86*PCUs!$B$4+M86*PCUs!$B$5 -> 0 | N86: =I86*5.75 -> 0 | O86: =O85 -> 0.30902778 | P86: =Q86*PCUs!$B$2+R86*PCUs!$B$3+S86*PCUs!$B$4+T86*PCUs!$B$5 -> 0 | U86: =P86*5.75 -> 0
A87: =A86 -> 0.30902778 | B87: =C87*PCUs!$B$2+D87*PCUs!$B$3+E87*PCUs!$B$4+F87*PCUs!$B$5 -> 0 | G87: =B87*5.75 -> 0 | H87: =H86 -> 0.30902778 | I87: =J87*PCUs!$B$2+K87*PCUs!$B$3+L87*PCUs!$B$4+M87*PCUs!$B$5 -> 0 | N87: =I87*5.75 -> 0 | O87: =O86 -> 0.30902778 | P87: =Q87*PCUs!$B$2+R87*PCUs!$B$3+S87*PCUs!$B$4+T87*PCUs!$B$5 -> 0 | U87: =P87*5.75 -> 0
A88: =A87 -> 0.30902778 | B88: =C88*PCUs!$B$2+D88*PCUs!$B$3+E88*PCUs!$B$4+F88*PCUs!$B$5 -> 0 | G88: =B88*5.75 -> 0 | H88: =H87 -> 0.30902778 | I88: =J88*PCUs!$B$2+K88*PCUs!$B$3+L88*PCUs!$B$4+M88*PCUs!$B$5 -> 0 | N88: =I88*5.75 -> 0 | O88: =O87 -> 0.30902778 | P88: =Q88*PCUs!$B$2+R88*PCUs!$B$3+S88*PCUs!$B$4+T88*PCUs!$B$5 -> 0 | U88: =P88*5.75 -> 0
A89: =A88 -> 0.30902778 | B89: =C89*PCUs!$B$2+D89*PCUs!$B$3+E89*PCUs!$B$4+F89*PCUs!$B$5 -> 0 | G89: =B89*5.75 -> 0 | H89: =H88 -> 0.30902778 | I89: =J89*PCUs!$B$2+K89*PCUs!$B$3+L89*PCUs!$B$4+M89*PCUs!$B$5 -> 0 | N89: =I89*5.75 -> 0 | O89: =O88 -> 0.30902778 | P89: =Q89*PCUs!$B$2+R89*PCUs!$B$3+S89*PCUs!$B$4+T89*PCUs!$B$5 -> 0 | U89: =P89*5.75 -> 0
A90: =A89 -> 0.30902778 | B90: =C90*PCUs!$B$2+D90*PCUs!$B$3+E90*PCUs!$B$4+F90*PCUs!$B$5 -> 0 | G90: =B90*5.75 -> 0 | H90: =H89 -> 0.30902778 | I90: =J90*PCUs!$B$2+K90*PCUs!$B$3+L90*PCUs!$B$4+M90*PCUs!$B$5 -> 0 | N90: =I90*5.75 -> 0 | O90: =O89 -> 0.30902778 | P90: =Q90*PCUs!$B$2+R90*PCUs!$B$3+S90*PCUs!$B$4+T90*PCUs!$B$5 -> 0 | U90: =P90*5.75 -> 0
A91: =A90 -> 0.30902778 | B91: =C91*PCUs!$B$2+D91*PCUs!$B$3+E91*PCUs!$B$4+F91*PCUs!$B$5 -> 0 | G91: =B91*5.75 -> 0 | H91: =H90 -> 0.30902778 | I91: =J91*PCUs!$B$2+K91*PCUs!$B$3+L91*PCUs!$B$4+M91*PCUs!$B$5 -> 0 | N91: =I91*5.75 -> 0 | O91: =O90 -> 0.30902778 | P91: =Q91*PCUs!$B$2+R91*PCUs!$B$3+S91*PCUs!$B$4+T91*PCUs!$B$5 -> 0 | U91: =P91*5.75 -> 0
A92: =A91 -> 0.30902778 | B92: =C92*PCUs!$B$2+D92*PCUs!$B$3+E92*PCUs!$B$4+F92*PCUs!$B$5 -> 0 | G92: =B92*5.75 -> 0 | H92: =H91 -> 0.30902778 | I92: =J92*PCUs!$B$2+K92*PCUs!$B$3+L92*PCUs!$B$4+M92*PCUs!$B$5 -> 0 | N92: =I92*5.75 -> 0 | O92: =O91 -> 0.30902778 | P92: =Q92*PCUs!$B$2+R92*PCUs!$B$3+S92*PCUs!$B$4+T92*PCUs!$B$5 -> 0 | U92: =P92*5.75 -> 0
A93: =A92 -> 0.30902778 | B93: =MAX(B81:B92) -> 5 | C93: =VLOOKUP(B93,B81:F92,2,FALSE) -> 5 | D93: =VLOOKUP(B93,B81:F92,3,FALSE) -> 0 | E93: =VLOOKUP(B93,B81:F92,4,FALSE) -> 0 | F93: =VLOOKUP(B93,B81:F92,5,FALSE) -> 0 | G93: =B93*5.75 -> 28.75 | H93: =H92 -> 0.30902778 | I93: =MAX(I81:I92) -> 4 | J93: =VLOOKUP(I93,I81:M92,2,FALSE) -> 4 | K93: =VLOOKUP(I93,I81:M92,3,FALSE) -> 0 | L93: =VLOOKUP(I93,I81:M92,4,FALSE) -> 0 | M93: =VLOOKUP(I93,I81:M92,5,FALSE) -> 0 | N93: =I93*5.75 -> 23 | O93: =O92 -> 0.30902778 | P93: =MAX(P81:P92) -> 5 | Q93: =VLOOKUP(P93,P81:T92,2,FALSE) -> 5 | R93: =VLOOKUP(P93,P81:T92,3,FALSE) -> 0 | S93: =VLOOKUP(P93,P81:T92,4,FALSE) -> 0 | T93: =VLOOKUP(P93,P81:T92,5,FALSE) -> 0 | U93: =P93*5.75 -> 28.75
A94: =A92+"00:05" -> 0.3125 | B94: =C94*PCUs!$B$2+D94*PCUs!$B$3+E94*PCUs!$B$4+F94*PCUs!$B$5 -> 6.3 | C94: 4 | D94: 0 | E94: 1 | F94: 0 | G94: =B94*5.75 -> 36.225 | H94: =H92+"00:05" -> 0.3125 | I94: =J94*PCUs!$B$2+K94*PCUs!$B$3+L94*PCUs!$B$4+M94*PCUs!$B$5 -> 4 | J94: 4 | K94: 0 | L94: 0 | M94: 0 | N94: =I94*5.75 -> 23 | O94: =O92+"00:05" -> 0.3125 | P94: =Q94*PCUs!$B$2+R94*PCUs!$B$3+S94*PCUs!$B$4+T94*PCUs!$B$5 -> 4 | Q94: 4 | R94: 0 | S94: 0 | T94: 0 | U94: =P94*5.75 -> 23
A95: =A94 -> 0.3125 | B95: =C95*PCUs!$B$2+D95*PCUs!$B$3+E95*PCUs!$B$4+F95*PCUs!$B$5 -> 2 | C95: 2 | D95: 0 | E95: 0 | F95: 0 | G95: =B95*5.75 -> 11.5 | H95: =H94 -> 0.3125 | I95: =J95*PCUs!$B$2+K95*PCUs!$B$3+L95*PCUs!$B$4+M95*PCUs!$B$5 -> 2 | J95: 2 | K95: 0 | L95: 0 | M95: 0 | N95: =I95*5.75 -> 11.5 | O95: =O94 -> 0.3125 | P95: =Q95*PCUs!$B$2+R95*PCUs!$B$3+S95*PCUs!$B$4+T95*PCUs!$B$5 -> 7 | Q95: 7 | R95: 0 | S95: 0 | T95: 0 | U95: =P95*5.75 -> 40.25
A96: =A95 -> 0.3125 | B96: =C96*PCUs!$B$2+D96*PCUs!$B$3+E96*PCUs!$B$4+F96*PCUs!$B$5 -> 1 | C96: 1 | D96: 0 | E96: 0 | F96: 0 | G96: =B96*5.75 -> 5.75 | H96: =H95 -> 0.3125 | I96: =J96*PCUs!$B$2+K96*PCUs!$B$3+L96*PCUs!$B$4+M96*PCUs!$B$5 -> 0 | J96: 0 | K96: 0 | L96: 0 | M96: 0 | N96: =I96*5.75 -> 0 | O96: =O95 -> 0.3125 | P96: =Q96*PCUs!$B$2+R96*PCUs!$B$3+S96*PCUs!$B$4+T96*PCUs!$B$5 -> 5 | Q96: 5 | R96: 0 | S96: 0 | T96: 0 | U96: =P96*5.75 -> 28.75
A97: =A96 -> 0.3125 | B97: =C97*PCUs!$B$2+D97*PCUs!$B$3+E97*PCUs!$B$4+F97*PCUs!$B$5 -> 4 | C97: 4 | D97: 0 | E97: 0 | F97: 0 | G97: =B97*5.75 -> 23 | H97: =H96 -> 0.3125 | I97: =J97*PCUs!$B$2+K97*PCUs!$B$3+L97*PCUs!$B$4+M97*PCUs!$B$5 -> 0 | J97: 0 | K97: 0 | L97: 0 | M97: 0 | N97: =I97*5.75 -> 0 | O97: =O96 -> 0.3125 | P97: =Q97*PCUs!$B$2+R97*PCUs!$B$3+S97*PCUs!$B$4+T97*PCUs!$B$5 -> 5 | Q97: 2 | R97: 2 | S97: 0 | T97: 0 | U97: =P97*5.75 -> 28.75
A98: =A97 -> 0.3125 | B98: =C98*PCUs!$B$2+D98*PCUs!$B$3+E98*PCUs!$B$4+F98*PCUs!$B$5 -> 3 | C98: 3 | D98: 0 | E98: 0 | F98: 0 | G98: =B98*5.75 -> 17.25 | H98: =H97 -> 0.3125 | I98: =J98*PCUs!$B$2+K98*PCUs!$B$3+L98*PCUs!$B$4+M98*PCUs!$B$5 -> 2 | J98: 2 | K98: 0 | L98: 0 | M98: 0 | N98: =I98*5.75 -> 11.5 | O98: =O97 -> 0.3125 | P98: =Q98*PCUs!$B$2+R98*PCUs!$B$3+S98*PCUs!$B$4+T98*PCUs!$B$5 -> 3 | Q98: 3 | R98: 0 | S98: 0 | T98: 0 | U98: =P98*5.75 -> 17.25
A99: =A98 -> 0.3125 | B99: =C99*PCUs!$B$2+D99*PCUs!$B$3+E99*PCUs!$B$4+F99*PCUs!$B$5 -> 0 | G99: =B99*5.75 -> 0 | H99: =H98 -> 0.3125 | I99: =J99*PCUs!$B$2+K99*PCUs!$B$3+L99*PCUs!$B$4+M99*PCUs!$B$5 -> 0 | N99: =I99*5.75 -> 0 | O99: =O98 -> 0.3125 | P99: =Q99*PCUs!$B$2+R99*PCUs!$B$3+S99*PCUs!$B$4+T99*PCUs!$B$5 -> 0 | U99: =P99*5.75 -> 0
A100: =A99 -> 0.3125 | B100: =C100*PCUs!$B$2+D100*PCUs!$B$3+E100*PCUs!$B$4+F100*PCUs!$B$5 -> 0 | G100: =B100*5.75 -> 0 | H100: =H99 -> 0.3125 | I100: =J100*PCUs!$B$2+K100*PCUs!$B$3+L100*PCUs!$B$4+M100*PCUs!$B$5 -> 0 | N100: =I100*5.75 -> 0 | O100: =O99 -> 0.3125 | P100: =Q100*PCUs!$B$2+R100*PCUs!$B$3+S100*PCUs!$B$4+T100*PCUs!$B$5 -> 0 | U100: =P100*5.75 -> 0
A101: =A100 -> 0.3125 | B101: =C101*PCUs!$B$2+D101*PCUs!$B$3+E101*PCUs!$B$4+F101*PCUs!$B$5 -> 0 | G101: =B101*5.75 -> 0 | H101: =H100 -> 0.3125 | I101: =J101*PCUs!$B$2+K101*PCUs!$B$3+L101*PCUs!$B$4+M101*PCUs!$B$5 -> 0 | N101: =I101*5.75 -> 0 | O101: =O100 -> 0.3125 | P101: =Q101*PCUs!$B$2+R101*PCUs!$B$3+S101*PCUs!$B$4+T101*PCUs!$B$5 -> 0 | U101: =P101*5.75 -> 0
A102: =A101 -> 0.3125 | B102: =C102*PCUs!$B$2+D102*PCUs!$B$3+E102*PCUs!$B$4+F102*PCUs!$B$5 -> 0 | G102: =B102*5.75 -> 0 | H102: =H101 -> 0.3125 | I102: =J102*PCUs!$B$2+K102*PCUs!$B$3+L102*PCUs!$B$4+M102*PCUs!$B$5 -> 0 | N102: =I102*5.75 -> 0 | O102: =O101 -> 0.3125 | P102: =Q102*PCUs!$B$2+R102*PCUs!$B$3+S102*PCUs!$B$4+T102*PCUs!$B$5 -> 0 | U102: =P102*5.75 -> 0
A103: =A102 -> 0.3125 | B103: =C103*PCUs!$B$2+D103*PCUs!$B$3+E103*PCUs!$B$4+F103*PCUs!$B$5 -> 0 | G103: =B103*5.75 -> 0 | H103: =H102 -> 0.3125 | I103: =J103*PCUs!$B$2+K103*PCUs!$B$3+L103*PCUs!$B$4+M103*PCUs!$B$5 -> 0 | N103: =I103*5.75 -> 0 | O103: =O102 -> 0.3125 | P103: =Q103*PCUs!$B$2+R103*PCUs!$B$3+S103*PCUs!$B$4+T103*PCUs!$B$5 -> 0 | U103: =P103*5.75 -> 0
A104: =A103 -> 0.3125 | B104: =C104*PCUs!$B$2+D104*PCUs!$B$3+E104*PCUs!$B$4+F104*PCUs!$B$5 -> 0 | G104: =B104*5.75 -> 0 | H104: =H103 -> 0.3125 | I104: =J104*PCUs!$B$2+K104*PCUs!$B$3+L104*PCUs!$B$4+M104*PCUs!$B$5 -> 0 | N104: =I104*5.75 -> 0 | O104: =O103 -> 0.3125 | P104: =Q104*PCUs!$B$2+R104*PCUs!$B$3+S104*PCUs!$B$4+T104*PCUs!$B$5 -> 0 | U104: =P104*5.75 -> 0
A105: =A104 -> 0.3125 | B105: =C105*PCUs!$B$2+D105*PCUs!$B$3+E105*PCUs!$B$4+F105*PCUs!$B$5 -> 0 | G105: =B105*5.75 -> 0 | H105: =H104 -> 0.3125 | I105: =J105*PCUs!$B$2+K105*PCUs!$B$3+L105*PCUs!$B$4+M105*PCUs!$B$5 -> 0 | N105: =I105*5.75 -> 0 | O105: =O104 -> 0.3125 | P105: =Q105*PCUs!$B$2+R105*PCUs!$B$3+S105*PCUs!$B$4+T105*PCUs!$B$5 -> 0 | U105: =P105*5.75 -> 0
A106: =A105 -> 0.3125 | B106: =MAX(B94:B105) -> 6.3 | C106: =VLOOKUP(B106,B94:F105,2,FALSE) -> 4 | D106: =VLOOKUP(B106,B94:F105,3,FALSE) -> 0 | E106: =VLOOKUP(B106,B94:F105,4,FALSE) -> 1 | F106: =VLOOKUP(B106,B94:F105,5,FALSE) -> 0 | G106: =B106*5.75 -> 36.225 | H106: =H105 -> 0.3125 | I106: =MAX(I94:I105) -> 4 | J106: =VLOOKUP(I106,I94:M105,2,FALSE) -> 4 | K106: =VLOOKUP(I106,I94:M105,3,FALSE) -> 0 | L106: =VLOOKUP(I106,I94:M105,4,FALSE) -> 0 | M106: =VLOOKUP(I106,I94:M105,5,FALSE) -> 0 | N106: =I106*5.75 -> 23 | O106: =O105 -> 0.3125 | P106: =MAX(P94:P105) -> 7 | Q106: =VLOOKUP(P106,P94:T105,2,FALSE) -> 7 | R106: =VLOOKUP(P106,P94:T105,3,FALSE) -> 0 | S106: =VLOOKUP(P106,P94:T105,4,FALSE) -> 0 | T106: =VLOOKUP(P106,P94:T105,5,FALSE) -> 0 | U106: =P106*5.75 -> 40.25
A107: =A105+"00:05" -> 0.31597222 | B107: =C107*PCUs!$B$2+D107*PCUs!$B$3+E107*PCUs!$B$4+F107*PCUs!$B$5 -> 4 | C107: 4 | D107: 0 | E107: 0 | F107: 0 | G107: =B107*5.75 -> 23 | H107: =H105+"00:05" -> 0.31597222 | I107: =J107*PCUs!$B$2+K107*PCUs!$B$3+L107*PCUs!$B$4+M107*PCUs!$B$5 -> 3 | J107: 3 | K107: 0 | L107: 0 | M107: 0 | N107: =I107*5.75 -> 17.25 | O107: =O105+"00:05" -> 0.31597222 | P107: =Q107*PCUs!$B$2+R107*PCUs!$B$3+S107*PCUs!$B$4+T107*PCUs!$B$5 -> 4 | Q107: 4 | R107: 0 | S107: 0 | T107: 0 | U107: =P107*5.75 -> 23
...

Sheet Site 4 Arm D
R2: 16367 / SOUTHAMPTON
R3: =UPPER(TEXT(Q8,"mMmm yyyy")) -> FEBRUARY 2025
R4: QUEUE LENGTH SURVEY
A8: SITE: | B8: 4 | P8: DATE: | Q8: 45701
A10: LOCATION: | B10: Stoneham Interchange | P10: DAY: | Q10: =UPPER(TEXT(Q8,"dddd")) -> THURSDAY
A12: ANALYSIS: Queue at (i) each 5 minute interval and the (ii) Maximum Queue per 5 minute period
A14: Arm D - Lane 1 | H14: Arm D - Lane 2
A15: Time | B15: Total | C15: Cars | D15: OGV1 | E15: OGV2 | F15: PSV | G15: Metres | H15: Time | I15: Total | J15: Cars | K15: OGV1 | L15: OGV2 | M15: PSV | N15: Metres
A16: 0.29166667 | B16: =C16*PCUs!B2+D16*PCUs!B3+E16*PCUs!B4+F16*PCUs!B5 -> 11 | C16: 11 | D16: 0 | E16: 0 | F16: 0 | G16: =B16*5.75 -> 63.25 | H16: 0.29166667 | I16: =J16*PCUs!B2+K16*PCUs!B3+L16*PCUs!B4+M16*PCUs!B5 -> 5 | J16: 5 | K16: 0 | L16: 0 | M16: 0 | N16: =I16*5.75 -> 28.75
A17: Max Queue | B17: =C17*PCUs!B2+D17*PCUs!B3+E17*PCUs!B4+F17*PCUs!B5 -> 11 | C17: 11 | D17: 0 | E17: 0 | F17: 0 | G17: =B17*5.75 -> 63.25 | H17: Max Queue | I17: =J17*PCUs!B2+K17*PCUs!B3+L17*PCUs!B4+M17*PCUs!B5 -> 12 | J17: 12 | K17: 0 | L17: 0 | M17: 0 | N17: =I17*5.75 -> 69
A18: =A16+"00:05" -> 0.29513889 | B18: =C18*PCUs!B2+D18*PCUs!B3+E18*PCUs!B4+F18*PCUs!B5 -> 0 | C18: 0 | D18: 0 | E18: 0 | F18: 0 | G18: =B18*5.75 -> 0 | H18: =H16+"00:05" -> 0.29513889 | I18: =J18*PCUs!B2+K18*PCUs!B3+L18*PCUs!B4+M18*PCUs!B5 -> 2 | J18: 2 | K18: 0 | L18: 0 | M18: 0 | N18: =I18*5.75 -> 11.5
A19: Max Queue | B19: =C19*PCUs!B2+D19*PCUs!B3+E19*PCUs!B4+F19*PCUs!B5 -> 9 | C19: 9 | D19: 0 | E19: 0 | F19: 0 | G19: =B19*5.75 -> 51.75 | H19: Max Queue | I19: =J19*PCUs!B2+K19*PCUs!B3+L19*PCUs!B4+M19*PCUs!B5 -> 3 | J19: 3 | K19: 0 | L19: 0 | M19: 0 | N19: =I19*5.75 -> 17.25
A20: =A18+"00:05" -> 0.29861111 | B20: =C20*PCUs!B2+D20*PCUs!B3+E20*PCUs!B4+F20*PCUs!B5 -> 1 | C20: 1 | D20: 0 | E20: 0 | F20: 0 | G20: =B20*5.75 -> 5.75 | H20: =H18+"00:05" -> 0.29861111 | I20: =J20*PCUs!B2+K20*PCUs!B3+L20*PCUs!B4+M20*PCUs!B5 -> 2 | J20: 2 | K20: 0 | L20: 0 | M20: 0 | N20: =I20*5.75 -> 11.5
A21: Max Queue | B21: =C21*PCUs!B2+D21*PCUs!B3+E21*PCUs!B4+F21*PCUs!B5 -> 20 | C21: 20 | D21: 0 | E21: 0 | F21: 0 | G21: =B21*5.75 -> 115 | H21: Max Queue | I21: =J21*PCUs!B2+K21*PCUs!B3+L21*PCUs!B4+M21*PCUs!B5 -> 20.3 | J21: 18 | K21: 0 | L21: 1 | M21: 0 | N21: =I21*5.75 -> 116.725
A22: =A20+"00:05" -> 0.30208333 | B22: =C22*PCUs!B2+D22*PCUs!B3+E22*PCUs!B4+F22*PCUs!B5 -> 2 | C22: 2 | D22: 0 | E22: 0 | F22: 0 | G22: =B22*5.75 -> 11.5 | H22: =H20+"00:05" -> 0.30208333 | I22: =J22*PCUs!B2+K22*PCUs!B3+L22*PCUs!B4+M22*PCUs!B5 -> 2 | J22: 2 | K22: 0 | L22: 0 | M22: 0 | N22: =I22*5.75 -> 11.5
A23: Max Queue | B23: =C23*PCUs!B2+D23*PCUs!B3+E23*PCUs!B4+F23*PCUs!B5 -> 33.3 | C23: 28 | D23: 2 | E23: 1 | F23: 0 | G23: =B23*5.75 -> 191.475 | H23: Max Queue | I23: =J23*PCUs!B2+K23*PCUs!B3+L23*PCUs!B4+M23*PCUs!B5 -> 25.8 | J23: 22 | K23: 1 | L23: 1 | M23: 0 | N23: =I23*5.75 -> 148.35
A24: =A22+"00:05" -> 0.30555556 | B24: =C24*PCUs!B2+D24*PCUs!B3+E24*PCUs!B4+F24*PCUs!B5 -> 15 | C24: 15 | D24: 0 | E24: 0 | F24: 0 | G24: =B24*5.75 -> 86.25 | H24: =H22+"00:05" -> 0.30555556 | I24: =J24*PCUs!B2+K24*PCUs!B3+L24*PCUs!B4+M24*PCUs!B5 -> 3 | J24: 3 | K24: 0 | L24: 0 | M24: 0 | N24: =I24*5.75 -> 17.25
A25: Max Queue | B25: =C25*PCUs!B2+D25*PCUs!B3+E25*PCUs!B4+F25*PCUs!B5 -> 26.5 | C25: 25 | D25: 1 | E25: 0 | F25: 0 | G25: =B25*5.75 -> 152.375 | H25: Max Queue | I25: =J25*PCUs!B2+K25*PCUs!B3+L25*PCUs!B4+M25*PCUs!B5 -> 23 | J25: 20 | K25: 2 | L25: 0 | M25: 0 | N25: =I25*5.75 -> 132.25
A26: =A24+"00:05" -> 0.30902778 | B26: =C26*PCUs!B2+D26*PCUs!B3+E26*PCUs!B4+F26*PCUs!B5 -> 1.5 | C26: 0 | D26: 1 | E26: 0 | F26: 0 | G26: =B26*5.75 -> 8.625 | H26: =H24+"00:05" -> 0.30902778 | I26: =J26*PCUs!B2+K26*PCUs!B3+L26*PCUs!B4+M26*PCUs!B5 -> 7.3 | J26: 5 | K26: 0 | L26: 1 | M26: 0 | N26: =I26*5.75 -> 41.975
A27: Max Queue | B27: =C27*PCUs!B2+D27*PCUs!B3+E27*PCUs!B4+F27*PCUs!B5 -> 32.3 | C27: 30 | D27: 0 | E27: 1 | F27: 0 | G27: =B27*5.75 -> 185.725 | H27: Max Queue | I27: =J27*PCUs!B2+K27*PCUs!B3+L27*PCUs!B4+M27*PCUs!B5 -> 27.3 | J27: 25 | K27: 0 | L27: 1 | M27: 0 | N27: =I27*5.75 -> 156.975
A28: =A26+"00:05" -> 0.3125 | B28: =C28*PCUs!B2+D28*PCUs!B3+E28*PCUs!B4+F28*PCUs!B5 -> 0 | C28: 0 | D28: 0 | E28: 0 | F28: 0 | G28: =B28*5.75 -> 0 | H28: =H26+"00:05" -> 0.3125 | I28: =J28*PCUs!B2+K28*PCUs!B3+L28*PCUs!B4+M28*PCUs!B5 -> 0 | J28: 0 | K28: 0 | L28: 0 | M28: 0 | N28: =I28*5.75 -> 0
A29: Max Queue | B29: =C29*PCUs!B2+D29*PCUs!B3+E29*PCUs!B4+F29*PCUs!B5 -> 31 | C29: 28 | D29: 2 | E29: 0 | F29: 0 | G29: =B29*5.75 -> 178.25 | H29: Max Queue | I29: =J29*PCUs!B2+K29*PCUs!B3+L29*PCUs!B4+M29*PCUs!B5 -> 28 | J29: 28 | K29: 0 | L29: 0 | M29: 0 | N29: =I29*5.75 -> 161
A30: =A28+"00:05" -> 0.31597222 | B30: =C30*PCUs!B2+D30*PCUs!B3+E30*PCUs!B4+F30*PCUs!B5 -> 0 | C30: 0 | D30: 0 | E30: 0 | F30: 0 | G30: =B30*5.75 -> 0 | H30: =H28+"00:05" -> 0.31597222 | I30: =J30*PCUs!B2+K30*PCUs!B3+L30*PCUs!B4+M30*PCUs!B5 -> 21.5 | J30: 20 | K30: 1 | L30: 0 | M30: 0 | N30: =I30*5.75 -> 123.625
A31: Max Queue | B31: =C31*PCUs!B2+D31*PCUs!B3+E31*PCUs!B4+F31*PCUs!B5 -> 27.3 | C31: 25 | D31: 0 | E31: 1 | F31: 0 | G31: =B31*5.75 -> 156.975 | H31: Max Queue | I31: =J31*PCUs!B2+K31*PCUs!B3+L31*PCUs!B4+M31*PCUs!B5 -> 23.5 | J31: 22 | K31: 1 | L31: 0 | M31: 0 | N31: =I31*5.75 -> 135.125
A32: =A30+"00:05" -> 0.31944444 | B32: =C32*PCUs!B2+D32*PCUs!B3+E32*PCUs!B4+F32*PCUs!B5 -> 12 | C32: 12 | D32: 0 | E32: 0 | F32: 0 | G32: =B32*5.75 -> 69 | H32: =H30+"00:05" -> 0.31944444 | I32: =J32*PCUs!B2+K32*PCUs!B3+L32*PCUs!B4+M32*PCUs!B5 -> 15 | J32: 15 | K32: 0 | L32: 0 | M32: 0 | N32: =I32*5.75 -> 86.25
A33: Max Queue | B33: =C33*PCUs!B2+D33*PCUs!B3+E33*PCUs!B4+F33*PCUs!B5 -> 33.8 | C33: 30 | D33: 1 | E33: 1 | F33: 0 | G33: =B33*5.75 -> 194.35 | H33: Max Queue | I33: =J33*PCUs!B2+K33*PCUs!B3+L33*PCUs!B4+M33*PCUs!B5 -> 19.5 | J33: 18 | K33: 1 | L33: 0 | M33: 0 | N33: =I33*5.75 -> 112.125
A34: =A32+"00:05" -> 0.32291667 | B34: =C34*PCUs!B2+D34*PCUs!B3+E34*PCUs!B4+F34*PCUs!B5 -> 0 | C34: 0 | D34: 0 | E34: 0 | F34: 0 | G34: =B34*5.75 -> 0 | H34: =H32+"00:05" -> 0.32291667 | I34: =J34*PCUs!B2+K34*PCUs!B3+L34*PCUs!B4+M34*PCUs!B5 -> 0 | J34: 0 | K34: 0 | L34: 0 | M34: 0 | N34: =I34*5.75 -> 0
A35: Max Queue | B35: =C35*PCUs!B2+D35*PCUs!B3+E35*PCUs!B4+F35*PCUs!B5 -> 16 | C35: 16 | D35: 0 | E35: 0 | F35: 0 | G35: =B35*5.75 -> 92 | H35: Max Queue | I35: =J35*PCUs!B2+K35*PCUs!B3+L35*PCUs!B4+M35*PCUs!B5 -> 19.6 | J35: 15 | K35: 0 | L35: 2 | M35: 0 | N35: =I35*5.75 -> 112.7
A36: =A34+"00:05" -> 0.32638889 | B36: =C36*PCUs!B2+D36*PCUs!B3+E36*PCUs!B4+F36*PCUs!B5 -> 3 | C36: 3 | D36: 0 | E36: 0 | F36: 0 | G36: =B36*5.75 -> 17.25 | H36: =H34+"00:05" -> 0.32638889 | I36: =J36*PCUs!B2+K36*PCUs!B3+L36*PCUs!B4+M36*PCUs!B5 -> 0 | J36: 0 | K36: 0 | L36: 0 | M36: 0 | N36: =I36*5.75 -> 0
A37: Max Queue | B37: =C37*PCUs!B2+D37*PCUs!B3+E37*PCUs!B4+F37*PCUs!B5 -> 21 | C37: 21 | D37: 0 | E37: 0 | F37: 0 | G37: =B37*5.75 -> 120.75 | H37: Max Queue | I37: =J37*PCUs!B2+K37*PCUs!B3+L37*PCUs!B4+M37*PCUs!B5 -> 20.6 | J37: 16 | K37: 0 | L37: 2 | M37: 0 | N37: =I37*5.75 -> 118.45
A38: =A36+"00:05" -> 0.32986111 | B38: =C38*PCUs!B2+D38*PCUs!B3+E38*PCUs!B4+F38*PCUs!B5 -> 7.5 | C38: 6 | D38: 1 | E38: 0 | F38: 0 | G38: =B38*5.75 -> 43.125 | H38: =H36+"00:05" -> 0.32986111 | I38: =J38*PCUs!B2+K38*PCUs!B3+L38*PCUs!B4+M38*PCUs!B5 -> 20.3 | J38: 18 | K38: 0 | L38: 1 | M38: 0 | N38: =I38*5.75 -> 116.725
A39: Max Queue | B39: =C39*PCUs!B2+D39*PCUs!B3+E39*PCUs!B4+F39*PCUs!B5 -> 27 | C39: 24 | D39: 2 | E39: 0 | F39: 0 | G39: =B39*5.75 -> 155.25 | H39: Max Queue | I39: =J39*PCUs!B2+K39*PCUs!B3+L39*PCUs!B4+M39*PCUs!B5 -> 26.3 | J39: 24 | K39: 0 | L39: 1 | M39: 0 | N39: =I39*5.75 -> 151.225
A40: =A38+"00:05" -> 0.33333333 | B40: =C40*PCUs!B2+D40*PCUs!B3+E40*PCUs!B4+F40*PCUs!B5 -> 0 | C40: 0 | D40: 0 | E40: 0 | F40: 0 | G40: =B40*5.75 -> 0 | H40: =H38+"00:05" -> 0.33333333 | I40: =J40*PCUs!B2+K40*PCUs!B3+L40*PCUs!B4+M40*PCUs!B5 -> 7.5 | J40: 6 | K40: 1 | L40: 0 | M40: 0 | N40: =I40*5.75 -> 43.125
A41: Max Queue | B41: =C41*PCUs!B2+D41*PCUs!B3+E41*PCUs!B4+F41*PCUs!B5 -> 18.5 | C41: 17 | D41: 1 | E41: 0 | F41: 0 | G41: =B41*5.75 -> 106.375 | H41: Max Queue | I41: =J41*PCUs!B2+K41*PCUs!B3+L41*PCUs!B4+M41*PCUs!B5 -> 22 | J41: 22 | K41: 0 | L41: 0 | M41: 0 | N41: =I41*5.75 -> 126.5
A42: =A40+"00:05" -> 0.33680556 | B42: =C42*PCUs!B2+D42*PCUs!B3+E42*PCUs!B4+F42*PCUs!B5 -> 19 | C42: 16 | D42: 2 | E42: 0 | F42: 0 | G42: =B42*5.75 -> 109.25 | H42: =H40+"00:05" -> 0.33680556 | I42: =J42*PCUs!B2+K42*PCUs!B3+L42*PCUs!B4+M42*PCUs!B5 -> 25 | J42: 25 | K42: 0 | L42: 0 | M42: 0 | N42: =I42*5.75 -> 143.75
A43: Max Queue | B43: =C43*PCUs!B2+D43*PCUs!B3+E43*PCUs!B4+F43*PCUs!B5 -> 33.5 | C43: 32 | D43: 1 | E43: 0 | F43: 0 | G43: =B43*5.75 -> 192.625 | H43: Max Queue | I43: =J43*PCUs!B2+K43*PCUs!B3+L43*PCUs!B4+M43*PCUs!B5 -> 32 | J43: 32 | K43: 0 | L43: 0 | M43: 0 | N43: =I43*5.75 -> 184
A44: =A42+"00:05" -> 0.34027778 | B44: =C44*PCUs!B2+D44*PCUs!B3+E44*PCUs!B4+F44*PCUs!B5 -> 30 | C44: 25 | D44: 2 | E44: 0 | F44: 1 | G44: =B44*5.75 -> 172.5 | H44: =H42+"00:05" -> 0.34027778 | I44: =J44*PCUs!B2+K44*PCUs!B3+L44*PCUs!B4+M44*PCUs!B5 -> 20 | J44: 20 | K44: 0 | L44: 0 | M44: 0 | N44: =I44*5.75 -> 115
A45: Max Queue | B45: =C45*PCUs!B2+D45*PCUs!B3+E45*PCUs!B4+F45*PCUs!B5 -> 40.8 | C45: 35 | D45: 1 | E45: 1 | F45: 1 | G45: =B45*5.75 -> 234.6 | H45: Max Queue | I45: =J45*PCUs!B2+K45*PCUs!B3+L45*PCUs!B4+M45*PCUs!B5 -> 37.3 | J45: 35 | K45: 0 | L45: 1 | M45: 0 | N45: =I45*5.75 -> 214.475
A46: =A44+"00:05" -> 0.34375 | B46: =C46*PCUs!B2+D46*PCUs!B3+E46*PCUs!B4+F46*PCUs!B5 -> 36.8 | C46: 30 | D46: 3 | E46: 1 | F46: 0 | G46: =B46*5.75 -> 211.6 | H46: =H44+"00:05" -> 0.34375 | I46: =J46*PCUs!B2+K46*PCUs!B3+L46*PCUs!B4+M46*PCUs!B5 -> 35.6 | J46: 28 | K46: 2 | L46: 2 | M46: 0 | N46: =I46*5.75 -> 204.7
A47: Max Queue | B47: =C47*PCUs!B2+D47*PCUs!B3+E47*PCUs!B4+F47*PCUs!B5 -> 41.8 | C47: 38 | D47: 1 | E47: 1 | F47: 0 | G47: =B47*5.75 -> 240.35 | H47: Max Queue | I47: =J47*PCUs!B2+K47*PCUs!B3+L47*PCUs!B4+M47*PCUs!B5 -> 40.6 | J47: 33 | K47: 2 | L47: 2 | M47: 0 | N47: =I47*5.75 -> 233.45
A48: =A46+"00:05" -> 0.34722222 | B48: =C48*PCUs!B2+D48*PCUs!B3+E48*PCUs!B4+F48*PCUs!B5 -> 0 | C48: 0 | D48: 0 | E48: 0 | F48: 0 | G48: =B48*5.75 -> 0 | H48: =H46+"00:05" -> 0.34722222 | I48: =J48*PCUs!B2+K48*PCUs!B3+L48*PCUs!B4+M48*PCUs!B5 -> 0 | J48: 0 | K48: 0 | L48: 0 | M48: 0 | N48: =I48*5.75 -> 0
A49: Max Queue | B49: =C49*PCUs!B2+D49*PCUs!B3+E49*PCUs!B4+F49*PCUs!B5 -> 42.3 | C49: 40 | D49: 0 | E49: 1 | F49: 0 | G49: =B49*5.75 -> 243.225 | H49: Max Queue | I49: =J49*PCUs!B2+K49*PCUs!B3+L49*PCUs!B4+M49*PCUs!B5 -> 42 | J49: 40 | K49: 0 | L49: 0 | M49: 1 | N49: =I49*5.75 -> 241.5
A50: =A48+"00:05" -> 0.35069444 | B50: =C50*PCUs!B2+D50*PCUs!B3+E50*PCUs!B4+F50*PCUs!B5 -> 0 | C50: 0 | D50: 0 | E50: 0 | F50: 0 | G50: =B50*5.75 -> 0 | H50: =H48+"00:05" -> 0.35069444 | I50: =J50*PCUs!B2+K50*PCUs!B3+L50*PCUs!B4+M50*PCUs!B5 -> 0 | J50: 0 | K50: 0 | L50: 0 | M50: 0 | N50: =I50*5.75 -> 0
A51: Max Queue | B51: =C51*PCUs!B2+D51*PCUs!B3+E51*PCUs!B4+F51*PCUs!B5 -> 38.5 | C51: 37 | D51: 1 | E51: 0 | F51: 0 | G51: =B51*5.75 -> 221.375 | H51: Max Queue | I51: =J51*PCUs!B2+K51*PCUs!B3+L51*PCUs!B4+M51*PCUs!B5 -> 14.8 | J51: 11 | K51: 1 | L51: 1 | M51: 0 | N51: =I51*5.75 -> 85.1
A52: =A50+"00:05" -> 0.35416667 | B52: =C52*PCUs!B2+D52*PCUs!B3+E52*PCUs!B4+F52*PCUs!B5 -> 6 | C52: 6 | D52: 0 | E52: 0 | F52: 0 | G52: =B52*5.75 -> 34.5 | H52: =H50+"00:05" -> 0.35416667 | I52: =J52*PCUs!B2+K52*PCUs!B3+L52*PCUs!B4+M52*PCUs!B5 -> 0 | J52: 0 | K52: 0 | L52: 0 | M52: 0 | N52: =I52*5.75 -> 0
A53: Max Queue | B53: =C53*PCUs!B2+D53*PCUs!B3+E53*PCUs!B4+F53*PCUs!B5 -> 42 | C53: 42 | D53: 0 | E53: 0 | F53: 0 | G53: =B53*5.75 -> 241.5 | H53: Max Queue | I53: =J53*PCUs!B2+K53*PCUs!B3+L53*PCUs!B4+M53*PCUs!B5 -> 23.8 | J53: 20 | K53: 1 | L53: 1 | M53: 0 | N53: =I53*5.75 -> 136.85
A54: =A52+"00:05" -> 0.35763889 | B54: =C54*PCUs!B2+D54*PCUs!B3+E54*PCUs!B4+F54*PCUs!B5 -> 25 | C54: 25 | D54: 0 | E54: 0 | F54: 0 | G54: =B54*5.75 -> 143.75 | H54: =H52+"00:05" -> 0.35763889 | I54: =J54*PCUs!B2+K54*PCUs!B3+L54*PCUs!B4+M54*PCUs!B5 -> 10 | J54: 10 | K54: 0 | L54: 0 | M54: 0 | N54: =I54*5.75 -> 57.5
A55: Max Queue | B55: =C55*PCUs!B2+D55*PCUs!B3+E55*PCUs!B4+F55*PCUs!B5 -> 30 | C55: 30 | D55: 0 | E55: 0 | F55: 0 | G55: =B55*5.75 -> 172.5 | H55: Max Queue | I55: =J55*PCUs!B2+K55*PCUs!B3+L55*PCUs!B4+M55*PCUs!B5 -> 34.6 | J55: 25 | K55: 2 | L55: 2 | M55: 1 | N55: =I55*5.75 -> 198.95
A56: =A54+"00:05" -> 0.36111111 | B56: =C56*PCUs!B2+D56*PCUs!B3+E56*PCUs!B4+F56*PCUs!B5 -> 0 | C56: 0 | D56: 0 | E56: 0 | F56: 0 | G56: =B56*5.75 -> 0 | H56: =H54+"00:05" -> 0.36111111 | I56: =J56*PCUs!B2+K56*PCUs!B3+L56*PCUs!B4+M56*PCUs!B5 -> 0 | J56: 0 | K56: 0 | L56: 0 | M56: 0 | N56: =I56*5.75 -> 0
A57: Max Queue | B57: =C57*PCUs!B2+D57*PCUs!B3+E57*PCUs!B4+F57*PCUs!B5 -> 17 | C57: 17 | D57: 0 | E57: 0 | F57: 0 | G57: =B57*5.75 -> 97.75 | H57: Max Queue | I57: =J57*PCUs!B2+K57*PCUs!B3+L57*PCUs!B4+M57*PCUs!B5 -> 10.5 | J57: 6 | K57: 3 | L57: 0 | M57: 0 | N57: =I57*5.75 -> 60.375
A58: =A56+"00:05" -> 0.36458333 | B58: =C58*PCUs!B2+D58*PCUs!B3+E58*PCUs!B4+F58*PCUs!B5 -> 0 | C58: 0 | D58: 0 | E58: 0 | F58: 0 | G58: =B58*5.75 -> 0 | H58: =H56+"00:05" -> 0.36458333 | I58: =J58*PCUs!B2+K58*PCUs!B3+L58*PCUs!B4+M58*PCUs!B5 -> 0 | J58: 0 | K58: 0 | L58: 0 | M58: 0 | N58: =I58*5.75 -> 0
A59: Max Queue | B59: =C59*PCUs!B2+D59*PCUs!B3+E59*PCUs!B4+F59*PCUs!B5 -> 19.5 | C59: 18 | D59: 1 | E59: 0 | F59: 0 | G59: =B59*5.75 -> 112.125 | H59: Max Queue | I59: =J59*PCUs!B2+K59*PCUs!B3+L59*PCUs!B4+M59*PCUs!B5 -> 8 | J59: 8 | K59: 0 | L59: 0 | M59: 0 | N59: =I59*5.75 -> 46
A60: =A58+"00:05" -> 0.36805556 | B60: =C60*PCUs!B2+D60*PCUs!B3+E60*PCUs!B4+F60*PCUs!B5 -> 0 | C60: 0 | D60: 0 | E60: 0 | F60: 0 | G60: =B60*5.75 -> 0 | H60: =H58+"00:05" -> 0.36805556 | I60: =J60*PCUs!B2+K60*PCUs!B3+L60*PCUs!B4+M60*PCUs!B5 -> 0 | J60: 0 | K60: 0 | L60: 0 | M60: 0 | N60: =I60*5.75 -> 0
A61: Max Queue | B61: =C61*PCUs!B2+D61*PCUs!B3+E61*PCUs!B4+F61*PCUs!B5 -> 20 | C61: 20 | D61: 0 | E61: 0 | F61: 0 | G61: =B61*5.75 -> 115 | H61: Max Queue | I61: =J61*PCUs!B2+K61*PCUs!B3+L61*PCUs!B4+M61*PCUs!B5 -> 14 | J61: 11 | K61: 2 | L61: 0 | M61: 0 | N61: =I61*5.75 -> 80.5
A62: =A60+"00:05" -> 0.37152778 | B62: =C62*PCUs!B2+D62*PCUs!B3+E62*PCUs!B4+F62*PCUs!B5 -> 0 | C62: 0 | D62: 0 | E62: 0 | F62: 0 | G62: =B62*5.75 -> 0 | H62: =H60+"00:05" -> 0.37152778 | I62: =J62*PCUs!B2+K62*PCUs!B3+L62*PCUs!B4+M62*PCUs!B5 -> 0 | J62: 0 | K62: 0 | L62: 0 | M62: 0 | N62: =I62*5.75 -> 0
A63: Max Queue | B63: =C63*PCUs!B2+D63*PCUs!B3+E63*PCUs!B4+F63*PCUs!B5 -> 19.8 | C63: 16 | D63: 1 | E63: 1 | F63: 0 | G63: =B63*5.75 -> 113.85 | H63: Max Queue | I63: =J63*PCUs!B2+K63*PCUs!B3+L63*PCUs!B4+M63*PCUs!B5 -> 11.5 | J63: 10 | K63: 1 | L63: 0 | M63: 0 | N63: =I63*5.75 -> 66.125
A64: =A62+"00:05" -> 0.375 | B64: =C64*PCUs!B2+D64*PCUs!B3+E64*PCUs!B4+F64*PCUs!B5 -> 1 | C64: 1 | D64: 0 | E64: 0 | F64: 0 | G64: =B64*5.75 -> 5.75 | H64: =H62+"00:05" -> 0.375 | I64: =J64*PCUs!B2+K64*PCUs!B3+L64*PCUs!B4+M64*PCUs!B5 -> 0 | J64: 0 | K64: 0 | L64: 0 | M64: 0 | N64: =I64*5.75 -> 0
A65: Max Queue | B65: =C65*PCUs!B2+D65*PCUs!B3+E65*PCUs!B4+F65*PCUs!B5 -> 14 | C65: 14 | D65: 0 | E65: 0 | F65: 0 | G65: =B65*5.75 -> 80.5 | H65: Max Queue | I65: =J65*PCUs!B2+K65*PCUs!B3+L65*PCUs!B4+M65*PCUs!B5 -> 7 | J65: 7 | K65: 0 | L65: 0 | M65: 0 | N65: =I65*5.75 -> 40.25
A66: =A64+"00:05" -> 0.37847222 | B66: =C66*PCUs!B2+D66*PCUs!B3+E66*PCUs!B4+F66*PCUs!B5 -> 0 | C66: 0 | D66: 0 | E66: 0 | F66: 0 | G66: =B66*5.75 -> 0 | H66: =H64+"00:05" -> 0.37847222 | I66: =J66*PCUs!B2+K66*PCUs!B3+L66*PCUs!B4+M66*PCUs!B5 -> 0 | J66: 0 | K66: 0 | L66: 0 | M66: 0 | N66: =I66*5.75 -> 0
A67: Max Queue | B67: =C67*PCUs!B2+D67*PCUs!B3+E67*PCUs!B4+F67*PCUs!B5 -> 18.8 | C67: 15 | D67: 1 | E67: 1 | F67: 0 | G67: =B67*5.75 -> 108.1 | H67: Max Queue | I67: =J67*PCUs!B2+K67*PCUs!B3+L67*PCUs!B4+M67*PCUs!B5 -> 9.8 | J67: 6 | K67: 1 | L67: 1 | M67: 0 | N67: =I67*5.75 -> 56.35
A68: =A66+"00:05" -> 0.38194444 | B68: =C68*PCUs!B2+D68*PCUs!B3+E68*PCUs!B4+F68*PCUs!B5 -> 0 | C68: 0 | D68: 0 | E68: 0 | F68: 0 | G68: =B68*5.75 -> 0 | H68: =H66+"00:05" -> 0.38194444 | I68: =J68*PCUs!B2+K68*PCUs!B3+L68*PCUs!B4+M68*PCUs!B5 -> 0 | J68: 0 | K68: 0 | L68: 0 | M68: 0 | N68: =I68*5.75 -> 0
A69: Max Queue | B69: =C69*PCUs!B2+D69*PCUs!B3+E69*PCUs!B4+F69*PCUs!B5 -> 12 | C69: 12 | D69: 0 | E69: 0 | F69: 0 | G69: =B69*5.75 -> 69 | H69: Max Queue | I69: =J69*PCUs!B2+K69*PCUs!B3+L69*PCUs!B4+M69*PCUs!B5 -> 10.5 | J69: 9 | K69: 1 | L69: 0 | M69: 0 | N69: =I69*5.75 -> 60.375
A70: =A68+"00:05" -> 0.38541667 | B70: =C70*PCUs!B2+D70*PCUs!B3+E70*PCUs!B4+F70*PCUs!B5 -> 0 | C70: 0 | D70: 0 | E70: 0 | F70: 0 | G70: =B70*5.75 -> 0 | H70: =H68+"00:05" -> 0.38541667 | I70: =J70*PCUs!B2+K70*PCUs!B3+L70*PCUs!B4+M70*PCUs!B5 -> 1 | J70: 1 | K70: 0 | L70: 0 | M70: 0 | N70: =I70*5.75 -> 5.75
A71: Max Queue | B71: =C71*PCUs!B2+D71*PCUs!B3+E71*PCUs!B4+F71*PCUs!B5 -> 9 | C71: 9 | D71: 0 | E71: 0 | F71: 0 | G71: =B71*5.75 -> 51.75 | H71: Max Queue | I71: =J71*PCUs!B2+K71*PCUs!B3+L71*PCUs!B4+M71*PCUs!B5 -> 5 | J71: 5 | K71: 0 | L71: 0 | M71: 0 | N71: =I71*5.75 -> 28.75
A72: =A70+"00:05" -> 0.38888889 | B72: =C72*PCUs!B2+D72*PCUs!B3+E72*PCUs!B4+F72*PCUs!B5 -> 0 | C72: 0 | D72: 0 | E72: 0 | F72: 0 | G72: =B72*5.75 -> 0 | H72: =H70+"00:05" -> 0.38888889 | I72: =J72*PCUs!B2+K72*PCUs!B3+L72*PCUs!B4+M72*PCUs!B5 -> 0 | J72: 0 | K72: 0 | L72: 0 | M72: 0 | N72: =I72*5.75 -> 0
A73: Max Queue | B73: =C73*PCUs!B2+D73*PCUs!B3+E73*PCUs!B4+F73*PCUs!B5 -> 19.5 | C73: 18 | D73: 1 | E73: 0 | F73: 0 | G73: =B73*5.75 -> 112.125 | H73: Max Queue | I73: =J73*PCUs!B2+K73*PCUs!B3+L73*PCUs!B4+M73*PCUs!B5 -> 14 | J73: 14 | K73: 0 | L73: 0 | M73: 0 | N73: =I73*5.75 -> 80.5
A74: =A72+"00:05" -> 0.39236111 | B74: =C74*PCUs!B2+D74*PCUs!B3+E74*PCUs!B4+F74*PCUs!B5 -> 1 | C74: 1 | D74: 0 | E74: 0 | F74: 0 | G74: =B74*5.75 -> 5.75 | H74: =H72+"00:05" -> 0.39236111 | I74: =J74*PCUs!B2+K74*PCUs!B3+L74*PCUs!B4+M74*PCUs!B5 -> 2.3 | J74: 0 | K74: 0 | L74: 1 | M74: 0 | N74: =I74*5.75 -> 13.225
A75: Max Queue | B75: =C75*PCUs!B2+D75*PCUs!B3+E75*PCUs!B4+F75*PCUs!B5 -> 7.8 | C75: 4 | D75: 1 | E75: 1 | F75: 0 | G75: =B75*5.75 -> 44.85 | H75: Max Queue | I75: =J75*PCUs!B2+K75*PCUs!B3+L75*PCUs!B4+M75*PCUs!B5 -> 8 | J75: 8 | K75: 0 | L75: 0 | M75: 0 | N75: =I75*5.75 -> 46
A76: =A74+"00:05" -> 0.39583333 | B76: =C76*PCUs!B2+D76*PCUs!B3+E76*PCUs!B4+F76*PCUs!B5 -> 1 | C76: 1 | D76: 0 | E76: 0 | F76: 0 | G76: =B76*5.75 -> 5.75 | H76: =H74+"00:05" -> 0.39583333 | I76: =J76*PCUs!B2+K76*PCUs!B3+L76*PCUs!B4+M76*PCUs!B5 -> 1 | J76: 1 | K76: 0 | L76: 0 | M76: 0 | N76: =I76*5.75 -> 5.75
A77: Max Queue | B77: =C77*PCUs!B2+D77*PCUs!B3+E77*PCUs!B4+F77*PCUs!B5 -> 7.3 | C77: 5 | D77: 0 | E77: 1 | F77: 0 | G77: =B77*5.75 -> 41.975 | H77: Max Queue | I77: =J77*PCUs!B2+K77*PCUs!B3+L77*PCUs!B4+M77*PCUs!B5 -> 5.8 | J77: 2 | K77: 1 | L77: 1 | M77: 0 | N77: =I77*5.75 -> 33.35
A78: =A76+"00:05" -> 0.39930556 | B78: =C78*PCUs!B2+D78*PCUs!B3+E78*PCUs!B4+F78*PCUs!B5 -> 5 | C78: 5 | D78: 0 | E78: 0 | F78: 0 | G78: =B78*5.75 -> 28.75 | H78: =H76+"00:05" -> 0.39930556 | I78: =J78*PCUs!B2+K78*PCUs!B3+L78*PCUs!B4+M78*PCUs!B5 -> 2 | J78: 2 | K78: 0 | L78: 0 | M78: 0 | N78: =I78*5.75 -> 11.5
A79: Max Queue | B79: =C79*PCUs!B2+D79*PCUs!B3+E79*PCUs!B4+F79*PCUs!B5 -> 8 | C79: 8 | D79: 0 | E79: 0 | F79: 0 | G79: =B79*5.75 -> 46 | H79: Max Queue | I79: =J79*PCUs!B2+K79*PCUs!B3+L79*PCUs!B4+M79*PCUs!B5 -> 6 | J79: 6 | K79: 0 | L79: 0 | M79: 0 | N79: =I79*5.75 -> 34.5
A80: =A78+"00:05" -> 0.40277778 | B80: =C80*PCUs!B2+D80*PCUs!B3+E80*PCUs!B4+F80*PCUs!B5 -> 8 | C80: 8 | D80: 0 | E80: 0 | F80: 0 | G80: =B80*5.75 -> 46 | H80: =H78+"00:05" -> 0.40277778 | I80: =J80*PCUs!B2+K80*PCUs!B3+L80*PCUs!B4+M80*PCUs!B5 -> 0 | J80: 0 | K80: 0 | L80: 0 | M80: 0 | N80: =I80*5.75 -> 0
A81: Max Queue | B81: =C81*PCUs!B2+D81*PCUs!B3+E81*PCUs!B4+F81*PCUs!B5 -> 8 | C81: 8 | D81: 0 | E81: 0 | F81: 0 | G81: =B81*5.75 -> 46 | H81: Max Queue | I81: =J81*PCUs!B2+K81*PCUs!B3+L81*PCUs!B4+M81*PCUs!B5 -> 6.8 | J81: 3 | K81: 1 | L81: 1 | M81: 0 | N81: =I81*5.75 -> 39.1
A82: =A80+"00:05" -> 0.40625 | B82: =C82*PCUs!B2+D82*PCUs!B3+E82*PCUs!B4+F82*PCUs!B5 -> 2 | C82: 2 | D82: 0 | E82: 0 | F82: 0 | G82: =B82*5.75 -> 11.5 | H82: =H80+"00:05" -> 0.40625 | I82: =J82*PCUs!B2+K82*PCUs!B3+L82*PCUs!B4+M82*PCUs!B5 -> 3 | J82: 3 | K82: 0 | L82: 0 | M82: 0 | N82: =I82*5.75 -> 17.25
A83: Max Queue | B83: =C83*PCUs!B2+D83*PCUs!B3+E83*PCUs!B4+F83*PCUs!B5 -> 20.3 | C83: 18 | D83: 0 | E83: 1 | F83: 0 | G83: =B83*5.75 -> 116.725 | H83: Max Queue | I83: =J83*PCUs!B2+K83*PCUs!B3+L83*PCUs!B4+M83*PCUs!B5 -> 8 | J83: 8 | K83: 0 | L83: 0 | M83: 0 | N83: =I83*5.75 -> 46
A84: =A82+"00:05" -> 0.40972222 | B84: =C84*PCUs!B2+D84*PCUs!B3+E84*PCUs!B4+F84*PCUs!B5 -> 0 | C84: 0 | D84: 0 | E84: 0 | F84: 0 | G84: =B84*5.75 -> 0 | H84: =H82+"00:05" -> 0.40972222 | I84: =J84*PCUs!B2+K84*PCUs!B3+L84*PCUs!B4+M84*PCUs!B5 -> 0 | J84: 0 | K84: 0 | L84: 0 | M84: 0 | N84: =I84*5.75 -> 0
A85: Max Queue | B85: =C85*PCUs!B2+D85*PCUs!B3+E85*PCUs!B4+F85*PCUs!B5 -> 2 | C85: 2 | D85: 0 | E85: 0 | F85: 0 | G85: =B85*5.75 -> 11.5 | H85: Max Queue | I85: =J85*PCUs!B2+K85*PCUs!B3+L85*PCUs!B4+M85*PCUs!B5 -> 2.5 | J85: 1 | K85: 1 | L85: 0 | M85: 0 | N85: =I85*5.75 -> 14.375
A86: =A84+"00:05" -> 0.41319444 | B86: =C86*PCUs!B2+D86*PCUs!B3+E86*PCUs!B4+F86*PCUs!B5 -> 3 | C86: 3 | D86: 0 | E86: 0 | F86: 0 | G86: =B86*5.75 -> 17.25 | H86: =H84+"00:05" -> 0.41319444 | I86: =J86*PCUs!B2+K86*PCUs!B3+L86*PCUs!B4+M86*PCUs!B5 -> 0 | J86: 0 | K86: 0 | L86: 0 | M86: 0 | N86: =I86*5.75 -> 0
A87: Max Queue | B87: =C87*PCUs!B2+D87*PCUs!B3+E87*PCUs!B4+F87*PCUs!B5 -> 3.5 | C87: 2 | D87: 1 | E87: 0 | F87: 0 | G87: =B87*5.75 -> 20.125 | H87: Max Queue | I87: =J87*PCUs!B2+K87*PCUs!B3+L87*PCUs!B4+M87*PCUs!B5 -> 5 | J87: 5 | K87: 0 | L87: 0 | M87: 0 | N87: =I87*5.75 -> 28.75
A88: 0.66666667 | B88: =C88*PCUs!B2+D88*PCUs!B3+E88*PCUs!B4+F88*PCUs!B5 -> 2 | C88: 2 | D88: 0 | E88: 0 | F88: 0 | G88: =B88*5.75 -> 11.5 | H88: 0.66666667 | I88: =J88*PCUs!B2+K88*PCUs!B3+L88*PCUs!B4+M88*PCUs!B5 -> 10 | J88: 10 | K88: 0 | L88: 0 | M88: 0 | N88: =I88*5.75 -> 57.5
A89: Max Queue | B89: =C89*PCUs!B2+D89*PCUs!B3+E89*PCUs!B4+F89*PCUs!B5 -> 26.5 | C89: 25 | D89: 1 | E89: 0 | F89: 0 | G89: =B89*5.75 -> 152.375 | H89: Max Queue | I89: =J89*PCUs!B2+K89*PCUs!B3+L89*PCUs!B4+M89*PCUs!B5 -> 30 | J89: 30 | K89: 0 | L89: 0 | M89: 0 | N89: =I89*5.75 -> 172.5
A90: =A88+"00:05" -> 0.67013889 | B90: =C90*PCUs!B2+D90*PCUs!B3+E90*PCUs!B4+F90*PCUs!B5 -> 0 | C90: 0 | D90: 0 | E90: 0 | F90: 0 | G90: =B90*5.75 -> 0 | H90: =H88+"00:05" -> 0.67013889 | I90: =J90*PCUs!B2+K90*PCUs!B3+L90*PCUs!B4+M90*PCUs!B5 -> 13 | J90: 13 | K90: 0 | L90: 0 | M90: 0 | N90: =I90*5.75 -> 74.75
A91: Max Queue | B91: =C91*PCUs!B2+D91*PCUs!B3+E91*PCUs!B4+F91*PCUs!B5 -> 33.5 | C91: 30 | D91: 1 | E91: 0 | F91: 1 | G91: =B91*5.75 -> 192.625 | H91: Max Queue | I91: =J91*PCUs!B2+K91*PCUs!B3+L91*PCUs!B4+M91*PCUs!B5 -> 26.5 | J91: 25 | K91: 1 | L91: 0 | M91: 0 | N91: =I91*5.75 -> 152.375
A92: =A90+"00:05" -> 0.67361111 | B92: =C92*PCUs!B2+D92*PCUs!B3+E92*PCUs!B4+F92*PCUs!B5 -> 4 | C92: 4 | D92: 0 | E92: 0 | F92: 0 | G92: =B92*5.75 -> 23 | H92: =H90+"00:05" -> 0.67361111 | I92: =J92*PCUs!B2+K92*PCUs!B3+L92*PCUs!B4+M92*PCUs!B5 -> 1 | J92: 1 | K92: 0 | L92: 0 | M92: 0 | N92: =I92*5.75 -> 5.75
A93: Max Queue | B93: =C93*PCUs!B2+D93*PCUs!B3+E93*PCUs!B4+F93*PCUs!B5 -> 6 | C93: 6 | D93: 0 | E93: 0 | F93: 0 | G93: =B93*5.75 -> 34.5 | H93: Max Queue | I93: =J93*PCUs!B2+K93*PCUs!B3+L93*PCUs!B4+M93*PCUs!B5 -> 13.3 | J93: 11 | K93: 0 | L93: 1 | M93: 0 | N93: =I93*5.75 -> 76.475
A94: =A92+"00:05" -> 0.67708333 | B94: =C94*PCUs!B2+D94*PCUs!B3+E94*PCUs!B4+F94*PCUs!B5 -> 3.5 | C94: 2 | D94: 1 | E94: 0 | F94: 0 | G94: =B94*5.75 -> 20.125 | H94: =H92+"00:05" -> 0.67708333 | I94: =J94*PCUs!B2+K94*PCUs!B3+L94*PCUs!B4+M94*PCUs!B5 -> 2 | J94: 2 | K94: 0 | L94: 0 | M94: 0 | N94: =I94*5.75 -> 11.5
A95: Max Queue | B95: =C95*PCUs!B2+D95*PCUs!B3+E95*PCUs!B4+F95*PCUs!B5 -> 7 | C95: 7 | D95: 0 | E95: 0 | F95: 0 | G95: =B95*5.75 -> 40.25 | H95: Max Queue | I95: =J95*PCUs!B2+K95*PCUs!B3+L95*PCUs!B4+M95*PCUs!B5 -> 28 | J95: 28 | K95: 0 | L95: 0 | M95: 0 | N95: =I95*5.75 -> 161
A96: =A94+"00:05" -> 0.68055556 | B96: =C96*PCUs!B2+D96*PCUs!B3+E96*PCUs!B4+F96*PCUs!B5 -> 0 | C96: 0 | D96: 0 | E96: 0 | F96: 0 | G96: =B96*5.75 -> 0 | H96: =H94+"00:05" -> 0.68055556 | I96: =J96*PCUs!B2+K96*PCUs!B3+L96*PCUs!B4+M96*PCUs!B5 -> 0 | J96: 0 | K96: 0 | L96: 0 | M96: 0 | N96: =I96*5.75 -> 0
A97: Max Queue | B97: =C97*PCUs!B2+D97*PCUs!B3+E97*PCUs!B4+F97*PCUs!B5 -> 26.5 | C97: 25 | D97: 1 | E97: 0 | F97: 0 | G97: =B97*5.75 -> 152.375 | H97: Max Queue | I97: =J97*PCUs!B2+K97*PCUs!B3+L97*PCUs!B4+M97*PCUs!B5 -> 32 | J97: 32 | K97: 0 | L97: 0 | M97: 0 | N97: =I97*5.75 -> 184
A98: =A96+"00:05" -> 0.68402778 | B98: =C98*PCUs!B2+D98*PCUs!B3+E98*PCUs!B4+F98*PCUs!B5 -> 3 | C98: 3 | D98: 0 | E98: 0 | F98: 0 | G98: =B98*5.75 -> 17.25 | H98: =H96+"00:05" -> 0.68402778 | I98: =J98*PCUs!B2+K98*PCUs!B3+L98*PCUs!B4+M98*PCUs!B5 -> 15 | J98: 15 | K98: 0 | L98: 0 | M98: 0 | N98: =I98*5.75 -> 86.25
A99: Max Queue | B99: =C99*PCUs!B2+D99*PCUs!B3+E99*PCUs!B4+F99*PCUs!B5 -> 8 | C99: 8 | D99: 0 | E99: 0 | F99: 0 | G99: =B99*5.75 -> 46 | H99: Max Queue | I99: =J99*PCUs!B2+K99*PCUs!B3+L99*PCUs!B4+M99*PCUs!B5 -> 26 | J99: 24 | K99: 0 | L99: 0 | M99: 1 | N99: =I99*5.75 -> 149.5
A100: =A98+"00:05" -> 0.6875 | B100: =C100*PCUs!B2+D100*PCUs!B3+E100*PCUs!B4+F100*PCUs!B5 -> 0 | C100: 0 | D100: 0 | E100: 0 | F100: 0 | G100: =B100*5.75 -> 0 | H100: =H98+"00:05" -> 0.6875 | I100: =J100*PCUs!B2+K100*PCUs!B3+L100*PCUs!B4+M100*PCUs!B5 -> 0 | J100: 0 | K100: 0 | L100: 0 | M100: 0 | N100: =I100*5.75 -> 0
A101: Max Queue | B101: =C101*PCUs!B2+D101*PCUs!B3+E101*PCUs!B4+F101*PCUs!B5 -> 22 | C101: 22 | D101: 0 | E101: 0 | F101: 0 | G101: =B101*5.75 -> 126.5 | H101: Max Queue | I101: =J101*PCUs!B2+K101*PCUs!B3+L101*PCUs!B4+M101*PCUs!B5 -> 22 | J101: 22 | K101: 0 | L101: 0 | M101: 0 | N101: =I101*5.75 -> 126.5
A102: =A100+"00:05" -> 0.69097222 | B102: =C102*PCUs!B2+D102*PCUs!B3+E102*PCUs!B4+F102*PCUs!B5 -> 0 | C102: 0 | D102: 0 | E102: 0 | F102: 0 | G102: =B102*5.75 -> 0 | H102: =H100+"00:05" -> 0.69097222 | I102: =J102*PCUs!B2+K102*PCUs!B3+L102*PCUs!B4+M102*PCUs!B5 -> 0 | J102: 0 | K102: 0 | L102: 0 | M102: 0 | N102: =I102*5.75 -> 0
A103: Max Queue | B103: =C103*PCUs!B2+D103*PCUs!B3+E103*PCUs!B4+F103*PCUs!B5 -> 12.5 | C103: 11 | D103: 1 | E103: 0 | F103: 0 | G103: =B103*5.75 -> 71.875 | H103: Max Queue | I103: =J103*PCUs!B2+K103*PCUs!B3+L103*PCUs!B4+M103*PCUs!B5 -> 12 | J103: 12 | K103: 0 | L103: 0 | M103: 0 | N103: =I103*5.75 -> 69
A104: =A102+"00:05" -> 0.69444444 | B104: =C104*PCUs!B2+D104*PCUs!B3+E104*PCUs!B4+F104*PCUs!B5 -> 0 | C104: 0 | D104: 0 | E104: 0 | F104: 0 | G104: =B104*5.75 -> 0 | H104: =H102+"00:05" -> 0.69444444 | I104: =J104*PCUs!B2+K104*PCUs!B3+L104*PCUs!B4+M104*PCUs!B5 -> 0 | J104: 0 | K104: 0 | L104: 0 | M104: 0 | N104: =I104*5.75 -> 0
A105: Max Queue | B105: =C105*PCUs!B2+D105*PCUs!B3+E105*PCUs!B4+F105*PCUs!B5 -> 13 | C105: 13 | D105: 0 | E105: 0 | F105: 0 | G105: =B105*5.75 -> 74.75 | H105: Max Queue | I105: =J105*PCUs!B2+K105*PCUs!B3+L105*PCUs!B4+M105*PCUs!B5 -> 14 | J105: 14 | K105: 0 | L105: 0 | M105: 0 | N105: =I105*5.75 -> 80.5
A106: =A104+"00:05" -> 0.69791667 | B106: =C106*PCUs!B2+D106*PCUs!B3+E106*PCUs!B4+F106*PCUs!B5 -> 1 | C106: 1 | D106: 0 | E106: 0 | F106: 0 | G106: =B106*5.75 -> 5.75 | H106: =H104+"00:05" -> 0.69791667 | I106: =J106*PCUs!B2+K106*PCUs!B3+L106*PCUs!B4+M106*PCUs!B5 -> 3 | J106: 3 | K106: 0 | L106: 0 | M106: 0 | N106: =I106*5.75 -> 17.25
A107: Max Queue | B107: =C107*PCUs!B2+D107*PCUs!B3+E107*PCUs!B4+F107*PCUs!B5 -> 20 | C107: 20 | D107: 0 | E107: 0 | F107: 0 | G107: =B107*5.75 -> 115 | H107: Max Queue | I107: =J107*PCUs!B2+K107*PCUs!B3+L107*PCUs!B4+M107*PCUs!B5 -> 20 | J107: 20 | K107: 0 | L107: 0 | M107: 0 | N107: =I107*5.75 -> 115
...

Sheet Site 4 Arm E
U2: 16367 / SOUTHAMPTON
U3: =UPPER(TEXT(U8,"mMmm yyyy")) -> FEBRUARY 2025
U4: QUEUE LENGTH SURVEY
A8: SITE: | C8: 4 | T8: DATE: | U8: 45701
A10: LOCATION: | C10: Stoneham Interchange | T10: DAY: | U10: =UPPER(TEXT(U8,"dddd")) -> THURSDAY
A12: ANALYSIS: All queues in each 5 minute period at the start of the green phase.
A14: Arm E - Lane 1 | H14: Arm E - Lane 2 | O14: Arm E - Lane 3
A15: Time | B15: Total | C15: Cars | D15: OGV1 | E15: OGV2 | F15: PSV | G15: Metres | H15: Time | I15: Total | J15: Cars | K15: OGV1 | L15: OGV2 | M15: PSV | N15: Metres | O15: Time | P15: Total | Q15: Cars | R15: OGV1 | S15: OGV2 | T15: PSV | U15: Metres
A16: 0.29166667 | B16: =C16*PCUs!$B$2+D16*PCUs!$B$3+E16*PCUs!$B$4+F16*PCUs!$B$5 -> 0 | G16: =B16*5.75 -> 0 | H16: 0.29166667 | I16: =J16*PCUs!$B$2+K16*PCUs!$B$3+L16*PCUs!$B$4+M16*PCUs!$B$5 -> 1 | J16: 1 | K16: 0 | L16: 0 | M16: 0 | N16: =I16*5.75 -> 5.75 | O16: 0.29166667 | P16: =Q16*PCUs!$B$2+R16*PCUs!$B$3+S16*PCUs!$B$4+T16*PCUs!$B$5 -> 3 | Q16: 3 | R16: 0 | S16: 0 | T16: 0 | U16: =P16*5.75 -> 17.25
A17: =A16 -> 0.29166667 | B17: =C17*PCUs!$B$2+D17*PCUs!$B$3+E17*PCUs!$B$4+F17*PCUs!$B$5 -> 0 | G17: =B17*5.75 -> 0 | H17: =H16 -> 0.29166667 | I17: =J17*PCUs!$B$2+K17*PCUs!$B$3+L17*PCUs!$B$4+M17*PCUs!$B$5 -> 5 | J17: 5 | K17: 0 | L17: 0 | M17: 0 | N17: =I17*5.75 -> 28.75 | O17: =O16 -> 0.29166667 | P17: =Q17*PCUs!$B$2+R17*PCUs!$B$3+S17*PCUs!$B$4+T17*PCUs!$B$5 -> 5 | Q17: 5 | R17: 0 | S17: 0 | T17: 0 | U17: =P17*5.75 -> 28.75
A18: =A17 -> 0.29166667 | B18: =C18*PCUs!$B$2+D18*PCUs!$B$3+E18*PCUs!$B$4+F18*PCUs!$B$5 -> 0 | G18: =B18*5.75 -> 0 | H18: =H17 -> 0.29166667 | I18: =J18*PCUs!$B$2+K18*PCUs!$B$3+L18*PCUs!$B$4+M18*PCUs!$B$5 -> 3 | J18: 3 | K18: 0 | L18: 0 | M18: 0 | N18: =I18*5.75 -> 17.25 | O18: =O17 -> 0.29166667 | P18: =Q18*PCUs!$B$2+R18*PCUs!$B$3+S18*PCUs!$B$4+T18*PCUs!$B$5 -> 3 | Q18: 3 | R18: 0 | S18: 0 | T18: 0 | U18: =P18*5.75 -> 17.25
A19: =A18 -> 0.29166667 | B19: =C19*PCUs!$B$2+D19*PCUs!$B$3+E19*PCUs!$B$4+F19*PCUs!$B$5 -> 0 | G19: =B19*5.75 -> 0 | H19: =H18 -> 0.29166667 | I19: =J19*PCUs!$B$2+K19*PCUs!$B$3+L19*PCUs!$B$4+M19*PCUs!$B$5 -> 0 | J19: 0 | K19: 0 | L19: 0 | M19: 0 | N19: =I19*5.75 -> 0 | O19: =O18 -> 0.29166667 | P19: =Q19*PCUs!$B$2+R19*PCUs!$B$3+S19*PCUs!$B$4+T19*PCUs!$B$5 -> 5 | Q19: 5 | R19: 0 | S19: 0 | T19: 0 | U19: =P19*5.75 -> 28.75
A20: =A19 -> 0.29166667 | B20: =C20*PCUs!$B$2+D20*PCUs!$B$3+E20*PCUs!$B$4+F20*PCUs!$B$5 -> 0 | G20: =B20*5.75 -> 0 | H20: =H19 -> 0.29166667 | I20: =J20*PCUs!$B$2+K20*PCUs!$B$3+L20*PCUs!$B$4+M20*PCUs!$B$5 -> 5 | J20: 5 | K20: 0 | L20: 0 | M20: 0 | N20: =I20*5.75 -> 28.75 | O20: =O19 -> 0.29166667 | P20: =Q20*PCUs!$B$2+R20*PCUs!$B$3+S20*PCUs!$B$4+T20*PCUs!$B$5 -> 3 | Q20: 3 | R20: 0 | S20: 0 | T20: 0 | U20: =P20*5.75 -> 17.25
A21: =A20 -> 0.29166667 | B21: =C21*PCUs!$B$2+D21*PCUs!$B$3+E21*PCUs!$B$4+F21*PCUs!$B$5 -> 0 | G21: =B21*5.75 -> 0 | H21: =H20 -> 0.29166667 | I21: =J21*PCUs!$B$2+K21*PCUs!$B$3+L21*PCUs!$B$4+M21*PCUs!$B$5 -> 0 | J21: 0 | K21: 0 | L21: 0 | M21: 0 | N21: =I21*5.75 -> 0 | O21: =O20 -> 0.29166667 | P21: =Q21*PCUs!$B$2+R21*PCUs!$B$3+S21*PCUs!$B$4+T21*PCUs!$B$5 -> 3 | Q21: 3 | R21: 0 | S21: 0 | T21: 0 | U21: =P21*5.75 -> 17.25
A22: =A21 -> 0.29166667 | B22: =C22*PCUs!$B$2+D22*PCUs!$B$3+E22*PCUs!$B$4+F22*PCUs!$B$5 -> 0 | G22: =B22*5.75 -> 0 | H22: =H21 -> 0.29166667 | I22: =J22*PCUs!$B$2+K22*PCUs!$B$3+L22*PCUs!$B$4+M22*PCUs!$B$5 -> 0 | N22: =I22*5.75 -> 0 | O22: =O21 -> 0.29166667 | P22: =Q22*PCUs!$B$2+R22*PCUs!$B$3+S22*PCUs!$B$4+T22*PCUs!$B$5 -> 0 | U22: =P22*5.75 -> 0
A23: =A22 -> 0.29166667 | B23: =C23*PCUs!$B$2+D23*PCUs!$B$3+E23*PCUs!$B$4+F23*PCUs!$B$5 -> 0 | G23: =B23*5.75 -> 0 | H23: =H22 -> 0.29166667 | I23: =J23*PCUs!$B$2+K23*PCUs!$B$3+L23*PCUs!$B$4+M23*PCUs!$B$5 -> 0 | N23: =I23*5.75 -> 0 | O23: =O22 -> 0.29166667 | P23: =Q23*PCUs!$B$2+R23*PCUs!$B$3+S23*PCUs!$B$4+T23*PCUs!$B$5 -> 0 | U23: =P23*5.75 -> 0
A24: =A23 -> 0.29166667 | B24: =C24*PCUs!$B$2+D24*PCUs!$B$3+E24*PCUs!$B$4+F24*PCUs!$B$5 -> 0 | G24: =B24*5.75 -> 0 | H24: =H23 -> 0.29166667 | I24: =J24*PCUs!$B$2+K24*PCUs!$B$3+L24*PCUs!$B$4+M24*PCUs!$B$5 -> 0 | N24: =I24*5.75 -> 0 | O24: =O23 -> 0.29166667 | P24: =Q24*PCUs!$B$2+R24*PCUs!$B$3+S24*PCUs!$B$4+T24*PCUs!$B$5 -> 0 | U24: =P24*5.75 -> 0
A25: =A24 -> 0.29166667 | B25: =C25*PCUs!$B$2+D25*PCUs!$B$3+E25*PCUs!$B$4+F25*PCUs!$B$5 -> 0 | G25: =B25*5.75 -> 0 | H25: =H24 -> 0.29166667 | I25: =J25*PCUs!$B$2+K25*PCUs!$B$3+L25*PCUs!$B$4+M25*PCUs!$B$5 -> 0 | N25: =I25*5.75 -> 0 | O25: =O24 -> 0.29166667 | P25: =Q25*PCUs!$B$2+R25*PCUs!$B$3+S25*PCUs!$B$4+T25*PCUs!$B$5 -> 0 | U25: =P25*5.75 -> 0
A26: =A25 -> 0.29166667 | B26: =C26*PCUs!$B$2+D26*PCUs!$B$3+E26*PCUs!$B$4+F26*PCUs!$B$5 -> 0 | G26: =B26*5.75 -> 0 | H26: =H25 -> 0.29166667 | I26: =J26*PCUs!$B$2+K26*PCUs!$B$3+L26*PCUs!$B$4+M26*PCUs!$B$5 -> 0 | N26: =I26*5.75 -> 0 | O26: =O25 -> 0.29166667 | P26: =Q26*PCUs!$B$2+R26*PCUs!$B$3+S26*PCUs!$B$4+T26*PCUs!$B$5 -> 0 | U26: =P26*5.75 -> 0
A27: =A26 -> 0.29166667 | B27: =C27*PCUs!$B$2+D27*PCUs!$B$3+E27*PCUs!$B$4+F27*PCUs!$B$5 -> 0 | G27: =B27*5.75 -> 0 | H27: =H26 -> 0.29166667 | I27: =J27*PCUs!$B$2+K27*PCUs!$B$3+L27*PCUs!$B$4+M27*PCUs!$B$5 -> 0 | N27: =I27*5.75 -> 0 | O27: =O26 -> 0.29166667 | P27: =Q27*PCUs!$B$2+R27*PCUs!$B$3+S27*PCUs!$B$4+T27*PCUs!$B$5 -> 0 | U27: =P27*5.75 -> 0
A28: =A27 -> 0.29166667 | B28: =MAX(B16:B27) -> 0 | C28: =VLOOKUP(B28,B16:F27,2,FALSE) -> 0 | D28: =VLOOKUP(B28,B16:F27,3,FALSE) -> 0 | E28: =VLOOKUP(B28,B16:F27,4,FALSE) -> 0 | F28: =VLOOKUP(B28,B16:F27,5,FALSE) -> 0 | G28: =B28*5.75 -> 0 | H28: =H27 -> 0.29166667 | I28: =MAX(I16:I27) -> 5 | J28: =VLOOKUP(I28,I16:M27,2,FALSE) -> 5 | K28: =VLOOKUP(I28,I16:M27,3,FALSE) -> 0 | L28: =VLOOKUP(I28,I16:M27,4,FALSE) -> 0 | M28: =VLOOKUP(I28,I16:M27,5,FALSE) -> 0 | N28: =I28*5.75 -> 28.75 | O28: =O27 -> 0.29166667 | P28: =MAX(P16:P27) -> 5 | Q28: =VLOOKUP(P28,P16:T27,2,FALSE) -> 5 | R28: =VLOOKUP(P28,P16:T27,3,FALSE) -> 0 | S28: =VLOOKUP(P28,P16:T27,4,FALSE) -> 0 | T28: =VLOOKUP(P28,P16:T27,5,FALSE) -> 0 | U28: =P28*5.75 -> 28.75
A29: =A27+"00:05" -> 0.29513889 | B29: =C29*PCUs!$B$2+D29*PCUs!$B$3+E29*PCUs!$B$4+F29*PCUs!$B$5 -> 0 | G29: =B29*5.75 -> 0 | H29: =H27+"00:05" -> 0.29513889 | I29: =J29*PCUs!$B$2+K29*PCUs!$B$3+L29*PCUs!$B$4+M29*PCUs!$B$5 -> 3 | J29: 3 | K29: 0 | L29: 0 | M29: 0 | N29: =I29*5.75 -> 17.25 | O29: =O27+"00:05" -> 0.29513889 | P29: =Q29*PCUs!$B$2+R29*PCUs!$B$3+S29*PCUs!$B$4+T29*PCUs!$B$5 -> 7.3 | Q29: 5 | R29: 0 | S29: 1 | T29: 0 | U29: =P29*5.75 -> 41.975
A30: =A29 -> 0.29513889 | B30: =C30*PCUs!$B$2+D30*PCUs!$B$3+E30*PCUs!$B$4+F30*PCUs!$B$5 -> 0 | G30: =B30*5.75 -> 0 | H30: =H29 -> 0.29513889 | I30: =J30*PCUs!$B$2+K30*PCUs!$B$3+L30*PCUs!$B$4+M30*PCUs!$B$5 -> 6 | J30: 6 | K30: 0 | L30: 0 | M30: 0 | N30: =I30*5.75 -> 34.5 | O30: =O29 -> 0.29513889 | P30: =Q30*PCUs!$B$2+R30*PCUs!$B$3+S30*PCUs!$B$4+T30*PCUs!$B$5 -> 0 | Q30: 0 | R30: 0 | S30: 0 | T30: 0 | U30: =P30*5.75 -> 0
A31: =A30 -> 0.29513889 | B31: =C31*PCUs!$B$2+D31*PCUs!$B$3+E31*PCUs!$B$4+F31*PCUs!$B$5 -> 0 | G31: =B31*5.75 -> 0 | H31: =H30 -> 0.29513889 | I31: =J31*PCUs!$B$2+K31*PCUs!$B$3+L31*PCUs!$B$4+M31*PCUs!$B$5 -> 3 | J31: 3 | K31: 0 | L31: 0 | M31: 0 | N31: =I31*5.75 -> 17.25 | O31: =O30 -> 0.29513889 | P31: =Q31*PCUs!$B$2+R31*PCUs!$B$3+S31*PCUs!$B$4+T31*PCUs!$B$5 -> 3 | Q31: 3 | R31: 0 | S31: 0 | T31: 0 | U31: =P31*5.75 -> 17.25
A32: =A31 -> 0.29513889 | B32: =C32*PCUs!$B$2+D32*PCUs!$B$3+E32*PCUs!$B$4+F32*PCUs!$B$5 -> 0 | G32: =B32*5.75 -> 0 | H32: =H31 -> 0.29513889 | I32: =J32*PCUs!$B$2+K32*PCUs!$B$3+L32*PCUs!$B$4+M32*PCUs!$B$5 -> 2 | J32: 2 | K32: 0 | L32: 0 | M32: 0 | N32: =I32*5.75 -> 11.5 | O32: =O31 -> 0.29513889 | P32: =Q32*PCUs!$B$2+R32*PCUs!$B$3+S32*PCUs!$B$4+T32*PCUs!$B$5 -> 1 | Q32: 1 | R32: 0 | S32: 0 | T32: 0 | U32: =P32*5.75 -> 5.75
A33: =A32 -> 0.29513889 | B33: =C33*PCUs!$B$2+D33*PCUs!$B$3+E33*PCUs!$B$4+F33*PCUs!$B$5 -> 0 | G33: =B33*5.75 -> 0 | H33: =H32 -> 0.29513889 | I33: =J33*PCUs!$B$2+K33*PCUs!$B$3+L33*PCUs!$B$4+M33*PCUs!$B$5 -> 3 | J33: 3 | K33: 0 | L33: 0 | M33: 0 | N33: =I33*5.75 -> 17.25 | O33: =O32 -> 0.29513889 | P33: =Q33*PCUs!$B$2+R33*PCUs!$B$3+S33*PCUs!$B$4+T33*PCUs!$B$5 -> 0 | Q33: 0 | R33: 0 | S33: 0 | T33: 0 | U33: =P33*5.75 -> 0
A34: =A33 -> 0.29513889 | B34: =C34*PCUs!$B$2+D34*PCUs!$B$3+E34*PCUs!$B$4+F34*PCUs!$B$5 -> 0 | G34: =B34*5.75 -> 0 | H34: =H33 -> 0.29513889 | I34: =J34*PCUs!$B$2+K34*PCUs!$B$3+L34*PCUs!$B$4+M34*PCUs!$B$5 -> 3 | J34: 3 | K34: 0 | L34: 0 | M34: 0 | N34: =I34*5.75 -> 17.25 | O34: =O33 -> 0.29513889 | P34: =Q34*PCUs!$B$2+R34*PCUs!$B$3+S34*PCUs!$B$4+T34*PCUs!$B$5 -> 3 | Q34: 3 | R34: 0 | S34: 0 | T34: 0 | U34: =P34*5.75 -> 17.25
A35: =A34 -> 0.29513889 | B35: =C35*PCUs!$B$2+D35*PCUs!$B$3+E35*PCUs!$B$4+F35*PCUs!$B$5 -> 0 | G35: =B35*5.75 -> 0 | H35: =H34 -> 0.29513889 | I35: =J35*PCUs!$B$2+K35*PCUs!$B$3+L35*PCUs!$B$4+M35*PCUs!$B$5 -> 6 | J35: 6 | K35: 0 | L35: 0 | M35: 0 | N35: =I35*5.75 -> 34.5 | O35: =O34 -> 0.29513889 | P35: =Q35*PCUs!$B$2+R35*PCUs!$B$3+S35*PCUs!$B$4+T35*PCUs!$B$5 -> 1 | Q35: 1 | R35: 0 | S35: 0 | T35: 0 | U35: =P35*5.75 -> 5.75
A36: =A35 -> 0.29513889 | B36: =C36*PCUs!$B$2+D36*PCUs!$B$3+E36*PCUs!$B$4+F36*PCUs!$B$5 -> 0 | G36: =B36*5.75 -> 0 | H36: =H35 -> 0.29513889 | I36: =J36*PCUs!$B$2+K36*PCUs!$B$3+L36*PCUs!$B$4+M36*PCUs!$B$5 -> 0 | N36: =I36*5.75 -> 0 | O36: =O35 -> 0.29513889 | P36: =Q36*PCUs!$B$2+R36*PCUs!$B$3+S36*PCUs!$B$4+T36*PCUs!$B$5 -> 0 | U36: =P36*5.75 -> 0
A37: =A36 -> 0.29513889 | B37: =C37*PCUs!$B$2+D37*PCUs!$B$3+E37*PCUs!$B$4+F37*PCUs!$B$5 -> 0 | G37: =B37*5.75 -> 0 | H37: =H36 -> 0.29513889 | I37: =J37*PCUs!$B$2+K37*PCUs!$B$3+L37*PCUs!$B$4+M37*PCUs!$B$5 -> 0 | N37: =I37*5.75 -> 0 | O37: =O36 -> 0.29513889 | P37: =Q37*PCUs!$B$2+R37*PCUs!$B$3+S37*PCUs!$B$4+T37*PCUs!$B$5 -> 0 | U37: =P37*5.75 -> 0
A38: =A37 -> 0.29513889 | B38: =C38*PCUs!$B$2+D38*PCUs!$B$3+E38*PCUs!$B$4+F38*PCUs!$B$5 -> 0 | G38: =B38*5.75 -> 0 | H38: =H37 -> 0.29513889 | I38: =J38*PCUs!$B$2+K38*PCUs!$B$3+L38*PCUs!$B$4+M38*PCUs!$B$5 -> 0 | N38: =I38*5.75 -> 0 | O38: =O37 -> 0.29513889 | P38: =Q38*PCUs!$B$2+R38*PCUs!$B$3+S38*PCUs!$B$4+T38*PCUs!$B$5 -> 0 | U38: =P38*5.75 -> 0
A39: =A38 -> 0.29513889 | B39: =C39*PCUs!$B$2+D39*PCUs!$B$3+E39*PCUs!$B$4+F39*PCUs!$B$5 -> 0 | G39: =B39*5.75 -> 0 | H39: =H38 -> 0.29513889 | I39: =J39*PCUs!$B$2+K39*PCUs!$B$3+L39*PCUs!$B$4+M39*PCUs!$B$5 -> 0 | N39: =I39*5.75 -> 0 | O39: =O38 -> 0.29513889 | P39: =Q39*PCUs!$B$2+R39*PCUs!$B$3+S39*PCUs!$B$4+T39*PCUs!$B$5 -> 0 | U39: =P39*5.75 -> 0
A40: =A39 -> 0.29513889 | B40: =C40*PCUs!$B$2+D40*PCUs!$B$3+E40*PCUs!$B$4+F40*PCUs!$B$5 -> 0 | G40: =B40*5.75 -> 0 | H40: =H39 -> 0.29513889 | I40: =J40*PCUs!$B$2+K40*PCUs!$B$3+L40*PCUs!$B$4+M40*PCUs!$B$5 -> 0 | N40: =I40*5.75 -> 0 | O40: =O39 -> 0.29513889 | P40: =Q40*PCUs!$B$2+R40*PCUs!$B$3+S40*PCUs!$B$4+T40*PCUs!$B$5 -> 0 | U40: =P40*5.75 -> 0
A41: =A40 -> 0.29513889 | B41: =MAX(B29:B40) -> 0 | C41: =VLOOKUP(B41,B29:F40,2,FALSE) -> 0 | D41: =VLOOKUP(B41,B29:F40,3,FALSE) -> 0 | E41: =VLOOKUP(B41,B29:F40,4,FALSE) -> 0 | F41: =VLOOKUP(B41,B29:F40,5,FALSE) -> 0 | G41: =B41*5.75 -> 0 | H41: =H40 -> 0.29513889 | I41: =MAX(I29:I40) -> 6 | J41: =VLOOKUP(I41,I29:M40,2,FALSE) -> 6 | K41: =VLOOKUP(I41,I29:M40,3,FALSE) -> 0 | L41: =VLOOKUP(I41,I29:M40,4,FALSE) -> 0 | M41: =VLOOKUP(I41,I29:M40,5,FALSE) -> 0 | N41: =I41*5.75 -> 34.5 | O41: =O40 -> 0.29513889 | P41: =MAX(P29:P40) -> 7.3 | Q41: =VLOOKUP(P41,P29:T40,2,FALSE) -> 5 | R41: =VLOOKUP(P41,P29:T40,3,FALSE) -> 0 | S41: =VLOOKUP(P41,P29:T40,4,FALSE) -> 1 | T41: =VLOOKUP(P41,P29:T40,5,FALSE) -> 0 | U41: =P41*5.75 -> 41.975
A42: =A40+"00:05" -> 0.29861111 | B42: =C42*PCUs!$B$2+D42*PCUs!$B$3+E42*PCUs!$B$4+F42*PCUs!$B$5 -> 0 | G42: =B42*5.75 -> 0 | H42: =H40+"00:05" -> 0.29861111 | I42: =J42*PCUs!$B$2+K42*PCUs!$B$3+L42*PCUs!$B$4+M42*PCUs!$B$5 -> 5 | J42: 5 | K42: 0 | L42: 0 | M42: 0 | N42: =I42*5.75 -> 28.75 | O42: =O40+"00:05" -> 0.29861111 | P42: =Q42*PCUs!$B$2+R42*PCUs!$B$3+S42*PCUs!$B$4+T42*PCUs!$B$5 -> 4 | Q42: 4 | R42: 0 | S42: 0 | T42: 0 | U42: =P42*5.75 -> 23
A43: =A42 -> 0.29861111 | B43: =C43*PCUs!$B$2+D43*PCUs!$B$3+E43*PCUs!$B$4+F43*PCUs!$B$5 -> 0 | G43: =B43*5.75 -> 0 | H43: =H42 -> 0.29861111 | I43: =J43*PCUs!$B$2+K43*PCUs!$B$3+L43*PCUs!$B$4+M43*PCUs!$B$5 -> 1 | J43: 1 | K43: 0 | L43: 0 | M43: 0 | N43: =I43*5.75 -> 5.75 | O43: =O42 -> 0.29861111 | P43: =Q43*PCUs!$B$2+R43*PCUs!$B$3+S43*PCUs!$B$4+T43*PCUs!$B$5 -> 0 | Q43: 0 | R43: 0 | S43: 0 | T43: 0 | U43: =P43*5.75 -> 0
A44: =A43 -> 0.29861111 | B44: =C44*PCUs!$B$2+D44*PCUs!$B$3+E44*PCUs!$B$4+F44*PCUs!$B$5 -> 0 | G44: =B44*5.75 -> 0 | H44: =H43 -> 0.29861111 | I44: =J44*PCUs!$B$2+K44*PCUs!$B$3+L44*PCUs!$B$4+M44*PCUs!$B$5 -> 0 | J44: 0 | K44: 0 | L44: 0 | M44: 0 | N44: =I44*5.75 -> 0 | O44: =O43 -> 0.29861111 | P44: =Q44*PCUs!$B$2+R44*PCUs!$B$3+S44*PCUs!$B$4+T44*PCUs!$B$5 -> 7 | Q44: 4 | R44: 2 | S44: 0 | T44: 0 | U44: =P44*5.75 -> 40.25
A45: =A44 -> 0.29861111 | B45: =C45*PCUs!$B$2+D45*PCUs!$B$3+E45*PCUs!$B$4+F45*PCUs!$B$5 -> 0 | G45: =B45*5.75 -> 0 | H45: =H44 -> 0.29861111 | I45: =J45*PCUs!$B$2+K45*PCUs!$B$3+L45*PCUs!$B$4+M45*PCUs!$B$5 -> 4 | J45: 4 | K45: 0 | L45: 0 | M45: 0 | N45: =I45*5.75 -> 23 | O45: =O44 -> 0.29861111 | P45: =Q45*PCUs!$B$2+R45*PCUs!$B$3+S45*PCUs!$B$4+T45*PCUs!$B$5 -> 2 | Q45: 2 | R45: 0 | S45: 0 | T45: 0 | U45: =P45*5.75 -> 11.5
A46: =A45 -> 0.29861111 | B46: =C46*PCUs!$B$2+D46*PCUs!$B$3+E46*PCUs!$B$4+F46*PCUs!$B$5 -> 0 | G46: =B46*5.75 -> 0 | H46: =H45 -> 0.29861111 | I46: =J46*PCUs!$B$2+K46*PCUs!$B$3+L46*PCUs!$B$4+M46*PCUs!$B$5 -> 4 | J46: 4 | K46: 0 | L46: 0 | M46: 0 | N46: =I46*5.75 -> 23 | O46: =O45 -> 0.29861111 | P46: =Q46*PCUs!$B$2+R46*PCUs!$B$3+S46*PCUs!$B$4+T46*PCUs!$B$5 -> 3 | Q46: 3 | R46: 0 | S46: 0 | T46: 0 | U46: =P46*5.75 -> 17.25
A47: =A46 -> 0.29861111 | B47: =C47*PCUs!$B$2+D47*PCUs!$B$3+E47*PCUs!$B$4+F47*PCUs!$B$5 -> 0 | G47: =B47*5.75 -> 0 | H47: =H46 -> 0.29861111 | I47: =J47*PCUs!$B$2+K47*PCUs!$B$3+L47*PCUs!$B$4+M47*PCUs!$B$5 -> 0 | N47: =I47*5.75 -> 0 | O47: =O46 -> 0.29861111 | P47: =Q47*PCUs!$B$2+R47*PCUs!$B$3+S47*PCUs!$B$4+T47*PCUs!$B$5 -> 0 | U47: =P47*5.75 -> 0
A48: =A47 -> 0.29861111 | B48: =C48*PCUs!$B$2+D48*PCUs!$B$3+E48*PCUs!$B$4+F48*PCUs!$B$5 -> 0 | G48: =B48*5.75 -> 0 | H48: =H47 -> 0.29861111 | I48: =J48*PCUs!$B$2+K48*PCUs!$B$3+L48*PCUs!$B$4+M48*PCUs!$B$5 -> 0 | N48: =I48*5.75 -> 0 | O48: =O47 -> 0.29861111 | P48: =Q48*PCUs!$B$2+R48*PCUs!$B$3+S48*PCUs!$B$4+T48*PCUs!$B$5 -> 0 | U48: =P48*5.75 -> 0
A49: =A48 -> 0.29861111 | B49: =C49*PCUs!$B$2+D49*PCUs!$B$3+E49*PCUs!$B$4+F49*PCUs!$B$5 -> 0 | G49: =B49*5.75 -> 0 | H49: =H48 -> 0.29861111 | I49: =J49*PCUs!$B$2+K49*PCUs!$B$3+L49*PCUs!$B$4+M49*PCUs!$B$5 -> 0 | N49: =I49*5.75 -> 0 | O49: =O48 -> 0.29861111 | P49: =Q49*PCUs!$B$2+R49*PCUs!$B$3+S49*PCUs!$B$4+T49*PCUs!$B$5 -> 0 | U49: =P49*5.75 -> 0
A50: =A49 -> 0.29861111 | B50: =C50*PCUs!$B$2+D50*PCUs!$B$3+E50*PCUs!$B$4+F50*PCUs!$B$5 -> 0 | G50: =B50*5.75 -> 0 | H50: =H49 -> 0.29861111 | I50: =J50*PCUs!$B$2+K50*PCUs!$B$3+L50*PCUs!$B$4+M50*PCUs!$B$5 -> 0 | N50: =I50*5.75 -> 0 | O50: =O49 -> 0.29861111 | P50: =Q50*PCUs!$B$2+R50*PCUs!$B$3+S50*PCUs!$B$4+T50*PCUs!$B$5 -> 0 | U50: =P50*5.75 -> 0
A51: =A50 -> 0.29861111 | B51: =C51*PCUs!$B$2+D51*PCUs!$B$3+E51*PCUs!$B$4+F51*PCUs!$B$5 -> 0 | G51: =B51*5.75 -> 0 | H51: =H50 -> 0.29861111 | I51: =J51*PCUs!$B$2+K51*PCUs!$B$3+L51*PCUs!$B$4+M51*PCUs!$B$5 -> 0 | N51: =I51*5.75 -> 0 | O51: =O50 -> 0.29861111 | P51: =Q51*PCUs!$B$2+R51*PCUs!$B$3+S51*PCUs!$B$4+T51*PCUs!$B$5 -> 0 | U51: =P51*5.75 -> 0
A52: =A51 -> 0.29861111 | B52: =C52*PCUs!$B$2+D52*PCUs!$B$3+E52*PCUs!$B$4+F52*PCUs!$B$5 -> 0 | G52: =B52*5.75 -> 0 | H52: =H51 -> 0.29861111 | I52: =J52*PCUs!$B$2+K52*PCUs!$B$3+L52*PCUs!$B$4+M52*PCUs!$B$5 -> 0 | N52: =I52*5.75 -> 0 | O52: =O51 -> 0.29861111 | P52: =Q52*PCUs!$B$2+R52*PCUs!$B$3+S52*PCUs!$B$4+T52*PCUs!$B$5 -> 0 | U52: =P52*5.75 -> 0
A53: =A52 -> 0.29861111 | B53: =C53*PCUs!$B$2+D53*PCUs!$B$3+E53*PCUs!$B$4+F53*PCUs!$B$5 -> 0 | G53: =B53*5.75 -> 0 | H53: =H52 -> 0.29861111 | I53: =J53*PCUs!$B$2+K53*PCUs!$B$3+L53*PCUs!$B$4+M53*PCUs!$B$5 -> 0 | N53: =I53*5.75 -> 0 | O53: =O52 -> 0.29861111 | P53: =Q53*PCUs!$B$2+R53*PCUs!$B$3+S53*PCUs!$B$4+T53*PCUs!$B$5 -> 0 | U53: =P53*5.75 -> 0
A54: =A53 -> 0.29861111 | B54: =MAX(B42:B53) -> 0 | C54: =VLOOKUP(B54,B42:F53,2,FALSE) -> 0 | D54: =VLOOKUP(B54,B42:F53,3,FALSE) -> 0 | E54: =VLOOKUP(B54,B42:F53,4,FALSE) -> 0 | F54: =VLOOKUP(B54,B42:F53,5,FALSE) -> 0 | G54: =B54*5.75 -> 0 | H54: =H53 -> 0.29861111 | I54: =MAX(I42:I53) -> 5 | J54: =VLOOKUP(I54,I42:M53,2,FALSE) -> 5 | K54: =VLOOKUP(I54,I42:M53,3,FALSE) -> 0 | L54: =VLOOKUP(I54,I42:M53,4,FALSE) -> 0 | M54: =VLOOKUP(I54,I42:M53,5,FALSE) -> 0 | N54: =I54*5.75 -> 28.75 | O54: =O53 -> 0.29861111 | P54: =MAX(P42:P53) -> 7 | Q54: =VLOOKUP(P54,P42:T53,2,FALSE) -> 4 | R54: =VLOOKUP(P54,P42:T53,3,FALSE) -> 2 | S54: =VLOOKUP(P54,P42:T53,4,FALSE) -> 0 | T54: =VLOOKUP(P54,P42:T53,5,FALSE) -> 0 | U54: =P54*5.75 -> 40.25
A55: =A53+"00:05" -> 0.30208333 | B55: =C55*PCUs!$B$2+D55*PCUs!$B$3+E55*PCUs!$B$4+F55*PCUs!$B$5 -> 0 | G55: =B55*5.75 -> 0 | H55: =H53+"00:05" -> 0.30208333 | I55: =J55*PCUs!$B$2+K55*PCUs!$B$3+L55*PCUs!$B$4+M55*PCUs!$B$5 -> 5 | J55: 5 | K55: 0 | L55: 0 | M55: 0 | N55: =I55*5.75 -> 28.75 | O55: =O53+"00:05" -> 0.30208333 | P55: =Q55*PCUs!$B$2+R55*PCUs!$B$3+S55*PCUs!$B$4+T55*PCUs!$B$5 -> 2 | Q55: 2 | R55: 0 | S55: 0 | T55: 0 | U55: =P55*5.75 -> 11.5
A56: =A55 -> 0.30208333 | B56: =C56*PCUs!$B$2+D56*PCUs!$B$3+E56*PCUs!$B$4+F56*PCUs!$B$5 -> 0 | G56: =B56*5.75 -> 0 | H56: =H55 -> 0.30208333 | I56: =J56*PCUs!$B$2+K56*PCUs!$B$3+L56*PCUs!$B$4+M56*PCUs!$B$5 -> 4.5 | J56: 3 | K56: 1 | L56: 0 | M56: 0 | N56: =I56*5.75 -> 25.875 | O56: =O55 -> 0.30208333 | P56: =Q56*PCUs!$B$2+R56*PCUs!$B$3+S56*PCUs!$B$4+T56*PCUs!$B$5 -> 3 | Q56: 3 | R56: 0 | S56: 0 | T56: 0 | U56: =P56*5.75 -> 17.25
A57: =A56 -> 0.30208333 | B57: =C57*PCUs!$B$2+D57*PCUs!$B$3+E57*PCUs!$B$4+F57*PCUs!$B$5 -> 0 | G57: =B57*5.75 -> 0 | H57: =H56 -> 0.30208333 | I57: =J57*PCUs!$B$2+K57*PCUs!$B$3+L57*PCUs!$B$4+M57*PCUs!$B$5 -> 4 | J57: 4 | K57: 0 | L57: 0 | M57: 0 | N57: =I57*5.75 -> 23 | O57: =O56 -> 0.30208333 | P57: =Q57*PCUs!$B$2+R57*PCUs!$B$3+S57*PCUs!$B$4+T57*PCUs!$B$5 -> 4 | Q57: 4 | R57: 0 | S57: 0 | T57: 0 | U57: =P57*5.75 -> 23
A58: =A57 -> 0.30208333 | B58: =C58*PCUs!$B$2+D58*PCUs!$B$3+E58*PCUs!$B$4+F58*PCUs!$B$5 -> 0 | G58: =B58*5.75 -> 0 | H58: =H57 -> 0.30208333 | I58: =J58*PCUs!$B$2+K58*PCUs!$B$3+L58*PCUs!$B$4+M58*PCUs!$B$5 -> 3 | J58: 3 | K58: 0 | L58: 0 | M58: 0 | N58: =I58*5.75 -> 17.25 | O58: =O57 -> 0.30208333 | P58: =Q58*PCUs!$B$2+R58*PCUs!$B$3+S58*PCUs!$B$4+T58*PCUs!$B$5 -> 7 | Q58: 7 | R58: 0 | S58: 0 | T58: 0 | U58: =P58*5.75 -> 40.25
A59: =A58 -> 0.30208333 | B59: =C59*PCUs!$B$2+D59*PCUs!$B$3+E59*PCUs!$B$4+F59*PCUs!$B$5 -> 0 | G59: =B59*5.75 -> 0 | H59: =H58 -> 0.30208333 | I59: =J59*PCUs!$B$2+K59*PCUs!$B$3+L59*PCUs!$B$4+M59*PCUs!$B$5 -> 3 | J59: 3 | K59: 0 | L59: 0 | M59: 0 | N59: =I59*5.75 -> 17.25 | O59: =O58 -> 0.30208333 | P59: =Q59*PCUs!$B$2+R59*PCUs!$B$3+S59*PCUs!$B$4+T59*PCUs!$B$5 -> 5 | Q59: 5 | R59: 0 | S59: 0 | T59: 0 | U59: =P59*5.75 -> 28.75
A60: =A59 -> 0.30208333 | B60: =C60*PCUs!$B$2+D60*PCUs!$B$3+E60*PCUs!$B$4+F60*PCUs!$B$5 -> 0 | G60: =B60*5.75 -> 0 | H60: =H59 -> 0.30208333 | I60: =J60*PCUs!$B$2+K60*PCUs!$B$3+L60*PCUs!$B$4+M60*PCUs!$B$5 -> 0 | N60: =I60*5.75 -> 0 | O60: =O59 -> 0.30208333 | P60: =Q60*PCUs!$B$2+R60*PCUs!$B$3+S60*PCUs!$B$4+T60*PCUs!$B$5 -> 0 | U60: =P60*5.75 -> 0
A61: =A60 -> 0.30208333 | B61: =C61*PCUs!$B$2+D61*PCUs!$B$3+E61*PCUs!$B$4+F61*PCUs!$B$5 -> 0 | G61: =B61*5.75 -> 0 | H61: =H60 -> 0.30208333 | I61: =J61*PCUs!$B$2+K61*PCUs!$B$3+L61*PCUs!$B$4+M61*PCUs!$B$5 -> 0 | N61: =I61*5.75 -> 0 | O61: =O60 -> 0.30208333 | P61: =Q61*PCUs!$B$2+R61*PCUs!$B$3+S61*PCUs!$B$4+T61*PCUs!$B$5 -> 0 | U61: =P61*5.75 -> 0
A62: =A61 -> 0.30208333 | B62: =C62*PCUs!$B$2+D62*PCUs!$B$3+E62*PCUs!$B$4+F62*PCUs!$B$5 -> 0 | G62: =B62*5.75 -> 0 | H62: =H61 -> 0.30208333 | I62: =J62*PCUs!$B$2+K62*PCUs!$B$3+L62*PCUs!$B$4+M62*PCUs!$B$5 -> 0 | N62: =I62*5.75 -> 0 | O62: =O61 -> 0.30208333 | P62: =Q62*PCUs!$B$2+R62*PCUs!$B$3+S62*PCUs!$B$4+T62*PCUs!$B$5 -> 0 | U62: =P62*5.75 -> 0
A63: =A62 -> 0.30208333 | B63: =C63*PCUs!$B$2+D63*PCUs!$B$3+E63*PCUs!$B$4+F63*PCUs!$B$5 -> 0 | G63: =B63*5.75 -> 0 | H63: =H62 -> 0.30208333 | I63: =J63*PCUs!$B$2+K63*PCUs!$B$3+L63*PCUs!$B$4+M63*PCUs!$B$5 -> 0 | N63: =I63*5.75 -> 0 | O63: =O62 -> 0.30208333 | P63: =Q63*PCUs!$B$2+R63*PCUs!$B$3+S63*PCUs!$B$4+T63*PCUs!$B$5 -> 0 | U63: =P63*5.75 -> 0
A64: =A63 -> 0.30208333 | B64: =C64*PCUs!$B$2+D64*PCUs!$B$3+E64*PCUs!$B$4+F64*PCUs!$B$5 -> 0 | G64: =B64*5.75 -> 0 | H64: =H63 -> 0.30208333 | I64: =J64*PCUs!$B$2+K64*PCUs!$B$3+L64*PCUs!$B$4+M64*PCUs!$B$5 -> 0 | N64: =I64*5.75 -> 0 | O64: =O63 -> 0.30208333 | P64: =Q64*PCUs!$B$2+R64*PCUs!$B$3+S64*PCUs!$B$4+T64*PCUs!$B$5 -> 0 | U64: =P64*5.75 -> 0
A65: =A64 -> 0.30208333 | B65: =C65*PCUs!$B$2+D65*PCUs!$B$3+E65*PCUs!$B$4+F65*PCUs!$B$5 -> 0 | G65: =B65*5.75 -> 0 | H65: =H64 -> 0.30208333 | I65: =J65*PCUs!$B$2+K65*PCUs!$B$3+L65*PCUs!$B$4+M65*PCUs!$B$5 -> 0 | N65: =I65*5.75 -> 0 | O65: =O64 -> 0.30208333 | P65: =Q65*PCUs!$B$2+R65*PCUs!$B$3+S65*PCUs!$B$4+T65*PCUs!$B$5 -> 0 | U65: =P65*5.75 -> 0
A66: =A65 -> 0.30208333 | B66: =C66*PCUs!$B$2+D66*PCUs!$B$3+E66*PCUs!$B$4+F66*PCUs!$B$5 -> 0 | G66: =B66*5.75 -> 0 | H66: =H65 -> 0.30208333 | I66: =J66*PCUs!$B$2+K66*PCUs!$B$3+L66*PCUs!$B$4+M66*PCUs!$B$5 -> 0 | N66: =I66*5.75 -> 0 | O66: =O65 -> 0.30208333 | P66: =Q66*PCUs!$B$2+R66*PCUs!$B$3+S66*PCUs!$B$4+T66*PCUs!$B$5 -> 0 | U66: =P66*5.75 -> 0
A67: =A66 -> 0.30208333 | B67: =MAX(B55:B66) -> 0 | C67: =VLOOKUP(B67,B55:F66,2,FALSE) -> 0 | D67: =VLOOKUP(B67,B55:F66,3,FALSE) -> 0 | E67: =VLOOKUP(B67,B55:F66,4,FALSE) -> 0 | F67: =VLOOKUP(B67,B55:F66,5,FALSE) -> 0 | G67: =B67*5.75 -> 0 | H67: =H66 -> 0.30208333 | I67: =MAX(I55:I66) -> 5 | J67: =VLOOKUP(I67,I55:M66,2,FALSE) -> 5 | K67: =VLOOKUP(I67,I55:M66,3,FALSE) -> 0 | L67: =VLOOKUP(I67,I55:M66,4,FALSE) -> 0 | M67: =VLOOKUP(I67,I55:M66,5,FALSE) -> 0 | N67: =I67*5.75 -> 28.75 | O67: =O66 -> 0.30208333 | P67: =MAX(P55:P66) -> 7 | Q67: =VLOOKUP(P67,P55:T66,2,FALSE) -> 7 | R67: =VLOOKUP(P67,P55:T66,3,FALSE) -> 0 | S67: =VLOOKUP(P67,P55:T66,4,FALSE) -> 0 | T67: =VLOOKUP(P67,P55:T66,5,FALSE) -> 0 | U67: =P67*5.75 -> 40.25
A68: =A66+"00:05" -> 0.30555556 | B68: =C68*PCUs!$B$2+D68*PCUs!$B$3+E68*PCUs!$B$4+F68*PCUs!$B$5 -> 0 | G68: =B68*5.75 -> 0 | H68: =H66+"00:05" -> 0.30555556 | I68: =J68*PCUs!$B$2+K68*PCUs!$B$3+L68*PCUs!$B$4+M68*PCUs!$B$5 -> 15 | J68: 12 | K68: 2 | L68: 0 | M68: 0 | N68: =I68*5.75 -> 86.25 | O68: =O66+"00:05" -> 0.30555556 | P68: =Q68*PCUs!$B$2+R68*PCUs!$B$3+S68*PCUs!$B$4+T68*PCUs!$B$5 -> 5 | Q68: 5 | R68: 0 | S68: 0 | T68: 0 | U68: =P68*5.75 -> 28.75
A69: =A68 -> 0.30555556 | B69: =C69*PCUs!$B$2+D69*PCUs!$B$3+E69*PCUs!$B$4+F69*PCUs!$B$5 -> 0 | G69: =B69*5.75 -> 0 | H69: =H68 -> 0.30555556 | I69: =J69*PCUs!$B$2+K69*PCUs!$B$3+L69*PCUs!$B$4+M69*PCUs!$B$5 -> 11 | J69: 11 | K69: 0 | L69: 0 | M69: 0 | N69: =I69*5.75 -> 63.25 | O69: =O68 -> 0.30555556 | P69: =Q69*PCUs!$B$2+R69*PCUs!$B$3+S69*PCUs!$B$4+T69*PCUs!$B$5 -> 8 | Q69: 8 | R69: 0 | S69: 0 | T69: 0 | U69: =P69*5.75 -> 46
A70: =A69 -> 0.30555556 | B70: =C70*PCUs!$B$2+D70*PCUs!$B$3+E70*PCUs!$B$4+F70*PCUs!$B$5 -> 0 | G70: =B70*5.75 -> 0 | H70: =H69 -> 0.30555556 | I70: =J70*PCUs!$B$2+K70*PCUs!$B$3+L70*PCUs!$B$4+M70*PCUs!$B$5 -> 7 | J70: 7 | K70: 0 | L70: 0 | M70: 0 | N70: =I70*5.75 -> 40.25 | O70: =O69 -> 0.30555556 | P70: =Q70*PCUs!$B$2+R70*PCUs!$B$3+S70*PCUs!$B$4+T70*PCUs!$B$5 -> 2 | Q70: 2 | R70: 0 | S70: 0 | T70: 0 | U70: =P70*5.75 -> 11.5
A71: =A70 -> 0.30555556 | B71: =C71*PCUs!$B$2+D71*PCUs!$B$3+E71*PCUs!$B$4+F71*PCUs!$B$5 -> 0 | G71: =B71*5.75 -> 0 | H71: =H70 -> 0.30555556 | I71: =J71*PCUs!$B$2+K71*PCUs!$B$3+L71*PCUs!$B$4+M71*PCUs!$B$5 -> 5 | J71: 5 | K71: 0 | L71: 0 | M71: 0 | N71: =I71*5.75 -> 28.75 | O71: =O70 -> 0.30555556 | P71: =Q71*PCUs!$B$2+R71*PCUs!$B$3+S71*PCUs!$B$4+T71*PCUs!$B$5 -> 5.5 | Q71: 4 | R71: 1 | S71: 0 | T71: 0 | U71: =P71*5.75 -> 31.625
A72: =A71 -> 0.30555556 | B72: =C72*PCUs!$B$2+D72*PCUs!$B$3+E72*PCUs!$B$4+F72*PCUs!$B$5 -> 0 | G72: =B72*5.75 -> 0 | H72: =H71 -> 0.30555556 | I72: =J72*PCUs!$B$2+K72*PCUs!$B$3+L72*PCUs!$B$4+M72*PCUs!$B$5 -> 0 | N72: =I72*5.75 -> 0 | O72: =O71 -> 0.30555556 | P72: =Q72*PCUs!$B$2+R72*PCUs!$B$3+S72*PCUs!$B$4+T72*PCUs!$B$5 -> 0 | U72: =P72*5.75 -> 0
A73: =A72 -> 0.30555556 | B73: =C73*PCUs!$B$2+D73*PCUs!$B$3+E73*PCUs!$B$4+F73*PCUs!$B$5 -> 0 | G73: =B73*5.75 -> 0 | H73: =H72 -> 0.30555556 | I73: =J73*PCUs!$B$2+K73*PCUs!$B$3+L73*PCUs!$B$4+M73*PCUs!$B$5 -> 0 | N73: =I73*5.75 -> 0 | O73: =O72 -> 0.30555556 | P73: =Q73*PCUs!$B$2+R73*PCUs!$B$3+S73*PCUs!$B$4+T73*PCUs!$B$5 -> 0 | U73: =P73*5.75 -> 0
A74: =A73 -> 0.30555556 | B74: =C74*PCUs!$B$2+D74*PCUs!$B$3+E74*PCUs!$B$4+F74*PCUs!$B$5 -> 0 | G74: =B74*5.75 -> 0 | H74: =H73 -> 0.30555556 | I74: =J74*PCUs!$B$2+K74*PCUs!$B$3+L74*PCUs!$B$4+M74*PCUs!$B$5 -> 0 | N74: =I74*5.75 -> 0 | O74: =O73 -> 0.30555556 | P74: =Q74*PCUs!$B$2+R74*PCUs!$B$3+S74*PCUs!$B$4+T74*PCUs!$B$5 -> 0 | U74: =P74*5.75 -> 0
A75: =A74 -> 0.30555556 | B75: =C75*PCUs!$B$2+D75*PCUs!$B$3+E75*PCUs!$B$4+F75*PCUs!$B$5 -> 0 | G75: =B75*5.75 -> 0 | H75: =H74 -> 0.30555556 | I75: =J75*PCUs!$B$2+K75*PCUs!$B$3+L75*PCUs!$B$4+M75*PCUs!$B$5 -> 0 | N75: =I75*5.75 -> 0 | O75: =O74 -> 0.30555556 | P75: =Q75*PCUs!$B$2+R75*PCUs!$B$3+S75*PCUs!$B$4+T75*PCUs!$B$5 -> 0 | U75: =P75*5.75 -> 0
A76: =A75 -> 0.30555556 | B76: =C76*PCUs!$B$2+D76*PCUs!$B$3+E76*PCUs!$B$4+F76*PCUs!$B$5 -> 0 | G76: =B76*5.75 -> 0 | H76: =H75 -> 0.30555556 | I76: =J76*PCUs!$B$2+K76*PCUs!$B$3+L76*PCUs!$B$4+M76*PCUs!$B$5 -> 0 | N76: =I76*5.75 -> 0 | O76: =O75 -> 0.30555556 | P76: =Q76*PCUs!$B$2+R76*PCUs!$B$3+S76*PCUs!$B$4+T76*PCUs!$B$5 -> 0 | U76: =P76*5.75 -> 0
A77: =A76 -> 0.30555556 | B77: =C77*PCUs!$B$2+D77*PCUs!$B$3+E77*PCUs!$B$4+F77*PCUs!$B$5 -> 0 | G77: =B77*5.75 -> 0 | H77: =H76 -> 0.30555556 | I77: =J77*PCUs!$B$2+K77*PCUs!$B$3+L77*PCUs!$B$4+M77*PCUs!$B$5 -> 0 | N77: =I77*5.75 -> 0 | O77: =O76 -> 0.30555556 | P77: =Q77*PCUs!$B$2+R77*PCUs!$B$3+S77*PCUs!$B$4+T77*PCUs!$B$5 -> 0 | U77: =P77*5.75 -> 0
A78: =A77 -> 0.30555556 | B78: =C78*PCUs!$B$2+D78*PCUs!$B$3+E78*PCUs!$B$4+F78*PCUs!$B$5 -> 0 | G78: =B78*5.75 -> 0 | H78: =H77 -> 0.30555556 | I78: =J78*PCUs!$B$2+K78*PCUs!$B$3+L78*PCUs!$B$4+M78*PCUs!$B$5 -> 0 | N78: =I78*5.75 -> 0 | O78: =O77 -> 0.30555556 | P78: =Q78*PCUs!$B$2+R78*PCUs!$B$3+S78*PCUs!$B$4+T78*PCUs!$B$5 -> 0 | U78: =P78*5.75 -> 0
A79: =A78 -> 0.30555556 | B79: =C79*PCUs!$B$2+D79*PCUs!$B$3+E79*PCUs!$B$4+F79*PCUs!$B$5 -> 0 | G79: =B79*5.75 -> 0 | H79: =H78 -> 0.30555556 | I79: =J79*PCUs!$B$2+K79*PCUs!$B$3+L79*PCUs!$B$4+M79*PCUs!$B$5 -> 0 | N79: =I79*5.75 -> 0 | O79: =O78 -> 0.30555556 | P79: =Q79*PCUs!$B$2+R79*PCUs!$B$3+S79*PCUs!$B$4+T79*PCUs!$B$5 -> 0 | U79: =P79*5.75 -> 0
A80: =A79 -> 0.30555556 | B80: =MAX(B68:B79) -> 0 | C80: =VLOOKUP(B80,B68:F79,2,FALSE) -> 0 | D80: =VLOOKUP(B80,B68:F79,3,FALSE) -> 0 | E80: =VLOOKUP(B80,B68:F79,4,FALSE) -> 0 | F80: =VLOOKUP(B80,B68:F79,5,FALSE) -> 0 | G80: =B80*5.75 -> 0 | H80: =H79 -> 0.30555556 | I80: =MAX(I68:I79) -> 15 | J80: =VLOOKUP(I80,I68:M79,2,FALSE) -> 12 | K80: =VLOOKUP(I80,I68:M79,3,FALSE) -> 2 | L80: =VLOOKUP(I80,I68:M79,4,FALSE) -> 0 | M80: =VLOOKUP(I80,I68:M79,5,FALSE) -> 0 | N80: =I80*5.75 -> 86.25 | O80: =O79 -> 0.30555556 | P80: =MAX(P68:P79) -> 8 | Q80: =VLOOKUP(P80,P68:T79,2,FALSE) -> 8 | R80: =VLOOKUP(P80,P68:T79,3,FALSE) -> 0 | S80: =VLOOKUP(P80,P68:T79,4,FALSE) -> 0 | T80: =VLOOKUP(P80,P68:T79,5,FALSE) -> 0 | U80: =P80*5.75 -> 46
A81: =A79+"00:05" -> 0.30902778 | B81: =C81*PCUs!$B$2+D81*PCUs!$B$3+E81*PCUs!$B$4+F81*PCUs!$B$5 -> 0 | G81: =B81*5.75 -> 0 | H81: =H79+"00:05" -> 0.30902778 | I81: =J81*PCUs!$B$2+K81*PCUs!$B$3+L81*PCUs!$B$4+M81*PCUs!$B$5 -> 13 | J81: 13 | K81: 0 | L81: 0 | M81: 0 | N81: =I81*5.75 -> 74.75 | O81: =O79+"00:05" -> 0.30902778 | P81: =Q81*PCUs!$B$2+R81*PCUs!$B$3+S81*PCUs!$B$4+T81*PCUs!$B$5 -> 3 | Q81: 3 | R81: 0 | S81: 0 | T81: 0 | U81: =P81*5.75 -> 17.25
A82: =A81 -> 0.30902778 | B82: =C82*PCUs!$B$2+D82*PCUs!$B$3+E82*PCUs!$B$4+F82*PCUs!$B$5 -> 0 | G82: =B82*5.75 -> 0 | H82: =H81 -> 0.30902778 | I82: =J82*PCUs!$B$2+K82*PCUs!$B$3+L82*PCUs!$B$4+M82*PCUs!$B$5 -> 13 | J82: 13 | K82: 0 | L82: 0 | M82: 0 | N82: =I82*5.75 -> 74.75 | O82: =O81 -> 0.30902778 | P82: =Q82*PCUs!$B$2+R82*PCUs!$B$3+S82*PCUs!$B$4+T82*PCUs!$B$5 -> 9 | Q82: 9 | R82: 0 | S82: 0 | T82: 0 | U82: =P82*5.75 -> 51.75
A83: =A82 -> 0.30902778 | B83: =C83*PCUs!$B$2+D83*PCUs!$B$3+E83*PCUs!$B$4+F83*PCUs!$B$5 -> 0 | G83: =B83*5.75 -> 0 | H83: =H82 -> 0.30902778 | I83: =J83*PCUs!$B$2+K83*PCUs!$B$3+L83*PCUs!$B$4+M83*PCUs!$B$5 -> 3 | J83: 3 | K83: 0 | L83: 0 | M83: 0 | N83: =I83*5.75 -> 17.25 | O83: =O82 -> 0.30902778 | P83: =Q83*PCUs!$B$2+R83*PCUs!$B$3+S83*PCUs!$B$4+T83*PCUs!$B$5 -> 2 | Q83: 2 | R83: 0 | S83: 0 | T83: 0 | U83: =P83*5.75 -> 11.5
A84: =A83 -> 0.30902778 | B84: =C84*PCUs!$B$2+D84*PCUs!$B$3+E84*PCUs!$B$4+F84*PCUs!$B$5 -> 0 | G84: =B84*5.75 -> 0 | H84: =H83 -> 0.30902778 | I84: =J84*PCUs!$B$2+K84*PCUs!$B$3+L84*PCUs!$B$4+M84*PCUs!$B$5 -> 7 | J84: 7 | K84: 0 | L84: 0 | M84: 0 | N84: =I84*5.75 -> 40.25 | O84: =O83 -> 0.30902778 | P84: =Q84*PCUs!$B$2+R84*PCUs!$B$3+S84*PCUs!$B$4+T84*PCUs!$B$5 -> 2 | Q84: 2 | R84: 0 | S84: 0 | T84: 0 | U84: =P84*5.75 -> 11.5
A85: =A84 -> 0.30902778 | B85: =C85*PCUs!$B$2+D85*PCUs!$B$3+E85*PCUs!$B$4+F85*PCUs!$B$5 -> 0 | G85: =B85*5.75 -> 0 | H85: =H84 -> 0.30902778 | I85: =J85*PCUs!$B$2+K85*PCUs!$B$3+L85*PCUs!$B$4+M85*PCUs!$B$5 -> 8 | J85: 8 | K85: 0 | L85: 0 | M85: 0 | N85: =I85*5.75 -> 46 | O85: =O84 -> 0.30902778 | P85: =Q85*PCUs!$B$2+R85*PCUs!$B$3+S85*PCUs!$B$4+T85*PCUs!$B$5 -> 2 | Q85: 2 | R85: 0 | S85: 0 | T85: 0 | U85: =P85*5.75 -> 11.5
A86: =A85 -> 0.30902778 | B86: =C86*PCUs!$B$2+D86*PCUs!$B$3+E86*PCUs!$B$4+F86*PCUs!$B$5 -> 0 | G86: =B86*5.75 -> 0 | H86: =H85 -> 0.30902778 | I86: =J86*PCUs!$B$2+K86*PCUs!$B$3+L86*PCUs!$B$4+M86*PCUs!$B$5 -> 0 | N86: =I86*5.75 -> 0 | O86: =O85 -> 0.30902778 | P86: =Q86*PCUs!$B$2+R86*PCUs!$B$3+S86*PCUs!$B$4+T86*PCUs!$B$5 -> 0 | U86: =P86*5.75 -> 0
A87: =A86 -> 0.30902778 | B87: =C87*PCUs!$B$2+D87*PCUs!$B$3+E87*PCUs!$B$4+F87*PCUs!$B$5 -> 0 | G87: =B87*5.75 -> 0 | H87: =H86 -> 0.30902778 | I87: =J87*PCUs!$B$2+K87*PCUs!$B$3+L87*PCUs!$B$4+M87*PCUs!$B$5 -> 0 | N87: =I87*5.75 -> 0 | O87: =O86 -> 0.30902778 | P87: =Q87*PCUs!$B$2+R87*PCUs!$B$3+S87*PCUs!$B$4+T87*PCUs!$B$5 -> 0 | U87: =P87*5.75 -> 0
A88: =A87 -> 0.30902778 | B88: =C88*PCUs!$B$2+D88*PCUs!$B$3+E88*PCUs!$B$4+F88*PCUs!$B$5 -> 0 | G88: =B88*5.75 -> 0 | H88: =H87 -> 0.30902778 | I88: =J88*PCUs!$B$2+K88*PCUs!$B$3+L88*PCUs!$B$4+M88*PCUs!$B$5 -> 0 | N88: =I88*5.75 -> 0 | O88: =O87 -> 0.30902778 | P88: =Q88*PCUs!$B$2+R88*PCUs!$B$3+S88*PCUs!$B$4+T88*PCUs!$B$5 -> 0 | U88: =P88*5.75 -> 0
A89: =A88 -> 0.30902778 | B89: =C89*PCUs!$B$2+D89*PCUs!$B$3+E89*PCUs!$B$4+F89*PCUs!$B$5 -> 0 | G89: =B89*5.75 -> 0 | H89: =H88 -> 0.30902778 | I89: =J89*PCUs!$B$2+K89*PCUs!$B$3+L89*PCUs!$B$4+M89*PCUs!$B$5 -> 0 | N89: =I89*5.75 -> 0 | O89: =O88 -> 0.30902778 | P89: =Q89*PCUs!$B$2+R89*PCUs!$B$3+S89*PCUs!$B$4+T89*PCUs!$B$5 -> 0 | U89: =P89*5.75 -> 0
A90: =A89 -> 0.30902778 | B90: =C90*PCUs!$B$2+D90*PCUs!$B$3+E90*PCUs!$B$4+F90*PCUs!$B$5 -> 0 | G90: =B90*5.75 -> 0 | H90: =H89 -> 0.30902778 | I90: =J90*PCUs!$B$2+K90*PCUs!$B$3+L90*PCUs!$B$4+M90*PCUs!$B$5 -> 0 | N90: =I90*5.75 -> 0 | O90: =O89 -> 0.30902778 | P90: =Q90*PCUs!$B$2+R90*PCUs!$B$3+S90*PCUs!$B$4+T90*PCUs!$B$5 -> 0 | U90: =P90*5.75 -> 0
A91: =A90 -> 0.30902778 | B91: =C91*PCUs!$B$2+D91*PCUs!$B$3+E91*PCUs!$B$4+F91*PCUs!$B$5 -> 0 | G91: =B91*5.75 -> 0 | H91: =H90 -> 0.30902778 | I91: =J91*PCUs!$B$2+K91*PCUs!$B$3+L91*PCUs!$B$4+M91*PCUs!$B$5 -> 0 | N91: =I91*5.75 -> 0 | O91: =O90 -> 0.30902778 | P91: =Q91*PCUs!$B$2+R91*PCUs!$B$3+S91*PCUs!$B$4+T91*PCUs!$B$5 -> 0 | U91: =P91*5.75 -> 0
A92: =A91 -> 0.30902778 | B92: =C92*PCUs!$B$2+D92*PCUs!$B$3+E92*PCUs!$B$4+F92*PCUs!$B$5 -> 0 | G92: =B92*5.75 -> 0 | H92: =H91 -> 0.30902778 | I92: =J92*PCUs!$B$2+K92*PCUs!$B$3+L92*PCUs!$B$4+M92*PCUs!$B$5 -> 0 | N92: =I92*5.75 -> 0 | O92: =O91 -> 0.30902778 | P92: =Q92*PCUs!$B$2+R92*PCUs!$B$3+S92*PCUs!$B$4+T92*PCUs!$B$5 -> 0 | U92: =P92*5.75 -> 0
A93: =A92 -> 0.30902778 | B93: =MAX(B81:B92) -> 0 | C93: =VLOOKUP(B93,B81:F92,2,FALSE) -> 0 | D93: =VLOOKUP(B93,B81:F92,3,FALSE) -> 0 | E93: =VLOOKUP(B93,B81:F92,4,FALSE) -> 0 | F93: =VLOOKUP(B93,B81:F92,5,FALSE) -> 0 | G93: =B93*5.75 -> 0 | H93: =H92 -> 0.30902778 | I93: =MAX(I81:I92) -> 13 | J93: =VLOOKUP(I93,I81:M92,2,FALSE) -> 13 | K93: =VLOOKUP(I93,I81:M92,3,FALSE) -> 0 | L93: =VLOOKUP(I93,I81:M92,4,FALSE) -> 0 | M93: =VLOOKUP(I93,I81:M92,5,FALSE) -> 0 | N93: =I93*5.75 -> 74.75 | O93: =O92 -> 0.30902778 | P93: =MAX(P81:P92) -> 9 | Q93: =VLOOKUP(P93,P81:T92,2,FALSE) -> 9 | R93: =VLOOKUP(P93,P81:T92,3,FALSE) -> 0 | S93: =VLOOKUP(P93,P81:T92,4,FALSE) -> 0 | T93: =VLOOKUP(P93,P81:T92,5,FALSE) -> 0 | U93: =P93*5.75 -> 51.75
A94: =A92+"00:05" -> 0.3125 | B94: =C94*PCUs!$B$2+D94*PCUs!$B$3+E94*PCUs!$B$4+F94*PCUs!$B$5 -> 0 | G94: =B94*5.75 -> 0 | H94: =H92+"00:05" -> 0.3125 | I94: =J94*PCUs!$B$2+K94*PCUs!$B$3+L94*PCUs!$B$4+M94*PCUs!$B$5 -> 9 | J94: 9 | K94: 0 | L94: 0 | M94: 0 | N94: =I94*5.75 -> 51.75 | O94: =O92+"00:05" -> 0.3125 | P94: =Q94*PCUs!$B$2+R94*PCUs!$B$3+S94*PCUs!$B$4+T94*PCUs!$B$5 -> 2 | Q94: 2 | R94: 0 | S94: 0 | T94: 0 | U94: =P94*5.75 -> 11.5
A95: =A94 -> 0.3125 | B95: =C95*PCUs!$B$2+D95*PCUs!$B$3+E95*PCUs!$B$4+F95*PCUs!$B$5 -> 0 | G95: =B95*5.75 -> 0 | H95: =H94 -> 0.3125 | I95: =J95*PCUs!$B$2+K95*PCUs!$B$3+L95*PCUs!$B$4+M95*PCUs!$B$5 -> 7 | J95: 7 | K95: 0 | L95: 0 | M95: 0 | N95: =I95*5.75 -> 40.25 | O95: =O94 -> 0.3125 | P95: =Q95*PCUs!$B$2+R95*PCUs!$B$3+S95*PCUs!$B$4+T95*PCUs!$B$5 -> 2 | Q95: 2 | R95: 0 | S95: 0 | T95: 0 | U95: =P95*5.75 -> 11.5
A96: =A95 -> 0.3125 | B96: =C96*PCUs!$B$2+D96*PCUs!$B$3+E96*PCUs!$B$4+F96*PCUs!$B$5 -> 0 | G96: =B96*5.75 -> 0 | H96: =H95 -> 0.3125 | I96: =J96*PCUs!$B$2+K96*PCUs!$B$3+L96*PCUs!$B$4+M96*PCUs!$B$5 -> 4 | J96: 4 | K96: 0 | L96: 0 | M96: 0 | N96: =I96*5.75 -> 23 | O96: =O95 -> 0.3125 | P96: =Q96*PCUs!$B$2+R96*PCUs!$B$3+S96*PCUs!$B$4+T96*PCUs!$B$5 -> 7 | Q96: 7 | R96: 0 | S96: 0 | T96: 0 | U96: =P96*5.75 -> 40.25
A97: =A96 -> 0.3125 | B97: =C97*PCUs!$B$2+D97*PCUs!$B$3+E97*PCUs!$B$4+F97*PCUs!$B$5 -> 0 | G97: =B97*5.75 -> 0 | H97: =H96 -> 0.3125 | I97: =J97*PCUs!$B$2+K97*PCUs!$B$3+L97*PCUs!$B$4+M97*PCUs!$B$5 -> 6 | J97: 6 | K97: 0 | L97: 0 | M97: 0 | N97: =I97*5.75 -> 34.5 | O97: =O96 -> 0.3125 | P97: =Q97*PCUs!$B$2+R97*PCUs!$B$3+S97*PCUs!$B$4+T97*PCUs!$B$5 -> 6 | Q97: 6 | R97: 0 | S97: 0 | T97: 0 | U97: =P97*5.75 -> 34.5
A98: =A97 -> 0.3125 | B98: =C98*PCUs!$B$2+D98*PCUs!$B$3+E98*PCUs!$B$4+F98*PCUs!$B$5 -> 0 | G98: =B98*5.75 -> 0 | H98: =H97 -> 0.3125 | I98: =J98*PCUs!$B$2+K98*PCUs!$B$3+L98*PCUs!$B$4+M98*PCUs!$B$5 -> 14 | J98: 14 | K98: 0 | L98: 0 | M98: 0 | N98: =I98*5.75 -> 80.5 | O98: =O97 -> 0.3125 | P98: =Q98*PCUs!$B$2+R98*PCUs!$B$3+S98*PCUs!$B$4+T98*PCUs!$B$5 -> 1 | Q98: 1 | R98: 0 | S98: 0 | T98: 0 | U98: =P98*5.75 -> 5.75
A99: =A98 -> 0.3125 | B99: =C99*PCUs!$B$2+D99*PCUs!$B$3+E99*PCUs!$B$4+F99*PCUs!$B$5 -> 0 | G99: =B99*5.75 -> 0 | H99: =H98 -> 0.3125 | I99: =J99*PCUs!$B$2+K99*PCUs!$B$3+L99*PCUs!$B$4+M99*PCUs!$B$5 -> 0 | N99: =I99*5.75 -> 0 | O99: =O98 -> 0.3125 | P99: =Q99*PCUs!$B$2+R99*PCUs!$B$3+S99*PCUs!$B$4+T99*PCUs!$B$5 -> 0 | U99: =P99*5.75 -> 0
A100: =A99 -> 0.3125 | B100: =C100*PCUs!$B$2+D100*PCUs!$B$3+E100*PCUs!$B$4+F100*PCUs!$B$5 -> 0 | G100: =B100*5.75 -> 0 | H100: =H99 -> 0.3125 | I100: =J100*PCUs!$B$2+K100*PCUs!$B$3+L100*PCUs!$B$4+M100*PCUs!$B$5 -> 0 | N100: =I100*5.75 -> 0 | O100: =O99 -> 0.3125 | P100: =Q100*PCUs!$B$2+R100*PCUs!$B$3+S100*PCUs!$B$4+T100*PCUs!$B$5 -> 0 | U100: =P100*5.75 -> 0
A101: =A100 -> 0.3125 | B101: =C101*PCUs!$B$2+D101*PCUs!$B$3+E101*PCUs!$B$4+F101*PCUs!$B$5 -> 0 | G101: =B101*5.75 -> 0 | H101: =H100 -> 0.3125 | I101: =J101*PCUs!$B$2+K101*PCUs!$B$3+L101*PCUs!$B$4+M101*PCUs!$B$5 -> 0 | N101: =I101*5.75 -> 0 | O101: =O100 -> 0.3125 | P101: =Q101*PCUs!$B$2+R101*PCUs!$B$3+S101*PCUs!$B$4+T101*PCUs!$B$5 -> 0 | U101: =P101*5.75 -> 0
A102: =A101 -> 0.3125 | B102: =C102*PCUs!$B$2+D102*PCUs!$B$3+E102*PCUs!$B$4+F102*PCUs!$B$5 -> 0 | G102: =B102*5.75 -> 0 | H102: =H101 -> 0.3125 | I102: =J102*PCUs!$B$2+K102*PCUs!$B$3+L102*PCUs!$B$4+M102*PCUs!$B$5 -> 0 | N102: =I102*5.75 -> 0 | O102: =O101 -> 0.3125 | P102: =Q102*PCUs!$B$2+R102*PCUs!$B$3+S102*PCUs!$B$4+T102*PCUs!$B$5 -> 0 | U102: =P102*5.75 -> 0
A103: =A102 -> 0.3125 | B103: =C103*PCUs!$B$2+D103*PCUs!$B$3+E103*PCUs!$B$4+F103*PCUs!$B$5 -> 0 | G103: =B103*5.75 -> 0 | H103: =H102 -> 0.3125 | I103: =J103*PCUs!$B$2+K103*PCUs!$B$3+L103*PCUs!$B$4+M103*PCUs!$B$5 -> 0 | N103: =I103*5.75 -> 0 | O103: =O102 -> 0.3125 | P103: =Q103*PCUs!$B$2+R103*PCUs!$B$3+S103*PCUs!$B$4+T103*PCUs!$B$5 -> 0 | U103: =P103*5.75 -> 0
A104: =A103 -> 0.3125 | B104: =C104*PCUs!$B$2+D104*PCUs!$B$3+E104*PCUs!$B$4+F104*PCUs!$B$5 -> 0 | G104: =B104*5.75 -> 0 | H104: =H103 -> 0.3125 | I104: =J104*PCUs!$B$2+K104*PCUs!$B$3+L104*PCUs!$B$4+M104*PCUs!$B$5 -> 0 | N104: =I104*5.75 -> 0 | O104: =O103 -> 0.3125 | P104: =Q104*PCUs!$B$2+R104*PCUs!$B$3+S104*PCUs!$B$4+T104*PCUs!$B$5 -> 0 | U104: =P104*5.75 -> 0
A105: =A104 -> 0.3125 | B105: =C105*PCUs!$B$2+D105*PCUs!$B$3+E105*PCUs!$B$4+F105*PCUs!$B$5 -> 0 | G105: =B105*5.75 -> 0 | H105: =H104 -> 0.3125 | I105: =J105*PCUs!$B$2+K105*PCUs!$B$3+L105*PCUs!$B$4+M105*PCUs!$B$5 -> 0 | N105: =I105*5.75 -> 0 | O105: =O104 -> 0.3125 | P105: =Q105*PCUs!$B$2+R105*PCUs!$B$3+S105*PCUs!$B$4+T105*PCUs!$B$5 -> 0 | U105: =P105*5.75 -> 0
A106: =A105 -> 0.3125 | B106: =MAX(B94:B105) -> 0 | C106: =VLOOKUP(B106,B94:F105,2,FALSE) -> 0 | D106: =VLOOKUP(B106,B94:F105,3,FALSE) -> 0 | E106: =VLOOKUP(B106,B94:F105,4,FALSE) -> 0 | F106: =VLOOKUP(B106,B94:F105,5,FALSE) -> 0 | G106: =B106*5.75 -> 0 | H106: =H105 -> 0.3125 | I106: =MAX(I94:I105) -> 14 | J106: =VLOOKUP(I106,I94:M105,2,FALSE) -> 14 | K106: =VLOOKUP(I106,I94:M105,3,FALSE) -> 0 | L106: =VLOOKUP(I106,I94:M105,4,FALSE) -> 0 | M106: =VLOOKUP(I106,I94:M105,5,FALSE) -> 0 | N106: =I106*5.75 -> 80.5 | O106: =O105 -> 0.3125 | P106: =MAX(P94:P105) -> 7 | Q106: =VLOOKUP(P106,P94:T105,2,FALSE) -> 7 | R106: =VLOOKUP(P106,P94:T105,3,FALSE) -> 0 | S106: =VLOOKUP(P106,P94:T105,4,FALSE) -> 0 | T106: =VLOOKUP(P106,P94:T105,5,FALSE) -> 0 | U106: =P106*5.75 -> 40.25
A107: =A105+"00:05" -> 0.31597222 | B107: =C107*PCUs!$B$2+D107*PCUs!$B$3+E107*PCUs!$B$4+F107*PCUs!$B$5 -> 0 | G107: =B107*5.75 -> 0 | H107: =H105+"00:05" -> 0.31597222 | I107: =J107*PCUs!$B$2+K107*PCUs!$B$3+L107*PCUs!$B$4+M107*PCUs!$B$5 -> 11 | J107: 11 | K107: 0 | L107: 0 | M107: 0 | N107: =I107*5.75 -> 63.25 | O107: =O105+"00:05" -> 0.31597222 | P107: =Q107*PCUs!$B$2+R107*PCUs!$B$3+S107*PCUs!$B$4+T107*PCUs!$B$5 -> 3 | Q107: 3 | R107: 0 | S107: 0 | T107: 0 | U107: =P107*5.75 -> 17.25
...

Sheet Site 4 Arm I1
U2: 16367 / SOUTHAMPTON
U3: =UPPER(TEXT(U8,"mMmm yyyy")) -> FEBRUARY 2025
U4: QUEUE LENGTH SURVEY
A8: SITE: | C8: 4 | T8: DATE: | U8: 45701
A10: LOCATION: | C10: Stoneham Interchange | T10: DAY: | U10: =UPPER(TEXT(U8,"dddd")) -> THURSDAY
A12: ANALYSIS: All queues in each 5 minute period at the start of the green phase.
A14: Arm I1 - Lane 1 | H14: Arm I1 - Lane 2 | O14: Arm I1 - Lane 3
A15: Time | B15: Total | C15: Cars | D15: OGV1 | E15: OGV2 | F15: PSV | G15: Metres | H15: Time | I15: Total | J15: Cars | K15: OGV1 | L15: OGV2 | M15: PSV | N15: Metres | O15: Time | P15: Total | Q15: Cars | R15: OGV1 | S15: OGV2 | T15: PSV | U15: Metres
A16: 0.29166667 | B16: =C16*PCUs!$B$2+D16*PCUs!$B$3+E16*PCUs!$B$4+F16*PCUs!$B$5 -> 4 | C16: 4 | D16: 0 | E16: 0 | F16: 0 | G16: =B16*5.75 -> 23 | H16: 0.29166667 | I16: =J16*PCUs!$B$2+K16*PCUs!$B$3+L16*PCUs!$B$4+M16*PCUs!$B$5 -> 5.5 | J16: 4 | K16: 1 | L16: 0 | M16: 0 | N16: =I16*5.75 -> 31.625 | O16: 0.29166667 | P16: =Q16*PCUs!$B$2+R16*PCUs!$B$3+S16*PCUs!$B$4+T16*PCUs!$B$5 -> 1 | Q16: 1 | R16: 0 | S16: 0 | T16: 0 | U16: =P16*5.75 -> 5.75
A17: =A16 -> 0.29166667 | B17: =C17*PCUs!$B$2+D17*PCUs!$B$3+E17*PCUs!$B$4+F17*PCUs!$B$5 -> 5 | C17: 5 | D17: 0 | E17: 0 | F17: 0 | G17: =B17*5.75 -> 28.75 | H17: =H16 -> 0.29166667 | I17: =J17*PCUs!$B$2+K17*PCUs!$B$3+L17*PCUs!$B$4+M17*PCUs!$B$5 -> 2 | J17: 2 | K17: 0 | L17: 0 | M17: 0 | N17: =I17*5.75 -> 11.5 | O17: =O16 -> 0.29166667 | P17: =Q17*PCUs!$B$2+R17*PCUs!$B$3+S17*PCUs!$B$4+T17*PCUs!$B$5 -> 0 | Q17: 0 | R17: 0 | S17: 0 | T17: 0 | U17: =P17*5.75 -> 0
A18: =A17 -> 0.29166667 | B18: =C18*PCUs!$B$2+D18*PCUs!$B$3+E18*PCUs!$B$4+F18*PCUs!$B$5 -> 11 | C18: 11 | D18: 0 | E18: 0 | F18: 0 | G18: =B18*5.75 -> 63.25 | H18: =H17 -> 0.29166667 | I18: =J18*PCUs!$B$2+K18*PCUs!$B$3+L18*PCUs!$B$4+M18*PCUs!$B$5 -> 4 | J18: 4 | K18: 0 | L18: 0 | M18: 0 | N18: =I18*5.75 -> 23 | O18: =O17 -> 0.29166667 | P18: =Q18*PCUs!$B$2+R18*PCUs!$B$3+S18*PCUs!$B$4+T18*PCUs!$B$5 -> 0 | Q18: 0 | R18: 0 | S18: 0 | T18: 0 | U18: =P18*5.75 -> 0
A19: =A18 -> 0.29166667 | B19: =C19*PCUs!$B$2+D19*PCUs!$B$3+E19*PCUs!$B$4+F19*PCUs!$B$5 -> 7.5 | C19: 6 | D19: 1 | E19: 0 | F19: 0 | G19: =B19*5.75 -> 43.125 | H19: =H18 -> 0.29166667 | I19: =J19*PCUs!$B$2+K19*PCUs!$B$3+L19*PCUs!$B$4+M19*PCUs!$B$5 -> 2 | J19: 2 | K19: 0 | L19: 0 | M19: 0 | N19: =I19*5.75 -> 11.5 | O19: =O18 -> 0.29166667 | P19: =Q19*PCUs!$B$2+R19*PCUs!$B$3+S19*PCUs!$B$4+T19*PCUs!$B$5 -> 0 | Q19: 0 | R19: 0 | S19: 0 | T19: 0 | U19: =P19*5.75 -> 0
A20: =A19 -> 0.29166667 | B20: =C20*PCUs!$B$2+D20*PCUs!$B$3+E20*PCUs!$B$4+F20*PCUs!$B$5 -> 0 | G20: =B20*5.75 -> 0 | H20: =H19 -> 0.29166667 | I20: =J20*PCUs!$B$2+K20*PCUs!$B$3+L20*PCUs!$B$4+M20*PCUs!$B$5 -> 0 | N20: =I20*5.75 -> 0 | O20: =O19 -> 0.29166667 | P20: =Q20*PCUs!$B$2+R20*PCUs!$B$3+S20*PCUs!$B$4+T20*PCUs!$B$5 -> 0 | U20: =P20*5.75 -> 0
A21: =A20 -> 0.29166667 | B21: =C21*PCUs!$B$2+D21*PCUs!$B$3+E21*PCUs!$B$4+F21*PCUs!$B$5 -> 0 | G21: =B21*5.75 -> 0 | H21: =H20 -> 0.29166667 | I21: =J21*PCUs!$B$2+K21*PCUs!$B$3+L21*PCUs!$B$4+M21*PCUs!$B$5 -> 0 | N21: =I21*5.75 -> 0 | O21: =O20 -> 0.29166667 | P21: =Q21*PCUs!$B$2+R21*PCUs!$B$3+S21*PCUs!$B$4+T21*PCUs!$B$5 -> 0 | U21: =P21*5.75 -> 0
A22: =A21 -> 0.29166667 | B22: =C22*PCUs!$B$2+D22*PCUs!$B$3+E22*PCUs!$B$4+F22*PCUs!$B$5 -> 0 | G22: =B22*5.75 -> 0 | H22: =H21 -> 0.29166667 | I22: =J22*PCUs!$B$2+K22*PCUs!$B$3+L22*PCUs!$B$4+M22*PCUs!$B$5 -> 0 | N22: =I22*5.75 -> 0 | O22: =O21 -> 0.29166667 | P22: =Q22*PCUs!$B$2+R22*PCUs!$B$3+S22*PCUs!$B$4+T22*PCUs!$B$5 -> 0 | U22: =P22*5.75 -> 0
A23: =A22 -> 0.29166667 | B23: =C23*PCUs!$B$2+D23*PCUs!$B$3+E23*PCUs!$B$4+F23*PCUs!$B$5 -> 0 | G23: =B23*5.75 -> 0 | H23: =H22 -> 0.29166667 | I23: =J23*PCUs!$B$2+K23*PCUs!$B$3+L23*PCUs!$B$4+M23*PCUs!$B$5 -> 0 | N23: =I23*5.75 -> 0 | O23: =O22 -> 0.29166667 | P23: =Q23*PCUs!$B$2+R23*PCUs!$B$3+S23*PCUs!$B$4+T23*PCUs!$B$5 -> 0 | U23: =P23*5.75 -> 0
A24: =A23 -> 0.29166667 | B24: =C24*PCUs!$B$2+D24*PCUs!$B$3+E24*PCUs!$B$4+F24*PCUs!$B$5 -> 0 | G24: =B24*5.75 -> 0 | H24: =H23 -> 0.29166667 | I24: =J24*PCUs!$B$2+K24*PCUs!$B$3+L24*PCUs!$B$4+M24*PCUs!$B$5 -> 0 | N24: =I24*5.75 -> 0 | O24: =O23 -> 0.29166667 | P24: =Q24*PCUs!$B$2+R24*PCUs!$B$3+S24*PCUs!$B$4+T24*PCUs!$B$5 -> 0 | U24: =P24*5.75 -> 0
A25: =A24 -> 0.29166667 | B25: =C25*PCUs!$B$2+D25*PCUs!$B$3+E25*PCUs!$B$4+F25*PCUs!$B$5 -> 0 | G25: =B25*5.75 -> 0 | H25: =H24 -> 0.29166667 | I25: =J25*PCUs!$B$2+K25*PCUs!$B$3+L25*PCUs!$B$4+M25*PCUs!$B$5 -> 0 | N25: =I25*5.75 -> 0 | O25: =O24 -> 0.29166667 | P25: =Q25*PCUs!$B$2+R25*PCUs!$B$3+S25*PCUs!$B$4+T25*PCUs!$B$5 -> 0 | U25: =P25*5.75 -> 0
A26: =A25 -> 0.29166667 | B26: =C26*PCUs!$B$2+D26*PCUs!$B$3+E26*PCUs!$B$4+F26*PCUs!$B$5 -> 0 | G26: =B26*5.75 -> 0 | H26: =H25 -> 0.29166667 | I26: =J26*PCUs!$B$2+K26*PCUs!$B$3+L26*PCUs!$B$4+M26*PCUs!$B$5 -> 0 | N26: =I26*5.75 -> 0 | O26: =O25 -> 0.29166667 | P26: =Q26*PCUs!$B$2+R26*PCUs!$B$3+S26*PCUs!$B$4+T26*PCUs!$B$5 -> 0 | U26: =P26*5.75 -> 0
A27: =A26 -> 0.29166667 | B27: =C27*PCUs!$B$2+D27*PCUs!$B$3+E27*PCUs!$B$4+F27*PCUs!$B$5 -> 0 | G27: =B27*5.75 -> 0 | H27: =H26 -> 0.29166667 | I27: =J27*PCUs!$B$2+K27*PCUs!$B$3+L27*PCUs!$B$4+M27*PCUs!$B$5 -> 0 | N27: =I27*5.75 -> 0 | O27: =O26 -> 0.29166667 | P27: =Q27*PCUs!$B$2+R27*PCUs!$B$3+S27*PCUs!$B$4+T27*PCUs!$B$5 -> 0 | U27: =P27*5.75 -> 0
A28: =A27 -> 0.29166667 | B28: =MAX(B16:B27) -> 11 | C28: =VLOOKUP(B28,B16:F27,2,FALSE) -> 11 | D28: =VLOOKUP(B28,B16:F27,3,FALSE) -> 0 | E28: =VLOOKUP(B28,B16:F27,4,FALSE) -> 0 | F28: =VLOOKUP(B28,B16:F27,5,FALSE) -> 0 | G28: =B28*5.75 -> 63.25 | H28: =H27 -> 0.29166667 | I28: =MAX(I16:I27) -> 5.5 | J28: =VLOOKUP(I28,I16:M27,2,FALSE) -> 4 | K28: =VLOOKUP(I28,I16:M27,3,FALSE) -> 1 | L28: =VLOOKUP(I28,I16:M27,4,FALSE) -> 0 | M28: =VLOOKUP(I28,I16:M27,5,FALSE) -> 0 | N28: =I28*5.75 -> 31.625 | O28: =O27 -> 0.29166667 | P28: =MAX(P16:P27) -> 1 | Q28: =VLOOKUP(P28,P16:T27,2,FALSE) -> 1 | R28: =VLOOKUP(P28,P16:T27,3,FALSE) -> 0 | S28: =VLOOKUP(P28,P16:T27,4,FALSE) -> 0 | T28: =VLOOKUP(P28,P16:T27,5,FALSE) -> 0 | U28: =P28*5.75 -> 5.75
A29: =A27+"00:05" -> 0.29513889 | B29: =C29*PCUs!$B$2+D29*PCUs!$B$3+E29*PCUs!$B$4+F29*PCUs!$B$5 -> 6.5 | C29: 5 | D29: 1 | E29: 0 | F29: 0 | G29: =B29*5.75 -> 37.375 | H29: =H27+"00:05" -> 0.29513889 | I29: =J29*PCUs!$B$2+K29*PCUs!$B$3+L29*PCUs!$B$4+M29*PCUs!$B$5 -> 11 | J29: 11 | K29: 0 | L29: 0 | M29: 0 | N29: =I29*5.75 -> 63.25 | O29: =O27+"00:05" -> 0.29513889 | P29: =Q29*PCUs!$B$2+R29*PCUs!$B$3+S29*PCUs!$B$4+T29*PCUs!$B$5 -> 0 | Q29: 0 | R29: 0 | S29: 0 | T29: 0 | U29: =P29*5.75 -> 0
A30: =A29 -> 0.29513889 | B30: =C30*PCUs!$B$2+D30*PCUs!$B$3+E30*PCUs!$B$4+F30*PCUs!$B$5 -> 9.5 | C30: 8 | D30: 1 | E30: 0 | F30: 0 | G30: =B30*5.75 -> 54.625 | H30: =H29 -> 0.29513889 | I30: =J30*PCUs!$B$2+K30*PCUs!$B$3+L30*PCUs!$B$4+M30*PCUs!$B$5 -> 5 | J30: 5 | K30: 0 | L30: 0 | M30: 0 | N30: =I30*5.75 -> 28.75 | O30: =O29 -> 0.29513889 | P30: =Q30*PCUs!$B$2+R30*PCUs!$B$3+S30*PCUs!$B$4+T30*PCUs!$B$5 -> 0 | Q30: 0 | R30: 0 | S30: 0 | T30: 0 | U30: =P30*5.75 -> 0
A31: =A30 -> 0.29513889 | B31: =C31*PCUs!$B$2+D31*PCUs!$B$3+E31*PCUs!$B$4+F31*PCUs!$B$5 -> 0 | C31: 0 | D31: 0 | E31: 0 | F31: 0 | G31: =B31*5.75 -> 0 | H31: =H30 -> 0.29513889 | I31: =J31*PCUs!$B$2+K31*PCUs!$B$3+L31*PCUs!$B$4+M31*PCUs!$B$5 -> 0 | J31: 0 | K31: 0 | L31: 0 | M31: 0 | N31: =I31*5.75 -> 0 | O31: =O30 -> 0.29513889 | P31: =Q31*PCUs!$B$2+R31*PCUs!$B$3+S31*PCUs!$B$4+T31*PCUs!$B$5 -> 0 | Q31: 0 | R31: 0 | S31: 0 | T31: 0 | U31: =P31*5.75 -> 0
A32: =A31 -> 0.29513889 | B32: =C32*PCUs!$B$2+D32*PCUs!$B$3+E32*PCUs!$B$4+F32*PCUs!$B$5 -> 3 | C32: 3 | D32: 0 | E32: 0 | F32: 0 | G32: =B32*5.75 -> 17.25 | H32: =H31 -> 0.29513889 | I32: =J32*PCUs!$B$2+K32*PCUs!$B$3+L32*PCUs!$B$4+M32*PCUs!$B$5 -> 1 | J32: 1 | K32: 0 | L32: 0 | M32: 0 | N32: =I32*5.75 -> 5.75 | O32: =O31 -> 0.29513889 | P32: =Q32*PCUs!$B$2+R32*PCUs!$B$3+S32*PCUs!$B$4+T32*PCUs!$B$5 -> 2 | Q32: 2 | R32: 0 | S32: 0 | T32: 0 | U32: =P32*5.75 -> 11.5
A33: =A32 -> 0.29513889 | B33: =C33*PCUs!$B$2+D33*PCUs!$B$3+E33*PCUs!$B$4+F33*PCUs!$B$5 -> 1 | C33: 1 | D33: 0 | E33: 0 | F33: 0 | G33: =B33*5.75 -> 5.75 | H33: =H32 -> 0.29513889 | I33: =J33*PCUs!$B$2+K33*PCUs!$B$3+L33*PCUs!$B$4+M33*PCUs!$B$5 -> 0 | J33: 0 | K33: 0 | L33: 0 | M33: 0 | N33: =I33*5.75 -> 0 | O33: =O32 -> 0.29513889 | P33: =Q33*PCUs!$B$2+R33*PCUs!$B$3+S33*PCUs!$B$4+T33*PCUs!$B$5 -> 0 | Q33: 0 | R33: 0 | S33: 0 | T33: 0 | U33: =P33*5.75 -> 0
A34: =A33 -> 0.29513889 | B34: =C34*PCUs!$B$2+D34*PCUs!$B$3+E34*PCUs!$B$4+F34*PCUs!$B$5 -> 4 | C34: 4 | D34: 0 | E34: 0 | F34: 0 | G34: =B34*5.75 -> 23 | H34: =H33 -> 0.29513889 | I34: =J34*PCUs!$B$2+K34*PCUs!$B$3+L34*PCUs!$B$4+M34*PCUs!$B$5 -> 2 | J34: 2 | K34: 0 | L34: 0 | M34: 0 | N34: =I34*5.75 -> 11.5 | O34: =O33 -> 0.29513889 | P34: =Q34*PCUs!$B$2+R34*PCUs!$B$3+S34*PCUs!$B$4+T34*PCUs!$B$5 -> 2 | Q34: 2 | R34: 0 | S34: 0 | T34: 0 | U34: =P34*5.75 -> 11.5
A35: =A34 -> 0.29513889 | B35: =C35*PCUs!$B$2+D35*PCUs!$B$3+E35*PCUs!$B$4+F35*PCUs!$B$5 -> 1 | C35: 1 | D35: 0 | E35: 0 | F35: 0 | G35: =B35*5.75 -> 5.75 | H35: =H34 -> 0.29513889 | I35: =J35*PCUs!$B$2+K35*PCUs!$B$3+L35*PCUs!$B$4+M35*PCUs!$B$5 -> 6 | J35: 6 | K35: 0 | L35: 0 | M35: 0 | N35: =I35*5.75 -> 34.5 | O35: =O34 -> 0.29513889 | P35: =Q35*PCUs!$B$2+R35*PCUs!$B$3+S35*PCUs!$B$4+T35*PCUs!$B$5 -> 0 | Q35: 0 | R35: 0 | S35: 0 | T35: 0 | U35: =P35*5.75 -> 0
A36: =A35 -> 0.29513889 | B36: =C36*PCUs!$B$2+D36*PCUs!$B$3+E36*PCUs!$B$4+F36*PCUs!$B$5 -> 0 | G36: =B36*5.75 -> 0 | H36: =H35 -> 0.29513889 | I36: =J36*PCUs!$B$2+K36*PCUs!$B$3+L36*PCUs!$B$4+M36*PCUs!$B$5 -> 0 | N36: =I36*5.75 -> 0 | O36: =O35 -> 0.29513889 | P36: =Q36*PCUs!$B$2+R36*PCUs!$B$3+S36*PCUs!$B$4+T36*PCUs!$B$5 -> 0 | U36: =P36*5.75 -> 0
A37: =A36 -> 0.29513889 | B37: =C37*PCUs!$B$2+D37*PCUs!$B$3+E37*PCUs!$B$4+F37*PCUs!$B$5 -> 0 | G37: =B37*5.75 -> 0 | H37: =H36 -> 0.29513889 | I37: =J37*PCUs!$B$2+K37*PCUs!$B$3+L37*PCUs!$B$4+M37*PCUs!$B$5 -> 0 | N37: =I37*5.75 -> 0 | O37: =O36 -> 0.29513889 | P37: =Q37*PCUs!$B$2+R37*PCUs!$B$3+S37*PCUs!$B$4+T37*PCUs!$B$5 -> 0 | U37: =P37*5.75 -> 0
A38: =A37 -> 0.29513889 | B38: =C38*PCUs!$B$2+D38*PCUs!$B$3+E38*PCUs!$B$4+F38*PCUs!$B$5 -> 0 | G38: =B38*5.75 -> 0 | H38: =H37 -> 0.29513889 | I38: =J38*PCUs!$B$2+K38*PCUs!$B$3+L38*PCUs!$B$4+M38*PCUs!$B$5 -> 0 | N38: =I38*5.75 -> 0 | O38: =O37 -> 0.29513889 | P38: =Q38*PCUs!$B$2+R38*PCUs!$B$3+S38*PCUs!$B$4+T38*PCUs!$B$5 -> 0 | U38: =P38*5.75 -> 0
A39: =A38 -> 0.29513889 | B39: =C39*PCUs!$B$2+D39*PCUs!$B$3+E39*PCUs!$B$4+F39*PCUs!$B$5 -> 0 | G39: =B39*5.75 -> 0 | H39: =H38 -> 0.29513889 | I39: =J39*PCUs!$B$2+K39*PCUs!$B$3+L39*PCUs!$B$4+M39*PCUs!$B$5 -> 0 | N39: =I39*5.75 -> 0 | O39: =O38 -> 0.29513889 | P39: =Q39*PCUs!$B$2+R39*PCUs!$B$3+S39*PCUs!$B$4+T39*PCUs!$B$5 -> 0 | U39: =P39*5.75 -> 0
A40: =A39 -> 0.29513889 | B40: =C40*PCUs!$B$2+D40*PCUs!$B$3+E40*PCUs!$B$4+F40*PCUs!$B$5 -> 0 | G40: =B40*5.75 -> 0 | H40: =H39 -> 0.29513889 | I40: =J40*PCUs!$B$2+K40*PCUs!$B$3+L40*PCUs!$B$4+M40*PCUs!$B$5 -> 0 | N40: =I40*5.75 -> 0 | O40: =O39 -> 0.29513889 | P40: =Q40*PCUs!$B$2+R40*PCUs!$B$3+S40*PCUs!$B$4+T40*PCUs!$B$5 -> 0 | U40: =P40*5.75 -> 0
A41: =A40 -> 0.29513889 | B41: =MAX(B29:B40) -> 9.5 | C41: =VLOOKUP(B41,B29:F40,2,FALSE) -> 8 | D41: =VLOOKUP(B41,B29:F40,3,FALSE) -> 1 | E41: =VLOOKUP(B41,B29:F40,4,FALSE) -> 0 | F41: =VLOOKUP(B41,B29:F40,5,FALSE) -> 0 | G41: =B41*5.75 -> 54.625 | H41: =H40 -> 0.29513889 | I41: =MAX(I29:I40) -> 11 | J41: =VLOOKUP(I41,I29:M40,2,FALSE) -> 11 | K41: =VLOOKUP(I41,I29:M40,3,FALSE) -> 0 | L41: =VLOOKUP(I41,I29:M40,4,FALSE) -> 0 | M41: =VLOOKUP(I41,I29:M40,5,FALSE) -> 0 | N41: =I41*5.75 -> 63.25 | O41: =O40 -> 0.29513889 | P41: =MAX(P29:P40) -> 2 | Q41: =VLOOKUP(P41,P29:T40,2,FALSE) -> 2 | R41: =VLOOKUP(P41,P29:T40,3,FALSE) -> 0 | S41: =VLOOKUP(P41,P29:T40,4,FALSE) -> 0 | T41: =VLOOKUP(P41,P29:T40,5,FALSE) -> 0 | U41: =P41*5.75 -> 11.5
A42: =A40+"00:05" -> 0.29861111 | B42: =C42*PCUs!$B$2+D42*PCUs!$B$3+E42*PCUs!$B$4+F42*PCUs!$B$5 -> 4 | C42: 4 | D42: 0 | E42: 0 | F42: 0 | G42: =B42*5.75 -> 23 | H42: =H40+"00:05" -> 0.29861111 | I42: =J42*PCUs!$B$2+K42*PCUs!$B$3+L42*PCUs!$B$4+M42*PCUs!$B$5 -> 4 | J42: 4 | K42: 0 | L42: 0 | M42: 0 | N42: =I42*5.75 -> 23 | O42: =O40+"00:05" -> 0.29861111 | P42: =Q42*PCUs!$B$2+R42*PCUs!$B$3+S42*PCUs!$B$4+T42*PCUs!$B$5 -> 0 | Q42: 0 | R42: 0 | S42: 0 | T42: 0 | U42: =P42*5.75 -> 0
A43: =A42 -> 0.29861111 | B43: =C43*PCUs!$B$2+D43*PCUs!$B$3+E43*PCUs!$B$4+F43*PCUs!$B$5 -> 4.5 | C43: 3 | D43: 1 | E43: 0 | F43: 0 | G43: =B43*5.75 -> 25.875 | H43: =H42 -> 0.29861111 | I43: =J43*PCUs!$B$2+K43*PCUs!$B$3+L43*PCUs!$B$4+M43*PCUs!$B$5 -> 1 | J43: 1 | K43: 0 | L43: 0 | M43: 0 | N43: =I43*5.75 -> 5.75 | O43: =O42 -> 0.29861111 | P43: =Q43*PCUs!$B$2+R43*PCUs!$B$3+S43*PCUs!$B$4+T43*PCUs!$B$5 -> 0 | Q43: 0 | R43: 0 | S43: 0 | T43: 0 | U43: =P43*5.75 -> 0
A44: =A43 -> 0.29861111 | B44: =C44*PCUs!$B$2+D44*PCUs!$B$3+E44*PCUs!$B$4+F44*PCUs!$B$5 -> 1 | C44: 1 | D44: 0 | E44: 0 | F44: 0 | G44: =B44*5.75 -> 5.75 | H44: =H43 -> 0.29861111 | I44: =J44*PCUs!$B$2+K44*PCUs!$B$3+L44*PCUs!$B$4+M44*PCUs!$B$5 -> 0 | J44: 0 | K44: 0 | L44: 0 | M44: 0 | N44: =I44*5.75 -> 0 | O44: =O43 -> 0.29861111 | P44: =Q44*PCUs!$B$2+R44*PCUs!$B$3+S44*PCUs!$B$4+T44*PCUs!$B$5 -> 1 | Q44: 1 | R44: 0 | S44: 0 | T44: 0 | U44: =P44*5.75 -> 5.75
