Workbook
Name car: #REF!
Name car: #REF!
Name car: #REF!
Name car: #REF!
Name car: #REF!
Name car: #REF!
Name car: #REF!
Name car: #REF!
Name car: #REF!
Name car: #REF!
Name coach: #REF!
Name coach: #REF!
Name coach: #REF!
Name coach: #REF!
Name coach: #REF!
Name coach: #REF!
Name coach: #REF!
Name coach: #REF!
Name coach: #REF!
Name coach: #REF!
Name lgv: #REF!
Name lgv: #REF!
Name lgv: #REF!
Name lgv: #REF!
Name lgv: #REF!
Name lgv: #REF!
Name lgv: #REF!
Name lgv: #REF!
Name lgv: #REF!
Name lgv: #REF!
Name mcl: #REF!
Name mcl: #REF!
Name mcl: #REF!
Name mcl: #REF!
Name mcl: #REF!
Name mcl: #REF!
Name mcl: #REF!
Name mcl: #REF!
Name mcl: #REF!
Name mcl: #REF!
Name NEW: #REF!
Name NEW: #REF!
Name NEW: #REF!
Name NEW: #REF!
Name NEW: #REF!
Name NEW: #REF!
Name NEW: #REF!
Name NEW: #REF!
Name NEW: #REF!
Name NEW: #REF!
Name ogva: #REF!
Name ogva: #REF!
Name ogva: #REF!
Name ogva: #REF!
Name ogva: #REF!
Name ogva: #REF!
Name ogva: #REF!
Name ogva: #REF!
Name ogva: #REF!
Name ogva: #REF!

Sheet Site 4 Diagram
D36: Site / Location: | F36: Site 4, Stoneham Interchange | M36: Project No: | N36: 16367 | O36: Drawing No: | Q36: 16367-03 | S36: Drawn By: | T36: BVR
D38: Survey Date: | F38: Thursday 13th February 2025 | M38: Project Name: | O38: SOUTHAMPTON
D40: Survey Times: | F40: 07:00 to 10:00 & 16:00 to 19:00 | M40: Drawing Title: | O40: Site Layout and Observed Movements

Sheet Site 4 Arm A
U2: 16367 / SOUTHAMPTON
U3: =UPPER(TEXT(U8,"mMmm yyyy")) -> FEBRUARY 2025
U4: QUEUE LENGTH SURVEY
A8: SITE: | C8: 4 | T8: DATE: | U8: 45701
A10: LOCATION: | C10: Stoneham Interchange | T10: DAY: | U10: =UPPER(TEXT(U8,"dddd")) -> THURSDAY
A12: ANALYSIS: All queues in each 5 minute period at the start of the green phase.
A14: Arm A - Lane 1 | H14: Arm A - Lane 2 | O14: Arm A - Lane 3
A15: Time | B15: Total | C15: Cars | D15: OGV1 | E15: OGV2 | F15: PSV | G15: Metres | H15: Time | I15: Total | J15: Cars | K15: OGV1 | L15: OGV2 | M15: PSV | N15: Metres | O15: Time | P15: Total | Q15: Cars | R15: OGV1 | S15: OGV2 | T15: PSV | U15: Metres
A16: 0.29166667 | B16: =C16*PCUs!$B$2+D16*PCUs!$B$3+E16*PCUs!$B$4+F16*PCUs!$B$5 -> 0 | G16: =B16*5.75 -> 0 | H16: 0.29166667 | I16: =J16*PCUs!$B$2+K16*PCUs!$B$3+L16*PCUs!$B$4+M16*PCUs!$B$5 -> 5 | J16: 5 | K16: 0 | L16: 0 | M16: 0 | N16: =I16*5.75 -> 28.75 | O16: 0.29166667 | P16: =Q16*PCUs!$B$2+R16*PCUs!$B$3+S16*PCUs!$B$4+T16*PCUs!$B$5 -> 3 | Q16: 3 | R16: 0 | S16: 0 | T16: 0 | U16: =P16*5.75 -> 17.25
A17: =A16 -> 0.29166667 | B17: =C17*PCUs!$B$2+D17*PCUs!$B$3+E17*PCUs!$B$4+F17*PCUs!$B$5 -> 0 | G17: =B17*5.75 -> 0 | H17: =H16 -> 0.29166667 | I17: =J17*PCUs!$B$2+K17*PCUs!$B$3+L17*PCUs!$B$4+M17*PCUs!$B$5 -> 3 | J17: 3 | K17: 0 | L17: 0 | M17: 0 | N17: =I17*5.75 -> 17.25 | O17: =O16 -> 0.29166667 | P17: =Q17*PCUs!$B$2+R17*PCUs!$B$3+S17*PCUs!$B$4+T17*PCUs!$B$5 -> 1 | Q17: 1 | R17: 0 | S17: 0 | T17: 0 | U17: =P17*5.75 -> 5.75
A18: =A17 -> 0.29166667 | B18: =C18*PCUs!$B$2+D18*PCUs!$B$3+E18*PCUs!$B$4+F18*PCUs!$B$5 -> 0 | G18: =B18*5.75 -> 0 | H18: =H17 -> 0.29166667 | I18: =J18*PCUs!$B$2+K18*PCUs!$B$3+L18*PCUs!$B$4+M18*PCUs!$B$5 -> 3 | J18: 3 | K18: 0 | L18: 0 | M18: 0 | N18: =I18*5.75 -> 17.25 | O18: =O17 -> 0.29166667 | P18: =Q18*PCUs!$B$2+R18*PCUs!$B$3+S18*PCUs!$B$4+T18*PCUs!$B$5 -> 1 | Q18: 1 | R18: 0 | S18: 0 | T18: 0 | U18: =P18*5.75 -> 5.75
A19: =A18 -> 0.29166667 | B19: =C19*PCUs!$B$2+D19*PCUs!$B$3+E19*PCUs!$B$4+F19*PCUs!$B$5 -> 0 | G19: =B19*5.75 -> 0 | H19: =H18 -> 0.29166667 | I19: =J19*PCUs!$B$2+K19*PCUs!$B$3+L19*PCUs!$B$4+M19*PCUs!$B$5 -> 5.3 | J19: 3 | K19: 0 | L19: 1 | M19: 0 | N19: =I19*5.75 -> 30.475 | O19: =O18 -> 0.29166667 | P19: =Q19*PCUs!$B$2+R19*PCUs!$B$3+S19*PCUs!$B$4+T19*PCUs!$B$5 -> 3 | Q19: 3 | R19: 0 | S19: 0 | T19: 0 | U19: =P19*5.75 -> 17.25
A20: =A19 -> 0.29166667 | B20: =C20*PCUs!$B$2+D20*PCUs!$B$3+E20*PCUs!$B$4+F20*PCUs!$B$5 -> 0 | G20: =B20*5.75 -> 0 | H20: =H19 -> 0.29166667 | I20: =J20*PCUs!$B$2+K20*PCUs!$B$3+L20*PCUs!$B$4+M20*PCUs!$B$5 -> 0 | N20: =I20*5.75 -> 0 | O20: =O19 -> 0.29166667 | P20: =Q20*PCUs!$B$2+R20*PCUs!$B$3+S20*PCUs!$B$4+T20*PCUs!$B$5 -> 0 | U20: =P20*5.75 -> 0
A21: =A20 -> 0.29166667 | B21: =C21*PCUs!$B$2+D21*PCUs!$B$3+E21*PCUs!$B$4+F21*PCUs!$B$5 -> 0 | G21: =B21*5.75 -> 0 | H21: =H20 -> 0.29166667 | I21: =J21*PCUs!$B$2+K21*PCUs!$B$3+L21*PCUs!$B$4+M21*PCUs!$B$5 -> 0 | N21: =I21*5.75 -> 0 | O21: =O20 -> 0.29166667 | P21: =Q21*PCUs!$B$2+R21*PCUs!$B$3+S21*PCUs!$B$4+T21*PCUs!$B$5 -> 0 | U21: =P21*5.75 -> 0
A22: =A21 -> 0.29166667 | B22: =C22*PCUs!$B$2+D22*PCUs!$B$3+E22*PCUs!$B$4+F22*PCUs!$B$5 -> 0 | G22: =B22*5.75 -> 0 | H22: =H21 -> 0.29166667 | I22: =J22*PCUs!$B$2+K22*PCUs!$B$3+L22*PCUs!$B$4+M22*PCUs!$B$5 -> 0 | N22: =I22*5.75 -> 0 | O22: =O21 -> 0.29166667 | P22: =Q22*PCUs!$B$2+R22*PCUs!$B$3+S22*PCUs!$B$4+T22*PCUs!$B$5 -> 0 | U22: =P22*5.75 -> 0
A23: =A22 -> 0.29166667 | B23: =C23*PCUs!$B$2+D23*PCUs!$B$3+E23*PCUs!$B$4+F23*PCUs!$B$5 -> 0 | G23: =B23*5.75 -> 0 | H23: =H22 -> 0.29166667 | I23: =J23*PCUs!$B$2+K23*PCUs!$B$3+L23*PCUs!$B$4+M23*PCUs!$B$5 -> 0 | N23: =I23*5.75 -> 0 | O23: =O22 -> 0.29166667 | P23: =Q23*PCUs!$B$2+R23*PCUs!$B$3+S23*PCUs!$B$4+T23*PCUs!$B$5 -> 0 | U23: =P23*5.75 -> 0
A24: =A23 -> 0.29166667 | B24: =C24*PCUs!$B$2+D24*PCUs!$B$3+E24*PCUs!$B$4+F24*PCUs!$B$5 -> 0 | G24: =B24*5.75 -> 0 | H24: =H23 -> 0.29166667 | I24: =J24*PCUs!$B$2+K24*PCUs!$B$3+L24*PCUs!$B$4+M24*PCUs!$B$5 -> 0 | N24: =I24*5.75 -> 0 | O24: =O23 -> 0.29166667 | P24: =Q24*PCUs!$B$2+R24*PCUs!$B$3+S24*PCUs!$B$4+T24*PCUs!$B$5 -> 0 | U24: =P24*5.75 -> 0
A25: =A24 -> 0.29166667 | B25: =C25*PCUs!$B$2+D25*PCUs!$B$3+E25*PCUs!$B$4+F25*PCUs!$B$5 -> 0 | G25: =B25*5.75 -> 0 | H25: =H24 -> 0.29166667 | I25: =J25*PCUs!$B$2+K25*PCUs!$B$3+L25*PCUs!$B$4+M25*PCUs!$B$5 -> 0 | N25: =I25*5.75 -> 0 | O25: =O24 -> 0.29166667 | P25: =Q25*PCUs!$B$2+R25*PCUs!$B$3+S25*PCUs!$B$4+T25*PCUs!$B$5 -> 0 | U25: =P25*5.75 -> 0
A26: =A25 -> 0.29166667 | B26: =C26*PCUs!$B$2+D26*PCUs!$B$3+E26*PCUs!$B$4+F26*PCUs!$B$5 -> 0 | G26: =B26*5.75 -> 0 | H26: =H25 -> 0.29166667 | I26: =J26*PCUs!$B$2+K26*PCUs!$B$3+L26*PCUs!$B$4+M26*PCUs!$B$5 -> 0 | N26: =I26*5.75 -> 0 | O26: =O25 -> 0.29166667 | P26: =Q26*PCUs!$B$2+R26*PCUs!$B$3+S26*PCUs!$B$4+T26*PCUs!$B$5 -> 0 | U26: =P26*5.75 -> 0
A27: =A26 -> 0.29166667 | B27: =C27*PCUs!$B$2+D27*PCUs!$B$3+E27*PCUs!$B$4+F27*PCUs!$B$5 -> 0 | G27: =B27*5.75 -> 0 | H27: =H26 -> 0.29166667 | I27: =J27*PCUs!$B$2+K27*PCUs!$B$3+L27*PCUs!$B$4+M27*PCUs!$B$5 -> 0 | N27: =I27*5.75 -> 0 | O27: =O26 -> 0.29166667 | P27: =Q27*PCUs!$B$2+R27*PCUs!$B$3+S27*PCUs!$B$4+T27*PCUs!$B$5 -> 0 | U27: =P27*5.75 -> 0
A28: =A27 -> 0.29166667 | B28: =MAX(B16:B27) -> 0 | C28: =VLOOKUP(B28,B16:F27,2,FALSE) -> 0 | D28: =VLOOKUP(B28,B16:F27,3,FALSE) -> 0 | E28: =VLOOKUP(B28,B16:F27,4,FALSE) -> 0 | F28: =VLOOKUP(B28,B16:F27,5,FALSE) -> 0 | G28: =B28*5.75 -> 0 | H28: =H27 -> 0.29166667 | I28: =MAX(I16:I27) -> 5.3 | J28: =VLOOKUP(I28,I16:M27,2,FALSE) -> 3 | K28: =VLOOKUP(I28,I16:M27,3,FALSE) -> 0 | L28: =VLOOKUP(I28,I16:M27,4,FALSE) -> 1 | M28: =VLOOKUP(I28,I16:M27,5,FALSE) -> 0 | N28: =I28*5.75 -> 30.475 | O28: =O27 -> 0.29166667 | P28: =MAX(P16:P27) -> 3 | Q28: =VLOOKUP(P28,P16:T27,2,FALSE) -> 3 | R28: =VLOOKUP(P28,P16:T27,3,FALSE) -> 0 | S28: =VLOOKUP(P28,P16:T27,4,FALSE) -> 0 | T28: =VLOOKUP(P28,P16:T27,5,FALSE) -> 0 | U28: =P28*5.75 -> 17.25
A29: =A27+"00:05" -> 0.29513889 | B29: =C29*PCUs!$B$2+D29*PCUs!$B$3+E29*PCUs!$B$4+F29*PCUs!$B$5 -> 0 | G29: =B29*5.75 -> 0 | H29: =H27+"00:05" -> 0.29513889 | I29: =J29*PCUs!$B$2+K29*PCUs!$B$3+L29*PCUs!$B$4+M29*PCUs!$B$5 -> 3 | J29: 3 | K29: 0 | L29: 0 | M29: 0 | N29: =I29*5.75 -> 17.25 | O29: =O27+"00:05" -> 0.29513889 | P29: =Q29*PCUs!$B$2+R29*PCUs!$B$3+S29*PCUs!$B$4+T29*PCUs!$B$5 -> 1 | Q29: 1 | R29: 0 | S29: 0 | T29: 0 | U29: =P29*5.75 -> 5.75
A30: =A29 -> 0.29513889 | B30: =C30*PCUs!$B$2+D30*PCUs!$B$3+E30*PCUs!$B$4+F30*PCUs!$B$5 -> 0 | G30: =B30*5.75 -> 0 | H30: =H29 -> 0.29513889 | I30: =J30*PCUs!$B$2+K30*PCUs!$B$3+L30*PCUs!$B$4+M30*PCUs!$B$5 -> 1 | J30: 1 | K30: 0 | L30: 0 | M30: 0 | N30: =I30*5.75 -> 5.75 | O30: =O29 -> 0.29513889 | P30: =Q30*PCUs!$B$2+R30*PCUs!$B$3+S30*PCUs!$B$4+T30*PCUs!$B$5 -> 4 | Q30: 4 | R30: 0 | S30: 0 | T30: 0 | U30: =P30*5.75 -> 23
A31: =A30 -> 0.29513889 | B31: =C31*PCUs!$B$2+D31*PCUs!$B$3+E31*PCUs!$B$4+F31*PCUs!$B$5 -> 0 | G31: =B31*5.75 -> 0 | H31: =H30 -> 0.29513889 | I31: =J31*PCUs!$B$2+K31*PCUs!$B$3+L31*PCUs!$B$4+M31*PCUs!$B$5 -> 3 | J31: 3 | K31: 0 | L31: 0 | M31: 0 | N31: =I31*5.75 -> 17.25 | O31: =O30 -> 0.29513889 | P31: =Q31*PCUs!$B$2+R31*PCUs!$B$3+S31*PCUs!$B$4+T31*PCUs!$B$5 -> 4 | Q31: 4 | R31: 0 | S31: 0 | T31: 0 | U31: =P31*5.75 -> 23
A32: =A31 -> 0.29513889 | B32: =C32*PCUs!$B$2+D32*PCUs!$B$3+E32*PCUs!$B$4+F32*PCUs!$B$5 -> 0 | G32: =B32*5.75 -> 0 | H32: =H31 -> 0.29513889 | I32: =J32*PCUs!$B$2+K32*PCUs!$B$3+L32*PCUs!$B$4+M32*PCUs!$B$5 -> 6.8 | J32: 3 | K32: 1 | L32: 1 | M32: 0 | N32: =I32*5.75 -> 39.1 | O32: =O31 -> 0.29513889 | P32: =Q32*PCUs!$B$2+R32*PCUs!$B$3+S32*PCUs!$B$4+T32*PCUs!$B$5 -> 0 | Q32: 0 | R32: 0 | S32: 0 | T32: 0 | U32: =P32*5.75 -> 0
A33: =A32 -> 0.29513889 | B33: =C33*PCUs!$B$2+D33*PCUs!$B$3+E33*PCUs!$B$4+F33*PCUs!$B$5 -> 0 | G33: =B33*5.75 -> 0 | H33: =H32 -> 0.29513889 | I33: =J33*PCUs!$B$2+K33*PCUs!$B$3+L33*PCUs!$B$4+M33*PCUs!$B$5 -> 4.5 | J33: 3 | K33: 1 | L33: 0 | M33: 0 | N33: =I33*5.75 -> 25.875 | O33: =O32 -> 0.29513889 | P33: =Q33*PCUs!$B$2+R33*PCUs!$B$3+S33*PCUs!$B$4+T33*PCUs!$B$5 -> 0 | Q33: 0 | R33: 0 | S33: 0 | T33: 0 | U33: =P33*5.75 -> 0
A34: =A33 -> 0.29513889 | B34: =C34*PCUs!$B$2+D34*PCUs!$B$3+E34*PCUs!$B$4+F34*PCUs!$B$5 -> 0 | G34: =B34*5.75 -> 0 | H34: =H33 -> 0.29513889 | I34: =J34*PCUs!$B$2+K34*PCUs!$B$3+L34*PCUs!$B$4+M34*PCUs!$B$5 -> 6 | J34: 6 | K34: 0 | L34: 0 | M34: 0 | N34: =I34*5.75 -> 34.5 | O34: =O33 -> 0.29513889 | P34: =Q34*PCUs!$B$2+R34*PCUs!$B$3+S34*PCUs!$B$4+T34*PCUs!$B$5 -> 1 | Q34: 1 | R34: 0 | S34: 0 | T34: 0 | U34: =P34*5.75 -> 5.75
A35: =A34 -> 0.29513889 | B35: =C35*PCUs!$B$2+D35*PCUs!$B$3+E35*PCUs!$B$4+F35*PCUs!$B$5 -> 0 | G35: =B35*5.75 -> 0 | H35: =H34 -> 0.29513889 | I35: =J35*PCUs!$B$2+K35*PCUs!$B$3+L35*PCUs!$B$4+M35*PCUs!$B$5 -> 0 | N35: =I35*5.75 -> 0 | O35: =O34 -> 0.29513889 | P35: =Q35*PCUs!$B$2+R35*PCUs!$B$3+S35*PCUs!$B$4+T35*PCUs!$B$5 -> 0 | U35: =P35*5.75 -> 0
A36: =A35 -> 0.29513889 | B36: =C36*PCUs!$B$2+D36*PCUs!$B$3+E36*PCUs!$B$4+F36*PCUs!$B$5 -> 0 | G36: =B36*5.75 -> 0 | H36: =H35 -> 0.29513889 | I36: =J36*PCUs!$B$2+K36*PCUs!$B$3+L36*PCUs!$B$4+M36*PCUs!$B$5 -> 0 | N36: =I36*5.75 -> 0 | O36: =O35 -> 0.29513889 | P36: =Q36*PCUs!$B$2+R36*PCUs!$B$3+S36*PCUs!$B$4+T36*PCUs!$B$5 -> 0 | U36: =P36*5.75 -> 0
A37: =A36 -> 0.29513889 | B37: =C37*PCUs!$B$2+D37*PCUs!$B$3+E37*PCUs!$B$4+F37*PCUs!$B$5 -> 0 | G37: =B37*5.75 -> 0 | H37: =H36 -> 0.29513889 | I37: =J37*PCUs!$B$2+K37*PCUs!$B$3+L37*PCUs!$B$4+M37*PCUs!$B$5 -> 0 | N37: =I37*5.75 -> 0 | O37: =O36 -> 0.29513889 | P37: =Q37*PCUs!$B$2+R37*PCUs!$B$3+S37*PCUs!$B$4+T37*PCUs!$B$5 -> 0 | U37: =P37*5.75 -> 0
A38: =A37 -> 0.29513889 | B38: =C38*PCUs!$B$2+D38*PCUs!$B$3+E38*PCUs!$B$4+F38*PCUs!$B$5 -> 0 | G38: =B38*5.75 -> 0 | H38: =H37 -> 0.29513889 | I38: =J38*PCUs!$B$2+K38*PCUs!$B$3+L38*PCUs!$B$4+M38*PCUs!$B$5 -> 0 | N38: =I38*5.75 -> 0 | O38: =O37 -> 0.29513889 | P38: =Q38*PCUs!$B$2+R38*PCUs!$B$3+S38*PCUs!$B$4+T38*PCUs!$B$5 -> 0 | U38: =P38*5.75 -> 0
A39: =A38 -> 0.29513889 | B39: =C39*PCUs!$B$2+D39*PCUs!$B$3+E39*PCUs!$B$4+F39*PCUs!$B$5 -> 0 | G39: =B39*5.75 -> 0 | H39: =H38 -> 0.29513889 | I39: =J39*PCUs!$B$2+K39*PCUs!$B$3+L39*PCUs!$B$4+M39*PCUs!$B$5 -> 0 | N39: =I39*5.75 -> 0 | O39: =O38 -> 0.29513889 | P39: =Q39*PCUs!$B$2+R39*PCUs!$B$3+S39*PCUs!$B$4+T39*PCUs!$B$5 -> 0 | U39: =P39*5.75 -> 0
A40: =A39 -> 0.29513889 | B40: =C40*PCUs!$B$2+D40*PCUs!$B$3+E40*PCUs!$B$4+F40*PCUs!$B$5 -> 0 | G40: =B40*5.75 -> 0 | H40: =H39 -> 0.29513889 | I40: =J40*PCUs!$B$2+K40*PCUs!$B$3+L40*PCUs!$B$4+M40*PCUs!$B$5 -> 0 | N40: =I40*5.75 -> 0 | O40: =O39 -> 0.29513889 | P40: =Q40*PCUs!$B$2+R40*PCUs!$B$3+S40*PCUs!$B$4+T40*PCUs!$B$5 -> 0 | U40: =P40*5.75 -> 0
A41: =A40 -> 0.29513889 | B41: =MAX(B29:B40) -> 0 | C41: =VLOOKUP(B41,B29:F40,2,FALSE) -> 0 | D41: =VLOOKUP(B41,B29:F40,3,FALSE) -> 0 | E41: =VLOOKUP(B41,B29:F40,4,FALSE) -> 0 | F41: =VLOOKUP(B41,B29:F40,5,FALSE) -> 0 | G41: =B41*5.75 -> 0 | H41: =H40 -> 0.29513889 | I41: =MAX(I29:I40) -> 6.8 | J41: =VLOOKUP(I41,I29:M40,2,FALSE) -> 3 | K41: =VLOOKUP(I41,I29:M40,3,FALSE) -> 1 | L41: =VLOOKUP(I41,I29:M40,4,FALSE) -> 1 | M41: =VLOOKUP(I41,I29:M40,5,FALSE) -> 0 | N41: =I41*5.75 -> 39.1 | O41: =O40 -> 0.29513889 | P41: =MAX(P29:P40) -> 4 | Q41: =VLOOKUP(P41,P29:T40,2,FALSE) -> 4 | R41: =VLOOKUP(P41,P29:T40,3,FALSE) -> 0 | S41: =VLOOKUP(P41,P29:T40,4,FALSE) -> 0 | T41: =VLOOKUP(P41,P29:T40,5,FALSE) -> 0 | U41: =P41*5.75 -> 23
A42: =A40+"00:05" -> 0.29861111 | B42: =C42*PCUs!$B$2+D42*PCUs!$B$3+E42*PCUs!$B$4+F42*PCUs!$B$5 -> 0 | G42: =B42*5.75 -> 0 | H42: =H40+"00:05" -> 0.29861111 | I42: =J42*PCUs!$B$2+K42*PCUs!$B$3+L42*PCUs!$B$4+M42*PCUs!$B$5 -> 2 | J42: 2 | K42: 0 | L42: 0 | M42: 0 | N42: =I42*5.75 -> 11.5 | O42: =O40+"00:05" -> 0.29861111 | P42: =Q42*PCUs!$B$2+R42*PCUs!$B$3+S42*PCUs!$B$4+T42*PCUs!$B$5 -> 1 | Q42: 1 | R42: 0 | S42: 0 | T42: 0 | U42: =P42*5.75 -> 5.75
A43: =A42 -> 0.29861111 | B43: =C43*PCUs!$B$2+D43*PCUs!$B$3+E43*PCUs!$B$4+F43*PCUs!$B$5 -> 0 | G43: =B43*5.75 -> 0 | H43: =H42 -> 0.29861111 | I43: =J43*PCUs!$B$2+K43*PCUs!$B$3+L43*PCUs!$B$4+M43*PCUs!$B$5 -> 3.3 | J43: 1 | K43: 0 | L43: 1 | M43: 0 | N43: =I43*5.75 -> 18.975 | O43: =O42 -> 0.29861111 | P43: =Q43*PCUs!$B$2+R43*PCUs!$B$3+S43*PCUs!$B$4+T43*PCUs!$B$5 -> 5 | Q43: 5 | R43: 0 | S43: 0 | T43: 0 | U43: =P43*5.75 -> 28.75
A44: =A43 -> 0.29861111 | B44: =C44*PCUs!$B$2+D44*PCUs!$B$3+E44*PCUs!$B$4+F44*PCUs!$B$5 -> 0 | G44: =B44*5.75 -> 0 | H44: =H43 -> 0.29861111 | I44: =J44*PCUs!$B$2+K44*PCUs!$B$3+L44*PCUs!$B$4+M44*PCUs!$B$5 -> 3 | J44: 3 | K44: 0 | L44: 0 | M44: 0 | N44: =I44*5.75 -> 17.25 | O44: =O43 -> 0.29861111 | P44: =Q44*PCUs!$B$2+R44*PCUs!$B$3+S44*PCUs!$B$4+T44*PCUs!$B$5 -> 1 | Q44: 1 | R44: 0 | S44: 0 | T44: 0 | U44: =P44*5.75 -> 5.75
A45: =A44 -> 0.29861111 | B45: =C45*PCUs!$B$2+D45*PCUs!$B$3+E45*PCUs!$B$4+F45*PCUs!$B$5 -> 0 | G45: =B45*5.75 -> 0 | H45: =H44 -> 0.29861111 | I45: =J45*PCUs!$B$2+K45*PCUs!$B$3+L45*PCUs!$B$4+M45*PCUs!$B$5 -> 1 | J45: 1 | K45: 0 | L45: 0 | M45: 0 | N45: =I45*5.75 -> 5.75 | O45: =O44 -> 0.29861111 | P45: =Q45*PCUs!$B$2+R45*PCUs!$B$3+S45*PCUs!$B$4+T45*PCUs!$B$5 -> 1 | Q45: 1 | R45: 0 | S45: 0 | T45: 0 | U45: =P45*5.75 -> 5.75
A46: =A45 -> 0.29861111 | B46: =C46*PCUs!$B$2+D46*PCUs!$B$3+E46*PCUs!$B$4+F46*PCUs!$B$5 -> 0 | G46: =B46*5.75 -> 0 | H46: =H45 -> 0.29861111 | I46: =J46*PCUs!$B$2+K46*PCUs!$B$3+L46*PCUs!$B$4+M46*PCUs!$B$5 -> 3 | J46: 3 | K46: 0 | L46: 0 | M46: 0 | N46: =I46*5.75 -> 17.25 | O46: =O45 -> 0.29861111 | P46: =Q46*PCUs!$B$2+R46*PCUs!$B$3+S46*PCUs!$B$4+T46*PCUs!$B$5 -> 1 | Q46: 1 | R46: 0 | S46: 0 | T46: 0 | U46: =P46*5.75 -> 5.75
A47: =A46 -> 0.29861111 | B47: =C47*PCUs!$B$2+D47*PCUs!$B$3+E47*PCUs!$B$4+F47*PCUs!$B$5 -> 0 | G47: =B47*5.75 -> 0 | H47: =H46 -> 0.29861111 | I47: =J47*PCUs!$B$2+K47*PCUs!$B$3+L47*PCUs!$B$4+M47*PCUs!$B$5 -> 0 | J47: 0 | K47: 0 | L47: 0 | M47: 0 | N47: =I47*5.75 -> 0 | O47: =O46 -> 0.29861111 | P47: =Q47*PCUs!$B$2+R47*PCUs!$B$3+S47*PCUs!$B$4+T47*PCUs!$B$5 -> 0 | Q47: 0 | R47: 0 | S47: 0 | T47: 0 | U47: =P47*5.75 -> 0
...

Sheet Site 4 Arm B
U2: 16367 / SOUTHAMPTON
U3: =UPPER(TEXT(U8,"mMmm yyyy")) -> FEBRUARY 2025
U4: QUEUE LENGTH SURVEY
A8: SITE: | C8: 4 | T8: DATE: | U8: 45701
A10: LOCATION: | C10: Stoneham Interchange | T10: DAY: | U10: =UPPER(TEXT(U8,"dddd")) -> THURSDAY
A12: ANALYSIS: All queues in each 5 minute period at the start of the green phase.
A14: Arm B - Lane 1 | H14: Arm B - Lane 2 | O14: Arm B - Lane 3
A15: Time | B15: Total | C15: Cars | D15: OGV1 | E15: OGV2 | F15: PSV | G15: Metres | H15: Time | I15: Total | J15: Cars | K15: OGV1 | L15: OGV2 | M15: PSV | N15: Metres | O15: Time | P15: Total | Q15: Cars | R15: OGV1 | S15: OGV2 | T15: PSV | U15: Metres
A16: 0.29166667 | B16: =C16*PCUs!$B$2+D16*PCUs!$B$3+E16*PCUs!$B$4+F16*PCUs!$B$5 -> 3 | C16: 3 | D16: 0 | E16: 0 | F16: 0 | G16: =B16*5.75 -> 17.25 | H16: 0.29166667 | I16: =J16*PCUs!$B$2+K16*PCUs!$B$3+L16*PCUs!$B$4+M16*PCUs!$B$5 -> 2.5 | J16: 1 | K16: 1 | L16: 0 | M16: 0 | N16: =I16*5.75 -> 14.375 | O16: 0.29166667 | P16: =Q16*PCUs!$B$2+R16*PCUs!$B$3+S16*PCUs!$B$4+T16*PCUs!$B$5 -> 1 | Q16: 1 | R16: 0 | S16: 0 | T16: 0 | U16: =P16*5.75 -> 5.75
A17: =A16 -> 0.29166667 | B17: =C17*PCUs!$B$2+D17*PCUs!$B$3+E17*PCUs!$B$4+F17*PCUs!$B$5 -> 2 | C17: 2 | D17: 0 | E17: 0 | F17: 0 | G17: =B17*5.75 -> 11.5 | H17: =H16 -> 0.29166667 | I17: =J17*PCUs!$B$2+K17*PCUs!$B$3+L17*PCUs!$B$4+M17*PCUs!$B$5 -> 1 | J17: 1 | K17: 0 | L17: 0 | M17: 0 | N17: =I17*5.75 -> 5.75 | O17: =O16 -> 0.29166667 | P17: =Q17*PCUs!$B$2+R17*PCUs!$B$3+S17*PCUs!$B$4+T17*PCUs!$B$5 -> 0 | Q17: 0 | R17: 0 | S17: 0 | T17: 0 | U17: =P17*5.75 -> 0
A18: =A17 -> 0.29166667 | B18: =C18*PCUs!$B$2+D18*PCUs!$B$3+E18*PCUs!$B$4+F18*PCUs!$B$5 -> 8.3 | C18: 6 | D18: 0 | E18: 1 | F18: 0 | G18: =B18*5.75 -> 47.725 | H18: =H17 -> 0.29166667 | I18: =J18*PCUs!$B$2+K18*PCUs!$B$3+L18*PCUs!$B$4+M18*PCUs!$B$5 -> 4 | J18: 4 | K18: 0 | L18: 0 | M18: 0 | N18: =I18*5.75 -> 23 | O18: =O17 -> 0.29166667 | P18: =Q18*PCUs!$B$2+R18*PCUs!$B$3+S18*PCUs!$B$4+T18*PCUs!$B$5 -> 0 | Q18: 0 | R18: 0 | S18: 0 | T18: 0 | U18: =P18*5.75 -> 0
A19: =A18 -> 0.29166667 | B19: =C19*PCUs!$B$2+D19*PCUs!$B$3+E19*PCUs!$B$4+F19*PCUs!$B$5 -> 16.5 | C19: 15 | D19: 1 | E19: 0 | F19: 0 | G19: =B19*5.75 -> 94.875 | H19: =H18 -> 0.29166667 | I19: =J19*PCUs!$B$2+K19*PCUs!$B$3+L19*PCUs!$B$4+M19*PCUs!$B$5 -> 5 | J19: 5 | K19: 0 | L19: 0 | M19: 0 | N19: =I19*5.75 -> 28.75 | O19: =O18 -> 0.29166667 | P19: =Q19*PCUs!$B$2+R19*PCUs!$B$3+S19*PCUs!$B$4+T19*PCUs!$B$5 -> 0 | Q19: 0 | R19: 0 | S19: 0 | T19: 0 | U19: =P19*5.75 -> 0
A20: =A19 -> 0.29166667 | B20: =C20*PCUs!$B$2+D20*PCUs!$B$3+E20*PCUs!$B$4+F20*PCUs!$B$5 -> 14.5 | C20: 13 | D20: 1 | E20: 0 | F20: 0 | G20: =B20*5.75 -> 83.375 | H20: =H19 -> 0.29166667 | I20: =J20*PCUs!$B$2+K20*PCUs!$B$3+L20*PCUs!$B$4+M20*PCUs!$B$5 -> 0 | J20: 0 | K20: 0 | L20: 0 | M20: 0 | N20: =I20*5.75 -> 0 | O20: =O19 -> 0.29166667 | P20: =Q20*PCUs!$B$2+R20*PCUs!$B$3+S20*PCUs!$B$4+T20*PCUs!$B$5 -> 0 | Q20: 0 | R20: 0 | S20: 0 | T20: 0 | U20: =P20*5.75 -> 0
A21: =A20 -> 0.29166667 | B21: =C21*PCUs!$B$2+D21*PCUs!$B$3+E21*PCUs!$B$4+F21*PCUs!$B$5 -> 15 | C21: 15 | D21: 0 | E21: 0 | F21: 0 | G21: =B21*5.75 -> 86.25 | H21: =H20 -> 0.29166667 | I21: =J21*PCUs!$B$2+K21*PCUs!$B$3+L21*PCUs!$B$4+M21*PCUs!$B$5 -> 1 | J21: 1 | K21: 0 | L21: 0 | M21: 0 | N21: =I21*5.75 -> 5.75 | O21: =O20 -> 0.29166667 | P21: =Q21*PCUs!$B$2+R21*PCUs!$B$3+S21*PCUs!$B$4+T21*PCUs!$B$5 -> 1 | Q21: 1 | R21: 0 | S21: 0 | T21: 0 | U21: =P21*5.75 -> 5.75
A22: =A21 -> 0.29166667 | B22: =C22*PCUs!$B$2+D22*PCUs!$B$3+E22*PCUs!$B$4+F22*PCUs!$B$5 -> 0 | G22: =B22*5.75 -> 0 | H22: =H21 -> 0.29166667 | I22: =J22*PCUs!$B$2+K22*PCUs!$B$3+L22*PCUs!$B$4+M22*PCUs!$B$5 -> 0 | N22: =I22*5.75 -> 0 | O22: =O21 -> 0.29166667 | P22: =Q22*PCUs!$B$2+R22*PCUs!$B$3+S22*PCUs!$B$4+T22*PCUs!$B$5 -> 0 | U22: =P22*5.75 -> 0
A23: =A22 -> 0.29166667 | B23: =C23*PCUs!$B$2+D23*PCUs!$B$3+E23*PCUs!$B$4+F23*PCUs!$B$5 -> 0 | G23: =B23*5.75 -> 0 | H23: =H22 -> 0.29166667 | I23: =J23*PCUs!$B$2+K23*PCUs!$B$3+L23*PCUs!$B$4+M23*PCUs!$B$5 -> 0 | N23: =I23*5.75 -> 0 | O23: =O22 -> 0.29166667 | P23: =Q23*PCUs!$B$2+R23*PCUs!$B$3+S23*PCUs!$B$4+T23*PCUs!$B$5 -> 0 | U23: =P23*5.75 -> 0
A24: =A23 -> 0.29166667 | B24: =C24*PCUs!$B$2+D24*PCUs!$B$3+E24*PCUs!$B$4+F24*PCUs!$B$5 -> 0 | G24: =B24*5.75 -> 0 | H24: =H23 -> 0.29166667 | I24: =J24*PCUs!$B$2+K24*PCUs!$B$3+L24*PCUs!$B$4+M24*PCUs!$B$5 -> 0 | N24: =I24*5.75 -> 0 | O24: =O23 -> 0.29166667 | P24: =Q24*PCUs!$B$2+R24*PCUs!$B$3+S24*PCUs!$B$4+T24*PCUs!$B$5 -> 0 | U24: =P24*5.75 -> 0
A25: =A24 -> 0.29166667 | B25: =C25*PCUs!$B$2+D25*PCUs!$B$3+E25*PCUs!$B$4+F25*PCUs!$B$5 -> 0 | G25: =B25*5.75 -> 0 | H25: =H24 -> 0.29166667 | I25: =J25*PCUs!$B$2+K25*PCUs!$B$3+L25*PCUs!$B$4+M25*PCUs!$B$5 -> 0 | N25: =I25*5.75 -> 0 | O25: =O24 -> 0.29166667 | P25: =Q25*PCUs!$B$2+R25*PCUs!$B$3+S25*PCUs!$B$4+T25*PCUs!$B$5 -> 0 | U25: =P25*5.75 -> 0
A26: =A25 -> 0.29166667 | B26: =C26*PCUs!$B$2+D26*PCUs!$B$3+E26*PCUs!$B$4+F26*PCUs!$B$5 -> 0 | G26: =B26*5.75 -> 0 | H26: =H25 -> 0.29166667 | I26: =J26*PCUs!$B$2+K26*PCUs!$B$3+L26*PCUs!$B$4+M26*PCUs!$B$5 -> 0 | N26: =I26*5.75 -> 0 | O26: =O25 -> 0.29166667 | P26: =Q26*PCUs!$B$2+R26*PCUs!$B$3+S26*PCUs!$B$4+T26*PCUs!$B$5 -> 0 | U26: =P26*5.75 -> 0
A27: =A26 -> 0.29166667 | B27: =C27*PCUs!$B$2+D27*PCUs!$B$3+E27*PCUs!$B$4+F27*PCUs!$B$5 -> 0 | G27: =B27*5.75 -> 0 | H27: =H26 -> 0.29166667 | I27: =J27*PCUs!$B$2+K27*PCUs!$B$3+L27*PCUs!$B$4+M27*PCUs!$B$5 -> 0 | N27: =I27*5.75 -> 0 | O27: =O26 -> 0.29166667 | P27: =Q27*PCUs!$B$2+R27*PCUs!$B$3+S27*PCUs!$B$4+T27*PCUs!$B$5 -> 0 | U27: =P27*5.75 -> 0
A28: =A27 -> 0.29166667 | B28: =MAX(B16:B27) -> 16.5 | C28: =VLOOKUP(B28,B16:F27,2,FALSE) -> 15 | D28: =VLOOKUP(B28,B16:F27,3,FALSE) -> 1 | E28: =VLOOKUP(B28,B16:F27,4,FALSE) -> 0 | F28: =VLOOKUP(B28,B16:F27,5,FALSE) -> 0 | G28: =B28*5.75 -> 94.875 | H28: =H27 -> 0.29166667 | I28: =MAX(I16:I27) -> 5 | J28: =VLOOKUP(I28,I16:M27,2,FALSE) -> 5 | K28: =VLOOKUP(I28,I16:M27,3,FALSE) -> 0 | L28: =VLOOKUP(I28,I16:M27,4,FALSE) -> 0 | M28: =VLOOKUP(I28,I16:M27,5,FALSE) -> 0 | N28: =I28*5.75 -> 28.75 | O28: =O27 -> 0.29166667 | P28: =MAX(P16:P27) -> 1 | Q28: =VLOOKUP(P28,P16:T27,2,FALSE) -> 1 | R28: =VLOOKUP(P28,P16:T27,3,FALSE) -> 0 | S28: =VLOOKUP(P28,P16:T27,4,FALSE) -> 0 | T28: =VLOOKUP(P28,P16:T27,5,FALSE) -> 0 | U28: =P28*5.75 -> 5.75
A29: =A27+"00:05" -> 0.29513889 | B29: =C29*PCUs!$B$2+D29*PCUs!$B$3+E29*PCUs!$B$4+F29*PCUs!$B$5 -> 13.3 | C29: 11 | D29: 0 | E29: 1 | F29: 0 | G29: =B29*5.75 -> 76.475 | H29: =H27+"00:05" -> 0.29513889 | I29: =J29*PCUs!$B$2+K29*PCUs!$B$3+L29*PCUs!$B$4+M29*PCUs!$B$5 -> 0 | J29: 0 | K29: 0 | L29: 0 | M29: 0 | N29: =I29*5.75 -> 0 | O29: =O27+"00:05" -> 0.29513889 | P29: =Q29*PCUs!$B$2+R29*PCUs!$B$3+S29*PCUs!$B$4+T29*PCUs!$B$5 -> 1 | Q29: 1 | R29: 0 | S29: 0 | T29: 0 | U29: =P29*5.75 -> 5.75
A30: =A29 -> 0.29513889 | B30: =C30*PCUs!$B$2+D30*PCUs!$B$3+E30*PCUs!$B$4+F30*PCUs!$B$5 -> 12.3 | C30: 10 | D30: 0 | E30: 1 | F30: 0 | G30: =B30*5.75 -> 70.725 | H30: =H29 -> 0.29513889 | I30: =J30*PCUs!$B$2+K30*PCUs!$B$3+L30*PCUs!$B$4+M30*PCUs!$B$5 -> 10 | J30: 10 | K30: 0 | L30: 0 | M30: 0 | N30: =I30*5.75 -> 57.5 | O30: =O29 -> 0.29513889 | P30: =Q30*PCUs!$B$2+R30*PCUs!$B$3+S30*PCUs!$B$4+T30*PCUs!$B$5 -> 0 | Q30: 0 | R30: 0 | S30: 0 | T30: 0 | U30: =P30*5.75 -> 0
A31: =A30 -> 0.29513889 | B31: =C31*PCUs!$B$2+D31*PCUs!$B$3+E31*PCUs!$B$4+F31*PCUs!$B$5 -> 9 | C31: 9 | D31: 0 | E31: 0 | F31: 0 | G31: =B31*5.75 -> 51.75 | H31: =H30 -> 0.29513889 | I31: =J31*PCUs!$B$2+K31*PCUs!$B$3+L31*PCUs!$B$4+M31*PCUs!$B$5 -> 4 | J31: 4 | K31: 0 | L31: 0 | M31: 0 | N31: =I31*5.75 -> 23 | O31: =O30 -> 0.29513889 | P31: =Q31*PCUs!$B$2+R31*PCUs!$B$3+S31*PCUs!$B$4+T31*PCUs!$B$5 -> 0 | Q31: 0 | R31: 0 | S31: 0 | T31: 0 | U31: =P31*5.75 -> 0
A32: =A31 -> 0.29513889 | B32: =C32*PCUs!$B$2+D32*PCUs!$B$3+E32*PCUs!$B$4+F32*PCUs!$B$5 -> 9.5 | C32: 8 | D32: 1 | E32: 0 | F32: 0 | G32: =B32*5.75 -> 54.625 | H32: =H31 -> 0.29513889 | I32: =J32*PCUs!$B$2+K32*PCUs!$B$3+L32*PCUs!$B$4+M32*PCUs!$B$5 -> 6 | J32: 6 | K32: 0 | L32: 0 | M32: 0 | N32: =I32*5.75 -> 34.5 | O32: =O31 -> 0.29513889 | P32: =Q32*PCUs!$B$2+R32*PCUs!$B$3+S32*PCUs!$B$4+T32*PCUs!$B$5 -> 0 | Q32: 0 | R32: 0 | S32: 0 | T32: 0 | U32: =P32*5.75 -> 0
A33: =A32 -> 0.29513889 | B33: =C33*PCUs!$B$2+D33*PCUs!$B$3+E33*PCUs!$B$4+F33*PCUs!$B$5 -> 3 | C33: 3 | D33: 0 | E33: 0 | F33: 0 | G33: =B33*5.75 -> 17.25 | H33: =H32 -> 0.29513889 | I33: =J33*PCUs!$B$2+K33*PCUs!$B$3+L33*PCUs!$B$4+M33*PCUs!$B$5 -> 5 | J33: 5 | K33: 0 | L33: 0 | M33: 0 | N33: =I33*5.75 -> 28.75 | O33: =O32 -> 0.29513889 | P33: =Q33*PCUs!$B$2+R33*PCUs!$B$3+S33*PCUs!$B$4+T33*PCUs!$B$5 -> 2 | Q33: 2 | R33: 0 | S33: 0 | T33: 0 | U33: =P33*5.75 -> 11.5
A34: =A33 -> 0.29513889 | B34: =C34*PCUs!$B$2+D34*PCUs!$B$3+E34*PCUs!$B$4+F34*PCUs!$B$5 -> 0 | G34: =B34*5.75 -> 0 | H34: =H33 -> 0.29513889 | I34: =J34*PCUs!$B$2+K34*PCUs!$B$3+L34*PCUs!$B$4+M34*PCUs!$B$5 -> 0 | N34: =I34*5.75 -> 0 | O34: =O33 -> 0.29513889 | P34: =Q34*PCUs!$B$2+R34*PCUs!$B$3+S34*PCUs!$B$4+T34*PCUs!$B$5 -> 0 | U34: =P34*5.75 -> 0
A35: =A34 -> 0.29513889 | B35: =C35*PCUs!$B$2+D35*PCUs!$B$3+E35*PCUs!$B$4+F35*PCUs!$B$5 -> 0 | G35: =B35*5.75 -> 0 | H35: =H34 -> 0.29513889 | I35: =J35*PCUs!$B$2+K35*PCUs!$B$3+L35*PCUs!$B$4+M35*PCUs!$B$5 -> 0 | N35: =I35*5.75 -> 0 | O35: =O34 -> 0.29513889 | P35: =Q35*PCUs!$B$2+R35*PCUs!$B$3+S35*PCUs!$B$4+T35*PCUs!$B$5 -> 0 | U35: =P35*5.75 -> 0
A36: =A35 -> 0.29513889 | B36: =C36*PCUs!$B$2+D36*PCUs!$B$3+E36*PCUs!$B$4+F36*PCUs!$B$5 -> 0 | G36: =B36*5.75 -> 0 | H36: =H35 -> 0.29513889 | I36: =J36*PCUs!$B$2+K36*PCUs!$B$3+L36*PCUs!$B$4+M36*PCUs!$B$5 -> 0 | N36: =I36*5.75 -> 0 | O36: =O35 -> 0.29513889 | P36: =Q36*PCUs!$B$2+R36*PCUs!$B$3+S36*PCUs!$B$4+T36*PCUs!$B$5 -> 0 | U36: =P36*5.75 -> 0
A37: =A36 -> 0.29513889 | B37: =C37*PCUs!$B$2+D37*PCUs!$B$3+E37*PCUs!$B$4+F37*PCUs!$B$5 -> 0 | G37: =B37*5.75 -> 0 | H37: =H36 -> 0.29513889 | I37: =J37*PCUs!$B$2+K37*PCUs!$B$3+L37*PCUs!$B$4+M37*PCUs!$B$5 -> 0 | N37: =I37*5.75 -> 0 | O37: =O36 -> 0.29513889 | P37: =Q37*PCUs!$B$2+R37*PCUs!$B$3+S37*PCUs!$B$4+T37*PCUs!$B$5 -> 0 | U37: =P37*5.75 -> 0
A38: =A37 -> 0.29513889 | B38: =C38*PCUs!$B$2+D38*PCUs!$B$3+E38*PCUs!$B$4+F38*PCUs!$B$5 -> 0 | G38: =B38*5.75 -> 0 | H38: =H37 -> 0.29513889 | I38: =J38*PCUs!$B$2+K38*PCUs!$B$3+L38*PCUs!$B$4+M38*PCUs!$B$5 -> 0 | N38: =I38*5.75 -> 0 | O38: =O37 -> 0.29513889 | P38: =Q38*PCUs!$B$2+R38*PCUs!$B$3+S38*PCUs!$B$4+T38*PCUs!$B$5 -> 0 | U38: =P38*5.75 -> 0
A39: =A38 -> 0.29513889 | B39: =C39*PCUs!$B$2+D39*PCUs!$B$3+E39*PCUs!$B$4+F39*PCUs!$B$5 -> 0 | G39: =B39*5.75 -> 0 | H39: =H38 -> 0.29513889 | I39: =J39*PCUs!$B$2+K39*PCUs!$B$3+L39*PCUs!$B$4+M39*PCUs!$B$5 -> 0 | N39: =I39*5.75 -> 0 | O39: =O38 -> 0.29513889 | P39: =Q39*PCUs!$B$2+R39*PCUs!$B$3+S39*PCUs!$B$4+T39*PCUs!$B$5 -> 0 | U39: =P39*5.75 -> 0
A40: =A39 -> 0.29513889 | B40: =C40*PCUs!$B$2+D40*PCUs!$B$3+E40*PCUs!$B$4+F40*PCUs!$B$5 -> 0 | G40: =B40*5.75 -> 0 | H40: =H39 -> 0.29513889 | I40: =J40*PCUs!$B$2+K40*PCUs!$B$3+L40*PCUs!$B$4+M40*PCUs!$B$5 -> 0 | N40: =I40*5.75 -> 0 | O40: =O39 -> 0.29513889 | P40: =Q40*PCUs!$B$2+R40*PCUs!$B$3+S40*PCUs!$B$4+T40*PCUs!$B$5 -> 0 | U40: =P40*5.75 -> 0
A41: =A40 -> 0.29513889 | B41: =MAX(B29:B40) -> 13.3 | C41: =VLOOKUP(B41,B29:F40,2,FALSE) -> 11 | D41: =VLOOKUP(B41,B29:F40,3,FALSE) -> 0 | E41: =VLOOKUP(B41,B29:F40,4,FALSE) -> 1 | F41: =VLOOKUP(B41,B29:F40,5,FALSE) -> 0 | G41: =B41*5.75 -> 76.475 | H41: =H40 -> 0.29513889 | I41: =MAX(I29:I40) -> 10 | J41: =VLOOKUP(I41,I29:M40,2,FALSE) -> 10 | K41: =VLOOKUP(I41,I29:M40,3,FALSE) -> 0 | L41: =VLOOKUP(I41,I29:M40,4,FALSE) -> 0 | M41: =VLOOKUP(I41,I29:M40,5,FALSE) -> 0 | N41: =I41*5.75 -> 57.5 | O41: =O40 -> 0.29513889 | P41: =MAX(P29:P40) -> 2 | Q41: =VLOOKUP(P41,P29:T40,2,FALSE) -> 2 | R41: =VLOOKUP(P41,P29:T40,3,FALSE) -> 0 | S41: =VLOOKUP(P41,P29:T40,4,FALSE) -> 0 | T41: =VLOOKUP(P41,P29:T40,5,FALSE) -> 0 | U41: =P41*5.75 -> 11.5
A42: =A40+"00:05" -> 0.29861111 | B42: =C42*PCUs!$B$2+D42*PCUs!$B$3+E42*PCUs!$B$4+F42*PCUs!$B$5 -> 10.5 | C42: 9 | D42: 1 | E42: 0 | F42: 0 | G42: =B42*5.75 -> 60.375 | H42: =H40+"00:05" -> 0.29861111 | I42: =J42*PCUs!$B$2+K42*PCUs!$B$3+L42*PCUs!$B$4+M42*PCUs!$B$5 -> 8 | J42: 8 | K42: 0 | L42: 0 | M42: 0 | N42: =I42*5.75 -> 46 | O42: =O40+"00:05" -> 0.29861111 | P42: =Q42*PCUs!$B$2+R42*PCUs!$B$3+S42*PCUs!$B$4+T42*PCUs!$B$5 -> 1 | Q42: 1 | R42: 0 | S42: 0 | T42: 0 | U42: =P42*5.75 -> 5.75
A43: =A42 -> 0.29861111 | B43: =C43*PCUs!$B$2+D43*PCUs!$B$3+E43*PCUs!$B$4+F43*PCUs!$B$5 -> 7.5 | C43: 6 | D43: 1 | E43: 0 | F43: 0 | G43: =B43*5.75 -> 43.125 | H43: =H42 -> 0.29861111 | I43: =J43*PCUs!$B$2+K43*PCUs!$B$3+L43*PCUs!$B$4+M43*PCUs!$B$5 -> 0 | J43: 0 | K43: 0 | L43: 0 | M43: 0 | N43: =I43*5.75 -> 0 | O43: =O42 -> 0.29861111 | P43: =Q43*PCUs!$B$2+R43*PCUs!$B$3+S43*PCUs!$B$4+T43*PCUs!$B$5 -> 0 | Q43: 0 | R43: 0 | S43: 0 | T43: 0 | U43: =P43*5.75 -> 0
A44: =A43 -> 0.29861111 | B44: =C44*PCUs!$B$2+D44*PCUs!$B$3+E44*PCUs!$B$4+F44*PCUs!$B$5 -> 1 | C44: 1 | D44: 0 | E44: 0 | F44: 0 | G44: =B44*5.75 -> 5.75 | H44: =H43 -> 0.29861111 | I44: =J44*PCUs!$B$2+K44*PCUs!$B$3+L44*PCUs!$B$4+M44*PCUs!$B$5 -> 0 | J44: 0 | K44: 0 | L44: 0 | M44: 0 | N44: =I44*5.75 -> 0 | O44: =O43 -> 0.29861111 | P44: =Q44*PCUs!$B$2+R44*PCUs!$B$3+S44*PCUs!$B$4+T44*PCUs!$B$5 -> 1 | Q44: 1 | R44: 0 | S44: 0 | T44: 0 | U44: =P44*5.75 -> 5.75
A45: =A44 -> 0.29861111 | B45: =C45*PCUs!$B$2+D45*PCUs!$B$3+E45*PCUs!$B$4+F45*PCUs!$B$5 -> 4 | C45: 4 | D45: 0 | E45: 0 | F45: 0 | G45: =B45*5.75 -> 23 | H45: =H44 -> 0.29861111 | I45: =J45*PCUs!$B$2+K45*PCUs!$B$3+L45*PCUs!$B$4+M45*PCUs!$B$5 -> 5 | J45: 5 | K45: 0 | L45: 0 | M45: 0 | N45: =I45*5.75 -> 28.75 | O45: =O44 -> 0.29861111 | P45: =Q45*PCUs!$B$2+R45*PCUs!$B$3+S45*PCUs!$B$4+T45*PCUs!$B$5 -> 0 | Q45: 0 | R45: 0 | S45: 0 | T45: 0 | U45: =P45*5.75 -> 0
A46: =A45 -> 0.29861111 | B46: =C46*PCUs!$B$2+D46*PCUs!$B$3+E46*PCUs!$B$4+F46*PCUs!$B$5 -> 6 | C46: 6 | D46: 0 | E46: 0 | F46: 0 | G46: =B46*5.75 -> 34.5 | H46: =H45 -> 0.29861111 | I46: =J46*PCUs!$B$2+K46*PCUs!$B$3+L46*PCUs!$B$4+M46*PCUs!$B$5 -> 1 | J46: 1 | K46: 0 | L46: 0 | M46: 0 | N46: =I46*5.75 -> 5.75 | O46: =O45 -> 0.29861111 | P46: =Q46*PCUs!$B$2+R46*PCUs!$B$3+S46*PCUs!$B$4+T46*PCUs!$B$5 -> 0 | Q46: 0 | R46: 0 | S46: 0 | T46: 0 | U46: =P46*5.75 -> 0
A47: =A46 -> 0.29861111 | B47: =C47*PCUs!$B$2+D47*PCUs!$B$3+E47*PCUs!$B$4+F47*PCUs!$B$5 -> 6 | C47: 6 | D47: 0 | E47: 0 | F47: 0 | G47: =B47*5.75 -> 34.5 | H47: =H46 -> 0.29861111 | I47: =J47*PCUs!$B$2+K47*PCUs!$B$3+L47*PCUs!$B$4+M47*PCUs!$B$5 -> 2 | J47: 2 | K47: 0 | L47: 0 | M47: 0 | N47: =I47*5.75 -> 11.5 | O47: =O46 -> 0.29861111 | P47: =Q47*PCUs!$B$2+R47*PCUs!$B$3+S47*PCUs!$B$4+T47*PCUs!$B$5 -> 1 | Q47: 1 | R47: 0 | S47: 0 | T47: 0 | U47: =P47*5.75 -> 5.75
...

Sheet Site 4 Arm C
U2: 16367 / SOUTHAMPTON
U3: =UPPER(TEXT(U8,"mMmm yyyy")) -> FEBRUARY 2025
U4: QUEUE LENGTH SURVEY
A8: SITE: | C8: 4 | T8: DATE: | U8: 45701
A10: LOCATION: | C10: Stoneham Interchange | T10: DAY: | U10: =UPPER(TEXT(U8,"dddd")) -> THURSDAY
A12: ANALYSIS: All queues in each 5 minute period at the start of the green phase.
A14: Arm C - Lane 1 | H14: Arm C - Lane 2 | O14: Arm C - Lane 3
A15: Time | B15: Total | C15: Cars | D15: OGV1 | E15: OGV2 | F15: PSV | G15: Metres | H15: Time | I15: Total | J15: Cars | K15: OGV1 | L15: OGV2 | M15: PSV | N15: Metres | O15: Time | P15: Total | Q15: Cars | R15: OGV1 | S15: OGV2 | T15: PSV | U15: Metres
A16: 0.29166667 | B16: =C16*PCUs!$B$2+D16*PCUs!$B$3+E16*PCUs!$B$4+F16*PCUs!$B$5 -> 3 | C16: 3 | D16: 0 | E16: 0 | F16: 0 | G16: =B16*5.75 -> 17.25 | H16: 0.29166667 | I16: =J16*PCUs!$B$2+K16*PCUs!$B$3+L16*PCUs!$B$4+M16*PCUs!$B$5 -> 1 | J16: 1 | K16: 0 | L16: 0 | M16: 0 | N16: =I16*5.75 -> 5.75 | O16: 0.29166667 | P16: =Q16*PCUs!$B$2+R16*PCUs!$B$3+S16*PCUs!$B$4+T16*PCUs!$B$5 -> 6 | Q16: 6 | R16: 0 | S16: 0 | T16: 0 | U16: =P16*5.75 -> 34.5
A17: =A16 -> 0.29166667 | B17: =C17*PCUs!$B$2+D17*PCUs!$B$3+E17*PCUs!$B$4+F17*PCUs!$B$5 -> 2 | C17: 2 | D17: 0 | E17: 0 | F17: 0 | G17: =B17*5.75 -> 11.5 | H17: =H16 -> 0.29166667 | I17: =J17*PCUs!$B$2+K17*PCUs!$B$3+L17*PCUs!$B$4+M17*PCUs!$B$5 -> 2 | J17: 2 | K17: 0 | L17: 0 | M17: 0 | N17: =I17*5.75 -> 11.5 | O17: =O16 -> 0.29166667 | P17: =Q17*PCUs!$B$2+R17*PCUs!$B$3+S17*PCUs!$B$4+T17*PCUs!$B$5 -> 1 | Q17: 1 | R17: 0 | S17: 0 | T17: 0 | U17: =P17*5.75 -> 5.75
A18: =A17 -> 0.29166667 | B18: =C18*PCUs!$B$2+D18*PCUs!$B$3+E18*PCUs!$B$4+F18*PCUs!$B$5 -> 2 | C18: 2 | D18: 0 | E18: 0 | F18: 0 | G18: =B18*5.75 -> 11.5 | H18: =H17 -> 0.29166667 | I18: =J18*PCUs!$B$2+K18*PCUs!$B$3+L18*PCUs!$B$4+M18*PCUs!$B$5 -> 1 | J18: 1 | K18: 0 | L18: 0 | M18: 0 | N18: =I18*5.75 -> 5.75 | O18: =O17 -> 0.29166667 | P18: =Q18*PCUs!$B$2+R18*PCUs!$B$3+S18*PCUs!$B$4+T18*PCUs!$B$5 -> 2 | Q18: 2 | R18: 0 | S18: 0 | T18: 0 | U18: =P18*5.75 -> 11.5
A19: =A18 -> 0.29166667 | B19: =C19*PCUs!$B$2+D19*PCUs!$B$3+E19*PCUs!$B$4+F19*PCUs!$B$5 -> 4.5 | C19: 3 | D19: 1 | E19: 0 | F19: 0 | G19: =B19*5.75 -> 25.875 | H19: =H18 -> 0.29166667 | I19: =J19*PCUs!$B$2+K19*PCUs!$B$3+L19*PCUs!$B$4+M19*PCUs!$B$5 -> 3 | J19: 3 | K19: 0 | L19: 0 | M19: 0 | N19: =I19*5.75 -> 17.25 | O19: =O18 -> 0.29166667 | P19: =Q19*PCUs!$B$2+R19*PCUs!$B$3+S19*PCUs!$B$4+T19*PCUs!$B$5 -> 3 | Q19: 3 | R19: 0 | S19: 0 | T19: 0 | U19: =P19*5.75 -> 17.25
A20: =A19 -> 0.29166667 | B20: =C20*PCUs!$B$2+D20*PCUs!$B$3+E20*PCUs!$B$4+F20*PCUs!$B$5 -> 0 | G20: =B20*5.75 -> 0 | H20: =H19 -> 0.29166667 | I20: =J20*PCUs!$B$2+K20*PCUs!$B$3+L20*PCUs!$B$4+M20*PCUs!$B$5 -> 0 | N20: =I20*5.75 -> 0 | O20: =O19 -> 0.29166667 | P20: =Q20*PCUs!$B$2+R20*PCUs!$B$3+S20*PCUs!$B$4+T20*PCUs!$B$5 -> 0 | U20: =P20*5.75 -> 0
A21: =A20 -> 0.29166667 | B21: =C21*PCUs!$B$2+D21*PCUs!$B$3+E21*PCUs!$B$4+F21*PCUs!$B$5 -> 0 | G21: =B21*5.75 -> 0 | H21: =H20 -> 0.29166667 | I21: =J21*PCUs!$B$2+K21*PCUs!$B$3+L21*PCUs!$B$4+M21*PCUs!$B$5 -> 0 | N21: =I21*5.75 -> 0 | O21: =O20 -> 0.29166667 | P21: =Q21*PCUs!$B$2+R21*PCUs!$B$3+S21*PCUs!$B$4+T21*PCUs!$B$5 -> 0 | U21: =P21*5.75 -> 0
A22: =A21 -> 0.29166667 | B22: =C22*PCUs!$B$2+D22*PCUs!$B$3+E22*PCUs!$B$4+F22*PCUs!$B$5 -> 0 | G22: =B22*5.75 -> 0 | H22: =H21 -> 0.29166667 | I22: =J22*PCUs!$B$2+K22*PCUs!$B$3+L22*PCUs!$B$4+M22*PCUs!$B$5 -> 0 | N22: =I22*5.75 -> 0 | O22: =O21 -> 0.29166667 | P22: =Q22*PCUs!$B$2+R22*PCUs!$B$3+S22*PCUs!$B$4+T22*PCUs!$B$5 -> 0 | U22: =P22*5.75 -> 0
A23: =A22 -> 0.29166667 | B23: =C23*PCUs!$B$2+D23*PCUs!$B$3+E23*PCUs!$B$4+F23*PCUs!$B$5 -> 0 | G23: =B23*5.75 -> 0 | H23: =H22 -> 0.29166667 | I23: =J23*PCUs!$B$2+K23*PCUs!$B$3+L23*PCUs!$B$4+M23*PCUs!$B$5 -> 0 | N23: =I23*5.75 -> 0 | O23: =O22 -> 0.29166667 | P23: =Q23*PCUs!$B$2+R23*PCUs!$B$3+S23*PCUs!$B$4+T23*PCUs!$B$5 -> 0 | U23: =P23*5.75 -> 0
A24: =A23 -> 0.29166667 | B24: =C24*PCUs!$B$2+D24*PCUs!$B$3+E24*PCUs!$B$4+F24*PCUs!$B$5 -> 0 | G24: =B24*5.75 -> 0 | H24: =H23 -> 0.29166667 | I24: =J24*PCUs!$B$2+K24*PCUs!$B$3+L24*PCUs!$B$4+M24*PCUs!$B$5 -> 0 | N24: =I24*5.75 -> 0 | O24: =O23 -> 0.29166667 | P24: =Q24*PCUs!$B$2+R24*PCUs!$B$3+S24*PCUs!$B$4+T24*PCUs!$B$5 -> 0 | U24: =P24*5.75 -> 0
A25: =A24 -> 0.29166667 | B25: =C25*PCUs!$B$2+D25*PCUs!$B$3+E25*PCUs!$B$4+F25*PCUs!$B$5 -> 0 | G25: =B25*5.75 -> 0 | H25: =H24 -> 0.29166667 | I25: =J25*PCUs!$B$2+K25*PCUs!$B$3+L25*PCUs!$B$4+M25*PCUs!$B$5 -> 0 | N25: =I25*5.75 -> 0 | O25: =O24 -> 0.29166667 | P25: =Q25*PCUs!$B$2+R25*PCUs!$B$3+S25*PCUs!$B$4+T25*PCUs!$B$5 -> 0 | U25: =P25*5.75 -> 0
A26: =A25 -> 0.29166667 | B26: =C26*PCUs!$B$2+D26*PCUs!$B$3+E26*PCUs!$B$4+F26*PCUs!$B$5 -> 0 | G26: =B26*5.75 -> 0 | H26: =H25 -> 0.29166667 | I26: =J26*PCUs!$B$2+K26*PCUs!$B$3+L26*PCUs!$B$4+M26*PCUs!$B$5 -> 0 | N26: =I26*5.75 -> 0 | O26: =O25 -> 0.29166667 | P26: =Q26*PCUs!$B$2+R26*PCUs!$B$3+S26*PCUs!$B$4+T26*PCUs!$B$5 -> 0 | U26: =P26*5.75 -> 0
A27: =A26 -> 0.29166667 | B27: =C27*PCUs!$B$2+D27*PCUs!$B$3+E27*PCUs!$B$4+F27*PCUs!$B$5 -> 0 | G27: =B27*5.75 -> 0 | H27: =H26 -> 0.29166667 | I27: =J27*PCUs!$B$2+K27*PCUs!$B$3+L27*PCUs!$B$4+M27*PCUs!$B$5 -> 0 | N27: =I27*5.75 -> 0 | O27: =O26 -> 0.29166667 | P27: =Q27*PCUs!$B$2+R27*PCUs!$B$3+S27*PCUs!$B$4+T27*PCUs!$B$5 -> 0 | U27: =P27*5.75 -> 0
A28: =A27 -> 0.29166667 | B28: =MAX(B16:B27) -> 4.5 | C28: =VLOOKUP(B28,B16:F27,2,FALSE) -> 3 | D28: =VLOOKUP(B28,B16:F27,3,FALSE) -> 1 | E28: =VLOOKUP(B28,B16:F27,4,FALSE) -> 0 | F28: =VLOOKUP(B28,B16:F27,5,FALSE) -> 0 | G28: =B28*5.75 -> 25.875 | H28: =H27 -> 0.29166667 | I28: =MAX(I16:I27) -> 3 | J28: =VLOOKUP(I28,I16:M27,2,FALSE) -> 3 | K28: =VLOOKUP(I28,I16:M27,3,FALSE) -> 0 | L28: =VLOOKUP(I28,I16:M27,4,FALSE) -> 0 | M28: =VLOOKUP(I28,I16:M27,5,FALSE) -> 0 | N28: =I28*5.75 -> 17.25 | O28: =O27 -> 0.29166667 | P28: =MAX(P16:P27) -> 6 | Q28: =VLOOKUP(P28,P16:T27,2,FALSE) -> 6 | R28: =VLOOKUP(P28,P16:T27,3,FALSE) -> 0 | S28: =VLOOKUP(P28,P16:T27,4,FALSE) -> 0 | T28: =VLOOKUP(P28,P16:T27,5,FALSE) -> 0 | U28: =P28*5.75 -> 34.5
A29: =A27+"00:05" -> 0.29513889 | B29: =C29*PCUs!$B$2+D29*PCUs!$B$3+E29*PCUs!$B$4+F29*PCUs!$B$5 -> 0 | C29: 0 | D29: 0 | E29: 0 | F29: 0 | G29: =B29*5.75 -> 0 | H29: =H27+"00:05" -> 0.29513889 | I29: =J29*PCUs!$B$2+K29*PCUs!$B$3+L29*PCUs!$B$4+M29*PCUs!$B$5 -> 0 | J29: 0 | K29: 0 | L29: 0 | M29: 0 | N29: =I29*5.75 -> 0 | O29: =O27+"00:05" -> 0.29513889 | P29: =Q29*PCUs!$B$2+R29*PCUs!$B$3+S29*PCUs!$B$4+T29*PCUs!$B$5 -> 4 | Q29: 4 | R29: 0 | S29: 0 | T29: 0 | U29: =P29*5.75 -> 23
A30: =A29 -> 0.29513889 | B30: =C30*PCUs!$B$2+D30*PCUs!$B$3+E30*PCUs!$B$4+F30*PCUs!$B$5 -> 2 | C30: 2 | D30: 0 | E30: 0 | F30: 0 | G30: =B30*5.75 -> 11.5 | H30: =H29 -> 0.29513889 | I30: =J30*PCUs!$B$2+K30*PCUs!$B$3+L30*PCUs!$B$4+M30*PCUs!$B$5 -> 1 | J30: 1 | K30: 0 | L30: 0 | M30: 0 | N30: =I30*5.75 -> 5.75 | O30: =O29 -> 0.29513889 | P30: =Q30*PCUs!$B$2+R30*PCUs!$B$3+S30*PCUs!$B$4+T30*PCUs!$B$5 -> 2 | Q30: 2 | R30: 0 | S30: 0 | T30: 0 | U30: =P30*5.75 -> 11.5
A31: =A30 -> 0.29513889 | B31: =C31*PCUs!$B$2+D31*PCUs!$B$3+E31*PCUs!$B$4+F31*PCUs!$B$5 -> 3 | C31: 3 | D31: 0 | E31: 0 | F31: 0 | G31: =B31*5.75 -> 17.25 | H31: =H30 -> 0.29513889 | I31: =J31*PCUs!$B$2+K31*PCUs!$B$3+L31*PCUs!$B$4+M31*PCUs!$B$5 -> 3.5 | J31: 2 | K31: 1 | L31: 0 | M31: 0 | N31: =I31*5.75 -> 20.125 | O31: =O30 -> 0.29513889 | P31: =Q31*PCUs!$B$2+R31*PCUs!$B$3+S31*PCUs!$B$4+T31*PCUs!$B$5 -> 4 | Q31: 4 | R31: 0 | S31: 0 | T31: 0 | U31: =P31*5.75 -> 23
A32: =A31 -> 0.29513889 | B32: =C32*PCUs!$B$2+D32*PCUs!$B$3+E32*PCUs!$B$4+F32*PCUs!$B$5 -> 0 | G32: =B32*5.75 -> 0 | H32: =H31 -> 0.29513889 | I32: =J32*PCUs!$B$2+K32*PCUs!$B$3+L32*PCUs!$B$4+M32*PCUs!$B$5 -> 0 | N32: =I32*5.75 -> 0 | O32: =O31 -> 0.29513889 | P32: =Q32*PCUs!$B$2+R32*PCUs!$B$3+S32*PCUs!$B$4+T32*PCUs!$B$5 -> 0 | U32: =P32*5.75 -> 0
A33: =A32 -> 0.29513889 | B33: =C33*PCUs!$B$2+D33*PCUs!$B$3+E33*PCUs!$B$4+F33*PCUs!$B$5 -> 0 | G33: =B33*5.75 -> 0 | H33: =H32 -> 0.29513889 | I33: =J33*PCUs!$B$2+K33*PCUs!$B$3+L33*PCUs!$B$4+M33*PCUs!$B$5 -> 0 | N33: =I33*5.75 -> 0 | O33: =O32 -> 0.29513889 | P33: =Q33*PCUs!$B$2+R33*PCUs!$B$3+S33*PCUs!$B$4+T33*PCUs!$B$5 -> 0 | U33: =P33*5.75 -> 0
A34: =A33 -> 0.29513889 | B34: =C34*PCUs!$B$2+D34*PCUs!$B$3+E34*PCUs!$B$4+F34*PCUs!$B$5 -> 0 | G34: =B34*5.75 -> 0 | H34: =H33 -> 0.29513889 | I34: =J34*PCUs!$B$2+K34*PCUs!$B$3+L34*PCUs!$B$4+M34*PCUs!$B$5 -> 0 | N34: =I34*5.75 -> 0 | O34: =O33 -> 0.29513889 | P34: =Q34*PCUs!$B$2+R34*PCUs!$B$3+S34*PCUs!$B$4+T34*PCUs!$B$5 -> 0 | U34: =P34*5.75 -> 0
A35: =A34 -> 0.29513889 | B35: =C35*PCUs!$B$2+D35*PCUs!$B$3+E35*PCUs!$B$4+F35*PCUs!$B$5 -> 0 | G35: =B35*5.75 -> 0 | H35: =H34 -> 0.29513889 | I35: =J35*PCUs!$B$2+K35*PCUs!$B$3+L35*PCUs!$B$4+M35*PCUs!$B$5 -> 0 | N35: =I35*5.75 -> 0 | O35: =O34 -> 0.29513889 | P35: =Q35*PCUs!$B$2+R35*PCUs!$B$3+S35*PCUs!$B$4+T35*PCUs!$B$5 -> 0 | U35: =P35*5.75 -> 0
A36: =A35 -> 0.29513889 | B36: =C36*PCUs!$B$2+D36*PCUs!$B$3+E36*PCUs!$B$4+F36*PCUs!$B$5 -> 0 | G36: =B36*5.75 -> 0 | H36: =H35 -> 0.29513889 | I36: =J36*PCUs!$B$2+K36*PCUs!$B$3+L36*PCUs!$B$4+M36*PCUs!$B$5 -> 0 | N36: =I36*5.75 -> 0 | O36: =O35 -> 0.29513889 | P36: =Q36*PCUs!$B$2+R36*PCUs!$B$3+S36*PCUs!$B$4+T36*PCUs!$B$5 -> 0 | U36: =P36*5.75 -> 0
A37: =A36 -> 0.29513889 | B37: =C37*PCUs!$B$2+D37*PCUs!$B$3+E37*PCUs!$B$4+F37*PCUs!$B$5 -> 0 | G37: =B37*5.75 -> 0 | H37: =H36 -> 0.29513889 | I37: =J37*PCUs!$B$2+K37*PCUs!$B$3+L37*PCUs!$B$4+M37*PCUs!$B$5 -> 0 | N37: =I37*5.75 -> 0 | O37: =O36 -> 0.29513889 | P37: =Q37*PCUs!$B$2+R37*PCUs!$B$3+S37*PCUs!$B$4+T37*PCUs!$B$5 -> 0 | U37: =P37*5.75 -> 0
A38: =A37 -> 0.29513889 | B38: =C38*PCUs!$B$2+D38*PCUs!$B$3+E38*PCUs!$B$4+F38*PCUs!$B$5 -> 0 | G38: =B38*5.75 -> 0 | H38: =H37 -> 0.29513889 | I38: =J38*PCUs!$B$2+K38*PCUs!$B$3+L38*PCUs!$B$4+M38*PCUs!$B$5 -> 0 | N38: =I38*5.75 -> 0 | O38: =O37 -> 0.29513889 | P38: =Q38*PCUs!$B$2+R38*PCUs!$B$3+S38*PCUs!$B$4+T38*PCUs!$B$5 -> 0 | U38: =P38*5.75 -> 0
A39: =A38 -> 0.29513889 | B39: =C39*PCUs!$B$2+D39*PCUs!$B$3+E39*PCUs!$B$4+F39*PCUs!$B$5 -> 0 | G39: =B39*5.75 -> 0 | H39: =H38 -> 0.29513889 | I39: =J39*PCUs!$B$2+K39*PCUs!$B$3+L39*PCUs!$B$4+M39*PCUs!$B$5 -> 0 | N39: =I39*5.75 -> 0 | O39: =O38 -> 0.29513889 | P39: =Q39*PCUs!$B$2+R39*PCUs!$B$3+S39*PCUs!$B$4+T39*PCUs!$B$5 -> 0 | U39: =P39*5.75 -> 0
A40: =A39 -> 0.29513889 | B40: =C40*PCUs!$B$2+D40*PCUs!$B$3+E40*PCUs!$B$4+F40*PCUs!$B$5 -> 0 | G40: =B40*5.75 -> 0 | H40: =H39 -> 0.29513889 | I40: =J40*PCUs!$B$2+K40*PCUs!$B$3+L40*PCUs!$B$4+M40*PCUs!$B$5 -> 0 | N40: =I40*5.75 -> 0 | O40: =O39 -> 0.29513889 | P40: =Q40*PCUs!$B$2+R40*PCUs!$B$3+S40*PCUs!$B$4+T40*PCUs!$B$5 -> 0 | U40: =P40*5.75 -> 0
A41: =A40 -> 0.29513889 | B41: =MAX(B29:B40) -> 3 | C41: =VLOOKUP(B41,B29:F40,2,FALSE) -> 3 | D41: =VLOOKUP(B41,B29:F40,3,FALSE) -> 0 | E41: =VLOOKUP(B41,B29:F40,4,FALSE) -> 0 | F41: =VLOOKUP(B41,B29:F40,5,FALSE) -> 0 | G41: =B41*5.75 -> 17.25 | H41: =H40 -> 0.29513889 | I41: =MAX(I29:I40) -> 3.5 | J41: =VLOOKUP(I41,I29:M40,2,FALSE) -> 2 | K41: =VLOOKUP(I41,I29:M40,3,FALSE) -> 1 | L41: =VLOOKUP(I41,I29:M40,4,FALSE) -> 0 | M41: =VLOOKUP(I41,I29:M40,5,FALSE) -> 0 | N41: =I41*5.75 -> 20.125 | O41: =O40 -> 0.29513889 | P41: =MAX(P29:P40) -> 4 | Q41: =VLOOKUP(P41,P29:T40,2,FALSE) -> 4 | R41: =VLOOKUP(P41,P29:T40,3,FALSE) -> 0 | S41: =VLOOKUP(P41,P29:T40,4,FALSE) -> 0 | T41: =VLOOKUP(P41,P29:T40,5,FALSE) -> 0 | U41: =P41*5.75 -> 23
A42: =A40+"00:05" -> 0.29861111 | B42: =C42*PCUs!$B$2+D42*PCUs!$B$3+E42*PCUs!$B$4+F42*PCUs!$B$5 -> 1 | C42: 1 | D42: 0 | E42: 0 | F42: 0 | G42: =B42*5.75 -> 5.75 | H42: =H40+"00:05" -> 0.29861111 | I42: =J42*PCUs!$B$2+K42*PCUs!$B$3+L42*PCUs!$B$4+M42*PCUs!$B$5 -> 1 | J42: 1 | K42: 0 | L42: 0 | M42: 0 | N42: =I42*5.75 -> 5.75 | O42: =O40+"00:05" -> 0.29861111 | P42: =Q42*PCUs!$B$2+R42*PCUs!$B$3+S42*PCUs!$B$4+T42*PCUs!$B$5 -> 1 | Q42: 1 | R42: 0 | S42: 0 | T42: 0 | U42: =P42*5.75 -> 5.75
A43: =A42 -> 0.29861111 | B43: =C43*PCUs!$B$2+D43*PCUs!$B$3+E43*PCUs!$B$4+F43*PCUs!$B$5 -> 1 | C43: 1 | D43: 0 | E43: 0 | F43: 0 | G43: =B43*5.75 -> 5.75 | H43: =H42 -> 0.29861111 | I43: =J43*PCUs!$B$2+K43*PCUs!$B$3+L43*PCUs!$B$4+M43*PCUs!$B$5 -> 2 | J43: 2 | K43: 0 | L43: 0 | M43: 0 | N43: =I43*5.75 -> 11.5 | O43: =O42 -> 0.29861111 | P43: =Q43*PCUs!$B$2+R43*PCUs!$B$3+S43*PCUs!$B$4+T43*PCUs!$B$5 -> 1 | Q43: 1 | R43: 0 | S43: 0 | T43: 0 | U43: =P43*5.75 -> 5.75
A44: =A43 -> 0.29861111 | B44: =C44*PCUs!$B$2+D44*PCUs!$B$3+E44*PCUs!$B$4+F44*PCUs!$B$5 -> 12.5 | C44: 11 | D44: 1 | E44: 0 | F44: 0 | G44: =B44*5.75 -> 71.875 | H44: =H43 -> 0.29861111 | I44: =J44*PCUs!$B$2+K44*PCUs!$B$3+L44*PCUs!$B$4+M44*PCUs!$B$5 -> 3 | J44: 3 | K44: 0 | L44: 0 | M44: 0 | N44: =I44*5.75 -> 17.25 | O44: =O43 -> 0.29861111 | P44: =Q44*PCUs!$B$2+R44*PCUs!$B$3+S44*PCUs!$B$4+T44*PCUs!$B$5 -> 5 | Q44: 5 | R44: 0 | S44: 0 | T44: 0 | U44: =P44*5.75 -> 28.75
A45: =A44 -> 0.29861111 | B45: =C45*PCUs!$B$2+D45*PCUs!$B$3+E45*PCUs!$B$4+F45*PCUs!$B$5 -> 8 | C45: 8 | D45: 0 | E45: 0 | F45: 0 | G45: =B45*5.75 -> 46 | H45: =H44 -> 0.29861111 | I45: =J45*PCUs!$B$2+K45*PCUs!$B$3+L45*PCUs!$B$4+M45*PCUs!$B$5 -> 3 | J45: 3 | K45: 0 | L45: 0 | M45: 0 | N45: =I45*5.75 -> 17.25 | O45: =O44 -> 0.29861111 | P45: =Q45*PCUs!$B$2+R45*PCUs!$B$3+S45*PCUs!$B$4+T45*PCUs!$B$5 -> 9 | Q45: 9 | R45: 0 | S45: 0 | T45: 0 | U45: =P45*5.75 -> 51.75
A46: =A45 -> 0.29861111 | B46: =C46*PCUs!$B$2+D46*PCUs!$B$3+E46*PCUs!$B$4+F46*PCUs!$B$5 -> 0 | G46: =B46*5.75 -> 0 | H46: =H45 -> 0.29861111 | I46: =J46*PCUs!$B$2+K46*PCUs!$B$3+L46*PCUs!$B$4+M46*PCUs!$B$5 -> 0 | N46: =I46*5.75 -> 0 | O46: =O45 -> 0.29861111 | P46: =Q46*PCUs!$B$2+R46*PCUs!$B$3+S46*PCUs!$B$4+T46*PCUs!$B$5 -> 0 | U46: =P46*5.75 -> 0
A47: =A46 -> 0.29861111 | B47: =C47*PCUs!$B$2+D47*PCUs!$B$3+E47*PCUs!$B$4+F47*PCUs!$B$5 -> 0 | G47: =B47*5.75 -> 0 | H47: =H46 -> 0.29861111 | I47: =J47*PCUs!$B$2+K47*PCUs!$B$3+L47*PCUs!$B$4+M47*PCUs!$B$5 -> 0 | N47: =I47*5.75 -> 0 | O47: =O46 -> 0.29861111 | P47: =Q47*PCUs!$B$2+R47*PCUs!$B$3+S47*PCUs!$B$4+T47*PCUs!$B$5 -> 0 | U47: =P47*5.75 -> 0
...

Sheet Site 4 Arm D
R2: 16367 / SOUTHAMPTON
R3: =UPPER(TEXT(Q8,"mMmm yyyy")) -> FEBRUARY 2025
R4: QUEUE LENGTH SURVEY
A8: SITE: | B8: 4 | P8: DATE: | Q8: 45701
A10: LOCATION: | B10: Stoneham Interchange | P10: DAY: | Q10: =UPPER(TEXT(Q8,"dddd")) -> THURSDAY
A12: ANALYSIS: Queue at (i) each 5 minute interval and the (ii) Maximum Queue per 5 minute period
A14: Arm D - Lane 1 | H14: Arm D - Lane 2
A15: Time | B15: Total | C15: Cars | D15: OGV1 | E15: OGV2 | F15: PSV | G15: Metres | H15: Time | I15: Total | J15: Cars | K15: OGV1 | L15: OGV2 | M15: PSV | N15: Metres
A16: 0.29166667 | B16: =C16*PCUs!B2+D16*PCUs!B3+E16*PCUs!B4+F16*PCUs!B5 -> 11 | C16: 11 | D16: 0 | E16: 0 | F16: 0 | G16: =B16*5.75 -> 63.25 | H16: 0.29166667 | I16: =J16*PCUs!B2+K16*PCUs!B3+L16*PCUs!B4+M16*PCUs!B5 -> 5 | J16: 5 | K16: 0 | L16: 0 | M16: 0 | N16: =I16*5.75 -> 28.75
A17: Max Queue | B17: =C17*PCUs!B2+D17*PCUs!B3+E17*PCUs!B4+F17*PCUs!B5 -> 11 | C17: 11 | D17: 0 | E17: 0 | F17: 0 | G17: =B17*5.75 -> 63.25 | H17: Max Queue | I17: =J17*PCUs!B2+K17*PCUs!B3+L17*PCUs!B4+M17*PCUs!B5 -> 12 | J17: 12 | K17: 0 | L17: 0 | M17: 0 | N17: =I17*5.75 -> 69
A18: =A16+"00:05" -> 0.29513889 | B18: =C18*PCUs!B2+D18*PCUs!B3+E18*PCUs!B4+F18*PCUs!B5 -> 0 | C18: 0 | D18: 0 | E18: 0 | F18: 0 | G18: =B18*5.75 -> 0 | H18: =H16+"00:05" -> 0.29513889 | I18: =J18*PCUs!B2+K18*PCUs!B3+L18*PCUs!B4+M18*PCUs!B5 -> 2 | J18: 2 | K18: 0 | L18: 0 | M18: 0 | N18: =I18*5.75 -> 11.5
A19: Max Queue | B19: =C19*PCUs!B2+D19*PCUs!B3+E19*PCUs!B4+F19*PCUs!B5 -> 9 | C19: 9 | D19: 0 | E19: 0 | F19: 0 | G19: =B19*5.75 -> 51.75 | H19: Max Queue | I19: =J19*PCUs!B2+K19*PCUs!B3+L19*PCUs!B4+M19*PCUs!B5 -> 3 | J19: 3 | K19: 0 | L19: 0 | M19: 0 | N19: =I19*5.75 -> 17.25
A20: =A18+"00:05" -> 0.29861111 | B20: =C20*PCUs!B2+D20*PCUs!B3+E20*PCUs!B4+F20*PCUs!B5 -> 1 | C20: 1 | D20: 0 | E20: 0 | F20: 0 | G20: =B20*5.75 -> 5.75 | H20: =H18+"00:05" -> 0.29861111 | I20: =J20*PCUs!B2+K20*PCUs!B3+L20*PCUs!B4+M20*PCUs!B5 -> 2 | J20: 2 | K20: 0 | L20: 0 | M20: 0 | N20: =I20*5.75 -> 11.5
A21: Max Queue | B21: =C21*PCUs!B2+D21*PCUs!B3+E21*PCUs!B4+F21*PCUs!B5 -> 20 | C21: 20 | D21: 0 | E21: 0 | F21: 0 | G21: =B21*5.75 -> 115 | H21: Max Queue | I21: =J21*PCUs!B2+K21*PCUs!B3+L21*PCUs!B4+M21*PCUs!B5 -> 20.3 | J21: 18 | K21: 0 | L21: 1 | M21: 0 | N21: =I21*5.75 -> 116.725
A22: =A20+"00:05" -> 0.30208333 | B22: =C22*PCUs!B2+D22*PCUs!B3+E22*PCUs!B4+F22*PCUs!B5 -> 2 | C22: 2 | D22: 0 | E22: 0 | F22: 0 | G22: =B22*5.75 -> 11.5 | H22: =H20+"00:05" -> 0.30208333 | I22: =J22*PCUs!B2+K22*PCUs!B3+L22*PCUs!B4+M22*PCUs!B5 -> 2 | J22: 2 | K22: 0 | L22: 0 | M22: 0 | N22: =I22*5.75 -> 11.5
A23: Max Queue | B23: =C23*PCUs!B2+D23*PCUs!B3+E23*PCUs!B4+F23*PCUs!B5 -> 33.3 | C23: 28 | D23: 2 | E23: 1 | F23: 0 | G23: =B23*5.75 -> 191.475 | H23: Max Queue | I23: =J23*PCUs!B2+K23*PCUs!B3+L23*PCUs!B4+M23*PCUs!B5 -> 25.8 | J23: 22 | K23: 1 | L23: 1 | M23: 0 | N23: =I23*5.75 -> 148.35
A24: =A22+"00:05" -> 0.30555556 | B24: =C24*PCUs!B2+D24*PCUs!B3+E24*PCUs!B4+F24*PCUs!B5 -> 15 | C24: 15 | D24: 0 | E24: 0 | F24: 0 | G24: =B24*5.75 -> 86.25 | H24: =H22+"00:05" -> 0.30555556 | I24: =J24*PCUs!B2+K24*PCUs!B3+L24*PCUs!B4+M24*PCUs!B5 -> 3 | J24: 3 | K24: 0 | L24: 0 | M24: 0 | N24: =I24*5.75 -> 17.25
A25: Max Queue | B25: =C25*PCUs!B2+D25*PCUs!B3+E25*PCUs!B4+F25*PCUs!B5 -> 26.5 | C25: 25 | D25: 1 | E25: 0 | F25: 0 | G25: =B25*5.75 -> 152.375 | H25: Max Queue | I25: =J25*PCUs!B2+K25*PCUs!B3+L25*PCUs!B4+M25*PCUs!B5 -> 23 | J25: 20 | K25: 2 | L25: 0 | M25: 0 | N25: =I25*5.75 -> 132.25
A26: =A24+"00:05" -> 0.30902778 | B26: =C26*PCUs!B2+D26*PCUs!B3+E26*PCUs!B4+F26*PCUs!B5 -> 1.5 | C26: 0 | D26: 1 | E26: 0 | F26: 0 | G26: =B26*5.75 -> 8.625 | H26: =H24+"00:05" -> 0.30902778 | I26: =J26*PCUs!B2+K26*PCUs!B3+L26*PCUs!B4+M26*PCUs!B5 -> 7.3 | J26: 5 | K26: 0 | L26: 1 | M26: 0 | N26: =I26*5.75 -> 41.975
A27: Max Queue | B27: =C27*PCUs!B2+D27*PCUs!B3+E27*PCUs!B4+F27*PCUs!B5 -> 32.3 | C27: 30 | D27: 0 | E27: 1 | F27: 0 | G27: =B27*5.75 -> 185.725 | H27: Max Queue | I27: =J27*PCUs!B2+K27*PCUs!B3+L27*PCUs!B4+M27*PCUs!B5 -> 27.3 | J27: 25 | K27: 0 | L27: 1 | M27: 0 | N27: =I27*5.75 -> 156.975
A28: =A26+"00:05" -> 0.3125 | B28: =C28*PCUs!B2+D28*PCUs!B3+E28*PCUs!B4+F28*PCUs!B5 -> 0 | C28: 0 | D28: 0 | E28: 0 | F28: 0 | G28: =B28*5.75 -> 0 | H28: =H26+"00:05" -> 0.3125 | I28: =J28*PCUs!B2+K28*PCUs!B3+L28*PCUs!B4+M28*PCUs!B5 -> 0 | J28: 0 | K28: 0 | L28: 0 | M28: 0 | N28: =I28*5.75 -> 0
A29: Max Queue | B29: =C29*PCUs!B2+D29*PCUs!B3+E29*PCUs!B4+F29*PCUs!B5 -> 31 | C29: 28 | D29: 2 | E29: 0 | F29: 0 | G29: =B29*5.75 -> 178.25 | H29: Max Queue | I29: =J29*PCUs!B2+K29*PCUs!B3+L29*PCUs!B4+M29*PCUs!B5 -> 28 | J29: 28 | K29: 0 | L29: 0 | M29: 0 | N29: =I29*5.75 -> 161
A30: =A28+"00:05" -> 0.31597222 | B30: =C30*PCUs!B2+D30*PCUs!B3+E30*PCUs!B4+F30*PCUs!B5 -> 0 | C30: 0 | D30: 0 | E30: 0 | F30: 0 | G30: =B30*5.75 -> 0 | H30: =H28+"00:05" -> 0.31597222 | I30: =J30*PCUs!B2+K30*PCUs!B3+L30*PCUs!B4+M30*PCUs!B5 -> 21.5 | J30: 20 | K30: 1 | L30: 0 | M30: 0 | N30: =I30*5.75 -> 123.625
A31: Max Queue | B31: =C31*PCUs!B2+D31*PCUs!B3+E31*PCUs!B4+F31*PCUs!B5 -> 27.3 | C31: 25 | D31: 0 | E31: 1 | F31: 0 | G31: =B31*5.75 -> 156.975 | H31: Max Queue | I31: =J31*PCUs!B2+K31*PCUs!B3+L31*PCUs!B4+M31*PCUs!B5 -> 23.5 | J31: 22 | K31: 1 | L31: 0 | M31: 0 | N31: =I31*5.75 -> 135.125
A32: =A30+"00:05" -> 0.31944444 | B32: =C32*PCUs!B2+D32*PCUs!B3+E32*PCUs!B4+F32*PCUs!B5 -> 12 | C32: 12 | D32: 0 | E32: 0 | F32: 0 | G32: =B32*5.75 -> 69 | H32: =H30+"00:05" -> 0.31944444 | I32: =J32*PCUs!B2+K32*PCUs!B3+L32*PCUs!B4+M32*PCUs!B5 -> 15 | J32: 15 | K32: 0 | L32: 0 | M32: 0 | N32: =I32*5.75 -> 86.25
A33: Max Queue | B33: =C33*PCUs!B2+D33*PCUs!B3+E33*PCUs!B4+F33*PCUs!B5 -> 33.8 | C33: 30 | D33: 1 | E33: 1 | F33: 0 | G33: =B33*5.75 -> 194.35 | H33: Max Queue | I33: =J33*PCUs!B2+K33*PCUs!B3+L33*PCUs!B4+M33*PCUs!B5 -> 19.5 | J33: 18 | K33: 1 | L33: 0 | M33: 0 | N33: =I33*5.75 -> 112.125
A34: =A32+"00:05" -> 0.32291667 | B34: =C34*PCUs!B2+D34*PCUs!B3+E34*PCUs!B4+F34*PCUs!B5 -> 0 | C34: 0 | D34: 0 | E34: 0 | F34: 0 | G34: =B34*5.75 -> 0 | H34: =H32+"00:05" -> 0.32291667 | I34: =J34*PCUs!B2+K34*PCUs!B3+L34*PCUs!B4+M34*PCUs!B5 -> 0 | J34: 0 | K34: 0 | L34: 0 | M34: 0 | N34: =I34*5.75 -> 0
A35: Max Queue | B35: =C35*PCUs!B2+D35*PCUs!B3+E35*PCUs!B4+F35*PCUs!B5 -> 16 | C35: 16 | D35: 0 | E35: 0 | F35: 0 | G35: =B35*5.75 -> 92 | H35: Max Queue | I35: =J35*PCUs!B2+K35*PCUs!B3+L35*PCUs!B4+M35*PCUs!B5 -> 19.6 | J35: 15 | K35: 0 | L35: 2 | M35: 0 | N35: =I35*5.75 -> 112.7
A36: =A34+"00:05" -> 0.32638889 | B36: =C36*PCUs!B2+D36*PCUs!B3+E36*PCUs!B4+F36*PCUs!B5 -> 3 | C36: 3 | D36: 0 | E36: 0 | F36: 0 | G36: =B36*5.75 -> 17.25 | H36: =H34+"00:05" -> 0.32638889 | I36: =J36*PCUs!B2+K36*PCUs!B3+L36*PCUs!B4+M36*PCUs!B5 -> 0 | J36: 0 | K36: 0 | L36: 0 | M36: 0 | N36: =I36*5.75 -> 0
A37: Max Queue | B37: =C37*PCUs!B2+D37*PCUs!B3+E37*PCUs!B4+F37*PCUs!B5 -> 21 | C37: 21 | D37: 0 | E37: 0 | F37: 0 | G37: =B37*5.75 -> 120.75 | H37: Max Queue | I37: =J37*PCUs!B2+K37*PCUs!B3+L37*PCUs!B4+M37*PCUs!B5 -> 20.6 | J37: 16 | K37: 0 | L37: 2 | M37: 0 | N37: =I37*5.75 -> 118.45
A38: =A36+"00:05" -> 0.32986111 | B38: =C38*PCUs!B2+D38*PCUs!B3+E38*PCUs!B4+F38*PCUs!B5 -> 7.5 | C38: 6 | D38: 1 | E38: 0 | F38: 0 | G38: =B38*5.75 -> 43.125 | H38: =H36+"00:05" -> 0.32986111 | I38: =J38*PCUs!B2+K38*PCUs!B3+L38*PCUs!B4+M38*PCUs!B5 -> 20.3 | J38: 18 | K38: 0 | L38: 1 | M38: 0 | N38: =I38*5.75 -> 116.725
A39: Max Queue | B39: =C39*PCUs!B2+D39*PCUs!B3+E39*PCUs!B4+F39*PCUs!B5 -> 27 | C39: 24 | D39: 2 | E39: 0 | F39: 0 | G39: =B39*5.75 -> 155.25 | H39: Max Queue | I39: =J39*PCUs!B2+K39*PCUs!B3+L39*PCUs!B4+M39*PCUs!B5 -> 26.3 | J39: 24 | K39: 0 | L39: 1 | M39: 0 | N39: =I39*5.75 -> 151.225
A40: =A38+"00:05" -> 0.33333333 | B40: =C40*PCUs!B2+D40*PCUs!B3+E40*PCUs!B4+F40*PCUs!B5 -> 0 | C40: 0 | D40: 0 | E40: 0 | F40: 0 | G40: =B40*5.75 -> 0 | H40: =H38+"00:05" -> 0.33333333 | I40: =J40*PCUs!B2+K40*PCUs!B3+L40*PCUs!B4+M40*PCUs!B5 -> 7.5 | J40: 6 | K40: 1 | L40: 0 | M40: 0 | N40: =I40*5.75 -> 43.125
A41: Max Queue | B41: =C41*PCUs!B2+D41*PCUs!B3+E41*PCUs!B4+F41*PCUs!B5 -> 18.5 | C41: 17 | D41: 1 | E41: 0 | F41: 0 | G41: =B41*5.75 -> 106.375 | H41: Max Queue | I41: =J41*PCUs!B2+K41*PCUs!B3+L41*PCUs!B4+M41*PCUs!B5 -> 22 | J41: 22 | K41: 0 | L41: 0 | M41: 0 | N41: =I41*5.75 -> 126.5
A42: =A40+"00:05" -> 0.33680556 | B42: =C42*PCUs!B2+D42*PCUs!B3+E42*PCUs!B4+F42*PCUs!B5 -> 19 | C42: 16 | D42: 2 | E42: 0 | F42: 0 | G42: =B42*5.75 -> 109.25 | H42: =H40+"00:05" -> 0.33680556 | I42: =J42*PCUs!B2+K42*PCUs!B3+L42*PCUs!B4+M42*PCUs!B5 -> 25 | J42: 25 | K42: 0 | L42: 0 | M42: 0 | N42: =I42*5.75 -> 143.75
A43: Max Queue | B43: =C43*PCUs!B2+D43*PCUs!B3+E43*PCUs!B4+F43*PCUs!B5 -> 33.5 | C43: 32 | D43: 1 | E43: 0 | F43: 0 | G43: =B43*5.75 -> 192.625 | H43: Max Queue | I43: =J43*PCUs!B2+K43*PCUs!B3+L43*PCUs!B4+M43*PCUs!B5 -> 32 | J43: 32 | K43: 0 | L43: 0 | M43: 0 | N43: =I43*5.75 -> 184
A44: =A42+"00:05" -> 0.34027778 | B44: =C44*PCUs!B2+D44*PCUs!B3+E44*PCUs!B4+F44*PCUs!B5 -> 30 | C44: 25 | D44: 2 | E44: 0 | F44: 1 | G44: =B44*5.75 -> 172.5 | H44: =H42+"00:05" -> 0.34027778 | I44: =J44*PCUs!B2+K44*PCUs!B3+L44*PCUs!B4+M44*PCUs!B5 -> 20 | J44: 20 | K44: 0 | L44: 0 | M44: 0 | N44: =I44*5.75 -> 115
A45: Max Queue | B45: =C45*PCUs!B2+D45*PCUs!B3+E45*PCUs!B4+F45*PCUs!B5 -> 40.8 | C45: 35 | D45: 1 | E45: 1 | F45: 1 | G45: =B45*5.75 -> 234.6 | H45: Max Queue | I45: =J45*PCUs!B2+K45*PCUs!B3+L45*PCUs!B4+M45*PCUs!B5 -> 37.3 | J45: 35 | K45: 0 | L45: 1 | M45: 0 | N45: =I45*5.75 -> 214.475
A46: =A44+"00:05" -> 0.34375 | B46: =C46*PCUs!B2+D46*PCUs!B3+E46*PCUs!B4+F46*PCUs!B5 -> 36.8 | C46: 30 | D46: 3 | E46: 1 | F46: 0 | G46: =B46*5.75 -> 211.6 | H46: =H44+"00:05" -> 0.34375 | I46: =J46*PCUs!B2+K46*PCUs!B3+L46*PCUs!B4+M46*PCUs!B5 -> 35.6 | J46: 28 | K46: 2 | L46: 2 | M46: 0 | N46: =I46*5.75 -> 204.7
A47: Max Queue | B47: =C47*PCUs!B2+D47*PCUs!B3+E47*PCUs!B4+F47*PCUs!B5 -> 41.8 | C47: 38 | D47: 1 | E47: 1 | F47: 0 | G47: =B47*5.75 -> 240.35 | H47: Max Queue | I47: =J47*PCUs!B2+K47*PCUs!B3+L47*PCUs!B4+M47*PCUs!B5 -> 40.6 | J47: 33 | K47: 2 | L47: 2 | M47: 0 | N47: =I47*5.75 -> 233.45
...

Sheet Site 4 Arm E
U2: 16367 / SOUTHAMPTON
U3: =UPPER(TEXT(U8,"mMmm yyyy")) -> FEBRUARY 2025
U4: QUEUE LENGTH SURVEY
A8: SITE: | C8: 4 | T8: DATE: | U8: 45701
A10: LOCATION: | C10: Stoneham Interchange | T10: DAY: | U10: =UPPER(TEXT(U8,"dddd")) -> THURSDAY
A12: ANALYSIS: All queues in each 5 minute period at the start of the green phase.
A14: Arm E - Lane 1 | H14: Arm E - Lane 2 | O14: Arm E - Lane 3
A15: Time | B15: Total | C15: Cars | D15: OGV1 | E15: OGV2 | F15: PSV | G15: Metres | H15: Time | I15: Total | J15: Cars | K15: OGV1 | L15: OGV2 | M15: PSV | N15: Metres | O15: Time | P15: Total | Q15: Cars | R15: OGV1 | S15: OGV2 | T15: PSV | U15: Metres
A16: 0.29166667 | B16: =C16*PCUs!$B$2+D16*PCUs!$B$3+E16*PCUs!$B$4+F16*PCUs!$B$5 -> 0 | G16: =B16*5.75 -> 0 | H16: 0.29166667 | I16: =J16*PCUs!$B$2+K16*PCUs!$B$3+L16*PCUs!$B$4+M16*PCUs!$B$5 -> 1 | J16: 1 | K16: 0 | L16: 0 | M16: 0 | N16: =I16*5.75 -> 5.75 | O16: 0.29166667 | P16: =Q16*PCUs!$B$2+R16*PCUs!$B$3+S16*PCUs!$B$4+T16*PCUs!$B$5 -> 3 | Q16: 3 | R16: 0 | S16: 0 | T16: 0 | U16: =P16*5.75 -> 17.25
A17: =A16 -> 0.29166667 | B17: =C17*PCUs!$B$2+D17*PCUs!$B$3+E17*PCUs!$B$4+F17*PCUs!$B$5 -> 0 | G17: =B17*5.75 -> 0 | H17: =H16 -> 0.29166667 | I17: =J17*PCUs!$B$2+K17*PCUs!$B$3+L17*PCUs!$B$4+M17*PCUs!$B$5 -> 5 | J17: 5 | K17: 0 | L17: 0 | M17: 0 | N17: =I17*5.75 -> 28.75 | O17: =O16 -> 0.29166667 | P17: =Q17*PCUs!$B$2+R17*PCUs!$B$3+S17*PCUs!$B$4+T17*PCUs!$B$5 -> 5 | Q17: 5 | R17: 0 | S17: 0 | T17: 0 | U17: =P17*5.75 -> 28.75
A18: =A17 -> 0.29166667 | B18: =C18*PCUs!$B$2+D18*PCUs!$B$3+E18*PCUs!$B$4+F18*PCUs!$B$5 -> 0 | G18: =B18*5.75 -> 0 | H18: =H17 -> 0.29166667 | I18: =J18*PCUs!$B$2+K18*PCUs!$B$3+L18*PCUs!$B$4+M18*PCUs!$B$5 -> 3 | J18: 3 | K18: 0 | L18: 0 | M18: 0 | N18: =I18*5.75 -> 17.25 | O18: =O17 -> 0.29166667 | P18: =Q18*PCUs!$B$2+R18*PCUs!$B$3+S18*PCUs!$B$4+T18*PCUs!$B$5 -> 3 | Q18: 3 | R18: 0 | S18: 0 | T18: 0 | U18: =P18*5.75 -> 17.25
A19: =A18 -> 0.29166667 | B19: =C19*PCUs!$B$2+D19*PCUs!$B$3+E19*PCUs!$B$4+F19*PCUs!$B$5 -> 0 | G19: =B19*5.75 -> 0 | H19: =H18 -> 0.29166667 | I19: =J19*PCUs!$B$2+K19*PCUs!$B$3+L19*PCUs!$B$4+M19*PCUs!$B$5 -> 0 | J19: 0 | K19: 0 | L19: 0 | M19: 0 | N19: =I19*5.75 -> 0 | O19: =O18 -> 0.29166667 | P19: =Q19*PCUs!$B$2+R19*PCUs!$B$3+S19*PCUs!$B$4+T19*PCUs!$B$5 -> 5 | Q19: 5 | R19: 0 | S19: 0 | T19: 0 | U19: =P19*5.75 -> 28.75
A20: =A19 -> 0.29166667 | B20: =C20*PCUs!$B$2+D20*PCUs!$B$3+E20*PCUs!$B$4+F20*PCUs!$B$5 -> 0 | G20: =B20*5.75 -> 0 | H20: =H19 -> 0.29166667 | I20: =J20*PCUs!$B$2+K20*PCUs!$B$3+L20*PCUs!$B$4+M20*PCUs!$B$5 -> 5 | J20: 5 | K20: 0 | L20: 0 | M20: 0 | N20: =I20*5.75 -> 28.75 | O20: =O19 -> 0.29166667 | P20: =Q20*PCUs!$B$2+R20*PCUs!$B$3+S20*PCUs!$B$4+T20*PCUs!$B$5 -> 3 | Q20: 3 | R20: 0 | S20: 0 | T20: 0 | U20: =P20*5.75 -> 17.25
A21: =A20 -> 0.29166667 | B21: =C21*PCUs!$B$2+D21*PCUs!$B$3+E21*PCUs!$B$4+F21*PCUs!$B$5 -> 0 | G21: =B21*5.75 -> 0 | H21: =H20 -> 0.29166667 | I21: =J21*PCUs!$B$2+K21*PCUs!$B$3+L21*PCUs!$B$4+M21*PCUs!$B$5 -> 0 | J21: 0 | K21: 0 | L21: 0 | M21: 0 | N21: =I21*5.75 -> 0 | O21: =O20 -> 0.29166667 | P21: =Q21*PCUs!$B$2+R21*PCUs!$B$3+S21*PCUs!$B$4+T21*PCUs!$B$5 -> 3 | Q21: 3 | R21: 0 | S21: 0 | T21: 0 | U21: =P21*5.75 -> 17.25
A22: =A21 -> 0.29166667 | B22: =C22*PCUs!$B$2+D22*PCUs!$B$3+E22*PCUs!$B$4+F22*PCUs!$B$5 -> 0 | G22: =B22*5.75 -> 0 | H22: =H21 -> 0.29166667 | I22: =J22*PCUs!$B$2+K22*PCUs!$B$3+L22*PCUs!$B$4+M22*PCUs!$B$5 -> 0 | N22: =I22*5.75 -> 0 | O22: =O21 -> 0.29166667 | P22: =Q22*PCUs!$B$2+R22*PCUs!$B$3+S22*PCUs!$B$4+T22*PCUs!$B$5 -> 0 | U22: =P22*5.75 -> 0
A23: =A22 -> 0.29166667 | B23: =C23*PCUs!$B$2+D23*PCUs!$B$3+E23*PCUs!$B$4+F23*PCUs!$B$5 -> 0 | G23: =B23*5.75 -> 0 | H23: =H22 -> 0.29166667 | I23: =J23*PCUs!$B$2+K23*PCUs!$B$3+L23*PCUs!$B$4+M23*PCUs!$B$5 -> 0 | N23: =I23*5.75 -> 0 | O23: =O22 -> 0.29166667 | P23: =Q23*PCUs!$B$2+R23*PCUs!$B$3+S23*PCUs!$B$4+T23*PCUs!$B$5 -> 0 | U23: =P23*5.75 -> 0
A24: =A23 -> 0.29166667 | B24: =C24*PCUs!$B$2+D24*PCUs!$B$3+E24*PCUs!$B$4+F24*PCUs!$B$5 -> 0 | G24: =B24*5.75 -> 0 | H24: =H23 -> 0.29166667 | I24: =J24*PCUs!$B$2+K24*PCUs!$B$3+L24*PCUs!$B$4+M24*PCUs!$B$5 -> 0 | N24: =I24*5.75 -> 0 | O24: =O23 -> 0.29166667 | P24: =Q24*PCUs!$B$2+R24*PCUs!$B$3+S24*PCUs!$B$4+T24*PCUs!$B$5 -> 0 | U24: =P24*5.75 -> 0
A25: =A24 -> 0.29166667 | B25: =C25*PCUs!$B$2+D25*PCUs!$B$3+E25*PCUs!$B$4+F25*PCUs!$B$5 -> 0 | G25: =B25*5.75 -> 0 | H25: =H24 -> 0.29166667 | I25: =J25*PCUs!$B$2+K25*PCUs!$B$3+L25*PCUs!$B$4+M25*PCUs!$B$5 -> 0 | N25: =I25*5.75 -> 0 | O25: =O24 -> 0.29166667 | P25: =Q25*PCUs!$B$2+R25*PCUs!$B$3+S25*PCUs!$B$4+T25*PCUs!$B$5 -> 0 | U25: =P25*5.75 -> 0
A26: =A25 -> 0.29166667 | B26: =C26*PCUs!$B$2+D26*PCUs!$B$3+E26*PCUs!$B$4+F26*PCUs!$B$5 -> 0 | G26: =B26*5.75 -> 0 | H26: =H25 -> 0.29166667 | I26: =J26*PCUs!$B$2+K26*PCUs!$B$3+L26*PCUs!$B$4+M26*PCUs!$B$5 -> 0 | N26: =I26*5.75 -> 0 | O26: =O25 -> 0.29166667 | P26: =Q26*PCUs!$B$2+R26*PCUs!$B$3+S26*PCUs!$B$4+T26*PCUs!$B$5 -> 0 | U26: =P26*5.75 -> 0
A27: =A26 -> 0.29166667 | B27: =C27*PCUs!$B$2+D27*PCUs!$B$3+E27*PCUs!$B$4+F27*PCUs!$B$5 -> 0 | G27: =B27*5.75 -> 0 | H27: =H26 -> 0.29166667 | I27: =J27*PCUs!$B$2+K27*PCUs!$B$3+L27*PCUs!$B$4+M27*PCUs!$B$5 -> 0 | N27: =I27*5.75 -> 0 | O27: =O26 -> 0.29166667 | P27: =Q27*PCUs!$B$2+R27*PCUs!$B$3+S27*PCUs!$B$4+T27*PCUs!$B$5 -> 0 | U27: =P27*5.75 -> 0
A28: =A27 -> 0.29166667 | B28: =MAX(B16:B27) -> 0 | C28: =VLOOKUP(B28,B16:F27,2,FALSE) -> 0 | D28: =VLOOKUP(B28,B16:F27,3,FALSE) -> 0 | E28: =VLOOKUP(B28,B16:F27,4,FALSE) -> 0 | F28: =VLOOKUP(B28,B16:F27,5,FALSE) -> 0 | G28: =B28*5.75 -> 0 | H28: =H27 -> 0.29166667 | I28: =MAX(I16:I27) -> 5 | J28: =VLOOKUP(I28,I16:M27,2,FALSE) -> 5 | K28: =VLOOKUP(I28,I16:M27,3,FALSE) -> 0 | L28: =VLOOKUP(I28,I16:M27,4,FALSE) -> 0 | M28: =VLOOKUP(I28,I16:M27,5,FALSE) -> 0 | N28: =I28*5.75 -> 28.75 | O28: =O27 -> 0.29166667 | P28: =MAX(P16:P27) -> 5 | Q28: =VLOOKUP(P28,P16:T27,2,FALSE) -> 5 | R28: =VLOOKUP(P28,P16:T27,3,FALSE) -> 0 | S28: =VLOOKUP(P28,P16:T27,4,FALSE) -> 0 | T28: =VLOOKUP(P28,P16:T27,5,FALSE) -> 0 | U28: =P28*5.75 -> 28.75
