Workbook

Sheet AM Summary
A1: Scenario | B1: Lane | C1: DoS (%) | D1: Total Delay (PCU/Hr) | E1: Mean Max Queue
A2: 2025 Baseline | B2: =Base_AM!B4 -> Stoneham Lane Ahead Left | C2: =Base_AM!$L$4 -> 0.791 | D2: =Base_AM!$P$4 -> 5 | E2: =Base_AM!$R$4 -> 10.3
B3: =Base_AM!B5 -> Stoneham Lane Ahead | C3: =VALUE(LEFT(Base_AM!$L$5,4))/100 -> 0.701 | D3: =VALUE(LEFT(Base_AM!$P$5,4)) -> 5 | E3: =VALUE(LEFT(Base_AM!$R$5,4)) -> 6.6
B4: =Base_AM!B6 -> A335 (N) Left | C4: =Base_AM!$L$6 -> 0.196 | D4: =Base_AM!$P$6 -> 0.1 | E4: =Base_AM!$R$6 -> 0.1
B5: =Base_AM!B7 -> A335 (N) Ahead | C5: =Base_AM!$L$7 -> 0.823 | D5: =Base_AM!$P$7 -> 4.9 | E5: =Base_AM!$R$7 -> 8.9
B6: =Base_AM!B8 -> A335 (N) Ahead | C6: =Base_AM!$L$8 -> 0.819 | D6: =Base_AM!$P$8 -> 4.9 | E6: =Base_AM!$R$8 -> 8.9
B7: =Base_AM!B9 -> M27 (E) Off slip Left | C7: =Base_AM!$L$9 -> 0.405 | D7: =Base_AM!$P$9 -> 0.3 | E7: =Base_AM!$R$9 -> 0.3
B8: =Base_AM!B10 -> M27 (E) Off slip Ahead | C8: =VALUE(LEFT(Base_AM!$L$10,4))/100 -> 0.759 | D8: =VALUE(LEFT(Base_AM!$P$10,4)) -> 5.1 | E8: =VALUE(LEFT(Base_AM!$R$10,4)) -> 7.1
B9: =Base_AM!B11 -> A335 Stoneham Way (S) Ahead Left | C9: =Base_AM!$L$11 -> 0.763 | D9: =Base_AM!$P$11 -> 1.6 | E9: =Base_AM!$R$11 -> 1.6
B10: =Base_AM!B12 -> A335 Stoneham Way (S) Ahead | C10: =Base_AM!$L$12 -> 0.769 | D10: =Base_AM!$P$12 -> 1.9 | E10: =Base_AM!$R$12 -> 5.2
B11: =Base_AM!B13 -> M27 (W) Off slip Ahead Left | C11: =Base_AM!$L$13 -> 0.684 | D11: =Base_AM!$P$13 -> 3.5 | E11: =Base_AM!$R$13 -> 7.1
B12: =Base_AM!B14 -> M27 (W) Off slip Ahead | C12: =Base_AM!$L$14 -> 0.335 | D12: =Base_AM!$P$14 -> 1.3 | E12: =Base_AM!$R$14 -> 2.9
B13: =Base_AM!B15 -> M27 (W) Off slip Ahead | C13: =Base_AM!$L$15 -> 0.832 | D13: =Base_AM!$P$15 -> 5.2 | E13: =Base_AM!$R$15 -> 9.3
B14: =Base_AM!B16 -> NW Circulatory Ahead | C14: =Base_AM!$L$16 -> 0.662 | D14: =Base_AM!$P$16 -> 3.5 | E14: =Base_AM!$R$16 -> 11.8
B15: =Base_AM!B17 -> NW Circulatory Right Ahead | C15: =Base_AM!$L$17 -> 0.578 | D15: =Base_AM!$P$17 -> 3.4 | E15: =Base_AM!$R$17 -> 12.2
B16: =Base_AM!B18 -> NW Circulatory Right | C16: =Base_AM!$L$18 -> 0.39 | D16: =Base_AM!$P$18 -> 3 | E16: =Base_AM!$R$18 -> 7.5
B17: =Base_AM!B19 -> NE Circulatory Ahead | C17: =Base_AM!$L$19 -> 0.479 | D17: =Base_AM!$P$19 -> 1.2 | E17: =Base_AM!$R$19 -> 7.3
B18: =Base_AM!B20 -> NE Circulatory Ahead Ahead2 | C18: =Base_AM!$L$20 -> 0.45 | D18: =Base_AM!$P$20 -> 0.8 | E18: =Base_AM!$R$20 -> 1.9
B19: =Base_AM!B21 -> NE Circulatory Ahead | C19: =Base_AM!$L$21 -> 0.282 | D19: =Base_AM!$P$21 -> 1.2 | E19: =Base_AM!$R$21 -> 7.3
B20: =Base_AM!B22 -> Eastern Circulatory Ahead | C20: =Base_AM!$L$22 -> 0.74 | D20: =Base_AM!$P$22 -> 2.9 | E20: =Base_AM!$R$22 -> 5.6
B21: =Base_AM!B23 -> Eastern Circulatory Right Ahead | C21: =Base_AM!$L$23 -> 0.741 | D21: =Base_AM!$P$23 -> 3 | E21: =Base_AM!$R$23 -> 5.9
B22: =Base_AM!B24 -> Eastern Circulatory Right | C22: =Base_AM!$L$24 -> 0.562 | D22: =Base_AM!$P$24 -> 1.8 | E22: =Base_AM!$R$24 -> 3.9
B23: =Base_AM!B25 -> Southern Circulatory Ahead | C23: =Base_AM!$L$25 -> 0.048 | D23: =Base_AM!$P$25 -> 0 | E23: =Base_AM!$R$25 -> 0
B24: =Base_AM!B26 -> Southern Circulatory Right Ahead | C24: =Base_AM!$L$26 -> 0.426 | D24: =Base_AM!$P$26 -> 0.4 | E24: =Base_AM!$R$26 -> 0.4
B25: =Base_AM!B27 -> Southern Circulatory Right | C25: =Base_AM!$L$27 -> 0.283 | D25: =Base_AM!$P$27 -> 0.2 | E25: =Base_AM!$R$27 -> 0.2
B26: =Base_AM!B28 -> Western Circulatory Ahead | C26: =Base_AM!$L$28 -> 0.54 | D26: =Base_AM!$P$28 -> 2.3 | E26: =Base_AM!$R$28 -> 9.4
B27: =Base_AM!B29 -> Western Circulatory Right Ahead | C27: =Base_AM!$L$29 -> 0.538 | D27: =Base_AM!$P$29 -> 2.1 | E27: =Base_AM!$R$29 -> 8.8
B28: =Base_AM!B30 -> Western Circulatory Right | C28: =Base_AM!$L$30 -> 0.521 | D28: =Base_AM!$P$30 -> 2.1 | E28: =Base_AM!$R$30 -> 8.6
A29: 2028 Baseline | B29: =B2 -> Stoneham Lane Ahead Left | C29: ='2028_DM_AM'!$L$4 -> 0.763 | D29: ='2028_DM_AM'!$P$4 -> 4.7 | E29: ='2028_DM_AM'!$R$4 -> 10
B30: =B3 -> Stoneham Lane Ahead | C30: =VALUE(LEFT('2028_DM_AM'!$L$5,4))/100 -> 0.69 | D30: =VALUE(LEFT('2028_DM_AM'!$P$5,4)) -> 4.9 | E30: =VALUE(LEFT('2028_DM_AM'!$R$5,4)) -> 6.6
B31: =B4 -> A335 (N) Left | C31: ='2028_DM_AM'!$L$6 -> 0.204 | D31: ='2028_DM_AM'!$P$6 -> 0.1 | E31: ='2028_DM_AM'!$R$6 -> 0.1
B32: =B5 -> A335 (N) Ahead | C32: ='2028_DM_AM'!$L$7 -> 0.577 | D32: ='2028_DM_AM'!$P$7 -> 3 | E32: ='2028_DM_AM'!$R$7 -> 7
B33: =B6 -> A335 (N) Ahead | C33: ='2028_DM_AM'!$L$8 -> 0.577 | D33: ='2028_DM_AM'!$P$8 -> 3.1 | E33: ='2028_DM_AM'!$R$8 -> 7.1
B34: =B7 -> M27 (E) Off slip Left | C34: ='2028_DM_AM'!$L$9 -> 0.409 | D34: ='2028_DM_AM'!$P$9 -> 0.3 | E34: ='2028_DM_AM'!$R$9 -> 0.3
B35: =B8 -> M27 (E) Off slip Ahead | C35: =VALUE(LEFT('2028_DM_AM'!$L$10,4))/100 -> 0.753 | D35: =VALUE(LEFT('2028_DM_AM'!$P$10,4)) -> 5 | E35: =VALUE(LEFT('2028_DM_AM'!$R$10,4)) -> 7.3
B36: =B9 -> A335 Stoneham Way (S) Ahead Left | C36: ='2028_DM_AM'!$L$11 -> 0.784 | D36: ='2028_DM_AM'!$P$11 -> 1.8 | E36: ='2028_DM_AM'!$R$11 -> 4.2
B37: =B10 -> A335 Stoneham Way (S) Ahead | C37: ='2028_DM_AM'!$L$12 -> 0.792 | D37: ='2028_DM_AM'!$P$12 -> 2.2 | E37: ='2028_DM_AM'!$R$12 -> 8
B38: =B11 -> M27 (W) Off slip Ahead Left | C38: ='2028_DM_AM'!$L$13 -> 0.57 | D38: ='2028_DM_AM'!$P$13 -> 2.9 | E38: ='2028_DM_AM'!$R$13 -> 6.5
B39: =B12 -> M27 (W) Off slip Ahead | C39: ='2028_DM_AM'!$L$14 -> 0.316 | D39: ='2028_DM_AM'!$P$14 -> 1.4 | E39: ='2028_DM_AM'!$R$14 -> 3.2
B40: =B13 -> M27 (W) Off slip Ahead | C40: ='2028_DM_AM'!$L$15 -> 0.665 | D40: ='2028_DM_AM'!$P$15 -> 3.5 | E40: ='2028_DM_AM'!$R$15 -> 7.6
B41: =B14 -> NW Circulatory Ahead | C41: ='2028_DM_AM'!$L$16 -> 0.698 | D41: ='2028_DM_AM'!$P$16 -> 2.8 | E41: ='2028_DM_AM'!$R$16 -> 9.8
B42: =B15 -> NW Circulatory Right Ahead | C42: ='2028_DM_AM'!$L$17 -> 0.61 | D42: ='2028_DM_AM'!$P$17 -> 2.4 | E42: ='2028_DM_AM'!$R$17 -> 7.9
B43: =B16 -> NW Circulatory Right | C43: ='2028_DM_AM'!$L$18 -> 0.422 | D43: ='2028_DM_AM'!$P$18 -> 0.8 | E43: ='2028_DM_AM'!$R$18 -> 2.8
B44: =B17 -> NE Circulatory Ahead | C44: ='2028_DM_AM'!$L$19 -> 0.54 | D44: ='2028_DM_AM'!$P$19 -> 2.3 | E44: ='2028_DM_AM'!$R$19 -> 12
B45: =B18 -> NE Circulatory Ahead Ahead2 | C45: ='2028_DM_AM'!$L$20 -> 0.548 | D45: ='2028_DM_AM'!$P$20 -> 1.6 | E45: ='2028_DM_AM'!$R$20 -> 4
B46: =B19 -> NE Circulatory Ahead | C46: ='2028_DM_AM'!$L$21 -> 0.329 | D46: ='2028_DM_AM'!$P$21 -> 0.4 | E46: ='2028_DM_AM'!$R$21 -> 0.9
B47: =B20 -> Eastern Circulatory Ahead | C47: ='2028_DM_AM'!$L$22 -> 0.775 | D47: ='2028_DM_AM'!$P$22 -> 3.7 | E47: ='2028_DM_AM'!$R$22 -> 8.5
B48: =B21 -> Eastern Circulatory Right Ahead | C48: ='2028_DM_AM'!$L$23 -> 0.775 | D48: ='2028_DM_AM'!$P$23 -> 4.2 | E48: ='2028_DM_AM'!$R$23 -> 8.3
B49: =B22 -> Eastern Circulatory Right | C49: ='2028_DM_AM'!$L$24 -> 0.616 | D49: ='2028_DM_AM'!$P$24 -> 2.5 | E49: ='2028_DM_AM'!$R$24 -> 8.2
B50: =B23 -> Southern Circulatory Ahead | C50: ='2028_DM_AM'!$L$25 -> 0.052 | D50: ='2028_DM_AM'!$P$25 -> 0 | E50: ='2028_DM_AM'!$R$25 -> 0
B51: =B24 -> Southern Circulatory Right Ahead | C51: ='2028_DM_AM'!$L$26 -> 0.44 | D51: ='2028_DM_AM'!$P$26 -> 0.4 | E51: ='2028_DM_AM'!$R$26 -> 0.4
B52: =B25 -> Southern Circulatory Right | C52: ='2028_DM_AM'!$L$27 -> 0.292 | D52: ='2028_DM_AM'!$P$27 -> 0.2 | E52: ='2028_DM_AM'!$R$27 -> 0.2
B53: =B26 -> Western Circulatory Ahead | C53: ='2028_DM_AM'!$L$28 -> 0.598 | D53: ='2028_DM_AM'!$P$28 -> 2.6 | E53: ='2028_DM_AM'!$R$28 -> 10.9
B54: =B27 -> Western Circulatory Right Ahead | C54: ='2028_DM_AM'!$L$29 -> 0.594 | D54: ='2028_DM_AM'!$P$29 -> 2.4 | E54: ='2028_DM_AM'!$R$29 -> 10.1
B55: =B28 -> Western Circulatory Right | C55: ='2028_DM_AM'!$L$30 -> 0.582 | D55: ='2028_DM_AM'!$P$30 -> 2.9 | E55: ='2028_DM_AM'!$R$30 -> 10.9
A56: 2028 Baseline + Proposed Development | B56: =B29 -> Stoneham Lane Ahead Left | C56: ='2028_DS_AM'!$L$4 -> 0.788 | D56: ='2028_DS_AM'!$P$4 -> 5.1 | E56: ='2028_DS_AM'!$R$4 -> 10.9
B57: =B30 -> Stoneham Lane Ahead | C57: =VALUE(LEFT('2028_DS_AM'!$L$5,4))/100 -> 0.753 | D57: =VALUE(LEFT('2028_DS_AM'!$P$5,4)) -> 5.6 | E57: =VALUE(LEFT('2028_DS_AM'!$R$5,4)) -> 7.9
B58: =B31 -> A335 (N) Left | C58: ='2028_DS_AM'!$L$6 -> 0.238 | D58: ='2028_DS_AM'!$P$6 -> 0.2 | E58: ='2028_DS_AM'!$R$6 -> 0.2
B59: =B32 -> A335 (N) Ahead | C59: ='2028_DS_AM'!$L$7 -> 0.586 | D59: ='2028_DS_AM'!$P$7 -> 3.2 | E59: ='2028_DS_AM'!$R$7 -> 7.6
B60: =B33 -> A335 (N) Ahead | C60: ='2028_DS_AM'!$L$8 -> 0.587 | D60: ='2028_DS_AM'!$P$8 -> 3.2 | E60: ='2028_DS_AM'!$R$8 -> 7.7
B61: =B34 -> M27 (E) Off slip Left | C61: ='2028_DS_AM'!$L$9 -> 0.409 | D61: ='2028_DS_AM'!$P$9 -> 0.3 | E61: ='2028_DS_AM'!$R$9 -> 0.3
B62: =B35 -> M27 (E) Off slip Ahead | C62: =VALUE(LEFT('2028_DS_AM'!$L$10,4))/100 -> 0.821 | D62: =VALUE(LEFT('2028_DS_AM'!$P$10,4)) -> 6.1 | E62: =VALUE(LEFT('2028_DS_AM'!$R$10,4)) -> 8.9
B63: =B36 -> A335 Stoneham Way (S) Ahead Left | C63: ='2028_DS_AM'!$L$11 -> 0.812 | D63: ='2028_DS_AM'!$P$11 -> 2.2 | E63: ='2028_DS_AM'!$R$11 -> 6.1
B64: =B37 -> A335 Stoneham Way (S) Ahead | C64: ='2028_DS_AM'!$L$12 -> 0.828 | D64: ='2028_DS_AM'!$P$12 -> 2.7 | E64: ='2028_DS_AM'!$R$12 -> 9.2
B65: =B38 -> M27 (W) Off slip Ahead Left | C65: ='2028_DS_AM'!$L$13 -> 0.441 | D65: ='2028_DS_AM'!$P$13 -> 2.2 | E65: ='2028_DS_AM'!$R$13 -> 6
B66: =B39 -> M27 (W) Off slip Ahead | C66: ='2028_DS_AM'!$L$14 -> 0.29 | D66: ='2028_DS_AM'!$P$14 -> 1.3 | E66: ='2028_DS_AM'!$R$14 -> 3.6
B67: =B40 -> M27 (W) Off slip Ahead | C67: ='2028_DS_AM'!$L$15 -> 0.468 | D67: ='2028_DS_AM'!$P$15 -> 2.4 | E67: ='2028_DS_AM'!$R$15 -> 6.1
B68: =B41 -> NW Circulatory Ahead | C68: ='2028_DS_AM'!$L$16 -> 0.764 | D68: ='2028_DS_AM'!$P$16 -> 4.5 | E68: ='2028_DS_AM'!$R$16 -> 11.2
B69: =B42 -> NW Circulatory Right Ahead | C69: ='2028_DS_AM'!$L$17 -> 0.663 | D69: ='2028_DS_AM'!$P$17 -> 3.6 | E69: ='2028_DS_AM'!$R$17 -> 10
B70: =B43 -> NW Circulatory Right | C70: ='2028_DS_AM'!$L$18 -> 0.484 | D70: ='2028_DS_AM'!$P$18 -> 2 | E70: ='2028_DS_AM'!$R$18 -> 9.4
B71: =B44 -> NE Circulatory Ahead | C71: ='2028_DS_AM'!$L$19 -> 0.474 | D71: ='2028_DS_AM'!$P$19 -> 1.8 | E71: ='2028_DS_AM'!$R$19 -> 9.1
B72: =B45 -> NE Circulatory Ahead Ahead2 | C72: ='2028_DS_AM'!$L$20 -> 0.666 | D72: ='2028_DS_AM'!$P$20 -> 2 | E72: ='2028_DS_AM'!$R$20 -> 7
B73: =B46 -> NE Circulatory Ahead | C73: ='2028_DS_AM'!$L$21 -> 0.344 | D73: ='2028_DS_AM'!$P$21 -> 0.6 | E73: ='2028_DS_AM'!$R$21 -> 6
B74: =B47 -> Eastern Circulatory Ahead | C74: ='2028_DS_AM'!$L$22 -> 0.787 | D74: ='2028_DS_AM'!$P$22 -> 4.5 | E74: ='2028_DS_AM'!$R$22 -> 9.8
B75: =B48 -> Eastern Circulatory Right Ahead | C75: ='2028_DS_AM'!$L$23 -> 0.815 | D75: ='2028_DS_AM'!$P$23 -> 4.5 | E75: ='2028_DS_AM'!$R$23 -> 8.1
B76: =B49 -> Eastern Circulatory Right | C76: ='2028_DS_AM'!$L$24 -> 0.688 | D76: ='2028_DS_AM'!$P$24 -> 3 | E76: ='2028_DS_AM'!$R$24 -> 9.1
B77: =B50 -> Southern Circulatory Ahead | C77: ='2028_DS_AM'!$L$25 -> 0.068 | D77: ='2028_DS_AM'!$P$25 -> 0 | E77: ='2028_DS_AM'!$R$25 -> 0
B78: =B51 -> Southern Circulatory Right Ahead | C78: ='2028_DS_AM'!$L$26 -> 0.47 | D78: ='2028_DS_AM'!$P$26 -> 0.4 | E78: ='2028_DS_AM'!$R$26 -> 0.4
B79: =B52 -> Southern Circulatory Right | C79: ='2028_DS_AM'!$L$27 -> 0.32 | D79: ='2028_DS_AM'!$P$27 -> 0.2 | E79: ='2028_DS_AM'!$R$27 -> 0.2
B80: =B53 -> Western Circulatory Ahead | C80: ='2028_DS_AM'!$L$28 -> 0.755 | D80: ='2028_DS_AM'!$P$28 -> 6 | E80: ='2028_DS_AM'!$R$28 -> 15.8
B81: =B54 -> Western Circulatory Right Ahead | C81: ='2028_DS_AM'!$L$29 -> 0.724 | D81: ='2028_DS_AM'!$P$29 -> 5 | E81: ='2028_DS_AM'!$R$29 -> 14
B82: =B55 -> Western Circulatory Right | C82: ='2028_DS_AM'!$L$30 -> 0.764 | D82: ='2028_DS_AM'!$P$30 -> 5.3 | E82: ='2028_DS_AM'!$R$30 -> 15.2
A83: 2036 Baseline | B83: =B56 -> Stoneham Lane Ahead Left | C83: ='2036_DM_AM'!$L$4 -> 0.751 | D83: ='2036_DM_AM'!$P$4 -> 4.6 | E83: ='2036_DM_AM'!$R$4 -> 10.1
B84: =B57 -> Stoneham Lane Ahead | C84: =VALUE(LEFT('2036_DM_AM'!$L$5,4))/100 -> 0.714 | D84: =VALUE(LEFT('2036_DM_AM'!$P$5,4)) -> 5.3 | E84: =VALUE(LEFT('2036_DM_AM'!$R$5,4)) -> 7
B85: =B58 -> A335 (N) Left | C85: ='2036_DM_AM'!$L$6 -> 0.223 | D85: ='2036_DM_AM'!$P$6 -> 0.1 | E85: ='2036_DM_AM'!$R$6 -> 0.1
B86: =B59 -> A335 (N) Ahead | C86: ='2036_DM_AM'!$L$7 -> 0.559 | D86: ='2036_DM_AM'!$P$7 -> 3 | E86: ='2036_DM_AM'!$R$7 -> 7.4
B87: =B60 -> A335 (N) Ahead | C87: ='2036_DM_AM'!$L$8 -> 0.561 | D87: ='2036_DM_AM'!$P$8 -> 3.1 | E87: ='2036_DM_AM'!$R$8 -> 7.5
B88: =B61 -> M27 (E) Off slip Left | C88: ='2036_DM_AM'!$L$9 -> 0.43 | D88: ='2036_DM_AM'!$P$9 -> 0.4 | E88: ='2036_DM_AM'!$R$9 -> 0.4
B89: =B62 -> M27 (E) Off slip Ahead | C89: =VALUE(LEFT('2036_DM_AM'!$L$10,4))/100 -> 0.804 | D89: =VALUE(LEFT('2036_DM_AM'!$P$10,4)) -> 5.9 | E89: =VALUE(LEFT('2036_DM_AM'!$R$10,4)) -> 8.3
B90: =B63 -> A335 Stoneham Way (S) Ahead Left | C90: ='2036_DM_AM'!$L$11 -> 0.846 | D90: ='2036_DM_AM'!$P$11 -> 2.7 | E90: ='2036_DM_AM'!$R$11 -> 6.8
B91: =B64 -> A335 Stoneham Way (S) Ahead | C91: ='2036_DM_AM'!$L$12 -> 0.869 | D91: ='2036_DM_AM'!$P$12 -> 3.7 | E91: ='2036_DM_AM'!$R$12 -> 10.6
B92: =B65 -> M27 (W) Off slip Ahead Left | C92: ='2036_DM_AM'!$L$13 -> 0.651 | D92: ='2036_DM_AM'!$P$13 -> 3.4 | E92: ='2036_DM_AM'!$R$13 -> 7.5
B93: =B66 -> M27 (W) Off slip Ahead | C93: ='2036_DM_AM'!$L$14 -> 0.428 | D93: ='2036_DM_AM'!$P$14 -> 1.9 | E93: ='2036_DM_AM'!$R$14 -> 4.4
B94: =B67 -> M27 (W) Off slip Ahead | C94: ='2036_DM_AM'!$L$15 -> 0.736 | D94: ='2036_DM_AM'!$P$15 -> 4.1 | E94: ='2036_DM_AM'!$R$15 -> 8.5
B95: =B68 -> NW Circulatory Ahead | C95: ='2036_DM_AM'!$L$16 -> 0.762 | D95: ='2036_DM_AM'!$P$16 -> 3.5 | E95: ='2036_DM_AM'!$R$16 -> 10.7
B96: =B69 -> NW Circulatory Right Ahead | C96: ='2036_DM_AM'!$L$17 -> 0.666 | D96: ='2036_DM_AM'!$P$17 -> 2.6 | E96: ='2036_DM_AM'!$R$17 -> 9.3
B97: =B70 -> NW Circulatory Right | C97: ='2036_DM_AM'!$L$18 -> 0.497 | D97: ='2036_DM_AM'!$P$18 -> 1.3 | E97: ='2036_DM_AM'!$R$18 -> 8.9
B98: =B71 -> NE Circulatory Ahead | C98: ='2036_DM_AM'!$L$19 -> 0.557 | D98: ='2036_DM_AM'!$P$19 -> 3 | E98: ='2036_DM_AM'!$R$19 -> 12.1
B99: =B72 -> NE Circulatory Ahead Ahead2 | C99: ='2036_DM_AM'!$L$20 -> 0.67 | D99: ='2036_DM_AM'!$P$20 -> 2.4 | E99: ='2036_DM_AM'!$R$20 -> 4.8
B100: =B73 -> NE Circulatory Ahead | C100: ='2036_DM_AM'!$L$21 -> 0.374 | D100: ='2036_DM_AM'!$P$21 -> 0.7 | E100: ='2036_DM_AM'!$R$21 -> 6.5
...

Sheet PM Summary
A1: Scenario | B1: Lane | C1: DoS (%) | D1: Total Delay (PCU/Hr) | E1: Mean Max Queue
A2: 2025 Baseline | B2: =Base_PM!B4 -> Stoneham Lane Ahead Left | C2: =Base_PM!$L$4 -> 0.747 | D2: =Base_PM!$P$4 -> 4.5 | E2: =Base_PM!$R$4 -> 10
B3: =Base_PM!B5 -> Stoneham Lane Ahead | C3: =VALUE(LEFT(Base_PM!$L$5,4))/100 -> 0.591 | D3: =VALUE(LEFT(Base_PM!$P$5,4)) -> 3.7 | E3: =VALUE(LEFT(Base_PM!$R$5,4)) -> 5.6
B4: =Base_PM!B6 -> A335 (N) Left | C4: =Base_PM!$L$6 -> 0.307 | D4: =Base_PM!$P$6 -> 0.2 | E4: =Base_PM!$R$6 -> 0.2
B5: =Base_PM!B7 -> A335 (N) Ahead | C5: =Base_PM!$L$7 -> 0.821 | D5: =Base_PM!$P$7 -> 4.7 | E5: =Base_PM!$R$7 -> 8.3
B6: =Base_PM!B8 -> A335 (N) Ahead | C6: =Base_PM!$L$8 -> 0.77 | D6: =Base_PM!$P$8 -> 4.1 | E6: =Base_PM!$R$8 -> 7.4
B7: =Base_PM!B9 -> M27 (E) Off slip Left | C7: =Base_PM!$L$9 -> 0.311 | D7: =Base_PM!$P$9 -> 0.2 | E7: =Base_PM!$R$9 -> 0.2
B8: =Base_PM!B10 -> M27 (E) Off slip Ahead | C8: =VALUE(LEFT(Base_PM!$L$10,4))/100 -> 0.563 | D8: =VALUE(LEFT(Base_PM!$P$10,4)) -> 3 | E8: =VALUE(LEFT(Base_PM!$R$10,4)) -> 4.2
B9: =Base_PM!B11 -> A335 Stoneham Way (S) Ahead Left | C9: =Base_PM!$L$11 -> 0.615 | D9: =Base_PM!$P$11 -> 0.8 | E9: =Base_PM!$R$11 -> 1.4
B10: =Base_PM!B12 -> A335 Stoneham Way (S) Ahead | C10: =Base_PM!$L$12 -> 0.914 | D10: =Base_PM!$P$12 -> 5.4 | E10: =Base_PM!$R$12 -> 21.6
B11: =Base_PM!B13 -> M27 (W) Off slip Ahead Left | C11: =Base_PM!$L$13 -> 0.72 | D11: =Base_PM!$P$13 -> 3 | E11: =Base_PM!$R$13 -> 5.3
B12: =Base_PM!B14 -> M27 (W) Off slip Ahead | C12: =Base_PM!$L$14 -> 0.692 | D12: =Base_PM!$P$14 -> 2.8 | E12: =Base_PM!$R$14 -> 5
B13: =Base_PM!B15 -> M27 (W) Off slip Ahead | C13: =Base_PM!$L$15 -> 0.961 | D13: =Base_PM!$P$15 -> 8.6 | E13: =Base_PM!$R$15 -> 12
B14: =Base_PM!B16 -> NW Circulatory Ahead | C14: =Base_PM!$L$16 -> 0.622 | D14: =Base_PM!$P$16 -> 2.4 | E14: =Base_PM!$R$16 -> 8
B15: =Base_PM!B17 -> NW Circulatory Right Ahead | C15: =Base_PM!$L$17 -> 0.605 | D15: =Base_PM!$P$17 -> 2.4 | E15: =Base_PM!$R$17 -> 6.7
B16: =Base_PM!B18 -> NW Circulatory Right | C16: =Base_PM!$L$18 -> 0.491 | D16: =Base_PM!$P$18 -> 1.3 | E16: =Base_PM!$R$18 -> 3.6
B17: =Base_PM!B19 -> NE Circulatory Ahead | C17: =Base_PM!$L$19 -> 0.583 | D17: =Base_PM!$P$19 -> 2.5 | E17: =Base_PM!$R$19 -> 11.5
B18: =Base_PM!B20 -> NE Circulatory Ahead Ahead2 | C18: =Base_PM!$L$20 -> 0.505 | D18: =Base_PM!$P$20 -> 1.2 | E18: =Base_PM!$R$20 -> 3
B19: =Base_PM!B21 -> NE Circulatory Ahead | C19: =Base_PM!$L$21 -> 0.219 | D19: =Base_PM!$P$21 -> 0.4 | E19: =Base_PM!$R$21 -> 5.3
B20: =Base_PM!B22 -> Eastern Circulatory Ahead | C20: =Base_PM!$L$22 -> 0.592 | D20: =Base_PM!$P$22 -> 1.7 | E20: =Base_PM!$R$22 -> 4.8
B21: =Base_PM!B23 -> Eastern Circulatory Right Ahead | C21: =Base_PM!$L$23 -> 0.607 | D21: =Base_PM!$P$23 -> 1.8 | E21: =Base_PM!$R$23 -> 8.3
B22: =Base_PM!B24 -> Eastern Circulatory Right | C22: =Base_PM!$L$24 -> 0.384 | D22: =Base_PM!$P$24 -> 1.6 | E22: =Base_PM!$R$24 -> 6.4
B23: =Base_PM!B25 -> Southern Circulatory Ahead | C23: =Base_PM!$L$25 -> 0.069 | D23: =Base_PM!$P$25 -> 0 | E23: =Base_PM!$R$25 -> 0
B24: =Base_PM!B26 -> Southern Circulatory Right Ahead | C24: =Base_PM!$L$26 -> 0.312 | D24: =Base_PM!$P$26 -> 0.2 | E24: =Base_PM!$R$26 -> 0.2
B25: =Base_PM!B27 -> Southern Circulatory Right | C25: =Base_PM!$L$27 -> 0.179 | D25: =Base_PM!$P$27 -> 0.1 | E25: =Base_PM!$R$27 -> 0.1
B26: =Base_PM!B28 -> Western Circulatory Ahead | C26: =Base_PM!$L$28 -> 0.371 | D26: =Base_PM!$P$28 -> 1.5 | E26: =Base_PM!$R$28 -> 5.6
B27: =Base_PM!B29 -> Western Circulatory Right Ahead | C27: =Base_PM!$L$29 -> 0.426 | D27: =Base_PM!$P$29 -> 1.5 | E27: =Base_PM!$R$29 -> 5.5
B28: =Base_PM!B30 -> Western Circulatory Right | C28: =Base_PM!$L$30 -> 0.534 | D28: =Base_PM!$P$30 -> 1.5 | E28: =Base_PM!$R$30 -> 7.5
A29: 2028 Baseline | B29: =B2 -> Stoneham Lane Ahead Left | C29: ='2028_DM_PM'!$L$4 -> 0.793 | D29: ='2028_DM_PM'!$P$4 -> 5.1 | E29: ='2028_DM_PM'!$R$4 -> 10.8
B30: =B3 -> Stoneham Lane Ahead | C30: =VALUE(LEFT('2028_DM_PM'!$L$5,4))/100 -> 0.621 | D30: =VALUE(LEFT('2028_DM_PM'!$P$5,4)) -> 4 | E30: =VALUE(LEFT('2028_DM_PM'!$R$5,4)) -> 5.8
B31: =B4 -> A335 (N) Left | C31: ='2028_DM_PM'!$L$6 -> 0.32 | D31: ='2028_DM_PM'!$P$6 -> 0.2 | E31: ='2028_DM_PM'!$R$6 -> 0.2
B32: =B5 -> A335 (N) Ahead | C32: ='2028_DM_PM'!$L$7 -> 0.591 | D32: ='2028_DM_PM'!$P$7 -> 3 | E32: ='2028_DM_PM'!$R$7 -> 6.6
B33: =B6 -> A335 (N) Ahead | C33: ='2028_DM_PM'!$L$8 -> 0.571 | D33: ='2028_DM_PM'!$P$8 -> 2.9 | E33: ='2028_DM_PM'!$R$8 -> 6.5
B34: =B7 -> M27 (E) Off slip Left | C34: ='2028_DM_PM'!$L$9 -> 0.314 | D34: ='2028_DM_PM'!$P$9 -> 0.2 | E34: ='2028_DM_PM'!$R$9 -> 0.2
B35: =B8 -> M27 (E) Off slip Ahead | C35: =VALUE(LEFT('2028_DM_PM'!$L$10,4))/100 -> 0.471 | D35: =VALUE(LEFT('2028_DM_PM'!$P$10,4)) -> 2.2 | E35: =VALUE(LEFT('2028_DM_PM'!$R$10,4)) -> 3.6
B36: =B9 -> A335 Stoneham Way (S) Ahead Left | C36: ='2028_DM_PM'!$L$11 -> 0.62 | D36: ='2028_DM_PM'!$P$11 -> 0.8 | E36: ='2028_DM_PM'!$R$11 -> 1.6
B37: =B10 -> A335 Stoneham Way (S) Ahead | C37: ='2028_DM_PM'!$L$12 -> 0.942 | D37: ='2028_DM_PM'!$P$12 -> 7 | E37: ='2028_DM_PM'!$R$12 -> 14.5
B38: =B11 -> M27 (W) Off slip Ahead Left | C38: ='2028_DM_PM'!$L$13 -> 0.474 | D38: ='2028_DM_PM'!$P$13 -> 2 | E38: ='2028_DM_PM'!$R$13 -> 4.4
B39: =B12 -> M27 (W) Off slip Ahead | C39: ='2028_DM_PM'!$L$14 -> 0.463 | D39: ='2028_DM_PM'!$P$14 -> 2 | E39: ='2028_DM_PM'!$R$14 -> 4.2
B40: =B13 -> M27 (W) Off slip Ahead | C40: ='2028_DM_PM'!$L$15 -> 0.629 | D40: ='2028_DM_PM'!$P$15 -> 3.1 | E40: ='2028_DM_PM'!$R$15 -> 6.4
B41: =B14 -> NW Circulatory Ahead | C41: ='2028_DM_PM'!$L$16 -> 0.627 | D41: ='2028_DM_PM'!$P$16 -> 2.2 | E41: ='2028_DM_PM'!$R$16 -> 7.1
B42: =B15 -> NW Circulatory Right Ahead | C42: ='2028_DM_PM'!$L$17 -> 0.607 | D42: ='2028_DM_PM'!$P$17 -> 2.4 | E42: ='2028_DM_PM'!$R$17 -> 9.1
B43: =B16 -> NW Circulatory Right | C43: ='2028_DM_PM'!$L$18 -> 0.495 | D43: ='2028_DM_PM'!$P$18 -> 1.3 | E43: ='2028_DM_PM'!$R$18 -> 3.5
B44: =B17 -> NE Circulatory Ahead | C44: ='2028_DM_PM'!$L$19 -> 0.654 | D44: ='2028_DM_PM'!$P$19 -> 2.1 | E44: ='2028_DM_PM'!$R$19 -> 11
B45: =B18 -> NE Circulatory Ahead Ahead2 | C45: ='2028_DM_PM'!$L$20 -> 0.587 | D45: ='2028_DM_PM'!$P$20 -> 3.1 | E45: ='2028_DM_PM'!$R$20 -> 8.3
B46: =B19 -> NE Circulatory Ahead | C46: ='2028_DM_PM'!$L$21 -> 0.25 | D46: ='2028_DM_PM'!$P$21 -> 0.4 | E46: ='2028_DM_PM'!$R$21 -> 0.8
B47: =B20 -> Eastern Circulatory Ahead | C47: ='2028_DM_PM'!$L$22 -> 0.873 | D47: ='2028_DM_PM'!$P$22 -> 4.4 | E47: ='2028_DM_PM'!$R$22 -> 8
B48: =B21 -> Eastern Circulatory Right Ahead | C48: ='2028_DM_PM'!$L$23 -> 0.905 | D48: ='2028_DM_PM'!$P$23 -> 5.8 | E48: ='2028_DM_PM'!$R$23 -> 10.7
B49: =B22 -> Eastern Circulatory Right | C49: ='2028_DM_PM'!$L$24 -> 0.6 | D49: ='2028_DM_PM'!$P$24 -> 1.5 | E49: ='2028_DM_PM'!$R$24 -> 2.9
B50: =B23 -> Southern Circulatory Ahead | C50: ='2028_DM_PM'!$L$25 -> 0.076 | D50: ='2028_DM_PM'!$P$25 -> 0 | E50: ='2028_DM_PM'!$R$25 -> 0
B51: =B24 -> Southern Circulatory Right Ahead | C51: ='2028_DM_PM'!$L$26 -> 0.327 | D51: ='2028_DM_PM'!$P$26 -> 0.2 | E51: ='2028_DM_PM'!$R$26 -> 0.2
B52: =B25 -> Southern Circulatory Right | C52: ='2028_DM_PM'!$L$27 -> 0.187 | D52: ='2028_DM_PM'!$P$27 -> 0.1 | E52: ='2028_DM_PM'!$R$27 -> 0.1
B53: =B26 -> Western Circulatory Ahead | C53: ='2028_DM_PM'!$L$28 -> 0.425 | D53: ='2028_DM_PM'!$P$28 -> 2.1 | E53: ='2028_DM_PM'!$R$28 -> 6.5
B54: =B27 -> Western Circulatory Right Ahead | C54: ='2028_DM_PM'!$L$29 -> 0.484 | D54: ='2028_DM_PM'!$P$29 -> 2.3 | E54: ='2028_DM_PM'!$R$29 -> 8.2
B55: =B28 -> Western Circulatory Right | C55: ='2028_DM_PM'!$L$30 -> 0.613 | D55: ='2028_DM_PM'!$P$30 -> 2.7 | E55: ='2028_DM_PM'!$R$30 -> 10.9
A56: 2028 Baseline + Proposed Development | B56: =B29 -> Stoneham Lane Ahead Left | C56: ='2028_DS_PM'!$L$4 -> 0.812 | D56: ='2028_DS_PM'!$P$4 -> 5.4 | E56: ='2028_DS_PM'!$R$4 -> 11.2
B57: =B30 -> Stoneham Lane Ahead | C57: =VALUE(LEFT('2028_DS_PM'!$L$5,4))/100 -> 0.619 | D57: =VALUE(LEFT('2028_DS_PM'!$P$5,4)) -> 3.9 | E57: =VALUE(LEFT('2028_DS_PM'!$R$5,4)) -> 5.8
B58: =B31 -> A335 (N) Left | C58: ='2028_DS_PM'!$L$6 -> 0.37 | D58: ='2028_DS_PM'!$P$6 -> 0.3 | E58: ='2028_DS_PM'!$R$6 -> 0.3
B59: =B32 -> A335 (N) Ahead | C59: ='2028_DS_PM'!$L$7 -> 0.596 | D59: ='2028_DS_PM'!$P$7 -> 3.2 | E59: ='2028_DS_PM'!$R$7 -> 7.5
B60: =B33 -> A335 (N) Ahead | C60: ='2028_DS_PM'!$L$8 -> 0.594 | D60: ='2028_DS_PM'!$P$8 -> 3.2 | E60: ='2028_DS_PM'!$R$8 -> 7.6
B61: =B34 -> M27 (E) Off slip Left | C61: ='2028_DS_PM'!$L$9 -> 0.314 | D61: ='2028_DS_PM'!$P$9 -> 0.2 | E61: ='2028_DS_PM'!$R$9 -> 0.2
B62: =B35 -> M27 (E) Off slip Ahead | C62: =VALUE(LEFT('2028_DS_PM'!$L$10,4))/100 -> 0.502 | D62: =VALUE(LEFT('2028_DS_PM'!$P$10,4)) -> 2.5 | E62: =VALUE(LEFT('2028_DS_PM'!$R$10,4)) -> 3.8
B63: =B36 -> A335 Stoneham Way (S) Ahead Left | C63: ='2028_DS_PM'!$L$11 -> 0.642 | D63: ='2028_DS_PM'!$P$11 -> 0.9 | E63: ='2028_DS_PM'!$R$11 -> 2.2
B64: =B37 -> A335 Stoneham Way (S) Ahead | C64: ='2028_DS_PM'!$L$12 -> 0.998 | D64: ='2028_DS_PM'!$P$12 -> 15.8 | E64: ='2028_DS_PM'!$R$12 -> 36.2
B65: =B38 -> M27 (W) Off slip Ahead Left | C65: ='2028_DS_PM'!$L$13 -> 0.583 | D65: ='2028_DS_PM'!$P$13 -> 2.6 | E65: ='2028_DS_PM'!$R$13 -> 5.4
B66: =B39 -> M27 (W) Off slip Ahead | C66: ='2028_DS_PM'!$L$14 -> 0.579 | D66: ='2028_DS_PM'!$P$14 -> 2.6 | E66: ='2028_DS_PM'!$R$14 -> 5.3
B67: =B40 -> M27 (W) Off slip Ahead | C67: ='2028_DS_PM'!$L$15 -> 0.668 | D67: ='2028_DS_PM'!$P$15 -> 3.3 | E67: ='2028_DS_PM'!$R$15 -> 6.6
B68: =B41 -> NW Circulatory Ahead | C68: ='2028_DS_PM'!$L$16 -> 0.696 | D68: ='2028_DS_PM'!$P$16 -> 2.5 | E68: ='2028_DS_PM'!$R$16 -> 8.3
B69: =B42 -> NW Circulatory Right Ahead | C69: ='2028_DS_PM'!$L$17 -> 0.64 | D69: ='2028_DS_PM'!$P$17 -> 2.5 | E69: ='2028_DS_PM'!$R$17 -> 9.8
B70: =B43 -> NW Circulatory Right | C70: ='2028_DS_PM'!$L$18 -> 0.518 | D70: ='2028_DS_PM'!$P$18 -> 1.4 | E70: ='2028_DS_PM'!$R$18 -> 4.1
B71: =B44 -> NE Circulatory Ahead | C71: ='2028_DS_PM'!$L$19 -> 0.679 | D71: ='2028_DS_PM'!$P$19 -> 2.4 | E71: ='2028_DS_PM'!$R$19 -> 11.7
B72: =B45 -> NE Circulatory Ahead Ahead2 | C72: ='2028_DS_PM'!$L$20 -> 0.645 | D72: ='2028_DS_PM'!$P$20 -> 4.1 | E72: ='2028_DS_PM'!$R$20 -> 9.8
B73: =B46 -> NE Circulatory Ahead | C73: ='2028_DS_PM'!$L$21 -> 0.269 | D73: ='2028_DS_PM'!$P$21 -> 0.5 | E73: ='2028_DS_PM'!$R$21 -> 0.9
B74: =B47 -> Eastern Circulatory Ahead | C74: ='2028_DS_PM'!$L$22 -> 0.905 | D74: ='2028_DS_PM'!$P$22 -> 5.7 | E74: ='2028_DS_PM'!$R$22 -> 10
B75: =B48 -> Eastern Circulatory Right Ahead | C75: ='2028_DS_PM'!$L$23 -> 0.97 | D75: ='2028_DS_PM'!$P$23 -> 9.9 | E75: ='2028_DS_PM'!$R$23 -> 14.8
B76: =B49 -> Eastern Circulatory Right | C76: ='2028_DS_PM'!$L$24 -> 0.73 | D76: ='2028_DS_PM'!$P$24 -> 2.5 | E76: ='2028_DS_PM'!$R$24 -> 4.7
B77: =B50 -> Southern Circulatory Ahead | C77: ='2028_DS_PM'!$L$25 -> 0.095 | D77: ='2028_DS_PM'!$P$25 -> 0.1 | E77: ='2028_DS_PM'!$R$25 -> 0.1
B78: =B51 -> Southern Circulatory Right Ahead | C78: ='2028_DS_PM'!$L$26 -> 0.369 | D78: ='2028_DS_PM'!$P$26 -> 0.3 | E78: ='2028_DS_PM'!$R$26 -> 0.3
B79: =B52 -> Southern Circulatory Right | C79: ='2028_DS_PM'!$L$27 -> 0.208 | D79: ='2028_DS_PM'!$P$27 -> 0.1 | E79: ='2028_DS_PM'!$R$27 -> 0.1
B80: =B53 -> Western Circulatory Ahead | C80: ='2028_DS_PM'!$L$28 -> 0.455 | D80: ='2028_DS_PM'!$P$28 -> 2.1 | E80: ='2028_DS_PM'!$R$28 -> 7.1
B81: =B54 -> Western Circulatory Right Ahead | C81: ='2028_DS_PM'!$L$29 -> 0.488 | D81: ='2028_DS_PM'!$P$29 -> 2.2 | E81: ='2028_DS_PM'!$R$29 -> 8.6
B82: =B55 -> Western Circulatory Right | C82: ='2028_DS_PM'!$L$30 -> 0.625 | D82: ='2028_DS_PM'!$P$30 -> 2.7 | E82: ='2028_DS_PM'!$R$30 -> 11.2
A83: 2036 Baseline | B83: =B56 -> Stoneham Lane Ahead Left | C83: ='2036_DM_PM'!$L$4 -> 0.749 | D83: ='2036_DM_PM'!$P$4 -> 4.6 | E83: ='2036_DM_PM'!$R$4 -> 10.4
B84: =B57 -> Stoneham Lane Ahead | C84: =VALUE(LEFT('2036_DM_PM'!$L$5,4))/100 -> 0.621 | D84: =VALUE(LEFT('2036_DM_PM'!$P$5,4)) -> 4 | E84: =VALUE(LEFT('2036_DM_PM'!$R$5,4)) -> 6
B85: =B58 -> A335 (N) Left | C85: ='2036_DM_PM'!$L$6 -> 0.35 | D85: ='2036_DM_PM'!$P$6 -> 0.3 | E85: ='2036_DM_PM'!$R$6 -> 0.3
B86: =B59 -> A335 (N) Ahead | C86: ='2036_DM_PM'!$L$7 -> 0.541 | D86: ='2036_DM_PM'!$P$7 -> 2.8 | E86: ='2036_DM_PM'!$R$7 -> 6.9
B87: =B60 -> A335 (N) Ahead | C87: ='2036_DM_PM'!$L$8 -> 0.533 | D87: ='2036_DM_PM'!$P$8 -> 2.8 | E87: ='2036_DM_PM'!$R$8 -> 6.9
B88: =B61 -> M27 (E) Off slip Left | C88: ='2036_DM_PM'!$L$9 -> 0.33 | D88: ='2036_DM_PM'!$P$9 -> 0.2 | E88: ='2036_DM_PM'!$R$9 -> 0.2
B89: =B62 -> M27 (E) Off slip Ahead | C89: =VALUE(LEFT('2036_DM_PM'!$L$10,4))/100 -> 0.499 | D89: =VALUE(LEFT('2036_DM_PM'!$P$10,4)) -> 2.4 | E89: =VALUE(LEFT('2036_DM_PM'!$R$10,4)) -> 3.8
B90: =B63 -> A335 Stoneham Way (S) Ahead Left | C90: ='2036_DM_PM'!$L$11 -> 0.667 | D90: ='2036_DM_PM'!$P$11 -> 1 | E90: ='2036_DM_PM'!$R$11 -> 2.4
B91: =B64 -> A335 Stoneham Way (S) Ahead | C91: ='2036_DM_PM'!$L$12 -> 1.03 | D91: ='2036_DM_PM'!$P$12 -> 27.3 | E91: ='2036_DM_PM'!$R$12 -> 92.2
B92: =B65 -> M27 (W) Off slip Ahead Left | C92: ='2036_DM_PM'!$L$13 -> 0.553 | D92: ='2036_DM_PM'!$P$13 -> 2.4 | E92: ='2036_DM_PM'!$R$13 -> 5
B93: =B66 -> M27 (W) Off slip Ahead | C93: ='2036_DM_PM'!$L$14 -> 0.552 | D93: ='2036_DM_PM'!$P$14 -> 2.4 | E93: ='2036_DM_PM'!$R$14 -> 5
B94: =B67 -> M27 (W) Off slip Ahead | C94: ='2036_DM_PM'!$L$15 -> 0.701 | D94: ='2036_DM_PM'!$P$15 -> 3.6 | E94: ='2036_DM_PM'!$R$15 -> 7.2
B95: =B68 -> NW Circulatory Ahead | C95: ='2036_DM_PM'!$L$16 -> 0.704 | D95: ='2036_DM_PM'!$P$16 -> 2.7 | E95: ='2036_DM_PM'!$R$16 -> 7.7
B96: =B69 -> NW Circulatory Right Ahead | C96: ='2036_DM_PM'!$L$17 -> 0.657 | D96: ='2036_DM_PM'!$P$17 -> 2.9 | E96: ='2036_DM_PM'!$R$17 -> 9.5
B97: =B70 -> NW Circulatory Right | C97: ='2036_DM_PM'!$L$18 -> 0.552 | D97: ='2036_DM_PM'!$P$18 -> 2 | E97: ='2036_DM_PM'!$R$18 -> 9.4
B98: =B71 -> NE Circulatory Ahead | C98: ='2036_DM_PM'!$L$19 -> 0.717 | D98: ='2036_DM_PM'!$P$19 -> 4.1 | E98: ='2036_DM_PM'!$R$19 -> 13.4
B99: =B72 -> NE Circulatory Ahead Ahead2 | C99: ='2036_DM_PM'!$L$20 -> 0.675 | D99: ='2036_DM_PM'!$P$20 -> 1.6 | E99: ='2036_DM_PM'!$R$20 -> 5.9
B100: =B73 -> NE Circulatory Ahead | C100: ='2036_DM_PM'!$L$21 -> 0.305 | D100: ='2036_DM_PM'!$P$21 -> 1.9 | E100: ='2036_DM_PM'!$R$21 -> 6.7
...

Sheet Base_AM
A1: Item | B1: Lane Description | C1: Lane Type | D1: Full Phase | E1: Arrow Phase | F1: Num Greens | G1: Total Green (s) | H1: Arrow Green (s) | I1: Demand Flow (pcu) | J1: Sat Flow (pcu/Hr) | K1: Capacity (pcu) | L1: Deg Sat (%) | M1: Turners In Gaps (pcu) | N1: Turners When Unopposed (pcu) | O1: Turners In Intergreen (pcu) | P1: Total Delay (pcuHr) | Q1: Av. Delay Per PCU (s/pcu) | R1: Mean Max Queue (pcu)
A2: Network | B2: - | C2: - | D2: - | F2: - | G2: - | H2: - | I2: - | J2: - | K2: - | L2: 0.832 | M2: 1375 | N2: 0 | O2: 0 | P2: 67 | Q2: - | R2: -
A3: M27/A335 Stoneham Way Junction | B3: - | C3: - | D3: - | F3: - | G3: - | H3: - | I3: - | J3: - | K3: - | L3: 0.832 | M3: 1375 | N3: 0 | O3: 0 | P3: 67 | Q3: - | R3: -
A4: 45658 | B4: Stoneham Lane Ahead Left | C4: U | D4: C1:D | F4: 1 | G4: 22 | H4: - | I4: 413 | J4: 1988 | K4: 522 | L4: 0.791 | M4: - | N4: - | O4: - | P4: 5 | Q4: 43.5 | R4: 10.3
A5: 1/2+1/3 | B5: Stoneham Lane Ahead | C5: U | D5: C1:D | F5: 1 | G5: 22 | H5: - | I5: 563 | J5: 2030:2057 | K5: 383+421 | L5: 70.1 : 70.1% | M5: - | N5: - | O5: - | P5: 5.0 (2.4+2.6) | Q5: 32.2 (32.5:32.0) | R5: 6.6
A6: 45659 | B6: A335 (N) Left | C6: U | D6: - | F6: - | G6: - | H6: - | I6: 375 | J6: 1910 | K6: 1910 | L6: 0.196 | M6: - | N6: - | O6: - | P6: 0.1 | Q6: 1.2 | R6: 0.1
A7: 45690 | B7: A335 (N) Ahead | C7: U | D7: C1:F | F7: 1 | G7: 14 | H7: - | I7: 312 | J7: 2166 | K7: 379 | L7: 0.823 | M7: - | N7: - | O7: - | P7: 4.9 | Q7: 57 | R7: 8.9
A8: 45718 | B8: A335 (N) Ahead | C8: U | D8: C1:F | F8: 1 | G8: 14 | H8: - | I8: 316 | J8: 2205 | K8: 386 | L8: 0.819 | M8: - | N8: - | O8: - | P8: 4.9 | Q8: 56.1 | R8: 8.9
A9: 45660 | B9: M27 (E) Off slip Left | C9: U | D9: C2:C | F9: 1 | G9: 78 | H9: - | I9: 784 | J9: 1937 | K9: 1937 | L9: 0.405 | M9: - | N9: - | O9: - | P9: 0.3 | Q9: 1.6 | R9: 0.3
A10: 3/3+3/2 | B10: M27 (E) Off slip Ahead | C10: U | D10: C2:B | F10: 2 | G10: 28 | H10: - | I10: 1148 | J10: 2157:2127 | K10: 774+737 | L10: 75.9 : 75.9% | M10: - | N10: - | O10: - | P10: 5.1 (2.6+2.5) | Q10: 15.9 (15.9:15.8) | R10: 7.1
A11: 45661 | B11: A335 Stoneham Way (S) Ahead Left | C11: O | D11: - | F11: - | G11: - | H11: - | I11: 671 | J11: 2040 | K11: 880 | L11: 0.763 | M11: 671 | N11: 0 | O11: 0 | P11: 1.6 | Q11: 8.5 | R11: 1.6
A12: 45692 | B12: A335 Stoneham Way (S) Ahead | C12: O | D12: - | F12: - | G12: - | H12: - | I12: 704 | J12: 2131 | K12: 916 | L12: 0.769 | M12: 704 | N12: 0 | O12: 0 | P12: 1.9 | Q12: 9.8 | R12: 5.2
A13: 45662 | B13: M27 (W) Off slip Ahead Left | C13: U | D13: C1:B | F13: 1 | G13: 16 | H13: - | I13: 292 | J13: 2133 | K13: 427 | L13: 0.684 | M13: - | N13: - | O13: - | P13: 3.5 | Q13: 42.8 | R13: 7.1
A14: 45693 | B14: M27 (W) Off slip Ahead | C14: U | D14: C1:B | F14: 1 | G14: 16 | H14: - | I14: 142 | J14: 2117 | K14: 423 | L14: 0.335 | M14: - | N14: - | O14: - | P14: 1.3 | Q14: 33.8 | R14: 2.9
A15: 45721 | B15: M27 (W) Off slip Ahead | C15: U | D15: C1:B | F15: 1 | G15: 16 | H15: - | I15: 326 | J15: 2089 | K15: 392 | L15: 0.832 | M15: - | N15: - | O15: - | P15: 5.2 | Q15: 56.9 | R15: 9.3
A16: 45663 | B16: NW Circulatory Ahead | C16: U | D16: C1:C | F16: 1 | G16: 44 | H16: - | I16: 692 | J16: 1900 | K16: 1045 | L16: 0.662 | M16: - | N16: - | O16: - | P16: 3.5 | Q16: 18.3 | R16: 11.8
A17: 45694 | B17: NW Circulatory Right Ahead | C17: U | D17: C1:C | F17: 1 | G17: 44 | H17: - | I17: 669 | J17: 2106 | K17: 1158 | L17: 0.578 | M17: - | N17: - | O17: - | P17: 3.4 | Q17: 18.2 | R17: 12.2
A18: 45722 | B18: NW Circulatory Right | C18: U | D18: C1:C | F18: 1 | G18: 44 | H18: - | I18: 446 | J18: 2077 | K18: 1142 | L18: 0.39 | M18: - | N18: - | O18: - | P18: 3 | Q18: 24.5 | R18: 7.5
A19: 45664 | B19: NE Circulatory Ahead | C19: U | D19: C1:E | F19: 1 | G19: 52 | H19: - | I19: 657 | J19: 2112 | K19: 1373 | L19: 0.479 | M19: - | N19: - | O19: - | P19: 1.2 | Q19: 6.8 | R19: 7.3
A20: 45695 | B20: NE Circulatory Ahead Ahead2 | C20: U | D20: C1:E | F20: 1 | G20: 52 | H20: - | I20: 617 | J20: 2150 | K20: 1371 | L20: 0.45 | M20: - | N20: - | O20: - | P20: 0.8 | Q20: 4.9 | R20: 1.9
A21: 45723 | B21: NE Circulatory Ahead | C21: U | D21: C1:E | F21: 1 | G21: 52 | H21: - | I21: 392 | J21: 2097 | K21: 1389 | L21: 0.282 | M21: - | N21: - | O21: - | P21: 1.2 | Q21: 11.1 | R21: 7.3
A22: 45665 | B22: Eastern Circulatory Ahead | C22: U | D22: C2:A | F22: 2 | G22: 22 | H22: - | I22: 436 | J22: 2088 | K22: 589 | L22: 0.74 | M22: - | N22: - | O22: - | P22: 2.9 | Q22: 24.3 | R22: 5.6
A23: 45696 | B23: Eastern Circulatory Right Ahead | C23: U | D23: C2:A | F23: 2 | G23: 22 | H23: - | I23: 461 | J23: 2205 | K23: 622 | L23: 0.741 | M23: - | N23: - | O23: - | P23: 3 | Q23: 23.7 | R23: 5.9
A24: 45724 | B24: Eastern Circulatory Right | C24: U | D24: C2:A | F24: 2 | G24: 22 | H24: - | I24: 352 | J24: 2221 | K24: 626 | L24: 0.562 | M24: - | N24: - | O24: - | P24: 1.8 | Q24: 18.5 | R24: 3.9
A25: 45666 | B25: Southern Circulatory Ahead | C25: U | D25: - | F25: - | G25: - | H25: - | I25: 94 | J25: 1977 | K25: 1977 | L25: 0.048 | M25: - | N25: - | O25: - | P25: 0 | Q25: 1 | R25: 0
A26: 45697 | B26: Southern Circulatory Right Ahead | C26: U | D26: - | F26: - | G26: - | H26: - | I26: 901 | J26: 2117 | K26: 2117 | L26: 0.426 | M26: - | N26: - | O26: - | P26: 0.4 | Q26: 1.5 | R26: 0.4
A27: 45725 | B27: Southern Circulatory Right | C27: U | D27: - | F27: - | G27: - | H27: - | I27: 598 | J27: 2115 | K27: 2115 | L27: 0.283 | M27: - | N27: - | O27: - | P27: 0.2 | Q27: 1.2 | R27: 0.2
A28: 45667 | B28: Western Circulatory Ahead | C28: U | D28: C1:A | F28: 1 | G28: 50 | H28: - | I28: 706 | J28: 2091 | K28: 1307 | L28: 0.54 | M28: - | N28: - | O28: - | P28: 2.3 | Q28: 11.5 | R28: 9.4
A29: 45698 | B29: Western Circulatory Right Ahead | C29: U | D29: C1:A | F29: 1 | G29: 50 | H29: - | I29: 655 | J29: 1948 | K29: 1217 | L29: 0.538 | M29: - | N29: - | O29: - | P29: 2.1 | Q29: 11.7 | R29: 8.8
A30: 45726 | B30: Western Circulatory Right | C30: U | D30: C1:A | F30: 1 | G30: 50 | H30: - | I30: 647 | J30: 2027 | K30: 1242 | L30: 0.521 | M30: - | N30: - | O30: - | P30: 2.1 | Q30: 11.8 | R30: 8.6
A31: C1 - 84052 Stream: 1 PRC for Signalled Lanes (%): 8.1 Total Delay for Signalled Lanes (pcuHr): 16.47 Cycle Time (s): 80
A32: C1 - 84052 Stream: 2 PRC for Signalled Lanes (%): 13.7 Total Delay for Signalled Lanes (pcuHr): 19.97 Cycle Time (s): 80
A33: C1 - 84052 Stream: 3 PRC for Signalled Lanes (%): 9.3 Total Delay for Signalled Lanes (pcuHr): 13.15 Cycle Time (s): 80
A34: C2 - 30255 PRC for Signalled Lanes (%): 18.5 Total Delay for Signalled Lanes (pcuHr): 13.18 Cycle Time (s): 78
A35: PRC Over All Lanes (%): 8.1 Total Delay Over All Lanes(pcuHr): 66.98

Sheet Base_PM
A1: Item | B1: Lane Description | C1: Lane Type | D1: Full Phase | E1: Arrow Phase | F1: Num Greens | G1: Total Green (s) | H1: Arrow Green (s) | I1: Demand Flow (pcu) | J1: Sat Flow (pcu/Hr) | K1: Capacity (pcu) | L1: Deg Sat (%) | M1: Turners In Gaps (pcu) | N1: Turners When Unopposed (pcu) | O1: Turners In Intergreen (pcu) | P1: Total Delay (pcuHr) | Q1: Av. Delay Per PCU (s/pcu) | R1: Mean Max Queue (pcu)
A2: Network | B2: - | C2: - | D2: - | F2: - | G2: - | H2: - | I2: - | J2: - | K2: - | L2: 0.961 | M2: 1495 | N2: 0 | O2: 0 | P2: 61.4 | Q2: - | R2: -
A3: M27/A335 Stoneham Way Junction | B3: - | C3: - | D3: - | F3: - | G3: - | H3: - | I3: - | J3: - | K3: - | L3: 0.961 | M3: 1495 | N3: 0 | O3: 0 | P3: 61.4 | Q3: - | R3: -
A4: 45658 | B4: Stoneham Lane Ahead Left | C4: U | D4: C1:D | F4: 1 | G4: 24 | H4: - | I4: 427 | J4: 1989 | K4: 572 | L4: 0.747 | M4: - | N4: - | O4: - | P4: 4.5 | Q4: 38 | R4: 10
A5: 1/2+1/3 | B5: Stoneham Lane Ahead | C5: U | D5: C1:D | F5: 1 | G5: 24 | H5: - | I5: 482 | J5: 2030:2057 | K5: 354+462 | L5: 59.1 : 59.1% | M5: - | N5: - | O5: - | P5: 3.7 (1.6+2.1) | Q5: 27.7 (27.2:28.0) | R5: 5.6
A6: 45659 | B6: A335 (N) Left | C6: U | D6: - | F6: - | G6: - | H6: - | I6: 586 | J6: 1910 | K6: 1910 | L6: 0.307 | M6: - | N6: - | O6: - | P6: 0.2 | Q6: 1.4 | R6: 0.2
A7: 45690 | B7: A335 (N) Ahead | C7: U | D7: C1:F | F7: 1 | G7: 13 | H7: - | I7: 289 | J7: 2166 | K7: 352 | L7: 0.821 | M7: - | N7: - | O7: - | P7: 4.7 | Q7: 59.1 | R7: 8.3
A8: 45718 | B8: A335 (N) Ahead | C8: U | D8: C1:F | F8: 1 | G8: 13 | H8: - | I8: 276 | J8: 2205 | K8: 358 | L8: 0.77 | M8: - | N8: - | O8: - | P8: 4.1 | Q8: 53.1 | R8: 7.4
A9: 45660 | B9: M27 (E) Off slip Left | C9: U | D9: C2:C | F9: 1 | G9: 80 | H9: - | I9: 602 | J9: 1937 | K9: 1937 | L9: 0.311 | M9: - | N9: - | O9: - | P9: 0.2 | Q9: 1.3 | R9: 0.2
A10: 3/3+3/2 | B10: M27 (E) Off slip Ahead | C10: U | D10: C2:B | F10: 2 | G10: 26 | H10: - | I10: 763 | J10: 2157:2127 | K10: 665+691 | L10: 56.3 : 56.3% | M10: - | N10: - | O10: - | P10: 3.0 (1.5+1.5) | Q10: 14.1 (14.1:14.2) | R10: 4.2
A11: 45661 | B11: A335 Stoneham Way (S) Ahead Left | C11: O | D11: - | F11: - | G11: - | H11: - | I11: 535 | J11: 2040 | K11: 870 | L11: 0.615 | M11: 535 | N11: 0 | O11: 0 | P11: 0.8 | Q11: 5.4 | R11: 1.4
A12: 45692 | B12: A335 Stoneham Way (S) Ahead | C12: O | D12: - | F12: - | G12: - | H12: - | I12: 960 | J12: 2131 | K12: 1051 | L12: 0.914 | M12: 960 | N12: 0 | O12: 0 | P12: 5.4 | Q12: 20.4 | R12: 21.6
A13: 45662 | B13: M27 (W) Off slip Ahead Left | C13: U | D13: C1:B | F13: 1 | G13: 10 | H13: - | I13: 192 | J13: 2133 | K13: 267 | L13: 0.72 | M13: - | N13: - | O13: - | P13: 3 | Q13: 57 | R13: 5.3
A14: 45693 | B14: M27 (W) Off slip Ahead | C14: U | D14: C1:B | F14: 1 | G14: 10 | H14: - | I14: 183 | J14: 2117 | K14: 265 | L14: 0.692 | M14: - | N14: - | O14: - | P14: 2.8 | Q14: 55 | R14: 5
A15: 45721 | B15: M27 (W) Off slip Ahead | C15: U | D15: C1:B | F15: 1 | G15: 10 | H15: - | I15: 276 | J15: 2089 | K15: 287 | L15: 0.961 | M15: - | N15: - | O15: - | P15: 8.6 | Q15: 112 | R15: 12
A16: 45663 | B16: NW Circulatory Ahead | C16: U | D16: C1:C | F16: 1 | G16: 42 | H16: - | I16: 620 | J16: 1900 | K16: 997 | L16: 0.622 | M16: - | N16: - | O16: - | P16: 2.4 | Q16: 13.9 | R16: 8
A17: 45694 | B17: NW Circulatory Right Ahead | C17: U | D17: C1:C | F17: 1 | G17: 42 | H17: - | I17: 669 | J17: 2106 | K17: 1106 | L17: 0.605 | M17: - | N17: - | O17: - | P17: 2.4 | Q17: 12.8 | R17: 6.7
A18: 45722 | B18: NW Circulatory Right | C18: U | D18: C1:C | F18: 1 | G18: 42 | H18: - | I18: 548 | J18: 2077 | K18: 1116 | L18: 0.491 | M18: - | N18: - | O18: - | P18: 1.3 | Q18: 8.3 | R18: 3.6
A19: 45664 | B19: NE Circulatory Ahead | C19: U | D19: C1:E | F19: 1 | G19: 53 | H19: - | I19: 816 | J19: 2112 | K19: 1399 | L19: 0.583 | M19: - | N19: - | O19: - | P19: 2.5 | Q19: 11.2 | R19: 11.5
A20: 45695 | B20: NE Circulatory Ahead Ahead2 | C20: U | D20: C1:E | F20: 1 | G20: 53 | H20: - | I20: 720 | J20: 2150 | K20: 1424 | L20: 0.505 | M20: - | N20: - | O20: - | P20: 1.2 | Q20: 6.1 | R20: 3
A21: 45723 | B21: NE Circulatory Ahead | C21: U | D21: C1:E | F21: 1 | G21: 53 | H21: - | I21: 310 | J21: 2097 | K21: 1415 | L21: 0.219 | M21: - | N21: - | O21: - | P21: 0.4 | Q21: 4.8 | R21: 5.3
A22: 45665 | B22: Eastern Circulatory Ahead | C22: U | D22: C2:A | F22: 2 | G22: 26 | H22: - | I22: 402 | J22: 2088 | K22: 679 | L22: 0.592 | M22: - | N22: - | O22: - | P22: 1.7 | Q22: 14.9 | R22: 4.8
A23: 45696 | B23: Eastern Circulatory Right Ahead | C23: U | D23: C2:A | F23: 2 | G23: 26 | H23: - | I23: 435 | J23: 2205 | K23: 717 | L23: 0.607 | M23: - | N23: - | O23: - | P23: 1.8 | Q23: 14.9 | R23: 8.3
A24: 45724 | B24: Eastern Circulatory Right | C24: U | D24: C2:A | F24: 2 | G24: 26 | H24: - | I24: 277 | J24: 2221 | K24: 722 | L24: 0.384 | M24: - | N24: - | O24: - | P24: 1.6 | Q24: 21.4 | R24: 6.4
A25: 45666 | B25: Southern Circulatory Ahead | C25: U | D25: - | F25: - | G25: - | H25: - | I25: 137 | J25: 1977 | K25: 1977 | L25: 0.069 | M25: - | N25: - | O25: - | P25: 0 | Q25: 1 | R25: 0
A26: 45697 | B26: Southern Circulatory Right Ahead | C26: U | D26: - | F26: - | G26: - | H26: - | I26: 661 | J26: 2117 | K26: 2117 | L26: 0.312 | M26: - | N26: - | O26: - | P26: 0.2 | Q26: 1.2 | R26: 0.2
A27: 45725 | B27: Southern Circulatory Right | C27: U | D27: - | F27: - | G27: - | H27: - | I27: 379 | J27: 2115 | K27: 2115 | L27: 0.179 | M27: - | N27: - | O27: - | P27: 0.1 | Q27: 1 | R27: 0.1
A28: 45667 | B28: Western Circulatory Ahead | C28: U | D28: C1:A | F28: 1 | G28: 56 | H28: - | I28: 543 | J28: 2091 | K28: 1464 | L28: 0.371 | M28: - | N28: - | O28: - | P28: 1.5 | Q28: 9.7 | R28: 5.6
A29: 45698 | B29: Western Circulatory Right Ahead | C29: U | D29: C1:A | F29: 1 | G29: 56 | H29: - | I29: 581 | J29: 1948 | K29: 1364 | L29: 0.426 | M29: - | N29: - | O29: - | P29: 1.5 | Q29: 9.5 | R29: 5.5
A30: 45726 | B30: Western Circulatory Right | C30: U | D30: C1:A | F30: 1 | G30: 56 | H30: - | I30: 758 | J30: 2027 | K30: 1419 | L30: 0.534 | M30: - | N30: - | O30: - | P30: 1.5 | Q30: 7.2 | R30: 7.5
A31: C1 - 84052 Stream: 1 PRC for Signalled Lanes (%): -6.8 Total Delay for Signalled Lanes (pcuHr): 18.95 Cycle Time (s): 80
A32: C1 - 84052 Stream: 2 PRC for Signalled Lanes (%): 20.5 Total Delay for Signalled Lanes (pcuHr): 14.26 Cycle Time (s): 80
A33: C1 - 84052 Stream: 3 PRC for Signalled Lanes (%): 9.6 Total Delay for Signalled Lanes (pcuHr): 13.00 Cycle Time (s): 80
A34: C2 - 30255 PRC for Signalled Lanes (%): 48.3 Total Delay for Signalled Lanes (pcuHr): 8.33 Cycle Time (s): 80
A35: PRC Over All Lanes (%): -6.8 Total Delay Over All Lanes(pcuHr): 61.37

Sheet 2028_DM_AM
A1: Item | B1: Lane Description | C1: Lane Type | D1: Full Phase | E1: Arrow Phase | F1: Num Greens | G1: Total Green (s) | H1: Arrow Green (s) | I1: Demand Flow (pcu) | J1: Sat Flow (pcu/Hr) | K1: Capacity (pcu) | L1: Deg Sat (%) | M1: Turners In Gaps (pcu) | N1: Turners When Unopposed (pcu) | O1: Turners In Intergreen (pcu) | P1: Total Delay (pcuHr) | Q1: Av. Delay Per PCU (s/pcu) | R1: Mean Max Queue (pcu)
A2: Network | B2: - | C2: - | D2: - | F2: - | G2: - | H2: - | I2: - | J2: - | K2: - | L2: 0.792 | M2: 1391 | N2: 0 | O2: 0 | P2: 62.2 | Q2: - | R2: -
A3: M27/A335 Stoneham Way Junction | B3: - | C3: - | D3: - | F3: - | G3: - | H3: - | I3: - | J3: - | K3: - | L3: 0.792 | M3: 1391 | N3: 0 | O3: 0 | P3: 62.2 | Q3: - | R3: -
A4: 45658 | B4: Stoneham Lane Ahead Left | C4: U | D4: C1:D | F4: 1 | G4: 23 | H4: - | I4: 417 | J4: 1988 | K4: 547 | L4: 0.763 | M4: - | N4: - | O4: - | P4: 4.7 | Q4: 40.2 | R4: 10
A5: 1/2+1/3 | B5: Stoneham Lane Ahead | C5: U | D5: C1:D | F5: 1 | G5: 23 | H5: - | I5: 574 | J5: 2030:2057 | K5: 399+433 | L5: 69.0 : 69.0% | M5: - | N5: - | O5: - | P5: 4.9 (2.4+2.5) | Q5: 30.9 (31.2:30.7) | R5: 6.6
A6: 45659 | B6: A335 (N) Left | C6: U | D6: - | F6: - | G6: - | H6: - | I6: 390 | J6: 1910 | K6: 1910 | L6: 0.204 | M6: - | N6: - | O6: - | P6: 0.1 | Q6: 1.2 | R6: 0.1
A7: 45690 | B7: A335 (N) Ahead | C7: U | D7: C1:F | F7: 1 | G7: 21 | H7: - | I7: 328 | J7: 2166 | K7: 569 | L7: 0.577 | M7: - | N7: - | O7: - | P7: 3 | Q7: 33.1 | R7: 7
A8: 45718 | B8: A335 (N) Ahead | C8: U | D8: C1:F | F8: 1 | G8: 21 | H8: - | I8: 334 | J8: 2205 | K8: 579 | L8: 0.577 | M8: - | N8: - | O8: - | P8: 3.1 | Q8: 33 | R8: 7.1
A9: 45660 | B9: M27 (E) Off slip Left | C9: U | D9: C2:C | F9: 1 | G9: 80 | H9: - | I9: 793 | J9: 1937 | K9: 1937 | L9: 0.409 | M9: - | N9: - | O9: - | P9: 0.3 | Q9: 1.6 | R9: 0.3
A10: 3/3+3/2 | B10: M27 (E) Off slip Ahead | C10: U | D10: C2:B | F10: 2 | G10: 30 | H10: - | I10: 1175 | J10: 2157:2127 | K10: 809+752 | L10: 75.3 : 75.3% | M10: - | N10: - | O10: - | P10: 5.0 (2.6+2.4) | Q10: 15.4 (15.5:15.3) | R10: 7.3
A11: 45661 | B11: A335 Stoneham Way (S) Ahead Left | C11: O | D11: - | F11: - | G11: - | H11: - | I11: 680 | J11: 2040 | K11: 867 | L11: 0.784 | M11: 680 | N11: 0 | O11: 0 | P11: 1.8 | Q11: 9.5 | R11: 4.2
A12: 45692 | B12: A335 Stoneham Way (S) Ahead | C12: O | D12: - | F12: - | G12: - | H12: - | I12: 711 | J12: 2131 | K12: 898 | L12: 0.792 | M12: 711 | N12: 0 | O12: 0 | P12: 2.2 | Q12: 11.1 | R12: 8
A13: 45662 | B13: M27 (W) Off slip Ahead Left | C13: U | D13: C1:B | F13: 1 | G13: 20 | H13: - | I13: 304 | J13: 2133 | K13: 533 | L13: 0.57 | M13: - | N13: - | O13: - | P13: 2.9 | Q13: 34 | R13: 6.5
A14: 45693 | B14: M27 (W) Off slip Ahead | C14: U | D14: C1:B | F14: 1 | G14: 20 | H14: - | I14: 167 | J14: 2117 | K14: 529 | L14: 0.316 | M14: - | N14: - | O14: - | P14: 1.4 | Q14: 29.4 | R14: 3.2
A15: 45721 | B15: M27 (W) Off slip Ahead | C15: U | D15: C1:B | F15: 1 | G15: 20 | H15: - | I15: 330 | J15: 2089 | K15: 496 | L15: 0.665 | M15: - | N15: - | O15: - | P15: 3.5 | Q15: 38.3 | R15: 7.6
A16: 45663 | B16: NW Circulatory Ahead | C16: U | D16: C1:C | F16: 1 | G16: 43 | H16: - | I16: 713 | J16: 1900 | K16: 1021 | L16: 0.698 | M16: - | N16: - | O16: - | P16: 2.8 | Q16: 14.2 | R16: 9.8
A17: 45694 | B17: NW Circulatory Right Ahead | C17: U | D17: C1:C | F17: 1 | G17: 43 | H17: - | I17: 690 | J17: 2106 | K17: 1132 | L17: 0.61 | M17: - | N17: - | O17: - | P17: 2.4 | Q17: 12.3 | R17: 7.9
A18: 45722 | B18: NW Circulatory Right | C18: U | D18: C1:C | F18: 1 | G18: 43 | H18: - | I18: 471 | J18: 2077 | K18: 1116 | L18: 0.422 | M18: - | N18: - | O18: - | P18: 0.8 | Q18: 6 | R18: 2.8
A19: 45664 | B19: NE Circulatory Ahead | C19: U | D19: C1:E | F19: 1 | G19: 45 | H19: - | I19: 642 | J19: 2112 | K19: 1188 | L19: 0.54 | M19: - | N19: - | O19: - | P19: 2.3 | Q19: 12.9 | R19: 12
A20: 45695 | B20: NE Circulatory Ahead Ahead2 | C20: U | D20: C1:E | F20: 1 | G20: 45 | H20: - | I20: 648 | J20: 2150 | K20: 1182 | L20: 0.548 | M20: - | N20: - | O20: - | P20: 1.6 | Q20: 9.1 | R20: 4
A21: 45723 | B21: NE Circulatory Ahead | C21: U | D21: C1:E | F21: 1 | G21: 45 | H21: - | I21: 397 | J21: 2097 | K21: 1206 | L21: 0.329 | M21: - | N21: - | O21: - | P21: 0.4 | Q21: 3.7 | R21: 0.9
A22: 45665 | B22: Eastern Circulatory Ahead | C22: U | D22: C2:A | F22: 2 | G22: 22 | H22: - | I22: 445 | J22: 2088 | K22: 574 | L22: 0.775 | M22: - | N22: - | O22: - | P22: 3.7 | Q22: 30.2 | R22: 8.5
A23: 45696 | B23: Eastern Circulatory Right Ahead | C23: U | D23: C2:A | F23: 2 | G23: 22 | H23: - | I23: 470 | J23: 2205 | K23: 606 | L23: 0.775 | M23: - | N23: - | O23: - | P23: 4.2 | Q23: 31.9 | R23: 8.3
A24: 45724 | B24: Eastern Circulatory Right | C24: U | D24: C2:A | F24: 2 | G24: 22 | H24: - | I24: 376 | J24: 2221 | K24: 611 | L24: 0.616 | M24: - | N24: - | O24: - | P24: 2.5 | Q24: 24.4 | R24: 8.2
A25: 45666 | B25: Southern Circulatory Ahead | C25: U | D25: - | F25: - | G25: - | H25: - | I25: 103 | J25: 1977 | K25: 1977 | L25: 0.052 | M25: - | N25: - | O25: - | P25: 0 | Q25: 1 | R25: 0
A26: 45697 | B26: Southern Circulatory Right Ahead | C26: U | D26: - | F26: - | G26: - | H26: - | I26: 932 | J26: 2117 | K26: 2117 | L26: 0.44 | M26: - | N26: - | O26: - | P26: 0.4 | Q26: 1.5 | R26: 0.4
A27: 45725 | B27: Southern Circulatory Right | C27: U | D27: - | F27: - | G27: - | H27: - | I27: 618 | J27: 2115 | K27: 2115 | L27: 0.292 | M27: - | N27: - | O27: - | P27: 0.2 | Q27: 1.2 | R27: 0.2
A28: 45667 | B28: Western Circulatory Ahead | C28: U | D28: C1:A | F28: 1 | G28: 46 | H28: - | I28: 719 | J28: 2091 | K28: 1202 | L28: 0.598 | M28: - | N28: - | O28: - | P28: 2.6 | Q28: 12.9 | R28: 10.9
A29: 45698 | B29: Western Circulatory Right Ahead | C29: U | D29: C1:A | F29: 1 | G29: 46 | H29: - | I29: 665 | J29: 1948 | K29: 1120 | L29: 0.594 | M29: - | N29: - | O29: - | P29: 2.4 | Q29: 13.1 | R29: 10.1
A30: 45726 | B30: Western Circulatory Right | C30: U | D30: C1:A | F30: 1 | G30: 46 | H30: - | I30: 664 | J30: 2027 | K30: 1140 | L30: 0.582 | M30: - | N30: - | O30: - | P30: 2.9 | Q30: 15.9 | R30: 10.9
A31: C1 - 84052 Stream: 1 PRC for Signalled Lanes (%): 35.3 Total Delay for Signalled Lanes (pcuHr): 15.68 Cycle Time (s): 80
A32: C1 - 84052 Stream: 2 PRC for Signalled Lanes (%): 18.0 Total Delay for Signalled Lanes (pcuHr): 15.54 Cycle Time (s): 80
A33: C1 - 84052 Stream: 3 PRC for Signalled Lanes (%): 56.0 Total Delay for Signalled Lanes (pcuHr): 10.43 Cycle Time (s): 80
A34: C2 - 30255 PRC for Signalled Lanes (%): 16.1 Total Delay for Signalled Lanes (pcuHr): 15.82 Cycle Time (s): 80
A35: PRC Over All Lanes (%): 13.7 Total Delay Over All Lanes(pcuHr): 62.20

Sheet 2028_DM_PM
A1: Item | B1: Lane Description | C1: Lane Type | D1: Full Phase | E1: Arrow Phase | F1: Num Greens | G1: Total Green (s) | H1: Arrow Green (s) | I1: Demand Flow (pcu) | J1: Sat Flow (pcu/Hr) | K1: Capacity (pcu) | L1: Deg Sat (%) | M1: Turners In Gaps (pcu) | N1: Turners When Unopposed (pcu) | O1: Turners In Intergreen (pcu) | P1: Total Delay (pcuHr) | Q1: Av. Delay Per PCU (s/pcu) | R1: Mean Max Queue (pcu)
A2: Network | B2: - | C2: - | D2: - | F2: - | G2: - | H2: - | I2: - | J2: - | K2: - | L2: 0.942 | M2: 1512 | N2: 0 | O2: 0 | P2: 63.2 | Q2: - | R2: -
A3: M27/A335 Stoneham Way Junction | B3: - | C3: - | D3: - | F3: - | G3: - | H3: - | I3: - | J3: - | K3: - | L3: 0.942 | M3: 1512 | N3: 0 | O3: 0 | P3: 63.2 | Q3: - | R3: -
A4: 45658 | B4: Stoneham Lane Ahead Left | C4: U | D4: C1:D | F4: 1 | G4: 23 | H4: - | I4: 434 | J4: 1989 | K4: 547 | L4: 0.793 | M4: - | N4: - | O4: - | P4: 5.1 | Q4: 42.3 | R4: 10.8
A5: 1/2+1/3 | B5: Stoneham Lane Ahead | C5: U | D5: C1:D | F5: 1 | G5: 23 | H5: - | I5: 492 | J5: 2030:2057 | K5: 346+446 | L5: 62.1 : 62.1% | M5: - | N5: - | O5: - | P5: 4.0 (1.7+2.3) | Q5: 29.1 (28.7:29.4) | R5: 5.8
A6: 45659 | B6: A335 (N) Left | C6: U | D6: - | F6: - | G6: - | H6: - | I6: 611 | J6: 1910 | K6: 1910 | L6: 0.32 | M6: - | N6: - | O6: - | P6: 0.2 | Q6: 1.4 | R6: 0.2
A7: 45690 | B7: A335 (N) Ahead | C7: U | D7: C1:F | F7: 1 | G7: 19 | H7: - | I7: 304 | J7: 2166 | K7: 514 | L7: 0.591 | M7: - | N7: - | O7: - | P7: 3 | Q7: 35.6 | R7: 6.6
A8: 45718 | B8: A335 (N) Ahead | C8: U | D8: C1:F | F8: 1 | G8: 19 | H8: - | I8: 299 | J8: 2205 | K8: 524 | L8: 0.571 | M8: - | N8: - | O8: - | P8: 2.9 | Q8: 34.9 | R8: 6.5
A9: 45660 | B9: M27 (E) Off slip Left | C9: U | D9: C2:C | F9: 1 | G9: 80 | H9: - | I9: 609 | J9: 1937 | K9: 1937 | L9: 0.314 | M9: - | N9: - | O9: - | P9: 0.2 | Q9: 1.4 | R9: 0.2
A10: 3/3+3/2 | B10: M27 (E) Off slip Ahead | C10: U | D10: C2:B | F10: 2 | G10: 34 | H10: - | I10: 788 | J10: 2157:2127 | K10: 824+850 | L10: 47.1 : 47.1% | M10: - | N10: - | O10: - | P10: 2.2 (1.1+1.1) | Q10: 10.1 (10.1:10.2) | R10: 3.6
A11: 45661 | B11: A335 Stoneham Way (S) Ahead Left | C11: O | D11: - | F11: - | G11: - | H11: - | I11: 541 | J11: 2040 | K11: 873 | L11: 0.62 | M11: 541 | N11: 0 | O11: 0 | P11: 0.8 | Q11: 5.4 | R11: 1.6
A12: 45692 | B12: A335 Stoneham Way (S) Ahead | C12: O | D12: - | F12: - | G12: - | H12: - | I12: 971 | J12: 2131 | K12: 1031 | L12: 0.942 | M12: 971 | N12: 0 | O12: 0 | P12: 7 | Q12: 25.9 | R12: 14.5
A13: 45662 | B13: M27 (W) Off slip Ahead Left | C13: U | D13: C1:B | F13: 1 | G13: 16 | H13: - | I13: 202 | J13: 2133 | K13: 427 | L13: 0.474 | M13: - | N13: - | O13: - | P13: 2 | Q13: 36.3 | R13: 4.4
A14: 45693 | B14: M27 (W) Off slip Ahead | C14: U | D14: C1:B | F14: 1 | G14: 16 | H14: - | I14: 196 | J14: 2117 | K14: 423 | L14: 0.463 | M14: - | N14: - | O14: - | P14: 2 | Q14: 36.1 | R14: 4.2
A15: 45721 | B15: M27 (W) Off slip Ahead | C15: U | D15: C1:B | F15: 1 | G15: 16 | H15: - | I15: 279 | J15: 2089 | K15: 444 | L15: 0.629 | M15: - | N15: - | O15: - | P15: 3.1 | Q15: 39.4 | R15: 6.4
A16: 45663 | B16: NW Circulatory Ahead | C16: U | D16: C1:C | F16: 1 | G16: 43 | H16: - | I16: 640 | J16: 1900 | K16: 1021 | L16: 0.627 | M16: - | N16: - | O16: - | P16: 2.2 | Q16: 12.4 | R16: 7.1
A17: 45694 | B17: NW Circulatory Right Ahead | C17: U | D17: C1:C | F17: 1 | G17: 43 | H17: - | I17: 687 | J17: 2106 | K17: 1132 | L17: 0.607 | M17: - | N17: - | O17: - | P17: 2.4 | Q17: 12.6 | R17: 9.1
A18: 45722 | B18: NW Circulatory Right | C18: U | D18: C1:C | F18: 1 | G18: 43 | H18: - | I18: 565 | J18: 2077 | K18: 1142 | L18: 0.495 | M18: - | N18: - | O18: - | P18: 1.3 | Q18: 8.4 | R18: 3.5
A19: 45664 | B19: NE Circulatory Ahead | C19: U | D19: C1:E | F19: 1 | G19: 47 | H19: - | I19: 812 | J19: 2112 | K19: 1241 | L19: 0.654 | M19: - | N19: - | O19: - | P19: 2.1 | Q19: 9.4 | R19: 11
A20: 45695 | B20: NE Circulatory Ahead Ahead2 | C20: U | D20: C1:E | F20: 1 | G20: 47 | H20: - | I20: 742 | J20: 2150 | K20: 1263 | L20: 0.587 | M20: - | N20: - | O20: - | P20: 3.1 | Q20: 14.8 | R20: 8.3
A21: 45723 | B21: NE Circulatory Ahead | C21: U | D21: C1:E | F21: 1 | G21: 47 | H21: - | I21: 315 | J21: 2097 | K21: 1258 | L21: 0.25 | M21: - | N21: - | O21: - | P21: 0.4 | Q21: 4.2 | R21: 0.8
A22: 45665 | B22: Eastern Circulatory Ahead | C22: U | D22: C2:A | F22: 2 | G22: 18 | H22: - | I22: 410 | J22: 2088 | K22: 470 | L22: 0.873 | M22: - | N22: - | O22: - | P22: 4.4 | Q22: 38.9 | R22: 8
A23: 45696 | B23: Eastern Circulatory Right Ahead | C23: U | D23: C2:A | F23: 2 | G23: 18 | H23: - | I23: 449 | J23: 2205 | K23: 496 | L23: 0.905 | M23: - | N23: - | O23: - | P23: 5.8 | Q23: 46.5 | R23: 10.7
A24: 45724 | B24: Eastern Circulatory Right | C24: U | D24: C2:A | F24: 2 | G24: 18 | H24: - | I24: 300 | J24: 2221 | K24: 500 | L24: 0.6 | M24: - | N24: - | O24: - | P24: 1.5 | Q24: 17.9 | R24: 2.9
A25: 45666 | B25: Southern Circulatory Ahead | C25: U | D25: - | F25: - | G25: - | H25: - | I25: 150 | J25: 1977 | K25: 1977 | L25: 0.076 | M25: - | N25: - | O25: - | P25: 0 | Q25: 1 | R25: 0
A26: 45697 | B26: Southern Circulatory Right Ahead | C26: U | D26: - | F26: - | G26: - | H26: - | I26: 693 | J26: 2117 | K26: 2117 | L26: 0.327 | M26: - | N26: - | O26: - | P26: 0.2 | Q26: 1.3 | R26: 0.2
A27: 45725 | B27: Southern Circulatory Right | C27: U | D27: - | F27: - | G27: - | H27: - | I27: 395 | J27: 2115 | K27: 2115 | L27: 0.187 | M27: - | N27: - | O27: - | P27: 0.1 | Q27: 1 | R27: 0.1
A28: 45667 | B28: Western Circulatory Ahead | C28: U | D28: C1:A | F28: 1 | G28: 50 | H28: - | I28: 556 | J28: 2091 | K28: 1307 | L28: 0.425 | M28: - | N28: - | O28: - | P28: 2.1 | Q28: 13.3 | R28: 6.5
A29: 45698 | B29: Western Circulatory Right Ahead | C29: U | D29: C1:A | F29: 1 | G29: 50 | H29: - | I29: 589 | J29: 1948 | K29: 1217 | L29: 0.484 | M29: - | N29: - | O29: - | P29: 2.3 | Q29: 14 | R29: 8.2
A30: 45726 | B30: Western Circulatory Right | C30: U | D30: C1:A | F30: 1 | G30: 50 | H30: - | I30: 777 | J30: 2027 | K30: 1267 | L30: 0.613 | M30: - | N30: - | O30: - | P30: 2.7 | Q30: 12.6 | R30: 10.9
A31: C1 - 84052 Stream: 1 PRC for Signalled Lanes (%): 43.2 Total Delay for Signalled Lanes (pcuHr): 14.13 Cycle Time (s): 80
A32: C1 - 84052 Stream: 2 PRC for Signalled Lanes (%): 13.4 Total Delay for Signalled Lanes (pcuHr): 14.99 Cycle Time (s): 80
A33: C1 - 84052 Stream: 3 PRC for Signalled Lanes (%): 37.5 Total Delay for Signalled Lanes (pcuHr): 11.45 Cycle Time (s): 80
A34: C2 - 30255 PRC for Signalled Lanes (%): -0.6 Total Delay for Signalled Lanes (pcuHr): 14.17 Cycle Time (s): 80
A35: PRC Over All Lanes (%): -4.7 Total Delay Over All Lanes(pcuHr): 63.18

Sheet 2028_DS_AM
A1: Item | B1: Lane Description | C1: Lane Type | D1: Full Phase | E1: Arrow Phase | F1: Num Greens | G1: Total Green (s) | H1: Arrow Green (s) | I1: Demand Flow (pcu) | J1: Sat Flow (pcu/Hr) | K1: Capacity (pcu) | L1: Deg Sat (%) | M1: Turners In Gaps (pcu) | N1: Turners When Unopposed (pcu) | O1: Turners In Intergreen (pcu) | P1: Total Delay (pcuHr) | Q1: Av. Delay Per PCU (s/pcu) | R1: Mean Max Queue (pcu)
A2: Network | B2: - | C2: - | D2: - | F2: - | G2: - | H2: - | I2: - | J2: - | K2: - | L2: 0.828 | M2: 1391 | N2: 0 | O2: 0 | P2: 78.2 | Q2: - | R2: -
A3: M27/A335 Stoneham Way Junction | B3: - | C3: - | D3: - | F3: - | G3: - | H3: - | I3: - | J3: - | K3: - | L3: 0.828 | M3: 1391 | N3: 0 | O3: 0 | P3: 78.2 | Q3: - | R3: -
A4: 45658 | B4: Stoneham Lane Ahead Left | C4: U | D4: C1:D | F4: 1 | G4: 24 | H4: - | I4: 449 | J4: 1983 | K4: 570 | L4: 0.788 | M4: - | N4: - | O4: - | P4: 5.1 | Q4: 40.7 | R4: 10.9
A5: 1/2+1/3 | B5: Stoneham Lane Ahead | C5: U | D5: C1:D | F5: 1 | G5: 24 | H5: - | I5: 621 | J5: 2030:2057 | K5: 436+389 | L5: 75.3 : 75.3% | M5: - | N5: - | O5: - | P5: 5.6 (3.0+2.6) | Q5: 32.3 (32.9:31.6) | R5: 7.9
A6: 45659 | B6: A335 (N) Left | C6: U | D6: - | F6: - | G6: - | H6: - | I6: 454 | J6: 1910 | K6: 1910 | L6: 0.238 | M6: - | N6: - | O6: - | P6: 0.2 | Q6: 1.2 | R6: 0.2
A7: 45690 | B7: A335 (N) Ahead | C7: U | D7: C1:F | F7: 1 | G7: 23 | H7: - | I7: 365 | J7: 2166 | K7: 623 | L7: 0.586 | M7: - | N7: - | O7: - | P7: 3.2 | Q7: 31.4 | R7: 7.6
A8: 45718 | B8: A335 (N) Ahead | C8: U | D8: C1:F | F8: 1 | G8: 23 | H8: - | I8: 372 | J8: 2205 | K8: 634 | L8: 0.587 | M8: - | N8: - | O8: - | P8: 3.2 | Q8: 31.3 | R8: 7.7
A9: 45660 | B9: M27 (E) Off slip Left | C9: U | D9: C2:C | F9: 1 | G9: 80 | H9: - | I9: 793 | J9: 1937 | K9: 1937 | L9: 0.409 | M9: - | N9: - | O9: - | P9: 0.3 | Q9: 1.6 | R9: 0.3
A10: 3/3+3/2 | B10: M27 (E) Off slip Ahead | C10: U | D10: C2:B | F10: 2 | G10: 30 | H10: - | I10: 1251 | J10: 2157:2127 | K10: 809+715 | L10: 82.1 : 82.1% | M10: - | N10: - | O10: - | P10: 6.1 (3.3+2.8) | Q10: 17.5 (17.8:17.3) | R10: 8.9
A11: 45661 | B11: A335 Stoneham Way (S) Ahead Left | C11: O | D11: - | F11: - | G11: - | H11: - | I11: 681 | J11: 2040 | K11: 839 | L11: 0.812 | M11: 681 | N11: 0 | O11: 0 | P11: 2.2 | Q11: 11.7 | R11: 6.1
A12: 45692 | B12: A335 Stoneham Way (S) Ahead | C12: O | D12: - | F12: - | G12: - | H12: - | I12: 710 | J12: 2131 | K12: 858 | L12: 0.828 | M12: 710 | N12: 0 | O12: 0 | P12: 2.7 | Q12: 13.9 | R12: 9.2
A13: 45662 | B13: M27 (W) Off slip Ahead Left | C13: U | D13: C1:B | F13: 1 | G13: 28 | H13: - | I13: 329 | J13: 2133 | K13: 747 | L13: 0.441 | M13: - | N13: - | O13: - | P13: 2.2 | Q13: 24.3 | R13: 6
A14: 45693 | B14: M27 (W) Off slip Ahead | C14: U | D14: C1:B | F14: 1 | G14: 28 | H14: - | I14: 215 | J14: 2117 | K14: 741 | L14: 0.29 | M14: - | N14: - | O14: - | P14: 1.3 | Q14: 22.2 | R14: 3.6
A15: 45721 | B15: M27 (W) Off slip Ahead | C15: U | D15: C1:B | F15: 1 | G15: 28 | H15: - | I15: 330 | J15: 2089 | K15: 705 | L15: 0.468 | M15: - | N15: - | O15: - | P15: 2.4 | Q15: 25.6 | R15: 6.1
A16: 45663 | B16: NW Circulatory Ahead | C16: U | D16: C1:C | F16: 1 | G16: 42 | H16: - | I16: 762 | J16: 1900 | K16: 997 | L16: 0.764 | M16: - | N16: - | O16: - | P16: 4.5 | Q16: 21.3 | R16: 11.2
A17: 45694 | B17: NW Circulatory Right Ahead | C17: U | D17: C1:C | F17: 1 | G17: 42 | H17: - | I17: 733 | J17: 2106 | K17: 1106 | L17: 0.663 | M17: - | N17: - | O17: - | P17: 3.6 | Q17: 17.8 | R17: 10
A18: 45722 | B18: NW Circulatory Right | C18: U | D18: C1:C | F18: 1 | G18: 42 | H18: - | I18: 528 | J18: 2077 | K18: 1090 | L18: 0.484 | M18: - | N18: - | O18: - | P18: 2 | Q18: 14 | R18: 9.4
A19: 45664 | B19: NE Circulatory Ahead | C19: U | D19: C1:E | F19: 1 | G19: 43 | H19: - | I19: 538 | J19: 2112 | K19: 1135 | L19: 0.474 | M19: - | N19: - | O19: - | P19: 1.8 | Q19: 12.3 | R19: 9.1
A20: 45695 | B20: NE Circulatory Ahead Ahead2 | C20: U | D20: C1:E | F20: 1 | G20: 43 | H20: - | I20: 752 | J20: 2150 | K20: 1129 | L20: 0.666 | M20: - | N20: - | O20: - | P20: 2 | Q20: 9.7 | R20: 7
A21: 45723 | B21: NE Circulatory Ahead | C21: U | D21: C1:E | F21: 1 | G21: 43 | H21: - | I21: 397 | J21: 2097 | K21: 1153 | L21: 0.344 | M21: - | N21: - | O21: - | P21: 0.6 | Q21: 5.6 | R21: 6
A22: 45665 | B22: Eastern Circulatory Ahead | C22: U | D22: C2:A | F22: 2 | G22: 22 | H22: - | I22: 452 | J22: 2088 | K22: 574 | L22: 0.787 | M22: - | N22: - | O22: - | P22: 4.5 | Q22: 36.1 | R22: 9.8
A23: 45696 | B23: Eastern Circulatory Right Ahead | C23: U | D23: C2:A | F23: 2 | G23: 22 | H23: - | I23: 494 | J23: 2205 | K23: 606 | L23: 0.815 | M23: - | N23: - | O23: - | P23: 4.5 | Q23: 32.4 | R23: 8.1
A24: 45724 | B24: Eastern Circulatory Right | C24: U | D24: C2:A | F24: 2 | G24: 22 | H24: - | I24: 420 | J24: 2221 | K24: 611 | L24: 0.688 | M24: - | N24: - | O24: - | P24: 3 | Q24: 25.6 | R24: 9.1
A25: 45666 | B25: Southern Circulatory Ahead | C25: U | D25: - | F25: - | G25: - | H25: - | I25: 134 | J25: 1977 | K25: 1977 | L25: 0.068 | M25: - | N25: - | O25: - | P25: 0 | Q25: 1 | R25: 0
A26: 45697 | B26: Southern Circulatory Right Ahead | C26: U | D26: - | F26: - | G26: - | H26: - | I26: 994 | J26: 2117 | K26: 2117 | L26: 0.47 | M26: - | N26: - | O26: - | P26: 0.4 | Q26: 1.6 | R26: 0.4
A27: 45725 | B27: Southern Circulatory Right | C27: U | D27: - | F27: - | G27: - | H27: - | I27: 676 | J27: 2115 | K27: 2115 | L27: 0.32 | M27: - | N27: - | O27: - | P27: 0.2 | Q27: 1.3 | R27: 0.2
A28: 45667 | B28: Western Circulatory Ahead | C28: U | D28: C1:A | F28: 1 | G28: 38 | H28: - | I28: 750 | J28: 2091 | K28: 993 | L28: 0.755 | M28: - | N28: - | O28: - | P28: 6 | Q28: 28.7 | R28: 15.8
A29: 45698 | B29: Western Circulatory Right Ahead | C29: U | D29: C1:A | F29: 1 | G29: 38 | H29: - | I29: 670 | J29: 1948 | K29: 925 | L29: 0.724 | M29: - | N29: - | O29: - | P29: 5 | Q29: 27.1 | R29: 14
A30: 45726 | B30: Western Circulatory Right | C30: U | D30: C1:A | F30: 1 | G30: 38 | H30: - | I30: 716 | J30: 2027 | K30: 937 | L30: 0.764 | M30: - | N30: - | O30: - | P30: 5.3 | Q30: 26.7 | R30: 15.2
A31: C1 - 84052 Stream: 1 PRC for Signalled Lanes (%): 17.8 Total Delay for Signalled Lanes (pcuHr): 22.21 Cycle Time (s): 80
A32: C1 - 84052 Stream: 2 PRC for Signalled Lanes (%): 14.3 Total Delay for Signalled Lanes (pcuHr): 20.82 Cycle Time (s): 80
A33: C1 - 84052 Stream: 3 PRC for Signalled Lanes (%): 35.1 Total Delay for Signalled Lanes (pcuHr): 10.90 Cycle Time (s): 80
A34: C2 - 30255 PRC for Signalled Lanes (%): 9.6 Total Delay for Signalled Lanes (pcuHr): 18.41 Cycle Time (s): 80
A35: PRC Over All Lanes (%): 8.8 Total Delay Over All Lanes(pcuHr): 78.15

Sheet 2028_DS_PM
A1: Item | B1: Lane Description | C1: Lane Type | D1: Full Phase | E1: Arrow Phase | F1: Num Greens | G1: Total Green (s) | H1: Arrow Green (s) | I1: Demand Flow (pcu) | J1: Sat Flow (pcu/Hr) | K1: Capacity (pcu) | L1: Deg Sat (%) | M1: Turners In Gaps (pcu) | N1: Turners When Unopposed (pcu) | O1: Turners In Intergreen (pcu) | P1: Total Delay (pcuHr) | Q1: Av. Delay Per PCU (s/pcu) | R1: Mean Max Queue (pcu)
A2: Network | B2: - | C2: - | D2: - | F2: - | G2: - | H2: - | I2: - | J2: - | K2: - | L2: 0.998 | M2: 1514 | N2: 0 | O2: 0 | P2: 82.9 | Q2: - | R2: -
A3: M27/A335 Stoneham Way Junction | B3: - | C3: - | D3: - | F3: - | G3: - | H3: - | I3: - | J3: - | K3: - | L3: 0.998 | M3: 1514 | N3: 0 | O3: 0 | P3: 82.9 | Q3: - | R3: -
A4: 45658 | B4: Stoneham Lane Ahead Left | C4: U | D4: C1:D | F4: 1 | G4: 23 | H4: - | I4: 444 | J4: 1989 | K4: 547 | L4: 0.812 | M4: - | N4: - | O4: - | P4: 5.4 | Q4: 43.9 | R4: 11.2
A5: 1/2+1/3 | B5: Stoneham Lane Ahead | C5: U | D5: C1:D | F5: 1 | G5: 23 | H5: - | I5: 488 | J5: 2030:2057 | K5: 341+448 | L5: 61.9 : 61.9% | M5: - | N5: - | O5: - | P5: 3.9 (1.7+2.3) | Q5: 29.1 (28.6:29.4) | R5: 5.8
A6: 45659 | B6: A335 (N) Left | C6: U | D6: - | F6: - | G6: - | H6: - | I6: 706 | J6: 1910 | K6: 1910 | L6: 0.37 | M6: - | N6: - | O6: - | P6: 0.3 | Q6: 1.5 | R6: 0.3
A7: 45690 | B7: A335 (N) Ahead | C7: U | D7: C1:F | F7: 1 | G7: 22 | H7: - | I7: 355 | J7: 2166 | K7: 596 | L7: 0.596 | M7: - | N7: - | O7: - | P7: 3.2 | Q7: 32.6 | R7: 7.5
A8: 45718 | B8: A335 (N) Ahead | C8: U | D8: C1:F | F8: 1 | G8: 22 | H8: - | I8: 360 | J8: 2205 | K8: 606 | L8: 0.594 | M8: - | N8: - | O8: - | P8: 3.2 | Q8: 32.4 | R8: 7.6
A9: 45660 | B9: M27 (E) Off slip Left | C9: U | D9: C2:C | F9: 1 | G9: 80 | H9: - | I9: 609 | J9: 1937 | K9: 1937 | L9: 0.314 | M9: - | N9: - | O9: - | P9: 0.2 | Q9: 1.4 | R9: 0.2
A10: 3/3+3/2 | B10: M27 (E) Off slip Ahead | C10: U | D10: C2:B | F10: 2 | G10: 34 | H10: - | I10: 856 | J10: 2157:2127 | K10: 856+848 | L10: 50.2 : 50.2% | M10: - | N10: - | O10: - | P10: 2.5 (1.2+1.2) | Q10: 10.4 (10.4:10.4) | R10: 3.8
A11: 45661 | B11: A335 Stoneham Way (S) Ahead Left | C11: O | D11: - | F11: - | G11: - | H11: - | I11: 541 | J11: 2040 | K11: 843 | L11: 0.642 | M11: 541 | N11: 0 | O11: 0 | P11: 0.9 | Q11: 6.1 | R11: 2.2
A12: 45692 | B12: A335 Stoneham Way (S) Ahead | C12: O | D12: - | F12: - | G12: - | H12: - | I12: 973 | J12: 2131 | K12: 975 | L12: 0.998 | M12: 973 | N12: 0 | O12: 0 | P12: 15.8 | Q12: 58.4 | R12: 36.2
A13: 45662 | B13: M27 (W) Off slip Ahead Left | C13: U | D13: C1:B | F13: 1 | G13: 15 | H13: - | I13: 233 | J13: 2133 | K13: 400 | L13: 0.583 | M13: - | N13: - | O13: - | P13: 2.6 | Q13: 40.3 | R13: 5.4
A14: 45693 | B14: M27 (W) Off slip Ahead | C14: U | D14: C1:B | F14: 1 | G14: 15 | H14: - | I14: 230 | J14: 2117 | K14: 397 | L14: 0.579 | M14: - | N14: - | O14: - | P14: 2.6 | Q14: 40.3 | R14: 5.3
A15: 45721 | B15: M27 (W) Off slip Ahead | C15: U | D15: C1:B | F15: 1 | G15: 15 | H15: - | I15: 279 | J15: 2089 | K15: 418 | L15: 0.668 | M15: - | N15: - | O15: - | P15: 3.3 | Q15: 42.3 | R15: 6.6
A16: 45663 | B16: NW Circulatory Ahead | C16: U | D16: C1:C | F16: 1 | G16: 43 | H16: - | I16: 711 | J16: 1900 | K16: 1021 | L16: 0.696 | M16: - | N16: - | O16: - | P16: 2.5 | Q16: 12.9 | R16: 8.3
A17: 45694 | B17: NW Circulatory Right Ahead | C17: U | D17: C1:C | F17: 1 | G17: 43 | H17: - | I17: 724 | J17: 2106 | K17: 1132 | L17: 0.64 | M17: - | N17: - | O17: - | P17: 2.5 | Q17: 12.5 | R17: 9.8
A18: 45722 | B18: NW Circulatory Right | C18: U | D18: C1:C | F18: 1 | G18: 43 | H18: - | I18: 592 | J18: 2077 | K18: 1142 | L18: 0.518 | M18: - | N18: - | O18: - | P18: 1.4 | Q18: 8.7 | R18: 4.1
A19: 45664 | B19: NE Circulatory Ahead | C19: U | D19: C1:E | F19: 1 | G19: 44 | H19: - | I19: 789 | J19: 2112 | K19: 1162 | L19: 0.679 | M19: - | N19: - | O19: - | P19: 2.4 | Q19: 10.9 | R19: 11.7
A20: 45695 | B20: NE Circulatory Ahead Ahead2 | C20: U | D20: C1:E | F20: 1 | G20: 44 | H20: - | I20: 763 | J20: 2150 | K20: 1182 | L20: 0.645 | M20: - | N20: - | O20: - | P20: 4.1 | Q20: 19.2 | R20: 9.8
A21: 45723 | B21: NE Circulatory Ahead | C21: U | D21: C1:E | F21: 1 | G21: 44 | H21: - | I21: 317 | J21: 2097 | K21: 1180 | L21: 0.269 | M21: - | N21: - | O21: - | P21: 0.5 | Q21: 5.2 | R21: 0.9
A22: 45665 | B22: Eastern Circulatory Ahead | C22: U | D22: C2:A | F22: 2 | G22: 18 | H22: - | I22: 425 | J22: 2088 | K22: 470 | L22: 0.905 | M22: - | N22: - | O22: - | P22: 5.7 | Q22: 48.4 | R22: 10
A23: 45696 | B23: Eastern Circulatory Right Ahead | C23: U | D23: C2:A | F23: 2 | G23: 18 | H23: - | I23: 481 | J23: 2205 | K23: 496 | L23: 0.97 | M23: - | N23: - | O23: - | P23: 9.9 | Q23: 74.2 | R23: 14.8
A24: 45724 | B24: Eastern Circulatory Right | C24: U | D24: C2:A | F24: 2 | G24: 18 | H24: - | I24: 365 | J24: 2221 | K24: 500 | L24: 0.73 | M24: - | N24: - | O24: - | P24: 2.5 | Q24: 24.6 | R24: 4.7
A25: 45666 | B25: Southern Circulatory Ahead | C25: U | D25: - | F25: - | G25: - | H25: - | I25: 188 | J25: 1977 | K25: 1977 | L25: 0.095 | M25: - | N25: - | O25: - | P25: 0.1 | Q25: 1 | R25: 0.1
A26: 45697 | B26: Southern Circulatory Right Ahead | C26: U | D26: - | F26: - | G26: - | H26: - | I26: 781 | J26: 2117 | K26: 2117 | L26: 0.369 | M26: - | N26: - | O26: - | P26: 0.3 | Q26: 1.3 | R26: 0.3
A27: 45725 | B27: Southern Circulatory Right | C27: U | D27: - | F27: - | G27: - | H27: - | I27: 440 | J27: 2115 | K27: 2115 | L27: 0.208 | M27: - | N27: - | O27: - | P27: 0.1 | Q27: 1.1 | R27: 0.1
A28: 45667 | B28: Western Circulatory Ahead | C28: U | D28: C1:A | F28: 1 | G28: 51 | H28: - | I28: 606 | J28: 2091 | K28: 1333 | L28: 0.455 | M28: - | N28: - | O28: - | P28: 2.1 | Q28: 12.5 | R28: 7.1
A29: 45698 | B29: Western Circulatory Right Ahead | C29: U | D29: C1:A | F29: 1 | G29: 51 | H29: - | I29: 606 | J29: 1948 | K29: 1242 | L29: 0.488 | M29: - | N29: - | O29: - | P29: 2.2 | Q29: 13.1 | R29: 8.6
A30: 45726 | B30: Western Circulatory Right | C30: U | D30: C1:A | F30: 1 | G30: 51 | H30: - | I30: 807 | J30: 2027 | K30: 1292 | L30: 0.625 | M30: - | N30: - | O30: - | P30: 2.7 | Q30: 11.9 | R30: 11.2
A31: C1 - 84052 Stream: 1 PRC for Signalled Lanes (%): 34.8 Total Delay for Signalled Lanes (pcuHr): 15.44 Cycle Time (s): 80
A32: C1 - 84052 Stream: 2 PRC for Signalled Lanes (%): 10.9 Total Delay for Signalled Lanes (pcuHr): 15.84 Cycle Time (s): 80
A33: C1 - 84052 Stream: 3 PRC for Signalled Lanes (%): 32.5 Total Delay for Signalled Lanes (pcuHr): 13.36 Cycle Time (s): 80
A34: C2 - 30255 PRC for Signalled Lanes (%): -7.7 Total Delay for Signalled Lanes (pcuHr): 20.83 Cycle Time (s): 80
A35: PRC Over All Lanes (%): -10.9 Total Delay Over All Lanes(pcuHr): 82.92

Sheet 2036_DM_AM
A1: Item | B1: Lane Description | C1: Lane Type | D1: Full Phase | E1: Arrow Phase | F1: Num Greens | G1: Total Green (s) | H1: Arrow Green (s) | I1: Demand Flow (pcu) | J1: Sat Flow (pcu/Hr) | K1: Capacity (pcu) | L1: Deg Sat (%) | M1: Turners In Gaps (pcu) | N1: Turners When Unopposed (pcu) | O1: Turners In Intergreen (pcu) | P1: Total Delay (pcuHr) | Q1: Av. Delay Per PCU (s/pcu) | R1: Mean Max Queue (pcu)
A2: Network | B2: - | C2: - | D2: - | F2: - | G2: - | H2: - | I2: - | J2: - | K2: - | L2: 0.869 | M2: 1465 | N2: 0 | O2: 0 | P2: 73.2 | Q2: - | R2: -
A3: M27/A335 Stoneham Way Junction | B3: - | C3: - | D3: - | F3: - | G3: - | H3: - | I3: - | J3: - | K3: - | L3: 0.869 | M3: 1465 | N3: 0 | O3: 0 | P3: 73.2 | Q3: - | R3: -
A4: 45658 | B4: Stoneham Lane Ahead Left | C4: U | D4: C1:D | F4: 1 | G4: 24 | H4: - | I4: 429 | J4: 1988 | K4: 572 | L4: 0.751 | M4: - | N4: - | O4: - | P4: 4.6 | Q4: 38.3 | R4: 10.1
A5: 1/2+1/3 | B5: Stoneham Lane Ahead | C5: U | D5: C1:D | F5: 1 | G5: 24 | H5: - | I5: 617 | J5: 2030:2057 | K5: 424+440 | L5: 71.4 : 71.4% | M5: - | N5: - | O5: - | P5: 5.3 (2.6+2.6) | Q5: 30.7 (31.1:30.3) | R5: 7
A6: 45659 | B6: A335 (N) Left | C6: U | D6: - | F6: - | G6: - | H6: - | I6: 425 | J6: 1910 | K6: 1910 | L6: 0.223 | M6: - | N6: - | O6: - | P6: 0.1 | Q6: 1.2 | R6: 0.1
A7: 45690 | B7: A335 (N) Ahead | C7: U | D7: C1:F | F7: 1 | G7: 24 | H7: - | I7: 363 | J7: 2166 | K7: 650 | L7: 0.559 | M7: - | N7: - | O7: - | P7: 3 | Q7: 29.8 | R7: 7.4
A8: 45718 | B8: A335 (N) Ahead | C8: U | D8: C1:F | F8: 1 | G8: 24 | H8: - | I8: 371 | J8: 2205 | K8: 662 | L8: 0.561 | M8: - | N8: - | O8: - | P8: 3.1 | Q8: 29.7 | R8: 7.5
A9: 45660 | B9: M27 (E) Off slip Left | C9: U | D9: C2:C | F9: 1 | G9: 80 | H9: - | I9: 832 | J9: 1937 | K9: 1937 | L9: 0.43 | M9: - | N9: - | O9: - | P9: 0.4 | Q9: 1.6 | R9: 0.4
A10: 3/3+3/2 | B10: M27 (E) Off slip Ahead | C10: U | D10: C2:B | F10: 2 | G10: 30 | H10: - | I10: 1251 | J10: 2157:2127 | K10: 809+748 | L10: 80.4 : 80.4% | M10: - | N10: - | O10: - | P10: 5.9 (3.1+2.8) | Q10: 16.9 (17.0:16.7) | R10: 8.3
A11: 45661 | B11: A335 Stoneham Way (S) Ahead Left | C11: O | D11: - | F11: - | G11: - | H11: - | I11: 717 | J11: 2040 | K11: 848 | L11: 0.846 | M11: 717 | N11: 0 | O11: 0 | P11: 2.7 | Q11: 13.7 | R11: 6.8
A12: 45692 | B12: A335 Stoneham Way (S) Ahead | C12: O | D12: - | F12: - | G12: - | H12: - | I12: 748 | J12: 2131 | K12: 860 | L12: 0.869 | M12: 748 | N12: 0 | O12: 0 | P12: 3.7 | Q12: 17.7 | R12: 10.6
A13: 45662 | B13: M27 (W) Off slip Ahead Left | C13: U | D13: C1:B | F13: 1 | G13: 19 | H13: - | I13: 330 | J13: 2133 | K13: 507 | L13: 0.651 | M13: - | N13: - | O13: - | P13: 3.4 | Q13: 37.6 | R13: 7.5
A14: 45693 | B14: M27 (W) Off slip Ahead | C14: U | D14: C1:B | F14: 1 | G14: 19 | H14: - | I14: 215 | J14: 2117 | K14: 503 | L14: 0.428 | M14: - | N14: - | O14: - | P14: 1.9 | Q14: 32.1 | R14: 4.4
A15: 45721 | B15: M27 (W) Off slip Ahead | C15: U | D15: C1:B | F15: 1 | G15: 19 | H15: - | I15: 346 | J15: 2089 | K15: 470 | L15: 0.736 | M15: - | N15: - | O15: - | P15: 4.1 | Q15: 43 | R15: 8.5
A16: 45663 | B16: NW Circulatory Ahead | C16: U | D16: C1:C | F16: 1 | G16: 42 | H16: - | I16: 760 | J16: 1900 | K16: 997 | L16: 0.762 | M16: - | N16: - | O16: - | P16: 3.5 | Q16: 16.7 | R16: 10.7
A17: 45694 | B17: NW Circulatory Right Ahead | C17: U | D17: C1:C | F17: 1 | G17: 42 | H17: - | I17: 736 | J17: 2106 | K17: 1106 | L17: 0.666 | M17: - | N17: - | O17: - | P17: 2.6 | Q17: 12.9 | R17: 9.3
A18: 45722 | B18: NW Circulatory Right | C18: U | D18: C1:C | F18: 1 | G18: 42 | H18: - | I18: 542 | J18: 2077 | K18: 1090 | L18: 0.497 | M18: - | N18: - | O18: - | P18: 1.3 | Q18: 8.4 | R18: 8.9
A19: 45664 | B19: NE Circulatory Ahead | C19: U | D19: C1:E | F19: 1 | G19: 42 | H19: - | I19: 618 | J19: 2112 | K19: 1109 | L19: 0.557 | M19: - | N19: - | O19: - | P19: 3 | Q19: 17.3 | R19: 12.1
A20: 45695 | B20: NE Circulatory Ahead Ahead2 | C20: U | D20: C1:E | F20: 1 | G20: 42 | H20: - | I20: 738 | J20: 2150 | K20: 1102 | L20: 0.67 | M20: - | N20: - | O20: - | P20: 2.4 | Q20: 11.5 | R20: 4.8
A21: 45723 | B21: NE Circulatory Ahead | C21: U | D21: C1:E | F21: 1 | G21: 42 | H21: - | I21: 421 | J21: 2097 | K21: 1127 | L21: 0.374 | M21: - | N21: - | O21: - | P21: 0.7 | Q21: 5.9 | R21: 6.5
A22: 45665 | B22: Eastern Circulatory Ahead | C22: U | D22: C2:A | F22: 2 | G22: 22 | H22: - | I22: 471 | J22: 2088 | K22: 574 | L22: 0.82 | M22: - | N22: - | O22: - | P22: 5.1 | Q22: 39.2 | R22: 10.4
A23: 45696 | B23: Eastern Circulatory Right Ahead | C23: U | D23: C2:A | F23: 2 | G23: 22 | H23: - | I23: 497 | J23: 2205 | K23: 606 | L23: 0.82 | M23: - | N23: - | O23: - | P23: 4.5 | Q23: 32.5 | R23: 8.6
A24: 45724 | B24: Eastern Circulatory Right | C24: U | D24: C2:A | F24: 2 | G24: 22 | H24: - | I24: 427 | J24: 2221 | K24: 611 | L24: 0.699 | M24: - | N24: - | O24: - | P24: 3 | Q24: 25.6 | R24: 9.1
A25: 45666 | B25: Southern Circulatory Ahead | C25: U | D25: - | F25: - | G25: - | H25: - | I25: 114 | J25: 1977 | K25: 1977 | L25: 0.058 | M25: - | N25: - | O25: - | P25: 0 | Q25: 1 | R25: 0
A26: 45697 | B26: Southern Circulatory Right Ahead | C26: U | D26: - | F26: - | G26: - | H26: - | I26: 1011 | J26: 2117 | K26: 2117 | L26: 0.478 | M26: - | N26: - | O26: - | P26: 0.5 | Q26: 1.6 | R26: 0.5
A27: 45725 | B27: Southern Circulatory Right | C27: U | D27: - | F27: - | G27: - | H27: - | I27: 666 | J27: 2115 | K27: 2115 | L27: 0.315 | M27: - | N27: - | O27: - | P27: 0.2 | Q27: 1.2 | R27: 0.2
A28: 45667 | B28: Western Circulatory Ahead | C28: U | D28: C1:A | F28: 1 | G28: 47 | H28: - | I28: 756 | J28: 2091 | K28: 1228 | L28: 0.615 | M28: - | N28: - | O28: - | P28: 2.6 | Q28: 12.4 | R28: 11.4
A29: 45698 | B29: Western Circulatory Right Ahead | C29: U | D29: C1:A | F29: 1 | G29: 47 | H29: - | I29: 697 | J29: 1948 | K29: 1144 | L29: 0.609 | M29: - | N29: - | O29: - | P29: 2.6 | Q29: 13.3 | R29: 10.8
A30: 45726 | B30: Western Circulatory Right | C30: U | D30: C1:A | F30: 1 | G30: 47 | H30: - | I30: 717 | J30: 2027 | K30: 1166 | L30: 0.615 | M30: - | N30: - | O30: - | P30: 3 | Q30: 15.1 | R30: 11.7
A31: C1 - 84052 Stream: 1 PRC for Signalled Lanes (%): 22.3 Total Delay for Signalled Lanes (pcuHr): 17.70 Cycle Time (s): 80
A32: C1 - 84052 Stream: 2 PRC for Signalled Lanes (%): 18.1 Total Delay for Signalled Lanes (pcuHr): 17.25 Cycle Time (s): 80
A33: C1 - 84052 Stream: 3 PRC for Signalled Lanes (%): 34.4 Total Delay for Signalled Lanes (pcuHr): 12.09 Cycle Time (s): 80
A34: C2 - 30255 PRC for Signalled Lanes (%): 9.7 Total Delay for Signalled Lanes (pcuHr): 18.89 Cycle Time (s): 80
A35: PRC Over All Lanes (%): 3.5 Total Delay Over All Lanes(pcuHr): 73.19

Sheet 2036_DM_PM
A1: Item | B1: Lane Description | C1: Lane Type | D1: Full Phase | E1: Arrow Phase | F1: Num Greens | G1: Total Green (s) | H1: Arrow Green (s) | I1: Demand Flow (pcu) | J1: Sat Flow (pcu/Hr) | K1: Capacity (pcu) | L1: Deg Sat (%) | M1: Turners In Gaps (pcu) | N1: Turners When Unopposed (pcu) | O1: Turners In Intergreen (pcu) | P1: Total Delay (pcuHr) | Q1: Av. Delay Per PCU (s/pcu) | R1: Mean Max Queue (pcu)
A2: Network | B2: - | C2: - | D2: - | F2: - | G2: - | H2: - | I2: - | J2: - | K2: - | L2: 1.03 | M2: 1562 | N2: 0 | O2: 0 | P2: 94.1 | Q2: - | R2: -
A3: M27/A335 Stoneham Way Junction | B3: - | C3: - | D3: - | F3: - | G3: - | H3: - | I3: - | J3: - | K3: - | L3: 1.03 | M3: 1562 | N3: 0 | O3: 0 | P3: 94.1 | Q3: - | R3: -
A4: 45658 | B4: Stoneham Lane Ahead Left | C4: U | D4: C1:D | F4: 1 | G4: 25 | H4: - | I4: 447 | J4: 1989 | K4: 597 | L4: 0.749 | M4: - | N4: - | O4: - | P4: 4.6 | Q4: 37.1 | R4: 10.4
A5: 1/2+1/3 | B5: Stoneham Lane Ahead | C5: U | D5: C1:D | F5: 1 | G5: 25 | H5: - | I5: 531 | J5: 2030:2057 | K5: 385+470 | L5: 62.1 : 62.1% | M5: - | N5: - | O5: - | P5: 4.0 (1.8+2.2) | Q5: 27.3 (27.0:27.6) | R5: 6
A6: 45659 | B6: A335 (N) Left | C6: U | D6: - | F6: - | G6: - | H6: - | I6: 668 | J6: 1910 | K6: 1910 | L6: 0.35 | M6: - | N6: - | O6: - | P6: 0.3 | Q6: 1.4 | R6: 0.3
A7: 45690 | B7: A335 (N) Ahead | C7: U | D7: C1:F | F7: 1 | G7: 23 | H7: - | I7: 337 | J7: 2166 | K7: 623 | L7: 0.541 | M7: - | N7: - | O7: - | P7: 2.8 | Q7: 30.3 | R7: 6.9
A8: 45718 | B8: A335 (N) Ahead | C8: U | D8: C1:F | F8: 1 | G8: 23 | H8: - | I8: 338 | J8: 2205 | K8: 634 | L8: 0.533 | M8: - | N8: - | O8: - | P8: 2.8 | Q8: 30 | R8: 6.9
A9: 45660 | B9: M27 (E) Off slip Left | C9: U | D9: C2:C | F9: 1 | G9: 80 | H9: - | I9: 639 | J9: 1937 | K9: 1937 | L9: 0.33 | M9: - | N9: - | O9: - | P9: 0.2 | Q9: 1.4 | R9: 0.2
A10: 3/3+3/2 | B10: M27 (E) Off slip Ahead | C10: U | D10: C2:B | F10: 2 | G10: 34 | H10: - | I10: 842 | J10: 2157:2127 | K10: 837+849 | L10: 49.9 : 49.9% | M10: - | N10: - | O10: - | P10: 2.4 (1.2+1.2) | Q10: 10.4 (10.3:10.4) | R10: 3.8
A11: 45661 | B11: A335 Stoneham Way (S) Ahead Left | C11: O | D11: - | F11: - | G11: - | H11: - | I11: 570 | J11: 2040 | K11: 855 | L11: 0.667 | M11: 570 | N11: 0 | O11: 0 | P11: 1 | Q11: 6.4 | R11: 2.4
A12: 45692 | B12: A335 Stoneham Way (S) Ahead | C12: O | D12: - | F12: - | G12: - | H12: - | I12: 1022 | J12: 2131 | K12: 992 | L12: 1.03 | M12: 992 | N12: 0 | O12: 0 | P12: 27.3 | Q12: 96.1 | R12: 92.2
A13: 45662 | B13: M27 (W) Off slip Ahead Left | C13: U | D13: C1:B | F13: 1 | G13: 15 | H13: - | I13: 221 | J13: 2133 | K13: 400 | L13: 0.553 | M13: - | N13: - | O13: - | P13: 2.4 | Q13: 39.5 | R13: 5
A14: 45693 | B14: M27 (W) Off slip Ahead | C14: U | D14: C1:B | F14: 1 | G14: 15 | H14: - | I14: 219 | J14: 2117 | K14: 397 | L14: 0.552 | M14: - | N14: - | O14: - | P14: 2.4 | Q14: 39.5 | R14: 5
A15: 45721 | B15: M27 (W) Off slip Ahead | C15: U | D15: C1:B | F15: 1 | G15: 15 | H15: - | I15: 293 | J15: 2089 | K15: 418 | L15: 0.701 | M15: - | N15: - | O15: - | P15: 3.6 | Q15: 43.9 | R15: 7.2
A16: 45663 | B16: NW Circulatory Ahead | C16: U | D16: C1:C | F16: 1 | G16: 41 | H16: - | I16: 692 | J16: 1900 | K16: 974 | L16: 0.704 | M16: - | N16: - | O16: - | P16: 2.7 | Q16: 14.2 | R16: 7.7
A17: 45694 | B17: NW Circulatory Right Ahead | C17: U | D17: C1:C | F17: 1 | G17: 41 | H17: - | I17: 724 | J17: 2106 | K17: 1079 | L17: 0.657 | M17: - | N17: - | O17: - | P17: 2.9 | Q17: 14.5 | R17: 9.5
A18: 45722 | B18: NW Circulatory Right | C18: U | D18: C1:C | F18: 1 | G18: 41 | H18: - | I18: 611 | J18: 2077 | K18: 1090 | L18: 0.552 | M18: - | N18: - | O18: - | P18: 2 | Q18: 11.7 | R18: 9.4
A19: 45664 | B19: NE Circulatory Ahead | C19: U | D19: C1:E | F19: 1 | G19: 43 | H19: - | I19: 828 | J19: 2112 | K19: 1135 | L19: 0.717 | M19: - | N19: - | O19: - | P19: 4.1 | Q19: 18 | R19: 13.4
A20: 45695 | B20: NE Circulatory Ahead Ahead2 | C20: U | D20: C1:E | F20: 1 | G20: 43 | H20: - | I20: 790 | J20: 2150 | K20: 1156 | L20: 0.675 | M20: - | N20: - | O20: - | P20: 1.6 | Q20: 7.5 | R20: 5.9
A21: 45723 | B21: NE Circulatory Ahead | C21: U | D21: C1:E | F21: 1 | G21: 43 | H21: - | I21: 352 | J21: 2097 | K21: 1153 | L21: 0.305 | M21: - | N21: - | O21: - | P21: 1.9 | Q21: 19.5 | R21: 6.7
A22: 45665 | B22: Eastern Circulatory Ahead | C22: U | D22: C2:A | F22: 2 | G22: 18 | H22: - | I22: 420 | J22: 2088 | K22: 470 | L22: 0.894 | M22: - | N22: - | O22: - | P22: 5.3 | Q22: 45.2 | R22: 8.9
A23: 45696 | B23: Eastern Circulatory Right Ahead | C23: U | D23: C2:A | F23: 2 | G23: 18 | H23: - | I23: 484 | J23: 2205 | K23: 496 | L23: 0.976 | M23: - | N23: - | O23: - | P23: 10.9 | Q23: 81 | R23: 16.1
A24: 45724 | B24: Eastern Circulatory Right | C24: U | D24: C2:A | F24: 2 | G24: 18 | H24: - | I24: 356 | J24: 2221 | K24: 500 | L24: 0.712 | M24: - | N24: - | O24: - | P24: 2.2 | Q24: 22.7 | R24: 4.5
A25: 45666 | B25: Southern Circulatory Ahead | C25: U | D25: - | F25: - | G25: - | H25: - | I25: 158 | J25: 1977 | K25: 1977 | L25: 0.08 | M25: - | N25: - | O25: - | P25: 0 | Q25: 1 | R25: 0
A26: 45697 | B26: Southern Circulatory Right Ahead | C26: U | D26: - | F26: - | G26: - | H26: - | I26: 774 | J26: 2117 | K26: 2117 | L26: 0.366 | M26: - | N26: - | O26: - | P26: 0.3 | Q26: 1.3 | R26: 0.3
A27: 45725 | B27: Southern Circulatory Right | C27: U | D27: - | F27: - | G27: - | H27: - | I27: 424 | J27: 2115 | K27: 2115 | L27: 0.2 | M27: - | N27: - | O27: - | P27: 0.1 | Q27: 1.1 | R27: 0.1
A28: 45667 | B28: Western Circulatory Ahead | C28: U | D28: C1:A | F28: 1 | G28: 51 | H28: - | I28: 590 | J28: 2091 | K28: 1333 | L28: 0.443 | M28: - | N28: - | O28: - | P28: 1.7 | Q28: 10.3 | R28: 7.4
A29: 45698 | B29: Western Circulatory Right Ahead | C29: U | D29: C1:A | F29: 1 | G29: 51 | H29: - | I29: 623 | J29: 1948 | K29: 1242 | L29: 0.497 | M29: - | N29: - | O29: - | P29: 1.9 | Q29: 11 | R29: 8.2
A30: 45726 | B30: Western Circulatory Right | C30: U | D30: C1:A | F30: 1 | G30: 51 | H30: - | I30: 823 | J30: 2027 | K30: 1292 | L30: 0.618 | M30: - | N30: - | O30: - | P30: 2.6 | Q30: 11.8 | R30: 10.4
A31: C1 - 84052 Stream: 1 PRC for Signalled Lanes (%): 28.3 Total Delay for Signalled Lanes (pcuHr): 14.59 Cycle Time (s): 80
A32: C1 - 84052 Stream: 2 PRC for Signalled Lanes (%): 20.1 Total Delay for Signalled Lanes (pcuHr): 16.15 Cycle Time (s): 80
A33: C1 - 84052 Stream: 3 PRC for Signalled Lanes (%): 25.5 Total Delay for Signalled Lanes (pcuHr): 13.26 Cycle Time (s): 80
A34: C2 - 30255 PRC for Signalled Lanes (%): -8.4 Total Delay for Signalled Lanes (pcuHr): 21.08 Cycle Time (s): 80
A35: PRC Over All Lanes (%): -14.5 Total Delay Over All Lanes(pcuHr): 94.09

Sheet 2036_DS_AM
A1: Item | B1: Lane Description | C1: Lane Type | D1: Full Phase | E1: Arrow Phase | F1: Num Greens | G1: Total Green (s) | H1: Arrow Green (s) | I1: Demand Flow (pcu) | J1: Sat Flow (pcu/Hr) | K1: Capacity (pcu) | L1: Deg Sat (%) | M1: Turners In Gaps (pcu) | N1: Turners When Unopposed (pcu) | O1: Turners In Intergreen (pcu) | P1: Total Delay (pcuHr) | Q1: Av. Delay Per PCU (s/pcu) | R1: Mean Max Queue (pcu)
A2: Network | B2: - | C2: - | D2: - | F2: - | G2: - | H2: - | I2: - | J2: - | K2: - | L2: 0.923 | M2: 1465 | N2: 0 | O2: 0 | P2: 87.9 | Q2: - | R2: -
A3: M27/A335 Stoneham Way Junction | B3: - | C3: - | D3: - | F3: - | G3: - | H3: - | I3: - | J3: - | K3: - | L3: 0.923 | M3: 1465 | N3: 0 | O3: 0 | P3: 87.9 | Q3: - | R3: -
A4: 45658 | B4: Stoneham Lane Ahead Left | C4: U | D4: C1:D | F4: 1 | G4: 24 | H4: - | I4: 464 | J4: 1983 | K4: 570 | L4: 0.814 | M4: - | N4: - | O4: - | P4: 5.5 | Q4: 42.8 | R4: 11.6
A5: 1/2+1/3 | B5: Stoneham Lane Ahead | C5: U | D5: C1:D | F5: 1 | G5: 24 | H5: - | I5: 661 | J5: 2030:2057 | K5: 436+385 | L5: 80.4 : 80.4% | M5: - | N5: - | O5: - | P5: 6.4 (3.5+2.9) | Q5: 34.9 (35.5:34.2) | R5: 9.6
A6: 45659 | B6: A335 (N) Left | C6: U | D6: - | F6: - | G6: - | H6: - | I6: 489 | J6: 1910 | K6: 1910 | L6: 0.256 | M6: - | N6: - | O6: - | P6: 0.2 | Q6: 1.3 | R6: 0.2
A7: 45690 | B7: A335 (N) Ahead | C7: U | D7: C1:F | F7: 1 | G7: 23 | H7: - | I7: 401 | J7: 2166 | K7: 623 | L7: 0.644 | M7: - | N7: - | O7: - | P7: 3.7 | Q7: 33 | R7: 8.6
A8: 45718 | B8: A335 (N) Ahead | C8: U | D8: C1:F | F8: 1 | G8: 23 | H8: - | I8: 408 | J8: 2205 | K8: 634 | L8: 0.644 | M8: - | N8: - | O8: - | P8: 3.7 | Q8: 32.8 | R8: 8.7
A9: 45660 | B9: M27 (E) Off slip Left | C9: U | D9: C2:C | F9: 1 | G9: 80 | H9: - | I9: 832 | J9: 1937 | K9: 1937 | L9: 0.43 | M9: - | N9: - | O9: - | P9: 0.4 | Q9: 1.6 | R9: 0.4
A10: 3/3+3/2 | B10: M27 (E) Off slip Ahead | C10: U | D10: C2:B | F10: 2 | G10: 30 | H10: - | I10: 1328 | J10: 2157:2127 | K10: 809+713 | L10: 87.3 : 87.3% | M10: - | N10: - | O10: - | P10: 7.5 (4.0+3.5) | Q10: 20.3 (20.6:20.0) | R10: 10.6
A11: 45661 | B11: A335 Stoneham Way (S) Ahead Left | C11: O | D11: - | F11: - | G11: - | H11: - | I11: 717 | J11: 2040 | K11: 836 | L11: 0.858 | M11: 717 | N11: 0 | O11: 0 | P11: 3 | Q11: 14.8 | R11: 6.9
A12: 45692 | B12: A335 Stoneham Way (S) Ahead | C12: O | D12: - | F12: - | G12: - | H12: - | I12: 748 | J12: 2131 | K12: 810 | L12: 0.923 | M12: 748 | N12: 0 | O12: 0 | P12: 5.9 | Q12: 28.5 | R12: 19.5
A13: 45662 | B13: M27 (W) Off slip Ahead Left | C13: U | D13: C1:B | F13: 1 | G13: 18 | H13: - | I13: 350 | J13: 2133 | K13: 480 | L13: 0.729 | M13: - | N13: - | O13: - | P13: 4.1 | Q13: 42.3 | R13: 8.5
A14: 45693 | B14: M27 (W) Off slip Ahead | C14: U | D14: C1:B | F14: 1 | G14: 18 | H14: - | I14: 267 | J14: 2117 | K14: 476 | L14: 0.561 | M14: - | N14: - | O14: - | P14: 2.7 | Q14: 36 | R14: 5.8
A15: 45721 | B15: M27 (W) Off slip Ahead | C15: U | D15: C1:B | F15: 1 | G15: 18 | H15: - | I15: 346 | J15: 2089 | K15: 444 | L15: 0.779 | M15: - | N15: - | O15: - | P15: 4.6 | Q15: 47.5 | R15: 8.9
A16: 45663 | B16: NW Circulatory Ahead | C16: U | D16: C1:C | F16: 1 | G16: 42 | H16: - | I16: 815 | J16: 1900 | K16: 997 | L16: 0.817 | M16: - | N16: - | O16: - | P16: 4.9 | Q16: 21.5 | R16: 12.9
A17: 45694 | B17: NW Circulatory Right Ahead | C17: U | D17: C1:C | F17: 1 | G17: 42 | H17: - | I17: 793 | J17: 2106 | K17: 1106 | L17: 0.717 | M17: - | N17: - | O17: - | P17: 3.6 | Q17: 16.2 | R17: 12
A18: 45722 | B18: NW Circulatory Right | C18: U | D18: C1:C | F18: 1 | G18: 42 | H18: - | I18: 579 | J18: 2077 | K18: 1090 | L18: 0.531 | M18: - | N18: - | O18: - | P18: 1.4 | Q18: 8.6 | R18: 6.3
A19: 45664 | B19: NE Circulatory Ahead | C19: U | D19: C1:E | F19: 1 | G19: 43 | H19: - | I19: 537 | J19: 2112 | K19: 1135 | L19: 0.473 | M19: - | N19: - | O19: - | P19: 2.1 | Q19: 13.8 | R19: 9.6
A20: 45695 | B20: NE Circulatory Ahead Ahead2 | C20: U | D20: C1:E | F20: 1 | G20: 43 | H20: - | I20: 849 | J20: 2150 | K20: 1129 | L20: 0.752 | M20: - | N20: - | O20: - | P20: 2.8 | Q20: 12 | R20: 10.6
A21: 45723 | B21: NE Circulatory Ahead | C21: U | D21: C1:E | F21: 1 | G21: 43 | H21: - | I21: 391 | J21: 2097 | K21: 1153 | L21: 0.339 | M21: - | N21: - | O21: - | P21: 0.7 | Q21: 6.8 | R21: 6.5
A22: 45665 | B22: Eastern Circulatory Ahead | C22: U | D22: C2:A | F22: 2 | G22: 22 | H22: - | I22: 484 | J22: 2088 | K22: 574 | L22: 0.843 | M22: - | N22: - | O22: - | P22: 4.5 | Q22: 33.4 | R22: 8.1
A23: 45696 | B23: Eastern Circulatory Right Ahead | C23: U | D23: C2:A | F23: 2 | G23: 22 | H23: - | I23: 519 | J23: 2205 | K23: 606 | L23: 0.856 | M23: - | N23: - | O23: - | P23: 5.3 | Q23: 36.5 | R23: 11.1
A24: 45724 | B24: Eastern Circulatory Right | C24: U | D24: C2:A | F24: 2 | G24: 22 | H24: - | I24: 467 | J24: 2221 | K24: 611 | L24: 0.765 | M24: - | N24: - | O24: - | P24: 5 | Q24: 38.5 | R24: 10.2
A25: 45666 | B25: Southern Circulatory Ahead | C25: U | D25: - | F25: - | G25: - | H25: - | I25: 149 | J25: 1977 | K25: 1977 | L25: 0.075 | M25: - | N25: - | O25: - | P25: 0 | Q25: 1 | R25: 0
A26: 45697 | B26: Southern Circulatory Right Ahead | C26: U | D26: - | F26: - | G26: - | H26: - | I26: 1076 | J26: 2117 | K26: 2117 | L26: 0.508 | M26: - | N26: - | O26: - | P26: 0.5 | Q26: 1.7 | R26: 0.5
A27: 45725 | B27: Southern Circulatory Right | C27: U | D27: - | F27: - | G27: - | H27: - | I27: 718 | J27: 2115 | K27: 2115 | L27: 0.339 | M27: - | N27: - | O27: - | P27: 0.3 | Q27: 1.3 | R27: 0.8
A28: 45667 | B28: Western Circulatory Ahead | C28: U | D28: C1:A | F28: 1 | G28: 48 | H28: - | I28: 793 | J28: 2091 | K28: 1255 | L28: 0.632 | M28: - | N28: - | O28: - | P28: 3.5 | Q28: 15.8 | R28: 14.3
A29: 45698 | B29: Western Circulatory Right Ahead | C29: U | D29: C1:A | F29: 1 | G29: 48 | H29: - | I29: 707 | J29: 1948 | K29: 1169 | L29: 0.605 | M29: - | N29: - | O29: - | P29: 2.9 | Q29: 14.7 | R29: 9.6
A30: 45726 | B30: Western Circulatory Right | C30: U | D30: C1:A | F30: 1 | G30: 48 | H30: - | I30: 759 | J30: 2027 | K30: 1191 | L30: 0.637 | M30: - | N30: - | O30: - | P30: 3 | Q30: 14.1 | R30: 11.3
A31: C1 - 84052 Stream: 1 PRC for Signalled Lanes (%): 15.5 Total Delay for Signalled Lanes (pcuHr): 20.68 Cycle Time (s): 80
A32: C1 - 84052 Stream: 2 PRC for Signalled Lanes (%): 10.2 Total Delay for Signalled Lanes (pcuHr): 21.74 Cycle Time (s): 80
A33: C1 - 84052 Stream: 3 PRC for Signalled Lanes (%): 19.7 Total Delay for Signalled Lanes (pcuHr): 13.02 Cycle Time (s): 80
A34: C2 - 30255 PRC for Signalled Lanes (%): 3.1 Total Delay for Signalled Lanes (pcuHr): 22.62 Cycle Time (s): 80
A35: PRC Over All Lanes (%): -2.5 Total Delay Over All Lanes(pcuHr): 87.92

Sheet 2036_DS_PM
A1: Item | B1: Lane Description | C1: Lane Type | D1: Full Phase | E1: Arrow Phase | F1: Num Greens | G1: Total Green (s) | H1: Arrow Green (s) | I1: Demand Flow (pcu) | J1: Sat Flow (pcu/Hr) | K1: Capacity (pcu) | L1: Deg Sat (%) | M1: Turners In Gaps (pcu) | N1: Turners When Unopposed (pcu) | O1: Turners In Intergreen (pcu) | P1: Total Delay (pcuHr) | Q1: Av. Delay Per PCU (s/pcu) | R1: Mean Max Queue (pcu)
A2: Network | B2: - | C2: - | D2: - | F2: - | G2: - | H2: - | I2: - | J2: - | K2: - | L2: 1.073 | M2: 1525 | N2: 0 | O2: 0 | P2: 137.2 | Q2: - | R2: -
A3: M27/A335 Stoneham Way Junction | B3: - | C3: - | D3: - | F3: - | G3: - | H3: - | I3: - | J3: - | K3: - | L3: 1.073 | M3: 1525 | N3: 0 | O3: 0 | P3: 137.2 | Q3: - | R3: -
A4: 45658 | B4: Stoneham Lane Ahead Left | C4: U | D4: C1:D | F4: 1 | G4: 25 | H4: - | I4: 455 | J4: 1988 | K4: 596 | L4: 0.763 | M4: - | N4: - | O4: - | P4: 4.8 | Q4: 37.9 | R4: 10.7
A5: 1/2+1/3 | B5: Stoneham Lane Ahead | C5: U | D5: C1:D | F5: 1 | G5: 25 | H5: - | I5: 530 | J5: 2030:2057 | K5: 384+471 | L5: 62.0 : 62.0% | M5: - | N5: - | O5: - | P5: 4.0 (1.8+2.2) | Q5: 27.3 (26.9:27.6) | R5: 6
A6: 45659 | B6: A335 (N) Left | C6: U | D6: - | F6: - | G6: - | H6: - | I6: 763 | J6: 1910 | K6: 1910 | L6: 0.399 | M6: - | N6: - | O6: - | P6: 0.3 | Q6: 1.6 | R6: 0.3
A7: 45690 | B7: A335 (N) Ahead | C7: U | D7: C1:F | F7: 1 | G7: 23 | H7: - | I7: 391 | J7: 2166 | K7: 623 | L7: 0.628 | M7: - | N7: - | O7: - | P7: 3.5 | Q7: 32.5 | R7: 8.3
A8: 45718 | B8: A335 (N) Ahead | C8: U | D8: C1:F | F8: 1 | G8: 23 | H8: - | I8: 396 | J8: 2205 | K8: 634 | L8: 0.625 | M8: - | N8: - | O8: - | P8: 3.5 | Q8: 32.3 | R8: 8.4
A9: 45660 | B9: M27 (E) Off slip Left | C9: U | D9: C2:C | F9: 1 | G9: 80 | H9: - | I9: 639 | J9: 1937 | K9: 1937 | L9: 0.33 | M9: - | N9: - | O9: - | P9: 0.2 | Q9: 1.4 | R9: 0.2
A10: 3/3+3/2 | B10: M27 (E) Off slip Ahead | C10: U | D10: C2:B | F10: 2 | G10: 16 | H10: - | I10: 910 | J10: 2157:2127 | K10: 431+425 | L10: 107.3 : 105.1% | M10: - | N10: - | O10: - | P10: 40.0 (22.8+17.2) | Q10: 158.3 (177.6:138.3) | R10: 40
A11: 45661 | B11: A335 Stoneham Way (S) Ahead Left | C11: O | D11: - | F11: - | G11: - | H11: - | I11: 570 | J11: 2040 | K11: 823 | L11: 0.693 | M11: 570 | N11: 0 | O11: 0 | P11: 1.1 | Q11: 7.2 | R11: 3
A12: 45692 | B12: A335 Stoneham Way (S) Ahead | C12: O | D12: - | F12: - | G12: - | H12: - | I12: 1024 | J12: 2131 | K12: 955 | L12: 1.072 | M12: 955 | N12: 0 | O12: 0 | P12: 45 | Q12: 158 | R12: 93.5
A13: 45662 | B13: M27 (W) Off slip Ahead Left | C13: U | D13: C1:B | F13: 1 | G13: 18 | H13: - | I13: 254 | J13: 2133 | K13: 480 | L13: 0.529 | M13: - | N13: - | O13: - | P13: 2.5 | Q13: 35.2 | R13: 5.5
A14: 45693 | B14: M27 (W) Off slip Ahead | C14: U | D14: C1:B | F14: 1 | G14: 18 | H14: - | I14: 251 | J14: 2117 | K14: 476 | L14: 0.527 | M14: - | N14: - | O14: - | P14: 2.5 | Q14: 35.2 | R14: 5.4
A15: 45721 | B15: M27 (W) Off slip Ahead | C15: U | D15: C1:B | F15: 1 | G15: 18 | H15: - | I15: 293 | J15: 2089 | K15: 496 | L15: 0.591 | M15: - | N15: - | O15: - | P15: 2.9 | Q15: 35.9 | R15: 6.4
A16: 45663 | B16: NW Circulatory Ahead | C16: U | D16: C1:C | F16: 1 | G16: 41 | H16: - | I16: 738 | J16: 1900 | K16: 974 | L16: 0.72 | M16: - | N16: - | O16: - | P16: 2.7 | Q16: 13.8 | R16: 7.1
A17: 45694 | B17: NW Circulatory Right Ahead | C17: U | D17: C1:C | F17: 1 | G17: 41 | H17: - | I17: 776 | J17: 2106 | K17: 1079 | L17: 0.686 | M17: - | N17: - | O17: - | P17: 3.2 | Q17: 15.3 | R17: 10.6
A18: 45722 | B18: NW Circulatory Right | C18: U | D18: C1:C | F18: 1 | G18: 41 | H18: - | I18: 648 | J18: 2077 | K18: 1090 | L18: 0.572 | M18: - | N18: - | O18: - | P18: 2.4 | Q18: 13.8 | R18: 9.7
A19: 45664 | B19: NE Circulatory Ahead | C19: U | D19: C1:E | F19: 1 | G19: 43 | H19: - | I19: 792 | J19: 2112 | K19: 1135 | L19: 0.672 | M19: - | N19: - | O19: - | P19: 3.5 | Q19: 16.5 | R19: 12.3
A20: 45695 | B20: NE Circulatory Ahead Ahead2 | C20: U | D20: C1:E | F20: 1 | G20: 43 | H20: - | I20: 862 | J20: 2150 | K20: 1156 | L20: 0.725 | M20: - | N20: - | O20: - | P20: 1.9 | Q20: 8.2 | R20: 9.2
A21: 45723 | B21: NE Circulatory Ahead | C21: U | D21: C1:E | F21: 1 | G21: 43 | H21: - | I21: 316 | J21: 2097 | K21: 1153 | L21: 0.274 | M21: - | N21: - | O21: - | P21: 1.8 | Q21: 20.4 | R21: 6.7
A22: 45665 | B22: Eastern Circulatory Ahead | C22: U | D22: C2:A | F22: 2 | G22: 36 | H22: - | I22: 469 | J22: 2088 | K22: 940 | L22: 0.499 | M22: - | N22: - | O22: - | P22: 0.8 | Q22: 6.2 | R22: 1.4
A23: 45696 | B23: Eastern Circulatory Right Ahead | C23: U | D23: C2:A | F23: 2 | G23: 36 | H23: - | I23: 503 | J23: 2205 | K23: 992 | L23: 0.507 | M23: - | N23: - | O23: - | P23: 1.3 | Q23: 9.5 | R23: 7.6
A24: 45724 | B24: Eastern Circulatory Right | C24: U | D24: C2:A | F24: 2 | G24: 36 | H24: - | I24: 400 | J24: 2221 | K24: 999 | L24: 0.4 | M24: - | N24: - | O24: - | P24: 0.6 | Q24: 5.4 | R24: 1.5
A25: 45666 | B25: Southern Circulatory Ahead | C25: U | D25: - | F25: - | G25: - | H25: - | I25: 217 | J25: 1977 | K25: 1977 | L25: 0.11 | M25: - | N25: - | O25: - | P25: 0.1 | Q25: 1 | R25: 0.1
A26: 45697 | B26: Southern Circulatory Right Ahead | C26: U | D26: - | F26: - | G26: - | H26: - | I26: 832 | J26: 2117 | K26: 2117 | L26: 0.383 | M26: - | N26: - | O26: - | P26: 0.3 | Q26: 1.4 | R26: 0.3
A27: 45725 | B27: Southern Circulatory Right | C27: U | D27: - | F27: - | G27: - | H27: - | I27: 478 | J27: 2115 | K27: 2115 | L27: 0.211 | M27: - | N27: - | O27: - | P27: 0.1 | Q27: 1.1 | R27: 0.1
A28: 45667 | B28: Western Circulatory Ahead | C28: U | D28: C1:A | F28: 1 | G28: 48 | H28: - | I28: 631 | J28: 2091 | K28: 1255 | L28: 0.486 | M28: - | N28: - | O28: - | P28: 2.3 | Q28: 13.6 | R28: 7.8
A29: 45698 | B29: Western Circulatory Right Ahead | C29: U | D29: C1:A | F29: 1 | G29: 48 | H29: - | I29: 622 | J29: 1948 | K29: 1169 | L29: 0.497 | M29: - | N29: - | O29: - | P29: 2.3 | Q29: 14 | R29: 7.2
A30: 45726 | B30: Western Circulatory Right | C30: U | D30: C1:A | F30: 1 | G30: 48 | H30: - | I30: 880 | J30: 2027 | K30: 1216 | L30: 0.675 | M30: - | N30: - | O30: - | P30: 3.5 | Q30: 15.5 | R30: 12.6
A31: C1 - 84052 Stream: 1 PRC for Signalled Lanes (%): 33.3 Total Delay for Signalled Lanes (pcuHr): 15.95 Cycle Time (s): 80
A32: C1 - 84052 Stream: 2 PRC for Signalled Lanes (%): 18.0 Total Delay for Signalled Lanes (pcuHr): 17.05 Cycle Time (s): 80
A33: C1 - 84052 Stream: 3 PRC for Signalled Lanes (%): 24.1 Total Delay for Signalled Lanes (pcuHr): 14.28 Cycle Time (s): 80
A34: C2 - 30255 PRC for Signalled Lanes (%): -19.2 Total Delay for Signalled Lanes (pcuHr): 42.98 Cycle Time (s): 80
A35: PRC Over All Lanes (%): -19.2 Total Delay Over All Lanes(pcuHr): 137.19
