Workbook
Name car: #REF!
Name car: #REF!
Name coach: #REF!
Name coach: #REF!
Name lgv: #REF!
Name lgv: #REF!
Name mcl: #REF!
Name mcl: #REF!
Name NEW: #REF!
Name NEW: #REF!
Name ogva: #REF!
Name ogva: #REF!
Name ogvb: #REF!
Name ogvb: #REF!
Name pcl: #REF!
Name pcl: #REF!
Name psv: #REF!
Name psv: #REF!
Name q: #REF!
Name q: #REF!
Name qwqw: #REF!
Name qwqw: #REF!
Name RE: #REF!
Name RE: #REF!
Name StaffList: [1]Datapickndrop!$B$15:$B$122
Name taxi: #REF!
Name taxi: #REF!

Sheet Site 4 Diagram
D36: Site / Location: | F36: Site 4, Stoneham Interchange | M36: Project No: | N36: 16367 | O36: Drawing No: | Q36: 16367-03 | S36: Drawn By: | T36: BVR
D38: Survey Date: | F38: Thursday 13th February 2025 | M38: Project Name: | O38: SOUTHAMPTON
D40: Survey Times: | F40: 07:00 to 10:00 & 16:00 to 19:00 | M40: Drawing Title: | O40: Site Layout and Observed Movements

Sheet Site 4
J2: 16367 / SOUTHAMPTON | T2: =J2 -> 16367 / SOUTHAMPTON | AD2: =T2 -> 16367 / SOUTHAMPTON | AN2: =AD2 -> 16367 / SOUTHAMPTON | AX2: =AN2 -> 16367 / SOUTHAMPTON | BH2: =AX2 -> 16367 / SOUTHAMPTON | BR2: =BH2 -> 16367 / SOUTHAMPTON | CB2: =BH2 -> 16367 / SOUTHAMPTON | CL2: =CB2 -> 16367 / SOUTHAMPTON | CV2: =CL2 -> 16367 / SOUTHAMPTON | DF2: =CV2 -> 16367 / SOUTHAMPTON | DP2: =DF2 -> 16367 / SOUTHAMPTON | DZ2: =DP2 -> 16367 / SOUTHAMPTON | EJ2: =DP2 -> 16367 / SOUTHAMPTON | ET2: =EJ2 -> 16367 / SOUTHAMPTON | FD2: =ET2 -> 16367 / SOUTHAMPTON | FN2: =FD2 -> 16367 / SOUTHAMPTON | FX2: =FN2 -> 16367 / SOUTHAMPTON | GH2: =FX2 -> 16367 / SOUTHAMPTON | GR2: =FX2 -> 16367 / SOUTHAMPTON | HB2: =GR2 -> 16367 / SOUTHAMPTON | HL2: =HB2 -> 16367 / SOUTHAMPTON | HV2: =HL2 -> 16367 / SOUTHAMPTON | IF2: =HV2 -> 16367 / SOUTHAMPTON | IP2: =HV2 -> 16367 / SOUTHAMPTON | IZ2: =GR2 -> 16367 / SOUTHAMPTON | JJ2: =IZ2 -> 16367 / SOUTHAMPTON | JT2: =JJ2 -> 16367 / SOUTHAMPTON | KD2: =JT2 -> 16367 / SOUTHAMPTON | KN2: =KD2 -> 16367 / SOUTHAMPTON | KX2: =KN2 -> 16367 / SOUTHAMPTON | LH2: =KX2 -> 16367 / SOUTHAMPTON | LR2: =LH2 -> 16367 / SOUTHAMPTON | MB2: =LR2 -> 16367 / SOUTHAMPTON | ML2: =MB2 -> 16367 / SOUTHAMPTON | MV2: =ML2 -> 16367 / SOUTHAMPTON
J3: =UPPER(TEXT(I7,"mmmm yyyy")) -> FEBRUARY 2025 | T3: =UPPER(TEXT(S7,"mmmm yyyy")) -> FEBRUARY 2025 | AD3: =UPPER(TEXT(AC7,"mmmm yyyy")) -> FEBRUARY 2025 | AN3: =UPPER(TEXT(AM7,"mmmm yyyy")) -> FEBRUARY 2025 | AX3: =UPPER(TEXT(AW7,"mmmm yyyy")) -> FEBRUARY 2025 | BH3: =UPPER(TEXT(BG7,"mmmm yyyy")) -> FEBRUARY 2025 | BR3: =UPPER(TEXT(BQ7,"mmmm yyyy")) -> FEBRUARY 2025 | CB3: =UPPER(TEXT(CA7,"mmmm yyyy")) -> FEBRUARY 2025 | CL3: =UPPER(TEXT(CK7,"mmmm yyyy")) -> FEBRUARY 2025 | CV3: =UPPER(TEXT(CU7,"mmmm yyyy")) -> FEBRUARY 2025 | DF3: =UPPER(TEXT(DE7,"mmmm yyyy")) -> FEBRUARY 2025 | DP3: =UPPER(TEXT(DO7,"mmmm yyyy")) -> FEBRUARY 2025 | DZ3: =UPPER(TEXT(DY7,"mmmm yyyy")) -> FEBRUARY 2025 | EJ3: =UPPER(TEXT(EI7,"mmmm yyyy")) -> FEBRUARY 2025 | ET3: =UPPER(TEXT(ES7,"mmmm yyyy")) -> FEBRUARY 2025 | FD3: =UPPER(TEXT(FC7,"mmmm yyyy")) -> FEBRUARY 2025 | FN3: =UPPER(TEXT(FM7,"mmmm yyyy")) -> FEBRUARY 2025 | FX3: =UPPER(TEXT(FW7,"mmmm yyyy")) -> FEBRUARY 2025 | GH3: =UPPER(TEXT(GG7,"mmmm yyyy")) -> FEBRUARY 2025 | GR3: =UPPER(TEXT(GQ7,"mmmm yyyy")) -> FEBRUARY 2025 | HB3: =UPPER(TEXT(HA7,"mmmm yyyy")) -> FEBRUARY 2025 | HL3: =UPPER(TEXT(HK7,"mmmm yyyy")) -> FEBRUARY 2025 | HV3: =UPPER(TEXT(HU7,"mmmm yyyy")) -> FEBRUARY 2025 | IF3: =UPPER(TEXT(IE7,"mmmm yyyy")) -> FEBRUARY 2025 | IP3: =UPPER(TEXT(IO7,"mmmm yyyy")) -> FEBRUARY 2025 | IZ3: =UPPER(TEXT(IY7,"mmmm yyyy")) -> FEBRUARY 2025 | JJ3: =UPPER(TEXT(JI7,"mmmm yyyy")) -> FEBRUARY 2025 | JT3: =UPPER(TEXT(JS7,"mmmm yyyy")) -> FEBRUARY 2025 | KD3: =UPPER(TEXT(KC7,"mmmm yyyy")) -> FEBRUARY 2025 | KN3: =UPPER(TEXT(KM7,"mmmm yyyy")) -> FEBRUARY 2025 | KX3: =UPPER(TEXT(KW7,"mmmm yyyy")) -> FEBRUARY 2025 | LH3: =UPPER(TEXT(LG7,"mmmm yyyy")) -> FEBRUARY 2025 | LR3: =UPPER(TEXT(LQ7,"mmmm yyyy")) -> FEBRUARY 2025 | MB3: =UPPER(TEXT(MA7,"mmmm yyyy")) -> FEBRUARY 2025 | ML3: =UPPER(TEXT(MK7,"mmmm yyyy")) -> FEBRUARY 2025 | MV3: =UPPER(TEXT(MU7,"mmmm yyyy")) -> FEBRUARY 2025
J4: CLASSIFIED TURNING COUNT | T4: =J4 -> CLASSIFIED TURNING COUNT | AD4: =T4 -> CLASSIFIED TURNING COUNT | AN4: =AD4 -> CLASSIFIED TURNING COUNT | AX4: =AN4 -> CLASSIFIED TURNING COUNT | BH4: =AX4 -> CLASSIFIED TURNING COUNT | BR4: =BH4 -> CLASSIFIED TURNING COUNT | CB4: =BH4 -> CLASSIFIED TURNING COUNT | CL4: =CB4 -> CLASSIFIED TURNING COUNT | CV4: =CL4 -> CLASSIFIED TURNING COUNT | DF4: =CV4 -> CLASSIFIED TURNING COUNT | DP4: =DF4 -> CLASSIFIED TURNING COUNT | DZ4: =DP4 -> CLASSIFIED TURNING COUNT | EJ4: =DP4 -> CLASSIFIED TURNING COUNT | ET4: =EJ4 -> CLASSIFIED TURNING COUNT | FD4: =ET4 -> CLASSIFIED TURNING COUNT | FN4: =FD4 -> CLASSIFIED TURNING COUNT | FX4: =FN4 -> CLASSIFIED TURNING COUNT | GH4: =FX4 -> CLASSIFIED TURNING COUNT | GR4: =FX4 -> CLASSIFIED TURNING COUNT | HB4: =GR4 -> CLASSIFIED TURNING COUNT | HL4: =HB4 -> CLASSIFIED TURNING COUNT | HV4: =HL4 -> CLASSIFIED TURNING COUNT | IF4: =HV4 -> CLASSIFIED TURNING COUNT | IP4: =HV4 -> CLASSIFIED TURNING COUNT | IZ4: =GR4 -> CLASSIFIED TURNING COUNT | JJ4: =IZ4 -> CLASSIFIED TURNING COUNT | JT4: =JJ4 -> CLASSIFIED TURNING COUNT | KD4: =JT4 -> CLASSIFIED TURNING COUNT | KN4: =KD4 -> CLASSIFIED TURNING COUNT | KX4: =KN4 -> CLASSIFIED TURNING COUNT | LH4: =KX4 -> CLASSIFIED TURNING COUNT | LR4: =LH4 -> CLASSIFIED TURNING COUNT | MB4: =LR4 -> CLASSIFIED TURNING COUNT | ML4: =MB4 -> CLASSIFIED TURNING COUNT | MV4: =ML4 -> CLASSIFIED TURNING COUNT
A7: SITE: | B7: 4 | H7: DATE: | I7: 45701 | K7: SITE: | L7: =$B$7 -> 4 | R7: DATE: | S7: =I7 -> 45701 | U7: SITE: | V7: =$L$7 -> 4 | AB7: DATE: | AC7: =S7 -> 45701 | AE7: SITE: | AF7: =$L$7 -> 4 | AL7: DATE: | AM7: =AC7 -> 45701 | AO7: SITE: | AP7: =$L$7 -> 4 | AV7: DATE: | AW7: =AM7 -> 45701 | AY7: SITE: | AZ7: =$L$7 -> 4 | BF7: DATE: | BG7: =AW7 -> 45701 | BI7: SITE: | BJ7: =$L$7 -> 4 | BP7: DATE: | BQ7: =BG7 -> 45701 | BS7: SITE: | BT7: =$L$7 -> 4 | BZ7: DATE: | CA7: =BG7 -> 45701 | CC7: SITE: | CD7: =$L$7 -> 4 | CJ7: DATE: | CK7: =CA7 -> 45701 | CM7: SITE: | CN7: =$L$7 -> 4 | CT7: DATE: | CU7: =CK7 -> 45701 | CW7: SITE: | CX7: =$L$7 -> 4 | DD7: DATE: | DE7: =CU7 -> 45701 | DG7: SITE: | DH7: =$L$7 -> 4 | DN7: DATE: | DO7: =DE7 -> 45701 | DQ7: SITE: | DR7: =$L$7 -> 4 | DX7: DATE: | DY7: =DO7 -> 45701 | EA7: SITE: | EB7: =$L$7 -> 4 | EH7: DATE: | EI7: =DO7 -> 45701 | EK7: SITE: | EL7: =$L$7 -> 4 | ER7: DATE: | ES7: =EI7 -> 45701 | EU7: SITE: | EV7: =$L$7 -> 4 | FB7: DATE: | FC7: =ES7 -> 45701 | FE7: SITE: | FF7: =$L$7 -> 4 | FL7: DATE: | FM7: =FC7 -> 45701 | FO7: SITE: | FP7: =$L$7 -> 4 | FV7: DATE: | FW7: =FM7 -> 45701 | FY7: SITE: | FZ7: =$L$7 -> 4 | GF7: DATE: | GG7: =FW7 -> 45701 | GI7: SITE: | GJ7: =$L$7 -> 4 | GP7: DATE: | GQ7: =FW7 -> 45701 | GS7: SITE: | GT7: =$L$7 -> 4 | GZ7: DATE: | HA7: =GQ7 -> 45701 | HC7: SITE: | HD7: =$L$7 -> 4 | HJ7: DATE: | HK7: =HA7 -> 45701 | HM7: SITE: | HN7: =$L$7 -> 4 | HT7: DATE: | HU7: =HK7 -> 45701 | HW7: SITE: | HX7: =$L$7 -> 4 | ID7: DATE: | IE7: =HU7 -> 45701 | IG7: SITE: | IH7: =$L$7 -> 4 | IN7: DATE: | IO7: =HU7 -> 45701 | IQ7: SITE: | IR7: =$L$7 -> 4 | IX7: DATE: | IY7: =GQ7 -> 45701 | JA7: SITE: | JB7: =$L$7 -> 4 | JH7: DATE: | JI7: =IY7 -> 45701 | JK7: SITE: | JL7: =$L$7 -> 4 | JR7: DATE: | JS7: =JI7 -> 45701 | JU7: SITE: | JV7: =$L$7 -> 4 | KB7: DATE: | KC7: =JS7 -> 45701 | KE7: SITE: | KF7: =$L$7 -> 4 | KL7: DATE: | KM7: =KC7 -> 45701 | KO7: SITE: | KP7: =$L$7 -> 4 | KV7: DATE: | KW7: =KM7 -> 45701 | KY7: SITE: | KZ7: =$L$7 -> 4 | LF7: DATE: | LG7: =KW7 -> 45701 | LI7: SITE: | LJ7: =$L$7 -> 4 | LP7: DATE: | LQ7: =LG7 -> 45701 | LS7: SITE: | LT7: =$L$7 -> 4 | LZ7: DATE: | MA7: =LQ7 -> 45701 | MC7: SITE: | MD7: =$L$7 -> 4 | MJ7: DATE: | MK7: =MA7 -> 45701 | MM7: SITE: | MN7: =$L$7 -> 4 | MT7: DATE: | MU7: =MK7 -> 45701
A9: LOCATION: | B9: Stoneham Interchange | H9: DAY: | I9: =TEXT(I7,"dddd") -> Thursday | K9: LOCATION: | L9: =$B$9 -> Stoneham Interchange | R9: DAY: | S9: =TEXT(S7,"dddd") -> Thursday | U9: LOCATION: | V9: =$L$9 -> Stoneham Interchange | AB9: DAY: | AC9: =TEXT(AC7,"dddd") -> Thursday | AE9: LOCATION: | AF9: =$L$9 -> Stoneham Interchange | AL9: DAY: | AM9: =TEXT(AM7,"dddd") -> Thursday | AO9: LOCATION: | AP9: =$L$9 -> Stoneham Interchange | AV9: DAY: | AW9: =TEXT(AW7,"dddd") -> Thursday | AY9: LOCATION: | AZ9: =$L$9 -> Stoneham Interchange | BF9: DAY: | BG9: =TEXT(BG7,"dddd") -> Thursday | BI9: LOCATION: | BJ9: =$L$9 -> Stoneham Interchange | BP9: DAY: | BQ9: =TEXT(BQ7,"dddd") -> Thursday | BS9: LOCATION: | BT9: =$L$9 -> Stoneham Interchange | BZ9: DAY: | CA9: =TEXT(CA7,"dddd") -> Thursday | CC9: LOCATION: | CD9: =$L$9 -> Stoneham Interchange | CJ9: DAY: | CK9: =TEXT(CK7,"dddd") -> Thursday | CM9: LOCATION: | CN9: =$L$9 -> Stoneham Interchange | CT9: DAY: | CU9: =TEXT(CU7,"dddd") -> Thursday | CW9: LOCATION: | CX9: =$L$9 -> Stoneham Interchange | DD9: DAY: | DE9: =TEXT(DE7,"dddd") -> Thursday | DG9: LOCATION: | DH9: =$L$9 -> Stoneham Interchange | DN9: DAY: | DO9: =TEXT(DO7,"dddd") -> Thursday | DQ9: LOCATION: | DR9: =$L$9 -> Stoneham Interchange | DX9: DAY: | DY9: =TEXT(DY7,"dddd") -> Thursday | EA9: LOCATION: | EB9: =$L$9 -> Stoneham Interchange | EH9: DAY: | EI9: =TEXT(EI7,"dddd") -> Thursday | EK9: LOCATION: | EL9: =$L$9 -> Stoneham Interchange | ER9: DAY: | ES9: =TEXT(ES7,"dddd") -> Thursday | EU9: LOCATION: | EV9: =$L$9 -> Stoneham Interchange | FB9: DAY: | FC9: =TEXT(FC7,"dddd") -> Thursday | FE9: LOCATION: | FF9: =$L$9 -> Stoneham Interchange | FL9: DAY: | FM9: =TEXT(FM7,"dddd") -> Thursday | FO9: LOCATION: | FP9: =$L$9 -> Stoneham Interchange | FV9: DAY: | FW9: =TEXT(FW7,"dddd") -> Thursday | FY9: LOCATION: | FZ9: =$L$9 -> Stoneham Interchange | GF9: DAY: | GG9: =TEXT(GG7,"dddd") -> Thursday | GI9: LOCATION: | GJ9: =$L$9 -> Stoneham Interchange | GP9: DAY: | GQ9: =TEXT(GQ7,"dddd") -> Thursday | GS9: LOCATION: | GT9: =$L$9 -> Stoneham Interchange | GZ9: DAY: | HA9: =TEXT(HA7,"dddd") -> Thursday | HC9: LOCATION: | HD9: =$L$9 -> Stoneham Interchange | HJ9: DAY: | HK9: =TEXT(HK7,"dddd") -> Thursday | HM9: LOCATION: | HN9: =$L$9 -> Stoneham Interchange | HT9: DAY: | HU9: =TEXT(HU7,"dddd") -> Thursday | HW9: LOCATION: | HX9: =$L$9 -> Stoneham Interchange | ID9: DAY: | IE9: =TEXT(IE7,"dddd") -> Thursday | IG9: LOCATION: | IH9: =$L$9 -> Stoneham Interchange | IN9: DAY: | IO9: =TEXT(IO7,"dddd") -> Thursday | IQ9: LOCATION: | IR9: =$L$9 -> Stoneham Interchange | IX9: DAY: | IY9: =TEXT(IY7,"dddd") -> Thursday | JA9: LOCATION: | JB9: =$L$9 -> Stoneham Interchange | JH9: DAY: | JI9: =TEXT(JI7,"dddd") -> Thursday | JK9: LOCATION: | JL9: =$L$9 -> Stoneham Interchange | JR9: DAY: | JS9: =TEXT(JS7,"dddd") -> Thursday | JU9: LOCATION: | JV9: =$L$9 -> Stoneham Interchange | KB9: DAY: | KC9: =TEXT(KC7,"dddd") -> Thursday | KE9: LOCATION: | KF9: =$L$9 -> Stoneham Interchange | KL9: DAY: | KM9: =TEXT(KM7,"dddd") -> Thursday | KO9: LOCATION: | KP9: =$L$9 -> Stoneham Interchange | KV9: DAY: | KW9: =TEXT(KW7,"dddd") -> Thursday | KY9: LOCATION: | KZ9: =$L$9 -> Stoneham Interchange | LF9: DAY: | LG9: =TEXT(LG7,"dddd") -> Thursday | LI9: LOCATION: | LJ9: =$L$9 -> Stoneham Interchange | LP9: DAY: | LQ9: =TEXT(LQ7,"dddd") -> Thursday | LS9: LOCATION: | LT9: =$L$9 -> Stoneham Interchange | LZ9: DAY: | MA9: =TEXT(MA7,"dddd") -> Thursday | MC9: LOCATION: | MD9: =$L$9 -> Stoneham Interchange | MJ9: DAY: | MK9: =TEXT(MK7,"dddd") -> Thursday | MM9: LOCATION: | MN9: =$L$9 -> Stoneham Interchange | MT9: DAY: | MU9: =TEXT(MU7,"dddd") -> Thursday
B11: A to E | L11: A to D | V11: A to C | AF11: A to B | AP11: A to A | AZ11: B to A | BJ11: B to E | BT11: B to D | CD11: B to C | CN11: B to B | CX11: C to B | DH11: C to A | DR11: C to E | EB11: C to D | EL11: C to C | EV11: D to C | FF11: D to B | FP11: D to A | FZ11: D to E | GJ11: D to D | GT11: E to D | HD11: E to C | HN11: E to B | HX11: E to A | IH11: E to E | IR11: TO ARM A | JB11: FROM ARM A | JL11: TO ARM B | JV11: FROM ARM B | KF11: TO ARM C | KP11: FROM ARM C | KZ11: TO ARM D | LJ11: FROM ARM D | LT11: TO ARM E | MD11: FROM ARM E | MN11: JUNCTION TOTAL
A12: TIME | B12: CAR | C12: LGV | D12: OGV1 | E12: OGV2 | F12: PSV | G12: MCL | H12: PCL | I12: TOT | J12: PCUs | K12: TIME | L12: CAR | M12: LGV | N12: OGV1 | O12: OGV2 | P12: PSV | Q12: MCL | R12: PCL | S12: TOT | T12: PCUs | U12: TIME | V12: CAR | W12: LGV | X12: OGV1 | Y12: OGV2 | Z12: PSV | AA12: MCL | AB12: PCL | AC12: TOT | AD12: PCUs | AE12: TIME | AF12: CAR | AG12: LGV | AH12: OGV1 | AI12: OGV2 | AJ12: PSV | AK12: MCL | AL12: PCL | AM12: TOT | AN12: PCUs | AO12: TIME | AP12: CAR | AQ12: LGV | AR12: OGV1 | AS12: OGV2 | AT12: PSV | AU12: MCL | AV12: PCL | AW12: TOT | AX12: PCUs | AY12: TIME | AZ12: CAR | BA12: LGV | BB12: OGV1 | BC12: OGV2 | BD12: PSV | BE12: MCL | BF12: PCL | BG12: TOT | BH12: PCUs | BI12: TIME | BJ12: CAR | BK12: LGV | BL12: OGV1 | BM12: OGV2 | BN12: PSV | BO12: MCL | BP12: PCL | BQ12: TOT | BR12: PCUs | BS12: TIME | BT12: CAR | BU12: LGV | BV12: OGV1 | BW12: OGV2 | BX12: PSV | BY12: MCL | BZ12: PCL | CA12: TOT | CB12: PCUs | CC12: TIME | CD12: CAR | CE12: LGV | CF12: OGV1 | CG12: OGV2 | CH12: PSV | CI12: MCL | CJ12: PCL | CK12: TOT | CL12: PCUs | CM12: TIME | CN12: CAR | CO12: LGV | CP12: OGV1 | CQ12: OGV2 | CR12: PSV | CS12: MCL | CT12: PCL | CU12: TOT | CV12: PCUs | CW12: TIME | CX12: CAR | CY12: LGV | CZ12: OGV1 | DA12: OGV2 | DB12: PSV | DC12: MCL | DD12: PCL | DE12: TOT | DF12: PCUs | DG12: TIME | DH12: CAR | DI12: LGV | DJ12: OGV1 | DK12: OGV2 | DL12: PSV | DM12: MCL | DN12: PCL | DO12: TOT | DP12: PCUs | DQ12: TIME | DR12: CAR | DS12: LGV | DT12: OGV1 | DU12: OGV2 | DV12: PSV | DW12: MCL | DX12: PCL | DY12: TOT | DZ12: PCUs | EA12: TIME | EB12: CAR | EC12: LGV | ED12: OGV1 | EE12: OGV2 | EF12: PSV | EG12: MCL | EH12: PCL | EI12: TOT | EJ12: PCUs | EK12: TIME | EL12: CAR | EM12: LGV | EN12: OGV1 | EO12: OGV2 | EP12: PSV | EQ12: MCL | ER12: PCL | ES12: TOT | ET12: PCUs | EU12: TIME | EV12: CAR | EW12: LGV | EX12: OGV1 | EY12: OGV2 | EZ12: PSV | FA12: MCL | FB12: PCL | FC12: TOT | FD12: PCUs | FE12: TIME | FF12: CAR | FG12: LGV | FH12: OGV1 | FI12: OGV2 | FJ12: PSV | FK12: MCL | FL12: PCL | FM12: TOT | FN12: PCUs | FO12: TIME | FP12: CAR | FQ12: LGV | FR12: OGV1 | FS12: OGV2 | FT12: PSV | FU12: MCL | FV12: PCL | FW12: TOT | FX12: PCUs | FY12: TIME | FZ12: CAR | GA12: LGV | GB12: OGV1 | GC12: OGV2 | GD12: PSV | GE12: MCL | GF12: PCL | GG12: TOT | GH12: PCUs | GI12: TIME | GJ12: CAR | GK12: LGV | GL12: OGV1 | GM12: OGV2 | GN12: PSV | GO12: MCL | GP12: PCL | GQ12: TOT | GR12: PCUs | GS12: TIME | GT12: CAR | GU12: LGV | GV12: OGV1 | GW12: OGV2 | GX12: PSV | GY12: MCL | GZ12: PCL | HA12: TOT | HB12: PCUs | HC12: TIME | HD12: CAR | HE12: LGV | HF12: OGV1 | HG12: OGV2 | HH12: PSV | HI12: MCL | HJ12: PCL | HK12: TOT | HL12: PCUs | HM12: TIME | HN12: CAR | HO12: LGV | HP12: OGV1 | HQ12: OGV2 | HR12: PSV | HS12: MCL | HT12: PCL | HU12: TOT | HV12: PCUs | HW12: TIME | HX12: CAR | HY12: LGV | HZ12: OGV1 | IA12: OGV2 | IB12: PSV | IC12: MCL | ID12: PCL | IE12: TOT | IF12: PCUs | IG12: TIME | IH12: CAR | II12: LGV | IJ12: OGV1 | IK12: OGV2 | IL12: PSV | IM12: MCL | IN12: PCL | IO12: TOT | IP12: PCUs | IQ12: TIME | IR12: CAR | IS12: LGV | IT12: OGV1 | IU12: OGV2 | IV12: PSV | IW12: MCL | IX12: PCL | IY12: TOT | IZ12: PCUs | JA12: TIME | JB12: CAR | JC12: LGV | JD12: OGV1 | JE12: OGV2 | JF12: PSV | JG12: MCL | JH12: PCL | JI12: TOT | JJ12: PCUs | JK12: TIME | JL12: CAR | JM12: LGV | JN12: OGV1 | JO12: OGV2 | JP12: PSV | JQ12: MCL | JR12: PCL | JS12: TOT | JT12: PCUs | JU12: TIME | JV12: CAR | JW12: LGV | JX12: OGV1 | JY12: OGV2 | JZ12: PSV | KA12: MCL | KB12: PCL | KC12: TOT | KD12: PCUs | KE12: TIME | KF12: CAR | KG12: LGV | KH12: OGV1 | KI12: OGV2 | KJ12: PSV | KK12: MCL | KL12: PCL | KM12: TOT | KN12: PCUs | KO12: TIME | KP12: CAR | KQ12: LGV | KR12: OGV1 | KS12: OGV2 | KT12: PSV | KU12: MCL | KV12: PCL | KW12: TOT | KX12: PCUs | KY12: TIME | KZ12: CAR | LA12: LGV | LB12: OGV1 | LC12: OGV2 | LD12: PSV | LE12: MCL | LF12: PCL | LG12: TOT | LH12: PCUs | LI12: TIME | LJ12: CAR | LK12: LGV | LL12: OGV1 | LM12: OGV2 | LN12: PSV | LO12: MCL | LP12: PCL | LQ12: TOT | LR12: PCUs | LS12: TIME | LT12: CAR | LU12: LGV | LV12: OGV1 | LW12: OGV2 | LX12: PSV | LY12: MCL | LZ12: PCL | MA12: TOT | MB12: PCUs | MC12: TIME | MD12: CAR | ME12: LGV | MF12: OGV1 | MG12: OGV2 | MH12: PSV | MI12: MCL | MJ12: PCL | MK12: TOT | ML12: PCUs | MM12: TIME | MN12: CAR | MO12: LGV | MP12: OGV1 | MQ12: OGV2 | MR12: PSV | MS12: MCL | MT12: PCL | MU12: TOT | MV12: PCUs
A13: 0.29166667 | B13: 64 | C13: 13 | D13: 5 | E13: 3 | F13: 5 | G13: 1 | H13: 0 | I13: =SUM(B13:H13) -> 91 | J13: =B13+C13+D13*1.5+E13*2.3+F13*2+G13*0.4+H13*0.2 -> 101.8 | K13: 0.29166667 | L13: 37 | M13: 5 | N13: 0 | O13: 0 | P13: 0 | Q13: 0 | R13: 0 | S13: =SUM(L13:R13) -> 42 | T13: =L13+M13+N13*1.5+O13*2.3+P13*2+Q13*0.4+R13*0.2 -> 42 | U13: 0.29166667 | V13: 43 | W13: 15 | X13: 1 | Y13: 2 | Z13: 0 | AA13: 0 | AB13: 0 | AC13: =SUM(V13:AB13) -> 61 | AD13: =V13+W13+X13*1.5+Y13*2.3+Z13*2+AA13*0.4+AB13*0.2 -> 64.1 | AE13: 0.29166667 | AF13: 6 | AG13: 0 | AH13: 0 | AI13: 0 | AJ13: 0 | AK13: 0 | AL13: 0 | AM13: =SUM(AF13:AL13) -> 6 | AN13: =AF13+AG13+AH13*1.5+AI13*2.3+AJ13*2+AK13*0.4+AL13*0.2 -> 6 | AO13: 0.29166667 | AP13: 0 | AQ13: 0 | AR13: 0 | AS13: 0 | AT13: 0 | AU13: 0 | AV13: 0 | AW13: =SUM(AP13:AV13) -> 0 | AX13: =AP13+AQ13+AR13*1.5+AS13*2.3+AT13*2+AU13*0.4+AV13*0.2 -> 0 | AY13: 0.29166667 | AZ13: 20 | BA13: 2 | BB13: 0 | BC13: 0 | BD13: 0 | BE13: 1 | BF13: 0 | BG13: =SUM(AZ13:BF13) -> 23 | BH13: =AZ13+BA13+BB13*1.5+BC13*2.3+BD13*2+BE13*0.4+BF13*0.2 -> 22.4 | BI13: 0.29166667 | BJ13: 83 | BK13: 30 | BL13: 2 | BM13: 3 | BN13: 0 | BO13: 0 | BP13: 0 | BQ13: =SUM(BJ13:BP13) -> 118 | BR13: =BJ13+BK13+BL13*1.5+BM13*2.3+BN13*2+BO13*0.4+BP13*0.2 -> 122.9 | BS13: 0.29166667 | BT13: 32 | BU13: 8 | BV13: 1 | BW13: 0 | BX13: 0 | BY13: 1 | BZ13: 0 | CA13: =SUM(BT13:BZ13) -> 42 | CB13: =BT13+BU13+BV13*1.5+BW13*2.3+BX13*2+BY13*0.4+BZ13*0.2 -> 41.9 | CC13: 0.29166667 | CD13: 4 | CE13: 2 | CF13: 0 | CG13: 0 | CH13: 0 | CI13: 0 | CJ13: 0 | CK13: =SUM(CD13:CJ13) -> 6 | CL13: =CD13+CE13+CF13*1.5+CG13*2.3+CH13*2+CI13*0.4+CJ13*0.2 -> 6 | CM13: 0.29166667 | CN13: 0 | CO13: 0 | CP13: 0 | CQ13: 0 | CR13: 0 | CS13: 0 | CT13: 0 | CU13: =SUM(CN13:CT13) -> 0 | CV13: =CN13+CO13+CP13*1.5+CQ13*2.3+CR13*2+CS13*0.4+CT13*0.2 -> 0 | CW13: 0.29166667 | CX13: 7 | CY13: 0 | CZ13: 1 | DA13: 0 | DB13: 0 | DC13: 0 | DD13: 0 | DE13: =SUM(CX13:DD13) -> 8 | DF13: =CX13+CY13+CZ13*1.5+DA13*2.3+DB13*2+DC13*0.4+DD13*0.2 -> 8.5 | DG13: 0.29166667 | DH13: 67 | DI13: 5 | DJ13: 4 | DK13: 0 | DL13: 0 | DM13: 0 | DN13: 0 | DO13: =SUM(DH13:DN13) -> 76 | DP13: =DH13+DI13+DJ13*1.5+DK13*2.3+DL13*2+DM13*0.4+DN13*0.2 -> 78 | DQ13: 0.29166667 | DR13: 0 | DS13: 0 | DT13: 0 | DU13: 0 | DV13: 0 | DW13: 0 | DX13: 0 | DY13: =SUM(DR13:DX13) -> 0 | DZ13: =DR13+DS13+DT13*1.5+DU13*2.3+DV13*2+DW13*0.4+DX13*0.2 -> 0 | EA13: 0.29166667 | EB13: 16 | EC13: 10 | ED13: 0 | EE13: 0 | EF13: 0 | EG13: 0 | EH13: 0 | EI13: =SUM(EB13:EH13) -> 26 | EJ13: =EB13+EC13+ED13*1.5+EE13*2.3+EF13*2+EG13*0.4+EH13*0.2 -> 26 | EK13: 0.29166667 | EL13: 0 | EM13: 0 | EN13: 0 | EO13: 0 | EP13: 0 | EQ13: 0 | ER13: 0 | ES13: =SUM(EL13:ER13) -> 0 | ET13: =EL13+EM13+EN13*1.5+EO13*2.3+EP13*2+EQ13*0.4+ER13*0.2 -> 0 | EU13: 0.29166667 | EV13: 113 | EW13: 34 | EX13: 3 | EY13: 1 | EZ13: 0 | FA13: 1 | FB13: 0 | FC13: =SUM(EV13:FB13) -> 152 | FD13: =EV13+EW13+EX13*1.5+EY13*2.3+EZ13*2+FA13*0.4+FB13*0.2 -> 154.2 | FE13: 0.29166667 | FF13: 7 | FG13: 4 | FH13: 1 | FI13: 0 | FJ13: 0 | FK13: 0 | FL13: 0 | FM13: =SUM(FF13:FL13) -> 12 | FN13: =FF13+FG13+FH13*1.5+FI13*2.3+FJ13*2+FK13*0.4+FL13*0.2 -> 12.5 | FO13: 0.29166667 | FP13: 22 | FQ13: 3 | FR13: 1 | FS13: 0 | FT13: 1 | FU13: 0 | FV13: 0 | FW13: =SUM(FP13:FV13) -> 27 | FX13: =FP13+FQ13+FR13*1.5+FS13*2.3+FT13*2+FU13*0.4+FV13*0.2 -> 28.5 | FY13: 0.29166667 | FZ13: 96 | GA13: 26 | GB13: 6 | GC13: 1 | GD13: 0 | GE13: 0 | GF13: 0 | GG13: =SUM(FZ13:GF13) -> 129 | GH13: =FZ13+GA13+GB13*1.5+GC13*2.3+GD13*2+GE13*0.4+GF13*0.2 -> 133.3 | GI13: 0.29166667 | GJ13: 0 | GK13: 0 | GL13: 0 | GM13: 0 | GN13: 0 | GO13: 0 | GP13: 0 | GQ13: =SUM(GJ13:GP13) -> 0 | GR13: =GJ13+GK13+GL13*1.5+GM13*2.3+GN13*2+GO13*0.4+GP13*0.2 -> 0 | GS13: 0.29166667 | GT13: 123 | GU13: 21 | GV13: 2 | GW13: 1 | GX13: 0 | GY13: 2 | GZ13: 0 | HA13: =SUM(GT13:GZ13) -> 149 | HB13: =GT13+GU13+GV13*1.5+GW13*2.3+GX13*2+GY13*0.4+GZ13*0.2 -> 150.1 | HC13: 0.29166667 | HD13: 0 | HE13: 0 | HF13: 0 | HG13: 0 | HH13: 0 | HI13: 0 | HJ13: 0 | HK13: =SUM(HD13:HJ13) -> 0 | HL13: =HD13+HE13+HF13*1.5+HG13*2.3+HH13*2+HI13*0.4+HJ13*0.2 -> 0 | HM13: 0.29166667 | HN13: 112 | HO13: 31 | HP13: 1 | HQ13: 0 | HR13: 0 | HS13: 0 | HT13: 0 | HU13: =SUM(HN13:HT13) -> 144 | HV13: =HN13+HO13+HP13*1.5+HQ13*2.3+HR13*2+HS13*0.4+HT13*0.2 -> 144.5 | HW13: 0.29166667 | HX13: 69 | HY13: 17 | HZ13: 0 | IA13: 1 | IB13: 0 | IC13: 0 | ID13: 0 | IE13: =SUM(HX13:ID13) -> 87 | IF13: =HX13+HY13+HZ13*1.5+IA13*2.3+IB13*2+IC13*0.4+ID13*0.2 -> 88.3 | IG13: 0.29166667 | IH13: 0 | II13: 0 | IJ13: 0 | IK13: 0 | IL13: 0 | IM13: 0 | IN13: 0 | IO13: =SUM(IH13:IN13) -> 0 | IP13: =IH13+II13+IJ13*1.5+IK13*2.3+IL13*2+IM13*0.4+IN13*0.2 -> 0 | IQ13: 0.29166667 | IR13: =SUM(AP13,AZ13,DH13,FP13,HX13) -> 178 | IS13: =SUM(AQ13,BA13,DI13,FQ13,HY13) -> 27 | IT13: =SUM(AR13,BB13,DJ13,FR13,HZ13) -> 5 | IU13: =SUM(AS13,BC13,DK13,FS13,IA13) -> 1 | IV13: =SUM(AT13,BD13,DL13,FT13,IB13) -> 1 | IW13: =SUM(AU13,BE13,DM13,FU13,IC13) -> 1 | IX13: =SUM(AV13,BF13,DN13,FV13,ID13) -> 0 | IY13: =SUM(IR13:IX13) -> 213 | IZ13: =IR13+IS13+IT13*1.5+IU13*2.3+IV13*2+IW13*0.4+IX13*0.2 -> 217.2 | JA13: 0.29166667 | JB13: =SUM(B13,L13,V13,AF13,AP13) -> 150 | JC13: =SUM(C13,M13,W13,AG13,AQ13) -> 33 | JD13: =SUM(D13,N13,X13,AH13,AR13) -> 6 | JE13: =SUM(E13,O13,Y13,AI13,AS13) -> 5 | JF13: =SUM(F13,P13,Z13,AJ13,AT13) -> 5 | JG13: =SUM(G13,Q13,AA13,AK13,AU13) -> 1 | JH13: =SUM(H13,R13,AB13,AL13,AV13) -> 0 | JI13: =SUM(JB13:JH13) -> 200 | JJ13: =JB13+JC13+JD13*1.5+JE13*2.3+JF13*2+JG13*0.4+JH13*0.2 -> 213.9 | JK13: 0.29166667 | JL13: =SUM(AF13,CN13,CX13,FF13,HN13) -> 132 | JM13: =SUM(AG13,CO13,CY13,FG13,HO13) -> 35 | JN13: =SUM(AH13,CP13,CZ13,FH13,HP13) -> 3 | JO13: =SUM(AI13,CQ13,DA13,FI13,HQ13) -> 0 | JP13: =SUM(AJ13,CR13,DB13,FJ13,HR13) -> 0 | JQ13: =SUM(AK13,CS13,DC13,FK13,HS13) -> 0 | JR13: =SUM(AL13,CT13,DD13,FL13,HT13) -> 0 | JS13: =SUM(JL13:JR13) -> 170 | JT13: =JL13+JM13+JN13*1.5+JO13*2.3+JP13*2+JQ13*0.4+JR13*0.2 -> 171.5 | JU13: 0.29166667 | JV13: =SUM(AZ13,BJ13,BT13,CD13,CN13) -> 139 | JW13: =SUM(BA13,BK13,BU13,CE13,CO13) -> 42 | JX13: =SUM(BB13,BL13,BV13,CF13,CP13) -> 3 | JY13: =SUM(BC13,BM13,BW13,CG13,CQ13) -> 3 | JZ13: =SUM(BD13,BN13,BX13,CH13,CR13) -> 0 | KA13: =SUM(BE13,BO13,BY13,CI13,CS13) -> 2 | KB13: =SUM(BF13,BP13,BZ13,CJ13,CT13) -> 0 | KC13: =SUM(JV13:KB13) -> 189 | KD13: =JV13+JW13+JX13*1.5+JY13*2.3+JZ13*2+KA13*0.4+KB13*0.2 -> 193.2 | KE13: 0.29166667 | KF13: =SUM(V13,CD13,EL13,EV13,HD13) -> 160 | KG13: =SUM(W13,CE13,EM13,EW13,HE13) -> 51 | KH13: =SUM(X13,CF13,EN13,EX13,HF13) -> 4 | KI13: =SUM(Y13,CG13,EO13,EY13,HG13) -> 3 | KJ13: =SUM(Z13,CH13,EP13,EZ13,HH13) -> 0 | KK13: =SUM(AA13,CI13,EQ13,FA13,HI13) -> 1 | KL13: =SUM(AB13,CJ13,ER13,FB13,HJ13) -> 0 | KM13: =SUM(KF13:KL13) -> 219 | KN13: =KF13+KG13+KH13*1.5+KI13*2.3+KJ13*2+KK13*0.4+KL13*0.2 -> 224.3 | KO13: 0.29166667 | KP13: =SUM(CX13,DH13,DR13,EB13,EL13) -> 90 | KQ13: =SUM(CY13,DI13,DS13,EC13,EM13) -> 15 | KR13: =SUM(CZ13,DJ13,DT13,ED13,EN13) -> 5 | KS13: =SUM(DA13,DK13,DU13,EE13,EO13) -> 0 | KT13: =SUM(DB13,DL13,DV13,EF13,EP13) -> 0 | KU13: =SUM(DC13,DM13,DW13,EG13,EQ13) -> 0 | KV13: =SUM(DD13,DN13,DX13,EH13,ER13) -> 0 | KW13: =SUM(KP13:KV13) -> 110 | KX13: =KP13+KQ13+KR13*1.5+KS13*2.3+KT13*2+KU13*0.4+KV13*0.2 -> 112.5 | KY13: 0.29166667 | KZ13: =SUM(L13,BT13,EB13,GJ13,GT13) -> 208 | LA13: =SUM(M13,BU13,EC13,GK13,GU13) -> 44 | LB13: =SUM(N13,BV13,ED13,GL13,GV13) -> 3 | LC13: =SUM(O13,BW13,EE13,GM13,GW13) -> 1 | LD13: =SUM(P13,BX13,EF13,GN13,GX13) -> 0 | LE13: =SUM(Q13,BY13,EG13,GO13,GY13) -> 3 | LF13: =SUM(R13,BZ13,EH13,GP13,GZ13) -> 0 | LG13: =SUM(KZ13:LF13) -> 259 | LH13: =KZ13+LA13+LB13*1.5+LC13*2.3+LD13*2+LE13*0.4+LF13*0.2 -> 260 | LI13: 0.29166667 | LJ13: =SUM(EV13,FF13,FP13,FZ13,GJ13) -> 238 | LK13: =SUM(EW13,FG13,FQ13,GA13,GK13) -> 67 | LL13: =SUM(EX13,FH13,FR13,GB13,GL13) -> 11 | LM13: =SUM(EY13,FI13,FS13,GC13,GM13) -> 2 | LN13: =SUM(EZ13,FJ13,FT13,GD13,GN13) -> 1 | LO13: =SUM(FA13,FK13,FU13,GE13,GO13) -> 1 | LP13: =SUM(FB13,FL13,FV13,GF13,GP13) -> 0 | LQ13: =SUM(LJ13:LP13) -> 320 | LR13: =LJ13+LK13+LL13*1.5+LM13*2.3+LN13*2+LO13*0.4+LP13*0.2 -> 328.5 | LS13: 0.29166667 | LT13: =SUM(B13,BJ13,DR13,FZ13,IH13) -> 243 | LU13: =SUM(C13,BK13,DS13,GA13,II13) -> 69 | LV13: =SUM(D13,BL13,DT13,GB13,IJ13) -> 13 | LW13: =SUM(E13,BM13,DU13,GC13,IK13) -> 7 | LX13: =SUM(F13,BN13,DV13,GD13,IL13) -> 5 | LY13: =SUM(G13,BO13,DW13,GE13,IM13) -> 1 | LZ13: =SUM(H13,BP13,DX13,GF13,IN13) -> 0 | MA13: =SUM(LT13:LZ13) -> 338 | MB13: =LT13+LU13+LV13*1.5+LW13*2.3+LX13*2+LY13*0.4+LZ13*0.2 -> 358 | MC13: 0.29166667 | MD13: =SUM(GT13,HD13,HN13,HX13,IH13) -> 304 | ME13: =SUM(GU13,HE13,HO13,HY13,II13) -> 69 | MF13: =SUM(GV13,HF13,HP13,HZ13,IJ13) -> 3 | MG13: =SUM(GW13,HG13,HQ13,IA13,IK13) -> 2 | MH13: =SUM(GX13,HH13,HR13,IB13,IL13) -> 0 | MI13: =SUM(GY13,HI13,HS13,IC13,IM13) -> 2 | MJ13: =SUM(GZ13,HJ13,HT13,ID13,IN13) -> 0 | MK13: =SUM(MD13:MJ13) -> 380 | ML13: =MD13+ME13+MF13*1.5+MG13*2.3+MH13*2+MI13*0.4+MJ13*0.2 -> 382.9 | MM13: 0.29166667 | MN13: =SUM(IR13,JL13,KF13,KZ13,LT13) -> 921 | MO13: =SUM(IS13,JM13,KG13,LA13,LU13) -> 226 | MP13: =SUM(IT13,JN13,KH13,LB13,LV13) -> 28 | MQ13: =SUM(IU13,JO13,KI13,LC13,LW13) -> 12 | MR13: =SUM(IV13,JP13,KJ13,LD13,LX13) -> 6 | MS13: =SUM(IW13,JQ13,KK13,LE13,LY13) -> 6 | MT13: =SUM(IX13,JR13,KL13,LF13,LZ13) -> 0 | MU13: =SUM(MN13:MT13) -> 1199 | MV13: =MN13+MO13+MP13*1.5+MQ13*2.3+MR13*2+MS13*0.4+MT13*0.2 -> 1231
A14: =A13+"00:15" -> 0.30208333 | B14: 64 | C14: 16 | D14: 10 | E14: 3 | F14: 1 | G14: 0 | H14: 0 | I14: =SUM(B14:H14) -> 94 | J14: =B14+C14+D14*1.5+E14*2.3+F14*2+G14*0.4+H14*0.2 -> 103.9 | K14: =K13+"00:15" -> 0.30208333 | L14: 21 | M14: 8 | N14: 5 | O14: 0 | P14: 1 | Q14: 2 | R14: 0 | S14: =SUM(L14:R14) -> 37 | T14: =L14+M14+N14*1.5+O14*2.3+P14*2+Q14*0.4+R14*0.2 -> 39.3 | U14: =U13+"00:15" -> 0.30208333 | V14: 57 | W14: 13 | X14: 11 | Y14: 0 | Z14: 0 | AA14: 0 | AB14: 0 | AC14: =SUM(V14:AB14) -> 81 | AD14: =V14+W14+X14*1.5+Y14*2.3+Z14*2+AA14*0.4+AB14*0.2 -> 86.5 | AE14: =AE13+"00:15" -> 0.30208333 | AF14: 5 | AG14: 0 | AH14: 1 | AI14: 0 | AJ14: 0 | AK14: 1 | AL14: 0 | AM14: =SUM(AF14:AL14) -> 7 | AN14: =AF14+AG14+AH14*1.5+AI14*2.3+AJ14*2+AK14*0.4+AL14*0.2 -> 6.9 | AO14: =AO13+"00:15" -> 0.30208333 | AP14: 0 | AQ14: 0 | AR14: 0 | AS14: 0 | AT14: 0 | AU14: 0 | AV14: 0 | AW14: =SUM(AP14:AV14) -> 0 | AX14: =AP14+AQ14+AR14*1.5+AS14*2.3+AT14*2+AU14*0.4+AV14*0.2 -> 0 | AY14: =AY13+"00:15" -> 0.30208333 | AZ14: 23 | BA14: 1 | BB14: 1 | BC14: 0 | BD14: 0 | BE14: 1 | BF14: 0 | BG14: =SUM(AZ14:BF14) -> 26 | BH14: =AZ14+BA14+BB14*1.5+BC14*2.3+BD14*2+BE14*0.4+BF14*0.2 -> 25.9 | BI14: =BI13+"00:15" -> 0.30208333 | BJ14: 117 | BK14: 33 | BL14: 5 | BM14: 2 | BN14: 0 | BO14: 2 | BP14: 0 | BQ14: =SUM(BJ14:BP14) -> 159 | BR14: =BJ14+BK14+BL14*1.5+BM14*2.3+BN14*2+BO14*0.4+BP14*0.2 -> 162.9 | BS14: =BS13+"00:15" -> 0.30208333 | BT14: 20 | BU14: 10 | BV14: 0 | BW14: 0 | BX14: 0 | BY14: 0 | BZ14: 0 | CA14: =SUM(BT14:BZ14) -> 30 | CB14: =BT14+BU14+BV14*1.5+BW14*2.3+BX14*2+BY14*0.4+BZ14*0.2 -> 30 | CC14: =CC13+"00:15" -> 0.30208333 | CD14: 3 | CE14: 4 | CF14: 0 | CG14: 0 | CH14: 0 | CI14: 0 | CJ14: 0 | CK14: =SUM(CD14:CJ14) -> 7 | CL14: =CD14+CE14+CF14*1.5+CG14*2.3+CH14*2+CI14*0.4+CJ14*0.2 -> 7 | CM14: =CM13+"00:15" -> 0.30208333 | CN14: 0 | CO14: 0 | CP14: 0 | CQ14: 0 | CR14: 0 | CS14: 0 | CT14: 0 | CU14: =SUM(CN14:CT14) -> 0 | CV14: =CN14+CO14+CP14*1.5+CQ14*2.3+CR14*2+CS14*0.4+CT14*0.2 -> 0 | CW14: =CW13+"00:15" -> 0.30208333 | CX14: 9 | CY14: 2 | CZ14: 1 | DA14: 0 | DB14: 0 | DC14: 0 | DD14: 0 | DE14: =SUM(CX14:DD14) -> 12 | DF14: =CX14+CY14+CZ14*1.5+DA14*2.3+DB14*2+DC14*0.4+DD14*0.2 -> 12.5 | DG14: =DG13+"00:15" -> 0.30208333 | DH14: 61 | DI14: 8 | DJ14: 3 | DK14: 0 | DL14: 0 | DM14: 1 | DN14: 0 | DO14: =SUM(DH14:DN14) -> 73 | DP14: =DH14+DI14+DJ14*1.5+DK14*2.3+DL14*2+DM14*0.4+DN14*0.2 -> 73.9 | DQ14: =DQ13+"00:15" -> 0.30208333 | DR14: 0 | DS14: 0 | DT14: 0 | DU14: 0 | DV14: 0 | DW14: 0 | DX14: 0 | DY14: =SUM(DR14:DX14) -> 0 | DZ14: =DR14+DS14+DT14*1.5+DU14*2.3+DV14*2+DW14*0.4+DX14*0.2 -> 0 | EA14: =EA13+"00:15" -> 0.30208333 | EB14: 35 | EC14: 11 | ED14: 0 | EE14: 1 | EF14: 0 | EG14: 0 | EH14: 0 | EI14: =SUM(EB14:EH14) -> 47 | EJ14: =EB14+EC14+ED14*1.5+EE14*2.3+EF14*2+EG14*0.4+EH14*0.2 -> 48.3 | EK14: =EK13+"00:15" -> 0.30208333 | EL14: 0 | EM14: 0 | EN14: 0 | EO14: 0 | EP14: 0 | EQ14: 0 | ER14: 0 | ES14: =SUM(EL14:ER14) -> 0 | ET14: =EL14+EM14+EN14*1.5+EO14*2.3+EP14*2+EQ14*0.4+ER14*0.2 -> 0 | EU14: =EU13+"00:15" -> 0.30208333 | EV14: 91 | EW14: 34 | EX14: 6 | EY14: 1 | EZ14: 0 | FA14: 1 | FB14: 0 | FC14: =SUM(EV14:FB14) -> 133 | FD14: =EV14+EW14+EX14*1.5+EY14*2.3+EZ14*2+FA14*0.4+FB14*0.2 -> 136.7 | FE14: =FE13+"00:15" -> 0.30208333 | FF14: 14 | FG14: 10 | FH14: 2 | FI14: 0 | FJ14: 0 | FK14: 1 | FL14: 0 | FM14: =SUM(FF14:FL14) -> 27 | FN14: =FF14+FG14+FH14*1.5+FI14*2.3+FJ14*2+FK14*0.4+FL14*0.2 -> 27.4 | FO14: =FO13+"00:15" -> 0.30208333 | FP14: 49 | FQ14: 7 | FR14: 2 | FS14: 1 | FT14: 2 | FU14: 0 | FV14: 0 | FW14: =SUM(FP14:FV14) -> 61 | FX14: =FP14+FQ14+FR14*1.5+FS14*2.3+FT14*2+FU14*0.4+FV14*0.2 -> 65.3 | FY14: =FY13+"00:15" -> 0.30208333 | FZ14: 83 | GA14: 22 | GB14: 7 | GC14: 4 | GD14: 0 | GE14: 2 | GF14: 0 | GG14: =SUM(FZ14:GF14) -> 118 | GH14: =FZ14+GA14+GB14*1.5+GC14*2.3+GD14*2+GE14*0.4+GF14*0.2 -> 125.5 | GI14: =GI13+"00:15" -> 0.30208333 | GJ14: 0 | GK14: 0 | GL14: 0 | GM14: 0 | GN14: 0 | GO14: 0 | GP14: 0 | GQ14: =SUM(GJ14:GP14) -> 0 | GR14: =GJ14+GK14+GL14*1.5+GM14*2.3+GN14*2+GO14*0.4+GP14*0.2 -> 0 | GS14: =GS13+"00:15" -> 0.30208333 | GT14: 128 | GU14: 29 | GV14: 3 | GW14: 2 | GX14: 0 | GY14: 0 | GZ14: 0 | HA14: =SUM(GT14:GZ14) -> 162 | HB14: =GT14+GU14+GV14*1.5+GW14*2.3+GX14*2+GY14*0.4+GZ14*0.2 -> 166.1 | HC14: =HC13+"00:15" -> 0.30208333 | HD14: 0 | HE14: 0 | HF14: 0 | HG14: 0 | HH14: 0 | HI14: 0 | HJ14: 0 | HK14: =SUM(HD14:HJ14) -> 0 | HL14: =HD14+HE14+HF14*1.5+HG14*2.3+HH14*2+HI14*0.4+HJ14*0.2 -> 0 | HM14: =HM13+"00:15" -> 0.30208333 | HN14: 159 | HO14: 26 | HP14: 4 | HQ14: 1 | HR14: 0 | HS14: 1 | HT14: 0 | HU14: =SUM(HN14:HT14) -> 191 | HV14: =HN14+HO14+HP14*1.5+HQ14*2.3+HR14*2+HS14*0.4+HT14*0.2 -> 193.7 | HW14: =HW13+"00:15" -> 0.30208333 | HX14: 73 | HY14: 17 | HZ14: 1 | IA14: 1 | IB14: 0 | IC14: 0 | ID14: 0 | IE14: =SUM(HX14:ID14) -> 92 | IF14: =HX14+HY14+HZ14*1.5+IA14*2.3+IB14*2+IC14*0.4+ID14*0.2 -> 93.8 | IG14: =IG13+"00:15" -> 0.30208333 | IH14: 0 | II14: 0 | IJ14: 0 | IK14: 0 | IL14: 0 | IM14: 0 | IN14: 0 | IO14: =SUM(IH14:IN14) -> 0 | IP14: =IH14+II14+IJ14*1.5+IK14*2.3+IL14*2+IM14*0.4+IN14*0.2 -> 0 | IQ14: =IQ13+"00:15" -> 0.30208333 | IR14: =SUM(AP14,AZ14,DH14,FP14,HX14) -> 206 | IS14: =SUM(AQ14,BA14,DI14,FQ14,HY14) -> 33 | IT14: =SUM(AR14,BB14,DJ14,FR14,HZ14) -> 7 | IU14: =SUM(AS14,BC14,DK14,FS14,IA14) -> 2 | IV14: =SUM(AT14,BD14,DL14,FT14,IB14) -> 2 | IW14: =SUM(AU14,BE14,DM14,FU14,IC14) -> 2 | IX14: =SUM(AV14,BF14,DN14,FV14,ID14) -> 0 | IY14: =SUM(IR14:IX14) -> 252 | IZ14: =IR14+IS14+IT14*1.5+IU14*2.3+IV14*2+IW14*0.4+IX14*0.2 -> 258.9 | JA14: =JA13+"00:15" -> 0.30208333 | JB14: =SUM(B14,L14,V14,AF14,AP14) -> 147 | JC14: =SUM(C14,M14,W14,AG14,AQ14) -> 37 | JD14: =SUM(D14,N14,X14,AH14,AR14) -> 27 | JE14: =SUM(E14,O14,Y14,AI14,AS14) -> 3 | JF14: =SUM(F14,P14,Z14,AJ14,AT14) -> 2 | JG14: =SUM(G14,Q14,AA14,AK14,AU14) -> 3 | JH14: =SUM(H14,R14,AB14,AL14,AV14) -> 0 | JI14: =SUM(JB14:JH14) -> 219 | JJ14: =JB14+JC14+JD14*1.5+JE14*2.3+JF14*2+JG14*0.4+JH14*0.2 -> 236.6 | JK14: =JK13+"00:15" -> 0.30208333 | JL14: =SUM(AF14,CN14,CX14,FF14,HN14) -> 187 | JM14: =SUM(AG14,CO14,CY14,FG14,HO14) -> 38 | JN14: =SUM(AH14,CP14,CZ14,FH14,HP14) -> 8 | JO14: =SUM(AI14,CQ14,DA14,FI14,HQ14) -> 1 | JP14: =SUM(AJ14,CR14,DB14,FJ14,HR14) -> 0 | JQ14: =SUM(AK14,CS14,DC14,FK14,HS14) -> 3 | JR14: =SUM(AL14,CT14,DD14,FL14,HT14) -> 0 | JS14: =SUM(JL14:JR14) -> 237 | JT14: =JL14+JM14+JN14*1.5+JO14*2.3+JP14*2+JQ14*0.4+JR14*0.2 -> 240.5 | JU14: =JU13+"00:15" -> 0.30208333 | JV14: =SUM(AZ14,BJ14,BT14,CD14,CN14) -> 163 | JW14: =SUM(BA14,BK14,BU14,CE14,CO14) -> 48 | JX14: =SUM(BB14,BL14,BV14,CF14,CP14) -> 6 | JY14: =SUM(BC14,BM14,BW14,CG14,CQ14) -> 2 | JZ14: =SUM(BD14,BN14,BX14,CH14,CR14) -> 0 | KA14: =SUM(BE14,BO14,BY14,CI14,CS14) -> 3 | KB14: =SUM(BF14,BP14,BZ14,CJ14,CT14) -> 0 | KC14: =SUM(JV14:KB14) -> 222 | KD14: =JV14+JW14+JX14*1.5+JY14*2.3+JZ14*2+KA14*0.4+KB14*0.2 -> 225.8 | KE14: =KE13+"00:15" -> 0.30208333 | KF14: =SUM(V14,CD14,EL14,EV14,HD14) -> 151 | KG14: =SUM(W14,CE14,EM14,EW14,HE14) -> 51 | KH14: =SUM(X14,CF14,EN14,EX14,HF14) -> 17 | KI14: =SUM(Y14,CG14,EO14,EY14,HG14) -> 1 | KJ14: =SUM(Z14,CH14,EP14,EZ14,HH14) -> 0 | KK14: =SUM(AA14,CI14,EQ14,FA14,HI14) -> 1 | KL14: =SUM(AB14,CJ14,ER14,FB14,HJ14) -> 0 | KM14: =SUM(KF14:KL14) -> 221 | KN14: =KF14+KG14+KH14*1.5+KI14*2.3+KJ14*2+KK14*0.4+KL14*0.2 -> 230.2 | KO14: =KO13+"00:15" -> 0.30208333 | KP14: =SUM(CX14,DH14,DR14,EB14,EL14) -> 105 | KQ14: =SUM(CY14,DI14,DS14,EC14,EM14) -> 21 | KR14: =SUM(CZ14,DJ14,DT14,ED14,EN14) -> 4 | KS14: =SUM(DA14,DK14,DU14,EE14,EO14) -> 1 | KT14: =SUM(DB14,DL14,DV14,EF14,EP14) -> 0 | KU14: =SUM(DC14,DM14,DW14,EG14,EQ14) -> 1 | KV14: =SUM(DD14,DN14,DX14,EH14,ER14) -> 0 | KW14: =SUM(KP14:KV14) -> 132 | KX14: =KP14+KQ14+KR14*1.5+KS14*2.3+KT14*2+KU14*0.4+KV14*0.2 -> 134.7 | KY14: =KY13+"00:15" -> 0.30208333 | KZ14: =SUM(L14,BT14,EB14,GJ14,GT14) -> 204 | LA14: =SUM(M14,BU14,EC14,GK14,GU14) -> 58 | LB14: =SUM(N14,BV14,ED14,GL14,GV14) -> 8 | LC14: =SUM(O14,BW14,EE14,GM14,GW14) -> 3 | LD14: =SUM(P14,BX14,EF14,GN14,GX14) -> 1 | LE14: =SUM(Q14,BY14,EG14,GO14,GY14) -> 2 | LF14: =SUM(R14,BZ14,EH14,GP14,GZ14) -> 0 | LG14: =SUM(KZ14:LF14) -> 276 | LH14: =KZ14+LA14+LB14*1.5+LC14*2.3+LD14*2+LE14*0.4+LF14*0.2 -> 283.7 | LI14: =LI13+"00:15" -> 0.30208333 | LJ14: =SUM(EV14,FF14,FP14,FZ14,GJ14) -> 237 | LK14: =SUM(EW14,FG14,FQ14,GA14,GK14) -> 73 | LL14: =SUM(EX14,FH14,FR14,GB14,GL14) -> 17 | LM14: =SUM(EY14,FI14,FS14,GC14,GM14) -> 6 | LN14: =SUM(EZ14,FJ14,FT14,GD14,GN14) -> 2 | LO14: =SUM(FA14,FK14,FU14,GE14,GO14) -> 4 | LP14: =SUM(FB14,FL14,FV14,GF14,GP14) -> 0 | LQ14: =SUM(LJ14:LP14) -> 339 | LR14: =LJ14+LK14+LL14*1.5+LM14*2.3+LN14*2+LO14*0.4+LP14*0.2 -> 354.9 | LS14: =LS13+"00:15" -> 0.30208333 | LT14: =SUM(B14,BJ14,DR14,FZ14,IH14) -> 264 | LU14: =SUM(C14,BK14,DS14,GA14,II14) -> 71 | LV14: =SUM(D14,BL14,DT14,GB14,IJ14) -> 22 | LW14: =SUM(E14,BM14,DU14,GC14,IK14) -> 9 | LX14: =SUM(F14,BN14,DV14,GD14,IL14) -> 1 | LY14: =SUM(G14,BO14,DW14,GE14,IM14) -> 4 | LZ14: =SUM(H14,BP14,DX14,GF14,IN14) -> 0 | MA14: =SUM(LT14:LZ14) -> 371 | MB14: =LT14+LU14+LV14*1.5+LW14*2.3+LX14*2+LY14*0.4+LZ14*0.2 -> 392.3 | MC14: =MC13+"00:15" -> 0.30208333 | MD14: =SUM(GT14,HD14,HN14,HX14,IH14) -> 360 | ME14: =SUM(GU14,HE14,HO14,HY14,II14) -> 72 | MF14: =SUM(GV14,HF14,HP14,HZ14,IJ14) -> 8 | MG14: =SUM(GW14,HG14,HQ14,IA14,IK14) -> 4 | MH14: =SUM(GX14,HH14,HR14,IB14,IL14) -> 0 | MI14: =SUM(GY14,HI14,HS14,IC14,IM14) -> 1 | MJ14: =SUM(GZ14,HJ14,HT14,ID14,IN14) -> 0 | MK14: =SUM(MD14:MJ14) -> 445 | ML14: =MD14+ME14+MF14*1.5+MG14*2.3+MH14*2+MI14*0.4+MJ14*0.2 -> 453.6 | MM14: =MM13+"00:15" -> 0.30208333 | MN14: =SUM(IR14,JL14,KF14,KZ14,LT14) -> 1012 | MO14: =SUM(IS14,JM14,KG14,LA14,LU14) -> 251 | MP14: =SUM(IT14,JN14,KH14,LB14,LV14) -> 62 | MQ14: =SUM(IU14,JO14,KI14,LC14,LW14) -> 16 | MR14: =SUM(IV14,JP14,KJ14,LD14,LX14) -> 4 | MS14: =SUM(IW14,JQ14,KK14,LE14,LY14) -> 12 | MT14: =SUM(IX14,JR14,KL14,LF14,LZ14) -> 0 | MU14: =SUM(MN14:MT14) -> 1357 | MV14: =MN14+MO14+MP14*1.5+MQ14*2.3+MR14*2+MS14*0.4+MT14*0.2 -> 1405.6
A15: =A14+"00:15" -> 0.3125 | B15: 77 | C15: 13 | D15: 3 | E15: 0 | F15: 0 | G15: 0 | H15: 0 | I15: =SUM(B15:H15) -> 93 | J15: =B15+C15+D15*1.5+E15*2.3+F15*2+G15*0.4+H15*0.2 -> 94.5 | K15: =K14+"00:15" -> 0.3125 | L15: 38 | M15: 8 | N15: 7 | O15: 0 | P15: 0 | Q15: 0 | R15: 0 | S15: =SUM(L15:R15) -> 53 | T15: =L15+M15+N15*1.5+O15*2.3+P15*2+Q15*0.4+R15*0.2 -> 56.5 | U15: =U14+"00:15" -> 0.3125 | V15: 72 | W15: 14 | X15: 5 | Y15: 1 | Z15: 0 | AA15: 0 | AB15: 0 | AC15: =SUM(V15:AB15) -> 92 | AD15: =V15+W15+X15*1.5+Y15*2.3+Z15*2+AA15*0.4+AB15*0.2 -> 95.8 | AE15: =AE14+"00:15" -> 0.3125 | AF15: 7 | AG15: 1 | AH15: 0 | AI15: 0 | AJ15: 0 | AK15: 0 | AL15: 0 | AM15: =SUM(AF15:AL15) -> 8 | AN15: =AF15+AG15+AH15*1.5+AI15*2.3+AJ15*2+AK15*0.4+AL15*0.2 -> 8 | AO15: =AO14+"00:15" -> 0.3125 | AP15: 0 | AQ15: 0 | AR15: 0 | AS15: 0 | AT15: 0 | AU15: 0 | AV15: 0 | AW15: =SUM(AP15:AV15) -> 0 | AX15: =AP15+AQ15+AR15*1.5+AS15*2.3+AT15*2+AU15*0.4+AV15*0.2 -> 0 | AY15: =AY14+"00:15" -> 0.3125 | AZ15: 29 | BA15: 3 | BB15: 0 | BC15: 0 | BD15: 0 | BE15: 1 | BF15: 0 | BG15: =SUM(AZ15:BF15) -> 33 | BH15: =AZ15+BA15+BB15*1.5+BC15*2.3+BD15*2+BE15*0.4+BF15*0.2 -> 32.4 | BI15: =BI14+"00:15" -> 0.3125 | BJ15: 105 | BK15: 21 | BL15: 4 | BM15: 1 | BN15: 0 | BO15: 0 | BP15: 0 | BQ15: =SUM(BJ15:BP15) -> 131 | BR15: =BJ15+BK15+BL15*1.5+BM15*2.3+BN15*2+BO15*0.4+BP15*0.2 -> 134.3 | BS15: =BS14+"00:15" -> 0.3125 | BT15: 54 | BU15: 7 | BV15: 2 | BW15: 0 | BX15: 0 | BY15: 0 | BZ15: 0 | CA15: =SUM(BT15:BZ15) -> 63 | CB15: =BT15+BU15+BV15*1.5+BW15*2.3+BX15*2+BY15*0.4+BZ15*0.2 -> 64 | CC15: =CC14+"00:15" -> 0.3125 | CD15: 5 | CE15: 6 | CF15: 0 | CG15: 0 | CH15: 0 | CI15: 0 | CJ15: 0 | CK15: =SUM(CD15:CJ15) -> 11 | CL15: =CD15+CE15+CF15*1.5+CG15*2.3+CH15*2+CI15*0.4+CJ15*0.2 -> 11 | CM15: =CM14+"00:15" -> 0.3125 | CN15: 0 | CO15: 0 | CP15: 0 | CQ15: 0 | CR15: 0 | CS15: 0 | CT15: 0 | CU15: =SUM(CN15:CT15) -> 0 | CV15: =CN15+CO15+CP15*1.5+CQ15*2.3+CR15*2+CS15*0.4+CT15*0.2 -> 0 | CW15: =CW14+"00:15" -> 0.3125 | CX15: 13 | CY15: 1 | CZ15: 0 | DA15: 0 | DB15: 0 | DC15: 0 | DD15: 0 | DE15: =SUM(CX15:DD15) -> 14 | DF15: =CX15+CY15+CZ15*1.5+DA15*2.3+DB15*2+DC15*0.4+DD15*0.2 -> 14 | DG15: =DG14+"00:15" -> 0.3125 | DH15: 53 | DI15: 14 | DJ15: 0 | DK15: 0 | DL15: 0 | DM15: 0 | DN15: 0 | DO15: =SUM(DH15:DN15) -> 67 | DP15: =DH15+DI15+DJ15*1.5+DK15*2.3+DL15*2+DM15*0.4+DN15*0.2 -> 67 | DQ15: =DQ14+"00:15" -> 0.3125 | DR15: 0 | DS15: 0 | DT15: 0 | DU15: 0 | DV15: 0 | DW15: 0 | DX15: 0 | DY15: =SUM(DR15:DX15) -> 0 | DZ15: =DR15+DS15+DT15*1.5+DU15*2.3+DV15*2+DW15*0.4+DX15*0.2 -> 0 | EA15: =EA14+"00:15" -> 0.3125 | EB15: 46 | EC15: 15 | ED15: 4 | EE15: 2 | EF15: 0 | EG15: 1 | EH15: 0 | EI15: =SUM(EB15:EH15) -> 68 | EJ15: =EB15+EC15+ED15*1.5+EE15*2.3+EF15*2+EG15*0.4+EH15*0.2 -> 72 | EK15: =EK14+"00:15" -> 0.3125 | EL15: 0 | EM15: 0 | EN15: 0 | EO15: 0 | EP15: 0 | EQ15: 0 | ER15: 0 | ES15: =SUM(EL15:ER15) -> 0 | ET15: =EL15+EM15+EN15*1.5+EO15*2.3+EP15*2+EQ15*0.4+ER15*0.2 -> 0 | EU15: =EU14+"00:15" -> 0.3125 | EV15: 104 | EW15: 35 | EX15: 6 | EY15: 2 | EZ15: 0 | FA15: 0 | FB15: 0 | FC15: =SUM(EV15:FB15) -> 147 | FD15: =EV15+EW15+EX15*1.5+EY15*2.3+EZ15*2+FA15*0.4+FB15*0.2 -> 152.6 | FE15: =FE14+"00:15" -> 0.3125 | FF15: 19 | FG15: 8 | FH15: 1 | FI15: 0 | FJ15: 0 | FK15: 0 | FL15: 0 | FM15: =SUM(FF15:FL15) -> 28 | FN15: =FF15+FG15+FH15*1.5+FI15*2.3+FJ15*2+FK15*0.4+FL15*0.2 -> 28.5 | FO15: =FO14+"00:15" -> 0.3125 | FP15: 51 | FQ15: 3 | FR15: 0 | FS15: 0 | FT15: 1 | FU15: 1 | FV15: 0 | FW15: =SUM(FP15:FV15) -> 56 | FX15: =FP15+FQ15+FR15*1.5+FS15*2.3+FT15*2+FU15*0.4+FV15*0.2 -> 56.4 | FY15: =FY14+"00:15" -> 0.3125 | FZ15: 99 | GA15: 20 | GB15: 5 | GC15: 1 | GD15: 0 | GE15: 0 | GF15: 0 | GG15: =SUM(FZ15:GF15) -> 125 | GH15: =FZ15+GA15+GB15*1.5+GC15*2.3+GD15*2+GE15*0.4+GF15*0.2 -> 128.8 | GI15: =GI14+"00:15" -> 0.3125 | GJ15: 1 | GK15: 0 | GL15: 0 | GM15: 0 | GN15: 0 | GO15: 0 | GP15: 0 | GQ15: =SUM(GJ15:GP15) -> 1 | GR15: =GJ15+GK15+GL15*1.5+GM15*2.3+GN15*2+GO15*0.4+GP15*0.2 -> 1 | GS15: =GS14+"00:15" -> 0.3125 | GT15: 160 | GU15: 27 | GV15: 4 | GW15: 1 | GX15: 0 | GY15: 0 | GZ15: 0 | HA15: =SUM(GT15:GZ15) -> 192 | HB15: =GT15+GU15+GV15*1.5+GW15*2.3+GX15*2+GY15*0.4+GZ15*0.2 -> 195.3 | HC15: =HC14+"00:15" -> 0.3125 | HD15: 0 | HE15: 0 | HF15: 0 | HG15: 0 | HH15: 0 | HI15: 0 | HJ15: 0 | HK15: =SUM(HD15:HJ15) -> 0 | HL15: =HD15+HE15+HF15*1.5+HG15*2.3+HH15*2+HI15*0.4+HJ15*0.2 -> 0 | HM15: =HM14+"00:15" -> 0.3125 | HN15: 138 | HO15: 29 | HP15: 2 | HQ15: 0 | HR15: 0 | HS15: 0 | HT15: 0 | HU15: =SUM(HN15:HT15) -> 169 | HV15: =HN15+HO15+HP15*1.5+HQ15*2.3+HR15*2+HS15*0.4+HT15*0.2 -> 170 | HW15: =HW14+"00:15" -> 0.3125 | HX15: 50 | HY15: 16 | HZ15: 3 | IA15: 1 | IB15: 0 | IC15: 2 | ID15: 0 | IE15: =SUM(HX15:ID15) -> 72 | IF15: =HX15+HY15+HZ15*1.5+IA15*2.3+IB15*2+IC15*0.4+ID15*0.2 -> 73.6 | IG15: =IG14+"00:15" -> 0.3125 | IH15: 0 | II15: 0 | IJ15: 0 | IK15: 0 | IL15: 0 | IM15: 0 | IN15: 0 | IO15: =SUM(IH15:IN15) -> 0 | IP15: =IH15+II15+IJ15*1.5+IK15*2.3+IL15*2+IM15*0.4+IN15*0.2 -> 0 | IQ15: =IQ14+"00:15" -> 0.3125 | IR15: =SUM(AP15,AZ15,DH15,FP15,HX15) -> 183 | IS15: =SUM(AQ15,BA15,DI15,FQ15,HY15) -> 36 | IT15: =SUM(AR15,BB15,DJ15,FR15,HZ15) -> 3 | IU15: =SUM(AS15,BC15,DK15,FS15,IA15) -> 1 | IV15: =SUM(AT15,BD15,DL15,FT15,IB15) -> 1 | IW15: =SUM(AU15,BE15,DM15,FU15,IC15) -> 4 | IX15: =SUM(AV15,BF15,DN15,FV15,ID15) -> 0 | IY15: =SUM(IR15:IX15) -> 228 | IZ15: =IR15+IS15+IT15*1.5+IU15*2.3+IV15*2+IW15*0.4+IX15*0.2 -> 229.4 | JA15: =JA14+"00:15" -> 0.3125 | JB15: =SUM(B15,L15,V15,AF15,AP15) -> 194 | JC15: =SUM(C15,M15,W15,AG15,AQ15) -> 36 | JD15: =SUM(D15,N15,X15,AH15,AR15) -> 15 | JE15: =SUM(E15,O15,Y15,AI15,AS15) -> 1 | JF15: =SUM(F15,P15,Z15,AJ15,AT15) -> 0 | JG15: =SUM(G15,Q15,AA15,AK15,AU15) -> 0 | JH15: =SUM(H15,R15,AB15,AL15,AV15) -> 0 | JI15: =SUM(JB15:JH15) -> 246 | JJ15: =JB15+JC15+JD15*1.5+JE15*2.3+JF15*2+JG15*0.4+JH15*0.2 -> 254.8 | JK15: =JK14+"00:15" -> 0.3125 | JL15: =SUM(AF15,CN15,CX15,FF15,HN15) -> 177 | JM15: =SUM(AG15,CO15,CY15,FG15,HO15) -> 39 | JN15: =SUM(AH15,CP15,CZ15,FH15,HP15) -> 3 | JO15: =SUM(AI15,CQ15,DA15,FI15,HQ15) -> 0 | JP15: =SUM(AJ15,CR15,DB15,FJ15,HR15) -> 0 | JQ15: =SUM(AK15,CS15,DC15,FK15,HS15) -> 0 | JR15: =SUM(AL15,CT15,DD15,FL15,HT15) -> 0 | JS15: =SUM(JL15:JR15) -> 219 | JT15: =JL15+JM15+JN15*1.5+JO15*2.3+JP15*2+JQ15*0.4+JR15*0.2 -> 220.5 | JU15: =JU14+"00:15" -> 0.3125 | JV15: =SUM(AZ15,BJ15,BT15,CD15,CN15) -> 193 | JW15: =SUM(BA15,BK15,BU15,CE15,CO15) -> 37 | JX15: =SUM(BB15,BL15,BV15,CF15,CP15) -> 6 | JY15: =SUM(BC15,BM15,BW15,CG15,CQ15) -> 1 | JZ15: =SUM(BD15,BN15,BX15,CH15,CR15) -> 0 | KA15: =SUM(BE15,BO15,BY15,CI15,CS15) -> 1 | KB15: =SUM(BF15,BP15,BZ15,CJ15,CT15) -> 0 | KC15: =SUM(JV15:KB15) -> 238 | KD15: =JV15+JW15+JX15*1.5+JY15*2.3+JZ15*2+KA15*0.4+KB15*0.2 -> 241.7 | KE15: =KE14+"00:15" -> 0.3125 | KF15: =SUM(V15,CD15,EL15,EV15,HD15) -> 181 | KG15: =SUM(W15,CE15,EM15,EW15,HE15) -> 55 | KH15: =SUM(X15,CF15,EN15,EX15,HF15) -> 11 | KI15: =SUM(Y15,CG15,EO15,EY15,HG15) -> 3 | KJ15: =SUM(Z15,CH15,EP15,EZ15,HH15) -> 0 | KK15: =SUM(AA15,CI15,EQ15,FA15,HI15) -> 0 | KL15: =SUM(AB15,CJ15,ER15,FB15,HJ15) -> 0 | KM15: =SUM(KF15:KL15) -> 250 | KN15: =KF15+KG15+KH15*1.5+KI15*2.3+KJ15*2+KK15*0.4+KL15*0.2 -> 259.4 | KO15: =KO14+"00:15" -> 0.3125 | KP15: =SUM(CX15,DH15,DR15,EB15,EL15) -> 112 | KQ15: =SUM(CY15,DI15,DS15,EC15,EM15) -> 30 | KR15: =SUM(CZ15,DJ15,DT15,ED15,EN15) -> 4 | KS15: =SUM(DA15,DK15,DU15,EE15,EO15) -> 2 | KT15: =SUM(DB15,DL15,DV15,EF15,EP15) -> 0 | KU15: =SUM(DC15,DM15,DW15,EG15,EQ15) -> 1 | KV15: =SUM(DD15,DN15,DX15,EH15,ER15) -> 0 | KW15: =SUM(KP15:KV15) -> 149 | KX15: =KP15+KQ15+KR15*1.5+KS15*2.3+KT15*2+KU15*0.4+KV15*0.2 -> 153 | KY15: =KY14+"00:15" -> 0.3125 | KZ15: =SUM(L15,BT15,EB15,GJ15,GT15) -> 299 | LA15: =SUM(M15,BU15,EC15,GK15,GU15) -> 57 | LB15: =SUM(N15,BV15,ED15,GL15,GV15) -> 17 | LC15: =SUM(O15,BW15,EE15,GM15,GW15) -> 3 | LD15: =SUM(P15,BX15,EF15,GN15,GX15) -> 0 | LE15: =SUM(Q15,BY15,EG15,GO15,GY15) -> 1 | LF15: =SUM(R15,BZ15,EH15,GP15,GZ15) -> 0 | LG15: =SUM(KZ15:LF15) -> 377 | LH15: =KZ15+LA15+LB15*1.5+LC15*2.3+LD15*2+LE15*0.4+LF15*0.2 -> 388.8 | LI15: =LI14+"00:15" -> 0.3125 | LJ15: =SUM(EV15,FF15,FP15,FZ15,GJ15) -> 274 | LK15: =SUM(EW15,FG15,FQ15,GA15,GK15) -> 66 | LL15: =SUM(EX15,FH15,FR15,GB15,GL15) -> 12 | LM15: =SUM(EY15,FI15,FS15,GC15,GM15) -> 3 | LN15: =SUM(EZ15,FJ15,FT15,GD15,GN15) -> 1 | LO15: =SUM(FA15,FK15,FU15,GE15,GO15) -> 1 | LP15: =SUM(FB15,FL15,FV15,GF15,GP15) -> 0 | LQ15: =SUM(LJ15:LP15) -> 357 | LR15: =LJ15+LK15+LL15*1.5+LM15*2.3+LN15*2+LO15*0.4+LP15*0.2 -> 367.3 | LS15: =LS14+"00:15" -> 0.3125 | LT15: =SUM(B15,BJ15,DR15,FZ15,IH15) -> 281 | LU15: =SUM(C15,BK15,DS15,GA15,II15) -> 54 | LV15: =SUM(D15,BL15,DT15,GB15,IJ15) -> 12 | LW15: =SUM(E15,BM15,DU15,GC15,IK15) -> 2 | LX15: =SUM(F15,BN15,DV15,GD15,IL15) -> 0 | LY15: =SUM(G15,BO15,DW15,GE15,IM15) -> 0 | LZ15: =SUM(H15,BP15,DX15,GF15,IN15) -> 0 | MA15: =SUM(LT15:LZ15) -> 349 | MB15: =LT15+LU15+LV15*1.5+LW15*2.3+LX15*2+LY15*0.4+LZ15*0.2 -> 357.6 | MC15: =MC14+"00:15" -> 0.3125 | MD15: =SUM(GT15,HD15,HN15,HX15,IH15) -> 348 | ME15: =SUM(GU15,HE15,HO15,HY15,II15) -> 72 | MF15: =SUM(GV15,HF15,HP15,HZ15,IJ15) -> 9 | MG15: =SUM(GW15,HG15,HQ15,IA15,IK15) -> 2 | MH15: =SUM(GX15,HH15,HR15,IB15,IL15) -> 0 | MI15: =SUM(GY15,HI15,HS15,IC15,IM15) -> 2 | MJ15: =SUM(GZ15,HJ15,HT15,ID15,IN15) -> 0 | MK15: =SUM(MD15:MJ15) -> 433 | ML15: =MD15+ME15+MF15*1.5+MG15*2.3+MH15*2+MI15*0.4+MJ15*0.2 -> 438.9 | MM15: =MM14+"00:15" -> 0.3125 | MN15: =SUM(IR15,JL15,KF15,KZ15,LT15) -> 1121 | MO15: =SUM(IS15,JM15,KG15,LA15,LU15) -> 241 | MP15: =SUM(IT15,JN15,KH15,LB15,LV15) -> 46 | MQ15: =SUM(IU15,JO15,KI15,LC15,LW15) -> 9 | MR15: =SUM(IV15,JP15,KJ15,LD15,LX15) -> 1 | MS15: =SUM(IW15,JQ15,KK15,LE15,LY15) -> 5 | MT15: =SUM(IX15,JR15,KL15,LF15,LZ15) -> 0 | MU15: =SUM(MN15:MT15) -> 1423 | MV15: =MN15+MO15+MP15*1.5+MQ15*2.3+MR15*2+MS15*0.4+MT15*0.2 -> 1455.7
A16: =A15+"00:15" -> 0.32291667 | B16: 74 | C16: 10 | D16: 9 | E16: 0 | F16: 0 | G16: 0 | H16: 0 | I16: =SUM(B16:H16) -> 93 | J16: =B16+C16+D16*1.5+E16*2.3+F16*2+G16*0.4+H16*0.2 -> 97.5 | K16: =K15+"00:15" -> 0.32291667 | L16: 30 | M16: 7 | N16: 2 | O16: 1 | P16: 0 | Q16: 0 | R16: 0 | S16: =SUM(L16:R16) -> 40 | T16: =L16+M16+N16*1.5+O16*2.3+P16*2+Q16*0.4+R16*0.2 -> 42.3 | U16: =U15+"00:15" -> 0.32291667 | V16: 70 | W16: 16 | X16: 2 | Y16: 0 | Z16: 0 | AA16: 1 | AB16: 0 | AC16: =SUM(V16:AB16) -> 89 | AD16: =V16+W16+X16*1.5+Y16*2.3+Z16*2+AA16*0.4+AB16*0.2 -> 89.4 | AE16: =AE15+"00:15" -> 0.32291667 | AF16: 8 | AG16: 2 | AH16: 0 | AI16: 0 | AJ16: 0 | AK16: 1 | AL16: 0 | AM16: =SUM(AF16:AL16) -> 11 | AN16: =AF16+AG16+AH16*1.5+AI16*2.3+AJ16*2+AK16*0.4+AL16*0.2 -> 10.4 | AO16: =AO15+"00:15" -> 0.32291667 | AP16: 0 | AQ16: 0 | AR16: 0 | AS16: 0 | AT16: 0 | AU16: 0 | AV16: 0 | AW16: =SUM(AP16:AV16) -> 0 | AX16: =AP16+AQ16+AR16*1.5+AS16*2.3+AT16*2+AU16*0.4+AV16*0.2 -> 0 | AY16: =AY15+"00:15" -> 0.32291667 | AZ16: 25 | BA16: 3 | BB16: 0 | BC16: 1 | BD16: 0 | BE16: 0 | BF16: 0 | BG16: =SUM(AZ16:BF16) -> 29 | BH16: =AZ16+BA16+BB16*1.5+BC16*2.3+BD16*2+BE16*0.4+BF16*0.2 -> 30.3 | BI16: =BI15+"00:15" -> 0.32291667 | BJ16: 127 | BK16: 26 | BL16: 7 | BM16: 0 | BN16: 0 | BO16: 1 | BP16: 0 | BQ16: =SUM(BJ16:BP16) -> 161 | BR16: =BJ16+BK16+BL16*1.5+BM16*2.3+BN16*2+BO16*0.4+BP16*0.2 -> 163.9 | BS16: =BS15+"00:15" -> 0.32291667 | BT16: 46 | BU16: 9 | BV16: 0 | BW16: 0 | BX16: 1 | BY16: 0 | BZ16: 0 | CA16: =SUM(BT16:BZ16) -> 56 | CB16: =BT16+BU16+BV16*1.5+BW16*2.3+BX16*2+BY16*0.4+BZ16*0.2 -> 57 | CC16: =CC15+"00:15" -> 0.32291667 | CD16: 7 | CE16: 4 | CF16: 1 | CG16: 1 | CH16: 0 | CI16: 0 | CJ16: 0 | CK16: =SUM(CD16:CJ16) -> 13 | CL16: =CD16+CE16+CF16*1.5+CG16*2.3+CH16*2+CI16*0.4+CJ16*0.2 -> 14.8 | CM16: =CM15+"00:15" -> 0.32291667 | CN16: 0 | CO16: 0 | CP16: 0 | CQ16: 0 | CR16: 0 | CS16: 0 | CT16: 0 | CU16: =SUM(CN16:CT16) -> 0 | CV16: =CN16+CO16+CP16*1.5+CQ16*2.3+CR16*2+CS16*0.4+CT16*0.2 -> 0 | CW16: =CW15+"00:15" -> 0.32291667 | CX16: 9 | CY16: 3 | CZ16: 0 | DA16: 0 | DB16: 0 | DC16: 0 | DD16: 0 | DE16: =SUM(CX16:DD16) -> 12 | DF16: =CX16+CY16+CZ16*1.5+DA16*2.3+DB16*2+DC16*0.4+DD16*0.2 -> 12 | DG16: =DG15+"00:15" -> 0.32291667 | DH16: 52 | DI16: 13 | DJ16: 3 | DK16: 3 | DL16: 0 | DM16: 0 | DN16: 0 | DO16: =SUM(DH16:DN16) -> 71 | DP16: =DH16+DI16+DJ16*1.5+DK16*2.3+DL16*2+DM16*0.4+DN16*0.2 -> 76.4 | DQ16: =DQ15+"00:15" -> 0.32291667 | DR16: 0 | DS16: 0 | DT16: 0 | DU16: 0 | DV16: 0 | DW16: 0 | DX16: 0 | DY16: =SUM(DR16:DX16) -> 0 | DZ16: =DR16+DS16+DT16*1.5+DU16*2.3+DV16*2+DW16*0.4+DX16*0.2 -> 0 | EA16: =EA15+"00:15" -> 0.32291667 | EB16: 45 | EC16: 14 | ED16: 1 | EE16: 2 | EF16: 0 | EG16: 0 | EH16: 0 | EI16: =SUM(EB16:EH16) -> 62 | EJ16: =EB16+EC16+ED16*1.5+EE16*2.3+EF16*2+EG16*0.4+EH16*0.2 -> 65.1 | EK16: =EK15+"00:15" -> 0.32291667 | EL16: 0 | EM16: 0 | EN16: 0 | EO16: 0 | EP16: 0 | EQ16: 0 | ER16: 0 | ES16: =SUM(EL16:ER16) -> 0 | ET16: =EL16+EM16+EN16*1.5+EO16*2.3+EP16*2+EQ16*0.4+ER16*0.2 -> 0 | EU16: =EU15+"00:15" -> 0.32291667 | EV16: 89 | EW16: 16 | EX16: 6 | EY16: 0 | EZ16: 0 | FA16: 1 | FB16: 0 | FC16: =SUM(EV16:FB16) -> 112 | FD16: =EV16+EW16+EX16*1.5+EY16*2.3+EZ16*2+FA16*0.4+FB16*0.2 -> 114.4 | FE16: =FE15+"00:15" -> 0.32291667 | FF16: 19 | FG16: 5 | FH16: 0 | FI16: 0 | FJ16: 0 | FK16: 0 | FL16: 0 | FM16: =SUM(FF16:FL16) -> 24 | FN16: =FF16+FG16+FH16*1.5+FI16*2.3+FJ16*2+FK16*0.4+FL16*0.2 -> 24 | FO16: =FO15+"00:15" -> 0.32291667 | FP16: 44 | FQ16: 1 | FR16: 2 | FS16: 2 | FT16: 1 | FU16: 3 | FV16: 0 | FW16: =SUM(FP16:FV16) -> 53 | FX16: =FP16+FQ16+FR16*1.5+FS16*2.3+FT16*2+FU16*0.4+FV16*0.2 -> 55.8 | FY16: =FY15+"00:15" -> 0.32291667 | FZ16: 94 | GA16: 11 | GB16: 2 | GC16: 4 | GD16: 0 | GE16: 1 | GF16: 0 | GG16: =SUM(FZ16:GF16) -> 112 | GH16: =FZ16+GA16+GB16*1.5+GC16*2.3+GD16*2+GE16*0.4+GF16*0.2 -> 117.6 | GI16: =GI15+"00:15" -> 0.32291667 | GJ16: 0 | GK16: 0 | GL16: 0 | GM16: 0 | GN16: 0 | GO16: 0 | GP16: 0 | GQ16: =SUM(GJ16:GP16) -> 0 | GR16: =GJ16+GK16+GL16*1.5+GM16*2.3+GN16*2+GO16*0.4+GP16*0.2 -> 0 | GS16: =GS15+"00:15" -> 0.32291667 | GT16: 157 | GU16: 40 | GV16: 2 | GW16: 1 | GX16: 1 | GY16: 1 | GZ16: 0 | HA16: =SUM(GT16:GZ16) -> 202 | HB16: =GT16+GU16+GV16*1.5+GW16*2.3+GX16*2+GY16*0.4+GZ16*0.2 -> 204.7 | HC16: =HC15+"00:15" -> 0.32291667 | HD16: 0 | HE16: 0 | HF16: 0 | HG16: 0 | HH16: 0 | HI16: 0 | HJ16: 0 | HK16: =SUM(HD16:HJ16) -> 0 | HL16: =HD16+HE16+HF16*1.5+HG16*2.3+HH16*2+HI16*0.4+HJ16*0.2 -> 0 | HM16: =HM15+"00:15" -> 0.32291667 | HN16: 150 | HO16: 23 | HP16: 0 | HQ16: 0 | HR16: 0 | HS16: 0 | HT16: 0 | HU16: =SUM(HN16:HT16) -> 173 | HV16: =HN16+HO16+HP16*1.5+HQ16*2.3+HR16*2+HS16*0.4+HT16*0.2 -> 173 | HW16: =HW15+"00:15" -> 0.32291667 | HX16: 92 | HY16: 15 | HZ16: 5 | IA16: 2 | IB16: 0 | IC16: 0 | ID16: 0 | IE16: =SUM(HX16:ID16) -> 114 | IF16: =HX16+HY16+HZ16*1.5+IA16*2.3+IB16*2+IC16*0.4+ID16*0.2 -> 119.1 | IG16: =IG15+"00:15" -> 0.32291667 | IH16: 0 | II16: 0 | IJ16: 0 | IK16: 0 | IL16: 0 | IM16: 0 | IN16: 0 | IO16: =SUM(IH16:IN16) -> 0 | IP16: =IH16+II16+IJ16*1.5+IK16*2.3+IL16*2+IM16*0.4+IN16*0.2 -> 0 | IQ16: =IQ15+"00:15" -> 0.32291667 | IR16: =SUM(AP16,AZ16,DH16,FP16,HX16) -> 213 | IS16: =SUM(AQ16,BA16,DI16,FQ16,HY16) -> 32 | IT16: =SUM(AR16,BB16,DJ16,FR16,HZ16) -> 10 | IU16: =SUM(AS16,BC16,DK16,FS16,IA16) -> 8 | IV16: =SUM(AT16,BD16,DL16,FT16,IB16) -> 1 | IW16: =SUM(AU16,BE16,DM16,FU16,IC16) -> 3 | IX16: =SUM(AV16,BF16,DN16,FV16,ID16) -> 0 | IY16: =SUM(IR16:IX16) -> 267 | IZ16: =IR16+IS16+IT16*1.5+IU16*2.3+IV16*2+IW16*0.4+IX16*0.2 -> 281.6 | JA16: =JA15+"00:15" -> 0.32291667 | JB16: =SUM(B16,L16,V16,AF16,AP16) -> 182 | JC16: =SUM(C16,M16,W16,AG16,AQ16) -> 35 | JD16: =SUM(D16,N16,X16,AH16,AR16) -> 13 | JE16: =SUM(E16,O16,Y16,AI16,AS16) -> 1 | JF16: =SUM(F16,P16,Z16,AJ16,AT16) -> 0 | JG16: =SUM(G16,Q16,AA16,AK16,AU16) -> 2 | JH16: =SUM(H16,R16,AB16,AL16,AV16) -> 0 | JI16: =SUM(JB16:JH16) -> 233 | JJ16: =JB16+JC16+JD16*1.5+JE16*2.3+JF16*2+JG16*0.4+JH16*0.2 -> 239.6 | JK16: =JK15+"00:15" -> 0.32291667 | JL16: =SUM(AF16,CN16,CX16,FF16,HN16) -> 186 | JM16: =SUM(AG16,CO16,CY16,FG16,HO16) -> 33 | JN16: =SUM(AH16,CP16,CZ16,FH16,HP16) -> 0 | JO16: =SUM(AI16,CQ16,DA16,FI16,HQ16) -> 0 | JP16: =SUM(AJ16,CR16,DB16,FJ16,HR16) -> 0 | JQ16: =SUM(AK16,CS16,DC16,FK16,HS16) -> 1 | JR16: =SUM(AL16,CT16,DD16,FL16,HT16) -> 0 | JS16: =SUM(JL16:JR16) -> 220 | JT16: =JL16+JM16+JN16*1.5+JO16*2.3+JP16*2+JQ16*0.4+JR16*0.2 -> 219.4 | JU16: =JU15+"00:15" -> 0.32291667 | JV16: =SUM(AZ16,BJ16,BT16,CD16,CN16) -> 205 | JW16: =SUM(BA16,BK16,BU16,CE16,CO16) -> 42 | JX16: =SUM(BB16,BL16,BV16,CF16,CP16) -> 8 | JY16: =SUM(BC16,BM16,BW16,CG16,CQ16) -> 2 | JZ16: =SUM(BD16,BN16,BX16,CH16,CR16) -> 1 | KA16: =SUM(BE16,BO16,BY16,CI16,CS16) -> 1 | KB16: =SUM(BF16,BP16,BZ16,CJ16,CT16) -> 0 | KC16: =SUM(JV16:KB16) -> 259 | KD16: =JV16+JW16+JX16*1.5+JY16*2.3+JZ16*2+KA16*0.4+KB16*0.2 -> 266 | KE16: =KE15+"00:15" -> 0.32291667 | KF16: =SUM(V16,CD16,EL16,EV16,HD16) -> 166 | KG16: =SUM(W16,CE16,EM16,EW16,HE16) -> 36 | KH16: =SUM(X16,CF16,EN16,EX16,HF16) -> 9 | KI16: =SUM(Y16,CG16,EO16,EY16,HG16) -> 1 | KJ16: =SUM(Z16,CH16,EP16,EZ16,HH16) -> 0 | KK16: =SUM(AA16,CI16,EQ16,FA16,HI16) -> 2 | KL16: =SUM(AB16,CJ16,ER16,FB16,HJ16) -> 0 | KM16: =SUM(KF16:KL16) -> 214 | KN16: =KF16+KG16+KH16*1.5+KI16*2.3+KJ16*2+KK16*0.4+KL16*0.2 -> 218.6 | KO16: =KO15+"00:15" -> 0.32291667 | KP16: =SUM(CX16,DH16,DR16,EB16,EL16) -> 106 | KQ16: =SUM(CY16,DI16,DS16,EC16,EM16) -> 30 | KR16: =SUM(CZ16,DJ16,DT16,ED16,EN16) -> 4 | KS16: =SUM(DA16,DK16,DU16,EE16,EO16) -> 5 | KT16: =SUM(DB16,DL16,DV16,EF16,EP16) -> 0 | KU16: =SUM(DC16,DM16,DW16,EG16,EQ16) -> 0 | KV16: =SUM(DD16,DN16,DX16,EH16,ER16) -> 0 | KW16: =SUM(KP16:KV16) -> 145 | KX16: =KP16+KQ16+KR16*1.5+KS16*2.3+KT16*2+KU16*0.4+KV16*0.2 -> 153.5 | KY16: =KY15+"00:15" -> 0.32291667 | KZ16: =SUM(L16,BT16,EB16,GJ16,GT16) -> 278 | LA16: =SUM(M16,BU16,EC16,GK16,GU16) -> 70 | LB16: =SUM(N16,BV16,ED16,GL16,GV16) -> 5 | LC16: =SUM(O16,BW16,EE16,GM16,GW16) -> 4 | LD16: =SUM(P16,BX16,EF16,GN16,GX16) -> 2 | LE16: =SUM(Q16,BY16,EG16,GO16,GY16) -> 1 | LF16: =SUM(R16,BZ16,EH16,GP16,GZ16) -> 0 | LG16: =SUM(KZ16:LF16) -> 360 | LH16: =KZ16+LA16+LB16*1.5+LC16*2.3+LD16*2+LE16*0.4+LF16*0.2 -> 369.1 | LI16: =LI15+"00:15" -> 0.32291667 | LJ16: =SUM(EV16,FF16,FP16,FZ16,GJ16) -> 246 | LK16: =SUM(EW16,FG16,FQ16,GA16,GK16) -> 33 | LL16: =SUM(EX16,FH16,FR16,GB16,GL16) -> 10 | LM16: =SUM(EY16,FI16,FS16,GC16,GM16) -> 6 | LN16: =SUM(EZ16,FJ16,FT16,GD16,GN16) -> 1 | LO16: =SUM(FA16,FK16,FU16,GE16,GO16) -> 5 | LP16: =SUM(FB16,FL16,FV16,GF16,GP16) -> 0 | LQ16: =SUM(LJ16:LP16) -> 301 | LR16: =LJ16+LK16+LL16*1.5+LM16*2.3+LN16*2+LO16*0.4+LP16*0.2 -> 311.8 | LS16: =LS15+"00:15" -> 0.32291667 | LT16: =SUM(B16,BJ16,DR16,FZ16,IH16) -> 295 | LU16: =SUM(C16,BK16,DS16,GA16,II16) -> 47 | LV16: =SUM(D16,BL16,DT16,GB16,IJ16) -> 18 | LW16: =SUM(E16,BM16,DU16,GC16,IK16) -> 4 | LX16: =SUM(F16,BN16,DV16,GD16,IL16) -> 0 | LY16: =SUM(G16,BO16,DW16,GE16,IM16) -> 2 | LZ16: =SUM(H16,BP16,DX16,GF16,IN16) -> 0 | MA16: =SUM(LT16:LZ16) -> 366 | MB16: =LT16+LU16+LV16*1.5+LW16*2.3+LX16*2+LY16*0.4+LZ16*0.2 -> 379 | MC16: =MC15+"00:15" -> 0.32291667 | MD16: =SUM(GT16,HD16,HN16,HX16,IH16) -> 399 | ME16: =SUM(GU16,HE16,HO16,HY16,II16) -> 78 | MF16: =SUM(GV16,HF16,HP16,HZ16,IJ16) -> 7 | MG16: =SUM(GW16,HG16,HQ16,IA16,IK16) -> 3 | MH16: =SUM(GX16,HH16,HR16,IB16,IL16) -> 1 | MI16: =SUM(GY16,HI16,HS16,IC16,IM16) -> 1 | MJ16: =SUM(GZ16,HJ16,HT16,ID16,IN16) -> 0 | MK16: =SUM(MD16:MJ16) -> 489 | ML16: =MD16+ME16+MF16*1.5+MG16*2.3+MH16*2+MI16*0.4+MJ16*0.2 -> 496.8 | MM16: =MM15+"00:15" -> 0.32291667 | MN16: =SUM(IR16,JL16,KF16,KZ16,LT16) -> 1138 | MO16: =SUM(IS16,JM16,KG16,LA16,LU16) -> 218 | MP16: =SUM(IT16,JN16,KH16,LB16,LV16) -> 42 | MQ16: =SUM(IU16,JO16,KI16,LC16,LW16) -> 17 | MR16: =SUM(IV16,JP16,KJ16,LD16,LX16) -> 3 | MS16: =SUM(IW16,JQ16,KK16,LE16,LY16) -> 9 | MT16: =SUM(IX16,JR16,KL16,LF16,LZ16) -> 0 | MU16: =SUM(MN16:MT16) -> 1427 | MV16: =MN16+MO16+MP16*1.5+MQ16*2.3+MR16*2+MS16*0.4+MT16*0.2 -> 1467.7
A17: H/TOT | B17: =SUM(B13:B16) -> 279 | C17: =SUM(C13:C16) -> 52 | D17: =SUM(D13:D16) -> 27 | E17: =SUM(E13:E16) -> 6 | F17: =SUM(F13:F16) -> 6 | G17: =SUM(G13:G16) -> 1 | H17: =SUM(H13:H16) -> 0 | I17: =SUM(I13:I16) -> 371 | J17: =SUM(J13:J16) -> 397.7 | K17: H/TOT | L17: =SUM(L13:L16) -> 126 | M17: =SUM(M13:M16) -> 28 | N17: =SUM(N13:N16) -> 14 | O17: =SUM(O13:O16) -> 1 | P17: =SUM(P13:P16) -> 1 | Q17: =SUM(Q13:Q16) -> 2 | R17: =SUM(R13:R16) -> 0 | S17: =SUM(S13:S16) -> 172 | T17: =SUM(T13:T16) -> 180.1 | U17: H/TOT | V17: =SUM(V13:V16) -> 242 | W17: =SUM(W13:W16) -> 58 | X17: =SUM(X13:X16) -> 19 | Y17: =SUM(Y13:Y16) -> 3 | Z17: =SUM(Z13:Z16) -> 0 | AA17: =SUM(AA13:AA16) -> 1 | AB17: =SUM(AB13:AB16) -> 0 | AC17: =SUM(AC13:AC16) -> 323 | AD17: =SUM(AD13:AD16) -> 335.8 | AE17: H/TOT | AF17: =SUM(AF13:AF16) -> 26 | AG17: =SUM(AG13:AG16) -> 3 | AH17: =SUM(AH13:AH16) -> 1 | AI17: =SUM(AI13:AI16) -> 0 | AJ17: =SUM(AJ13:AJ16) -> 0 | AK17: =SUM(AK13:AK16) -> 2 | AL17: =SUM(AL13:AL16) -> 0 | AM17: =SUM(AM13:AM16) -> 32 | AN17: =SUM(AN13:AN16) -> 31.3 | AO17: H/TOT | AP17: =SUM(AP13:AP16) -> 0 | AQ17: =SUM(AQ13:AQ16) -> 0 | AR17: =SUM(AR13:AR16) -> 0 | AS17: =SUM(AS13:AS16) -> 0 | AT17: =SUM(AT13:AT16) -> 0 | AU17: =SUM(AU13:AU16) -> 0 | AV17: =SUM(AV13:AV16) -> 0 | AW17: =SUM(AW13:AW16) -> 0 | AX17: =SUM(AX13:AX16) -> 0 | AY17: H/TOT | AZ17: =SUM(AZ13:AZ16) -> 97 | BA17: =SUM(BA13:BA16) -> 9 | BB17: =SUM(BB13:BB16) -> 1 | BC17: =SUM(BC13:BC16) -> 1 | BD17: =SUM(BD13:BD16) -> 0 | BE17: =SUM(BE13:BE16) -> 3 | BF17: =SUM(BF13:BF16) -> 0 | BG17: =SUM(BG13:BG16) -> 111 | BH17: =SUM(BH13:BH16) -> 111 | BI17: H/TOT | BJ17: =SUM(BJ13:BJ16) -> 432 | BK17: =SUM(BK13:BK16) -> 110 | BL17: =SUM(BL13:BL16) -> 18 | BM17: =SUM(BM13:BM16) -> 6 | BN17: =SUM(BN13:BN16) -> 0 | BO17: =SUM(BO13:BO16) -> 3 | BP17: =SUM(BP13:BP16) -> 0 | BQ17: =SUM(BQ13:BQ16) -> 569 | BR17: =SUM(BR13:BR16) -> 584 | BS17: H/TOT | BT17: =SUM(BT13:BT16) -> 152 | BU17: =SUM(BU13:BU16) -> 34 | BV17: =SUM(BV13:BV16) -> 3 | BW17: =SUM(BW13:BW16) -> 0 | BX17: =SUM(BX13:BX16) -> 1 | BY17: =SUM(BY13:BY16) -> 1 | BZ17: =SUM(BZ13:BZ16) -> 0 | CA17: =SUM(CA13:CA16) -> 191 | CB17: =SUM(CB13:CB16) -> 192.9 | CC17: H/TOT | CD17: =SUM(CD13:CD16) -> 19 | CE17: =SUM(CE13:CE16) -> 16 | CF17: =SUM(CF13:CF16) -> 1 | CG17: =SUM(CG13:CG16) -> 1 | CH17: =SUM(CH13:CH16) -> 0 | CI17: =SUM(CI13:CI16) -> 0 | CJ17: =SUM(CJ13:CJ16) -> 0 | CK17: =SUM(CK13:CK16) -> 37 | CL17: =SUM(CL13:CL16) -> 38.8 | CM17: H/TOT | CN17: =SUM(CN13:CN16) -> 0 | CO17: =SUM(CO13:CO16) -> 0 | CP17: =SUM(CP13:CP16) -> 0 | CQ17: =SUM(CQ13:CQ16) -> 0 | CR17: =SUM(CR13:CR16) -> 0 | CS17: =SUM(CS13:CS16) -> 0 | CT17: =SUM(CT13:CT16) -> 0 | CU17: =SUM(CU13:CU16) -> 0 | CV17: =SUM(CV13:CV16) -> 0 | CW17: H/TOT | CX17: =SUM(CX13:CX16) -> 38 | CY17: =SUM(CY13:CY16) -> 6 | CZ17: =SUM(CZ13:CZ16) -> 2 | DA17: =SUM(DA13:DA16) -> 0 | DB17: =SUM(DB13:DB16) -> 0 | DC17: =SUM(DC13:DC16) -> 0 | DD17: =SUM(DD13:DD16) -> 0 | DE17: =SUM(DE13:DE16) -> 46 | DF17: =SUM(DF13:DF16) -> 47 | DG17: H/TOT | DH17: =SUM(DH13:DH16) -> 233 | DI17: =SUM(DI13:DI16) -> 40 | DJ17: =SUM(DJ13:DJ16) -> 10 | DK17: =SUM(DK13:DK16) -> 3 | DL17: =SUM(DL13:DL16) -> 0 | DM17: =SUM(DM13:DM16) -> 1 | DN17: =SUM(DN13:DN16) -> 0 | DO17: =SUM(DO13:DO16) -> 287 | DP17: =SUM(DP13:DP16) -> 295.3 | DQ17: H/TOT | DR17: =SUM(DR13:DR16) -> 0 | DS17: =SUM(DS13:DS16) -> 0 | DT17: =SUM(DT13:DT16) -> 0 | DU17: =SUM(DU13:DU16) -> 0 | DV17: =SUM(DV13:DV16) -> 0 | DW17: =SUM(DW13:DW16) -> 0 | DX17: =SUM(DX13:DX16) -> 0 | DY17: =SUM(DY13:DY16) -> 0 | DZ17: =SUM(DZ13:DZ16) -> 0 | EA17: H/TOT | EB17: =SUM(EB13:EB16) -> 142 | EC17: =SUM(EC13:EC16) -> 50 | ED17: =SUM(ED13:ED16) -> 5 | EE17: =SUM(EE13:EE16) -> 5 | EF17: =SUM(EF13:EF16) -> 0 | EG17: =SUM(EG13:EG16) -> 1 | EH17: =SUM(EH13:EH16) -> 0 | EI17: =SUM(EI13:EI16) -> 203 | EJ17: =SUM(EJ13:EJ16) -> 211.4 | EK17: H/TOT | EL17: =SUM(EL13:EL16) -> 0 | EM17: =SUM(EM13:EM16) -> 0 | EN17: =SUM(EN13:EN16) -> 0 | EO17: =SUM(EO13:EO16) -> 0 | EP17: =SUM(EP13:EP16) -> 0 | EQ17: =SUM(EQ13:EQ16) -> 0 | ER17: =SUM(ER13:ER16) -> 0 | ES17: =SUM(ES13:ES16) -> 0 | ET17: =SUM(ET13:ET16) -> 0 | EU17: H/TOT | EV17: =SUM(EV13:EV16) -> 397 | EW17: =SUM(EW13:EW16) -> 119 | EX17: =SUM(EX13:EX16) -> 21 | EY17: =SUM(EY13:EY16) -> 4 | EZ17: =SUM(EZ13:EZ16) -> 0 | FA17: =SUM(FA13:FA16) -> 3 | FB17: =SUM(FB13:FB16) -> 0 | FC17: =SUM(FC13:FC16) -> 544 | FD17: =SUM(FD13:FD16) -> 557.9 | FE17: H/TOT | FF17: =SUM(FF13:FF16) -> 59 | FG17: =SUM(FG13:FG16) -> 27 | FH17: =SUM(FH13:FH16) -> 4 | FI17: =SUM(FI13:FI16) -> 0 | FJ17: =SUM(FJ13:FJ16) -> 0 | FK17: =SUM(FK13:FK16) -> 1 | FL17: =SUM(FL13:FL16) -> 0 | FM17: =SUM(FM13:FM16) -> 91 | FN17: =SUM(FN13:FN16) -> 92.4 | FO17: H/TOT | FP17: =SUM(FP13:FP16) -> 166 | FQ17: =SUM(FQ13:FQ16) -> 14 | FR17: =SUM(FR13:FR16) -> 5 | FS17: =SUM(FS13:FS16) -> 3 | FT17: =SUM(FT13:FT16) -> 5 | FU17: =SUM(FU13:FU16) -> 4 | FV17: =SUM(FV13:FV16) -> 0 | FW17: =SUM(FW13:FW16) -> 197 | FX17: =SUM(FX13:FX16) -> 206 | FY17: H/TOT | FZ17: =SUM(FZ13:FZ16) -> 372 | GA17: =SUM(GA13:GA16) -> 79 | GB17: =SUM(GB13:GB16) -> 20 | GC17: =SUM(GC13:GC16) -> 10 | GD17: =SUM(GD13:GD16) -> 0 | GE17: =SUM(GE13:GE16) -> 3 | GF17: =SUM(GF13:GF16) -> 0 | GG17: =SUM(GG13:GG16) -> 484 | GH17: =SUM(GH13:GH16) -> 505.2 | GI17: H/TOT | GJ17: =SUM(GJ13:GJ16) -> 1 | GK17: =SUM(GK13:GK16) -> 0 | GL17: =SUM(GL13:GL16) -> 0 | GM17: =SUM(GM13:GM16) -> 0 | GN17: =SUM(GN13:GN16) -> 0 | GO17: =SUM(GO13:GO16) -> 0 | GP17: =SUM(GP13:GP16) -> 0 | GQ17: =SUM(GQ13:GQ16) -> 1 | GR17: =SUM(GR13:GR16) -> 1 | GS17: H/TOT | GT17: =SUM(GT13:GT16) -> 568 | GU17: =SUM(GU13:GU16) -> 117 | GV17: =SUM(GV13:GV16) -> 11 | GW17: =SUM(GW13:GW16) -> 5 | GX17: =SUM(GX13:GX16) -> 1 | GY17: =SUM(GY13:GY16) -> 3 | GZ17: =SUM(GZ13:GZ16) -> 0 | HA17: =SUM(HA13:HA16) -> 705 | HB17: =SUM(HB13:HB16) -> 716.2 | HC17: H/TOT | HD17: =SUM(HD13:HD16) -> 0 | HE17: =SUM(HE13:HE16) -> 0 | HF17: =SUM(HF13:HF16) -> 0 | HG17: =SUM(HG13:HG16) -> 0 | HH17: =SUM(HH13:HH16) -> 0 | HI17: =SUM(HI13:HI16) -> 0 | HJ17: =SUM(HJ13:HJ16) -> 0 | HK17: =SUM(HK13:HK16) -> 0 | HL17: =SUM(HL13:HL16) -> 0 | HM17: H/TOT | HN17: =SUM(HN13:HN16) -> 559 | HO17: =SUM(HO13:HO16) -> 109 | HP17: =SUM(HP13:HP16) -> 7 | HQ17: =SUM(HQ13:HQ16) -> 1 | HR17: =SUM(HR13:HR16) -> 0 | HS17: =SUM(HS13:HS16) -> 1 | HT17: =SUM(HT13:HT16) -> 0 | HU17: =SUM(HU13:HU16) -> 677 | HV17: =SUM(HV13:HV16) -> 681.2 | HW17: H/TOT | HX17: =SUM(HX13:HX16) -> 284 | HY17: =SUM(HY13:HY16) -> 65 | HZ17: =SUM(HZ13:HZ16) -> 9 | IA17: =SUM(IA13:IA16) -> 5 | IB17: =SUM(IB13:IB16) -> 0 | IC17: =SUM(IC13:IC16) -> 2 | ID17: =SUM(ID13:ID16) -> 0 | IE17: =SUM(IE13:IE16) -> 365 | IF17: =SUM(IF13:IF16) -> 374.8 | IG17: H/TOT | IH17: =SUM(IH13:IH16) -> 0 | II17: =SUM(II13:II16) -> 0 | IJ17: =SUM(IJ13:IJ16) -> 0 | IK17: =SUM(IK13:IK16) -> 0 | IL17: =SUM(IL13:IL16) -> 0 | IM17: =SUM(IM13:IM16) -> 0 | IN17: =SUM(IN13:IN16) -> 0 | IO17: =SUM(IO13:IO16) -> 0 | IP17: =SUM(IP13:IP16) -> 0 | IQ17: H/TOT | IR17: =SUM(IR13:IR16) -> 780 | IS17: =SUM(IS13:IS16) -> 128 | IT17: =SUM(IT13:IT16) -> 25 | IU17: =SUM(IU13:IU16) -> 12 | IV17: =SUM(IV13:IV16) -> 5 | IW17: =SUM(IW13:IW16) -> 10 | IX17: =SUM(IX13:IX16) -> 0 | IY17: =SUM(IY13:IY16) -> 960 | IZ17: =SUM(IZ13:IZ16) -> 987.1 | JA17: H/TOT | JB17: =SUM(JB13:JB16) -> 673 | JC17: =SUM(JC13:JC16) -> 141 | JD17: =SUM(JD13:JD16) -> 61 | JE17: =SUM(JE13:JE16) -> 10 | JF17: =SUM(JF13:JF16) -> 7 | JG17: =SUM(JG13:JG16) -> 6 | JH17: =SUM(JH13:JH16) -> 0 | JI17: =SUM(JI13:JI16) -> 898 | JJ17: =SUM(JJ13:JJ16) -> 944.9 | JK17: H/TOT | JL17: =SUM(JL13:JL16) -> 682 | JM17: =SUM(JM13:JM16) -> 145 | JN17: =SUM(JN13:JN16) -> 14 | JO17: =SUM(JO13:JO16) -> 1 | JP17: =SUM(JP13:JP16) -> 0 | JQ17: =SUM(JQ13:JQ16) -> 4 | JR17: =SUM(JR13:JR16) -> 0 | JS17: =SUM(JS13:JS16) -> 846 | JT17: =SUM(JT13:JT16) -> 851.9 | JU17: H/TOT | JV17: =SUM(JV13:JV16) -> 700 | JW17: =SUM(JW13:JW16) -> 169 | JX17: =SUM(JX13:JX16) -> 23 | JY17: =SUM(JY13:JY16) -> 8 | JZ17: =SUM(JZ13:JZ16) -> 1 | KA17: =SUM(KA13:KA16) -> 7 | KB17: =SUM(KB13:KB16) -> 0 | KC17: =SUM(KC13:KC16) -> 908 | KD17: =SUM(KD13:KD16) -> 926.7 | KE17: H/TOT | KF17: =SUM(KF13:KF16) -> 658 | KG17: =SUM(KG13:KG16) -> 193 | KH17: =SUM(KH13:KH16) -> 41 | KI17: =SUM(KI13:KI16) -> 8 | KJ17: =SUM(KJ13:KJ16) -> 0 | KK17: =SUM(KK13:KK16) -> 4 | KL17: =SUM(KL13:KL16) -> 0 | KM17: =SUM(KM13:KM16) -> 904 | KN17: =SUM(KN13:KN16) -> 932.5 | KO17: H/TOT | KP17: =SUM(KP13:KP16) -> 413 | KQ17: =SUM(KQ13:KQ16) -> 96 | KR17: =SUM(KR13:KR16) -> 17 | KS17: =SUM(KS13:KS16) -> 8 | KT17: =SUM(KT13:KT16) -> 0 | KU17: =SUM(KU13:KU16) -> 2 | KV17: =SUM(KV13:KV16) -> 0 | KW17: =SUM(KW13:KW16) -> 536 | KX17: =SUM(KX13:KX16) -> 553.7 | KY17: H/TOT | KZ17: =SUM(KZ13:KZ16) -> 989 | LA17: =SUM(LA13:LA16) -> 229 | LB17: =SUM(LB13:LB16) -> 33 | LC17: =SUM(LC13:LC16) -> 11 | LD17: =SUM(LD13:LD16) -> 3 | LE17: =SUM(LE13:LE16) -> 7 | LF17: =SUM(LF13:LF16) -> 0 | LG17: =SUM(LG13:LG16) -> 1272 | LH17: =SUM(LH13:LH16) -> 1301.6 | LI17: H/TOT | LJ17: =SUM(LJ13:LJ16) -> 995 | LK17: =SUM(LK13:LK16) -> 239 | LL17: =SUM(LL13:LL16) -> 50 | LM17: =SUM(LM13:LM16) -> 17 | LN17: =SUM(LN13:LN16) -> 5 | LO17: =SUM(LO13:LO16) -> 11 | LP17: =SUM(LP13:LP16) -> 0 | LQ17: =SUM(LQ13:LQ16) -> 1317 | LR17: =SUM(LR13:LR16) -> 1362.5 | LS17: H/TOT | LT17: =SUM(LT13:LT16) -> 1083 | LU17: =SUM(LU13:LU16) -> 241 | LV17: =SUM(LV13:LV16) -> 65 | LW17: =SUM(LW13:LW16) -> 22 | LX17: =SUM(LX13:LX16) -> 6 | LY17: =SUM(LY13:LY16) -> 7 | LZ17: =SUM(LZ13:LZ16) -> 0 | MA17: =SUM(MA13:MA16) -> 1424 | MB17: =SUM(MB13:MB16) -> 1486.9 | MC17: H/TOT | MD17: =SUM(MD13:MD16) -> 1411 | ME17: =SUM(ME13:ME16) -> 291 | MF17: =SUM(MF13:MF16) -> 27 | MG17: =SUM(MG13:MG16) -> 11 | MH17: =SUM(MH13:MH16) -> 1 | MI17: =SUM(MI13:MI16) -> 6 | MJ17: =SUM(MJ13:MJ16) -> 0 | MK17: =SUM(MK13:MK16) -> 1747 | ML17: =SUM(ML13:ML16) -> 1772.2 | MM17: H/TOT | MN17: =SUM(MN13:MN16) -> 4192 | MO17: =SUM(MO13:MO16) -> 936 | MP17: =SUM(MP13:MP16) -> 178 | MQ17: =SUM(MQ13:MQ16) -> 54 | MR17: =SUM(MR13:MR16) -> 14 | MS17: =SUM(MS13:MS16) -> 32 | MT17: =SUM(MT13:MT16) -> 0 | MU17: =SUM(MU13:MU16) -> 5406 | MV17: =SUM(MV13:MV16) -> 5560
A18: =A16+"00:15" -> 0.33333333 | B18: 58 | C18: 11 | D18: 3 | E18: 2 | F18: 0 | G18: 1 | H18: 0 | I18: =SUM(B18:H18) -> 75 | J18: =B18+C18+D18*1.5+E18*2.3+F18*2+G18*0.4+H18*0.2 -> 78.5 | K18: =K16+"00:15" -> 0.33333333 | L18: 55 | M18: 4 | N18: 1 | O18: 0 | P18: 0 | Q18: 0 | R18: 0 | S18: =SUM(L18:R18) -> 60 | T18: =L18+M18+N18*1.5+O18*2.3+P18*2+Q18*0.4+R18*0.2 -> 60.5 | U18: =U16+"00:15" -> 0.33333333 | V18: 55 | W18: 16 | X18: 0 | Y18: 3 | Z18: 0 | AA18: 0 | AB18: 0 | AC18: =SUM(V18:AB18) -> 74 | AD18: =V18+W18+X18*1.5+Y18*2.3+Z18*2+AA18*0.4+AB18*0.2 -> 77.9 | AE18: =AE16+"00:15" -> 0.33333333 | AF18: 9 | AG18: 2 | AH18: 0 | AI18: 0 | AJ18: 0 | AK18: 0 | AL18: 0 | AM18: =SUM(AF18:AL18) -> 11 | AN18: =AF18+AG18+AH18*1.5+AI18*2.3+AJ18*2+AK18*0.4+AL18*0.2 -> 11 | AO18: =AO16+"00:15" -> 0.33333333 | AP18: 0 | AQ18: 0 | AR18: 0 | AS18: 0 | AT18: 0 | AU18: 0 | AV18: 0 | AW18: =SUM(AP18:AV18) -> 0 | AX18: =AP18+AQ18+AR18*1.5+AS18*2.3+AT18*2+AU18*0.4+AV18*0.2 -> 0 | AY18: =AY16+"00:15" -> 0.33333333 | AZ18: 18 | BA18: 4 | BB18: 1 | BC18: 0 | BD18: 0 | BE18: 0 | BF18: 0 | BG18: =SUM(AZ18:BF18) -> 23 | BH18: =AZ18+BA18+BB18*1.5+BC18*2.3+BD18*2+BE18*0.4+BF18*0.2 -> 23.5 | BI18: =BI16+"00:15" -> 0.33333333 | BJ18: 120 | BK18: 17 | BL18: 6 | BM18: 1 | BN18: 0 | BO18: 0 | BP18: 0 | BQ18: =SUM(BJ18:BP18) -> 144 | BR18: =BJ18+BK18+BL18*1.5+BM18*2.3+BN18*2+BO18*0.4+BP18*0.2 -> 148.3 | BS18: =BS16+"00:15" -> 0.33333333 | BT18: 34 | BU18: 5 | BV18: 2 | BW18: 1 | BX18: 0 | BY18: 0 | BZ18: 0 | CA18: =SUM(BT18:BZ18) -> 42 | CB18: =BT18+BU18+BV18*1.5+BW18*2.3+BX18*2+BY18*0.4+BZ18*0.2 -> 44.3 | CC18: =CC16+"00:15" -> 0.33333333 | CD18: 12 | CE18: 5 | CF18: 0 | CG18: 1 | CH18: 0 | CI18: 1 | CJ18: 0 | CK18: =SUM(CD18:CJ18) -> 19 | CL18: =CD18+CE18+CF18*1.5+CG18*2.3+CH18*2+CI18*0.4+CJ18*0.2 -> 19.7 | CM18: =CM16+"00:15" -> 0.33333333 | CN18: 0 | CO18: 0 | CP18: 0 | CQ18: 0 | CR18: 0 | CS18: 0 | CT18: 0 | CU18: =SUM(CN18:CT18) -> 0 | CV18: =CN18+CO18+CP18*1.5+CQ18*2.3+CR18*2+CS18*0.4+CT18*0.2 -> 0 | CW18: =CW16+"00:15" -> 0.33333333 | CX18: 24 | CY18: 1 | CZ18: 0 | DA18: 0 | DB18: 4 | DC18: 0 | DD18: 0 | DE18: =SUM(CX18:DD18) -> 29 | DF18: =CX18+CY18+CZ18*1.5+DA18*2.3+DB18*2+DC18*0.4+DD18*0.2 -> 33 | DG18: =DG16+"00:15" -> 0.33333333 | DH18: 74 | DI18: 10 | DJ18: 5 | DK18: 2 | DL18: 0 | DM18: 1 | DN18: 0 | DO18: =SUM(DH18:DN18) -> 92 | DP18: =DH18+DI18+DJ18*1.5+DK18*2.3+DL18*2+DM18*0.4+DN18*0.2 -> 96.5 | DQ18: =DQ16+"00:15" -> 0.33333333 | DR18: 1 | DS18: 0 | DT18: 0 | DU18: 0 | DV18: 0 | DW18: 0 | DX18: 0 | DY18: =SUM(DR18:DX18) -> 1 | DZ18: =DR18+DS18+DT18*1.5+DU18*2.3+DV18*2+DW18*0.4+DX18*0.2 -> 1 | EA18: =EA16+"00:15" -> 0.33333333 | EB18: 61 | EC18: 10 | ED18: 6 | EE18: 1 | EF18: 0 | EG18: 0 | EH18: 0 | EI18: =SUM(EB18:EH18) -> 78 | EJ18: =EB18+EC18+ED18*1.5+EE18*2.3+EF18*2+EG18*0.4+EH18*0.2 -> 82.3 | EK18: =EK16+"00:15" -> 0.33333333 | EL18: 0 | EM18: 0 | EN18: 0 | EO18: 0 | EP18: 0 | EQ18: 0 | ER18: 0 | ES18: =SUM(EL18:ER18) -> 0 | ET18: =EL18+EM18+EN18*1.5+EO18*2.3+EP18*2+EQ18*0.4+ER18*0.2 -> 0 | EU18: =EU16+"00:15" -> 0.33333333 | EV18: 88 | EW18: 21 | EX18: 5 | EY18: 3 | EZ18: 0 | FA18: 0 | FB18: 0 | FC18: =SUM(EV18:FB18) -> 117 | FD18: =EV18+EW18+EX18*1.5+EY18*2.3+EZ18*2+FA18*0.4+FB18*0.2 -> 123.4 | FE18: =FE16+"00:15" -> 0.33333333 | FF18: 25 | FG18: 4 | FH18: 0 | FI18: 0 | FJ18: 2 | FK18: 0 | FL18: 0 | FM18: =SUM(FF18:FL18) -> 31 | FN18: =FF18+FG18+FH18*1.5+FI18*2.3+FJ18*2+FK18*0.4+FL18*0.2 -> 33 | FO18: =FO16+"00:15" -> 0.33333333 | FP18: 38 | FQ18: 4 | FR18: 0 | FS18: 0 | FT18: 0 | FU18: 0 | FV18: 0 | FW18: =SUM(FP18:FV18) -> 42 | FX18: =FP18+FQ18+FR18*1.5+FS18*2.3+FT18*2+FU18*0.4+FV18*0.2 -> 42 | FY18: =FY16+"00:15" -> 0.33333333 | FZ18: 86 | GA18: 13 | GB18: 3 | GC18: 3 | GD18: 0 | GE18: 0 | GF18: 0 | GG18: =SUM(FZ18:GF18) -> 105 | GH18: =FZ18+GA18+GB18*1.5+GC18*2.3+GD18*2+GE18*0.4+GF18*0.2 -> 110.4 | GI18: =GI16+"00:15" -> 0.33333333 | GJ18: 0 | GK18: 1 | GL18: 0 | GM18: 0 | GN18: 0 | GO18: 0 | GP18: 0 | GQ18: =SUM(GJ18:GP18) -> 1 | GR18: =GJ18+GK18+GL18*1.5+GM18*2.3+GN18*2+GO18*0.4+GP18*0.2 -> 1 | GS18: =GS16+"00:15" -> 0.33333333 | GT18: 159 | GU18: 23 | GV18: 3 | GW18: 1 | GX18: 2 | GY18: 1 | GZ18: 0 | HA18: =SUM(GT18:GZ18) -> 189 | HB18: =GT18+GU18+GV18*1.5+GW18*2.3+GX18*2+GY18*0.4+GZ18*0.2 -> 193.2 | HC18: =HC16+"00:15" -> 0.33333333 | HD18: 1 | HE18: 0 | HF18: 0 | HG18: 0 | HH18: 0 | HI18: 0 | HJ18: 0 | HK18: =SUM(HD18:HJ18) -> 1 | HL18: =HD18+HE18+HF18*1.5+HG18*2.3+HH18*2+HI18*0.4+HJ18*0.2 -> 1 | HM18: =HM16+"00:15" -> 0.33333333 | HN18: 145 | HO18: 17 | HP18: 3 | HQ18: 0 | HR18: 3 | HS18: 0 | HT18: 0 | HU18: =SUM(HN18:HT18) -> 168 | HV18: =HN18+HO18+HP18*1.5+HQ18*2.3+HR18*2+HS18*0.4+HT18*0.2 -> 172.5 | HW18: =HW16+"00:15" -> 0.33333333 | HX18: 100 | HY18: 8 | HZ18: 5 | IA18: 2 | IB18: 0 | IC18: 1 | ID18: 0 | IE18: =SUM(HX18:ID18) -> 116 | IF18: =HX18+HY18+HZ18*1.5+IA18*2.3+IB18*2+IC18*0.4+ID18*0.2 -> 120.5 | IG18: =IG16+"00:15" -> 0.33333333 | IH18: 0 | II18: 0 | IJ18: 0 | IK18: 0 | IL18: 0 | IM18: 0 | IN18: 0 | IO18: =SUM(IH18:IN18) -> 0 | IP18: =IH18+II18+IJ18*1.5+IK18*2.3+IL18*2+IM18*0.4+IN18*0.2 -> 0 | IQ18: =IQ16+"00:15" -> 0.33333333 | IR18: =SUM(AP18,AZ18,DH18,FP18,HX18) -> 230 | IS18: =SUM(AQ18,BA18,DI18,FQ18,HY18) -> 26 | IT18: =SUM(AR18,BB18,DJ18,FR18,HZ18) -> 11 | IU18: =SUM(AS18,BC18,DK18,FS18,IA18) -> 4 | IV18: =SUM(AT18,BD18,DL18,FT18,IB18) -> 0 | IW18: =SUM(AU18,BE18,DM18,FU18,IC18) -> 2 | IX18: =SUM(AV18,BF18,DN18,FV18,ID18) -> 0 | IY18: =SUM(IR18:IX18) -> 273 | IZ18: =IR18+IS18+IT18*1.5+IU18*2.3+IV18*2+IW18*0.4+IX18*0.2 -> 282.5 | JA18: =JA16+"00:15" -> 0.33333333 | JB18: =SUM(B18,L18,V18,AF18,AP18) -> 177 | JC18: =SUM(C18,M18,W18,AG18,AQ18) -> 33 | JD18: =SUM(D18,N18,X18,AH18,AR18) -> 4 | JE18: =SUM(E18,O18,Y18,AI18,AS18) -> 5 | JF18: =SUM(F18,P18,Z18,AJ18,AT18) -> 0 | JG18: =SUM(G18,Q18,AA18,AK18,AU18) -> 1 | JH18: =SUM(H18,R18,AB18,AL18,AV18) -> 0 | JI18: =SUM(JB18:JH18) -> 220 | JJ18: =JB18+JC18+JD18*1.5+JE18*2.3+JF18*2+JG18*0.4+JH18*0.2 -> 227.9 | JK18: =JK16+"00:15" -> 0.33333333 | JL18: =SUM(AF18,CN18,CX18,FF18,HN18) -> 203 | JM18: =SUM(AG18,CO18,CY18,FG18,HO18) -> 24 | JN18: =SUM(AH18,CP18,CZ18,FH18,HP18) -> 3 | JO18: =SUM(AI18,CQ18,DA18,FI18,HQ18) -> 0 | JP18: =SUM(AJ18,CR18,DB18,FJ18,HR18) -> 9 | JQ18: =SUM(AK18,CS18,DC18,FK18,HS18) -> 0 | JR18: =SUM(AL18,CT18,DD18,FL18,HT18) -> 0 | JS18: =SUM(JL18:JR18) -> 239 | JT18: =JL18+JM18+JN18*1.5+JO18*2.3+JP18*2+JQ18*0.4+JR18*0.2 -> 249.5 | JU18: =JU16+"00:15" -> 0.33333333 | JV18: =SUM(AZ18,BJ18,BT18,CD18,CN18) -> 184 | JW18: =SUM(BA18,BK18,BU18,CE18,CO18) -> 31 | JX18: =SUM(BB18,BL18,BV18,CF18,CP18) -> 9 | JY18: =SUM(BC18,BM18,BW18,CG18,CQ18) -> 3 | JZ18: =SUM(BD18,BN18,BX18,CH18,CR18) -> 0 | KA18: =SUM(BE18,BO18,BY18,CI18,CS18) -> 1 | KB18: =SUM(BF18,BP18,BZ18,CJ18,CT18) -> 0 | KC18: =SUM(JV18:KB18) -> 228 | KD18: =JV18+JW18+JX18*1.5+JY18*2.3+JZ18*2+KA18*0.4+KB18*0.2 -> 235.8 | KE18: =KE16+"00:15" -> 0.33333333 | KF18: =SUM(V18,CD18,EL18,EV18,HD18) -> 156 | KG18: =SUM(W18,CE18,EM18,EW18,HE18) -> 42 | KH18: =SUM(X18,CF18,EN18,EX18,HF18) -> 5 | KI18: =SUM(Y18,CG18,EO18,EY18,HG18) -> 7 | KJ18: =SUM(Z18,CH18,EP18,EZ18,HH18) -> 0 | KK18: =SUM(AA18,CI18,EQ18,FA18,HI18) -> 1 | KL18: =SUM(AB18,CJ18,ER18,FB18,HJ18) -> 0 | KM18: =SUM(KF18:KL18) -> 211 | KN18: =KF18+KG18+KH18*1.5+KI18*2.3+KJ18*2+KK18*0.4+KL18*0.2 -> 222 | KO18: =KO16+"00:15" -> 0.33333333 | KP18: =SUM(CX18,DH18,DR18,EB18,EL18) -> 160 | KQ18: =SUM(CY18,DI18,DS18,EC18,EM18) -> 21 | KR18: =SUM(CZ18,DJ18,DT18,ED18,EN18) -> 11 | KS18: =SUM(DA18,DK18,DU18,EE18,EO18) -> 3 | KT18: =SUM(DB18,DL18,DV18,EF18,EP18) -> 4 | KU18: =SUM(DC18,DM18,DW18,EG18,EQ18) -> 1 | KV18: =SUM(DD18,DN18,DX18,EH18,ER18) -> 0 | KW18: =SUM(KP18:KV18) -> 200 | KX18: =KP18+KQ18+KR18*1.5+KS18*2.3+KT18*2+KU18*0.4+KV18*0.2 -> 212.8 | KY18: =KY16+"00:15" -> 0.33333333 | KZ18: =SUM(L18,BT18,EB18,GJ18,GT18) -> 309 | LA18: =SUM(M18,BU18,EC18,GK18,GU18) -> 43 | LB18: =SUM(N18,BV18,ED18,GL18,GV18) -> 12 | LC18: =SUM(O18,BW18,EE18,GM18,GW18) -> 3 | LD18: =SUM(P18,BX18,EF18,GN18,GX18) -> 2 | LE18: =SUM(Q18,BY18,EG18,GO18,GY18) -> 1 | LF18: =SUM(R18,BZ18,EH18,GP18,GZ18) -> 0 | LG18: =SUM(KZ18:LF18) -> 370 | LH18: =KZ18+LA18+LB18*1.5+LC18*2.3+LD18*2+LE18*0.4+LF18*0.2 -> 381.3 | LI18: =LI16+"00:15" -> 0.33333333 | LJ18: =SUM(EV18,FF18,FP18,FZ18,GJ18) -> 237 | LK18: =SUM(EW18,FG18,FQ18,GA18,GK18) -> 43 | LL18: =SUM(EX18,FH18,FR18,GB18,GL18) -> 8 | LM18: =SUM(EY18,FI18,FS18,GC18,GM18) -> 6 | LN18: =SUM(EZ18,FJ18,FT18,GD18,GN18) -> 2 | LO18: =SUM(FA18,FK18,FU18,GE18,GO18) -> 0 | LP18: =SUM(FB18,FL18,FV18,GF18,GP18) -> 0 | LQ18: =SUM(LJ18:LP18) -> 296 | LR18: =LJ18+LK18+LL18*1.5+LM18*2.3+LN18*2+LO18*0.4+LP18*0.2 -> 309.8 | LS18: =LS16+"00:15" -> 0.33333333 | LT18: =SUM(B18,BJ18,DR18,FZ18,IH18) -> 265 | LU18: =SUM(C18,BK18,DS18,GA18,II18) -> 41 | LV18: =SUM(D18,BL18,DT18,GB18,IJ18) -> 12 | LW18: =SUM(E18,BM18,DU18,GC18,IK18) -> 6 | LX18: =SUM(F18,BN18,DV18,GD18,IL18) -> 0 | LY18: =SUM(G18,BO18,DW18,GE18,IM18) -> 1 | LZ18: =SUM(H18,BP18,DX18,GF18,IN18) -> 0 | MA18: =SUM(LT18:LZ18) -> 325 | MB18: =LT18+LU18+LV18*1.5+LW18*2.3+LX18*2+LY18*0.4+LZ18*0.2 -> 338.2 | MC18: =MC16+"00:15" -> 0.33333333 | MD18: =SUM(GT18,HD18,HN18,HX18,IH18) -> 405 | ME18: =SUM(GU18,HE18,HO18,HY18,II18) -> 48 | MF18: =SUM(GV18,HF18,HP18,HZ18,IJ18) -> 11 | MG18: =SUM(GW18,HG18,HQ18,IA18,IK18) -> 3 | MH18: =SUM(GX18,HH18,HR18,IB18,IL18) -> 5 | MI18: =SUM(GY18,HI18,HS18,IC18,IM18) -> 2 | MJ18: =SUM(GZ18,HJ18,HT18,ID18,IN18) -> 0 | MK18: =SUM(MD18:MJ18) -> 474 | ML18: =MD18+ME18+MF18*1.5+MG18*2.3+MH18*2+MI18*0.4+MJ18*0.2 -> 487.2 | MM18: =MM16+"00:15" -> 0.33333333 | MN18: =SUM(IR18,JL18,KF18,KZ18,LT18) -> 1163 | MO18: =SUM(IS18,JM18,KG18,LA18,LU18) -> 176 | MP18: =SUM(IT18,JN18,KH18,LB18,LV18) -> 43 | MQ18: =SUM(IU18,JO18,KI18,LC18,LW18) -> 20 | MR18: =SUM(IV18,JP18,KJ18,LD18,LX18) -> 11 | MS18: =SUM(IW18,JQ18,KK18,LE18,LY18) -> 5 | MT18: =SUM(IX18,JR18,KL18,LF18,LZ18) -> 0 | MU18: =SUM(MN18:MT18) -> 1418 | MV18: =MN18+MO18+MP18*1.5+MQ18*2.3+MR18*2+MS18*0.4+MT18*0.2 -> 1473.5
A19: =A18+"00:15" -> 0.34375 | B19: 72 | C19: 11 | D19: 1 | E19: 1 | F19: 2 | G19: 0 | H19: 0 | I19: =SUM(B19:H19) -> 87 | J19: =B19+C19+D19*1.5+E19*2.3+F19*2+G19*0.4+H19*0.2 -> 90.8 | K19: =K18+"00:15" -> 0.34375 | L19: 52 | M19: 1 | N19: 4 | O19: 0 | P19: 6 | Q19: 1 | R19: 0 | S19: =SUM(L19:R19) -> 64 | T19: =L19+M19+N19*1.5+O19*2.3+P19*2+Q19*0.4+R19*0.2 -> 71.4 | U19: =U18+"00:15" -> 0.34375 | V19: 52 | W19: 10 | X19: 2 | Y19: 3 | Z19: 2 | AA19: 0 | AB19: 0 | AC19: =SUM(V19:AB19) -> 69 | AD19: =V19+W19+X19*1.5+Y19*2.3+Z19*2+AA19*0.4+AB19*0.2 -> 75.9 | AE19: =AE18+"00:15" -> 0.34375 | AF19: 4 | AG19: 2 | AH19: 1 | AI19: 0 | AJ19: 0 | AK19: 0 | AL19: 0 | AM19: =SUM(AF19:AL19) -> 7 | AN19: =AF19+AG19+AH19*1.5+AI19*2.3+AJ19*2+AK19*0.4+AL19*0.2 -> 7.5 | AO19: =AO18+"00:15" -> 0.34375 | AP19: 0 | AQ19: 0 | AR19: 0 | AS19: 0 | AT19: 0 | AU19: 0 | AV19: 0 | AW19: =SUM(AP19:AV19) -> 0 | AX19: =AP19+AQ19+AR19*1.5+AS19*2.3+AT19*2+AU19*0.4+AV19*0.2 -> 0 | AY19: =AY18+"00:15" -> 0.34375 | AZ19: 13 | BA19: 1 | BB19: 1 | BC19: 0 | BD19: 0 | BE19: 0 | BF19: 0 | BG19: =SUM(AZ19:BF19) -> 15 | BH19: =AZ19+BA19+BB19*1.5+BC19*2.3+BD19*2+BE19*0.4+BF19*0.2 -> 15.5 | BI19: =BI18+"00:15" -> 0.34375 | BJ19: 85 | BK19: 16 | BL19: 5 | BM19: 1 | BN19: 0 | BO19: 1 | BP19: 0 | BQ19: =SUM(BJ19:BP19) -> 108 | BR19: =BJ19+BK19+BL19*1.5+BM19*2.3+BN19*2+BO19*0.4+BP19*0.2 -> 111.2 | BS19: =BS18+"00:15" -> 0.34375 | BT19: 54 | BU19: 10 | BV19: 1 | BW19: 0 | BX19: 0 | BY19: 0 | BZ19: 0 | CA19: =SUM(BT19:BZ19) -> 65 | CB19: =BT19+BU19+BV19*1.5+BW19*2.3+BX19*2+BY19*0.4+BZ19*0.2 -> 65.5 | CC19: =CC18+"00:15" -> 0.34375 | CD19: 10 | CE19: 3 | CF19: 0 | CG19: 0 | CH19: 0 | CI19: 0 | CJ19: 0 | CK19: =SUM(CD19:CJ19) -> 13 | CL19: =CD19+CE19+CF19*1.5+CG19*2.3+CH19*2+CI19*0.4+CJ19*0.2 -> 13 | CM19: =CM18+"00:15" -> 0.34375 | CN19: 0 | CO19: 0 | CP19: 0 | CQ19: 0 | CR19: 0 | CS19: 0 | CT19: 0 | CU19: =SUM(CN19:CT19) -> 0 | CV19: =CN19+CO19+CP19*1.5+CQ19*2.3+CR19*2+CS19*0.4+CT19*0.2 -> 0 | CW19: =CW18+"00:15" -> 0.34375 | CX19: 31 | CY19: 3 | CZ19: 1 | DA19: 0 | DB19: 0 | DC19: 0 | DD19: 0 | DE19: =SUM(CX19:DD19) -> 35 | DF19: =CX19+CY19+CZ19*1.5+DA19*2.3+DB19*2+DC19*0.4+DD19*0.2 -> 35.5 | DG19: =DG18+"00:15" -> 0.34375 | DH19: 65 | DI19: 12 | DJ19: 5 | DK19: 1 | DL19: 0 | DM19: 0 | DN19: 0 | DO19: =SUM(DH19:DN19) -> 83 | DP19: =DH19+DI19+DJ19*1.5+DK19*2.3+DL19*2+DM19*0.4+DN19*0.2 -> 86.8 | DQ19: =DQ18+"00:15" -> 0.34375 | DR19: 0 | DS19: 0 | DT19: 0 | DU19: 0 | DV19: 0 | DW19: 0 | DX19: 0 | DY19: =SUM(DR19:DX19) -> 0 | DZ19: =DR19+DS19+DT19*1.5+DU19*2.3+DV19*2+DW19*0.4+DX19*0.2 -> 0 | EA19: =EA18+"00:15" -> 0.34375 | EB19: 71 | EC19: 14 | ED19: 3 | EE19: 2 | EF19: 0 | EG19: 1 | EH19: 0 | EI19: =SUM(EB19:EH19) -> 91 | EJ19: =EB19+EC19+ED19*1.5+EE19*2.3+EF19*2+EG19*0.4+EH19*0.2 -> 94.5 | EK19: =EK18+"00:15" -> 0.34375 | EL19: 0 | EM19: 0 | EN19: 0 | EO19: 0 | EP19: 0 | EQ19: 0 | ER19: 0 | ES19: =SUM(EL19:ER19) -> 0 | ET19: =EL19+EM19+EN19*1.5+EO19*2.3+EP19*2+EQ19*0.4+ER19*0.2 -> 0 | EU19: =EU18+"00:15" -> 0.34375 | EV19: 114 | EW19: 25 | EX19: 1 | EY19: 2 | EZ19: 0 | FA19: 1 | FB19: 0 | FC19: =SUM(EV19:FB19) -> 143 | FD19: =EV19+EW19+EX19*1.5+EY19*2.3+EZ19*2+FA19*0.4+FB19*0.2 -> 145.5 | FE19: =FE18+"00:15" -> 0.34375 | FF19: 23 | FG19: 5 | FH19: 3 | FI19: 0 | FJ19: 0 | FK19: 0 | FL19: 0 | FM19: =SUM(FF19:FL19) -> 31 | FN19: =FF19+FG19+FH19*1.5+FI19*2.3+FJ19*2+FK19*0.4+FL19*0.2 -> 32.5 | FO19: =FO18+"00:15" -> 0.34375 | FP19: 66 | FQ19: 6 | FR19: 1 | FS19: 0 | FT19: 1 | FU19: 0 | FV19: 0 | FW19: =SUM(FP19:FV19) -> 74 | FX19: =FP19+FQ19+FR19*1.5+FS19*2.3+FT19*2+FU19*0.4+FV19*0.2 -> 75.5 | FY19: =FY18+"00:15" -> 0.34375 | FZ19: 75 | GA19: 18 | GB19: 1 | GC19: 2 | GD19: 1 | GE19: 0 | GF19: 0 | GG19: =SUM(FZ19:GF19) -> 97 | GH19: =FZ19+GA19+GB19*1.5+GC19*2.3+GD19*2+GE19*0.4+GF19*0.2 -> 101.1 | GI19: =GI18+"00:15" -> 0.34375 | GJ19: 1 | GK19: 0 | GL19: 0 | GM19: 0 | GN19: 0 | GO19: 0 | GP19: 0 | GQ19: =SUM(GJ19:GP19) -> 1 | GR19: =GJ19+GK19+GL19*1.5+GM19*2.3+GN19*2+GO19*0.4+GP19*0.2 -> 1 | GS19: =GS18+"00:15" -> 0.34375 | GT19: 155 | GU19: 18 | GV19: 3 | GW19: 1 | GX19: 0 | GY19: 0 | GZ19: 0 | HA19: =SUM(GT19:GZ19) -> 177 | HB19: =GT19+GU19+GV19*1.5+GW19*2.3+GX19*2+GY19*0.4+GZ19*0.2 -> 179.8 | HC19: =HC18+"00:15" -> 0.34375 | HD19: 0 | HE19: 0 | HF19: 0 | HG19: 0 | HH19: 0 | HI19: 0 | HJ19: 0 | HK19: =SUM(HD19:HJ19) -> 0 | HL19: =HD19+HE19+HF19*1.5+HG19*2.3+HH19*2+HI19*0.4+HJ19*0.2 -> 0 | HM19: =HM18+"00:15" -> 0.34375 | HN19: 172 | HO19: 5 | HP19: 0 | HQ19: 0 | HR19: 5 | HS19: 0 | HT19: 0 | HU19: =SUM(HN19:HT19) -> 182 | HV19: =HN19+HO19+HP19*1.5+HQ19*2.3+HR19*2+HS19*0.4+HT19*0.2 -> 187 | HW19: =HW18+"00:15" -> 0.34375 | HX19: 89 | HY19: 14 | HZ19: 2 | IA19: 2 | IB19: 0 | IC19: 2 | ID19: 0 | IE19: =SUM(HX19:ID19) -> 109 | IF19: =HX19+HY19+HZ19*1.5+IA19*2.3+IB19*2+IC19*0.4+ID19*0.2 -> 111.4 | IG19: =IG18+"00:15" -> 0.34375 | IH19: 0 | II19: 0 | IJ19: 0 | IK19: 0 | IL19: 0 | IM19: 0 | IN19: 0 | IO19: =SUM(IH19:IN19) -> 0 | IP19: =IH19+II19+IJ19*1.5+IK19*2.3+IL19*2+IM19*0.4+IN19*0.2 -> 0 | IQ19: =IQ18+"00:15" -> 0.34375 | IR19: =SUM(AP19,AZ19,DH19,FP19,HX19) -> 233 | IS19: =SUM(AQ19,BA19,DI19,FQ19,HY19) -> 33 | IT19: =SUM(AR19,BB19,DJ19,FR19,HZ19) -> 9 | IU19: =SUM(AS19,BC19,DK19,FS19,IA19) -> 3 | IV19: =SUM(AT19,BD19,DL19,FT19,IB19) -> 1 | IW19: =SUM(AU19,BE19,DM19,FU19,IC19) -> 2 | IX19: =SUM(AV19,BF19,DN19,FV19,ID19) -> 0 | IY19: =SUM(IR19:IX19) -> 281 | IZ19: =IR19+IS19+IT19*1.5+IU19*2.3+IV19*2+IW19*0.4+IX19*0.2 -> 289.2 | JA19: =JA18+"00:15" -> 0.34375 | JB19: =SUM(B19,L19,V19,AF19,AP19) -> 180 | JC19: =SUM(C19,M19,W19,AG19,AQ19) -> 24 | JD19: =SUM(D19,N19,X19,AH19,AR19) -> 8 | JE19: =SUM(E19,O19,Y19,AI19,AS19) -> 4 | JF19: =SUM(F19,P19,Z19,AJ19,AT19) -> 10 | JG19: =SUM(G19,Q19,AA19,AK19,AU19) -> 1 | JH19: =SUM(H19,R19,AB19,AL19,AV19) -> 0 | JI19: =SUM(JB19:JH19) -> 227 | JJ19: =JB19+JC19+JD19*1.5+JE19*2.3+JF19*2+JG19*0.4+JH19*0.2 -> 245.6 | JK19: =JK18+"00:15" -> 0.34375 | JL19: =SUM(AF19,CN19,CX19,FF19,HN19) -> 230 | JM19: =SUM(AG19,CO19,CY19,FG19,HO19) -> 15 | JN19: =SUM(AH19,CP19,CZ19,FH19,HP19) -> 5 | JO19: =SUM(AI19,CQ19,DA19,FI19,HQ19) -> 0 | JP19: =SUM(AJ19,CR19,DB19,FJ19,HR19) -> 5 | JQ19: =SUM(AK19,CS19,DC19,FK19,HS19) -> 0 | JR19: =SUM(AL19,CT19,DD19,FL19,HT19) -> 0 | JS19: =SUM(JL19:JR19) -> 255 | JT19: =JL19+JM19+JN19*1.5+JO19*2.3+JP19*2+JQ19*0.4+JR19*0.2 -> 262.5 | JU19: =JU18+"00:15" -> 0.34375 | JV19: =SUM(AZ19,BJ19,BT19,CD19,CN19) -> 162 | JW19: =SUM(BA19,BK19,BU19,CE19,CO19) -> 30 | JX19: =SUM(BB19,BL19,BV19,CF19,CP19) -> 7 | JY19: =SUM(BC19,BM19,BW19,CG19,CQ19) -> 1 | JZ19: =SUM(BD19,BN19,BX19,CH19,CR19) -> 0 | KA19: =SUM(BE19,BO19,BY19,CI19,CS19) -> 1 | KB19: =SUM(BF19,BP19,BZ19,CJ19,CT19) -> 0 | KC19: =SUM(JV19:KB19) -> 201 | KD19: =JV19+JW19+JX19*1.5+JY19*2.3+JZ19*2+KA19*0.4+KB19*0.2 -> 205.2 | KE19: =KE18+"00:15" -> 0.34375 | KF19: =SUM(V19,CD19,EL19,EV19,HD19) -> 176 | KG19: =SUM(W19,CE19,EM19,EW19,HE19) -> 38 | KH19: =SUM(X19,CF19,EN19,EX19,HF19) -> 3 | KI19: =SUM(Y19,CG19,EO19,EY19,HG19) -> 5 | KJ19: =SUM(Z19,CH19,EP19,EZ19,HH19) -> 2 | KK19: =SUM(AA19,CI19,EQ19,FA19,HI19) -> 1 | KL19: =SUM(AB19,CJ19,ER19,FB19,HJ19) -> 0 | KM19: =SUM(KF19:KL19) -> 225 | KN19: =KF19+KG19+KH19*1.5+KI19*2.3+KJ19*2+KK19*0.4+KL19*0.2 -> 234.4 | KO19: =KO18+"00:15" -> 0.34375 | KP19: =SUM(CX19,DH19,DR19,EB19,EL19) -> 167 | KQ19: =SUM(CY19,DI19,DS19,EC19,EM19) -> 29 | KR19: =SUM(CZ19,DJ19,DT19,ED19,EN19) -> 9 | KS19: =SUM(DA19,DK19,DU19,EE19,EO19) -> 3 | KT19: =SUM(DB19,DL19,DV19,EF19,EP19) -> 0 | KU19: =SUM(DC19,DM19,DW19,EG19,EQ19) -> 1 | KV19: =SUM(DD19,DN19,DX19,EH19,ER19) -> 0 | KW19: =SUM(KP19:KV19) -> 209 | KX19: =KP19+KQ19+KR19*1.5+KS19*2.3+KT19*2+KU19*0.4+KV19*0.2 -> 216.8 | KY19: =KY18+"00:15" -> 0.34375 | KZ19: =SUM(L19,BT19,EB19,GJ19,GT19) -> 333 | LA19: =SUM(M19,BU19,EC19,GK19,GU19) -> 43 | LB19: =SUM(N19,BV19,ED19,GL19,GV19) -> 11 | LC19: =SUM(O19,BW19,EE19,GM19,GW19) -> 3 | LD19: =SUM(P19,BX19,EF19,GN19,GX19) -> 6 | LE19: =SUM(Q19,BY19,EG19,GO19,GY19) -> 2 | LF19: =SUM(R19,BZ19,EH19,GP19,GZ19) -> 0 | LG19: =SUM(KZ19:LF19) -> 398 | LH19: =KZ19+LA19+LB19*1.5+LC19*2.3+LD19*2+LE19*0.4+LF19*0.2 -> 412.2 | LI19: =LI18+"00:15" -> 0.34375 | LJ19: =SUM(EV19,FF19,FP19,FZ19,GJ19) -> 279 | LK19: =SUM(EW19,FG19,FQ19,GA19,GK19) -> 54 | LL19: =SUM(EX19,FH19,FR19,GB19,GL19) -> 6 | LM19: =SUM(EY19,FI19,FS19,GC19,GM19) -> 4 | LN19: =SUM(EZ19,FJ19,FT19,GD19,GN19) -> 2 | LO19: =SUM(FA19,FK19,FU19,GE19,GO19) -> 1 | LP19: =SUM(FB19,FL19,FV19,GF19,GP19) -> 0 | LQ19: =SUM(LJ19:LP19) -> 346 | LR19: =LJ19+LK19+LL19*1.5+LM19*2.3+LN19*2+LO19*0.4+LP19*0.2 -> 355.6 | LS19: =LS18+"00:15" -> 0.34375 | LT19: =SUM(B19,BJ19,DR19,FZ19,IH19) -> 232 | LU19: =SUM(C19,BK19,DS19,GA19,II19) -> 45 | LV19: =SUM(D19,BL19,DT19,GB19,IJ19) -> 7 | LW19: =SUM(E19,BM19,DU19,GC19,IK19) -> 4 | LX19: =SUM(F19,BN19,DV19,GD19,IL19) -> 3 | LY19: =SUM(G19,BO19,DW19,GE19,IM19) -> 1 | LZ19: =SUM(H19,BP19,DX19,GF19,IN19) -> 0 | MA19: =SUM(LT19:LZ19) -> 292 | MB19: =LT19+LU19+LV19*1.5+LW19*2.3+LX19*2+LY19*0.4+LZ19*0.2 -> 303.1 | MC19: =MC18+"00:15" -> 0.34375 | MD19: =SUM(GT19,HD19,HN19,HX19,IH19) -> 416 | ME19: =SUM(GU19,HE19,HO19,HY19,II19) -> 37 | MF19: =SUM(GV19,HF19,HP19,HZ19,IJ19) -> 5 | MG19: =SUM(GW19,HG19,HQ19,IA19,IK19) -> 3 | MH19: =SUM(GX19,HH19,HR19,IB19,IL19) -> 5 | MI19: =SUM(GY19,HI19,HS19,IC19,IM19) -> 2 | MJ19: =SUM(GZ19,HJ19,HT19,ID19,IN19) -> 0 | MK19: =SUM(MD19:MJ19) -> 468 | ML19: =MD19+ME19+MF19*1.5+MG19*2.3+MH19*2+MI19*0.4+MJ19*0.2 -> 478.2 | MM19: =MM18+"00:15" -> 0.34375 | MN19: =SUM(IR19,JL19,KF19,KZ19,LT19) -> 1204 | MO19: =SUM(IS19,JM19,KG19,LA19,LU19) -> 174 | MP19: =SUM(IT19,JN19,KH19,LB19,LV19) -> 35 | MQ19: =SUM(IU19,JO19,KI19,LC19,LW19) -> 15 | MR19: =SUM(IV19,JP19,KJ19,LD19,LX19) -> 17 | MS19: =SUM(IW19,JQ19,KK19,LE19,LY19) -> 6 | MT19: =SUM(IX19,JR19,KL19,LF19,LZ19) -> 0 | MU19: =SUM(MN19:MT19) -> 1451 | MV19: =MN19+MO19+MP19*1.5+MQ19*2.3+MR19*2+MS19*0.4+MT19*0.2 -> 1501.4
A20: =A19+"00:15" -> 0.35416667 | B20: 73 | C20: 9 | D20: 5 | E20: 2 | F20: 4 | G20: 0 | H20: 0 | I20: =SUM(B20:H20) -> 93 | J20: =B20+C20+D20*1.5+E20*2.3+F20*2+G20*0.4+H20*0.2 -> 102.1 | K20: =K19+"00:15" -> 0.35416667 | L20: 39 | M20: 6 | N20: 3 | O20: 0 | P20: 3 | Q20: 0 | R20: 0 | S20: =SUM(L20:R20) -> 51 | T20: =L20+M20+N20*1.5+O20*2.3+P20*2+Q20*0.4+R20*0.2 -> 55.5 | U20: =U19+"00:15" -> 0.35416667 | V20: 59 | W20: 11 | X20: 2 | Y20: 2 | Z20: 1 | AA20: 0 | AB20: 0 | AC20: =SUM(V20:AB20) -> 75 | AD20: =V20+W20+X20*1.5+Y20*2.3+Z20*2+AA20*0.4+AB20*0.2 -> 79.6 | AE20: =AE19+"00:15" -> 0.35416667 | AF20: 7 | AG20: 1 | AH20: 0 | AI20: 0 | AJ20: 0 | AK20: 0 | AL20: 0 | AM20: =SUM(AF20:AL20) -> 8 | AN20: =AF20+AG20+AH20*1.5+AI20*2.3+AJ20*2+AK20*0.4+AL20*0.2 -> 8 | AO20: =AO19+"00:15" -> 0.35416667 | AP20: 0 | AQ20: 0 | AR20: 0 | AS20: 0 | AT20: 0 | AU20: 0 | AV20: 0 | AW20: =SUM(AP20:AV20) -> 0 | AX20: =AP20+AQ20+AR20*1.5+AS20*2.3+AT20*2+AU20*0.4+AV20*0.2 -> 0 | AY20: =AY19+"00:15" -> 0.35416667 | AZ20: 23 | BA20: 2 | BB20: 0 | BC20: 0 | BD20: 0 | BE20: 0 | BF20: 0 | BG20: =SUM(AZ20:BF20) -> 25 | BH20: =AZ20+BA20+BB20*1.5+BC20*2.3+BD20*2+BE20*0.4+BF20*0.2 -> 25 | BI20: =BI19+"00:15" -> 0.35416667 | BJ20: 114 | BK20: 12 | BL20: 6 | BM20: 3 | BN20: 0 | BO20: 0 | BP20: 0 | BQ20: =SUM(BJ20:BP20) -> 135 | BR20: =BJ20+BK20+BL20*1.5+BM20*2.3+BN20*2+BO20*0.4+BP20*0.2 -> 141.9 | BS20: =BS19+"00:15" -> 0.35416667 | BT20: 64 | BU20: 6 | BV20: 3 | BW20: 0 | BX20: 0 | BY20: 0 | BZ20: 0 | CA20: =SUM(BT20:BZ20) -> 73 | CB20: =BT20+BU20+BV20*1.5+BW20*2.3+BX20*2+BY20*0.4+BZ20*0.2 -> 74.5 | CC20: =CC19+"00:15" -> 0.35416667 | CD20: 13 | CE20: 3 | CF20: 0 | CG20: 1 | CH20: 0 | CI20: 0 | CJ20: 0 | CK20: =SUM(CD20:CJ20) -> 17 | CL20: =CD20+CE20+CF20*1.5+CG20*2.3+CH20*2+CI20*0.4+CJ20*0.2 -> 18.3 | CM20: =CM19+"00:15" -> 0.35416667 | CN20: 0 | CO20: 0 | CP20: 0 | CQ20: 0 | CR20: 0 | CS20: 0 | CT20: 0 | CU20: =SUM(CN20:CT20) -> 0 | CV20: =CN20+CO20+CP20*1.5+CQ20*2.3+CR20*2+CS20*0.4+CT20*0.2 -> 0 | CW20: =CW19+"00:15" -> 0.35416667 | CX20: 29 | CY20: 3 | CZ20: 0 | DA20: 0 | DB20: 0 | DC20: 0 | DD20: 0 | DE20: =SUM(CX20:DD20) -> 32 | DF20: =CX20+CY20+CZ20*1.5+DA20*2.3+DB20*2+DC20*0.4+DD20*0.2 -> 32 | DG20: =DG19+"00:15" -> 0.35416667 | DH20: 67 | DI20: 4 | DJ20: 5 | DK20: 2 | DL20: 0 | DM20: 0 | DN20: 0 | DO20: =SUM(DH20:DN20) -> 78 | DP20: =DH20+DI20+DJ20*1.5+DK20*2.3+DL20*2+DM20*0.4+DN20*0.2 -> 83.1 | DQ20: =DQ19+"00:15" -> 0.35416667 | DR20: 0 | DS20: 0 | DT20: 0 | DU20: 0 | DV20: 0 | DW20: 0 | DX20: 0 | DY20: =SUM(DR20:DX20) -> 0 | DZ20: =DR20+DS20+DT20*1.5+DU20*2.3+DV20*2+DW20*0.4+DX20*0.2 -> 0 | EA20: =EA19+"00:15" -> 0.35416667 | EB20: 58 | EC20: 24 | ED20: 4 | EE20: 1 | EF20: 0 | EG20: 0 | EH20: 0 | EI20: =SUM(EB20:EH20) -> 87 | EJ20: =EB20+EC20+ED20*1.5+EE20*2.3+EF20*2+EG20*0.4+EH20*0.2 -> 90.3 | EK20: =EK19+"00:15" -> 0.35416667 | EL20: 0 | EM20: 0 | EN20: 0 | EO20: 0 | EP20: 0 | EQ20: 0 | ER20: 0 | ES20: =SUM(EL20:ER20) -> 0 | ET20: =EL20+EM20+EN20*1.5+EO20*2.3+EP20*2+EQ20*0.4+ER20*0.2 -> 0 | EU20: =EU19+"00:15" -> 0.35416667 | EV20: 116 | EW20: 18 | EX20: 3 | EY20: 2 | EZ20: 0 | FA20: 1 | FB20: 0 | FC20: =SUM(EV20:FB20) -> 140 | FD20: =EV20+EW20+EX20*1.5+EY20*2.3+EZ20*2+FA20*0.4+FB20*0.2 -> 143.5 | FE20: =FE19+"00:15" -> 0.35416667 | FF20: 20 | FG20: 3 | FH20: 0 | FI20: 0 | FJ20: 0 | FK20: 1 | FL20: 0 | FM20: =SUM(FF20:FL20) -> 24 | FN20: =FF20+FG20+FH20*1.5+FI20*2.3+FJ20*2+FK20*0.4+FL20*0.2 -> 23.4 | FO20: =FO19+"00:15" -> 0.35416667 | FP20: 40 | FQ20: 3 | FR20: 3 | FS20: 0 | FT20: 0 | FU20: 0 | FV20: 1 | FW20: =SUM(FP20:FV20) -> 47 | FX20: =FP20+FQ20+FR20*1.5+FS20*2.3+FT20*2+FU20*0.4+FV20*0.2 -> 47.7 | FY20: =FY19+"00:15" -> 0.35416667 | FZ20: 84 | GA20: 12 | GB20: 3 | GC20: 2 | GD20: 2 | GE20: 0 | GF20: 0 | GG20: =SUM(FZ20:GF20) -> 103 | GH20: =FZ20+GA20+GB20*1.5+GC20*2.3+GD20*2+GE20*0.4+GF20*0.2 -> 109.1 | GI20: =GI19+"00:15" -> 0.35416667 | GJ20: 0 | GK20: 0 | GL20: 0 | GM20: 0 | GN20: 0 | GO20: 0 | GP20: 0 | GQ20: =SUM(GJ20:GP20) -> 0 | GR20: =GJ20+GK20+GL20*1.5+GM20*2.3+GN20*2+GO20*0.4+GP20*0.2 -> 0 | GS20: =GS19+"00:15" -> 0.35416667 | GT20: 156 | GU20: 19 | GV20: 3 | GW20: 1 | GX20: 0 | GY20: 0 | GZ20: 0 | HA20: =SUM(GT20:GZ20) -> 179 | HB20: =GT20+GU20+GV20*1.5+GW20*2.3+GX20*2+GY20*0.4+GZ20*0.2 -> 181.8 | HC20: =HC19+"00:15" -> 0.35416667 | HD20: 0 | HE20: 0 | HF20: 0 | HG20: 0 | HH20: 0 | HI20: 0 | HJ20: 0 | HK20: =SUM(HD20:HJ20) -> 0 | HL20: =HD20+HE20+HF20*1.5+HG20*2.3+HH20*2+HI20*0.4+HJ20*0.2 -> 0 | HM20: =HM19+"00:15" -> 0.35416667 | HN20: 141 | HO20: 11 | HP20: 2 | HQ20: 0 | HR20: 0 | HS20: 1 | HT20: 0 | HU20: =SUM(HN20:HT20) -> 155 | HV20: =HN20+HO20+HP20*1.5+HQ20*2.3+HR20*2+HS20*0.4+HT20*0.2 -> 155.4 | HW20: =HW19+"00:15" -> 0.35416667 | HX20: 81 | HY20: 12 | HZ20: 4 | IA20: 0 | IB20: 0 | IC20: 0 | ID20: 0 | IE20: =SUM(HX20:ID20) -> 97 | IF20: =HX20+HY20+HZ20*1.5+IA20*2.3+IB20*2+IC20*0.4+ID20*0.2 -> 99 | IG20: =IG19+"00:15" -> 0.35416667 | IH20: 0 | II20: 0 | IJ20: 0 | IK20: 0 | IL20: 0 | IM20: 0 | IN20: 0 | IO20: =SUM(IH20:IN20) -> 0 | IP20: =IH20+II20+IJ20*1.5+IK20*2.3+IL20*2+IM20*0.4+IN20*0.2 -> 0 | IQ20: =IQ19+"00:15" -> 0.35416667 | IR20: =SUM(AP20,AZ20,DH20,FP20,HX20) -> 211 | IS20: =SUM(AQ20,BA20,DI20,FQ20,HY20) -> 21 | IT20: =SUM(AR20,BB20,DJ20,FR20,HZ20) -> 12 | IU20: =SUM(AS20,BC20,DK20,FS20,IA20) -> 2 | IV20: =SUM(AT20,BD20,DL20,FT20,IB20) -> 0 | IW20: =SUM(AU20,BE20,DM20,FU20,IC20) -> 0 | IX20: =SUM(AV20,BF20,DN20,FV20,ID20) -> 1 | IY20: =SUM(IR20:IX20) -> 247 | IZ20: =IR20+IS20+IT20*1.5+IU20*2.3+IV20*2+IW20*0.4+IX20*0.2 -> 254.8 | JA20: =JA19+"00:15" -> 0.35416667 | JB20: =SUM(B20,L20,V20,AF20,AP20) -> 178 | JC20: =SUM(C20,M20,W20,AG20,AQ20) -> 27 | JD20: =SUM(D20,N20,X20,AH20,AR20) -> 10 | JE20: =SUM(E20,O20,Y20,AI20,AS20) -> 4 | JF20: =SUM(F20,P20,Z20,AJ20,AT20) -> 8 | JG20: =SUM(G20,Q20,AA20,AK20,AU20) -> 0 | JH20: =SUM(H20,R20,AB20,AL20,AV20) -> 0 | JI20: =SUM(JB20:JH20) -> 227 | JJ20: =JB20+JC20+JD20*1.5+JE20*2.3+JF20*2+JG20*0.4+JH20*0.2 -> 245.2 | JK20: =JK19+"00:15" -> 0.35416667 | JL20: =SUM(AF20,CN20,CX20,FF20,HN20) -> 197 | JM20: =SUM(AG20,CO20,CY20,FG20,HO20) -> 18 | JN20: =SUM(AH20,CP20,CZ20,FH20,HP20) -> 2 | JO20: =SUM(AI20,CQ20,DA20,FI20,HQ20) -> 0 | JP20: =SUM(AJ20,CR20,DB20,FJ20,HR20) -> 0 | JQ20: =SUM(AK20,CS20,DC20,FK20,HS20) -> 2 | JR20: =SUM(AL20,CT20,DD20,FL20,HT20) -> 0 | JS20: =SUM(JL20:JR20) -> 219 | JT20: =JL20+JM20+JN20*1.5+JO20*2.3+JP20*2+JQ20*0.4+JR20*0.2 -> 218.8 | JU20: =JU19+"00:15" -> 0.35416667 | JV20: =SUM(AZ20,BJ20,BT20,CD20,CN20) -> 214 | JW20: =SUM(BA20,BK20,BU20,CE20,CO20) -> 23 | JX20: =SUM(BB20,BL20,BV20,CF20,CP20) -> 9 | JY20: =SUM(BC20,BM20,BW20,CG20,CQ20) -> 4 | JZ20: =SUM(BD20,BN20,BX20,CH20,CR20) -> 0 | KA20: =SUM(BE20,BO20,BY20,CI20,CS20) -> 0 | KB20: =SUM(BF20,BP20,BZ20,CJ20,CT20) -> 0 | KC20: =SUM(JV20:KB20) -> 250 | KD20: =JV20+JW20+JX20*1.5+JY20*2.3+JZ20*2+KA20*0.4+KB20*0.2 -> 259.7 | KE20: =KE19+"00:15" -> 0.35416667 | KF20: =SUM(V20,CD20,EL20,EV20,HD20) -> 188 | KG20: =SUM(W20,CE20,EM20,EW20,HE20) -> 32 | KH20: =SUM(X20,CF20,EN20,EX20,HF20) -> 5 | KI20: =SUM(Y20,CG20,EO20,EY20,HG20) -> 5 | KJ20: =SUM(Z20,CH20,EP20,EZ20,HH20) -> 1 | KK20: =SUM(AA20,CI20,EQ20,FA20,HI20) -> 1 | KL20: =SUM(AB20,CJ20,ER20,FB20,HJ20) -> 0 | KM20: =SUM(KF20:KL20) -> 232 | KN20: =KF20+KG20+KH20*1.5+KI20*2.3+KJ20*2+KK20*0.4+KL20*0.2 -> 241.4 | KO20: =KO19+"00:15" -> 0.35416667 | KP20: =SUM(CX20,DH20,DR20,EB20,EL20) -> 154 | KQ20: =SUM(CY20,DI20,DS20,EC20,EM20) -> 31 | KR20: =SUM(CZ20,DJ20,DT20,ED20,EN20) -> 9 | KS20: =SUM(DA20,DK20,DU20,EE20,EO20) -> 3 | KT20: =SUM(DB20,DL20,DV20,EF20,EP20) -> 0 | KU20: =SUM(DC20,DM20,DW20,EG20,EQ20) -> 0 | KV20: =SUM(DD20,DN20,DX20,EH20,ER20) -> 0 | KW20: =SUM(KP20:KV20) -> 197 | KX20: =KP20+KQ20+KR20*1.5+KS20*2.3+KT20*2+KU20*0.4+KV20*0.2 -> 205.4 | KY20: =KY19+"00:15" -> 0.35416667 | KZ20: =SUM(L20,BT20,EB20,GJ20,GT20) -> 317 | LA20: =SUM(M20,BU20,EC20,GK20,GU20) -> 55 | LB20: =SUM(N20,BV20,ED20,GL20,GV20) -> 13 | LC20: =SUM(O20,BW20,EE20,GM20,GW20) -> 2 | LD20: =SUM(P20,BX20,EF20,GN20,GX20) -> 3 | LE20: =SUM(Q20,BY20,EG20,GO20,GY20) -> 0 | LF20: =SUM(R20,BZ20,EH20,GP20,GZ20) -> 0 | LG20: =SUM(KZ20:LF20) -> 390 | LH20: =KZ20+LA20+LB20*1.5+LC20*2.3+LD20*2+LE20*0.4+LF20*0.2 -> 402.1 | LI20: =LI19+"00:15" -> 0.35416667 | LJ20: =SUM(EV20,FF20,FP20,FZ20,GJ20) -> 260 | LK20: =SUM(EW20,FG20,FQ20,GA20,GK20) -> 36 | LL20: =SUM(EX20,FH20,FR20,GB20,GL20) -> 9 | LM20: =SUM(EY20,FI20,FS20,GC20,GM20) -> 4 | LN20: =SUM(EZ20,FJ20,FT20,GD20,GN20) -> 2 | LO20: =SUM(FA20,FK20,FU20,GE20,GO20) -> 2 | LP20: =SUM(FB20,FL20,FV20,GF20,GP20) -> 1 | LQ20: =SUM(LJ20:LP20) -> 314 | LR20: =LJ20+LK20+LL20*1.5+LM20*2.3+LN20*2+LO20*0.4+LP20*0.2 -> 323.7 | LS20: =LS19+"00:15" -> 0.35416667 | LT20: =SUM(B20,BJ20,DR20,FZ20,IH20) -> 271 | LU20: =SUM(C20,BK20,DS20,GA20,II20) -> 33 | LV20: =SUM(D20,BL20,DT20,GB20,IJ20) -> 14 | LW20: =SUM(E20,BM20,DU20,GC20,IK20) -> 7 | LX20: =SUM(F20,BN20,DV20,GD20,IL20) -> 6 | LY20: =SUM(G20,BO20,DW20,GE20,IM20) -> 0 | LZ20: =SUM(H20,BP20,DX20,GF20,IN20) -> 0 | MA20: =SUM(LT20:LZ20) -> 331 | MB20: =LT20+LU20+LV20*1.5+LW20*2.3+LX20*2+LY20*0.4+LZ20*0.2 -> 353.1 | MC20: =MC19+"00:15" -> 0.35416667 | MD20: =SUM(GT20,HD20,HN20,HX20,IH20) -> 378 | ME20: =SUM(GU20,HE20,HO20,HY20,II20) -> 42 | MF20: =SUM(GV20,HF20,HP20,HZ20,IJ20) -> 9 | MG20: =SUM(GW20,HG20,HQ20,IA20,IK20) -> 1 | MH20: =SUM(GX20,HH20,HR20,IB20,IL20) -> 0 | MI20: =SUM(GY20,HI20,HS20,IC20,IM20) -> 1 | MJ20: =SUM(GZ20,HJ20,HT20,ID20,IN20) -> 0 | MK20: =SUM(MD20:MJ20) -> 431 | ML20: =MD20+ME20+MF20*1.5+MG20*2.3+MH20*2+MI20*0.4+MJ20*0.2 -> 436.2 | MM20: =MM19+"00:15" -> 0.35416667 | MN20: =SUM(IR20,JL20,KF20,KZ20,LT20) -> 1184 | MO20: =SUM(IS20,JM20,KG20,LA20,LU20) -> 159 | MP20: =SUM(IT20,JN20,KH20,LB20,LV20) -> 46 | MQ20: =SUM(IU20,JO20,KI20,LC20,LW20) -> 16 | MR20: =SUM(IV20,JP20,KJ20,LD20,LX20) -> 10 | MS20: =SUM(IW20,JQ20,KK20,LE20,LY20) -> 3 | MT20: =SUM(IX20,JR20,KL20,LF20,LZ20) -> 1 | MU20: =SUM(MN20:MT20) -> 1419 | MV20: =MN20+MO20+MP20*1.5+MQ20*2.3+MR20*2+MS20*0.4+MT20*0.2 -> 1470.2
A21: =A20+"00:15" -> 0.36458333 | B21: 71 | C21: 12 | D21: 4 | E21: 2 | F21: 0 | G21: 0 | H21: 0 | I21: =SUM(B21:H21) -> 89 | J21: =B21+C21+D21*1.5+E21*2.3+F21*2+G21*0.4+H21*0.2 -> 93.6 | K21: =K20+"00:15" -> 0.36458333 | L21: 47 | M21: 6 | N21: 5 | O21: 0 | P21: 1 | Q21: 1 | R21: 0 | S21: =SUM(L21:R21) -> 60 | T21: =L21+M21+N21*1.5+O21*2.3+P21*2+Q21*0.4+R21*0.2 -> 62.9 | U21: =U20+"00:15" -> 0.36458333 | V21: 55 | W21: 11 | X21: 3 | Y21: 3 | Z21: 0 | AA21: 0 | AB21: 0 | AC21: =SUM(V21:AB21) -> 72 | AD21: =V21+W21+X21*1.5+Y21*2.3+Z21*2+AA21*0.4+AB21*0.2 -> 77.4 | AE21: =AE20+"00:15" -> 0.36458333 | AF21: 10 | AG21: 5 | AH21: 0 | AI21: 0 | AJ21: 0 | AK21: 0 | AL21: 0 | AM21: =SUM(AF21:AL21) -> 15 | AN21: =AF21+AG21+AH21*1.5+AI21*2.3+AJ21*2+AK21*0.4+AL21*0.2 -> 15 | AO21: =AO20+"00:15" -> 0.36458333 | AP21: 0 | AQ21: 0 | AR21: 0 | AS21: 0 | AT21: 0 | AU21: 0 | AV21: 0 | AW21: =SUM(AP21:AV21) -> 0 | AX21: =AP21+AQ21+AR21*1.5+AS21*2.3+AT21*2+AU21*0.4+AV21*0.2 -> 0 | AY21: =AY20+"00:15" -> 0.36458333 | AZ21: 24 | BA21: 5 | BB21: 1 | BC21: 0 | BD21: 0 | BE21: 0 | BF21: 0 | BG21: =SUM(AZ21:BF21) -> 30 | BH21: =AZ21+BA21+BB21*1.5+BC21*2.3+BD21*2+BE21*0.4+BF21*0.2 -> 30.5 | BI21: =BI20+"00:15" -> 0.36458333 | BJ21: 94 | BK21: 20 | BL21: 1 | BM21: 0 | BN21: 0 | BO21: 0 | BP21: 0 | BQ21: =SUM(BJ21:BP21) -> 115 | BR21: =BJ21+BK21+BL21*1.5+BM21*2.3+BN21*2+BO21*0.4+BP21*0.2 -> 115.5 | BS21: =BS20+"00:15" -> 0.36458333 | BT21: 44 | BU21: 9 | BV21: 1 | BW21: 0 | BX21: 0 | BY21: 0 | BZ21: 0 | CA21: =SUM(BT21:BZ21) -> 54 | CB21: =BT21+BU21+BV21*1.5+BW21*2.3+BX21*2+BY21*0.4+BZ21*0.2 -> 54.5 | CC21: =CC20+"00:15" -> 0.36458333 | CD21: 17 | CE21: 5 | CF21: 0 | CG21: 0 | CH21: 0 | CI21: 0 | CJ21: 0 | CK21: =SUM(CD21:CJ21) -> 22 | CL21: =CD21+CE21+CF21*1.5+CG21*2.3+CH21*2+CI21*0.4+CJ21*0.2 -> 22 | CM21: =CM20+"00:15" -> 0.36458333 | CN21: 0 | CO21: 0 | CP21: 0 | CQ21: 0 | CR21: 0 | CS21: 0 | CT21: 0 | CU21: =SUM(CN21:CT21) -> 0 | CV21: =CN21+CO21+CP21*1.5+CQ21*2.3+CR21*2+CS21*0.4+CT21*0.2 -> 0 | CW21: =CW20+"00:15" -> 0.36458333 | CX21: 35 | CY21: 1 | CZ21: 1 | DA21: 0 | DB21: 0 | DC21: 0 | DD21: 0 | DE21: =SUM(CX21:DD21) -> 37 | DF21: =CX21+CY21+CZ21*1.5+DA21*2.3+DB21*2+DC21*0.4+DD21*0.2 -> 37.5 | DG21: =DG20+"00:15" -> 0.36458333 | DH21: 77 | DI21: 11 | DJ21: 3 | DK21: 0 | DL21: 0 | DM21: 1 | DN21: 0 | DO21: =SUM(DH21:DN21) -> 92 | DP21: =DH21+DI21+DJ21*1.5+DK21*2.3+DL21*2+DM21*0.4+DN21*0.2 -> 92.9 | DQ21: =DQ20+"00:15" -> 0.36458333 | DR21: 0 | DS21: 0 | DT21: 0 | DU21: 0 | DV21: 0 | DW21: 0 | DX21: 0 | DY21: =SUM(DR21:DX21) -> 0 | DZ21: =DR21+DS21+DT21*1.5+DU21*2.3+DV21*2+DW21*0.4+DX21*0.2 -> 0 | EA21: =EA20+"00:15" -> 0.36458333 | EB21: 50 | EC21: 15 | ED21: 4 | EE21: 2 | EF21: 0 | EG21: 2 | EH21: 0 | EI21: =SUM(EB21:EH21) -> 73 | EJ21: =EB21+EC21+ED21*1.5+EE21*2.3+EF21*2+EG21*0.4+EH21*0.2 -> 76.4 | EK21: =EK20+"00:15" -> 0.36458333 | EL21: 0 | EM21: 0 | EN21: 0 | EO21: 0 | EP21: 0 | EQ21: 0 | ER21: 0 | ES21: =SUM(EL21:ER21) -> 0 | ET21: =EL21+EM21+EN21*1.5+EO21*2.3+EP21*2+EQ21*0.4+ER21*0.2 -> 0 | EU21: =EU20+"00:15" -> 0.36458333 | EV21: 73 | EW21: 18 | EX21: 7 | EY21: 4 | EZ21: 0 | FA21: 0 | FB21: 0 | FC21: =SUM(EV21:FB21) -> 102 | FD21: =EV21+EW21+EX21*1.5+EY21*2.3+EZ21*2+FA21*0.4+FB21*0.2 -> 110.7 | FE21: =FE20+"00:15" -> 0.36458333 | FF21: 24 | FG21: 2 | FH21: 1 | FI21: 0 | FJ21: 0 | FK21: 0 | FL21: 0 | FM21: =SUM(FF21:FL21) -> 27 | FN21: =FF21+FG21+FH21*1.5+FI21*2.3+FJ21*2+FK21*0.4+FL21*0.2 -> 27.5 | FO21: =FO20+"00:15" -> 0.36458333 | FP21: 41 | FQ21: 5 | FR21: 2 | FS21: 0 | FT21: 0 | FU21: 1 | FV21: 0 | FW21: =SUM(FP21:FV21) -> 49 | FX21: =FP21+FQ21+FR21*1.5+FS21*2.3+FT21*2+FU21*0.4+FV21*0.2 -> 49.4 | FY21: =FY20+"00:15" -> 0.36458333 | FZ21: 80 | GA21: 6 | GB21: 3 | GC21: 4 | GD21: 0 | GE21: 1 | GF21: 0 | GG21: =SUM(FZ21:GF21) -> 94 | GH21: =FZ21+GA21+GB21*1.5+GC21*2.3+GD21*2+GE21*0.4+GF21*0.2 -> 100.1 | GI21: =GI20+"00:15" -> 0.36458333 | GJ21: 0 | GK21: 0 | GL21: 0 | GM21: 0 | GN21: 0 | GO21: 0 | GP21: 0 | GQ21: =SUM(GJ21:GP21) -> 0 | GR21: =GJ21+GK21+GL21*1.5+GM21*2.3+GN21*2+GO21*0.4+GP21*0.2 -> 0 | GS21: =GS20+"00:15" -> 0.36458333 | GT21: 134 | GU21: 19 | GV21: 5 | GW21: 2 | GX21: 0 | GY21: 0 | GZ21: 0 | HA21: =SUM(GT21:GZ21) -> 160 | HB21: =GT21+GU21+GV21*1.5+GW21*2.3+GX21*2+GY21*0.4+GZ21*0.2 -> 165.1 | HC21: =HC20+"00:15" -> 0.36458333 | HD21: 0 | HE21: 0 | HF21: 0 | HG21: 0 | HH21: 0 | HI21: 0 | HJ21: 0 | HK21: =SUM(HD21:HJ21) -> 0 | HL21: =HD21+HE21+HF21*1.5+HG21*2.3+HH21*2+HI21*0.4+HJ21*0.2 -> 0 | HM21: =HM20+"00:15" -> 0.36458333 | HN21: 130 | HO21: 12 | HP21: 1 | HQ21: 2 | HR21: 0 | HS21: 0 | HT21: 0 | HU21: =SUM(HN21:HT21) -> 145 | HV21: =HN21+HO21+HP21*1.5+HQ21*2.3+HR21*2+HS21*0.4+HT21*0.2 -> 148.1 | HW21: =HW20+"00:15" -> 0.36458333 | HX21: 67 | HY21: 15 | HZ21: 4 | IA21: 0 | IB21: 0 | IC21: 1 | ID21: 0 | IE21: =SUM(HX21:ID21) -> 87 | IF21: =HX21+HY21+HZ21*1.5+IA21*2.3+IB21*2+IC21*0.4+ID21*0.2 -> 88.4 | IG21: =IG20+"00:15" -> 0.36458333 | IH21: 0 | II21: 0 | IJ21: 0 | IK21: 0 | IL21: 0 | IM21: 0 | IN21: 0 | IO21: =SUM(IH21:IN21) -> 0 | IP21: =IH21+II21+IJ21*1.5+IK21*2.3+IL21*2+IM21*0.4+IN21*0.2 -> 0 | IQ21: =IQ20+"00:15" -> 0.36458333 | IR21: =SUM(AP21,AZ21,DH21,FP21,HX21) -> 209 | IS21: =SUM(AQ21,BA21,DI21,FQ21,HY21) -> 36 | IT21: =SUM(AR21,BB21,DJ21,FR21,HZ21) -> 10 | IU21: =SUM(AS21,BC21,DK21,FS21,IA21) -> 0 | IV21: =SUM(AT21,BD21,DL21,FT21,IB21) -> 0 | IW21: =SUM(AU21,BE21,DM21,FU21,IC21) -> 3 | IX21: =SUM(AV21,BF21,DN21,FV21,ID21) -> 0 | IY21: =SUM(IR21:IX21) -> 258 | IZ21: =IR21+IS21+IT21*1.5+IU21*2.3+IV21*2+IW21*0.4+IX21*0.2 -> 261.2 | JA21: =JA20+"00:15" -> 0.36458333 | JB21: =SUM(B21,L21,V21,AF21,AP21) -> 183 | JC21: =SUM(C21,M21,W21,AG21,AQ21) -> 34 | JD21: =SUM(D21,N21,X21,AH21,AR21) -> 12 | JE21: =SUM(E21,O21,Y21,AI21,AS21) -> 5 | JF21: =SUM(F21,P21,Z21,AJ21,AT21) -> 1 | JG21: =SUM(G21,Q21,AA21,AK21,AU21) -> 1 | JH21: =SUM(H21,R21,AB21,AL21,AV21) -> 0 | JI21: =SUM(JB21:JH21) -> 236 | JJ21: =JB21+JC21+JD21*1.5+JE21*2.3+JF21*2+JG21*0.4+JH21*0.2 -> 248.9 | JK21: =JK20+"00:15" -> 0.36458333 | JL21: =SUM(AF21,CN21,CX21,FF21,HN21) -> 199 | JM21: =SUM(AG21,CO21,CY21,FG21,HO21) -> 20 | JN21: =SUM(AH21,CP21,CZ21,FH21,HP21) -> 3 | JO21: =SUM(AI21,CQ21,DA21,FI21,HQ21) -> 2 | JP21: =SUM(AJ21,CR21,DB21,FJ21,HR21) -> 0 | JQ21: =SUM(AK21,CS21,DC21,FK21,HS21) -> 0 | JR21: =SUM(AL21,CT21,DD21,FL21,HT21) -> 0 | JS21: =SUM(JL21:JR21) -> 224 | JT21: =JL21+JM21+JN21*1.5+JO21*2.3+JP21*2+JQ21*0.4+JR21*0.2 -> 228.1 | JU21: =JU20+"00:15" -> 0.36458333 | JV21: =SUM(AZ21,BJ21,BT21,CD21,CN21) -> 179 | JW21: =SUM(BA21,BK21,BU21,CE21,CO21) -> 39 | JX21: =SUM(BB21,BL21,BV21,CF21,CP21) -> 3 | JY21: =SUM(BC21,BM21,BW21,CG21,CQ21) -> 0 | JZ21: =SUM(BD21,BN21,BX21,CH21,CR21) -> 0 | KA21: =SUM(BE21,BO21,BY21,CI21,CS21) -> 0 | KB21: =SUM(BF21,BP21,BZ21,CJ21,CT21) -> 0 | KC21: =SUM(JV21:KB21) -> 221 | KD21: =JV21+JW21+JX21*1.5+JY21*2.3+JZ21*2+KA21*0.4+KB21*0.2 -> 222.5 | KE21: =KE20+"00:15" -> 0.36458333 | KF21: =SUM(V21,CD21,EL21,EV21,HD21) -> 145 | KG21: =SUM(W21,CE21,EM21,EW21,HE21) -> 34 | KH21: =SUM(X21,CF21,EN21,EX21,HF21) -> 10 | KI21: =SUM(Y21,CG21,EO21,EY21,HG21) -> 7 | KJ21: =SUM(Z21,CH21,EP21,EZ21,HH21) -> 0 | KK21: =SUM(AA21,CI21,EQ21,FA21,HI21) -> 0 | KL21: =SUM(AB21,CJ21,ER21,FB21,HJ21) -> 0 | KM21: =SUM(KF21:KL21) -> 196 | KN21: =KF21+KG21+KH21*1.5+KI21*2.3+KJ21*2+KK21*0.4+KL21*0.2 -> 210.1 | KO21: =KO20+"00:15" -> 0.36458333 | KP21: =SUM(CX21,DH21,DR21,EB21,EL21) -> 162 | KQ21: =SUM(CY21,DI21,DS21,EC21,EM21) -> 27 | KR21: =SUM(CZ21,DJ21,DT21,ED21,EN21) -> 8 | KS21: =SUM(DA21,DK21,DU21,EE21,EO21) -> 2 | KT21: =SUM(DB21,DL21,DV21,EF21,EP21) -> 0 | KU21: =SUM(DC21,DM21,DW21,EG21,EQ21) -> 3 | KV21: =SUM(DD21,DN21,DX21,EH21,ER21) -> 0 | KW21: =SUM(KP21:KV21) -> 202 | KX21: =KP21+KQ21+KR21*1.5+KS21*2.3+KT21*2+KU21*0.4+KV21*0.2 -> 206.8 | KY21: =KY20+"00:15" -> 0.36458333 | KZ21: =SUM(L21,BT21,EB21,GJ21,GT21) -> 275 | LA21: =SUM(M21,BU21,EC21,GK21,GU21) -> 49 | LB21: =SUM(N21,BV21,ED21,GL21,GV21) -> 15 | LC21: =SUM(O21,BW21,EE21,GM21,GW21) -> 4 | LD21: =SUM(P21,BX21,EF21,GN21,GX21) -> 1 | LE21: =SUM(Q21,BY21,EG21,GO21,GY21) -> 3 | LF21: =SUM(R21,BZ21,EH21,GP21,GZ21) -> 0 | LG21: =SUM(KZ21:LF21) -> 347 | LH21: =KZ21+LA21+LB21*1.5+LC21*2.3+LD21*2+LE21*0.4+LF21*0.2 -> 358.9 | LI21: =LI20+"00:15" -> 0.36458333 | LJ21: =SUM(EV21,FF21,FP21,FZ21,GJ21) -> 218 | LK21: =SUM(EW21,FG21,FQ21,GA21,GK21) -> 31 | LL21: =SUM(EX21,FH21,FR21,GB21,GL21) -> 13 | LM21: =SUM(EY21,FI21,FS21,GC21,GM21) -> 8 | LN21: =SUM(EZ21,FJ21,FT21,GD21,GN21) -> 0 | LO21: =SUM(FA21,FK21,FU21,GE21,GO21) -> 2 | LP21: =SUM(FB21,FL21,FV21,GF21,GP21) -> 0 | LQ21: =SUM(LJ21:LP21) -> 272 | LR21: =LJ21+LK21+LL21*1.5+LM21*2.3+LN21*2+LO21*0.4+LP21*0.2 -> 287.7 | LS21: =LS20+"00:15" -> 0.36458333 | LT21: =SUM(B21,BJ21,DR21,FZ21,IH21) -> 245 | LU21: =SUM(C21,BK21,DS21,GA21,II21) -> 38 | LV21: =SUM(D21,BL21,DT21,GB21,IJ21) -> 8 | LW21: =SUM(E21,BM21,DU21,GC21,IK21) -> 6 | LX21: =SUM(F21,BN21,DV21,GD21,IL21) -> 0 | LY21: =SUM(G21,BO21,DW21,GE21,IM21) -> 1 | LZ21: =SUM(H21,BP21,DX21,GF21,IN21) -> 0 | MA21: =SUM(LT21:LZ21) -> 298 | MB21: =LT21+LU21+LV21*1.5+LW21*2.3+LX21*2+LY21*0.4+LZ21*0.2 -> 309.2 | MC21: =MC20+"00:15" -> 0.36458333 | MD21: =SUM(GT21,HD21,HN21,HX21,IH21) -> 331 | ME21: =SUM(GU21,HE21,HO21,HY21,II21) -> 46 | MF21: =SUM(GV21,HF21,HP21,HZ21,IJ21) -> 10 | MG21: =SUM(GW21,HG21,HQ21,IA21,IK21) -> 4 | MH21: =SUM(GX21,HH21,HR21,IB21,IL21) -> 0 | MI21: =SUM(GY21,HI21,HS21,IC21,IM21) -> 1 | MJ21: =SUM(GZ21,HJ21,HT21,ID21,IN21) -> 0 | MK21: =SUM(MD21:MJ21) -> 392 | ML21: =MD21+ME21+MF21*1.5+MG21*2.3+MH21*2+MI21*0.4+MJ21*0.2 -> 401.6 | MM21: =MM20+"00:15" -> 0.36458333 | MN21: =SUM(IR21,JL21,KF21,KZ21,LT21) -> 1073 | MO21: =SUM(IS21,JM21,KG21,LA21,LU21) -> 177 | MP21: =SUM(IT21,JN21,KH21,LB21,LV21) -> 46 | MQ21: =SUM(IU21,JO21,KI21,LC21,LW21) -> 19 | MR21: =SUM(IV21,JP21,KJ21,LD21,LX21) -> 1 | MS21: =SUM(IW21,JQ21,KK21,LE21,LY21) -> 7 | MT21: =SUM(IX21,JR21,KL21,LF21,LZ21) -> 0 | MU21: =SUM(MN21:MT21) -> 1323 | MV21: =MN21+MO21+MP21*1.5+MQ21*2.3+MR21*2+MS21*0.4+MT21*0.2 -> 1367.5
A22: H/TOT | B22: =SUM(B18:B21) -> 274 | C22: =SUM(C18:C21) -> 43 | D22: =SUM(D18:D21) -> 13 | E22: =SUM(E18:E21) -> 7 | F22: =SUM(F18:F21) -> 6 | G22: =SUM(G18:G21) -> 1 | H22: =SUM(H18:H21) -> 0 | I22: =SUM(I18:I21) -> 344 | J22: =SUM(J18:J21) -> 365 | K22: H/TOT | L22: =SUM(L18:L21) -> 193 | M22: =SUM(M18:M21) -> 17 | N22: =SUM(N18:N21) -> 13 | O22: =SUM(O18:O21) -> 0 | P22: =SUM(P18:P21) -> 10 | Q22: =SUM(Q18:Q21) -> 2 | R22: =SUM(R18:R21) -> 0 | S22: =SUM(S18:S21) -> 235 | T22: =SUM(T18:T21) -> 250.3 | U22: H/TOT | V22: =SUM(V18:V21) -> 221 | W22: =SUM(W18:W21) -> 48 | X22: =SUM(X18:X21) -> 7 | Y22: =SUM(Y18:Y21) -> 11 | Z22: =SUM(Z18:Z21) -> 3 | AA22: =SUM(AA18:AA21) -> 0 | AB22: =SUM(AB18:AB21) -> 0 | AC22: =SUM(AC18:AC21) -> 290 | AD22: =SUM(AD18:AD21) -> 310.8 | AE22: H/TOT | AF22: =SUM(AF18:AF21) -> 30 | AG22: =SUM(AG18:AG21) -> 10 | AH22: =SUM(AH18:AH21) -> 1 | AI22: =SUM(AI18:AI21) -> 0 | AJ22: =SUM(AJ18:AJ21) -> 0 | AK22: =SUM(AK18:AK21) -> 0 | AL22: =SUM(AL18:AL21) -> 0 | AM22: =SUM(AM18:AM21) -> 41 | AN22: =SUM(AN18:AN21) -> 41.5 | AO22: H/TOT | AP22: =SUM(AP18:AP21) -> 0 | AQ22: =SUM(AQ18:AQ21) -> 0 | AR22: =SUM(AR18:AR21) -> 0 | AS22: =SUM(AS18:AS21) -> 0 | AT22: =SUM(AT18:AT21) -> 0 | AU22: =SUM(AU18:AU21) -> 0 | AV22: =SUM(AV18:AV21) -> 0 | AW22: =SUM(AW18:AW21) -> 0 | AX22: =SUM(AX18:AX21) -> 0 | AY22: H/TOT | AZ22: =SUM(AZ18:AZ21) -> 78 | BA22: =SUM(BA18:BA21) -> 12 | BB22: =SUM(BB18:BB21) -> 3 | BC22: =SUM(BC18:BC21) -> 0 | BD22: =SUM(BD18:BD21) -> 0 | BE22: =SUM(BE18:BE21) -> 0 | BF22: =SUM(BF18:BF21) -> 0 | BG22: =SUM(BG18:BG21) -> 93 | BH22: =SUM(BH18:BH21) -> 94.5 | BI22: H/TOT | BJ22: =SUM(BJ18:BJ21) -> 413 | BK22: =SUM(BK18:BK21) -> 65 | BL22: =SUM(BL18:BL21) -> 18 | BM22: =SUM(BM18:BM21) -> 5 | BN22: =SUM(BN18:BN21) -> 0 | BO22: =SUM(BO18:BO21) -> 1 | BP22: =SUM(BP18:BP21) -> 0 | BQ22: =SUM(BQ18:BQ21) -> 502 | BR22: =SUM(BR18:BR21) -> 516.9 | BS22: H/TOT | BT22: =SUM(BT18:BT21) -> 196 | BU22: =SUM(BU18:BU21) -> 30 | BV22: =SUM(BV18:BV21) -> 7 | BW22: =SUM(BW18:BW21) -> 1 | BX22: =SUM(BX18:BX21) -> 0 | BY22: =SUM(BY18:BY21) -> 0 | BZ22: =SUM(BZ18:BZ21) -> 0 | CA22: =SUM(CA18:CA21) -> 234 | CB22: =SUM(CB18:CB21) -> 238.8 | CC22: H/TOT | CD22: =SUM(CD18:CD21) -> 52 | CE22: =SUM(CE18:CE21) -> 16 | CF22: =SUM(CF18:CF21) -> 0 | CG22: =SUM(CG18:CG21) -> 2 | CH22: =SUM(CH18:CH21) -> 0 | CI22: =SUM(CI18:CI21) -> 1 | CJ22: =SUM(CJ18:CJ21) -> 0 | CK22: =SUM(CK18:CK21) -> 71 | CL22: =SUM(CL18:CL21) -> 73 | CM22: H/TOT | CN22: =SUM(CN18:CN21) -> 0 | CO22: =SUM(CO18:CO21) -> 0 | CP22: =SUM(CP18:CP21) -> 0 | CQ22: =SUM(CQ18:CQ21) -> 0 | CR22: =SUM(CR18:CR21) -> 0 | CS22: =SUM(CS18:CS21) -> 0 | CT22: =SUM(CT18:CT21) -> 0 | CU22: =SUM(CU18:CU21) -> 0 | CV22: =SUM(CV18:CV21) -> 0 | CW22: H/TOT | CX22: =SUM(CX18:CX21) -> 119 | CY22: =SUM(CY18:CY21) -> 8 | CZ22: =SUM(CZ18:CZ21) -> 2 | DA22: =SUM(DA18:DA21) -> 0 | DB22: =SUM(DB18:DB21) -> 4 | DC22: =SUM(DC18:DC21) -> 0 | DD22: =SUM(DD18:DD21) -> 0 | DE22: =SUM(DE18:DE21) -> 133 | DF22: =SUM(DF18:DF21) -> 138 | DG22: H/TOT | DH22: =SUM(DH18:DH21) -> 283 | DI22: =SUM(DI18:DI21) -> 37 | DJ22: =SUM(DJ18:DJ21) -> 18 | DK22: =SUM(DK18:DK21) -> 5 | DL22: =SUM(DL18:DL21) -> 0 | DM22: =SUM(DM18:DM21) -> 2 | DN22: =SUM(DN18:DN21) -> 0 | DO22: =SUM(DO18:DO21) -> 345 | DP22: =SUM(DP18:DP21) -> 359.3 | DQ22: H/TOT | DR22: =SUM(DR18:DR21) -> 1 | DS22: =SUM(DS18:DS21) -> 0 | DT22: =SUM(DT18:DT21) -> 0 | DU22: =SUM(DU18:DU21) -> 0 | DV22: =SUM(DV18:DV21) -> 0 | DW22: =SUM(DW18:DW21) -> 0 | DX22: =SUM(DX18:DX21) -> 0 | DY22: =SUM(DY18:DY21) -> 1 | DZ22: =SUM(DZ18:DZ21) -> 1 | EA22: H/TOT | EB22: =SUM(EB18:EB21) -> 240 | EC22: =SUM(EC18:EC21) -> 63 | ED22: =SUM(ED18:ED21) -> 17 | EE22: =SUM(EE18:EE21) -> 6 | EF22: =SUM(EF18:EF21) -> 0 | EG22: =SUM(EG18:EG21) -> 3 | EH22: =SUM(EH18:EH21) -> 0 | EI22: =SUM(EI18:EI21) -> 329 | EJ22: =SUM(EJ18:EJ21) -> 343.5 | EK22: H/TOT | EL22: =SUM(EL18:EL21) -> 0 | EM22: =SUM(EM18:EM21) -> 0 | EN22: =SUM(EN18:EN21) -> 0 | EO22: =SUM(EO18:EO21) -> 0 | EP22: =SUM(EP18:EP21) -> 0 | EQ22: =SUM(EQ18:EQ21) -> 0 | ER22: =SUM(ER18:ER21) -> 0 | ES22: =SUM(ES18:ES21) -> 0 | ET22: =SUM(ET18:ET21) -> 0 | EU22: H/TOT | EV22: =SUM(EV18:EV21) -> 391 | EW22: =SUM(EW18:EW21) -> 82 | EX22: =SUM(EX18:EX21) -> 16 | EY22: =SUM(EY18:EY21) -> 11 | EZ22: =SUM(EZ18:EZ21) -> 0 | FA22: =SUM(FA18:FA21) -> 2 | FB22: =SUM(FB18:FB21) -> 0 | FC22: =SUM(FC18:FC21) -> 502 | FD22: =SUM(FD18:FD21) -> 523.1 | FE22: H/TOT | FF22: =SUM(FF18:FF21) -> 92 | FG22: =SUM(FG18:FG21) -> 14 | FH22: =SUM(FH18:FH21) -> 4 | FI22: =SUM(FI18:FI21) -> 0 | FJ22: =SUM(FJ18:FJ21) -> 2 | FK22: =SUM(FK18:FK21) -> 1 | FL22: =SUM(FL18:FL21) -> 0 | FM22: =SUM(FM18:FM21) -> 113 | FN22: =SUM(FN18:FN21) -> 116.4 | FO22: H/TOT | FP22: =SUM(FP18:FP21) -> 185 | FQ22: =SUM(FQ18:FQ21) -> 18 | FR22: =SUM(FR18:FR21) -> 6 | FS22: =SUM(FS18:FS21) -> 0 | FT22: =SUM(FT18:FT21) -> 1 | FU22: =SUM(FU18:FU21) -> 1 | FV22: =SUM(FV18:FV21) -> 1 | FW22: =SUM(FW18:FW21) -> 212 | FX22: =SUM(FX18:FX21) -> 214.6 | FY22: H/TOT | FZ22: =SUM(FZ18:FZ21) -> 325 | GA22: =SUM(GA18:GA21) -> 49 | GB22: =SUM(GB18:GB21) -> 10 | GC22: =SUM(GC18:GC21) -> 11 | GD22: =SUM(GD18:GD21) -> 3 | GE22: =SUM(GE18:GE21) -> 1 | GF22: =SUM(GF18:GF21) -> 0 | GG22: =SUM(GG18:GG21) -> 399 | GH22: =SUM(GH18:GH21) -> 420.7 | GI22: H/TOT | GJ22: =SUM(GJ18:GJ21) -> 1 | GK22: =SUM(GK18:GK21) -> 1 | GL22: =SUM(GL18:GL21) -> 0 | GM22: =SUM(GM18:GM21) -> 0 | GN22: =SUM(GN18:GN21) -> 0 | GO22: =SUM(GO18:GO21) -> 0 | GP22: =SUM(GP18:GP21) -> 0 | GQ22: =SUM(GQ18:GQ21) -> 2 | GR22: =SUM(GR18:GR21) -> 2 | GS22: H/TOT | GT22: =SUM(GT18:GT21) -> 604 | GU22: =SUM(GU18:GU21) -> 79 | GV22: =SUM(GV18:GV21) -> 14 | GW22: =SUM(GW18:GW21) -> 5 | GX22: =SUM(GX18:GX21) -> 2 | GY22: =SUM(GY18:GY21) -> 1 | GZ22: =SUM(GZ18:GZ21) -> 0 | HA22: =SUM(HA18:HA21) -> 705 | HB22: =SUM(HB18:HB21) -> 719.9 | HC22: H/TOT | HD22: =SUM(HD18:HD21) -> 1 | HE22: =SUM(HE18:HE21) -> 0 | HF22: =SUM(HF18:HF21) -> 0 | HG22: =SUM(HG18:HG21) -> 0 | HH22: =SUM(HH18:HH21) -> 0 | HI22: =SUM(HI18:HI21) -> 0 | HJ22: =SUM(HJ18:HJ21) -> 0 | HK22: =SUM(HK18:HK21) -> 1 | HL22: =SUM(HL18:HL21) -> 1 | HM22: H/TOT | HN22: =SUM(HN18:HN21) -> 588 | HO22: =SUM(HO18:HO21) -> 45 | HP22: =SUM(HP18:HP21) -> 6 | HQ22: =SUM(HQ18:HQ21) -> 2 | HR22: =SUM(HR18:HR21) -> 8 | HS22: =SUM(HS18:HS21) -> 1 | HT22: =SUM(HT18:HT21) -> 0 | HU22: =SUM(HU18:HU21) -> 650 | HV22: =SUM(HV18:HV21) -> 663 | HW22: H/TOT | HX22: =SUM(HX18:HX21) -> 337 | HY22: =SUM(HY18:HY21) -> 49 | HZ22: =SUM(HZ18:HZ21) -> 15 | IA22: =SUM(IA18:IA21) -> 4 | IB22: =SUM(IB18:IB21) -> 0 | IC22: =SUM(IC18:IC21) -> 4 | ID22: =SUM(ID18:ID21) -> 0 | IE22: =SUM(IE18:IE21) -> 409 | IF22: =SUM(IF18:IF21) -> 419.3 | IG22: H/TOT | IH22: =SUM(IH18:IH21) -> 0 | II22: =SUM(II18:II21) -> 0 | IJ22: =SUM(IJ18:IJ21) -> 0 | IK22: =SUM(IK18:IK21) -> 0 | IL22: =SUM(IL18:IL21) -> 0 | IM22: =SUM(IM18:IM21) -> 0 | IN22: =SUM(IN18:IN21) -> 0 | IO22: =SUM(IO18:IO21) -> 0 | IP22: =SUM(IP18:IP21) -> 0 | IQ22: H/TOT | IR22: =SUM(IR18:IR21) -> 883 | IS22: =SUM(IS18:IS21) -> 116 | IT22: =SUM(IT18:IT21) -> 42 | IU22: =SUM(IU18:IU21) -> 9 | IV22: =SUM(IV18:IV21) -> 1 | IW22: =SUM(IW18:IW21) -> 7 | IX22: =SUM(IX18:IX21) -> 1 | IY22: =SUM(IY18:IY21) -> 1059 | IZ22: =SUM(IZ18:IZ21) -> 1087.7 | JA22: H/TOT | JB22: =SUM(JB18:JB21) -> 718 | JC22: =SUM(JC18:JC21) -> 118 | JD22: =SUM(JD18:JD21) -> 34 | JE22: =SUM(JE18:JE21) -> 18 | JF22: =SUM(JF18:JF21) -> 19 | JG22: =SUM(JG18:JG21) -> 3 | JH22: =SUM(JH18:JH21) -> 0 | JI22: =SUM(JI18:JI21) -> 910 | JJ22: =SUM(JJ18:JJ21) -> 967.6 | JK22: H/TOT | JL22: =SUM(JL18:JL21) -> 829 | JM22: =SUM(JM18:JM21) -> 77 | JN22: =SUM(JN18:JN21) -> 13 | JO22: =SUM(JO18:JO21) -> 2 | JP22: =SUM(JP18:JP21) -> 14 | JQ22: =SUM(JQ18:JQ21) -> 2 | JR22: =SUM(JR18:JR21) -> 0 | JS22: =SUM(JS18:JS21) -> 937 | JT22: =SUM(JT18:JT21) -> 958.9 | JU22: H/TOT | JV22: =SUM(JV18:JV21) -> 739 | JW22: =SUM(JW18:JW21) -> 123 | JX22: =SUM(JX18:JX21) -> 28 | JY22: =SUM(JY18:JY21) -> 8 | JZ22: =SUM(JZ18:JZ21) -> 0 | KA22: =SUM(KA18:KA21) -> 2 | KB22: =SUM(KB18:KB21) -> 0 | KC22: =SUM(KC18:KC21) -> 900 | KD22: =SUM(KD18:KD21) -> 923.2 | KE22: H/TOT | KF22: =SUM(KF18:KF21) -> 665 | KG22: =SUM(KG18:KG21) -> 146 | KH22: =SUM(KH18:KH21) -> 23 | KI22: =SUM(KI18:KI21) -> 24 | KJ22: =SUM(KJ18:KJ21) -> 3 | KK22: =SUM(KK18:KK21) -> 3 | KL22: =SUM(KL18:KL21) -> 0 | KM22: =SUM(KM18:KM21) -> 864 | KN22: =SUM(KN18:KN21) -> 907.9 | KO22: H/TOT | KP22: =SUM(KP18:KP21) -> 643 | KQ22: =SUM(KQ18:KQ21) -> 108 | KR22: =SUM(KR18:KR21) -> 37 | KS22: =SUM(KS18:KS21) -> 11 | KT22: =SUM(KT18:KT21) -> 4 | KU22: =SUM(KU18:KU21) -> 5 | KV22: =SUM(KV18:KV21) -> 0 | KW22: =SUM(KW18:KW21) -> 808 | KX22: =SUM(KX18:KX21) -> 841.8 | KY22: H/TOT | KZ22: =SUM(KZ18:KZ21) -> 1234 | LA22: =SUM(LA18:LA21) -> 190 | LB22: =SUM(LB18:LB21) -> 51 | LC22: =SUM(LC18:LC21) -> 12 | LD22: =SUM(LD18:LD21) -> 12 | LE22: =SUM(LE18:LE21) -> 6 | LF22: =SUM(LF18:LF21) -> 0 | LG22: =SUM(LG18:LG21) -> 1505 | LH22: =SUM(LH18:LH21) -> 1554.5 | LI22: H/TOT | LJ22: =SUM(LJ18:LJ21) -> 994 | LK22: =SUM(LK18:LK21) -> 164 | LL22: =SUM(LL18:LL21) -> 36 | LM22: =SUM(LM18:LM21) -> 22 | LN22: =SUM(LN18:LN21) -> 6 | LO22: =SUM(LO18:LO21) -> 5 | LP22: =SUM(LP18:LP21) -> 1 | LQ22: =SUM(LQ18:LQ21) -> 1228 | LR22: =SUM(LR18:LR21) -> 1276.8 | LS22: H/TOT | LT22: =SUM(LT18:LT21) -> 1013 | LU22: =SUM(LU18:LU21) -> 157 | LV22: =SUM(LV18:LV21) -> 41 | LW22: =SUM(LW18:LW21) -> 23 | LX22: =SUM(LX18:LX21) -> 9 | LY22: =SUM(LY18:LY21) -> 3 | LZ22: =SUM(LZ18:LZ21) -> 0 | MA22: =SUM(MA18:MA21) -> 1246 | MB22: =SUM(MB18:MB21) -> 1303.6 | MC22: H/TOT | MD22: =SUM(MD18:MD21) -> 1530 | ME22: =SUM(ME18:ME21) -> 173 | MF22: =SUM(MF18:MF21) -> 35 | MG22: =SUM(MG18:MG21) -> 11 | MH22: =SUM(MH18:MH21) -> 10 | MI22: =SUM(MI18:MI21) -> 6 | MJ22: =SUM(MJ18:MJ21) -> 0 | MK22: =SUM(MK18:MK21) -> 1765 | ML22: =SUM(ML18:ML21) -> 1803.2 | MM22: H/TOT | MN22: =SUM(MN18:MN21) -> 4624 | MO22: =SUM(MO18:MO21) -> 686 | MP22: =SUM(MP18:MP21) -> 170 | MQ22: =SUM(MQ18:MQ21) -> 70 | MR22: =SUM(MR18:MR21) -> 39 | MS22: =SUM(MS18:MS21) -> 21 | MT22: =SUM(MT18:MT21) -> 1 | MU22: =SUM(MU18:MU21) -> 5611 | MV22: =SUM(MV18:MV21) -> 5812.6
A23: =A21+"00:15" -> 0.375 | B23: 48 | C23: 4 | D23: 8 | E23: 3 | F23: 0 | G23: 0 | H23: 0 | I23: =SUM(B23:H23) -> 63 | J23: =B23+C23+D23*1.5+E23*2.3+F23*2+G23*0.4+H23*0.2 -> 70.9 | K23: =K21+"00:15" -> 0.375 | L23: 33 | M23: 5 | N23: 3 | O23: 0 | P23: 0 | Q23: 0 | R23: 0 | S23: =SUM(L23:R23) -> 41 | T23: =L23+M23+N23*1.5+O23*2.3+P23*2+Q23*0.4+R23*0.2 -> 42.5 | U23: =U21+"00:15" -> 0.375 | V23: 31 | W23: 4 | X23: 4 | Y23: 2 | Z23: 0 | AA23: 0 | AB23: 0 | AC23: =SUM(V23:AB23) -> 41 | AD23: =V23+W23+X23*1.5+Y23*2.3+Z23*2+AA23*0.4+AB23*0.2 -> 45.6 | AE23: =AE21+"00:15" -> 0.375 | AF23: 6 | AG23: 1 | AH23: 0 | AI23: 0 | AJ23: 0 | AK23: 0 | AL23: 0 | AM23: =SUM(AF23:AL23) -> 7 | AN23: =AF23+AG23+AH23*1.5+AI23*2.3+AJ23*2+AK23*0.4+AL23*0.2 -> 7 | AO23: =AO21+"00:15" -> 0.375 | AP23: 0 | AQ23: 0 | AR23: 0 | AS23: 0 | AT23: 0 | AU23: 0 | AV23: 0 | AW23: =SUM(AP23:AV23) -> 0 | AX23: =AP23+AQ23+AR23*1.5+AS23*2.3+AT23*2+AU23*0.4+AV23*0.2 -> 0 | AY23: =AY21+"00:15" -> 0.375 | AZ23: 24 | BA23: 3 | BB23: 1 | BC23: 0 | BD23: 0 | BE23: 0 | BF23: 0 | BG23: =SUM(AZ23:BF23) -> 28 | BH23: =AZ23+BA23+BB23*1.5+BC23*2.3+BD23*2+BE23*0.4+BF23*0.2 -> 28.5 | BI23: =BI21+"00:15" -> 0.375 | BJ23: 86 | BK23: 19 | BL23: 8 | BM23: 1 | BN23: 0 | BO23: 0 | BP23: 0 | BQ23: =SUM(BJ23:BP23) -> 114 | BR23: =BJ23+BK23+BL23*1.5+BM23*2.3+BN23*2+BO23*0.4+BP23*0.2 -> 119.3 | BS23: =BS21+"00:15" -> 0.375 | BT23: 28 | BU23: 6 | BV23: 0 | BW23: 0 | BX23: 0 | BY23: 0 | BZ23: 0 | CA23: =SUM(BT23:BZ23) -> 34 | CB23: =BT23+BU23+BV23*1.5+BW23*2.3+BX23*2+BY23*0.4+BZ23*0.2 -> 34 | CC23: =CC21+"00:15" -> 0.375 | CD23: 14 | CE23: 2 | CF23: 0 | CG23: 1 | CH23: 0 | CI23: 0 | CJ23: 0 | CK23: =SUM(CD23:CJ23) -> 17 | CL23: =CD23+CE23+CF23*1.5+CG23*2.3+CH23*2+CI23*0.4+CJ23*0.2 -> 18.3 | CM23: =CM21+"00:15" -> 0.375 | CN23: 0 | CO23: 0 | CP23: 0 | CQ23: 0 | CR23: 0 | CS23: 0 | CT23: 0 | CU23: =SUM(CN23:CT23) -> 0 | CV23: =CN23+CO23+CP23*1.5+CQ23*2.3+CR23*2+CS23*0.4+CT23*0.2 -> 0 | CW23: =CW21+"00:15" -> 0.375 | CX23: 15 | CY23: 1 | CZ23: 0 | DA23: 0 | DB23: 0 | DC23: 0 | DD23: 0 | DE23: =SUM(CX23:DD23) -> 16 | DF23: =CX23+CY23+CZ23*1.5+DA23*2.3+DB23*2+DC23*0.4+DD23*0.2 -> 16 | DG23: =DG21+"00:15" -> 0.375 | DH23: 44 | DI23: 11 | DJ23: 5 | DK23: 6 | DL23: 0 | DM23: 0 | DN23: 0 | DO23: =SUM(DH23:DN23) -> 66 | DP23: =DH23+DI23+DJ23*1.5+DK23*2.3+DL23*2+DM23*0.4+DN23*0.2 -> 76.3 | DQ23: =DQ21+"00:15" -> 0.375 | DR23: 0 | DS23: 0 | DT23: 0 | DU23: 0 | DV23: 0 | DW23: 0 | DX23: 0 | DY23: =SUM(DR23:DX23) -> 0 | DZ23: =DR23+DS23+DT23*1.5+DU23*2.3+DV23*2+DW23*0.4+DX23*0.2 -> 0 | EA23: =EA21+"00:15" -> 0.375 | EB23: 43 | EC23: 18 | ED23: 0 | EE23: 4 | EF23: 0 | EG23: 0 | EH23: 0 | EI23: =SUM(EB23:EH23) -> 65 | EJ23: =EB23+EC23+ED23*1.5+EE23*2.3+EF23*2+EG23*0.4+EH23*0.2 -> 70.2 | EK23: =EK21+"00:15" -> 0.375 | EL23: 0 | EM23: 0 | EN23: 0 | EO23: 0 | EP23: 0 | EQ23: 0 | ER23: 0 | ES23: =SUM(EL23:ER23) -> 0 | ET23: =EL23+EM23+EN23*1.5+EO23*2.3+EP23*2+EQ23*0.4+ER23*0.2 -> 0 | EU23: =EU21+"00:15" -> 0.375 | EV23: 79 | EW23: 19 | EX23: 4 | EY23: 2 | EZ23: 0 | FA23: 1 | FB23: 0 | FC23: =SUM(EV23:FB23) -> 105 | FD23: =EV23+EW23+EX23*1.5+EY23*2.3+EZ23*2+FA23*0.4+FB23*0.2 -> 109 | FE23: =FE21+"00:15" -> 0.375 | FF23: 21 | FG23: 6 | FH23: 1 | FI23: 0 | FJ23: 0 | FK23: 1 | FL23: 0 | FM23: =SUM(FF23:FL23) -> 29 | FN23: =FF23+FG23+FH23*1.5+FI23*2.3+FJ23*2+FK23*0.4+FL23*0.2 -> 28.9 | FO23: =FO21+"00:15" -> 0.375 | FP23: 37 | FQ23: 5 | FR23: 1 | FS23: 2 | FT23: 0 | FU23: 0 | FV23: 0 | FW23: =SUM(FP23:FV23) -> 45 | FX23: =FP23+FQ23+FR23*1.5+FS23*2.3+FT23*2+FU23*0.4+FV23*0.2 -> 48.1 | FY23: =FY21+"00:15" -> 0.375 | FZ23: 71 | GA23: 9 | GB23: 7 | GC23: 5 | GD23: 0 | GE23: 0 | GF23: 0 | GG23: =SUM(FZ23:GF23) -> 92 | GH23: =FZ23+GA23+GB23*1.5+GC23*2.3+GD23*2+GE23*0.4+GF23*0.2 -> 102 | GI23: =GI21+"00:15" -> 0.375 | GJ23: 0 | GK23: 0 | GL23: 0 | GM23: 0 | GN23: 0 | GO23: 0 | GP23: 0 | GQ23: =SUM(GJ23:GP23) -> 0 | GR23: =GJ23+GK23+GL23*1.5+GM23*2.3+GN23*2+GO23*0.4+GP23*0.2 -> 0 | GS23: =GS21+"00:15" -> 0.375 | GT23: 131 | GU23: 29 | GV23: 4 | GW23: 4 | GX23: 0 | GY23: 0 | GZ23: 0 | HA23: =SUM(GT23:GZ23) -> 168 | HB23: =GT23+GU23+GV23*1.5+GW23*2.3+GX23*2+GY23*0.4+GZ23*0.2 -> 175.2 | HC23: =HC21+"00:15" -> 0.375 | HD23: 0 | HE23: 0 | HF23: 0 | HG23: 0 | HH23: 0 | HI23: 0 | HJ23: 0 | HK23: =SUM(HD23:HJ23) -> 0 | HL23: =HD23+HE23+HF23*1.5+HG23*2.3+HH23*2+HI23*0.4+HJ23*0.2 -> 0 | HM23: =HM21+"00:15" -> 0.375 | HN23: 99 | HO23: 19 | HP23: 5 | HQ23: 2 | HR23: 0 | HS23: 0 | HT23: 0 | HU23: =SUM(HN23:HT23) -> 125 | HV23: =HN23+HO23+HP23*1.5+HQ23*2.3+HR23*2+HS23*0.4+HT23*0.2 -> 130.1 | HW23: =HW21+"00:15" -> 0.375 | HX23: 73 | HY23: 11 | HZ23: 7 | IA23: 4 | IB23: 1 | IC23: 0 | ID23: 0 | IE23: =SUM(HX23:ID23) -> 96 | IF23: =HX23+HY23+HZ23*1.5+IA23*2.3+IB23*2+IC23*0.4+ID23*0.2 -> 105.7 | IG23: =IG21+"00:15" -> 0.375 | IH23: 0 | II23: 0 | IJ23: 0 | IK23: 0 | IL23: 0 | IM23: 0 | IN23: 0 | IO23: =SUM(IH23:IN23) -> 0 | IP23: =IH23+II23+IJ23*1.5+IK23*2.3+IL23*2+IM23*0.4+IN23*0.2 -> 0 | IQ23: =IQ21+"00:15" -> 0.375 | IR23: =SUM(AP23,AZ23,DH23,FP23,HX23) -> 178 | IS23: =SUM(AQ23,BA23,DI23,FQ23,HY23) -> 30 | IT23: =SUM(AR23,BB23,DJ23,FR23,HZ23) -> 14 | IU23: =SUM(AS23,BC23,DK23,FS23,IA23) -> 12 | IV23: =SUM(AT23,BD23,DL23,FT23,IB23) -> 1 | IW23: =SUM(AU23,BE23,DM23,FU23,IC23) -> 0 | IX23: =SUM(AV23,BF23,DN23,FV23,ID23) -> 0 | IY23: =SUM(IR23:IX23) -> 235 | IZ23: =IR23+IS23+IT23*1.5+IU23*2.3+IV23*2+IW23*0.4+IX23*0.2 -> 258.6 | JA23: =JA21+"00:15" -> 0.375 | JB23: =SUM(B23,L23,V23,AF23,AP23) -> 118 | JC23: =SUM(C23,M23,W23,AG23,AQ23) -> 14 | JD23: =SUM(D23,N23,X23,AH23,AR23) -> 15 | JE23: =SUM(E23,O23,Y23,AI23,AS23) -> 5 | JF23: =SUM(F23,P23,Z23,AJ23,AT23) -> 0 | JG23: =SUM(G23,Q23,AA23,AK23,AU23) -> 0 | JH23: =SUM(H23,R23,AB23,AL23,AV23) -> 0 | JI23: =SUM(JB23:JH23) -> 152 | JJ23: =JB23+JC23+JD23*1.5+JE23*2.3+JF23*2+JG23*0.4+JH23*0.2 -> 166 | JK23: =JK21+"00:15" -> 0.375 | JL23: =SUM(AF23,CN23,CX23,FF23,HN23) -> 141 | JM23: =SUM(AG23,CO23,CY23,FG23,HO23) -> 27 | JN23: =SUM(AH23,CP23,CZ23,FH23,HP23) -> 6 | JO23: =SUM(AI23,CQ23,DA23,FI23,HQ23) -> 2 | JP23: =SUM(AJ23,CR23,DB23,FJ23,HR23) -> 0 | JQ23: =SUM(AK23,CS23,DC23,FK23,HS23) -> 1 | JR23: =SUM(AL23,CT23,DD23,FL23,HT23) -> 0 | JS23: =SUM(JL23:JR23) -> 177 | JT23: =JL23+JM23+JN23*1.5+JO23*2.3+JP23*2+JQ23*0.4+JR23*0.2 -> 182 | JU23: =JU21+"00:15" -> 0.375 | JV23: =SUM(AZ23,BJ23,BT23,CD23,CN23) -> 152 | JW23: =SUM(BA23,BK23,BU23,CE23,CO23) -> 30 | JX23: =SUM(BB23,BL23,BV23,CF23,CP23) -> 9 | JY23: =SUM(BC23,BM23,BW23,CG23,CQ23) -> 2 | JZ23: =SUM(BD23,BN23,BX23,CH23,CR23) -> 0 | KA23: =SUM(BE23,BO23,BY23,CI23,CS23) -> 0 | KB23: =SUM(BF23,BP23,BZ23,CJ23,CT23) -> 0 | KC23: =SUM(JV23:KB23) -> 193 | KD23: =JV23+JW23+JX23*1.5+JY23*2.3+JZ23*2+KA23*0.4+KB23*0.2 -> 200.1 | KE23: =KE21+"00:15" -> 0.375 | KF23: =SUM(V23,CD23,EL23,EV23,HD23) -> 124 | KG23: =SUM(W23,CE23,EM23,EW23,HE23) -> 25 | KH23: =SUM(X23,CF23,EN23,EX23,HF23) -> 8 | KI23: =SUM(Y23,CG23,EO23,EY23,HG23) -> 5 | KJ23: =SUM(Z23,CH23,EP23,EZ23,HH23) -> 0 | KK23: =SUM(AA23,CI23,EQ23,FA23,HI23) -> 1 | KL23: =SUM(AB23,CJ23,ER23,FB23,HJ23) -> 0 | KM23: =SUM(KF23:KL23) -> 163 | KN23: =KF23+KG23+KH23*1.5+KI23*2.3+KJ23*2+KK23*0.4+KL23*0.2 -> 172.9 | KO23: =KO21+"00:15" -> 0.375 | KP23: =SUM(CX23,DH23,DR23,EB23,EL23) -> 102 | KQ23: =SUM(CY23,DI23,DS23,EC23,EM23) -> 30 | KR23: =SUM(CZ23,DJ23,DT23,ED23,EN23) -> 5 | KS23: =SUM(DA23,DK23,DU23,EE23,EO23) -> 10 | KT23: =SUM(DB23,DL23,DV23,EF23,EP23) -> 0 | KU23: =SUM(DC23,DM23,DW23,EG23,EQ23) -> 0 | KV23: =SUM(DD23,DN23,DX23,EH23,ER23) -> 0 | KW23: =SUM(KP23:KV23) -> 147 | KX23: =KP23+KQ23+KR23*1.5+KS23*2.3+KT23*2+KU23*0.4+KV23*0.2 -> 162.5 | KY23: =KY21+"00:15" -> 0.375 | KZ23: =SUM(L23,BT23,EB23,GJ23,GT23) -> 235 | LA23: =SUM(M23,BU23,EC23,GK23,GU23) -> 58 | LB23: =SUM(N23,BV23,ED23,GL23,GV23) -> 7 | LC23: =SUM(O23,BW23,EE23,GM23,GW23) -> 8 | LD23: =SUM(P23,BX23,EF23,GN23,GX23) -> 0 | LE23: =SUM(Q23,BY23,EG23,GO23,GY23) -> 0 | LF23: =SUM(R23,BZ23,EH23,GP23,GZ23) -> 0 | LG23: =SUM(KZ23:LF23) -> 308 | LH23: =KZ23+LA23+LB23*1.5+LC23*2.3+LD23*2+LE23*0.4+LF23*0.2 -> 321.9 | LI23: =LI21+"00:15" -> 0.375 | LJ23: =SUM(EV23,FF23,FP23,FZ23,GJ23) -> 208 | LK23: =SUM(EW23,FG23,FQ23,GA23,GK23) -> 39 | LL23: =SUM(EX23,FH23,FR23,GB23,GL23) -> 13 | LM23: =SUM(EY23,FI23,FS23,GC23,GM23) -> 9 | LN23: =SUM(EZ23,FJ23,FT23,GD23,GN23) -> 0 | LO23: =SUM(FA23,FK23,FU23,GE23,GO23) -> 2 | LP23: =SUM(FB23,FL23,FV23,GF23,GP23) -> 0 | LQ23: =SUM(LJ23:LP23) -> 271 | LR23: =LJ23+LK23+LL23*1.5+LM23*2.3+LN23*2+LO23*0.4+LP23*0.2 -> 288 | LS23: =LS21+"00:15" -> 0.375 | LT23: =SUM(B23,BJ23,DR23,FZ23,IH23) -> 205 | LU23: =SUM(C23,BK23,DS23,GA23,II23) -> 32 | LV23: =SUM(D23,BL23,DT23,GB23,IJ23) -> 23 | LW23: =SUM(E23,BM23,DU23,GC23,IK23) -> 9 | LX23: =SUM(F23,BN23,DV23,GD23,IL23) -> 0 | LY23: =SUM(G23,BO23,DW23,GE23,IM23) -> 0 | LZ23: =SUM(H23,BP23,DX23,GF23,IN23) -> 0 | MA23: =SUM(LT23:LZ23) -> 269 | MB23: =LT23+LU23+LV23*1.5+LW23*2.3+LX23*2+LY23*0.4+LZ23*0.2 -> 292.2 | MC23: =MC21+"00:15" -> 0.375 | MD23: =SUM(GT23,HD23,HN23,HX23,IH23) -> 303 | ME23: =SUM(GU23,HE23,HO23,HY23,II23) -> 59 | MF23: =SUM(GV23,HF23,HP23,HZ23,IJ23) -> 16 | MG23: =SUM(GW23,HG23,HQ23,IA23,IK23) -> 10 | MH23: =SUM(GX23,HH23,HR23,IB23,IL23) -> 1 | MI23: =SUM(GY23,HI23,HS23,IC23,IM23) -> 0 | MJ23: =SUM(GZ23,HJ23,HT23,ID23,IN23) -> 0 | MK23: =SUM(MD23:MJ23) -> 389 | ML23: =MD23+ME23+MF23*1.5+MG23*2.3+MH23*2+MI23*0.4+MJ23*0.2 -> 411 | MM23: =MM21+"00:15" -> 0.375 | MN23: =SUM(IR23,JL23,KF23,KZ23,LT23) -> 883 | MO23: =SUM(IS23,JM23,KG23,LA23,LU23) -> 172 | MP23: =SUM(IT23,JN23,KH23,LB23,LV23) -> 58 | MQ23: =SUM(IU23,JO23,KI23,LC23,LW23) -> 36 | MR23: =SUM(IV23,JP23,KJ23,LD23,LX23) -> 1 | MS23: =SUM(IW23,JQ23,KK23,LE23,LY23) -> 2 | MT23: =SUM(IX23,JR23,KL23,LF23,LZ23) -> 0 | MU23: =SUM(MN23:MT23) -> 1152 | MV23: =MN23+MO23+MP23*1.5+MQ23*2.3+MR23*2+MS23*0.4+MT23*0.2 -> 1227.6
A24: =A23+"00:15" -> 0.38541667 | B24: 47 | C24: 12 | D24: 6 | E24: 1 | F24: 0 | G24: 0 | H24: 0 | I24: =SUM(B24:H24) -> 66 | J24: =B24+C24+D24*1.5+E24*2.3+F24*2+G24*0.4+H24*0.2 -> 70.3 | K24: =K23+"00:15" -> 0.38541667 | L24: 38 | M24: 6 | N24: 3 | O24: 0 | P24: 1 | Q24: 1 | R24: 0 | S24: =SUM(L24:R24) -> 49 | T24: =L24+M24+N24*1.5+O24*2.3+P24*2+Q24*0.4+R24*0.2 -> 50.9 | U24: =U23+"00:15" -> 0.38541667 | V24: 33 | W24: 11 | X24: 6 | Y24: 2 | Z24: 0 | AA24: 0 | AB24: 0 | AC24: =SUM(V24:AB24) -> 52 | AD24: =V24+W24+X24*1.5+Y24*2.3+Z24*2+AA24*0.4+AB24*0.2 -> 57.6 | AE24: =AE23+"00:15" -> 0.38541667 | AF24: 5 | AG24: 1 | AH24: 2 | AI24: 0 | AJ24: 0 | AK24: 0 | AL24: 0 | AM24: =SUM(AF24:AL24) -> 8 | AN24: =AF24+AG24+AH24*1.5+AI24*2.3+AJ24*2+AK24*0.4+AL24*0.2 -> 9 | AO24: =AO23+"00:15" -> 0.38541667 | AP24: 0 | AQ24: 0 | AR24: 0 | AS24: 0 | AT24: 0 | AU24: 0 | AV24: 0 | AW24: =SUM(AP24:AV24) -> 0 | AX24: =AP24+AQ24+AR24*1.5+AS24*2.3+AT24*2+AU24*0.4+AV24*0.2 -> 0 | AY24: =AY23+"00:15" -> 0.38541667 | AZ24: 15 | BA24: 4 | BB24: 0 | BC24: 0 | BD24: 0 | BE24: 0 | BF24: 0 | BG24: =SUM(AZ24:BF24) -> 19 | BH24: =AZ24+BA24+BB24*1.5+BC24*2.3+BD24*2+BE24*0.4+BF24*0.2 -> 19 | BI24: =BI23+"00:15" -> 0.38541667 | BJ24: 77 | BK24: 17 | BL24: 2 | BM24: 2 | BN24: 0 | BO24: 0 | BP24: 0 | BQ24: =SUM(BJ24:BP24) -> 98 | BR24: =BJ24+BK24+BL24*1.5+BM24*2.3+BN24*2+BO24*0.4+BP24*0.2 -> 101.6 | BS24: =BS23+"00:15" -> 0.38541667 | BT24: 25 | BU24: 6 | BV24: 1 | BW24: 0 | BX24: 0 | BY24: 0 | BZ24: 0 | CA24: =SUM(BT24:BZ24) -> 32 | CB24: =BT24+BU24+BV24*1.5+BW24*2.3+BX24*2+BY24*0.4+BZ24*0.2 -> 32.5 | CC24: =CC23+"00:15" -> 0.38541667 | CD24: 10 | CE24: 1 | CF24: 0 | CG24: 0 | CH24: 0 | CI24: 0 | CJ24: 0 | CK24: =SUM(CD24:CJ24) -> 11 | CL24: =CD24+CE24+CF24*1.5+CG24*2.3+CH24*2+CI24*0.4+CJ24*0.2 -> 11 | CM24: =CM23+"00:15" -> 0.38541667 | CN24: 0 | CO24: 0 | CP24: 0 | CQ24: 0 | CR24: 0 | CS24: 0 | CT24: 0 | CU24: =SUM(CN24:CT24) -> 0 | CV24: =CN24+CO24+CP24*1.5+CQ24*2.3+CR24*2+CS24*0.4+CT24*0.2 -> 0 | CW24: =CW23+"00:15" -> 0.38541667 | CX24: 15 | CY24: 1 | CZ24: 0 | DA24: 0 | DB24: 0 | DC24: 0 | DD24: 0 | DE24: =SUM(CX24:DD24) -> 16 | DF24: =CX24+CY24+CZ24*1.5+DA24*2.3+DB24*2+DC24*0.4+DD24*0.2 -> 16 | DG24: =DG23+"00:15" -> 0.38541667 | DH24: 51 | DI24: 5 | DJ24: 2 | DK24: 2 | DL24: 0 | DM24: 0 | DN24: 0 | DO24: =SUM(DH24:DN24) -> 60 | DP24: =DH24+DI24+DJ24*1.5+DK24*2.3+DL24*2+DM24*0.4+DN24*0.2 -> 63.6 | DQ24: =DQ23+"00:15" -> 0.38541667 | DR24: 0 | DS24: 0 | DT24: 0 | DU24: 0 | DV24: 0 | DW24: 0 | DX24: 0 | DY24: =SUM(DR24:DX24) -> 0 | DZ24: =DR24+DS24+DT24*1.5+DU24*2.3+DV24*2+DW24*0.4+DX24*0.2 -> 0 | EA24: =EA23+"00:15" -> 0.38541667 | EB24: 38 | EC24: 7 | ED24: 2 | EE24: 5 | EF24: 0 | EG24: 0 | EH24: 0 | EI24: =SUM(EB24:EH24) -> 52 | EJ24: =EB24+EC24+ED24*1.5+EE24*2.3+EF24*2+EG24*0.4+EH24*0.2 -> 59.5 | EK24: =EK23+"00:15" -> 0.38541667 | EL24: 0 | EM24: 0 | EN24: 0 | EO24: 0 | EP24: 0 | EQ24: 0 | ER24: 0 | ES24: =SUM(EL24:ER24) -> 0 | ET24: =EL24+EM24+EN24*1.5+EO24*2.3+EP24*2+EQ24*0.4+ER24*0.2 -> 0 | EU24: =EU23+"00:15" -> 0.38541667 | EV24: 72 | EW24: 17 | EX24: 1 | EY24: 4 | EZ24: 0 | FA24: 0 | FB24: 0 | FC24: =SUM(EV24:FB24) -> 94 | FD24: =EV24+EW24+EX24*1.5+EY24*2.3+EZ24*2+FA24*0.4+FB24*0.2 -> 99.7 | FE24: =FE23+"00:15" -> 0.38541667 | FF24: 24 | FG24: 6 | FH24: 1 | FI24: 0 | FJ24: 0 | FK24: 0 | FL24: 0 | FM24: =SUM(FF24:FL24) -> 31 | FN24: =FF24+FG24+FH24*1.5+FI24*2.3+FJ24*2+FK24*0.4+FL24*0.2 -> 31.5 | FO24: =FO23+"00:15" -> 0.38541667 | FP24: 32 | FQ24: 5 | FR24: 2 | FS24: 1 | FT24: 1 | FU24: 0 | FV24: 0 | FW24: =SUM(FP24:FV24) -> 41 | FX24: =FP24+FQ24+FR24*1.5+FS24*2.3+FT24*2+FU24*0.4+FV24*0.2 -> 44.3 | FY24: =FY23+"00:15" -> 0.38541667 | FZ24: 70 | GA24: 10 | GB24: 4 | GC24: 3 | GD24: 0 | GE24: 0 | GF24: 0 | GG24: =SUM(FZ24:GF24) -> 87 | GH24: =FZ24+GA24+GB24*1.5+GC24*2.3+GD24*2+GE24*0.4+GF24*0.2 -> 92.9 | GI24: =GI23+"00:15" -> 0.38541667 | GJ24: 1 | GK24: 0 | GL24: 0 | GM24: 0 | GN24: 0 | GO24: 0 | GP24: 0 | GQ24: =SUM(GJ24:GP24) -> 1 | GR24: =GJ24+GK24+GL24*1.5+GM24*2.3+GN24*2+GO24*0.4+GP24*0.2 -> 1 | GS24: =GS23+"00:15" -> 0.38541667 | GT24: 130 | GU24: 21 | GV24: 3 | GW24: 2 | GX24: 1 | GY24: 0 | GZ24: 0 | HA24: =SUM(GT24:GZ24) -> 157 | HB24: =GT24+GU24+GV24*1.5+GW24*2.3+GX24*2+GY24*0.4+GZ24*0.2 -> 162.1 | HC24: =HC23+"00:15" -> 0.38541667 | HD24: 0 | HE24: 0 | HF24: 0 | HG24: 0 | HH24: 0 | HI24: 0 | HJ24: 0 | HK24: =SUM(HD24:HJ24) -> 0 | HL24: =HD24+HE24+HF24*1.5+HG24*2.3+HH24*2+HI24*0.4+HJ24*0.2 -> 0 | HM24: =HM23+"00:15" -> 0.38541667 | HN24: 88 | HO24: 12 | HP24: 2 | HQ24: 0 | HR24: 0 | HS24: 0 | HT24: 0 | HU24: =SUM(HN24:HT24) -> 102 | HV24: =HN24+HO24+HP24*1.5+HQ24*2.3+HR24*2+HS24*0.4+HT24*0.2 -> 103 | HW24: =HW23+"00:15" -> 0.38541667 | HX24: 46 | HY24: 8 | HZ24: 3 | IA24: 4 | IB24: 1 | IC24: 0 | ID24: 0 | IE24: =SUM(HX24:ID24) -> 62 | IF24: =HX24+HY24+HZ24*1.5+IA24*2.3+IB24*2+IC24*0.4+ID24*0.2 -> 69.7 | IG24: =IG23+"00:15" -> 0.38541667 | IH24: 0 | II24: 0 | IJ24: 0 | IK24: 0 | IL24: 0 | IM24: 0 | IN24: 0 | IO24: =SUM(IH24:IN24) -> 0 | IP24: =IH24+II24+IJ24*1.5+IK24*2.3+IL24*2+IM24*0.4+IN24*0.2 -> 0 | IQ24: =IQ23+"00:15" -> 0.38541667 | IR24: =SUM(AP24,AZ24,DH24,FP24,HX24) -> 144 | IS24: =SUM(AQ24,BA24,DI24,FQ24,HY24) -> 22 | IT24: =SUM(AR24,BB24,DJ24,FR24,HZ24) -> 7 | IU24: =SUM(AS24,BC24,DK24,FS24,IA24) -> 7 | IV24: =SUM(AT24,BD24,DL24,FT24,IB24) -> 2 | IW24: =SUM(AU24,BE24,DM24,FU24,IC24) -> 0 | IX24: =SUM(AV24,BF24,DN24,FV24,ID24) -> 0 | IY24: =SUM(IR24:IX24) -> 182 | IZ24: =IR24+IS24+IT24*1.5+IU24*2.3+IV24*2+IW24*0.4+IX24*0.2 -> 196.6 | JA24: =JA23+"00:15" -> 0.38541667 | JB24: =SUM(B24,L24,V24,AF24,AP24) -> 123 | JC24: =SUM(C24,M24,W24,AG24,AQ24) -> 30 | JD24: =SUM(D24,N24,X24,AH24,AR24) -> 17 | JE24: =SUM(E24,O24,Y24,AI24,AS24) -> 3 | JF24: =SUM(F24,P24,Z24,AJ24,AT24) -> 1 | JG24: =SUM(G24,Q24,AA24,AK24,AU24) -> 1 | JH24: =SUM(H24,R24,AB24,AL24,AV24) -> 0 | JI24: =SUM(JB24:JH24) -> 175 | JJ24: =JB24+JC24+JD24*1.5+JE24*2.3+JF24*2+JG24*0.4+JH24*0.2 -> 187.8 | JK24: =JK23+"00:15" -> 0.38541667 | JL24: =SUM(AF24,CN24,CX24,FF24,HN24) -> 132 | JM24: =SUM(AG24,CO24,CY24,FG24,HO24) -> 20 | JN24: =SUM(AH24,CP24,CZ24,FH24,HP24) -> 5 | JO24: =SUM(AI24,CQ24,DA24,FI24,HQ24) -> 0 | JP24: =SUM(AJ24,CR24,DB24,FJ24,HR24) -> 0 | JQ24: =SUM(AK24,CS24,DC24,FK24,HS24) -> 0 | JR24: =SUM(AL24,CT24,DD24,FL24,HT24) -> 0 | JS24: =SUM(JL24:JR24) -> 157 | JT24: =JL24+JM24+JN24*1.5+JO24*2.3+JP24*2+JQ24*0.4+JR24*0.2 -> 159.5 | JU24: =JU23+"00:15" -> 0.38541667 | JV24: =SUM(AZ24,BJ24,BT24,CD24,CN24) -> 127 | JW24: =SUM(BA24,BK24,BU24,CE24,CO24) -> 28 | JX24: =SUM(BB24,BL24,BV24,CF24,CP24) -> 3 | JY24: =SUM(BC24,BM24,BW24,CG24,CQ24) -> 2 | JZ24: =SUM(BD24,BN24,BX24,CH24,CR24) -> 0 | KA24: =SUM(BE24,BO24,BY24,CI24,CS24) -> 0 | KB24: =SUM(BF24,BP24,BZ24,CJ24,CT24) -> 0 | KC24: =SUM(JV24:KB24) -> 160 | KD24: =JV24+JW24+JX24*1.5+JY24*2.3+JZ24*2+KA24*0.4+KB24*0.2 -> 164.1 | KE24: =KE23+"00:15" -> 0.38541667 | KF24: =SUM(V24,CD24,EL24,EV24,HD24) -> 115 | KG24: =SUM(W24,CE24,EM24,EW24,HE24) -> 29 | KH24: =SUM(X24,CF24,EN24,EX24,HF24) -> 7 | KI24: =SUM(Y24,CG24,EO24,EY24,HG24) -> 6 | KJ24: =SUM(Z24,CH24,EP24,EZ24,HH24) -> 0 | KK24: =SUM(AA24,CI24,EQ24,FA24,HI24) -> 0 | KL24: =SUM(AB24,CJ24,ER24,FB24,HJ24) -> 0 | KM24: =SUM(KF24:KL24) -> 157 | KN24: =KF24+KG24+KH24*1.5+KI24*2.3+KJ24*2+KK24*0.4+KL24*0.2 -> 168.3 | KO24: =KO23+"00:15" -> 0.38541667 | KP24: =SUM(CX24,DH24,DR24,EB24,EL24) -> 104 | KQ24: =SUM(CY24,DI24,DS24,EC24,EM24) -> 13 | KR24: =SUM(CZ24,DJ24,DT24,ED24,EN24) -> 4 | KS24: =SUM(DA24,DK24,DU24,EE24,EO24) -> 7 | KT24: =SUM(DB24,DL24,DV24,EF24,EP24) -> 0 | KU24: =SUM(DC24,DM24,DW24,EG24,EQ24) -> 0 | KV24: =SUM(DD24,DN24,DX24,EH24,ER24) -> 0 | KW24: =SUM(KP24:KV24) -> 128 | KX24: =KP24+KQ24+KR24*1.5+KS24*2.3+KT24*2+KU24*0.4+KV24*0.2 -> 139.1 | KY24: =KY23+"00:15" -> 0.38541667 | KZ24: =SUM(L24,BT24,EB24,GJ24,GT24) -> 232 | LA24: =SUM(M24,BU24,EC24,GK24,GU24) -> 40 | LB24: =SUM(N24,BV24,ED24,GL24,GV24) -> 9 | LC24: =SUM(O24,BW24,EE24,GM24,GW24) -> 7 | LD24: =SUM(P24,BX24,EF24,GN24,GX24) -> 2 | LE24: =SUM(Q24,BY24,EG24,GO24,GY24) -> 1 | LF24: =SUM(R24,BZ24,EH24,GP24,GZ24) -> 0 | LG24: =SUM(KZ24:LF24) -> 291 | LH24: =KZ24+LA24+LB24*1.5+LC24*2.3+LD24*2+LE24*0.4+LF24*0.2 -> 306 | LI24: =LI23+"00:15" -> 0.38541667 | LJ24: =SUM(EV24,FF24,FP24,FZ24,GJ24) -> 199 | LK24: =SUM(EW24,FG24,FQ24,GA24,GK24) -> 38 | LL24: =SUM(EX24,FH24,FR24,GB24,GL24) -> 8 | LM24: =SUM(EY24,FI24,FS24,GC24,GM24) -> 8 | LN24: =SUM(EZ24,FJ24,FT24,GD24,GN24) -> 1 | LO24: =SUM(FA24,FK24,FU24,GE24,GO24) -> 0 | LP24: =SUM(FB24,FL24,FV24,GF24,GP24) -> 0 | LQ24: =SUM(LJ24:LP24) -> 254 | LR24: =LJ24+LK24+LL24*1.5+LM24*2.3+LN24*2+LO24*0.4+LP24*0.2 -> 269.4 | LS24: =LS23+"00:15" -> 0.38541667 | LT24: =SUM(B24,BJ24,DR24,FZ24,IH24) -> 194 | LU24: =SUM(C24,BK24,DS24,GA24,II24) -> 39 | LV24: =SUM(D24,BL24,DT24,GB24,IJ24) -> 12 | LW24: =SUM(E24,BM24,DU24,GC24,IK24) -> 6 | LX24: =SUM(F24,BN24,DV24,GD24,IL24) -> 0 | LY24: =SUM(G24,BO24,DW24,GE24,IM24) -> 0 | LZ24: =SUM(H24,BP24,DX24,GF24,IN24) -> 0 | MA24: =SUM(LT24:LZ24) -> 251 | MB24: =LT24+LU24+LV24*1.5+LW24*2.3+LX24*2+LY24*0.4+LZ24*0.2 -> 264.8 | MC24: =MC23+"00:15" -> 0.38541667 | MD24: =SUM(GT24,HD24,HN24,HX24,IH24) -> 264 | ME24: =SUM(GU24,HE24,HO24,HY24,II24) -> 41 | MF24: =SUM(GV24,HF24,HP24,HZ24,IJ24) -> 8 | MG24: =SUM(GW24,HG24,HQ24,IA24,IK24) -> 6 | MH24: =SUM(GX24,HH24,HR24,IB24,IL24) -> 2 | MI24: =SUM(GY24,HI24,HS24,IC24,IM24) -> 0 | MJ24: =SUM(GZ24,HJ24,HT24,ID24,IN24) -> 0 | MK24: =SUM(MD24:MJ24) -> 321 | ML24: =MD24+ME24+MF24*1.5+MG24*2.3+MH24*2+MI24*0.4+MJ24*0.2 -> 334.8 | MM24: =MM23+"00:15" -> 0.38541667 | MN24: =SUM(IR24,JL24,KF24,KZ24,LT24) -> 817 | MO24: =SUM(IS24,JM24,KG24,LA24,LU24) -> 150 | MP24: =SUM(IT24,JN24,KH24,LB24,LV24) -> 40 | MQ24: =SUM(IU24,JO24,KI24,LC24,LW24) -> 26 | MR24: =SUM(IV24,JP24,KJ24,LD24,LX24) -> 4 | MS24: =SUM(IW24,JQ24,KK24,LE24,LY24) -> 1 | MT24: =SUM(IX24,JR24,KL24,LF24,LZ24) -> 0 | MU24: =SUM(MN24:MT24) -> 1038 | MV24: =MN24+MO24+MP24*1.5+MQ24*2.3+MR24*2+MS24*0.4+MT24*0.2 -> 1095.2
A25: =A24+"00:15" -> 0.39583333 | B25: 35 | C25: 14 | D25: 4 | E25: 2 | F25: 0 | G25: 1 | H25: 0 | I25: =SUM(B25:H25) -> 56 | J25: =B25+C25+D25*1.5+E25*2.3+F25*2+G25*0.4+H25*0.2 -> 60 | K25: =K24+"00:15" -> 0.39583333 | L25: 33 | M25: 4 | N25: 1 | O25: 0 | P25: 0 | Q25: 1 | R25: 0 | S25: =SUM(L25:R25) -> 39 | T25: =L25+M25+N25*1.5+O25*2.3+P25*2+Q25*0.4+R25*0.2 -> 38.9 | U25: =U24+"00:15" -> 0.39583333 | V25: 26 | W25: 6 | X25: 4 | Y25: 2 | Z25: 0 | AA25: 0 | AB25: 0 | AC25: =SUM(V25:AB25) -> 38 | AD25: =V25+W25+X25*1.5+Y25*2.3+Z25*2+AA25*0.4+AB25*0.2 -> 42.6 | AE25: =AE24+"00:15" -> 0.39583333 | AF25: 6 | AG25: 1 | AH25: 0 | AI25: 0 | AJ25: 0 | AK25: 0 | AL25: 0 | AM25: =SUM(AF25:AL25) -> 7 | AN25: =AF25+AG25+AH25*1.5+AI25*2.3+AJ25*2+AK25*0.4+AL25*0.2 -> 7 | AO25: =AO24+"00:15" -> 0.39583333 | AP25: 0 | AQ25: 0 | AR25: 0 | AS25: 0 | AT25: 0 | AU25: 0 | AV25: 0 | AW25: =SUM(AP25:AV25) -> 0 | AX25: =AP25+AQ25+AR25*1.5+AS25*2.3+AT25*2+AU25*0.4+AV25*0.2 -> 0 | AY25: =AY24+"00:15" -> 0.39583333 | AZ25: 22 | BA25: 1 | BB25: 1 | BC25: 0 | BD25: 0 | BE25: 0 | BF25: 0 | BG25: =SUM(AZ25:BF25) -> 24 | BH25: =AZ25+BA25+BB25*1.5+BC25*2.3+BD25*2+BE25*0.4+BF25*0.2 -> 24.5 | BI25: =BI24+"00:15" -> 0.39583333 | BJ25: 72 | BK25: 10 | BL25: 4 | BM25: 1 | BN25: 1 | BO25: 0 | BP25: 0 | BQ25: =SUM(BJ25:BP25) -> 88 | BR25: =BJ25+BK25+BL25*1.5+BM25*2.3+BN25*2+BO25*0.4+BP25*0.2 -> 92.3 | BS25: =BS24+"00:15" -> 0.39583333 | BT25: 37 | BU25: 6 | BV25: 1 | BW25: 0 | BX25: 0 | BY25: 0 | BZ25: 0 | CA25: =SUM(BT25:BZ25) -> 44 | CB25: =BT25+BU25+BV25*1.5+BW25*2.3+BX25*2+BY25*0.4+BZ25*0.2 -> 44.5 | CC25: =CC24+"00:15" -> 0.39583333 | CD25: 7 | CE25: 1 | CF25: 0 | CG25: 0 | CH25: 0 | CI25: 0 | CJ25: 0 | CK25: =SUM(CD25:CJ25) -> 8 | CL25: =CD25+CE25+CF25*1.5+CG25*2.3+CH25*2+CI25*0.4+CJ25*0.2 -> 8 | CM25: =CM24+"00:15" -> 0.39583333 | CN25: 0 | CO25: 0 | CP25: 0 | CQ25: 0 | CR25: 0 | CS25: 0 | CT25: 0 | CU25: =SUM(CN25:CT25) -> 0 | CV25: =CN25+CO25+CP25*1.5+CQ25*2.3+CR25*2+CS25*0.4+CT25*0.2 -> 0 | CW25: =CW24+"00:15" -> 0.39583333 | CX25: 14 | CY25: 1 | CZ25: 1 | DA25: 0 | DB25: 0 | DC25: 0 | DD25: 0 | DE25: =SUM(CX25:DD25) -> 16 | DF25: =CX25+CY25+CZ25*1.5+DA25*2.3+DB25*2+DC25*0.4+DD25*0.2 -> 16.5 | DG25: =DG24+"00:15" -> 0.39583333 | DH25: 46 | DI25: 8 | DJ25: 5 | DK25: 4 | DL25: 0 | DM25: 0 | DN25: 0 | DO25: =SUM(DH25:DN25) -> 63 | DP25: =DH25+DI25+DJ25*1.5+DK25*2.3+DL25*2+DM25*0.4+DN25*0.2 -> 70.7 | DQ25: =DQ24+"00:15" -> 0.39583333 | DR25: 0 | DS25: 0 | DT25: 0 | DU25: 0 | DV25: 0 | DW25: 0 | DX25: 0 | DY25: =SUM(DR25:DX25) -> 0 | DZ25: =DR25+DS25+DT25*1.5+DU25*2.3+DV25*2+DW25*0.4+DX25*0.2 -> 0 | EA25: =EA24+"00:15" -> 0.39583333 | EB25: 32 | EC25: 6 | ED25: 3 | EE25: 3 | EF25: 0 | EG25: 0 | EH25: 0 | EI25: =SUM(EB25:EH25) -> 44 | EJ25: =EB25+EC25+ED25*1.5+EE25*2.3+EF25*2+EG25*0.4+EH25*0.2 -> 49.4 | EK25: =EK24+"00:15" -> 0.39583333 | EL25: 0 | EM25: 0 | EN25: 0 | EO25: 0 | EP25: 0 | EQ25: 0 | ER25: 0 | ES25: =SUM(EL25:ER25) -> 0 | ET25: =EL25+EM25+EN25*1.5+EO25*2.3+EP25*2+EQ25*0.4+ER25*0.2 -> 0 | EU25: =EU24+"00:15" -> 0.39583333 | EV25: 56 | EW25: 16 | EX25: 2 | EY25: 3 | EZ25: 0 | FA25: 0 | FB25: 0 | FC25: =SUM(EV25:FB25) -> 77 | FD25: =EV25+EW25+EX25*1.5+EY25*2.3+EZ25*2+FA25*0.4+FB25*0.2 -> 81.9 | FE25: =FE24+"00:15" -> 0.39583333 | FF25: 17 | FG25: 1 | FH25: 0 | FI25: 0 | FJ25: 0 | FK25: 0 | FL25: 0 | FM25: =SUM(FF25:FL25) -> 18 | FN25: =FF25+FG25+FH25*1.5+FI25*2.3+FJ25*2+FK25*0.4+FL25*0.2 -> 18 | FO25: =FO24+"00:15" -> 0.39583333 | FP25: 20 | FQ25: 4 | FR25: 3 | FS25: 1 | FT25: 0 | FU25: 2 | FV25: 0 | FW25: =SUM(FP25:FV25) -> 30 | FX25: =FP25+FQ25+FR25*1.5+FS25*2.3+FT25*2+FU25*0.4+FV25*0.2 -> 31.6 | FY25: =FY24+"00:15" -> 0.39583333 | FZ25: 71 | GA25: 26 | GB25: 3 | GC25: 4 | GD25: 0 | GE25: 0 | GF25: 0 | GG25: =SUM(FZ25:GF25) -> 104 | GH25: =FZ25+GA25+GB25*1.5+GC25*2.3+GD25*2+GE25*0.4+GF25*0.2 -> 110.7 | GI25: =GI24+"00:15" -> 0.39583333 | GJ25: 2 | GK25: 0 | GL25: 0 | GM25: 0 | GN25: 0 | GO25: 0 | GP25: 0 | GQ25: =SUM(GJ25:GP25) -> 2 | GR25: =GJ25+GK25+GL25*1.5+GM25*2.3+GN25*2+GO25*0.4+GP25*0.2 -> 2 | GS25: =GS24+"00:15" -> 0.39583333 | GT25: 107 | GU25: 20 | GV25: 5 | GW25: 1 | GX25: 0 | GY25: 0 | GZ25: 0 | HA25: =SUM(GT25:GZ25) -> 133 | HB25: =GT25+GU25+GV25*1.5+GW25*2.3+GX25*2+GY25*0.4+GZ25*0.2 -> 136.8 | HC25: =HC24+"00:15" -> 0.39583333 | HD25: 0 | HE25: 0 | HF25: 0 | HG25: 0 | HH25: 0 | HI25: 0 | HJ25: 0 | HK25: =SUM(HD25:HJ25) -> 0 | HL25: =HD25+HE25+HF25*1.5+HG25*2.3+HH25*2+HI25*0.4+HJ25*0.2 -> 0 | HM25: =HM24+"00:15" -> 0.39583333 | HN25: 56 | HO25: 12 | HP25: 1 | HQ25: 0 | HR25: 0 | HS25: 0 | HT25: 0 | HU25: =SUM(HN25:HT25) -> 69 | HV25: =HN25+HO25+HP25*1.5+HQ25*2.3+HR25*2+HS25*0.4+HT25*0.2 -> 69.5 | HW25: =HW24+"00:15" -> 0.39583333 | HX25: 57 | HY25: 13 | HZ25: 3 | IA25: 1 | IB25: 0 | IC25: 0 | ID25: 0 | IE25: =SUM(HX25:ID25) -> 74 | IF25: =HX25+HY25+HZ25*1.5+IA25*2.3+IB25*2+IC25*0.4+ID25*0.2 -> 76.8 | IG25: =IG24+"00:15" -> 0.39583333 | IH25: 0 | II25: 0 | IJ25: 0 | IK25: 0 | IL25: 0 | IM25: 0 | IN25: 0 | IO25: =SUM(IH25:IN25) -> 0 | IP25: =IH25+II25+IJ25*1.5+IK25*2.3+IL25*2+IM25*0.4+IN25*0.2 -> 0 | IQ25: =IQ24+"00:15" -> 0.39583333 | IR25: =SUM(AP25,AZ25,DH25,FP25,HX25) -> 145 | IS25: =SUM(AQ25,BA25,DI25,FQ25,HY25) -> 26 | IT25: =SUM(AR25,BB25,DJ25,FR25,HZ25) -> 12 | IU25: =SUM(AS25,BC25,DK25,FS25,IA25) -> 6 | IV25: =SUM(AT25,BD25,DL25,FT25,IB25) -> 0 | IW25: =SUM(AU25,BE25,DM25,FU25,IC25) -> 2 | IX25: =SUM(AV25,BF25,DN25,FV25,ID25) -> 0 | IY25: =SUM(IR25:IX25) -> 191 | IZ25: =IR25+IS25+IT25*1.5+IU25*2.3+IV25*2+IW25*0.4+IX25*0.2 -> 203.6 | JA25: =JA24+"00:15" -> 0.39583333 | JB25: =SUM(B25,L25,V25,AF25,AP25) -> 100 | JC25: =SUM(C25,M25,W25,AG25,AQ25) -> 25 | JD25: =SUM(D25,N25,X25,AH25,AR25) -> 9 | JE25: =SUM(E25,O25,Y25,AI25,AS25) -> 4 | JF25: =SUM(F25,P25,Z25,AJ25,AT25) -> 0 | JG25: =SUM(G25,Q25,AA25,AK25,AU25) -> 2 | JH25: =SUM(H25,R25,AB25,AL25,AV25) -> 0 | JI25: =SUM(JB25:JH25) -> 140 | JJ25: =JB25+JC25+JD25*1.5+JE25*2.3+JF25*2+JG25*0.4+JH25*0.2 -> 148.5 | JK25: =JK24+"00:15" -> 0.39583333 | JL25: =SUM(AF25,CN25,CX25,FF25,HN25) -> 93 | JM25: =SUM(AG25,CO25,CY25,FG25,HO25) -> 15 | JN25: =SUM(AH25,CP25,CZ25,FH25,HP25) -> 2 | JO25: =SUM(AI25,CQ25,DA25,FI25,HQ25) -> 0 | JP25: =SUM(AJ25,CR25,DB25,FJ25,HR25) -> 0 | JQ25: =SUM(AK25,CS25,DC25,FK25,HS25) -> 0 | JR25: =SUM(AL25,CT25,DD25,FL25,HT25) -> 0 | JS25: =SUM(JL25:JR25) -> 110 | JT25: =JL25+JM25+JN25*1.5+JO25*2.3+JP25*2+JQ25*0.4+JR25*0.2 -> 111 | JU25: =JU24+"00:15" -> 0.39583333 | JV25: =SUM(AZ25,BJ25,BT25,CD25,CN25) -> 138 | JW25: =SUM(BA25,BK25,BU25,CE25,CO25) -> 18 | JX25: =SUM(BB25,BL25,BV25,CF25,CP25) -> 6 | JY25: =SUM(BC25,BM25,BW25,CG25,CQ25) -> 1 | JZ25: =SUM(BD25,BN25,BX25,CH25,CR25) -> 1 | KA25: =SUM(BE25,BO25,BY25,CI25,CS25) -> 0 | KB25: =SUM(BF25,BP25,BZ25,CJ25,CT25) -> 0 | KC25: =SUM(JV25:KB25) -> 164 | KD25: =JV25+JW25+JX25*1.5+JY25*2.3+JZ25*2+KA25*0.4+KB25*0.2 -> 169.3 | KE25: =KE24+"00:15" -> 0.39583333 | KF25: =SUM(V25,CD25,EL25,EV25,HD25) -> 89 | KG25: =SUM(W25,CE25,EM25,EW25,HE25) -> 23 | KH25: =SUM(X25,CF25,EN25,EX25,HF25) -> 6 | KI25: =SUM(Y25,CG25,EO25,EY25,HG25) -> 5 | KJ25: =SUM(Z25,CH25,EP25,EZ25,HH25) -> 0 | KK25: =SUM(AA25,CI25,EQ25,FA25,HI25) -> 0 | KL25: =SUM(AB25,CJ25,ER25,FB25,HJ25) -> 0 | KM25: =SUM(KF25:KL25) -> 123 | KN25: =KF25+KG25+KH25*1.5+KI25*2.3+KJ25*2+KK25*0.4+KL25*0.2 -> 132.5 | KO25: =KO24+"00:15" -> 0.39583333 | KP25: =SUM(CX25,DH25,DR25,EB25,EL25) -> 92 | KQ25: =SUM(CY25,DI25,DS25,EC25,EM25) -> 15 | KR25: =SUM(CZ25,DJ25,DT25,ED25,EN25) -> 9 | KS25: =SUM(DA25,DK25,DU25,EE25,EO25) -> 7 | KT25: =SUM(DB25,DL25,DV25,EF25,EP25) -> 0 | KU25: =SUM(DC25,DM25,DW25,EG25,EQ25) -> 0 | KV25: =SUM(DD25,DN25,DX25,EH25,ER25) -> 0 | KW25: =SUM(KP25:KV25) -> 123 | KX25: =KP25+KQ25+KR25*1.5+KS25*2.3+KT25*2+KU25*0.4+KV25*0.2 -> 136.6 | KY25: =KY24+"00:15" -> 0.39583333 | KZ25: =SUM(L25,BT25,EB25,GJ25,GT25) -> 211 | LA25: =SUM(M25,BU25,EC25,GK25,GU25) -> 36 | LB25: =SUM(N25,BV25,ED25,GL25,GV25) -> 10 | LC25: =SUM(O25,BW25,EE25,GM25,GW25) -> 4 | LD25: =SUM(P25,BX25,EF25,GN25,GX25) -> 0 | LE25: =SUM(Q25,BY25,EG25,GO25,GY25) -> 1 | LF25: =SUM(R25,BZ25,EH25,GP25,GZ25) -> 0 | LG25: =SUM(KZ25:LF25) -> 262 | LH25: =KZ25+LA25+LB25*1.5+LC25*2.3+LD25*2+LE25*0.4+LF25*0.2 -> 271.6 | LI25: =LI24+"00:15" -> 0.39583333 | LJ25: =SUM(EV25,FF25,FP25,FZ25,GJ25) -> 166 | LK25: =SUM(EW25,FG25,FQ25,GA25,GK25) -> 47 | LL25: =SUM(EX25,FH25,FR25,GB25,GL25) -> 8 | LM25: =SUM(EY25,FI25,FS25,GC25,GM25) -> 8 | LN25: =SUM(EZ25,FJ25,FT25,GD25,GN25) -> 0 | LO25: =SUM(FA25,FK25,FU25,GE25,GO25) -> 2 | LP25: =SUM(FB25,FL25,FV25,GF25,GP25) -> 0 | LQ25: =SUM(LJ25:LP25) -> 231 | LR25: =LJ25+LK25+LL25*1.5+LM25*2.3+LN25*2+LO25*0.4+LP25*0.2 -> 244.2 | LS25: =LS24+"00:15" -> 0.39583333 | LT25: =SUM(B25,BJ25,DR25,FZ25,IH25) -> 178 | LU25: =SUM(C25,BK25,DS25,GA25,II25) -> 50 | LV25: =SUM(D25,BL25,DT25,GB25,IJ25) -> 11 | LW25: =SUM(E25,BM25,DU25,GC25,IK25) -> 7 | LX25: =SUM(F25,BN25,DV25,GD25,IL25) -> 1 | LY25: =SUM(G25,BO25,DW25,GE25,IM25) -> 1 | LZ25: =SUM(H25,BP25,DX25,GF25,IN25) -> 0 | MA25: =SUM(LT25:LZ25) -> 248 | MB25: =LT25+LU25+LV25*1.5+LW25*2.3+LX25*2+LY25*0.4+LZ25*0.2 -> 263 | MC25: =MC24+"00:15" -> 0.39583333 | MD25: =SUM(GT25,HD25,HN25,HX25,IH25) -> 220 | ME25: =SUM(GU25,HE25,HO25,HY25,II25) -> 45 | MF25: =SUM(GV25,HF25,HP25,HZ25,IJ25) -> 9 | MG25: =SUM(GW25,HG25,HQ25,IA25,IK25) -> 2 | MH25: =SUM(GX25,HH25,HR25,IB25,IL25) -> 0 | MI25: =SUM(GY25,HI25,HS25,IC25,IM25) -> 0 | MJ25: =SUM(GZ25,HJ25,HT25,ID25,IN25) -> 0 | MK25: =SUM(MD25:MJ25) -> 276 | ML25: =MD25+ME25+MF25*1.5+MG25*2.3+MH25*2+MI25*0.4+MJ25*0.2 -> 283.1 | MM25: =MM24+"00:15" -> 0.39583333 | MN25: =SUM(IR25,JL25,KF25,KZ25,LT25) -> 716 | MO25: =SUM(IS25,JM25,KG25,LA25,LU25) -> 150 | MP25: =SUM(IT25,JN25,KH25,LB25,LV25) -> 41 | MQ25: =SUM(IU25,JO25,KI25,LC25,LW25) -> 22 | MR25: =SUM(IV25,JP25,KJ25,LD25,LX25) -> 1 | MS25: =SUM(IW25,JQ25,KK25,LE25,LY25) -> 4 | MT25: =SUM(IX25,JR25,KL25,LF25,LZ25) -> 0 | MU25: =SUM(MN25:MT25) -> 934 | MV25: =MN25+MO25+MP25*1.5+MQ25*2.3+MR25*2+MS25*0.4+MT25*0.2 -> 981.7
A26: =A25+"00:15" -> 0.40625 | B26: 45 | C26: 10 | D26: 3 | E26: 5 | F26: 0 | G26: 0 | H26: 0 | I26: =SUM(B26:H26) -> 63 | J26: =B26+C26+D26*1.5+E26*2.3+F26*2+G26*0.4+H26*0.2 -> 71 | K26: =K25+"00:15" -> 0.40625 | L26: 39 | M26: 6 | N26: 1 | O26: 0 | P26: 0 | Q26: 0 | R26: 0 | S26: =SUM(L26:R26) -> 46 | T26: =L26+M26+N26*1.5+O26*2.3+P26*2+Q26*0.4+R26*0.2 -> 46.5 | U26: =U25+"00:15" -> 0.40625 | V26: 34 | W26: 10 | X26: 1 | Y26: 4 | Z26: 0 | AA26: 1 | AB26: 0 | AC26: =SUM(V26:AB26) -> 50 | AD26: =V26+W26+X26*1.5+Y26*2.3+Z26*2+AA26*0.4+AB26*0.2 -> 55.1 | AE26: =AE25+"00:15" -> 0.40625 | AF26: 4 | AG26: 0 | AH26: 0 | AI26: 0 | AJ26: 1 | AK26: 0 | AL26: 0 | AM26: =SUM(AF26:AL26) -> 5 | AN26: =AF26+AG26+AH26*1.5+AI26*2.3+AJ26*2+AK26*0.4+AL26*0.2 -> 6 | AO26: =AO25+"00:15" -> 0.40625 | AP26: 0 | AQ26: 0 | AR26: 0 | AS26: 0 | AT26: 0 | AU26: 0 | AV26: 0 | AW26: =SUM(AP26:AV26) -> 0 | AX26: =AP26+AQ26+AR26*1.5+AS26*2.3+AT26*2+AU26*0.4+AV26*0.2 -> 0 | AY26: =AY25+"00:15" -> 0.40625 | AZ26: 26 | BA26: 3 | BB26: 0 | BC26: 0 | BD26: 0 | BE26: 0 | BF26: 0 | BG26: =SUM(AZ26:BF26) -> 29 | BH26: =AZ26+BA26+BB26*1.5+BC26*2.3+BD26*2+BE26*0.4+BF26*0.2 -> 29 | BI26: =BI25+"00:15" -> 0.40625 | BJ26: 62 | BK26: 15 | BL26: 4 | BM26: 3 | BN26: 0 | BO26: 0 | BP26: 0 | BQ26: =SUM(BJ26:BP26) -> 84 | BR26: =BJ26+BK26+BL26*1.5+BM26*2.3+BN26*2+BO26*0.4+BP26*0.2 -> 89.9 | BS26: =BS25+"00:15" -> 0.40625 | BT26: 27 | BU26: 11 | BV26: 1 | BW26: 1 | BX26: 0 | BY26: 0 | BZ26: 0 | CA26: =SUM(BT26:BZ26) -> 40 | CB26: =BT26+BU26+BV26*1.5+BW26*2.3+BX26*2+BY26*0.4+BZ26*0.2 -> 41.8 | CC26: =CC25+"00:15" -> 0.40625 | CD26: 2 | CE26: 2 | CF26: 0 | CG26: 0 | CH26: 0 | CI26: 0 | CJ26: 0 | CK26: =SUM(CD26:CJ26) -> 4 | CL26: =CD26+CE26+CF26*1.5+CG26*2.3+CH26*2+CI26*0.4+CJ26*0.2 -> 4 | CM26: =CM25+"00:15" -> 0.40625 | CN26: 0 | CO26: 0 | CP26: 0 | CQ26: 0 | CR26: 0 | CS26: 0 | CT26: 0 | CU26: =SUM(CN26:CT26) -> 0 | CV26: =CN26+CO26+CP26*1.5+CQ26*2.3+CR26*2+CS26*0.4+CT26*0.2 -> 0 | CW26: =CW25+"00:15" -> 0.40625 | CX26: 7 | CY26: 1 | CZ26: 0 | DA26: 0 | DB26: 0 | DC26: 0 | DD26: 0 | DE26: =SUM(CX26:DD26) -> 8 | DF26: =CX26+CY26+CZ26*1.5+DA26*2.3+DB26*2+DC26*0.4+DD26*0.2 -> 8 | DG26: =DG25+"00:15" -> 0.40625 | DH26: 50 | DI26: 7 | DJ26: 1 | DK26: 1 | DL26: 0 | DM26: 0 | DN26: 0 | DO26: =SUM(DH26:DN26) -> 59 | DP26: =DH26+DI26+DJ26*1.5+DK26*2.3+DL26*2+DM26*0.4+DN26*0.2 -> 60.8 | DQ26: =DQ25+"00:15" -> 0.40625 | DR26: 0 | DS26: 0 | DT26: 0 | DU26: 0 | DV26: 0 | DW26: 0 | DX26: 0 | DY26: =SUM(DR26:DX26) -> 0 | DZ26: =DR26+DS26+DT26*1.5+DU26*2.3+DV26*2+DW26*0.4+DX26*0.2 -> 0 | EA26: =EA25+"00:15" -> 0.40625 | EB26: 26 | EC26: 17 | ED26: 4 | EE26: 0 | EF26: 0 | EG26: 0 | EH26: 0 | EI26: =SUM(EB26:EH26) -> 47 | EJ26: =EB26+EC26+ED26*1.5+EE26*2.3+EF26*2+EG26*0.4+EH26*0.2 -> 49 | EK26: =EK25+"00:15" -> 0.40625 | EL26: 0 | EM26: 0 | EN26: 0 | EO26: 0 | EP26: 0 | EQ26: 0 | ER26: 0 | ES26: =SUM(EL26:ER26) -> 0 | ET26: =EL26+EM26+EN26*1.5+EO26*2.3+EP26*2+EQ26*0.4+ER26*0.2 -> 0 | EU26: =EU25+"00:15" -> 0.40625 | EV26: 48 | EW26: 24 | EX26: 5 | EY26: 3 | EZ26: 0 | FA26: 0 | FB26: 0 | FC26: =SUM(EV26:FB26) -> 80 | FD26: =EV26+EW26+EX26*1.5+EY26*2.3+EZ26*2+FA26*0.4+FB26*0.2 -> 86.4 | FE26: =FE25+"00:15" -> 0.40625 | FF26: 22 | FG26: 3 | FH26: 2 | FI26: 0 | FJ26: 0 | FK26: 2 | FL26: 0 | FM26: =SUM(FF26:FL26) -> 29 | FN26: =FF26+FG26+FH26*1.5+FI26*2.3+FJ26*2+FK26*0.4+FL26*0.2 -> 28.8 | FO26: =FO25+"00:15" -> 0.40625 | FP26: 29 | FQ26: 5 | FR26: 2 | FS26: 1 | FT26: 0 | FU26: 0 | FV26: 0 | FW26: =SUM(FP26:FV26) -> 37 | FX26: =FP26+FQ26+FR26*1.5+FS26*2.3+FT26*2+FU26*0.4+FV26*0.2 -> 39.3 | FY26: =FY25+"00:15" -> 0.40625 | FZ26: 79 | GA26: 16 | GB26: 5 | GC26: 3 | GD26: 1 | GE26: 0 | GF26: 0 | GG26: =SUM(FZ26:GF26) -> 104 | GH26: =FZ26+GA26+GB26*1.5+GC26*2.3+GD26*2+GE26*0.4+GF26*0.2 -> 111.4 | GI26: =GI25+"00:15" -> 0.40625 | GJ26: 0 | GK26: 0 | GL26: 0 | GM26: 0 | GN26: 0 | GO26: 0 | GP26: 0 | GQ26: =SUM(GJ26:GP26) -> 0 | GR26: =GJ26+GK26+GL26*1.5+GM26*2.3+GN26*2+GO26*0.4+GP26*0.2 -> 0 | GS26: =GS25+"00:15" -> 0.40625 | GT26: 102 | GU26: 21 | GV26: 2 | GW26: 0 | GX26: 1 | GY26: 0 | GZ26: 0 | HA26: =SUM(GT26:GZ26) -> 126 | HB26: =GT26+GU26+GV26*1.5+GW26*2.3+GX26*2+GY26*0.4+GZ26*0.2 -> 128 | HC26: =HC25+"00:15" -> 0.40625 | HD26: 0 | HE26: 0 | HF26: 0 | HG26: 0 | HH26: 0 | HI26: 0 | HJ26: 0 | HK26: =SUM(HD26:HJ26) -> 0 | HL26: =HD26+HE26+HF26*1.5+HG26*2.3+HH26*2+HI26*0.4+HJ26*0.2 -> 0 | HM26: =HM25+"00:15" -> 0.40625 | HN26: 70 | HO26: 16 | HP26: 3 | HQ26: 1 | HR26: 0 | HS26: 0 | HT26: 0 | HU26: =SUM(HN26:HT26) -> 90 | HV26: =HN26+HO26+HP26*1.5+HQ26*2.3+HR26*2+HS26*0.4+HT26*0.2 -> 92.8 | HW26: =HW25+"00:15" -> 0.40625 | HX26: 27 | HY26: 15 | HZ26: 6 | IA26: 2 | IB26: 0 | IC26: 0 | ID26: 0 | IE26: =SUM(HX26:ID26) -> 50 | IF26: =HX26+HY26+HZ26*1.5+IA26*2.3+IB26*2+IC26*0.4+ID26*0.2 -> 55.6 | IG26: =IG25+"00:15" -> 0.40625 | IH26: 0 | II26: 0 | IJ26: 0 | IK26: 0 | IL26: 0 | IM26: 0 | IN26: 0 | IO26: =SUM(IH26:IN26) -> 0 | IP26: =IH26+II26+IJ26*1.5+IK26*2.3+IL26*2+IM26*0.4+IN26*0.2 -> 0 | IQ26: =IQ25+"00:15" -> 0.40625 | IR26: =SUM(AP26,AZ26,DH26,FP26,HX26) -> 132 | IS26: =SUM(AQ26,BA26,DI26,FQ26,HY26) -> 30 | IT26: =SUM(AR26,BB26,DJ26,FR26,HZ26) -> 9 | IU26: =SUM(AS26,BC26,DK26,FS26,IA26) -> 4 | IV26: =SUM(AT26,BD26,DL26,FT26,IB26) -> 0 | IW26: =SUM(AU26,BE26,DM26,FU26,IC26) -> 0 | IX26: =SUM(AV26,BF26,DN26,FV26,ID26) -> 0 | IY26: =SUM(IR26:IX26) -> 175 | IZ26: =IR26+IS26+IT26*1.5+IU26*2.3+IV26*2+IW26*0.4+IX26*0.2 -> 184.7 | JA26: =JA25+"00:15" -> 0.40625 | JB26: =SUM(B26,L26,V26,AF26,AP26) -> 122 | JC26: =SUM(C26,M26,W26,AG26,AQ26) -> 26 | JD26: =SUM(D26,N26,X26,AH26,AR26) -> 5 | JE26: =SUM(E26,O26,Y26,AI26,AS26) -> 9 | JF26: =SUM(F26,P26,Z26,AJ26,AT26) -> 1 | JG26: =SUM(G26,Q26,AA26,AK26,AU26) -> 1 | JH26: =SUM(H26,R26,AB26,AL26,AV26) -> 0 | JI26: =SUM(JB26:JH26) -> 164 | JJ26: =JB26+JC26+JD26*1.5+JE26*2.3+JF26*2+JG26*0.4+JH26*0.2 -> 178.6 | JK26: =JK25+"00:15" -> 0.40625 | JL26: =SUM(AF26,CN26,CX26,FF26,HN26) -> 103 | JM26: =SUM(AG26,CO26,CY26,FG26,HO26) -> 20 | JN26: =SUM(AH26,CP26,CZ26,FH26,HP26) -> 5 | JO26: =SUM(AI26,CQ26,DA26,FI26,HQ26) -> 1 | JP26: =SUM(AJ26,CR26,DB26,FJ26,HR26) -> 1 | JQ26: =SUM(AK26,CS26,DC26,FK26,HS26) -> 2 | JR26: =SUM(AL26,CT26,DD26,FL26,HT26) -> 0 | JS26: =SUM(JL26:JR26) -> 132 | JT26: =JL26+JM26+JN26*1.5+JO26*2.3+JP26*2+JQ26*0.4+JR26*0.2 -> 135.6 | JU26: =JU25+"00:15" -> 0.40625 | JV26: =SUM(AZ26,BJ26,BT26,CD26,CN26) -> 117 | JW26: =SUM(BA26,BK26,BU26,CE26,CO26) -> 31 | JX26: =SUM(BB26,BL26,BV26,CF26,CP26) -> 5 | JY26: =SUM(BC26,BM26,BW26,CG26,CQ26) -> 4 | JZ26: =SUM(BD26,BN26,BX26,CH26,CR26) -> 0 | KA26: =SUM(BE26,BO26,BY26,CI26,CS26) -> 0 | KB26: =SUM(BF26,BP26,BZ26,CJ26,CT26) -> 0 | KC26: =SUM(JV26:KB26) -> 157 | KD26: =JV26+JW26+JX26*1.5+JY26*2.3+JZ26*2+KA26*0.4+KB26*0.2 -> 164.7 | KE26: =KE25+"00:15" -> 0.40625 | KF26: =SUM(V26,CD26,EL26,EV26,HD26) -> 84 | KG26: =SUM(W26,CE26,EM26,EW26,HE26) -> 36 | KH26: =SUM(X26,CF26,EN26,EX26,HF26) -> 6 | KI26: =SUM(Y26,CG26,EO26,EY26,HG26) -> 7 | KJ26: =SUM(Z26,CH26,EP26,EZ26,HH26) -> 0 | KK26: =SUM(AA26,CI26,EQ26,FA26,HI26) -> 1 | KL26: =SUM(AB26,CJ26,ER26,FB26,HJ26) -> 0 | KM26: =SUM(KF26:KL26) -> 134 | KN26: =KF26+KG26+KH26*1.5+KI26*2.3+KJ26*2+KK26*0.4+KL26*0.2 -> 145.5 | KO26: =KO25+"00:15" -> 0.40625 | KP26: =SUM(CX26,DH26,DR26,EB26,EL26) -> 83 | KQ26: =SUM(CY26,DI26,DS26,EC26,EM26) -> 25 | KR26: =SUM(CZ26,DJ26,DT26,ED26,EN26) -> 5 | KS26: =SUM(DA26,DK26,DU26,EE26,EO26) -> 1 | KT26: =SUM(DB26,DL26,DV26,EF26,EP26) -> 0 | KU26: =SUM(DC26,DM26,DW26,EG26,EQ26) -> 0 | KV26: =SUM(DD26,DN26,DX26,EH26,ER26) -> 0 | KW26: =SUM(KP26:KV26) -> 114 | KX26: =KP26+KQ26+KR26*1.5+KS26*2.3+KT26*2+KU26*0.4+KV26*0.2 -> 117.8 | KY26: =KY25+"00:15" -> 0.40625 | KZ26: =SUM(L26,BT26,EB26,GJ26,GT26) -> 194 | LA26: =SUM(M26,BU26,EC26,GK26,GU26) -> 55 | LB26: =SUM(N26,BV26,ED26,GL26,GV26) -> 8 | LC26: =SUM(O26,BW26,EE26,GM26,GW26) -> 1 | LD26: =SUM(P26,BX26,EF26,GN26,GX26) -> 1 | LE26: =SUM(Q26,BY26,EG26,GO26,GY26) -> 0 | LF26: =SUM(R26,BZ26,EH26,GP26,GZ26) -> 0 | LG26: =SUM(KZ26:LF26) -> 259 | LH26: =KZ26+LA26+LB26*1.5+LC26*2.3+LD26*2+LE26*0.4+LF26*0.2 -> 265.3 | LI26: =LI25+"00:15" -> 0.40625 | LJ26: =SUM(EV26,FF26,FP26,FZ26,GJ26) -> 178 | LK26: =SUM(EW26,FG26,FQ26,GA26,GK26) -> 48 | LL26: =SUM(EX26,FH26,FR26,GB26,GL26) -> 14 | LM26: =SUM(EY26,FI26,FS26,GC26,GM26) -> 7 | LN26: =SUM(EZ26,FJ26,FT26,GD26,GN26) -> 1 | LO26: =SUM(FA26,FK26,FU26,GE26,GO26) -> 2 | LP26: =SUM(FB26,FL26,FV26,GF26,GP26) -> 0 | LQ26: =SUM(LJ26:LP26) -> 250 | LR26: =LJ26+LK26+LL26*1.5+LM26*2.3+LN26*2+LO26*0.4+LP26*0.2 -> 265.9 | LS26: =LS25+"00:15" -> 0.40625 | LT26: =SUM(B26,BJ26,DR26,FZ26,IH26) -> 186 | LU26: =SUM(C26,BK26,DS26,GA26,II26) -> 41 | LV26: =SUM(D26,BL26,DT26,GB26,IJ26) -> 12 | LW26: =SUM(E26,BM26,DU26,GC26,IK26) -> 11 | LX26: =SUM(F26,BN26,DV26,GD26,IL26) -> 1 | LY26: =SUM(G26,BO26,DW26,GE26,IM26) -> 0 | LZ26: =SUM(H26,BP26,DX26,GF26,IN26) -> 0 | MA26: =SUM(LT26:LZ26) -> 251 | MB26: =LT26+LU26+LV26*1.5+LW26*2.3+LX26*2+LY26*0.4+LZ26*0.2 -> 272.3 | MC26: =MC25+"00:15" -> 0.40625 | MD26: =SUM(GT26,HD26,HN26,HX26,IH26) -> 199 | ME26: =SUM(GU26,HE26,HO26,HY26,II26) -> 52 | MF26: =SUM(GV26,HF26,HP26,HZ26,IJ26) -> 11 | MG26: =SUM(GW26,HG26,HQ26,IA26,IK26) -> 3 | MH26: =SUM(GX26,HH26,HR26,IB26,IL26) -> 1 | MI26: =SUM(GY26,HI26,HS26,IC26,IM26) -> 0 | MJ26: =SUM(GZ26,HJ26,HT26,ID26,IN26) -> 0 | MK26: =SUM(MD26:MJ26) -> 266 | ML26: =MD26+ME26+MF26*1.5+MG26*2.3+MH26*2+MI26*0.4+MJ26*0.2 -> 276.4 | MM26: =MM25+"00:15" -> 0.40625 | MN26: =SUM(IR26,JL26,KF26,KZ26,LT26) -> 699 | MO26: =SUM(IS26,JM26,KG26,LA26,LU26) -> 182 | MP26: =SUM(IT26,JN26,KH26,LB26,LV26) -> 40 | MQ26: =SUM(IU26,JO26,KI26,LC26,LW26) -> 24 | MR26: =SUM(IV26,JP26,KJ26,LD26,LX26) -> 3 | MS26: =SUM(IW26,JQ26,KK26,LE26,LY26) -> 3 | MT26: =SUM(IX26,JR26,KL26,LF26,LZ26) -> 0 | MU26: =SUM(MN26:MT26) -> 951 | MV26: =MN26+MO26+MP26*1.5+MQ26*2.3+MR26*2+MS26*0.4+MT26*0.2 -> 1003.4
A27: H/TOT | B27: =SUM(B23:B26) -> 175 | C27: =SUM(C23:C26) -> 40 | D27: =SUM(D23:D26) -> 21 | E27: =SUM(E23:E26) -> 11 | F27: =SUM(F23:F26) -> 0 | G27: =SUM(G23:G26) -> 1 | H27: =SUM(H23:H26) -> 0 | I27: =SUM(I23:I26) -> 248 | J27: =SUM(J23:J26) -> 272.2 | K27: H/TOT | L27: =SUM(L23:L26) -> 143 | M27: =SUM(M23:M26) -> 21 | N27: =SUM(N23:N26) -> 8 | O27: =SUM(O23:O26) -> 0 | P27: =SUM(P23:P26) -> 1 | Q27: =SUM(Q23:Q26) -> 2 | R27: =SUM(R23:R26) -> 0 | S27: =SUM(S23:S26) -> 175 | T27: =SUM(T23:T26) -> 178.8 | U27: H/TOT | V27: =SUM(V23:V26) -> 124 | W27: =SUM(W23:W26) -> 31 | X27: =SUM(X23:X26) -> 15 | Y27: =SUM(Y23:Y26) -> 10 | Z27: =SUM(Z23:Z26) -> 0 | AA27: =SUM(AA23:AA26) -> 1 | AB27: =SUM(AB23:AB26) -> 0 | AC27: =SUM(AC23:AC26) -> 181 | AD27: =SUM(AD23:AD26) -> 200.9 | AE27: H/TOT | AF27: =SUM(AF23:AF26) -> 21 | AG27: =SUM(AG23:AG26) -> 3 | AH27: =SUM(AH23:AH26) -> 2 | AI27: =SUM(AI23:AI26) -> 0 | AJ27: =SUM(AJ23:AJ26) -> 1 | AK27: =SUM(AK23:AK26) -> 0 | AL27: =SUM(AL23:AL26) -> 0 | AM27: =SUM(AM23:AM26) -> 27 | AN27: =SUM(AN23:AN26) -> 29 | AO27: H/TOT | AP27: =SUM(AP23:AP26) -> 0 | AQ27: =SUM(AQ23:AQ26) -> 0 | AR27: =SUM(AR23:AR26) -> 0 | AS27: =SUM(AS23:AS26) -> 0 | AT27: =SUM(AT23:AT26) -> 0 | AU27: =SUM(AU23:AU26) -> 0 | AV27: =SUM(AV23:AV26) -> 0 | AW27: =SUM(AW23:AW26) -> 0 | AX27: =SUM(AX23:AX26) -> 0 | AY27: H/TOT | AZ27: =SUM(AZ23:AZ26) -> 87 | BA27: =SUM(BA23:BA26) -> 11 | BB27: =SUM(BB23:BB26) -> 2 | BC27: =SUM(BC23:BC26) -> 0 | BD27: =SUM(BD23:BD26) -> 0 | BE27: =SUM(BE23:BE26) -> 0 | BF27: =SUM(BF23:BF26) -> 0 | BG27: =SUM(BG23:BG26) -> 100 | BH27: =SUM(BH23:BH26) -> 101 | BI27: H/TOT | BJ27: =SUM(BJ23:BJ26) -> 297 | BK27: =SUM(BK23:BK26) -> 61 | BL27: =SUM(BL23:BL26) -> 18 | BM27: =SUM(BM23:BM26) -> 7 | BN27: =SUM(BN23:BN26) -> 1 | BO27: =SUM(BO23:BO26) -> 0 | BP27: =SUM(BP23:BP26) -> 0 | BQ27: =SUM(BQ23:BQ26) -> 384 | BR27: =SUM(BR23:BR26) -> 403.1 | BS27: H/TOT | BT27: =SUM(BT23:BT26) -> 117 | BU27: =SUM(BU23:BU26) -> 29 | BV27: =SUM(BV23:BV26) -> 3 | BW27: =SUM(BW23:BW26) -> 1 | BX27: =SUM(BX23:BX26) -> 0 | BY27: =SUM(BY23:BY26) -> 0 | BZ27: =SUM(BZ23:BZ26) -> 0 | CA27: =SUM(CA23:CA26) -> 150 | CB27: =SUM(CB23:CB26) -> 152.8 | CC27: H/TOT | CD27: =SUM(CD23:CD26) -> 33 | CE27: =SUM(CE23:CE26) -> 6 | CF27: =SUM(CF23:CF26) -> 0 | CG27: =SUM(CG23:CG26) -> 1 | CH27: =SUM(CH23:CH26) -> 0 | CI27: =SUM(CI23:CI26) -> 0 | CJ27: =SUM(CJ23:CJ26) -> 0 | CK27: =SUM(CK23:CK26) -> 40 | CL27: =SUM(CL23:CL26) -> 41.3 | CM27: H/TOT | CN27: =SUM(CN23:CN26) -> 0 | CO27: =SUM(CO23:CO26) -> 0 | CP27: =SUM(CP23:CP26) -> 0 | CQ27: =SUM(CQ23:CQ26) -> 0 | CR27: =SUM(CR23:CR26) -> 0 | CS27: =SUM(CS23:CS26) -> 0 | CT27: =SUM(CT23:CT26) -> 0 | CU27: =SUM(CU23:CU26) -> 0 | CV27: =SUM(CV23:CV26) -> 0 | CW27: H/TOT | CX27: =SUM(CX23:CX26) -> 51 | CY27: =SUM(CY23:CY26) -> 4 | CZ27: =SUM(CZ23:CZ26) -> 1 | DA27: =SUM(DA23:DA26) -> 0 | DB27: =SUM(DB23:DB26) -> 0 | DC27: =SUM(DC23:DC26) -> 0 | DD27: =SUM(DD23:DD26) -> 0 | DE27: =SUM(DE23:DE26) -> 56 | DF27: =SUM(DF23:DF26) -> 56.5 | DG27: H/TOT | DH27: =SUM(DH23:DH26) -> 191 | DI27: =SUM(DI23:DI26) -> 31 | DJ27: =SUM(DJ23:DJ26) -> 13 | DK27: =SUM(DK23:DK26) -> 13 | DL27: =SUM(DL23:DL26) -> 0 | DM27: =SUM(DM23:DM26) -> 0 | DN27: =SUM(DN23:DN26) -> 0 | DO27: =SUM(DO23:DO26) -> 248 | DP27: =SUM(DP23:DP26) -> 271.4 | DQ27: H/TOT | DR27: =SUM(DR23:DR26) -> 0 | DS27: =SUM(DS23:DS26) -> 0 | DT27: =SUM(DT23:DT26) -> 0 | DU27: =SUM(DU23:DU26) -> 0 | DV27: =SUM(DV23:DV26) -> 0 | DW27: =SUM(DW23:DW26) -> 0 | DX27: =SUM(DX23:DX26) -> 0 | DY27: =SUM(DY23:DY26) -> 0 | DZ27: =SUM(DZ23:DZ26) -> 0 | EA27: H/TOT | EB27: =SUM(EB23:EB26) -> 139 | EC27: =SUM(EC23:EC26) -> 48 | ED27: =SUM(ED23:ED26) -> 9 | EE27: =SUM(EE23:EE26) -> 12 | EF27: =SUM(EF23:EF26) -> 0 | EG27: =SUM(EG23:EG26) -> 0 | EH27: =SUM(EH23:EH26) -> 0 | EI27: =SUM(EI23:EI26) -> 208 | EJ27: =SUM(EJ23:EJ26) -> 228.1 | EK27: H/TOT | EL27: =SUM(EL23:EL26) -> 0 | EM27: =SUM(EM23:EM26) -> 0 | EN27: =SUM(EN23:EN26) -> 0 | EO27: =SUM(EO23:EO26) -> 0 | EP27: =SUM(EP23:EP26) -> 0 | EQ27: =SUM(EQ23:EQ26) -> 0 | ER27: =SUM(ER23:ER26) -> 0 | ES27: =SUM(ES23:ES26) -> 0 | ET27: =SUM(ET23:ET26) -> 0 | EU27: H/TOT | EV27: =SUM(EV23:EV26) -> 255 | EW27: =SUM(EW23:EW26) -> 76 | EX27: =SUM(EX23:EX26) -> 12 | EY27: =SUM(EY23:EY26) -> 12 | EZ27: =SUM(EZ23:EZ26) -> 0 | FA27: =SUM(FA23:FA26) -> 1 | FB27: =SUM(FB23:FB26) -> 0 | FC27: =SUM(FC23:FC26) -> 356 | FD27: =SUM(FD23:FD26) -> 377 | FE27: H/TOT | FF27: =SUM(FF23:FF26) -> 84 | FG27: =SUM(FG23:FG26) -> 16 | FH27: =SUM(FH23:FH26) -> 4 | FI27: =SUM(FI23:FI26) -> 0 | FJ27: =SUM(FJ23:FJ26) -> 0 | FK27: =SUM(FK23:FK26) -> 3 | FL27: =SUM(FL23:FL26) -> 0 | FM27: =SUM(FM23:FM26) -> 107 | FN27: =SUM(FN23:FN26) -> 107.2 | FO27: H/TOT | FP27: =SUM(FP23:FP26) -> 118 | FQ27: =SUM(FQ23:FQ26) -> 19 | FR27: =SUM(FR23:FR26) -> 8 | FS27: =SUM(FS23:FS26) -> 5 | FT27: =SUM(FT23:FT26) -> 1 | FU27: =SUM(FU23:FU26) -> 2 | FV27: =SUM(FV23:FV26) -> 0 | FW27: =SUM(FW23:FW26) -> 153 | FX27: =SUM(FX23:FX26) -> 163.3 | FY27: H/TOT | FZ27: =SUM(FZ23:FZ26) -> 291 | GA27: =SUM(GA23:GA26) -> 61 | GB27: =SUM(GB23:GB26) -> 19 | GC27: =SUM(GC23:GC26) -> 15 | GD27: =SUM(GD23:GD26) -> 1 | GE27: =SUM(GE23:GE26) -> 0 | GF27: =SUM(GF23:GF26) -> 0 | GG27: =SUM(GG23:GG26) -> 387 | GH27: =SUM(GH23:GH26) -> 417 | GI27: H/TOT | GJ27: =SUM(GJ23:GJ26) -> 3 | GK27: =SUM(GK23:GK26) -> 0 | GL27: =SUM(GL23:GL26) -> 0 | GM27: =SUM(GM23:GM26) -> 0 | GN27: =SUM(GN23:GN26) -> 0 | GO27: =SUM(GO23:GO26) -> 0 | GP27: =SUM(GP23:GP26) -> 0 | GQ27: =SUM(GQ23:GQ26) -> 3 | GR27: =SUM(GR23:GR26) -> 3 | GS27: H/TOT | GT27: =SUM(GT23:GT26) -> 470 | GU27: =SUM(GU23:GU26) -> 91 | GV27: =SUM(GV23:GV26) -> 14 | GW27: =SUM(GW23:GW26) -> 7 | GX27: =SUM(GX23:GX26) -> 2 | GY27: =SUM(GY23:GY26) -> 0 | GZ27: =SUM(GZ23:GZ26) -> 0 | HA27: =SUM(HA23:HA26) -> 584 | HB27: =SUM(HB23:HB26) -> 602.1 | HC27: H/TOT | HD27: =SUM(HD23:HD26) -> 0 | HE27: =SUM(HE23:HE26) -> 0 | HF27: =SUM(HF23:HF26) -> 0 | HG27: =SUM(HG23:HG26) -> 0 | HH27: =SUM(HH23:HH26) -> 0 | HI27: =SUM(HI23:HI26) -> 0 | HJ27: =SUM(HJ23:HJ26) -> 0 | HK27: =SUM(HK23:HK26) -> 0 | HL27: =SUM(HL23:HL26) -> 0 | HM27: H/TOT | HN27: =SUM(HN23:HN26) -> 313 | HO27: =SUM(HO23:HO26) -> 59 | HP27: =SUM(HP23:HP26) -> 11 | HQ27: =SUM(HQ23:HQ26) -> 3 | HR27: =SUM(HR23:HR26) -> 0 | HS27: =SUM(HS23:HS26) -> 0 | HT27: =SUM(HT23:HT26) -> 0 | HU27: =SUM(HU23:HU26) -> 386 | HV27: =SUM(HV23:HV26) -> 395.4 | HW27: H/TOT | HX27: =SUM(HX23:HX26) -> 203 | HY27: =SUM(HY23:HY26) -> 47 | HZ27: =SUM(HZ23:HZ26) -> 19 | IA27: =SUM(IA23:IA26) -> 11 | IB27: =SUM(IB23:IB26) -> 2 | IC27: =SUM(IC23:IC26) -> 0 | ID27: =SUM(ID23:ID26) -> 0 | IE27: =SUM(IE23:IE26) -> 282 | IF27: =SUM(IF23:IF26) -> 307.8 | IG27: H/TOT | IH27: =SUM(IH23:IH26) -> 0 | II27: =SUM(II23:II26) -> 0 | IJ27: =SUM(IJ23:IJ26) -> 0 | IK27: =SUM(IK23:IK26) -> 0 | IL27: =SUM(IL23:IL26) -> 0 | IM27: =SUM(IM23:IM26) -> 0 | IN27: =SUM(IN23:IN26) -> 0 | IO27: =SUM(IO23:IO26) -> 0 | IP27: =SUM(IP23:IP26) -> 0 | IQ27: H/TOT | IR27: =SUM(IR23:IR26) -> 599 | IS27: =SUM(IS23:IS26) -> 108 | IT27: =SUM(IT23:IT26) -> 42 | IU27: =SUM(IU23:IU26) -> 29 | IV27: =SUM(IV23:IV26) -> 3 | IW27: =SUM(IW23:IW26) -> 2 | IX27: =SUM(IX23:IX26) -> 0 | IY27: =SUM(IY23:IY26) -> 783 | IZ27: =SUM(IZ23:IZ26) -> 843.5 | JA27: H/TOT | JB27: =SUM(JB23:JB26) -> 463 | JC27: =SUM(JC23:JC26) -> 95 | JD27: =SUM(JD23:JD26) -> 46 | JE27: =SUM(JE23:JE26) -> 21 | JF27: =SUM(JF23:JF26) -> 2 | JG27: =SUM(JG23:JG26) -> 4 | JH27: =SUM(JH23:JH26) -> 0 | JI27: =SUM(JI23:JI26) -> 631 | JJ27: =SUM(JJ23:JJ26) -> 680.9 | JK27: H/TOT | JL27: =SUM(JL23:JL26) -> 469 | JM27: =SUM(JM23:JM26) -> 82 | JN27: =SUM(JN23:JN26) -> 18 | JO27: =SUM(JO23:JO26) -> 3 | JP27: =SUM(JP23:JP26) -> 1 | JQ27: =SUM(JQ23:JQ26) -> 3 | JR27: =SUM(JR23:JR26) -> 0 | JS27: =SUM(JS23:JS26) -> 576 | JT27: =SUM(JT23:JT26) -> 588.1 | JU27: H/TOT | JV27: =SUM(JV23:JV26) -> 534 | JW27: =SUM(JW23:JW26) -> 107 | JX27: =SUM(JX23:JX26) -> 23 | JY27: =SUM(JY23:JY26) -> 9 | JZ27: =SUM(JZ23:JZ26) -> 1 | KA27: =SUM(KA23:KA26) -> 0 | KB27: =SUM(KB23:KB26) -> 0 | KC27: =SUM(KC23:KC26) -> 674 | KD27: =SUM(KD23:KD26) -> 698.2 | KE27: H/TOT | KF27: =SUM(KF23:KF26) -> 412 | KG27: =SUM(KG23:KG26) -> 113 | KH27: =SUM(KH23:KH26) -> 27 | KI27: =SUM(KI23:KI26) -> 23 | KJ27: =SUM(KJ23:KJ26) -> 0 | KK27: =SUM(KK23:KK26) -> 2 | KL27: =SUM(KL23:KL26) -> 0 | KM27: =SUM(KM23:KM26) -> 577 | KN27: =SUM(KN23:KN26) -> 619.2 | KO27: H/TOT | KP27: =SUM(KP23:KP26) -> 381 | KQ27: =SUM(KQ23:KQ26) -> 83 | KR27: =SUM(KR23:KR26) -> 23 | KS27: =SUM(KS23:KS26) -> 25 | KT27: =SUM(KT23:KT26) -> 0 | KU27: =SUM(KU23:KU26) -> 0 | KV27: =SUM(KV23:KV26) -> 0 | KW27: =SUM(KW23:KW26) -> 512 | KX27: =SUM(KX23:KX26) -> 556 | KY27: H/TOT | KZ27: =SUM(KZ23:KZ26) -> 872 | LA27: =SUM(LA23:LA26) -> 189 | LB27: =SUM(LB23:LB26) -> 34 | LC27: =SUM(LC23:LC26) -> 20 | LD27: =SUM(LD23:LD26) -> 3 | LE27: =SUM(LE23:LE26) -> 2 | LF27: =SUM(LF23:LF26) -> 0 | LG27: =SUM(LG23:LG26) -> 1120 | LH27: =SUM(LH23:LH26) -> 1164.8 | LI27: H/TOT | LJ27: =SUM(LJ23:LJ26) -> 751 | LK27: =SUM(LK23:LK26) -> 172 | LL27: =SUM(LL23:LL26) -> 43 | LM27: =SUM(LM23:LM26) -> 32 | LN27: =SUM(LN23:LN26) -> 2 | LO27: =SUM(LO23:LO26) -> 6 | LP27: =SUM(LP23:LP26) -> 0 | LQ27: =SUM(LQ23:LQ26) -> 1006 | LR27: =SUM(LR23:LR26) -> 1067.5 | LS27: H/TOT | LT27: =SUM(LT23:LT26) -> 763 | LU27: =SUM(LU23:LU26) -> 162 | LV27: =SUM(LV23:LV26) -> 58 | LW27: =SUM(LW23:LW26) -> 33 | LX27: =SUM(LX23:LX26) -> 2 | LY27: =SUM(LY23:LY26) -> 1 | LZ27: =SUM(LZ23:LZ26) -> 0 | MA27: =SUM(MA23:MA26) -> 1019 | MB27: =SUM(MB23:MB26) -> 1092.3 | MC27: H/TOT | MD27: =SUM(MD23:MD26) -> 986 | ME27: =SUM(ME23:ME26) -> 197 | MF27: =SUM(MF23:MF26) -> 44 | MG27: =SUM(MG23:MG26) -> 21 | MH27: =SUM(MH23:MH26) -> 4 | MI27: =SUM(MI23:MI26) -> 0 | MJ27: =SUM(MJ23:MJ26) -> 0 | MK27: =SUM(MK23:MK26) -> 1252 | ML27: =SUM(ML23:ML26) -> 1305.3 | MM27: H/TOT | MN27: =SUM(MN23:MN26) -> 3115 | MO27: =SUM(MO23:MO26) -> 654 | MP27: =SUM(MP23:MP26) -> 179 | MQ27: =SUM(MQ23:MQ26) -> 108 | MR27: =SUM(MR23:MR26) -> 9 | MS27: =SUM(MS23:MS26) -> 10 | MT27: =SUM(MT23:MT26) -> 0 | MU27: =SUM(MU23:MU26) -> 4075 | MV27: =SUM(MV23:MV26) -> 4307.9
A28: 0.66666667 | B28: 132 | C28: 20 | D28: 3 | E28: 0 | F28: 1 | G28: 0 | H28: 0 | I28: =SUM(B28:H28) -> 156 | J28: =B28+C28+D28*1.5+E28*2.3+F28*2+G28*0.4+H28*0.2 -> 158.5 | K28: =A28 -> 0.66666667 | L28: 42 | M28: 3 | N28: 1 | O28: 0 | P28: 2 | Q28: 4 | R28: 0 | S28: =SUM(L28:R28) -> 52 | T28: =L28+M28+N28*1.5+O28*2.3+P28*2+Q28*0.4+R28*0.2 -> 52.1 | U28: =K28 -> 0.66666667 | V28: 69 | W28: 6 | X28: 1 | Y28: 1 | Z28: 2 | AA28: 2 | AB28: 0 | AC28: =SUM(V28:AB28) -> 81 | AD28: =V28+W28+X28*1.5+Y28*2.3+Z28*2+AA28*0.4+AB28*0.2 -> 83.6 | AE28: =U28 -> 0.66666667 | AF28: 6 | AG28: 1 | AH28: 2 | AI28: 0 | AJ28: 0 | AK28: 0 | AL28: 0 | AM28: =SUM(AF28:AL28) -> 9 | AN28: =AF28+AG28+AH28*1.5+AI28*2.3+AJ28*2+AK28*0.4+AL28*0.2 -> 10 | AO28: =AE28 -> 0.66666667 | AP28: 0 | AQ28: 0 | AR28: 0 | AS28: 0 | AT28: 0 | AU28: 0 | AV28: 0 | AW28: =SUM(AP28:AV28) -> 0 | AX28: =AP28+AQ28+AR28*1.5+AS28*2.3+AT28*2+AU28*0.4+AV28*0.2 -> 0 | AY28: =AO28 -> 0.66666667 | AZ28: 21 | BA28: 1 | BB28: 0 | BC28: 0 | BD28: 0 | BE28: 0 | BF28: 0 | BG28: =SUM(AZ28:BF28) -> 22 | BH28: =AZ28+BA28+BB28*1.5+BC28*2.3+BD28*2+BE28*0.4+BF28*0.2 -> 22 | BI28: =AY28 -> 0.66666667 | BJ28: 137 | BK28: 22 | BL28: 1 | BM28: 0 | BN28: 0 | BO28: 0 | BP28: 0 | BQ28: =SUM(BJ28:BP28) -> 160 | BR28: =BJ28+BK28+BL28*1.5+BM28*2.3+BN28*2+BO28*0.4+BP28*0.2 -> 160.5 | BS28: =BI28 -> 0.66666667 | BT28: 41 | BU28: 5 | BV28: 1 | BW28: 0 | BX28: 0 | BY28: 1 | BZ28: 0 | CA28: =SUM(BT28:BZ28) -> 48 | CB28: =BT28+BU28+BV28*1.5+BW28*2.3+BX28*2+BY28*0.4+BZ28*0.2 -> 47.9 | CC28: =BS28 -> 0.66666667 | CD28: 16 | CE28: 4 | CF28: 0 | CG28: 0 | CH28: 0 | CI28: 0 | CJ28: 0 | CK28: =SUM(CD28:CJ28) -> 20 | CL28: =CD28+CE28+CF28*1.5+CG28*2.3+CH28*2+CI28*0.4+CJ28*0.2 -> 20 | CM28: =CC28 -> 0.66666667 | CN28: 0 | CO28: 0 | CP28: 0 | CQ28: 0 | CR28: 0 | CS28: 0 | CT28: 0 | CU28: =SUM(CN28:CT28) -> 0 | CV28: =CN28+CO28+CP28*1.5+CQ28*2.3+CR28*2+CS28*0.4+CT28*0.2 -> 0 | CW28: =CM28 -> 0.66666667 | CX28: 22 | CY28: 3 | CZ28: 0 | DA28: 0 | DB28: 1 | DC28: 0 | DD28: 0 | DE28: =SUM(CX28:DD28) -> 26 | DF28: =CX28+CY28+CZ28*1.5+DA28*2.3+DB28*2+DC28*0.4+DD28*0.2 -> 27 | DG28: =CW28 -> 0.66666667 | DH28: 51 | DI28: 16 | DJ28: 2 | DK28: 1 | DL28: 0 | DM28: 1 | DN28: 0 | DO28: =SUM(DH28:DN28) -> 71 | DP28: =DH28+DI28+DJ28*1.5+DK28*2.3+DL28*2+DM28*0.4+DN28*0.2 -> 72.7 | DQ28: =DG28 -> 0.66666667 | DR28: 1 | DS28: 0 | DT28: 0 | DU28: 0 | DV28: 0 | DW28: 0 | DX28: 0 | DY28: =SUM(DR28:DX28) -> 1 | DZ28: =DR28+DS28+DT28*1.5+DU28*2.3+DV28*2+DW28*0.4+DX28*0.2 -> 1 | EA28: =DQ28 -> 0.66666667 | EB28: 49 | EC28: 23 | ED28: 6 | EE28: 1 | EF28: 0 | EG28: 0 | EH28: 0 | EI28: =SUM(EB28:EH28) -> 79 | EJ28: =EB28+EC28+ED28*1.5+EE28*2.3+EF28*2+EG28*0.4+EH28*0.2 -> 83.3 | EK28: =EA28 -> 0.66666667 | EL28: 0 | EM28: 0 | EN28: 0 | EO28: 0 | EP28: 0 | EQ28: 0 | ER28: 0 | ES28: =SUM(EL28:ER28) -> 0 | ET28: =EL28+EM28+EN28*1.5+EO28*2.3+EP28*2+EQ28*0.4+ER28*0.2 -> 0 | EU28: =EK28 -> 0.66666667 | EV28: 91 | EW28: 12 | EX28: 3 | EY28: 0 | EZ28: 0 | FA28: 0 | FB28: 0 | FC28: =SUM(EV28:FB28) -> 106 | FD28: =EV28+EW28+EX28*1.5+EY28*2.3+EZ28*2+FA28*0.4+FB28*0.2 -> 107.5 | FE28: =EU28 -> 0.66666667 | FF28: 30 | FG28: 4 | FH28: 0 | FI28: 0 | FJ28: 1 | FK28: 2 | FL28: 0 | FM28: =SUM(FF28:FL28) -> 37 | FN28: =FF28+FG28+FH28*1.5+FI28*2.3+FJ28*2+FK28*0.4+FL28*0.2 -> 36.8 | FO28: =FE28 -> 0.66666667 | FP28: 45 | FQ28: 6 | FR28: 1 | FS28: 0 | FT28: 3 | FU28: 0 | FV28: 0 | FW28: =SUM(FP28:FV28) -> 55 | FX28: =FP28+FQ28+FR28*1.5+FS28*2.3+FT28*2+FU28*0.4+FV28*0.2 -> 58.5 | FY28: =FO28 -> 0.66666667 | FZ28: 143 | GA28: 24 | GB28: 5 | GC28: 3 | GD28: 0 | GE28: 0 | GF28: 0 | GG28: =SUM(FZ28:GF28) -> 175 | GH28: =FZ28+GA28+GB28*1.5+GC28*2.3+GD28*2+GE28*0.4+GF28*0.2 -> 181.4 | GI28: =FY28 -> 0.66666667 | GJ28: 0 | GK28: 0 | GL28: 0 | GM28: 0 | GN28: 0 | GO28: 0 | GP28: 0 | GQ28: =SUM(GJ28:GP28) -> 0 | GR28: =GJ28+GK28+GL28*1.5+GM28*2.3+GN28*2+GO28*0.4+GP28*0.2 -> 0 | GS28: =GI28 -> 0.66666667 | GT28: 111 | GU28: 17 | GV28: 0 | GW28: 4 | GX28: 0 | GY28: 1 | GZ28: 0 | HA28: =SUM(GT28:GZ28) -> 133 | HB28: =GT28+GU28+GV28*1.5+GW28*2.3+GX28*2+GY28*0.4+GZ28*0.2 -> 137.6 | HC28: =GS28 -> 0.66666667 | HD28: 0 | HE28: 0 | HF28: 0 | HG28: 0 | HH28: 0 | HI28: 0 | HJ28: 0 | HK28: =SUM(HD28:HJ28) -> 0 | HL28: =HD28+HE28+HF28*1.5+HG28*2.3+HH28*2+HI28*0.4+HJ28*0.2 -> 0 | HM28: =HC28 -> 0.66666667 | HN28: 69 | HO28: 17 | HP28: 1 | HQ28: 1 | HR28: 0 | HS28: 0 | HT28: 0 | HU28: =SUM(HN28:HT28) -> 88 | HV28: =HN28+HO28+HP28*1.5+HQ28*2.3+HR28*2+HS28*0.4+HT28*0.2 -> 89.8 | HW28: =HM28 -> 0.66666667 | HX28: 45 | HY28: 8 | HZ28: 4 | IA28: 0 | IB28: 0 | IC28: 1 | ID28: 0 | IE28: =SUM(HX28:ID28) -> 58 | IF28: =HX28+HY28+HZ28*1.5+IA28*2.3+IB28*2+IC28*0.4+ID28*0.2 -> 59.4 | IG28: =HW28 -> 0.66666667 | IH28: 0 | II28: 0 | IJ28: 0 | IK28: 0 | IL28: 0 | IM28: 0 | IN28: 0 | IO28: =SUM(IH28:IN28) -> 0 | IP28: =IH28+II28+IJ28*1.5+IK28*2.3+IL28*2+IM28*0.4+IN28*0.2 -> 0 | IQ28: =IG28 -> 0.66666667 | IR28: =SUM(AP28,AZ28,DH28,FP28,HX28) -> 162 | IS28: =SUM(AQ28,BA28,DI28,FQ28,HY28) -> 31 | IT28: =SUM(AR28,BB28,DJ28,FR28,HZ28) -> 7 | IU28: =SUM(AS28,BC28,DK28,FS28,IA28) -> 1 | IV28: =SUM(AT28,BD28,DL28,FT28,IB28) -> 3 | IW28: =SUM(AU28,BE28,DM28,FU28,IC28) -> 2 | IX28: =SUM(AV28,BF28,DN28,FV28,ID28) -> 0 | IY28: =SUM(IR28:IX28) -> 206 | IZ28: =IR28+IS28+IT28*1.5+IU28*2.3+IV28*2+IW28*0.4+IX28*0.2 -> 212.6 | JA28: =IQ28 -> 0.66666667 | JB28: =SUM(B28,L28,V28,AF28,AP28) -> 249 | JC28: =SUM(C28,M28,W28,AG28,AQ28) -> 30 | JD28: =SUM(D28,N28,X28,AH28,AR28) -> 7 | JE28: =SUM(E28,O28,Y28,AI28,AS28) -> 1 | JF28: =SUM(F28,P28,Z28,AJ28,AT28) -> 5 | JG28: =SUM(G28,Q28,AA28,AK28,AU28) -> 6 | JH28: =SUM(H28,R28,AB28,AL28,AV28) -> 0 | JI28: =SUM(JB28:JH28) -> 298 | JJ28: =JB28+JC28+JD28*1.5+JE28*2.3+JF28*2+JG28*0.4+JH28*0.2 -> 304.2 | JK28: =JA28 -> 0.66666667 | JL28: =SUM(AF28,CN28,CX28,FF28,HN28) -> 127 | JM28: =SUM(AG28,CO28,CY28,FG28,HO28) -> 25 | JN28: =SUM(AH28,CP28,CZ28,FH28,HP28) -> 3 | JO28: =SUM(AI28,CQ28,DA28,FI28,HQ28) -> 1 | JP28: =SUM(AJ28,CR28,DB28,FJ28,HR28) -> 2 | JQ28: =SUM(AK28,CS28,DC28,FK28,HS28) -> 2 | JR28: =SUM(AL28,CT28,DD28,FL28,HT28) -> 0 | JS28: =SUM(JL28:JR28) -> 160 | JT28: =JL28+JM28+JN28*1.5+JO28*2.3+JP28*2+JQ28*0.4+JR28*0.2 -> 163.6 | JU28: =JK28 -> 0.66666667 | JV28: =SUM(AZ28,BJ28,BT28,CD28,CN28) -> 215 | JW28: =SUM(BA28,BK28,BU28,CE28,CO28) -> 32 | JX28: =SUM(BB28,BL28,BV28,CF28,CP28) -> 2 | JY28: =SUM(BC28,BM28,BW28,CG28,CQ28) -> 0 | JZ28: =SUM(BD28,BN28,BX28,CH28,CR28) -> 0 | KA28: =SUM(BE28,BO28,BY28,CI28,CS28) -> 1 | KB28: =SUM(BF28,BP28,BZ28,CJ28,CT28) -> 0 | KC28: =SUM(JV28:KB28) -> 250 | KD28: =JV28+JW28+JX28*1.5+JY28*2.3+JZ28*2+KA28*0.4+KB28*0.2 -> 250.4 | KE28: =JU28 -> 0.66666667 | KF28: =SUM(V28,CD28,EL28,EV28,HD28) -> 176 | KG28: =SUM(W28,CE28,EM28,EW28,HE28) -> 22 | KH28: =SUM(X28,CF28,EN28,EX28,HF28) -> 4 | KI28: =SUM(Y28,CG28,EO28,EY28,HG28) -> 1 | KJ28: =SUM(Z28,CH28,EP28,EZ28,HH28) -> 2 | KK28: =SUM(AA28,CI28,EQ28,FA28,HI28) -> 2 | KL28: =SUM(AB28,CJ28,ER28,FB28,HJ28) -> 0 | KM28: =SUM(KF28:KL28) -> 207 | KN28: =KF28+KG28+KH28*1.5+KI28*2.3+KJ28*2+KK28*0.4+KL28*0.2 -> 211.1 | KO28: =KE28 -> 0.66666667 | KP28: =SUM(CX28,DH28,DR28,EB28,EL28) -> 123 | KQ28: =SUM(CY28,DI28,DS28,EC28,EM28) -> 42 | KR28: =SUM(CZ28,DJ28,DT28,ED28,EN28) -> 8 | KS28: =SUM(DA28,DK28,DU28,EE28,EO28) -> 2 | KT28: =SUM(DB28,DL28,DV28,EF28,EP28) -> 1 | KU28: =SUM(DC28,DM28,DW28,EG28,EQ28) -> 1 | KV28: =SUM(DD28,DN28,DX28,EH28,ER28) -> 0 | KW28: =SUM(KP28:KV28) -> 177 | KX28: =KP28+KQ28+KR28*1.5+KS28*2.3+KT28*2+KU28*0.4+KV28*0.2 -> 184 | KY28: =KO28 -> 0.66666667 | KZ28: =SUM(L28,BT28,EB28,GJ28,GT28) -> 243 | LA28: =SUM(M28,BU28,EC28,GK28,GU28) -> 48 | LB28: =SUM(N28,BV28,ED28,GL28,GV28) -> 8 | LC28: =SUM(O28,BW28,EE28,GM28,GW28) -> 5 | LD28: =SUM(P28,BX28,EF28,GN28,GX28) -> 2 | LE28: =SUM(Q28,BY28,EG28,GO28,GY28) -> 6 | LF28: =SUM(R28,BZ28,EH28,GP28,GZ28) -> 0 | LG28: =SUM(KZ28:LF28) -> 312 | LH28: =KZ28+LA28+LB28*1.5+LC28*2.3+LD28*2+LE28*0.4+LF28*0.2 -> 320.9 | LI28: =KY28 -> 0.66666667 | LJ28: =SUM(EV28,FF28,FP28,FZ28,GJ28) -> 309 | LK28: =SUM(EW28,FG28,FQ28,GA28,GK28) -> 46 | LL28: =SUM(EX28,FH28,FR28,GB28,GL28) -> 9 | LM28: =SUM(EY28,FI28,FS28,GC28,GM28) -> 3 | LN28: =SUM(EZ28,FJ28,FT28,GD28,GN28) -> 4 | LO28: =SUM(FA28,FK28,FU28,GE28,GO28) -> 2 | LP28: =SUM(FB28,FL28,FV28,GF28,GP28) -> 0 | LQ28: =SUM(LJ28:LP28) -> 373 | LR28: =LJ28+LK28+LL28*1.5+LM28*2.3+LN28*2+LO28*0.4+LP28*0.2 -> 384.2 | LS28: =LI28 -> 0.66666667 | LT28: =SUM(B28,BJ28,DR28,FZ28,IH28) -> 413 | LU28: =SUM(C28,BK28,DS28,GA28,II28) -> 66 | LV28: =SUM(D28,BL28,DT28,GB28,IJ28) -> 9 | LW28: =SUM(E28,BM28,DU28,GC28,IK28) -> 3 | LX28: =SUM(F28,BN28,DV28,GD28,IL28) -> 1 | LY28: =SUM(G28,BO28,DW28,GE28,IM28) -> 0 | LZ28: =SUM(H28,BP28,DX28,GF28,IN28) -> 0 | MA28: =SUM(LT28:LZ28) -> 492 | MB28: =LT28+LU28+LV28*1.5+LW28*2.3+LX28*2+LY28*0.4+LZ28*0.2 -> 501.4 | MC28: =LS28 -> 0.66666667 | MD28: =SUM(GT28,HD28,HN28,HX28,IH28) -> 225 | ME28: =SUM(GU28,HE28,HO28,HY28,II28) -> 42 | MF28: =SUM(GV28,HF28,HP28,HZ28,IJ28) -> 5 | MG28: =SUM(GW28,HG28,HQ28,IA28,IK28) -> 5 | MH28: =SUM(GX28,HH28,HR28,IB28,IL28) -> 0 | MI28: =SUM(GY28,HI28,HS28,IC28,IM28) -> 2 | MJ28: =SUM(GZ28,HJ28,HT28,ID28,IN28) -> 0 | MK28: =SUM(MD28:MJ28) -> 279 | ML28: =MD28+ME28+MF28*1.5+MG28*2.3+MH28*2+MI28*0.4+MJ28*0.2 -> 286.8 | MM28: =MC28 -> 0.66666667 | MN28: =SUM(IR28,JL28,KF28,KZ28,LT28) -> 1121 | MO28: =SUM(IS28,JM28,KG28,LA28,LU28) -> 192 | MP28: =SUM(IT28,JN28,KH28,LB28,LV28) -> 31 | MQ28: =SUM(IU28,JO28,KI28,LC28,LW28) -> 11 | MR28: =SUM(IV28,JP28,KJ28,LD28,LX28) -> 10 | MS28: =SUM(IW28,JQ28,KK28,LE28,LY28) -> 12 | MT28: =SUM(IX28,JR28,KL28,LF28,LZ28) -> 0 | MU28: =SUM(MN28:MT28) -> 1377 | MV28: =MN28+MO28+MP28*1.5+MQ28*2.3+MR28*2+MS28*0.4+MT28*0.2 -> 1409.6
A29: =A28+"00:15" -> 0.67708333 | B29: 121 | C29: 29 | D29: 6 | E29: 2 | F29: 7 | G29: 0 | H29: 0 | I29: =SUM(B29:H29) -> 165 | J29: =B29+C29+D29*1.5+E29*2.3+F29*2+G29*0.4+H29*0.2 -> 177.6 | K29: =K28+"00:15" -> 0.67708333 | L29: 49 | M29: 7 | N29: 0 | O29: 1 | P29: 3 | Q29: 1 | R29: 0 | S29: =SUM(L29:R29) -> 61 | T29: =L29+M29+N29*1.5+O29*2.3+P29*2+Q29*0.4+R29*0.2 -> 64.7 | U29: =U28+"00:15" -> 0.67708333 | V29: 68 | W29: 8 | X29: 3 | Y29: 0 | Z29: 2 | AA29: 1 | AB29: 0 | AC29: =SUM(V29:AB29) -> 82 | AD29: =V29+W29+X29*1.5+Y29*2.3+Z29*2+AA29*0.4+AB29*0.2 -> 84.9 | AE29: =AE28+"00:15" -> 0.67708333 | AF29: 6 | AG29: 1 | AH29: 1 | AI29: 0 | AJ29: 0 | AK29: 0 | AL29: 0 | AM29: =SUM(AF29:AL29) -> 8 | AN29: =AF29+AG29+AH29*1.5+AI29*2.3+AJ29*2+AK29*0.4+AL29*0.2 -> 8.5 | AO29: =AO28+"00:15" -> 0.67708333 | AP29: 0 | AQ29: 0 | AR29: 0 | AS29: 0 | AT29: 0 | AU29: 0 | AV29: 0 | AW29: =SUM(AP29:AV29) -> 0 | AX29: =AP29+AQ29+AR29*1.5+AS29*2.3+AT29*2+AU29*0.4+AV29*0.2 -> 0 | AY29: =AY28+"00:15" -> 0.67708333 | AZ29: 15 | BA29: 0 | BB29: 1 | BC29: 0 | BD29: 0 | BE29: 1 | BF29: 0 | BG29: =SUM(AZ29:BF29) -> 17 | BH29: =AZ29+BA29+BB29*1.5+BC29*2.3+BD29*2+BE29*0.4+BF29*0.2 -> 16.9 | BI29: =BI28+"00:15" -> 0.67708333 | BJ29: 97 | BK29: 17 | BL29: 3 | BM29: 0 | BN29: 0 | BO29: 0 | BP29: 0 | BQ29: =SUM(BJ29:BP29) -> 117 | BR29: =BJ29+BK29+BL29*1.5+BM29*2.3+BN29*2+BO29*0.4+BP29*0.2 -> 118.5 | BS29: =BS28+"00:15" -> 0.67708333 | BT29: 52 | BU29: 3 | BV29: 1 | BW29: 0 | BX29: 0 | BY29: 0 | BZ29: 0 | CA29: =SUM(BT29:BZ29) -> 56 | CB29: =BT29+BU29+BV29*1.5+BW29*2.3+BX29*2+BY29*0.4+BZ29*0.2 -> 56.5 | CC29: =CC28+"00:15" -> 0.67708333 | CD29: 7 | CE29: 0 | CF29: 0 | CG29: 0 | CH29: 0 | CI29: 0 | CJ29: 0 | CK29: =SUM(CD29:CJ29) -> 7 | CL29: =CD29+CE29+CF29*1.5+CG29*2.3+CH29*2+CI29*0.4+CJ29*0.2 -> 7 | CM29: =CM28+"00:15" -> 0.67708333 | CN29: 0 | CO29: 0 | CP29: 0 | CQ29: 0 | CR29: 0 | CS29: 0 | CT29: 0 | CU29: =SUM(CN29:CT29) -> 0 | CV29: =CN29+CO29+CP29*1.5+CQ29*2.3+CR29*2+CS29*0.4+CT29*0.2 -> 0 | CW29: =CW28+"00:15" -> 0.67708333 | CX29: 10 | CY29: 0 | CZ29: 0 | DA29: 0 | DB29: 0 | DC29: 0 | DD29: 0 | DE29: =SUM(CX29:DD29) -> 10 | DF29: =CX29+CY29+CZ29*1.5+DA29*2.3+DB29*2+DC29*0.4+DD29*0.2 -> 10 | DG29: =DG28+"00:15" -> 0.67708333 | DH29: 73 | DI29: 14 | DJ29: 1 | DK29: 0 | DL29: 0 | DM29: 0 | DN29: 0 | DO29: =SUM(DH29:DN29) -> 88 | DP29: =DH29+DI29+DJ29*1.5+DK29*2.3+DL29*2+DM29*0.4+DN29*0.2 -> 88.5 | DQ29: =DQ28+"00:15" -> 0.67708333 | DR29: 0 | DS29: 0 | DT29: 0 | DU29: 0 | DV29: 0 | DW29: 0 | DX29: 0 | DY29: =SUM(DR29:DX29) -> 0 | DZ29: =DR29+DS29+DT29*1.5+DU29*2.3+DV29*2+DW29*0.4+DX29*0.2 -> 0 | EA29: =EA28+"00:15" -> 0.67708333 | EB29: 25 | EC29: 22 | ED29: 0 | EE29: 0 | EF29: 0 | EG29: 1 | EH29: 0 | EI29: =SUM(EB29:EH29) -> 48 | EJ29: =EB29+EC29+ED29*1.5+EE29*2.3+EF29*2+EG29*0.4+EH29*0.2 -> 47.4 | EK29: =EK28+"00:15" -> 0.67708333 | EL29: 0 | EM29: 0 | EN29: 0 | EO29: 0 | EP29: 0 | EQ29: 0 | ER29: 0 | ES29: =SUM(EL29:ER29) -> 0 | ET29: =EL29+EM29+EN29*1.5+EO29*2.3+EP29*2+EQ29*0.4+ER29*0.2 -> 0 | EU29: =EU28+"00:15" -> 0.67708333 | EV29: 88 | EW29: 21 | EX29: 1 | EY29: 1 | EZ29: 0 | FA29: 0 | FB29: 0 | FC29: =SUM(EV29:FB29) -> 111 | FD29: =EV29+EW29+EX29*1.5+EY29*2.3+EZ29*2+FA29*0.4+FB29*0.2 -> 112.8 | FE29: =FE28+"00:15" -> 0.67708333 | FF29: 24 | FG29: 5 | FH29: 1 | FI29: 1 | FJ29: 0 | FK29: 2 | FL29: 0 | FM29: =SUM(FF29:FL29) -> 33 | FN29: =FF29+FG29+FH29*1.5+FI29*2.3+FJ29*2+FK29*0.4+FL29*0.2 -> 33.6 | FO29: =FO28+"00:15" -> 0.67708333 | FP29: 38 | FQ29: 2 | FR29: 1 | FS29: 1 | FT29: 0 | FU29: 2 | FV29: 0 | FW29: =SUM(FP29:FV29) -> 44 | FX29: =FP29+FQ29+FR29*1.5+FS29*2.3+FT29*2+FU29*0.4+FV29*0.2 -> 44.6 | FY29: =FY28+"00:15" -> 0.67708333 | FZ29: 158 | GA29: 25 | GB29: 2 | GC29: 2 | GD29: 1 | GE29: 2 | GF29: 0 | GG29: =SUM(FZ29:GF29) -> 190 | GH29: =FZ29+GA29+GB29*1.5+GC29*2.3+GD29*2+GE29*0.4+GF29*0.2 -> 193.4 | GI29: =GI28+"00:15" -> 0.67708333 | GJ29: 1 | GK29: 0 | GL29: 0 | GM29: 0 | GN29: 0 | GO29: 0 | GP29: 0 | GQ29: =SUM(GJ29:GP29) -> 1 | GR29: =GJ29+GK29+GL29*1.5+GM29*2.3+GN29*2+GO29*0.4+GP29*0.2 -> 1 | GS29: =GS28+"00:15" -> 0.67708333 | GT29: 118 | GU29: 23 | GV29: 7 | GW29: 0 | GX29: 0 | GY29: 0 | GZ29: 0 | HA29: =SUM(GT29:GZ29) -> 148 | HB29: =GT29+GU29+GV29*1.5+GW29*2.3+GX29*2+GY29*0.4+GZ29*0.2 -> 151.5 | HC29: =HC28+"00:15" -> 0.67708333 | HD29: 0 | HE29: 0 | HF29: 0 | HG29: 0 | HH29: 0 | HI29: 0 | HJ29: 0 | HK29: =SUM(HD29:HJ29) -> 0 | HL29: =HD29+HE29+HF29*1.5+HG29*2.3+HH29*2+HI29*0.4+HJ29*0.2 -> 0 | HM29: =HM28+"00:15" -> 0.67708333 | HN29: 118 | HO29: 20 | HP29: 3 | HQ29: 0 | HR29: 0 | HS29: 0 | HT29: 0 | HU29: =SUM(HN29:HT29) -> 141 | HV29: =HN29+HO29+HP29*1.5+HQ29*2.3+HR29*2+HS29*0.4+HT29*0.2 -> 142.5 | HW29: =HW28+"00:15" -> 0.67708333 | HX29: 47 | HY29: 7 | HZ29: 3 | IA29: 1 | IB29: 0 | IC29: 0 | ID29: 0 | IE29: =SUM(HX29:ID29) -> 58 | IF29: =HX29+HY29+HZ29*1.5+IA29*2.3+IB29*2+IC29*0.4+ID29*0.2 -> 60.8 | IG29: =IG28+"00:15" -> 0.67708333 | IH29: 0 | II29: 0 | IJ29: 0 | IK29: 0 | IL29: 0 | IM29: 0 | IN29: 0 | IO29: =SUM(IH29:IN29) -> 0 | IP29: =IH29+II29+IJ29*1.5+IK29*2.3+IL29*2+IM29*0.4+IN29*0.2 -> 0 | IQ29: =IQ28+"00:15" -> 0.67708333 | IR29: =SUM(AP29,AZ29,DH29,FP29,HX29) -> 173 | IS29: =SUM(AQ29,BA29,DI29,FQ29,HY29) -> 23 | IT29: =SUM(AR29,BB29,DJ29,FR29,HZ29) -> 6 | IU29: =SUM(AS29,BC29,DK29,FS29,IA29) -> 2 | IV29: =SUM(AT29,BD29,DL29,FT29,IB29) -> 0 | IW29: =SUM(AU29,BE29,DM29,FU29,IC29) -> 3 | IX29: =SUM(AV29,BF29,DN29,FV29,ID29) -> 0 | IY29: =SUM(IR29:IX29) -> 207 | IZ29: =IR29+IS29+IT29*1.5+IU29*2.3+IV29*2+IW29*0.4+IX29*0.2 -> 210.8 | JA29: =JA28+"00:15" -> 0.67708333 | JB29: =SUM(B29,L29,V29,AF29,AP29) -> 244 | JC29: =SUM(C29,M29,W29,AG29,AQ29) -> 45 | JD29: =SUM(D29,N29,X29,AH29,AR29) -> 10 | JE29: =SUM(E29,O29,Y29,AI29,AS29) -> 3 | JF29: =SUM(F29,P29,Z29,AJ29,AT29) -> 12 | JG29: =SUM(G29,Q29,AA29,AK29,AU29) -> 2 | JH29: =SUM(H29,R29,AB29,AL29,AV29) -> 0 | JI29: =SUM(JB29:JH29) -> 316 | JJ29: =JB29+JC29+JD29*1.5+JE29*2.3+JF29*2+JG29*0.4+JH29*0.2 -> 335.7 | JK29: =JK28+"00:15" -> 0.67708333 | JL29: =SUM(AF29,CN29,CX29,FF29,HN29) -> 158 | JM29: =SUM(AG29,CO29,CY29,FG29,HO29) -> 26 | JN29: =SUM(AH29,CP29,CZ29,FH29,HP29) -> 5 | JO29: =SUM(AI29,CQ29,DA29,FI29,HQ29) -> 1 | JP29: =SUM(AJ29,CR29,DB29,FJ29,HR29) -> 0 | JQ29: =SUM(AK29,CS29,DC29,FK29,HS29) -> 2 | JR29: =SUM(AL29,CT29,DD29,FL29,HT29) -> 0 | JS29: =SUM(JL29:JR29) -> 192 | JT29: =JL29+JM29+JN29*1.5+JO29*2.3+JP29*2+JQ29*0.4+JR29*0.2 -> 194.6 | JU29: =JU28+"00:15" -> 0.67708333 | JV29: =SUM(AZ29,BJ29,BT29,CD29,CN29) -> 171 | JW29: =SUM(BA29,BK29,BU29,CE29,CO29) -> 20 | JX29: =SUM(BB29,BL29,BV29,CF29,CP29) -> 5 | JY29: =SUM(BC29,BM29,BW29,CG29,CQ29) -> 0 | JZ29: =SUM(BD29,BN29,BX29,CH29,CR29) -> 0 | KA29: =SUM(BE29,BO29,BY29,CI29,CS29) -> 1 | KB29: =SUM(BF29,BP29,BZ29,CJ29,CT29) -> 0 | KC29: =SUM(JV29:KB29) -> 197 | KD29: =JV29+JW29+JX29*1.5+JY29*2.3+JZ29*2+KA29*0.4+KB29*0.2 -> 198.9 | KE29: =KE28+"00:15" -> 0.67708333 | KF29: =SUM(V29,CD29,EL29,EV29,HD29) -> 163 | KG29: =SUM(W29,CE29,EM29,EW29,HE29) -> 29 | KH29: =SUM(X29,CF29,EN29,EX29,HF29) -> 4 | KI29: =SUM(Y29,CG29,EO29,EY29,HG29) -> 1 | KJ29: =SUM(Z29,CH29,EP29,EZ29,HH29) -> 2 | KK29: =SUM(AA29,CI29,EQ29,FA29,HI29) -> 1 | KL29: =SUM(AB29,CJ29,ER29,FB29,HJ29) -> 0 | KM29: =SUM(KF29:KL29) -> 200 | KN29: =KF29+KG29+KH29*1.5+KI29*2.3+KJ29*2+KK29*0.4+KL29*0.2 -> 204.7 | KO29: =KO28+"00:15" -> 0.67708333 | KP29: =SUM(CX29,DH29,DR29,EB29,EL29) -> 108 | KQ29: =SUM(CY29,DI29,DS29,EC29,EM29) -> 36 | KR29: =SUM(CZ29,DJ29,DT29,ED29,EN29) -> 1 | KS29: =SUM(DA29,DK29,DU29,EE29,EO29) -> 0 | KT29: =SUM(DB29,DL29,DV29,EF29,EP29) -> 0 | KU29: =SUM(DC29,DM29,DW29,EG29,EQ29) -> 1 | KV29: =SUM(DD29,DN29,DX29,EH29,ER29) -> 0 | KW29: =SUM(KP29:KV29) -> 146 | KX29: =KP29+KQ29+KR29*1.5+KS29*2.3+KT29*2+KU29*0.4+KV29*0.2 -> 145.9 | KY29: =KY28+"00:15" -> 0.67708333 | KZ29: =SUM(L29,BT29,EB29,GJ29,GT29) -> 245 | LA29: =SUM(M29,BU29,EC29,GK29,GU29) -> 55 | LB29: =SUM(N29,BV29,ED29,GL29,GV29) -> 8 | LC29: =SUM(O29,BW29,EE29,GM29,GW29) -> 1 | LD29: =SUM(P29,BX29,EF29,GN29,GX29) -> 3 | LE29: =SUM(Q29,BY29,EG29,GO29,GY29) -> 2 | LF29: =SUM(R29,BZ29,EH29,GP29,GZ29) -> 0 | LG29: =SUM(KZ29:LF29) -> 314 | LH29: =KZ29+LA29+LB29*1.5+LC29*2.3+LD29*2+LE29*0.4+LF29*0.2 -> 321.1 | LI29: =LI28+"00:15" -> 0.67708333 | LJ29: =SUM(EV29,FF29,FP29,FZ29,GJ29) -> 309 | LK29: =SUM(EW29,FG29,FQ29,GA29,GK29) -> 53 | LL29: =SUM(EX29,FH29,FR29,GB29,GL29) -> 5 | LM29: =SUM(EY29,FI29,FS29,GC29,GM29) -> 5 | LN29: =SUM(EZ29,FJ29,FT29,GD29,GN29) -> 1 | LO29: =SUM(FA29,FK29,FU29,GE29,GO29) -> 6 | LP29: =SUM(FB29,FL29,FV29,GF29,GP29) -> 0 | LQ29: =SUM(LJ29:LP29) -> 379 | LR29: =LJ29+LK29+LL29*1.5+LM29*2.3+LN29*2+LO29*0.4+LP29*0.2 -> 385.4 | LS29: =LS28+"00:15" -> 0.67708333 | LT29: =SUM(B29,BJ29,DR29,FZ29,IH29) -> 376 | LU29: =SUM(C29,BK29,DS29,GA29,II29) -> 71 | LV29: =SUM(D29,BL29,DT29,GB29,IJ29) -> 11 | LW29: =SUM(E29,BM29,DU29,GC29,IK29) -> 4 | LX29: =SUM(F29,BN29,DV29,GD29,IL29) -> 8 | LY29: =SUM(G29,BO29,DW29,GE29,IM29) -> 2 | LZ29: =SUM(H29,BP29,DX29,GF29,IN29) -> 0 | MA29: =SUM(LT29:LZ29) -> 472 | MB29: =LT29+LU29+LV29*1.5+LW29*2.3+LX29*2+LY29*0.4+LZ29*0.2 -> 489.5 | MC29: =MC28+"00:15" -> 0.67708333 | MD29: =SUM(GT29,HD29,HN29,HX29,IH29) -> 283 | ME29: =SUM(GU29,HE29,HO29,HY29,II29) -> 50 | MF29: =SUM(GV29,HF29,HP29,HZ29,IJ29) -> 13 | MG29: =SUM(GW29,HG29,HQ29,IA29,IK29) -> 1 | MH29: =SUM(GX29,HH29,HR29,IB29,IL29) -> 0 | MI29: =SUM(GY29,HI29,HS29,IC29,IM29) -> 0 | MJ29: =SUM(GZ29,HJ29,HT29,ID29,IN29) -> 0 | MK29: =SUM(MD29:MJ29) -> 347 | ML29: =MD29+ME29+MF29*1.5+MG29*2.3+MH29*2+MI29*0.4+MJ29*0.2 -> 354.8 | MM29: =MM28+"00:15" -> 0.67708333 | MN29: =SUM(IR29,JL29,KF29,KZ29,LT29) -> 1115 | MO29: =SUM(IS29,JM29,KG29,LA29,LU29) -> 204 | MP29: =SUM(IT29,JN29,KH29,LB29,LV29) -> 34 | MQ29: =SUM(IU29,JO29,KI29,LC29,LW29) -> 9 | MR29: =SUM(IV29,JP29,KJ29,LD29,LX29) -> 13 | MS29: =SUM(IW29,JQ29,KK29,LE29,LY29) -> 10 | MT29: =SUM(IX29,JR29,KL29,LF29,LZ29) -> 0 | MU29: =SUM(MN29:MT29) -> 1385 | MV29: =MN29+MO29+MP29*1.5+MQ29*2.3+MR29*2+MS29*0.4+MT29*0.2 -> 1420.7
A30: =A29+"00:15" -> 0.6875 | B30: 106 | C30: 19 | D30: 3 | E30: 4 | F30: 0 | G30: 2 | H30: 0 | I30: =SUM(B30:H30) -> 134 | J30: =B30+C30+D30*1.5+E30*2.3+F30*2+G30*0.4+H30*0.2 -> 139.5 | K30: =K29+"00:15" -> 0.6875 | L30: 28 | M30: 4 | N30: 1 | O30: 1 | P30: 0 | Q30: 2 | R30: 0 | S30: =SUM(L30:R30) -> 36 | T30: =L30+M30+N30*1.5+O30*2.3+P30*2+Q30*0.4+R30*0.2 -> 36.6 | U30: =U29+"00:15" -> 0.6875 | V30: 75 | W30: 4 | X30: 4 | Y30: 1 | Z30: 0 | AA30: 0 | AB30: 0 | AC30: =SUM(V30:AB30) -> 84 | AD30: =V30+W30+X30*1.5+Y30*2.3+Z30*2+AA30*0.4+AB30*0.2 -> 87.3 | AE30: =AE29+"00:15" -> 0.6875 | AF30: 5 | AG30: 0 | AH30: 0 | AI30: 0 | AJ30: 0 | AK30: 0 | AL30: 0 | AM30: =SUM(AF30:AL30) -> 5 | AN30: =AF30+AG30+AH30*1.5+AI30*2.3+AJ30*2+AK30*0.4+AL30*0.2 -> 5 | AO30: =AO29+"00:15" -> 0.6875 | AP30: 0 | AQ30: 0 | AR30: 0 | AS30: 0 | AT30: 0 | AU30: 0 | AV30: 0 | AW30: =SUM(AP30:AV30) -> 0 | AX30: =AP30+AQ30+AR30*1.5+AS30*2.3+AT30*2+AU30*0.4+AV30*0.2 -> 0 | AY30: =AY29+"00:15" -> 0.6875 | AZ30: 22 | BA30: 4 | BB30: 0 | BC30: 0 | BD30: 0 | BE30: 0 | BF30: 0 | BG30: =SUM(AZ30:BF30) -> 26 | BH30: =AZ30+BA30+BB30*1.5+BC30*2.3+BD30*2+BE30*0.4+BF30*0.2 -> 26 | BI30: =BI29+"00:15" -> 0.6875 | BJ30: 106 | BK30: 19 | BL30: 2 | BM30: 0 | BN30: 0 | BO30: 0 | BP30: 0 | BQ30: =SUM(BJ30:BP30) -> 127 | BR30: =BJ30+BK30+BL30*1.5+BM30*2.3+BN30*2+BO30*0.4+BP30*0.2 -> 128 | BS30: =BS29+"00:15" -> 0.6875 | BT30: 69 | BU30: 1 | BV30: 0 | BW30: 0 | BX30: 0 | BY30: 0 | BZ30: 0 | CA30: =SUM(BT30:BZ30) -> 70 | CB30: =BT30+BU30+BV30*1.5+BW30*2.3+BX30*2+BY30*0.4+BZ30*0.2 -> 70 | CC30: =CC29+"00:15" -> 0.6875 | CD30: 5 | CE30: 3 | CF30: 0 | CG30: 0 | CH30: 0 | CI30: 0 | CJ30: 0 | CK30: =SUM(CD30:CJ30) -> 8 | CL30: =CD30+CE30+CF30*1.5+CG30*2.3+CH30*2+CI30*0.4+CJ30*0.2 -> 8 | CM30: =CM29+"00:15" -> 0.6875 | CN30: 0 | CO30: 0 | CP30: 0 | CQ30: 0 | CR30: 0 | CS30: 0 | CT30: 0 | CU30: =SUM(CN30:CT30) -> 0 | CV30: =CN30+CO30+CP30*1.5+CQ30*2.3+CR30*2+CS30*0.4+CT30*0.2 -> 0 | CW30: =CW29+"00:15" -> 0.6875 | CX30: 13 | CY30: 1 | CZ30: 0 | DA30: 0 | DB30: 0 | DC30: 0 | DD30: 0 | DE30: =SUM(CX30:DD30) -> 14 | DF30: =CX30+CY30+CZ30*1.5+DA30*2.3+DB30*2+DC30*0.4+DD30*0.2 -> 14 | DG30: =DG29+"00:15" -> 0.6875 | DH30: 56 | DI30: 8 | DJ30: 1 | DK30: 1 | DL30: 0 | DM30: 0 | DN30: 0 | DO30: =SUM(DH30:DN30) -> 66 | DP30: =DH30+DI30+DJ30*1.5+DK30*2.3+DL30*2+DM30*0.4+DN30*0.2 -> 67.8 | DQ30: =DQ29+"00:15" -> 0.6875 | DR30: 0 | DS30: 0 | DT30: 0 | DU30: 0 | DV30: 0 | DW30: 0 | DX30: 0 | DY30: =SUM(DR30:DX30) -> 0 | DZ30: =DR30+DS30+DT30*1.5+DU30*2.3+DV30*2+DW30*0.4+DX30*0.2 -> 0 | EA30: =EA29+"00:15" -> 0.6875 | EB30: 39 | EC30: 21 | ED30: 2 | EE30: 3 | EF30: 0 | EG30: 0 | EH30: 0 | EI30: =SUM(EB30:EH30) -> 65 | EJ30: =EB30+EC30+ED30*1.5+EE30*2.3+EF30*2+EG30*0.4+EH30*0.2 -> 69.9 | EK30: =EK29+"00:15" -> 0.6875 | EL30: 0 | EM30: 0 | EN30: 0 | EO30: 0 | EP30: 0 | EQ30: 0 | ER30: 0 | ES30: =SUM(EL30:ER30) -> 0 | ET30: =EL30+EM30+EN30*1.5+EO30*2.3+EP30*2+EQ30*0.4+ER30*0.2 -> 0 | EU30: =EU29+"00:15" -> 0.6875 | EV30: 64 | EW30: 22 | EX30: 2 | EY30: 1 | EZ30: 0 | FA30: 2 | FB30: 0 | FC30: =SUM(EV30:FB30) -> 91 | FD30: =EV30+EW30+EX30*1.5+EY30*2.3+EZ30*2+FA30*0.4+FB30*0.2 -> 92.1 | FE30: =FE29+"00:15" -> 0.6875 | FF30: 19 | FG30: 5 | FH30: 0 | FI30: 0 | FJ30: 0 | FK30: 0 | FL30: 0 | FM30: =SUM(FF30:FL30) -> 24 | FN30: =FF30+FG30+FH30*1.5+FI30*2.3+FJ30*2+FK30*0.4+FL30*0.2 -> 24 | FO30: =FO29+"00:15" -> 0.6875 | FP30: 49 | FQ30: 6 | FR30: 1 | FS30: 0 | FT30: 1 | FU30: 0 | FV30: 0 | FW30: =SUM(FP30:FV30) -> 57 | FX30: =FP30+FQ30+FR30*1.5+FS30*2.3+FT30*2+FU30*0.4+FV30*0.2 -> 58.5 | FY30: =FY29+"00:15" -> 0.6875 | FZ30: 153 | GA30: 18 | GB30: 3 | GC30: 0 | GD30: 0 | GE30: 0 | GF30: 0 | GG30: =SUM(FZ30:GF30) -> 174 | GH30: =FZ30+GA30+GB30*1.5+GC30*2.3+GD30*2+GE30*0.4+GF30*0.2 -> 175.5 | GI30: =GI29+"00:15" -> 0.6875 | GJ30: 1 | GK30: 0 | GL30: 0 | GM30: 0 | GN30: 0 | GO30: 0 | GP30: 0 | GQ30: =SUM(GJ30:GP30) -> 1 | GR30: =GJ30+GK30+GL30*1.5+GM30*2.3+GN30*2+GO30*0.4+GP30*0.2 -> 1 | GS30: =GS29+"00:15" -> 0.6875 | GT30: 124 | GU30: 21 | GV30: 1 | GW30: 0 | GX30: 0 | GY30: 1 | GZ30: 0 | HA30: =SUM(GT30:GZ30) -> 147 | HB30: =GT30+GU30+GV30*1.5+GW30*2.3+GX30*2+GY30*0.4+GZ30*0.2 -> 146.9 | HC30: =HC29+"00:15" -> 0.6875 | HD30: 0 | HE30: 0 | HF30: 0 | HG30: 0 | HH30: 0 | HI30: 0 | HJ30: 0 | HK30: =SUM(HD30:HJ30) -> 0 | HL30: =HD30+HE30+HF30*1.5+HG30*2.3+HH30*2+HI30*0.4+HJ30*0.2 -> 0 | HM30: =HM29+"00:15" -> 0.6875 | HN30: 86 | HO30: 12 | HP30: 2 | HQ30: 0 | HR30: 0 | HS30: 0 | HT30: 0 | HU30: =SUM(HN30:HT30) -> 100 | HV30: =HN30+HO30+HP30*1.5+HQ30*2.3+HR30*2+HS30*0.4+HT30*0.2 -> 101 | HW30: =HW29+"00:15" -> 0.6875 | HX30: 50 | HY30: 8 | HZ30: 5 | IA30: 1 | IB30: 0 | IC30: 1 | ID30: 0 | IE30: =SUM(HX30:ID30) -> 65 | IF30: =HX30+HY30+HZ30*1.5+IA30*2.3+IB30*2+IC30*0.4+ID30*0.2 -> 68.2 | IG30: =IG29+"00:15" -> 0.6875 | IH30: 0 | II30: 0 | IJ30: 0 | IK30: 0 | IL30: 0 | IM30: 0 | IN30: 0 | IO30: =SUM(IH30:IN30) -> 0 | IP30: =IH30+II30+IJ30*1.5+IK30*2.3+IL30*2+IM30*0.4+IN30*0.2 -> 0 | IQ30: =IQ29+"00:15" -> 0.6875 | IR30: =SUM(AP30,AZ30,DH30,FP30,HX30) -> 177 | IS30: =SUM(AQ30,BA30,DI30,FQ30,HY30) -> 26 | IT30: =SUM(AR30,BB30,DJ30,FR30,HZ30) -> 7 | IU30: =SUM(AS30,BC30,DK30,FS30,IA30) -> 2 | IV30: =SUM(AT30,BD30,DL30,FT30,IB30) -> 1 | IW30: =SUM(AU30,BE30,DM30,FU30,IC30) -> 1 | IX30: =SUM(AV30,BF30,DN30,FV30,ID30) -> 0 | IY30: =SUM(IR30:IX30) -> 214 | IZ30: =IR30+IS30+IT30*1.5+IU30*2.3+IV30*2+IW30*0.4+IX30*0.2 -> 220.5 | JA30: =JA29+"00:15" -> 0.6875 | JB30: =SUM(B30,L30,V30,AF30,AP30) -> 214 | JC30: =SUM(C30,M30,W30,AG30,AQ30) -> 27 | JD30: =SUM(D30,N30,X30,AH30,AR30) -> 8 | JE30: =SUM(E30,O30,Y30,AI30,AS30) -> 6 | JF30: =SUM(F30,P30,Z30,AJ30,AT30) -> 0 | JG30: =SUM(G30,Q30,AA30,AK30,AU30) -> 4 | JH30: =SUM(H30,R30,AB30,AL30,AV30) -> 0 | JI30: =SUM(JB30:JH30) -> 259 | JJ30: =JB30+JC30+JD30*1.5+JE30*2.3+JF30*2+JG30*0.4+JH30*0.2 -> 268.4 | JK30: =JK29+"00:15" -> 0.6875 | JL30: =SUM(AF30,CN30,CX30,FF30,HN30) -> 123 | JM30: =SUM(AG30,CO30,CY30,FG30,HO30) -> 18 | JN30: =SUM(AH30,CP30,CZ30,FH30,HP30) -> 2 | JO30: =SUM(AI30,CQ30,DA30,FI30,HQ30) -> 0 | JP30: =SUM(AJ30,CR30,DB30,FJ30,HR30) -> 0 | JQ30: =SUM(AK30,CS30,DC30,FK30,HS30) -> 0 | JR30: =SUM(AL30,CT30,DD30,FL30,HT30) -> 0 | JS30: =SUM(JL30:JR30) -> 143 | JT30: =JL30+JM30+JN30*1.5+JO30*2.3+JP30*2+JQ30*0.4+JR30*0.2 -> 144 | JU30: =JU29+"00:15" -> 0.6875 | JV30: =SUM(AZ30,BJ30,BT30,CD30,CN30) -> 202 | JW30: =SUM(BA30,BK30,BU30,CE30,CO30) -> 27 | JX30: =SUM(BB30,BL30,BV30,CF30,CP30) -> 2 | JY30: =SUM(BC30,BM30,BW30,CG30,CQ30) -> 0 | JZ30: =SUM(BD30,BN30,BX30,CH30,CR30) -> 0 | KA30: =SUM(BE30,BO30,BY30,CI30,CS30) -> 0 | KB30: =SUM(BF30,BP30,BZ30,CJ30,CT30) -> 0 | KC30: =SUM(JV30:KB30) -> 231 | KD30: =JV30+JW30+JX30*1.5+JY30*2.3+JZ30*2+KA30*0.4+KB30*0.2 -> 232 | KE30: =KE29+"00:15" -> 0.6875 | KF30: =SUM(V30,CD30,EL30,EV30,HD30) -> 144 | KG30: =SUM(W30,CE30,EM30,EW30,HE30) -> 29 | KH30: =SUM(X30,CF30,EN30,EX30,HF30) -> 6 | KI30: =SUM(Y30,CG30,EO30,EY30,HG30) -> 2 | KJ30: =SUM(Z30,CH30,EP30,EZ30,HH30) -> 0 | KK30: =SUM(AA30,CI30,EQ30,FA30,HI30) -> 2 | KL30: =SUM(AB30,CJ30,ER30,FB30,HJ30) -> 0 | KM30: =SUM(KF30:KL30) -> 183 | KN30: =KF30+KG30+KH30*1.5+KI30*2.3+KJ30*2+KK30*0.4+KL30*0.2 -> 187.4 | KO30: =KO29+"00:15" -> 0.6875 | KP30: =SUM(CX30,DH30,DR30,EB30,EL30) -> 108 | KQ30: =SUM(CY30,DI30,DS30,EC30,EM30) -> 30 | KR30: =SUM(CZ30,DJ30,DT30,ED30,EN30) -> 3 | KS30: =SUM(DA30,DK30,DU30,EE30,EO30) -> 4 | KT30: =SUM(DB30,DL30,DV30,EF30,EP30) -> 0 | KU30: =SUM(DC30,DM30,DW30,EG30,EQ30) -> 0 | KV30: =SUM(DD30,DN30,DX30,EH30,ER30) -> 0 | KW30: =SUM(KP30:KV30) -> 145 | KX30: =KP30+KQ30+KR30*1.5+KS30*2.3+KT30*2+KU30*0.4+KV30*0.2 -> 151.7 | KY30: =KY29+"00:15" -> 0.6875 | KZ30: =SUM(L30,BT30,EB30,GJ30,GT30) -> 261 | LA30: =SUM(M30,BU30,EC30,GK30,GU30) -> 47 | LB30: =SUM(N30,BV30,ED30,GL30,GV30) -> 4 | LC30: =SUM(O30,BW30,EE30,GM30,GW30) -> 4 | LD30: =SUM(P30,BX30,EF30,GN30,GX30) -> 0 | LE30: =SUM(Q30,BY30,EG30,GO30,GY30) -> 3 | LF30: =SUM(R30,BZ30,EH30,GP30,GZ30) -> 0 | LG30: =SUM(KZ30:LF30) -> 319 | LH30: =KZ30+LA30+LB30*1.5+LC30*2.3+LD30*2+LE30*0.4+LF30*0.2 -> 324.4 | LI30: =LI29+"00:15" -> 0.6875 | LJ30: =SUM(EV30,FF30,FP30,FZ30,GJ30) -> 286 | LK30: =SUM(EW30,FG30,FQ30,GA30,GK30) -> 51 | LL30: =SUM(EX30,FH30,FR30,GB30,GL30) -> 6 | LM30: =SUM(EY30,FI30,FS30,GC30,GM30) -> 1 | LN30: =SUM(EZ30,FJ30,FT30,GD30,GN30) -> 1 | LO30: =SUM(FA30,FK30,FU30,GE30,GO30) -> 2 | LP30: =SUM(FB30,FL30,FV30,GF30,GP30) -> 0 | LQ30: =SUM(LJ30:LP30) -> 347 | LR30: =LJ30+LK30+LL30*1.5+LM30*2.3+LN30*2+LO30*0.4+LP30*0.2 -> 351.1 | LS30: =LS29+"00:15" -> 0.6875 | LT30: =SUM(B30,BJ30,DR30,FZ30,IH30) -> 365 | LU30: =SUM(C30,BK30,DS30,GA30,II30) -> 56 | LV30: =SUM(D30,BL30,DT30,GB30,IJ30) -> 8 | LW30: =SUM(E30,BM30,DU30,GC30,IK30) -> 4 | LX30: =SUM(F30,BN30,DV30,GD30,IL30) -> 0 | LY30: =SUM(G30,BO30,DW30,GE30,IM30) -> 2 | LZ30: =SUM(H30,BP30,DX30,GF30,IN30) -> 0 | MA30: =SUM(LT30:LZ30) -> 435 | MB30: =LT30+LU30+LV30*1.5+LW30*2.3+LX30*2+LY30*0.4+LZ30*0.2 -> 443 | MC30: =MC29+"00:15" -> 0.6875 | MD30: =SUM(GT30,HD30,HN30,HX30,IH30) -> 260 | ME30: =SUM(GU30,HE30,HO30,HY30,II30) -> 41 | MF30: =SUM(GV30,HF30,HP30,HZ30,IJ30) -> 8 | MG30: =SUM(GW30,HG30,HQ30,IA30,IK30) -> 1 | MH30: =SUM(GX30,HH30,HR30,IB30,IL30) -> 0 | MI30: =SUM(GY30,HI30,HS30,IC30,IM30) -> 2 | MJ30: =SUM(GZ30,HJ30,HT30,ID30,IN30) -> 0 | MK30: =SUM(MD30:MJ30) -> 312 | ML30: =MD30+ME30+MF30*1.5+MG30*2.3+MH30*2+MI30*0.4+MJ30*0.2 -> 316.1 | MM30: =MM29+"00:15" -> 0.6875 | MN30: =SUM(IR30,JL30,KF30,KZ30,LT30) -> 1070 | MO30: =SUM(IS30,JM30,KG30,LA30,LU30) -> 176 | MP30: =SUM(IT30,JN30,KH30,LB30,LV30) -> 27 | MQ30: =SUM(IU30,JO30,KI30,LC30,LW30) -> 12 | MR30: =SUM(IV30,JP30,KJ30,LD30,LX30) -> 1 | MS30: =SUM(IW30,JQ30,KK30,LE30,LY30) -> 8 | MT30: =SUM(IX30,JR30,KL30,LF30,LZ30) -> 0 | MU30: =SUM(MN30:MT30) -> 1294 | MV30: =MN30+MO30+MP30*1.5+MQ30*2.3+MR30*2+MS30*0.4+MT30*0.2 -> 1319.3
