Workbook
Name car: #REF!
Name car: #REF!
Name coach: #REF!
Name coach: #REF!
Name lgv: #REF!
Name lgv: #REF!
Name mcl: #REF!
Name mcl: #REF!
Name NEW: #REF!
Name NEW: #REF!
Name ogva: #REF!
Name ogva: #REF!
Name ogvb: #REF!
Name ogvb: #REF!
Name pcl: #REF!
Name pcl: #REF!
Name psv: #REF!
Name psv: #REF!
Name q: #REF!
Name q: #REF!
Name qwqw: #REF!
Name qwqw: #REF!
Name RE: #REF!
Name RE: #REF!
Name StaffList: [1]Datapickndrop!$B$15:$B$122
Name taxi: #REF!
Name taxi: #REF!

Sheet Site 4 Diagram
D36: Site / Location: | F36: Site 4, Stoneham Interchange | M36: Project No: | N36: 16367 | O36: Drawing No: | Q36: 16367-03 | S36: Drawn By: | T36: BVR
D38: Survey Date: | F38: Thursday 13th February 2025 | M38: Project Name: | O38: SOUTHAMPTON
D40: Survey Times: | F40: 07:00 to 10:00 & 16:00 to 19:00 | M40: Drawing Title: | O40: Site Layout and Observed Movements

Sheet Site 4
J2: 16367 / SOUTHAMPTON | T2: =J2 -> 16367 / SOUTHAMPTON | AD2: =T2 -> 16367 / SOUTHAMPTON | AN2: =AD2 -> 16367 / SOUTHAMPTON | AX2: =AN2 -> 16367 / SOUTHAMPTON | BH2: =AX2 -> 16367 / SOUTHAMPTON | BR2: =BH2 -> 16367 / SOUTHAMPTON | CB2: =BH2 -> 16367 / SOUTHAMPTON | CL2: =CB2 -> 16367 / SOUTHAMPTON | CV2: =CL2 -> 16367 / SOUTHAMPTON | DF2: =CV2 -> 16367 / SOUTHAMPTON | DP2: =DF2 -> 16367 / SOUTHAMPTON | DZ2: =DP2 -> 16367 / SOUTHAMPTON | EJ2: =DP2 -> 16367 / SOUTHAMPTON | ET2: =EJ2 -> 16367 / SOUTHAMPTON | FD2: =ET2 -> 16367 / SOUTHAMPTON | FN2: =FD2 -> 16367 / SOUTHAMPTON | FX2: =FN2 -> 16367 / SOUTHAMPTON | GH2: =FX2 -> 16367 / SOUTHAMPTON | GR2: =FX2 -> 16367 / SOUTHAMPTON | HB2: =GR2 -> 16367 / SOUTHAMPTON | HL2: =HB2 -> 16367 / SOUTHAMPTON | HV2: =HL2 -> 16367 / SOUTHAMPTON | IF2: =HV2 -> 16367 / SOUTHAMPTON | IP2: =HV2 -> 16367 / SOUTHAMPTON | IZ2: =GR2 -> 16367 / SOUTHAMPTON | JJ2: =IZ2 -> 16367 / SOUTHAMPTON | JT2: =JJ2 -> 16367 / SOUTHAMPTON | KD2: =JT2 -> 16367 / SOUTHAMPTON | KN2: =KD2 -> 16367 / SOUTHAMPTON | KX2: =KN2 -> 16367 / SOUTHAMPTON | LH2: =KX2 -> 16367 / SOUTHAMPTON | LR2: =LH2 -> 16367 / SOUTHAMPTON | MB2: =LR2 -> 16367 / SOUTHAMPTON | ML2: =MB2 -> 16367 / SOUTHAMPTON | MV2: =ML2 -> 16367 / SOUTHAMPTON
J3: =UPPER(TEXT(I7,"mmmm yyyy")) -> FEBRUARY 2025 | T3: =UPPER(TEXT(S7,"mmmm yyyy")) -> FEBRUARY 2025 | AD3: =UPPER(TEXT(AC7,"mmmm yyyy")) -> FEBRUARY 2025 | AN3: =UPPER(TEXT(AM7,"mmmm yyyy")) -> FEBRUARY 2025 | AX3: =UPPER(TEXT(AW7,"mmmm yyyy")) -> FEBRUARY 2025 | BH3: =UPPER(TEXT(BG7,"mmmm yyyy")) -> FEBRUARY 2025 | BR3: =UPPER(TEXT(BQ7,"mmmm yyyy")) -> FEBRUARY 2025 | CB3: =UPPER(TEXT(CA7,"mmmm yyyy")) -> FEBRUARY 2025 | CL3: =UPPER(TEXT(CK7,"mmmm yyyy")) -> FEBRUARY 2025 | CV3: =UPPER(TEXT(CU7,"mmmm yyyy")) -> FEBRUARY 2025 | DF3: =UPPER(TEXT(DE7,"mmmm yyyy")) -> FEBRUARY 2025 | DP3: =UPPER(TEXT(DO7,"mmmm yyyy")) -> FEBRUARY 2025 | DZ3: =UPPER(TEXT(DY7,"mmmm yyyy")) -> FEBRUARY 2025 | EJ3: =UPPER(TEXT(EI7,"mmmm yyyy")) -> FEBRUARY 2025 | ET3: =UPPER(TEXT(ES7,"mmmm yyyy")) -> FEBRUARY 2025 | FD3: =UPPER(TEXT(FC7,"mmmm yyyy")) -> FEBRUARY 2025 | FN3: =UPPER(TEXT(FM7,"mmmm yyyy")) -> FEBRUARY 2025 | FX3: =UPPER(TEXT(FW7,"mmmm yyyy")) -> FEBRUARY 2025 | GH3: =UPPER(TEXT(GG7,"mmmm yyyy")) -> FEBRUARY 2025 | GR3: =UPPER(TEXT(GQ7,"mmmm yyyy")) -> FEBRUARY 2025 | HB3: =UPPER(TEXT(HA7,"mmmm yyyy")) -> FEBRUARY 2025 | HL3: =UPPER(TEXT(HK7,"mmmm yyyy")) -> FEBRUARY 2025 | HV3: =UPPER(TEXT(HU7,"mmmm yyyy")) -> FEBRUARY 2025 | IF3: =UPPER(TEXT(IE7,"mmmm yyyy")) -> FEBRUARY 2025 | IP3: =UPPER(TEXT(IO7,"mmmm yyyy")) -> FEBRUARY 2025 | IZ3: =UPPER(TEXT(IY7,"mmmm yyyy")) -> FEBRUARY 2025 | JJ3: =UPPER(TEXT(JI7,"mmmm yyyy")) -> FEBRUARY 2025 | JT3: =UPPER(TEXT(JS7,"mmmm yyyy")) -> FEBRUARY 2025 | KD3: =UPPER(TEXT(KC7,"mmmm yyyy")) -> FEBRUARY 2025 | KN3: =UPPER(TEXT(KM7,"mmmm yyyy")) -> FEBRUARY 2025 | KX3: =UPPER(TEXT(KW7,"mmmm yyyy")) -> FEBRUARY 2025 | LH3: =UPPER(TEXT(LG7,"mmmm yyyy")) -> FEBRUARY 2025 | LR3: =UPPER(TEXT(LQ7,"mmmm yyyy")) -> FEBRUARY 2025 | MB3: =UPPER(TEXT(MA7,"mmmm yyyy")) -> FEBRUARY 2025 | ML3: =UPPER(TEXT(MK7,"mmmm yyyy")) -> FEBRUARY 2025 | MV3: =UPPER(TEXT(MU7,"mmmm yyyy")) -> FEBRUARY 2025
J4: CLASSIFIED TURNING COUNT | T4: =J4 -> CLASSIFIED TURNING COUNT | AD4: =T4 -> CLASSIFIED TURNING COUNT | AN4: =AD4 -> CLASSIFIED TURNING COUNT | AX4: =AN4 -> CLASSIFIED TURNING COUNT | BH4: =AX4 -> CLASSIFIED TURNING COUNT | BR4: =BH4 -> CLASSIFIED TURNING COUNT | CB4: =BH4 -> CLASSIFIED TURNING COUNT | CL4: =CB4 -> CLASSIFIED TURNING COUNT | CV4: =CL4 -> CLASSIFIED TURNING COUNT | DF4: =CV4 -> CLASSIFIED TURNING COUNT | DP4: =DF4 -> CLASSIFIED TURNING COUNT | DZ4: =DP4 -> CLASSIFIED TURNING COUNT | EJ4: =DP4 -> CLASSIFIED TURNING COUNT | ET4: =EJ4 -> CLASSIFIED TURNING COUNT | FD4: =ET4 -> CLASSIFIED TURNING COUNT | FN4: =FD4 -> CLASSIFIED TURNING COUNT | FX4: =FN4 -> CLASSIFIED TURNING COUNT | GH4: =FX4 -> CLASSIFIED TURNING COUNT | GR4: =FX4 -> CLASSIFIED TURNING COUNT | HB4: =GR4 -> CLASSIFIED TURNING COUNT | HL4: =HB4 -> CLASSIFIED TURNING COUNT | HV4: =HL4 -> CLASSIFIED TURNING COUNT | IF4: =HV4 -> CLASSIFIED TURNING COUNT | IP4: =HV4 -> CLASSIFIED TURNING COUNT | IZ4: =GR4 -> CLASSIFIED TURNING COUNT | JJ4: =IZ4 -> CLASSIFIED TURNING COUNT | JT4: =JJ4 -> CLASSIFIED TURNING COUNT | KD4: =JT4 -> CLASSIFIED TURNING COUNT | KN4: =KD4 -> CLASSIFIED TURNING COUNT | KX4: =KN4 -> CLASSIFIED TURNING COUNT | LH4: =KX4 -> CLASSIFIED TURNING COUNT | LR4: =LH4 -> CLASSIFIED TURNING COUNT | MB4: =LR4 -> CLASSIFIED TURNING COUNT | ML4: =MB4 -> CLASSIFIED TURNING COUNT | MV4: =ML4 -> CLASSIFIED TURNING COUNT
A7: SITE: | B7: 4 | H7: DATE: | I7: 45701 | K7: SITE: | L7: =$B$7 -> 4 | R7: DATE: | S7: =I7 -> 45701 | U7: SITE: | V7: =$L$7 -> 4 | AB7: DATE: | AC7: =S7 -> 45701 | AE7: SITE: | AF7: =$L$7 -> 4 | AL7: DATE: | AM7: =AC7 -> 45701 | AO7: SITE: | AP7: =$L$7 -> 4 | AV7: DATE: | AW7: =AM7 -> 45701 | AY7: SITE: | AZ7: =$L$7 -> 4 | BF7: DATE: | BG7: =AW7 -> 45701 | BI7: SITE: | BJ7: =$L$7 -> 4 | BP7: DATE: | BQ7: =BG7 -> 45701 | BS7: SITE: | BT7: =$L$7 -> 4 | BZ7: DATE: | CA7: =BG7 -> 45701 | CC7: SITE: | CD7: =$L$7 -> 4 | CJ7: DATE: | CK7: =CA7 -> 45701 | CM7: SITE: | CN7: =$L$7 -> 4 | CT7: DATE: | CU7: =CK7 -> 45701 | CW7: SITE: | CX7: =$L$7 -> 4 | DD7: DATE: | DE7: =CU7 -> 45701 | DG7: SITE: | DH7: =$L$7 -> 4 | DN7: DATE: | DO7: =DE7 -> 45701 | DQ7: SITE: | DR7: =$L$7 -> 4 | DX7: DATE: | DY7: =DO7 -> 45701 | EA7: SITE: | EB7: =$L$7 -> 4 | EH7: DATE: | EI7: =DO7 -> 45701 | EK7: SITE: | EL7: =$L$7 -> 4 | ER7: DATE: | ES7: =EI7 -> 45701 | EU7: SITE: | EV7: =$L$7 -> 4 | FB7: DATE: | FC7: =ES7 -> 45701 | FE7: SITE: | FF7: =$L$7 -> 4 | FL7: DATE: | FM7: =FC7 -> 45701 | FO7: SITE: | FP7: =$L$7 -> 4 | FV7: DATE: | FW7: =FM7 -> 45701 | FY7: SITE: | FZ7: =$L$7 -> 4 | GF7: DATE: | GG7: =FW7 -> 45701 | GI7: SITE: | GJ7: =$L$7 -> 4 | GP7: DATE: | GQ7: =FW7 -> 45701 | GS7: SITE: | GT7: =$L$7 -> 4 | GZ7: DATE: | HA7: =GQ7 -> 45701 | HC7: SITE: | HD7: =$L$7 -> 4 | HJ7: DATE: | HK7: =HA7 -> 45701 | HM7: SITE: | HN7: =$L$7 -> 4 | HT7: DATE: | HU7: =HK7 -> 45701 | HW7: SITE: | HX7: =$L$7 -> 4 | ID7: DATE: | IE7: =HU7 -> 45701 | IG7: SITE: | IH7: =$L$7 -> 4 | IN7: DATE: | IO7: =HU7 -> 45701 | IQ7: SITE: | IR7: =$L$7 -> 4 | IX7: DATE: | IY7: =GQ7 -> 45701 | JA7: SITE: | JB7: =$L$7 -> 4 | JH7: DATE: | JI7: =IY7 -> 45701 | JK7: SITE: | JL7: =$L$7 -> 4 | JR7: DATE: | JS7: =JI7 -> 45701 | JU7: SITE: | JV7: =$L$7 -> 4 | KB7: DATE: | KC7: =JS7 -> 45701 | KE7: SITE: | KF7: =$L$7 -> 4 | KL7: DATE: | KM7: =KC7 -> 45701 | KO7: SITE: | KP7: =$L$7 -> 4 | KV7: DATE: | KW7: =KM7 -> 45701 | KY7: SITE: | KZ7: =$L$7 -> 4 | LF7: DATE: | LG7: =KW7 -> 45701 | LI7: SITE: | LJ7: =$L$7 -> 4 | LP7: DATE: | LQ7: =LG7 -> 45701 | LS7: SITE: | LT7: =$L$7 -> 4 | LZ7: DATE: | MA7: =LQ7 -> 45701 | MC7: SITE: | MD7: =$L$7 -> 4 | MJ7: DATE: | MK7: =MA7 -> 45701 | MM7: SITE: | MN7: =$L$7 -> 4 | MT7: DATE: | MU7: =MK7 -> 45701
A9: LOCATION: | B9: Stoneham Interchange | H9: DAY: | I9: =TEXT(I7,"dddd") -> Thursday | K9: LOCATION: | L9: =$B$9 -> Stoneham Interchange | R9: DAY: | S9: =TEXT(S7,"dddd") -> Thursday | U9: LOCATION: | V9: =$L$9 -> Stoneham Interchange | AB9: DAY: | AC9: =TEXT(AC7,"dddd") -> Thursday | AE9: LOCATION: | AF9: =$L$9 -> Stoneham Interchange | AL9: DAY: | AM9: =TEXT(AM7,"dddd") -> Thursday | AO9: LOCATION: | AP9: =$L$9 -> Stoneham Interchange | AV9: DAY: | AW9: =TEXT(AW7,"dddd") -> Thursday | AY9: LOCATION: | AZ9: =$L$9 -> Stoneham Interchange | BF9: DAY: | BG9: =TEXT(BG7,"dddd") -> Thursday | BI9: LOCATION: | BJ9: =$L$9 -> Stoneham Interchange | BP9: DAY: | BQ9: =TEXT(BQ7,"dddd") -> Thursday | BS9: LOCATION: | BT9: =$L$9 -> Stoneham Interchange | BZ9: DAY: | CA9: =TEXT(CA7,"dddd") -> Thursday | CC9: LOCATION: | CD9: =$L$9 -> Stoneham Interchange | CJ9: DAY: | CK9: =TEXT(CK7,"dddd") -> Thursday | CM9: LOCATION: | CN9: =$L$9 -> Stoneham Interchange | CT9: DAY: | CU9: =TEXT(CU7,"dddd") -> Thursday | CW9: LOCATION: | CX9: =$L$9 -> Stoneham Interchange | DD9: DAY: | DE9: =TEXT(DE7,"dddd") -> Thursday | DG9: LOCATION: | DH9: =$L$9 -> Stoneham Interchange | DN9: DAY: | DO9: =TEXT(DO7,"dddd") -> Thursday | DQ9: LOCATION: | DR9: =$L$9 -> Stoneham Interchange | DX9: DAY: | DY9: =TEXT(DY7,"dddd") -> Thursday | EA9: LOCATION: | EB9: =$L$9 -> Stoneham Interchange | EH9: DAY: | EI9: =TEXT(EI7,"dddd") -> Thursday | EK9: LOCATION: | EL9: =$L$9 -> Stoneham Interchange | ER9: DAY: | ES9: =TEXT(ES7,"dddd") -> Thursday | EU9: LOCATION: | EV9: =$L$9 -> Stoneham Interchange | FB9: DAY: | FC9: =TEXT(FC7,"dddd") -> Thursday | FE9: LOCATION: | FF9: =$L$9 -> Stoneham Interchange | FL9: DAY: | FM9: =TEXT(FM7,"dddd") -> Thursday | FO9: LOCATION: | FP9: =$L$9 -> Stoneham Interchange | FV9: DAY: | FW9: =TEXT(FW7,"dddd") -> Thursday | FY9: LOCATION: | FZ9: =$L$9 -> Stoneham Interchange | GF9: DAY: | GG9: =TEXT(GG7,"dddd") -> Thursday | GI9: LOCATION: | GJ9: =$L$9 -> Stoneham Interchange | GP9: DAY: | GQ9: =TEXT(GQ7,"dddd") -> Thursday | GS9: LOCATION: | GT9: =$L$9 -> Stoneham Interchange | GZ9: DAY: | HA9: =TEXT(HA7,"dddd") -> Thursday | HC9: LOCATION: | HD9: =$L$9 -> Stoneham Interchange | HJ9: DAY: | HK9: =TEXT(HK7,"dddd") -> Thursday | HM9: LOCATION: | HN9: =$L$9 -> Stoneham Interchange | HT9: DAY: | HU9: =TEXT(HU7,"dddd") -> Thursday | HW9: LOCATION: | HX9: =$L$9 -> Stoneham Interchange | ID9: DAY: | IE9: =TEXT(IE7,"dddd") -> Thursday | IG9: LOCATION: | IH9: =$L$9 -> Stoneham Interchange | IN9: DAY: | IO9: =TEXT(IO7,"dddd") -> Thursday | IQ9: LOCATION: | IR9: =$L$9 -> Stoneham Interchange | IX9: DAY: | IY9: =TEXT(IY7,"dddd") -> Thursday | JA9: LOCATION: | JB9: =$L$9 -> Stoneham Interchange | JH9: DAY: | JI9: =TEXT(JI7,"dddd") -> Thursday | JK9: LOCATION: | JL9: =$L$9 -> Stoneham Interchange | JR9: DAY: | JS9: =TEXT(JS7,"dddd") -> Thursday | JU9: LOCATION: | JV9: =$L$9 -> Stoneham Interchange | KB9: DAY: | KC9: =TEXT(KC7,"dddd") -> Thursday | KE9: LOCATION: | KF9: =$L$9 -> Stoneham Interchange | KL9: DAY: | KM9: =TEXT(KM7,"dddd") -> Thursday | KO9: LOCATION: | KP9: =$L$9 -> Stoneham Interchange | KV9: DAY: | KW9: =TEXT(KW7,"dddd") -> Thursday | KY9: LOCATION: | KZ9: =$L$9 -> Stoneham Interchange | LF9: DAY: | LG9: =TEXT(LG7,"dddd") -> Thursday | LI9: LOCATION: | LJ9: =$L$9 -> Stoneham Interchange | LP9: DAY: | LQ9: =TEXT(LQ7,"dddd") -> Thursday | LS9: LOCATION: | LT9: =$L$9 -> Stoneham Interchange | LZ9: DAY: | MA9: =TEXT(MA7,"dddd") -> Thursday | MC9: LOCATION: | MD9: =$L$9 -> Stoneham Interchange | MJ9: DAY: | MK9: =TEXT(MK7,"dddd") -> Thursday | MM9: LOCATION: | MN9: =$L$9 -> Stoneham Interchange | MT9: DAY: | MU9: =TEXT(MU7,"dddd") -> Thursday
B11: A to E | L11: A to D | V11: A to C | AF11: A to B | AP11: A to A | AZ11: B to A | BJ11: B to E | BT11: B to D | CD11: B to C | CN11: B to B | CX11: C to B | DH11: C to A | DR11: C to E | EB11: C to D | EL11: C to C | EV11: D to C | FF11: D to B | FP11: D to A | FZ11: D to E | GJ11: D to D | GT11: E to D | HD11: E to C | HN11: E to B | HX11: E to A | IH11: E to E | IR11: TO ARM A | JB11: FROM ARM A | JL11: TO ARM B | JV11: FROM ARM B | KF11: TO ARM C | KP11: FROM ARM C | KZ11: TO ARM D | LJ11: FROM ARM D | LT11: TO ARM E | MD11: FROM ARM E | MN11: JUNCTION TOTAL
A12: TIME | B12: CAR | C12: LGV | D12: OGV1 | E12: OGV2 | F12: PSV | G12: MCL | H12: PCL | I12: TOT | J12: PCUs | K12: TIME | L12: CAR | M12: LGV | N12: OGV1 | O12: OGV2 | P12: PSV | Q12: MCL | R12: PCL | S12: TOT | T12: PCUs | U12: TIME | V12: CAR | W12: LGV | X12: OGV1 | Y12: OGV2 | Z12: PSV | AA12: MCL | AB12: PCL | AC12: TOT | AD12: PCUs | AE12: TIME | AF12: CAR | AG12: LGV | AH12: OGV1 | AI12: OGV2 | AJ12: PSV | AK12: MCL | AL12: PCL | AM12: TOT | AN12: PCUs | AO12: TIME | AP12: CAR | AQ12: LGV | AR12: OGV1 | AS12: OGV2 | AT12: PSV | AU12: MCL | AV12: PCL | AW12: TOT | AX12: PCUs | AY12: TIME | AZ12: CAR | BA12: LGV | BB12: OGV1 | BC12: OGV2 | BD12: PSV | BE12: MCL | BF12: PCL | BG12: TOT | BH12: PCUs | BI12: TIME | BJ12: CAR | BK12: LGV | BL12: OGV1 | BM12: OGV2 | BN12: PSV | BO12: MCL | BP12: PCL | BQ12: TOT | BR12: PCUs | BS12: TIME | BT12: CAR | BU12: LGV | BV12: OGV1 | BW12: OGV2 | BX12: PSV | BY12: MCL | BZ12: PCL | CA12: TOT | CB12: PCUs | CC12: TIME | CD12: CAR | CE12: LGV | CF12: OGV1 | CG12: OGV2 | CH12: PSV | CI12: MCL | CJ12: PCL | CK12: TOT | CL12: PCUs | CM12: TIME | CN12: CAR | CO12: LGV | CP12: OGV1 | CQ12: OGV2 | CR12: PSV | CS12: MCL | CT12: PCL | CU12: TOT | CV12: PCUs | CW12: TIME | CX12: CAR | CY12: LGV | CZ12: OGV1 | DA12: OGV2 | DB12: PSV | DC12: MCL | DD12: PCL | DE12: TOT | DF12: PCUs | DG12: TIME | DH12: CAR | DI12: LGV | DJ12: OGV1 | DK12: OGV2 | DL12: PSV | DM12: MCL | DN12: PCL | DO12: TOT | DP12: PCUs | DQ12: TIME | DR12: CAR | DS12: LGV | DT12: OGV1 | DU12: OGV2 | DV12: PSV | DW12: MCL | DX12: PCL | DY12: TOT | DZ12: PCUs | EA12: TIME | EB12: CAR | EC12: LGV | ED12: OGV1 | EE12: OGV2 | EF12: PSV | EG12: MCL | EH12: PCL | EI12: TOT | EJ12: PCUs | EK12: TIME | EL12: CAR | EM12: LGV | EN12: OGV1 | EO12: OGV2 | EP12: PSV | EQ12: MCL | ER12: PCL | ES12: TOT | ET12: PCUs | EU12: TIME | EV12: CAR | EW12: LGV | EX12: OGV1 | EY12: OGV2 | EZ12: PSV | FA12: MCL | FB12: PCL | FC12: TOT | FD12: PCUs | FE12: TIME | FF12: CAR | FG12: LGV | FH12: OGV1 | FI12: OGV2 | FJ12: PSV | FK12: MCL | FL12: PCL | FM12: TOT | FN12: PCUs | FO12: TIME | FP12: CAR | FQ12: LGV | FR12: OGV1 | FS12: OGV2 | FT12: PSV | FU12: MCL | FV12: PCL | FW12: TOT | FX12: PCUs | FY12: TIME | FZ12: CAR | GA12: LGV | GB12: OGV1 | GC12: OGV2 | GD12: PSV | GE12: MCL | GF12: PCL | GG12: TOT | GH12: PCUs | GI12: TIME | GJ12: CAR | GK12: LGV | GL12: OGV1 | GM12: OGV2 | GN12: PSV | GO12: MCL | GP12: PCL | GQ12: TOT | GR12: PCUs | GS12: TIME | GT12: CAR | GU12: LGV | GV12: OGV1 | GW12: OGV2 | GX12: PSV | GY12: MCL | GZ12: PCL | HA12: TOT | HB12: PCUs | HC12: TIME | HD12: CAR | HE12: LGV | HF12: OGV1 | HG12: OGV2 | HH12: PSV | HI12: MCL | HJ12: PCL | HK12: TOT | HL12: PCUs | HM12: TIME | HN12: CAR | HO12: LGV | HP12: OGV1 | HQ12: OGV2 | HR12: PSV | HS12: MCL | HT12: PCL | HU12: TOT | HV12: PCUs | HW12: TIME | HX12: CAR | HY12: LGV | HZ12: OGV1 | IA12: OGV2 | IB12: PSV | IC12: MCL | ID12: PCL | IE12: TOT | IF12: PCUs | IG12: TIME | IH12: CAR | II12: LGV | IJ12: OGV1 | IK12: OGV2 | IL12: PSV | IM12: MCL | IN12: PCL | IO12: TOT | IP12: PCUs | IQ12: TIME | IR12: CAR | IS12: LGV | IT12: OGV1 | IU12: OGV2 | IV12: PSV | IW12: MCL | IX12: PCL | IY12: TOT | IZ12: PCUs | JA12: TIME | JB12: CAR | JC12: LGV | JD12: OGV1 | JE12: OGV2 | JF12: PSV | JG12: MCL | JH12: PCL | JI12: TOT | JJ12: PCUs | JK12: TIME | JL12: CAR | JM12: LGV | JN12: OGV1 | JO12: OGV2 | JP12: PSV | JQ12: MCL | JR12: PCL | JS12: TOT | JT12: PCUs | JU12: TIME | JV12: CAR | JW12: LGV | JX12: OGV1 | JY12: OGV2 | JZ12: PSV | KA12: MCL | KB12: PCL | KC12: TOT | KD12: PCUs | KE12: TIME | KF12: CAR | KG12: LGV | KH12: OGV1 | KI12: OGV2 | KJ12: PSV | KK12: MCL | KL12: PCL | KM12: TOT | KN12: PCUs | KO12: TIME | KP12: CAR | KQ12: LGV | KR12: OGV1 | KS12: OGV2 | KT12: PSV | KU12: MCL | KV12: PCL | KW12: TOT | KX12: PCUs | KY12: TIME | KZ12: CAR | LA12: LGV | LB12: OGV1 | LC12: OGV2 | LD12: PSV | LE12: MCL | LF12: PCL | LG12: TOT | LH12: PCUs | LI12: TIME | LJ12: CAR | LK12: LGV | LL12: OGV1 | LM12: OGV2 | LN12: PSV | LO12: MCL | LP12: PCL | LQ12: TOT | LR12: PCUs | LS12: TIME | LT12: CAR | LU12: LGV | LV12: OGV1 | LW12: OGV2 | LX12: PSV | LY12: MCL | LZ12: PCL | MA12: TOT | MB12: PCUs | MC12: TIME | MD12: CAR | ME12: LGV | MF12: OGV1 | MG12: OGV2 | MH12: PSV | MI12: MCL | MJ12: PCL | MK12: TOT | ML12: PCUs | MM12: TIME | MN12: CAR | MO12: LGV | MP12: OGV1 | MQ12: OGV2 | MR12: PSV | MS12: MCL | MT12: PCL | MU12: TOT | MV12: PCUs
A13: 0.29166667 | B13: 64 | C13: 13 | D13: 5 | E13: 3 | F13: 5 | G13: 1 | H13: 0 | I13: =SUM(B13:H13) -> 91 | J13: =B13+C13+D13*1.5+E13*2.3+F13*2+G13*0.4+H13*0.2 -> 101.8 | K13: 0.29166667 | L13: 37 | M13: 5 | N13: 0 | O13: 0 | P13: 0 | Q13: 0 | R13: 0 | S13: =SUM(L13:R13) -> 42 | T13: =L13+M13+N13*1.5+O13*2.3+P13*2+Q13*0.4+R13*0.2 -> 42 | U13: 0.29166667 | V13: 43 | W13: 15 | X13: 1 | Y13: 2 | Z13: 0 | AA13: 0 | AB13: 0 | AC13: =SUM(V13:AB13) -> 61 | AD13: =V13+W13+X13*1.5+Y13*2.3+Z13*2+AA13*0.4+AB13*0.2 -> 64.1 | AE13: 0.29166667 | AF13: 6 | AG13: 0 | AH13: 0 | AI13: 0 | AJ13: 0 | AK13: 0 | AL13: 0 | AM13: =SUM(AF13:AL13) -> 6 | AN13: =AF13+AG13+AH13*1.5+AI13*2.3+AJ13*2+AK13*0.4+AL13*0.2 -> 6 | AO13: 0.29166667 | AP13: 0 | AQ13: 0 | AR13: 0 | AS13: 0 | AT13: 0 | AU13: 0 | AV13: 0 | AW13: =SUM(AP13:AV13) -> 0 | AX13: =AP13+AQ13+AR13*1.5+AS13*2.3+AT13*2+AU13*0.4+AV13*0.2 -> 0 | AY13: 0.29166667 | AZ13: 20 | BA13: 2 | BB13: 0 | BC13: 0 | BD13: 0 | BE13: 1 | BF13: 0 | BG13: =SUM(AZ13:BF13) -> 23 | BH13: =AZ13+BA13+BB13*1.5+BC13*2.3+BD13*2+BE13*0.4+BF13*0.2 -> 22.4 | BI13: 0.29166667 | BJ13: 83 | BK13: 30 | BL13: 2 | BM13: 3 | BN13: 0 | BO13: 0 | BP13: 0 | BQ13: =SUM(BJ13:BP13) -> 118 | BR13: =BJ13+BK13+BL13*1.5+BM13*2.3+BN13*2+BO13*0.4+BP13*0.2 -> 122.9 | BS13: 0.29166667 | BT13: 32 | BU13: 8 | BV13: 1 | BW13: 0 | BX13: 0 | BY13: 1 | BZ13: 0 | CA13: =SUM(BT13:BZ13) -> 42 | CB13: =BT13+BU13+BV13*1.5+BW13*2.3+BX13*2+BY13*0.4+BZ13*0.2 -> 41.9 | CC13: 0.29166667 | CD13: 4 | CE13: 2 | CF13: 0 | CG13: 0 | CH13: 0 | CI13: 0 | CJ13: 0 | CK13: =SUM(CD13:CJ13) -> 6 | CL13: =CD13+CE13+CF13*1.5+CG13*2.3+CH13*2+CI13*0.4+CJ13*0.2 -> 6 | CM13: 0.29166667 | CN13: 0 | CO13: 0 | CP13: 0 | CQ13: 0 | CR13: 0 | CS13: 0 | CT13: 0 | CU13: =SUM(CN13:CT13) -> 0 | CV13: =CN13+CO13+CP13*1.5+CQ13*2.3+CR13*2+CS13*0.4+CT13*0.2 -> 0 | CW13: 0.29166667 | CX13: 7 | CY13: 0 | CZ13: 1 | DA13: 0 | DB13: 0 | DC13: 0 | DD13: 0 | DE13: =SUM(CX13:DD13) -> 8 | DF13: =CX13+CY13+CZ13*1.5+DA13*2.3+DB13*2+DC13*0.4+DD13*0.2 -> 8.5 | DG13: 0.29166667 | DH13: 67 | DI13: 5 | DJ13: 4 | DK13: 0 | DL13: 0 | DM13: 0 | DN13: 0 | DO13: =SUM(DH13:DN13) -> 76 | DP13: =DH13+DI13+DJ13*1.5+DK13*2.3+DL13*2+DM13*0.4+DN13*0.2 -> 78 | DQ13: 0.29166667 | DR13: 0 | DS13: 0 | DT13: 0 | DU13: 0 | DV13: 0 | DW13: 0 | DX13: 0 | DY13: =SUM(DR13:DX13) -> 0 | DZ13: =DR13+DS13+DT13*1.5+DU13*2.3+DV13*2+DW13*0.4+DX13*0.2 -> 0 | EA13: 0.29166667 | EB13: 16 | EC13: 10 | ED13: 0 | EE13: 0 | EF13: 0 | EG13: 0 | EH13: 0 | EI13: =SUM(EB13:EH13) -> 26 | EJ13: =EB13+EC13+ED13*1.5+EE13*2.3+EF13*2+EG13*0.4+EH13*0.2 -> 26 | EK13: 0.29166667 | EL13: 0 | EM13: 0 | EN13: 0 | EO13: 0 | EP13: 0 | EQ13: 0 | ER13: 0 | ES13: =SUM(EL13:ER13) -> 0 | ET13: =EL13+EM13+EN13*1.5+EO13*2.3+EP13*2+EQ13*0.4+ER13*0.2 -> 0 | EU13: 0.29166667 | EV13: 113 | EW13: 34 | EX13: 3 | EY13: 1 | EZ13: 0 | FA13: 1 | FB13: 0 | FC13: =SUM(EV13:FB13) -> 152 | FD13: =EV13+EW13+EX13*1.5+EY13*2.3+EZ13*2+FA13*0.4+FB13*0.2 -> 154.2 | FE13: 0.29166667 | FF13: 7 | FG13: 4 | FH13: 1 | FI13: 0 | FJ13: 0 | FK13: 0 | FL13: 0 | FM13: =SUM(FF13:FL13) -> 12 | FN13: =FF13+FG13+FH13*1.5+FI13*2.3+FJ13*2+FK13*0.4+FL13*0.2 -> 12.5 | FO13: 0.29166667 | FP13: 22 | FQ13: 3 | FR13: 1 | FS13: 0 | FT13: 1 | FU13: 0 | FV13: 0 | FW13: =SUM(FP13:FV13) -> 27 | FX13: =FP13+FQ13+FR13*1.5+FS13*2.3+FT13*2+FU13*0.4+FV13*0.2 -> 28.5 | FY13: 0.29166667 | FZ13: 96 | GA13: 26 | GB13: 6 | GC13: 1 | GD13: 0 | GE13: 0 | GF13: 0 | GG13: =SUM(FZ13:GF13) -> 129 | GH13: =FZ13+GA13+GB13*1.5+GC13*2.3+GD13*2+GE13*0.4+GF13*0.2 -> 133.3 | GI13: 0.29166667 | GJ13: 0 | GK13: 0 | GL13: 0 | GM13: 0 | GN13: 0 | GO13: 0 | GP13: 0 | GQ13: =SUM(GJ13:GP13) -> 0 | GR13: =GJ13+GK13+GL13*1.5+GM13*2.3+GN13*2+GO13*0.4+GP13*0.2 -> 0 | GS13: 0.29166667 | GT13: 123 | GU13: 21 | GV13: 2 | GW13: 1 | GX13: 0 | GY13: 2 | GZ13: 0 | HA13: =SUM(GT13:GZ13) -> 149 | HB13: =GT13+GU13+GV13*1.5+GW13*2.3+GX13*2+GY13*0.4+GZ13*0.2 -> 150.1 | HC13: 0.29166667 | HD13: 0 | HE13: 0 | HF13: 0 | HG13: 0 | HH13: 0 | HI13: 0 | HJ13: 0 | HK13: =SUM(HD13:HJ13) -> 0 | HL13: =HD13+HE13+HF13*1.5+HG13*2.3+HH13*2+HI13*0.4+HJ13*0.2 -> 0 | HM13: 0.29166667 | HN13: 112 | HO13: 31 | HP13: 1 | HQ13: 0 | HR13: 0 | HS13: 0 | HT13: 0 | HU13: =SUM(HN13:HT13) -> 144 | HV13: =HN13+HO13+HP13*1.5+HQ13*2.3+HR13*2+HS13*0.4+HT13*0.2 -> 144.5 | HW13: 0.29166667 | HX13: 69 | HY13: 17 | HZ13: 0 | IA13: 1 | IB13: 0 | IC13: 0 | ID13: 0 | IE13: =SUM(HX13:ID13) -> 87 | IF13: =HX13+HY13+HZ13*1.5+IA13*2.3+IB13*2+IC13*0.4+ID13*0.2 -> 88.3 | IG13: 0.29166667 | IH13: 0 | II13: 0 | IJ13: 0 | IK13: 0 | IL13: 0 | IM13: 0 | IN13: 0 | IO13: =SUM(IH13:IN13) -> 0 | IP13: =IH13+II13+IJ13*1.5+IK13*2.3+IL13*2+IM13*0.4+IN13*0.2 -> 0 | IQ13: 0.29166667 | IR13: =SUM(AP13,AZ13,DH13,FP13,HX13) -> 178 | IS13: =SUM(AQ13,BA13,DI13,FQ13,HY13) -> 27 | IT13: =SUM(AR13,BB13,DJ13,FR13,HZ13) -> 5 | IU13: =SUM(AS13,BC13,DK13,FS13,IA13) -> 1 | IV13: =SUM(AT13,BD13,DL13,FT13,IB13) -> 1 | IW13: =SUM(AU13,BE13,DM13,FU13,IC13) -> 1 | IX13: =SUM(AV13,BF13,DN13,FV13,ID13) -> 0 | IY13: =SUM(IR13:IX13) -> 213 | IZ13: =IR13+IS13+IT13*1.5+IU13*2.3+IV13*2+IW13*0.4+IX13*0.2 -> 217.2 | JA13: 0.29166667 | JB13: =SUM(B13,L13,V13,AF13,AP13) -> 150 | JC13: =SUM(C13,M13,W13,AG13,AQ13) -> 33 | JD13: =SUM(D13,N13,X13,AH13,AR13) -> 6 | JE13: =SUM(E13,O13,Y13,AI13,AS13) -> 5 | JF13: =SUM(F13,P13,Z13,AJ13,AT13) -> 5 | JG13: =SUM(G13,Q13,AA13,AK13,AU13) -> 1 | JH13: =SUM(H13,R13,AB13,AL13,AV13) -> 0 | JI13: =SUM(JB13:JH13) -> 200 | JJ13: =JB13+JC13+JD13*1.5+JE13*2.3+JF13*2+JG13*0.4+JH13*0.2 -> 213.9 | JK13: 0.29166667 | JL13: =SUM(AF13,CN13,CX13,FF13,HN13) -> 132 | JM13: =SUM(AG13,CO13,CY13,FG13,HO13) -> 35 | JN13: =SUM(AH13,CP13,CZ13,FH13,HP13) -> 3 | JO13: =SUM(AI13,CQ13,DA13,FI13,HQ13) -> 0 | JP13: =SUM(AJ13,CR13,DB13,FJ13,HR13) -> 0 | JQ13: =SUM(AK13,CS13,DC13,FK13,HS13) -> 0 | JR13: =SUM(AL13,CT13,DD13,FL13,HT13) -> 0 | JS13: =SUM(JL13:JR13) -> 170 | JT13: =JL13+JM13+JN13*1.5+JO13*2.3+JP13*2+JQ13*0.4+JR13*0.2 -> 171.5 | JU13: 0.29166667 | JV13: =SUM(AZ13,BJ13,BT13,CD13,CN13) -> 139 | JW13: =SUM(BA13,BK13,BU13,CE13,CO13) -> 42 | JX13: =SUM(BB13,BL13,BV13,CF13,CP13) -> 3 | JY13: =SUM(BC13,BM13,BW13,CG13,CQ13) -> 3 | JZ13: =SUM(BD13,BN13,BX13,CH13,CR13) -> 0 | KA13: =SUM(BE13,BO13,BY13,CI13,CS13) -> 2 | KB13: =SUM(BF13,BP13,BZ13,CJ13,CT13) -> 0 | KC13: =SUM(JV13:KB13) -> 189 | KD13: =JV13+JW13+JX13*1.5+JY13*2.3+JZ13*2+KA13*0.4+KB13*0.2 -> 193.2 | KE13: 0.29166667 | KF13: =SUM(V13,CD13,EL13,EV13,HD13) -> 160 | KG13: =SUM(W13,CE13,EM13,EW13,HE13) -> 51 | KH13: =SUM(X13,CF13,EN13,EX13,HF13) -> 4 | KI13: =SUM(Y13,CG13,EO13,EY13,HG13) -> 3 | KJ13: =SUM(Z13,CH13,EP13,EZ13,HH13) -> 0 | KK13: =SUM(AA13,CI13,EQ13,FA13,HI13) -> 1 | KL13: =SUM(AB13,CJ13,ER13,FB13,HJ13) -> 0 | KM13: =SUM(KF13:KL13) -> 219 | KN13: =KF13+KG13+KH13*1.5+KI13*2.3+KJ13*2+KK13*0.4+KL13*0.2 -> 224.3 | KO13: 0.29166667 | KP13: =SUM(CX13,DH13,DR13,EB13,EL13) -> 90 | KQ13: =SUM(CY13,DI13,DS13,EC13,EM13) -> 15 | KR13: =SUM(CZ13,DJ13,DT13,ED13,EN13) -> 5 | KS13: =SUM(DA13,DK13,DU13,EE13,EO13) -> 0 | KT13: =SUM(DB13,DL13,DV13,EF13,EP13) -> 0 | KU13: =SUM(DC13,DM13,DW13,EG13,EQ13) -> 0 | KV13: =SUM(DD13,DN13,DX13,EH13,ER13) -> 0 | KW13: =SUM(KP13:KV13) -> 110 | KX13: =KP13+KQ13+KR13*1.5+KS13*2.3+KT13*2+KU13*0.4+KV13*0.2 -> 112.5 | KY13: 0.29166667 | KZ13: =SUM(L13,BT13,EB13,GJ13,GT13) -> 208 | LA13: =SUM(M13,BU13,EC13,GK13,GU13) -> 44 | LB13: =SUM(N13,BV13,ED13,GL13,GV13) -> 3 | LC13: =SUM(O13,BW13,EE13,GM13,GW13) -> 1 | LD13: =SUM(P13,BX13,EF13,GN13,GX13) -> 0 | LE13: =SUM(Q13,BY13,EG13,GO13,GY13) -> 3 | LF13: =SUM(R13,BZ13,EH13,GP13,GZ13) -> 0 | LG13: =SUM(KZ13:LF13) -> 259 | LH13: =KZ13+LA13+LB13*1.5+LC13*2.3+LD13*2+LE13*0.4+LF13*0.2 -> 260 | LI13: 0.29166667 | LJ13: =SUM(EV13,FF13,FP13,FZ13,GJ13) -> 238 | LK13: =SUM(EW13,FG13,FQ13,GA13,GK13) -> 67 | LL13: =SUM(EX13,FH13,FR13,GB13,GL13) -> 11 | LM13: =SUM(EY13,FI13,FS13,GC13,GM13) -> 2 | LN13: =SUM(EZ13,FJ13,FT13,GD13,GN13) -> 1 | LO13: =SUM(FA13,FK13,FU13,GE13,GO13) -> 1 | LP13: =SUM(FB13,FL13,FV13,GF13,GP13) -> 0 | LQ13: =SUM(LJ13:LP13) -> 320 | LR13: =LJ13+LK13+LL13*1.5+LM13*2.3+LN13*2+LO13*0.4+LP13*0.2 -> 328.5 | LS13: 0.29166667 | LT13: =SUM(B13,BJ13,DR13,FZ13,IH13) -> 243 | LU13: =SUM(C13,BK13,DS13,GA13,II13) -> 69 | LV13: =SUM(D13,BL13,DT13,GB13,IJ13) -> 13 | LW13: =SUM(E13,BM13,DU13,GC13,IK13) -> 7 | LX13: =SUM(F13,BN13,DV13,GD13,IL13) -> 5 | LY13: =SUM(G13,BO13,DW13,GE13,IM13) -> 1 | LZ13: =SUM(H13,BP13,DX13,GF13,IN13) -> 0 | MA13: =SUM(LT13:LZ13) -> 338 | MB13: =LT13+LU13+LV13*1.5+LW13*2.3+LX13*2+LY13*0.4+LZ13*0.2 -> 358 | MC13: 0.29166667 | MD13: =SUM(GT13,HD13,HN13,HX13,IH13) -> 304 | ME13: =SUM(GU13,HE13,HO13,HY13,II13) -> 69 | MF13: =SUM(GV13,HF13,HP13,HZ13,IJ13) -> 3 | MG13: =SUM(GW13,HG13,HQ13,IA13,IK13) -> 2 | MH13: =SUM(GX13,HH13,HR13,IB13,IL13) -> 0 | MI13: =SUM(GY13,HI13,HS13,IC13,IM13) -> 2 | MJ13: =SUM(GZ13,HJ13,HT13,ID13,IN13) -> 0 | MK13: =SUM(MD13:MJ13) -> 380 | ML13: =MD13+ME13+MF13*1.5+MG13*2.3+MH13*2+MI13*0.4+MJ13*0.2 -> 382.9 | MM13: 0.29166667 | MN13: =SUM(IR13,JL13,KF13,KZ13,LT13) -> 921 | MO13: =SUM(IS13,JM13,KG13,LA13,LU13) -> 226 | MP13: =SUM(IT13,JN13,KH13,LB13,LV13) -> 28 | MQ13: =SUM(IU13,JO13,KI13,LC13,LW13) -> 12 | MR13: =SUM(IV13,JP13,KJ13,LD13,LX13) -> 6 | MS13: =SUM(IW13,JQ13,KK13,LE13,LY13) -> 6 | MT13: =SUM(IX13,JR13,KL13,LF13,LZ13) -> 0 | MU13: =SUM(MN13:MT13) -> 1199 | MV13: =MN13+MO13+MP13*1.5+MQ13*2.3+MR13*2+MS13*0.4+MT13*0.2 -> 1231
A14: =A13+"00:15" -> 0.30208333 | B14: 64 | C14: 16 | D14: 10 | E14: 3 | F14: 1 | G14: 0 | H14: 0 | I14: =SUM(B14:H14) -> 94 | J14: =B14+C14+D14*1.5+E14*2.3+F14*2+G14*0.4+H14*0.2 -> 103.9 | K14: =K13+"00:15" -> 0.30208333 | L14: 21 | M14: 8 | N14: 5 | O14: 0 | P14: 1 | Q14: 2 | R14: 0 | S14: =SUM(L14:R14) -> 37 | T14: =L14+M14+N14*1.5+O14*2.3+P14*2+Q14*0.4+R14*0.2 -> 39.3 | U14: =U13+"00:15" -> 0.30208333 | V14: 57 | W14: 13 | X14: 11 | Y14: 0 | Z14: 0 | AA14: 0 | AB14: 0 | AC14: =SUM(V14:AB14) -> 81 | AD14: =V14+W14+X14*1.5+Y14*2.3+Z14*2+AA14*0.4+AB14*0.2 -> 86.5 | AE14: =AE13+"00:15" -> 0.30208333 | AF14: 5 | AG14: 0 | AH14: 1 | AI14: 0 | AJ14: 0 | AK14: 1 | AL14: 0 | AM14: =SUM(AF14:AL14) -> 7 | AN14: =AF14+AG14+AH14*1.5+AI14*2.3+AJ14*2+AK14*0.4+AL14*0.2 -> 6.9 | AO14: =AO13+"00:15" -> 0.30208333 | AP14: 0 | AQ14: 0 | AR14: 0 | AS14: 0 | AT14: 0 | AU14: 0 | AV14: 0 | AW14: =SUM(AP14:AV14) -> 0 | AX14: =AP14+AQ14+AR14*1.5+AS14*2.3+AT14*2+AU14*0.4+AV14*0.2 -> 0 | AY14: =AY13+"00:15" -> 0.30208333 | AZ14: 23 | BA14: 1 | BB14: 1 | BC14: 0 | BD14: 0 | BE14: 1 | BF14: 0 | BG14: =SUM(AZ14:BF14) -> 26 | BH14: =AZ14+BA14+BB14*1.5+BC14*2.3+BD14*2+BE14*0.4+BF14*0.2 -> 25.9 | BI14: =BI13+"00:15" -> 0.30208333 | BJ14: 117 | BK14: 33 | BL14: 5 | BM14: 2 | BN14: 0 | BO14: 2 | BP14: 0 | BQ14: =SUM(BJ14:BP14) -> 159 | BR14: =BJ14+BK14+BL14*1.5+BM14*2.3+BN14*2+BO14*0.4+BP14*0.2 -> 162.9 | BS14: =BS13+"00:15" -> 0.30208333 | BT14: 20 | BU14: 10 | BV14: 0 | BW14: 0 | BX14: 0 | BY14: 0 | BZ14: 0 | CA14: =SUM(BT14:BZ14) -> 30 | CB14: =BT14+BU14+BV14*1.5+BW14*2.3+BX14*2+BY14*0.4+BZ14*0.2 -> 30 | CC14: =CC13+"00:15" -> 0.30208333 | CD14: 3 | CE14: 4 | CF14: 0 | CG14: 0 | CH14: 0 | CI14: 0 | CJ14: 0 | CK14: =SUM(CD14:CJ14) -> 7 | CL14: =CD14+CE14+CF14*1.5+CG14*2.3+CH14*2+CI14*0.4+CJ14*0.2 -> 7 | CM14: =CM13+"00:15" -> 0.30208333 | CN14: 0 | CO14: 0 | CP14: 0 | CQ14: 0 | CR14: 0 | CS14: 0 | CT14: 0 | CU14: =SUM(CN14:CT14) -> 0 | CV14: =CN14+CO14+CP14*1.5+CQ14*2.3+CR14*2+CS14*0.4+CT14*0.2 -> 0 | CW14: =CW13+"00:15" -> 0.30208333 | CX14: 9 | CY14: 2 | CZ14: 1 | DA14: 0 | DB14: 0 | DC14: 0 | DD14: 0 | DE14: =SUM(CX14:DD14) -> 12 | DF14: =CX14+CY14+CZ14*1.5+DA14*2.3+DB14*2+DC14*0.4+DD14*0.2 -> 12.5 | DG14: =DG13+"00:15" -> 0.30208333 | DH14: 61 | DI14: 8 | DJ14: 3 | DK14: 0 | DL14: 0 | DM14: 1 | DN14: 0 | DO14: =SUM(DH14:DN14) -> 73 | DP14: =DH14+DI14+DJ14*1.5+DK14*2.3+DL14*2+DM14*0.4+DN14*0.2 -> 73.9 | DQ14: =DQ13+"00:15" -> 0.30208333 | DR14: 0 | DS14: 0 | DT14: 0 | DU14: 0 | DV14: 0 | DW14: 0 | DX14: 0 | DY14: =SUM(DR14:DX14) -> 0 | DZ14: =DR14+DS14+DT14*1.5+DU14*2.3+DV14*2+DW14*0.4+DX14*0.2 -> 0 | EA14: =EA13+"00:15" -> 0.30208333 | EB14: 35 | EC14: 11 | ED14: 0 | EE14: 1 | EF14: 0 | EG14: 0 | EH14: 0 | EI14: =SUM(EB14:EH14) -> 47 | EJ14: =EB14+EC14+ED14*1.5+EE14*2.3+EF14*2+EG14*0.4+EH14*0.2 -> 48.3 | EK14: =EK13+"00:15" -> 0.30208333 | EL14: 0 | EM14: 0 | EN14: 0 | EO14: 0 | EP14: 0 | EQ14: 0 | ER14: 0 | ES14: =SUM(EL14:ER14) -> 0 | ET14: =EL14+EM14+EN14*1.5+EO14*2.3+EP14*2+EQ14*0.4+ER14*0.2 -> 0 | EU14: =EU13+"00:15" -> 0.30208333 | EV14: 91 | EW14: 34 | EX14: 6 | EY14: 1 | EZ14: 0 | FA14: 1 | FB14: 0 | FC14: =SUM(EV14:FB14) -> 133 | FD14: =EV14+EW14+EX14*1.5+EY14*2.3+EZ14*2+FA14*0.4+FB14*0.2 -> 136.7 | FE14: =FE13+"00:15" -> 0.30208333 | FF14: 14 | FG14: 10 | FH14: 2 | FI14: 0 | FJ14: 0 | FK14: 1 | FL14: 0 | FM14: =SUM(FF14:FL14) -> 27 | FN14: =FF14+FG14+FH14*1.5+FI14*2.3+FJ14*2+FK14*0.4+FL14*0.2 -> 27.4 | FO14: =FO13+"00:15" -> 0.30208333 | FP14: 49 | FQ14: 7 | FR14: 2 | FS14: 1 | FT14: 2 | FU14: 0 | FV14: 0 | FW14: =SUM(FP14:FV14) -> 61 | FX14: =FP14+FQ14+FR14*1.5+FS14*2.3+FT14*2+FU14*0.4+FV14*0.2 -> 65.3 | FY14: =FY13+"00:15" -> 0.30208333 | FZ14: 83 | GA14: 22 | GB14: 7 | GC14: 4 | GD14: 0 | GE14: 2 | GF14: 0 | GG14: =SUM(FZ14:GF14) -> 118 | GH14: =FZ14+GA14+GB14*1.5+GC14*2.3+GD14*2+GE14*0.4+GF14*0.2 -> 125.5 | GI14: =GI13+"00:15" -> 0.30208333 | GJ14: 0 | GK14: 0 | GL14: 0 | GM14: 0 | GN14: 0 | GO14: 0 | GP14: 0 | GQ14: =SUM(GJ14:GP14) -> 0 | GR14: =GJ14+GK14+GL14*1.5+GM14*2.3+GN14*2+GO14*0.4+GP14*0.2 -> 0 | GS14: =GS13+"00:15" -> 0.30208333 | GT14: 128 | GU14: 29 | GV14: 3 | GW14: 2 | GX14: 0 | GY14: 0 | GZ14: 0 | HA14: =SUM(GT14:GZ14) -> 162 | HB14: =GT14+GU14+GV14*1.5+GW14*2.3+GX14*2+GY14*0.4+GZ14*0.2 -> 166.1 | HC14: =HC13+"00:15" -> 0.30208333 | HD14: 0 | HE14: 0 | HF14: 0 | HG14: 0 | HH14: 0 | HI14: 0 | HJ14: 0 | HK14: =SUM(HD14:HJ14) -> 0 | HL14: =HD14+HE14+HF14*1.5+HG14*2.3+HH14*2+HI14*0.4+HJ14*0.2 -> 0 | HM14: =HM13+"00:15" -> 0.30208333 | HN14: 159 | HO14: 26 | HP14: 4 | HQ14: 1 | HR14: 0 | HS14: 1 | HT14: 0 | HU14: =SUM(HN14:HT14) -> 191 | HV14: =HN14+HO14+HP14*1.5+HQ14*2.3+HR14*2+HS14*0.4+HT14*0.2 -> 193.7 | HW14: =HW13+"00:15" -> 0.30208333 | HX14: 73 | HY14: 17 | HZ14: 1 | IA14: 1 | IB14: 0 | IC14: 0 | ID14: 0 | IE14: =SUM(HX14:ID14) -> 92 | IF14: =HX14+HY14+HZ14*1.5+IA14*2.3+IB14*2+IC14*0.4+ID14*0.2 -> 93.8 | IG14: =IG13+"00:15" -> 0.30208333 | IH14: 0 | II14: 0 | IJ14: 0 | IK14: 0 | IL14: 0 | IM14: 0 | IN14: 0 | IO14: =SUM(IH14:IN14) -> 0 | IP14: =IH14+II14+IJ14*1.5+IK14*2.3+IL14*2+IM14*0.4+IN14*0.2 -> 0 | IQ14: =IQ13+"00:15" -> 0.30208333 | IR14: =SUM(AP14,AZ14,DH14,FP14,HX14) -> 206 | IS14: =SUM(AQ14,BA14,DI14,FQ14,HY14) -> 33 | IT14: =SUM(AR14,BB14,DJ14,FR14,HZ14) -> 7 | IU14: =SUM(AS14,BC14,DK14,FS14,IA14) -> 2 | IV14: =SUM(AT14,BD14,DL14,FT14,IB14) -> 2 | IW14: =SUM(AU14,BE14,DM14,FU14,IC14) -> 2 | IX14: =SUM(AV14,BF14,DN14,FV14,ID14) -> 0 | IY14: =SUM(IR14:IX14) -> 252 | IZ14: =IR14+IS14+IT14*1.5+IU14*2.3+IV14*2+IW14*0.4+IX14*0.2 -> 258.9 | JA14: =JA13+"00:15" -> 0.30208333 | JB14: =SUM(B14,L14,V14,AF14,AP14) -> 147 | JC14: =SUM(C14,M14,W14,AG14,AQ14) -> 37 | JD14: =SUM(D14,N14,X14,AH14,AR14) -> 27 | JE14: =SUM(E14,O14,Y14,AI14,AS14) -> 3 | JF14: =SUM(F14,P14,Z14,AJ14,AT14) -> 2 | JG14: =SUM(G14,Q14,AA14,AK14,AU14) -> 3 | JH14: =SUM(H14,R14,AB14,AL14,AV14) -> 0 | JI14: =SUM(JB14:JH14) -> 219 | JJ14: =JB14+JC14+JD14*1.5+JE14*2.3+JF14*2+JG14*0.4+JH14*0.2 -> 236.6 | JK14: =JK13+"00:15" -> 0.30208333 | JL14: =SUM(AF14,CN14,CX14,FF14,HN14) -> 187 | JM14: =SUM(AG14,CO14,CY14,FG14,HO14) -> 38 | JN14: =SUM(AH14,CP14,CZ14,FH14,HP14) -> 8 | JO14: =SUM(AI14,CQ14,DA14,FI14,HQ14) -> 1 | JP14: =SUM(AJ14,CR14,DB14,FJ14,HR14) -> 0 | JQ14: =SUM(AK14,CS14,DC14,FK14,HS14) -> 3 | JR14: =SUM(AL14,CT14,DD14,FL14,HT14) -> 0 | JS14: =SUM(JL14:JR14) -> 237 | JT14: =JL14+JM14+JN14*1.5+JO14*2.3+JP14*2+JQ14*0.4+JR14*0.2 -> 240.5 | JU14: =JU13+"00:15" -> 0.30208333 | JV14: =SUM(AZ14,BJ14,BT14,CD14,CN14) -> 163 | JW14: =SUM(BA14,BK14,BU14,CE14,CO14) -> 48 | JX14: =SUM(BB14,BL14,BV14,CF14,CP14) -> 6 | JY14: =SUM(BC14,BM14,BW14,CG14,CQ14) -> 2 | JZ14: =SUM(BD14,BN14,BX14,CH14,CR14) -> 0 | KA14: =SUM(BE14,BO14,BY14,CI14,CS14) -> 3 | KB14: =SUM(BF14,BP14,BZ14,CJ14,CT14) -> 0 | KC14: =SUM(JV14:KB14) -> 222 | KD14: =JV14+JW14+JX14*1.5+JY14*2.3+JZ14*2+KA14*0.4+KB14*0.2 -> 225.8 | KE14: =KE13+"00:15" -> 0.30208333 | KF14: =SUM(V14,CD14,EL14,EV14,HD14) -> 151 | KG14: =SUM(W14,CE14,EM14,EW14,HE14) -> 51 | KH14: =SUM(X14,CF14,EN14,EX14,HF14) -> 17 | KI14: =SUM(Y14,CG14,EO14,EY14,HG14) -> 1 | KJ14: =SUM(Z14,CH14,EP14,EZ14,HH14) -> 0 | KK14: =SUM(AA14,CI14,EQ14,FA14,HI14) -> 1 | KL14: =SUM(AB14,CJ14,ER14,FB14,HJ14) -> 0 | KM14: =SUM(KF14:KL14) -> 221 | KN14: =KF14+KG14+KH14*1.5+KI14*2.3+KJ14*2+KK14*0.4+KL14*0.2 -> 230.2 | KO14: =KO13+"00:15" -> 0.30208333 | KP14: =SUM(CX14,DH14,DR14,EB14,EL14) -> 105 | KQ14: =SUM(CY14,DI14,DS14,EC14,EM14) -> 21 | KR14: =SUM(CZ14,DJ14,DT14,ED14,EN14) -> 4 | KS14: =SUM(DA14,DK14,DU14,EE14,EO14) -> 1 | KT14: =SUM(DB14,DL14,DV14,EF14,EP14) -> 0 | KU14: =SUM(DC14,DM14,DW14,EG14,EQ14) -> 1 | KV14: =SUM(DD14,DN14,DX14,EH14,ER14) -> 0 | KW14: =SUM(KP14:KV14) -> 132 | KX14: =KP14+KQ14+KR14*1.5+KS14*2.3+KT14*2+KU14*0.4+KV14*0.2 -> 134.7 | KY14: =KY13+"00:15" -> 0.30208333 | KZ14: =SUM(L14,BT14,EB14,GJ14,GT14) -> 204 | LA14: =SUM(M14,BU14,EC14,GK14,GU14) -> 58 | LB14: =SUM(N14,BV14,ED14,GL14,GV14) -> 8 | LC14: =SUM(O14,BW14,EE14,GM14,GW14) -> 3 | LD14: =SUM(P14,BX14,EF14,GN14,GX14) -> 1 | LE14: =SUM(Q14,BY14,EG14,GO14,GY14) -> 2 | LF14: =SUM(R14,BZ14,EH14,GP14,GZ14) -> 0 | LG14: =SUM(KZ14:LF14) -> 276 | LH14: =KZ14+LA14+LB14*1.5+LC14*2.3+LD14*2+LE14*0.4+LF14*0.2 -> 283.7 | LI14: =LI13+"00:15" -> 0.30208333 | LJ14: =SUM(EV14,FF14,FP14,FZ14,GJ14) -> 237 | LK14: =SUM(EW14,FG14,FQ14,GA14,GK14) -> 73 | LL14: =SUM(EX14,FH14,FR14,GB14,GL14) -> 17 | LM14: =SUM(EY14,FI14,FS14,GC14,GM14) -> 6 | LN14: =SUM(EZ14,FJ14,FT14,GD14,GN14) -> 2 | LO14: =SUM(FA14,FK14,FU14,GE14,GO14) -> 4 | LP14: =SUM(FB14,FL14,FV14,GF14,GP14) -> 0 | LQ14: =SUM(LJ14:LP14) -> 339 | LR14: =LJ14+LK14+LL14*1.5+LM14*2.3+LN14*2+LO14*0.4+LP14*0.2 -> 354.9 | LS14: =LS13+"00:15" -> 0.30208333 | LT14: =SUM(B14,BJ14,DR14,FZ14,IH14) -> 264 | LU14: =SUM(C14,BK14,DS14,GA14,II14) -> 71 | LV14: =SUM(D14,BL14,DT14,GB14,IJ14) -> 22 | LW14: =SUM(E14,BM14,DU14,GC14,IK14) -> 9 | LX14: =SUM(F14,BN14,DV14,GD14,IL14) -> 1 | LY14: =SUM(G14,BO14,DW14,GE14,IM14) -> 4 | LZ14: =SUM(H14,BP14,DX14,GF14,IN14) -> 0 | MA14: =SUM(LT14:LZ14) -> 371 | MB14: =LT14+LU14+LV14*1.5+LW14*2.3+LX14*2+LY14*0.4+LZ14*0.2 -> 392.3 | MC14: =MC13+"00:15" -> 0.30208333 | MD14: =SUM(GT14,HD14,HN14,HX14,IH14) -> 360 | ME14: =SUM(GU14,HE14,HO14,HY14,II14) -> 72 | MF14: =SUM(GV14,HF14,HP14,HZ14,IJ14) -> 8 | MG14: =SUM(GW14,HG14,HQ14,IA14,IK14) -> 4 | MH14: =SUM(GX14,HH14,HR14,IB14,IL14) -> 0 | MI14: =SUM(GY14,HI14,HS14,IC14,IM14) -> 1 | MJ14: =SUM(GZ14,HJ14,HT14,ID14,IN14) -> 0 | MK14: =SUM(MD14:MJ14) -> 445 | ML14: =MD14+ME14+MF14*1.5+MG14*2.3+MH14*2+MI14*0.4+MJ14*0.2 -> 453.6 | MM14: =MM13+"00:15" -> 0.30208333 | MN14: =SUM(IR14,JL14,KF14,KZ14,LT14) -> 1012 | MO14: =SUM(IS14,JM14,KG14,LA14,LU14) -> 251 | MP14: =SUM(IT14,JN14,KH14,LB14,LV14) -> 62 | MQ14: =SUM(IU14,JO14,KI14,LC14,LW14) -> 16 | MR14: =SUM(IV14,JP14,KJ14,LD14,LX14) -> 4 | MS14: =SUM(IW14,JQ14,KK14,LE14,LY14) -> 12 | MT14: =SUM(IX14,JR14,KL14,LF14,LZ14) -> 0 | MU14: =SUM(MN14:MT14) -> 1357 | MV14: =MN14+MO14+MP14*1.5+MQ14*2.3+MR14*2+MS14*0.4+MT14*0.2 -> 1405.6
A15: =A14+"00:15" -> 0.3125 | B15: 77 | C15: 13 | D15: 3 | E15: 0 | F15: 0 | G15: 0 | H15: 0 | I15: =SUM(B15:H15) -> 93 | J15: =B15+C15+D15*1.5+E15*2.3+F15*2+G15*0.4+H15*0.2 -> 94.5 | K15: =K14+"00:15" -> 0.3125 | L15: 38 | M15: 8 | N15: 7 | O15: 0 | P15: 0 | Q15: 0 | R15: 0 | S15: =SUM(L15:R15) -> 53 | T15: =L15+M15+N15*1.5+O15*2.3+P15*2+Q15*0.4+R15*0.2 -> 56.5 | U15: =U14+"00:15" -> 0.3125 | V15: 72 | W15: 14 | X15: 5 | Y15: 1 | Z15: 0 | AA15: 0 | AB15: 0 | AC15: =SUM(V15:AB15) -> 92 | AD15: =V15+W15+X15*1.5+Y15*2.3+Z15*2+AA15*0.4+AB15*0.2 -> 95.8 | AE15: =AE14+"00:15" -> 0.3125 | AF15: 7 | AG15: 1 | AH15: 0 | AI15: 0 | AJ15: 0 | AK15: 0 | AL15: 0 | AM15: =SUM(AF15:AL15) -> 8 | AN15: =AF15+AG15+AH15*1.5+AI15*2.3+AJ15*2+AK15*0.4+AL15*0.2 -> 8 | AO15: =AO14+"00:15" -> 0.3125 | AP15: 0 | AQ15: 0 | AR15: 0 | AS15: 0 | AT15: 0 | AU15: 0 | AV15: 0 | AW15: =SUM(AP15:AV15) -> 0 | AX15: =AP15+AQ15+AR15*1.5+AS15*2.3+AT15*2+AU15*0.4+AV15*0.2 -> 0 | AY15: =AY14+"00:15" -> 0.3125 | AZ15: 29 | BA15: 3 | BB15: 0 | BC15: 0 | BD15: 0 | BE15: 1 | BF15: 0 | BG15: =SUM(AZ15:BF15) -> 33 | BH15: =AZ15+BA15+BB15*1.5+BC15*2.3+BD15*2+BE15*0.4+BF15*0.2 -> 32.4 | BI15: =BI14+"00:15" -> 0.3125 | BJ15: 105 | BK15: 21 | BL15: 4 | BM15: 1 | BN15: 0 | BO15: 0 | BP15: 0 | BQ15: =SUM(BJ15:BP15) -> 131 | BR15: =BJ15+BK15+BL15*1.5+BM15*2.3+BN15*2+BO15*0.4+BP15*0.2 -> 134.3 | BS15: =BS14+"00:15" -> 0.3125 | BT15: 54 | BU15: 7 | BV15: 2 | BW15: 0 | BX15: 0 | BY15: 0 | BZ15: 0 | CA15: =SUM(BT15:BZ15) -> 63 | CB15: =BT15+BU15+BV15*1.5+BW15*2.3+BX15*2+BY15*0.4+BZ15*0.2 -> 64 | CC15: =CC14+"00:15" -> 0.3125 | CD15: 5 | CE15: 6 | CF15: 0 | CG15: 0 | CH15: 0 | CI15: 0 | CJ15: 0 | CK15: =SUM(CD15:CJ15) -> 11 | CL15: =CD15+CE15+CF15*1.5+CG15*2.3+CH15*2+CI15*0.4+CJ15*0.2 -> 11 | CM15: =CM14+"00:15" -> 0.3125 | CN15: 0 | CO15: 0 | CP15: 0 | CQ15: 0 | CR15: 0 | CS15: 0 | CT15: 0 | CU15: =SUM(CN15:CT15) -> 0 | CV15: =CN15+CO15+CP15*1.5+CQ15*2.3+CR15*2+CS15*0.4+CT15*0.2 -> 0 | CW15: =CW14+"00:15" -> 0.3125 | CX15: 13 | CY15: 1 | CZ15: 0 | DA15: 0 | DB15: 0 | DC15: 0 | DD15: 0 | DE15: =SUM(CX15:DD15) -> 14 | DF15: =CX15+CY15+CZ15*1.5+DA15*2.3+DB15*2+DC15*0.4+DD15*0.2 -> 14 | DG15: =DG14+"00:15" -> 0.3125 | DH15: 53 | DI15: 14 | DJ15: 0 | DK15: 0 | DL15: 0 | DM15: 0 | DN15: 0 | DO15: =SUM(DH15:DN15) -> 67 | DP15: =DH15+DI15+DJ15*1.5+DK15*2.3+DL15*2+DM15*0.4+DN15*0.2 -> 67 | DQ15: =DQ14+"00:15" -> 0.3125 | DR15: 0 | DS15: 0 | DT15: 0 | DU15: 0 | DV15: 0 | DW15: 0 | DX15: 0 | DY15: =SUM(DR15:DX15) -> 0 | DZ15: =DR15+DS15+DT15*1.5+DU15*2.3+DV15*2+DW15*0.4+DX15*0.2 -> 0 | EA15: =EA14+"00:15" -> 0.3125 | EB15: 46 | EC15: 15 | ED15: 4 | EE15: 2 | EF15: 0 | EG15: 1 | EH15: 0 | EI15: =SUM(EB15:EH15) -> 68 | EJ15: =EB15+EC15+ED15*1.5+EE15*2.3+EF15*2+EG15*0.4+EH15*0.2 -> 72 | EK15: =EK14+"00:15" -> 0.3125 | EL15: 0 | EM15: 0 | EN15: 0 | EO15: 0 | EP15: 0 | EQ15: 0 | ER15: 0 | ES15: =SUM(EL15:ER15) -> 0 | ET15: =EL15+EM15+EN15*1.5+EO15*2.3+EP15*2+EQ15*0.4+ER15*0.2 -> 0 | EU15: =EU14+"00:15" -> 0.3125 | EV15: 104 | EW15: 35 | EX15: 6 | EY15: 2 | EZ15: 0 | FA15: 0 | FB15: 0 | FC15: =SUM(EV15:FB15) -> 147 | FD15: =EV15+EW15+EX15*1.5+EY15*2.3+EZ15*2+FA15*0.4+FB15*0.2 -> 152.6 | FE15: =FE14+"00:15" -> 0.3125 | FF15: 19 | FG15: 8 | FH15: 1 | FI15: 0 | FJ15: 0 | FK15: 0 | FL15: 0 | FM15: =SUM(FF15:FL15) -> 28 | FN15: =FF15+FG15+FH15*1.5+FI15*2.3+FJ15*2+FK15*0.4+FL15*0.2 -> 28.5 | FO15: =FO14+"00:15" -> 0.3125 | FP15: 51 | FQ15: 3 | FR15: 0 | FS15: 0 | FT15: 1 | FU15: 1 | FV15: 0 | FW15: =SUM(FP15:FV15) -> 56 | FX15: =FP15+FQ15+FR15*1.5+FS15*2.3+FT15*2+FU15*0.4+FV15*0.2 -> 56.4 | FY15: =FY14+"00:15" -> 0.3125 | FZ15: 99 | GA15: 20 | GB15: 5 | GC15: 1 | GD15: 0 | GE15: 0 | GF15: 0 | GG15: =SUM(FZ15:GF15) -> 125 | GH15: =FZ15+GA15+GB15*1.5+GC15*2.3+GD15*2+GE15*0.4+GF15*0.2 -> 128.8 | GI15: =GI14+"00:15" -> 0.3125 | GJ15: 1 | GK15: 0 | GL15: 0 | GM15: 0 | GN15: 0 | GO15: 0 | GP15: 0 | GQ15: =SUM(GJ15:GP15) -> 1 | GR15: =GJ15+GK15+GL15*1.5+GM15*2.3+GN15*2+GO15*0.4+GP15*0.2 -> 1 | GS15: =GS14+"00:15" -> 0.3125 | GT15: 160 | GU15: 27 | GV15: 4 | GW15: 1 | GX15: 0 | GY15: 0 | GZ15: 0 | HA15: =SUM(GT15:GZ15) -> 192 | HB15: =GT15+GU15+GV15*1.5+GW15*2.3+GX15*2+GY15*0.4+GZ15*0.2 -> 195.3 | HC15: =HC14+"00:15" -> 0.3125 | HD15: 0 | HE15: 0 | HF15: 0 | HG15: 0 | HH15: 0 | HI15: 0 | HJ15: 0 | HK15: =SUM(HD15:HJ15) -> 0 | HL15: =HD15+HE15+HF15*1.5+HG15*2.3+HH15*2+HI15*0.4+HJ15*0.2 -> 0 | HM15: =HM14+"00:15" -> 0.3125 | HN15: 138 | HO15: 29 | HP15: 2 | HQ15: 0 | HR15: 0 | HS15: 0 | HT15: 0 | HU15: =SUM(HN15:HT15) -> 169 | HV15: =HN15+HO15+HP15*1.5+HQ15*2.3+HR15*2+HS15*0.4+HT15*0.2 -> 170 | HW15: =HW14+"00:15" -> 0.3125 | HX15: 50 | HY15: 16 | HZ15: 3 | IA15: 1 | IB15: 0 | IC15: 2 | ID15: 0 | IE15: =SUM(HX15:ID15) -> 72 | IF15: =HX15+HY15+HZ15*1.5+IA15*2.3+IB15*2+IC15*0.4+ID15*0.2 -> 73.6 | IG15: =IG14+"00:15" -> 0.3125 | IH15: 0 | II15: 0 | IJ15: 0 | IK15: 0 | IL15: 0 | IM15: 0 | IN15: 0 | IO15: =SUM(IH15:IN15) -> 0 | IP15: =IH15+II15+IJ15*1.5+IK15*2.3+IL15*2+IM15*0.4+IN15*0.2 -> 0 | IQ15: =IQ14+"00:15" -> 0.3125 | IR15: =SUM(AP15,AZ15,DH15,FP15,HX15) -> 183 | IS15: =SUM(AQ15,BA15,DI15,FQ15,HY15) -> 36 | IT15: =SUM(AR15,BB15,DJ15,FR15,HZ15) -> 3 | IU15: =SUM(AS15,BC15,DK15,FS15,IA15) -> 1 | IV15: =SUM(AT15,BD15,DL15,FT15,IB15) -> 1 | IW15: =SUM(AU15,BE15,DM15,FU15,IC15) -> 4 | IX15: =SUM(AV15,BF15,DN15,FV15,ID15) -> 0 | IY15: =SUM(IR15:IX15) -> 228 | IZ15: =IR15+IS15+IT15*1.5+IU15*2.3+IV15*2+IW15*0.4+IX15*0.2 -> 229.4 | JA15: =JA14+"00:15" -> 0.3125 | JB15: =SUM(B15,L15,V15,AF15,AP15) -> 194 | JC15: =SUM(C15,M15,W15,AG15,AQ15) -> 36 | JD15: =SUM(D15,N15,X15,AH15,AR15) -> 15 | JE15: =SUM(E15,O15,Y15,AI15,AS15) -> 1 | JF15: =SUM(F15,P15,Z15,AJ15,AT15) -> 0 | JG15: =SUM(G15,Q15,AA15,AK15,AU15) -> 0 | JH15: =SUM(H15,R15,AB15,AL15,AV15) -> 0 | JI15: =SUM(JB15:JH15) -> 246 | JJ15: =JB15+JC15+JD15*1.5+JE15*2.3+JF15*2+JG15*0.4+JH15*0.2 -> 254.8 | JK15: =JK14+"00:15" -> 0.3125 | JL15: =SUM(AF15,CN15,CX15,FF15,HN15) -> 177 | JM15: =SUM(AG15,CO15,CY15,FG15,HO15) -> 39 | JN15: =SUM(AH15,CP15,CZ15,FH15,HP15) -> 3 | JO15: =SUM(AI15,CQ15,DA15,FI15,HQ15) -> 0 | JP15: =SUM(AJ15,CR15,DB15,FJ15,HR15) -> 0 | JQ15: =SUM(AK15,CS15,DC15,FK15,HS15) -> 0 | JR15: =SUM(AL15,CT15,DD15,FL15,HT15) -> 0 | JS15: =SUM(JL15:JR15) -> 219 | JT15: =JL15+JM15+JN15*1.5+JO15*2.3+JP15*2+JQ15*0.4+JR15*0.2 -> 220.5 | JU15: =JU14+"00:15" -> 0.3125 | JV15: =SUM(AZ15,BJ15,BT15,CD15,CN15) -> 193 | JW15: =SUM(BA15,BK15,BU15,CE15,CO15) -> 37 | JX15: =SUM(BB15,BL15,BV15,CF15,CP15) -> 6 | JY15: =SUM(BC15,BM15,BW15,CG15,CQ15) -> 1 | JZ15: =SUM(BD15,BN15,BX15,CH15,CR15) -> 0 | KA15: =SUM(BE15,BO15,BY15,CI15,CS15) -> 1 | KB15: =SUM(BF15,BP15,BZ15,CJ15,CT15) -> 0 | KC15: =SUM(JV15:KB15) -> 238 | KD15: =JV15+JW15+JX15*1.5+JY15*2.3+JZ15*2+KA15*0.4+KB15*0.2 -> 241.7 | KE15: =KE14+"00:15" -> 0.3125 | KF15: =SUM(V15,CD15,EL15,EV15,HD15) -> 181 | KG15: =SUM(W15,CE15,EM15,EW15,HE15) -> 55 | KH15: =SUM(X15,CF15,EN15,EX15,HF15) -> 11 | KI15: =SUM(Y15,CG15,EO15,EY15,HG15) -> 3 | KJ15: =SUM(Z15,CH15,EP15,EZ15,HH15) -> 0 | KK15: =SUM(AA15,CI15,EQ15,FA15,HI15) -> 0 | KL15: =SUM(AB15,CJ15,ER15,FB15,HJ15) -> 0 | KM15: =SUM(KF15:KL15) -> 250 | KN15: =KF15+KG15+KH15*1.5+KI15*2.3+KJ15*2+KK15*0.4+KL15*0.2 -> 259.4 | KO15: =KO14+"00:15" -> 0.3125 | KP15: =SUM(CX15,DH15,DR15,EB15,EL15) -> 112 | KQ15: =SUM(CY15,DI15,DS15,EC15,EM15) -> 30 | KR15: =SUM(CZ15,DJ15,DT15,ED15,EN15) -> 4 | KS15: =SUM(DA15,DK15,DU15,EE15,EO15) -> 2 | KT15: =SUM(DB15,DL15,DV15,EF15,EP15) -> 0 | KU15: =SUM(DC15,DM15,DW15,EG15,EQ15) -> 1 | KV15: =SUM(DD15,DN15,DX15,EH15,ER15) -> 0 | KW15: =SUM(KP15:KV15) -> 149 | KX15: =KP15+KQ15+KR15*1.5+KS15*2.3+KT15*2+KU15*0.4+KV15*0.2 -> 153 | KY15: =KY14+"00:15" -> 0.3125 | KZ15: =SUM(L15,BT15,EB15,GJ15,GT15) -> 299 | LA15: =SUM(M15,BU15,EC15,GK15,GU15) -> 57 | LB15: =SUM(N15,BV15,ED15,GL15,GV15) -> 17 | LC15: =SUM(O15,BW15,EE15,GM15,GW15) -> 3 | LD15: =SUM(P15,BX15,EF15,GN15,GX15) -> 0 | LE15: =SUM(Q15,BY15,EG15,GO15,GY15) -> 1 | LF15: =SUM(R15,BZ15,EH15,GP15,GZ15) -> 0 | LG15: =SUM(KZ15:LF15) -> 377 | LH15: =KZ15+LA15+LB15*1.5+LC15*2.3+LD15*2+LE15*0.4+LF15*0.2 -> 388.8 | LI15: =LI14+"00:15" -> 0.3125 | LJ15: =SUM(EV15,FF15,FP15,FZ15,GJ15) -> 274 | LK15: =SUM(EW15,FG15,FQ15,GA15,GK15) -> 66 | LL15: =SUM(EX15,FH15,FR15,GB15,GL15) -> 12 | LM15: =SUM(EY15,FI15,FS15,GC15,GM15) -> 3 | LN15: =SUM(EZ15,FJ15,FT15,GD15,GN15) -> 1 | LO15: =SUM(FA15,FK15,FU15,GE15,GO15) -> 1 | LP15: =SUM(FB15,FL15,FV15,GF15,GP15) -> 0 | LQ15: =SUM(LJ15:LP15) -> 357 | LR15: =LJ15+LK15+LL15*1.5+LM15*2.3+LN15*2+LO15*0.4+LP15*0.2 -> 367.3 | LS15: =LS14+"00:15" -> 0.3125 | LT15: =SUM(B15,BJ15,DR15,FZ15,IH15) -> 281 | LU15: =SUM(C15,BK15,DS15,GA15,II15) -> 54 | LV15: =SUM(D15,BL15,DT15,GB15,IJ15) -> 12 | LW15: =SUM(E15,BM15,DU15,GC15,IK15) -> 2 | LX15: =SUM(F15,BN15,DV15,GD15,IL15) -> 0 | LY15: =SUM(G15,BO15,DW15,GE15,IM15) -> 0 | LZ15: =SUM(H15,BP15,DX15,GF15,IN15) -> 0 | MA15: =SUM(LT15:LZ15) -> 349 | MB15: =LT15+LU15+LV15*1.5+LW15*2.3+LX15*2+LY15*0.4+LZ15*0.2 -> 357.6 | MC15: =MC14+"00:15" -> 0.3125 | MD15: =SUM(GT15,HD15,HN15,HX15,IH15) -> 348 | ME15: =SUM(GU15,HE15,HO15,HY15,II15) -> 72 | MF15: =SUM(GV15,HF15,HP15,HZ15,IJ15) -> 9 | MG15: =SUM(GW15,HG15,HQ15,IA15,IK15) -> 2 | MH15: =SUM(GX15,HH15,HR15,IB15,IL15) -> 0 | MI15: =SUM(GY15,HI15,HS15,IC15,IM15) -> 2 | MJ15: =SUM(GZ15,HJ15,HT15,ID15,IN15) -> 0 | MK15: =SUM(MD15:MJ15) -> 433 | ML15: =MD15+ME15+MF15*1.5+MG15*2.3+MH15*2+MI15*0.4+MJ15*0.2 -> 438.9 | MM15: =MM14+"00:15" -> 0.3125 | MN15: =SUM(IR15,JL15,KF15,KZ15,LT15) -> 1121 | MO15: =SUM(IS15,JM15,KG15,LA15,LU15) -> 241 | MP15: =SUM(IT15,JN15,KH15,LB15,LV15) -> 46 | MQ15: =SUM(IU15,JO15,KI15,LC15,LW15) -> 9 | MR15: =SUM(IV15,JP15,KJ15,LD15,LX15) -> 1 | MS15: =SUM(IW15,JQ15,KK15,LE15,LY15) -> 5 | MT15: =SUM(IX15,JR15,KL15,LF15,LZ15) -> 0 | MU15: =SUM(MN15:MT15) -> 1423 | MV15: =MN15+MO15+MP15*1.5+MQ15*2.3+MR15*2+MS15*0.4+MT15*0.2 -> 1455.7
A16: =A15+"00:15" -> 0.32291667 | B16: 74 | C16: 10 | D16: 9 | E16: 0 | F16: 0 | G16: 0 | H16: 0 | I16: =SUM(B16:H16) -> 93 | J16: =B16+C16+D16*1.5+E16*2.3+F16*2+G16*0.4+H16*0.2 -> 97.5 | K16: =K15+"00:15" -> 0.32291667 | L16: 30 | M16: 7 | N16: 2 | O16: 1 | P16: 0 | Q16: 0 | R16: 0 | S16: =SUM(L16:R16) -> 40 | T16: =L16+M16+N16*1.5+O16*2.3+P16*2+Q16*0.4+R16*0.2 -> 42.3 | U16: =U15+"00:15" -> 0.32291667 | V16: 70 | W16: 16 | X16: 2 | Y16: 0 | Z16: 0 | AA16: 1 | AB16: 0 | AC16: =SUM(V16:AB16) -> 89 | AD16: =V16+W16+X16*1.5+Y16*2.3+Z16*2+AA16*0.4+AB16*0.2 -> 89.4 | AE16: =AE15+"00:15" -> 0.32291667 | AF16: 8 | AG16: 2 | AH16: 0 | AI16: 0 | AJ16: 0 | AK16: 1 | AL16: 0 | AM16: =SUM(AF16:AL16) -> 11 | AN16: =AF16+AG16+AH16*1.5+AI16*2.3+AJ16*2+AK16*0.4+AL16*0.2 -> 10.4 | AO16: =AO15+"00:15" -> 0.32291667 | AP16: 0 | AQ16: 0 | AR16: 0 | AS16: 0 | AT16: 0 | AU16: 0 | AV16: 0 | AW16: =SUM(AP16:AV16) -> 0 | AX16: =AP16+AQ16+AR16*1.5+AS16*2.3+AT16*2+AU16*0.4+AV16*0.2 -> 0 | AY16: =AY15+"00:15" -> 0.32291667 | AZ16: 25 | BA16: 3 | BB16: 0 | BC16: 1 | BD16: 0 | BE16: 0 | BF16: 0 | BG16: =SUM(AZ16:BF16) -> 29 | BH16: =AZ16+BA16+BB16*1.5+BC16*2.3+BD16*2+BE16*0.4+BF16*0.2 -> 30.3 | BI16: =BI15+"00:15" -> 0.32291667 | BJ16: 127 | BK16: 26 | BL16: 7 | BM16: 0 | BN16: 0 | BO16: 1 | BP16: 0 | BQ16: =SUM(BJ16:BP16) -> 161 | BR16: =BJ16+BK16+BL16*1.5+BM16*2.3+BN16*2+BO16*0.4+BP16*0.2 -> 163.9 | BS16: =BS15+"00:15" -> 0.32291667 | BT16: 46 | BU16: 9 | BV16: 0 | BW16: 0 | BX16: 1 | BY16: 0 | BZ16: 0 | CA16: =SUM(BT16:BZ16) -> 56 | CB16: =BT16+BU16+BV16*1.5+BW16*2.3+BX16*2+BY16*0.4+BZ16*0.2 -> 57 | CC16: =CC15+"00:15" -> 0.32291667 | CD16: 7 | CE16: 4 | CF16: 1 | CG16: 1 | CH16: 0 | CI16: 0 | CJ16: 0 | CK16: =SUM(CD16:CJ16) -> 13 | CL16: =CD16+CE16+CF16*1.5+CG16*2.3+CH16*2+CI16*0.4+CJ16*0.2 -> 14.8 | CM16: =CM15+"00:15" -> 0.32291667 | CN16: 0 | CO16: 0 | CP16: 0 | CQ16: 0 | CR16: 0 | CS16: 0 | CT16: 0 | CU16: =SUM(CN16:CT16) -> 0 | CV16: =CN16+CO16+CP16*1.5+CQ16*2.3+CR16*2+CS16*0.4+CT16*0.2 -> 0 | CW16: =CW15+"00:15" -> 0.32291667 | CX16: 9 | CY16: 3 | CZ16: 0 | DA16: 0 | DB16: 0 | DC16: 0 | DD16: 0 | DE16: =SUM(CX16:DD16) -> 12 | DF16: =CX16+CY16+CZ16*1.5+DA16*2.3+DB16*2+DC16*0.4+DD16*0.2 -> 12 | DG16: =DG15+"00:15" -> 0.32291667 | DH16: 52 | DI16: 13 | DJ16: 3 | DK16: 3 | DL16: 0 | DM16: 0 | DN16: 0 | DO16: =SUM(DH16:DN16) -> 71 | DP16: =DH16+DI16+DJ16*1.5+DK16*2.3+DL16*2+DM16*0.4+DN16*0.2 -> 76.4 | DQ16: =DQ15+"00:15" -> 0.32291667 | DR16: 0 | DS16: 0 | DT16: 0 | DU16: 0 | DV16: 0 | DW16: 0 | DX16: 0 | DY16: =SUM(DR16:DX16) -> 0 | DZ16: =DR16+DS16+DT16*1.5+DU16*2.3+DV16*2+DW16*0.4+DX16*0.2 -> 0 | EA16: =EA15+"00:15" -> 0.32291667 | EB16: 45 | EC16: 14 | ED16: 1 | EE16: 2 | EF16: 0 | EG16: 0 | EH16: 0 | EI16: =SUM(EB16:EH16) -> 62 | EJ16: =EB16+EC16+ED16*1.5+EE16*2.3+EF16*2+EG16*0.4+EH16*0.2 -> 65.1 | EK16: =EK15+"00:15" -> 0.32291667 | EL16: 0 | EM16: 0 | EN16: 0 | EO16: 0 | EP16: 0 | EQ16: 0 | ER16: 0 | ES16: =SUM(EL16:ER16) -> 0 | ET16: =EL16+EM16+EN16*1.5+EO16*2.3+EP16*2+EQ16*0.4+ER16*0.2 -> 0 | EU16: =EU15+"00:15" -> 0.32291667 | EV16: 89 | EW16: 16 | EX16: 6 | EY16: 0 | EZ16: 0 | FA16: 1 | FB16: 0 | FC16: =SUM(EV16:FB16) -> 112 | FD16: =EV16+EW16+EX16*1.5+EY16*2.3+EZ16*2+FA16*0.4+FB16*0.2 -> 114.4 | FE16: =FE15+"00:15" -> 0.32291667 | FF16: 19 | FG16: 5 | FH16: 0 | FI16: 0 | FJ16: 0 | FK16: 0 | FL16: 0 | FM16: =SUM(FF16:FL16) -> 24 | FN16: =FF16+FG16+FH16*1.5+FI16*2.3+FJ16*2+FK16*0.4+FL16*0.2 -> 24 | FO16: =FO15+"00:15" -> 0.32291667 | FP16: 44 | FQ16: 1 | FR16: 2 | FS16: 2 | FT16: 1 | FU16: 3 | FV16: 0 | FW16: =SUM(FP16:FV16) -> 53 | FX16: =FP16+FQ16+FR16*1.5+FS16*2.3+FT16*2+FU16*0.4+FV16*0.2 -> 55.8 | FY16: =FY15+"00:15" -> 0.32291667 | FZ16: 94 | GA16: 11 | GB16: 2 | GC16: 4 | GD16: 0 | GE16: 1 | GF16: 0 | GG16: =SUM(FZ16:GF16) -> 112 | GH16: =FZ16+GA16+GB16*1.5+GC16*2.3+GD16*2+GE16*0.4+GF16*0.2 -> 117.6 | GI16: =GI15+"00:15" -> 0.32291667 | GJ16: 0 | GK16: 0 | GL16: 0 | GM16: 0 | GN16: 0 | GO16: 0 | GP16: 0 | GQ16: =SUM(GJ16:GP16) -> 0 | GR16: =GJ16+GK16+GL16*1.5+GM16*2.3+GN16*2+GO16*0.4+GP16*0.2 -> 0 | GS16: =GS15+"00:15" -> 0.32291667 | GT16: 157 | GU16: 40 | GV16: 2 | GW16: 1 | GX16: 1 | GY16: 1 | GZ16: 0 | HA16: =SUM(GT16:GZ16) -> 202 | HB16: =GT16+GU16+GV16*1.5+GW16*2.3+GX16*2+GY16*0.4+GZ16*0.2 -> 204.7 | HC16: =HC15+"00:15" -> 0.32291667 | HD16: 0 | HE16: 0 | HF16: 0 | HG16: 0 | HH16: 0 | HI16: 0 | HJ16: 0 | HK16: =SUM(HD16:HJ16) -> 0 | HL16: =HD16+HE16+HF16*1.5+HG16*2.3+HH16*2+HI16*0.4+HJ16*0.2 -> 0 | HM16: =HM15+"00:15" -> 0.32291667 | HN16: 150 | HO16: 23 | HP16: 0 | HQ16: 0 | HR16: 0 | HS16: 0 | HT16: 0 | HU16: =SUM(HN16:HT16) -> 173 | HV16: =HN16+HO16+HP16*1.5+HQ16*2.3+HR16*2+HS16*0.4+HT16*0.2 -> 173 | HW16: =HW15+"00:15" -> 0.32291667 | HX16: 92 | HY16: 15 | HZ16: 5 | IA16: 2 | IB16: 0 | IC16: 0 | ID16: 0 | IE16: =SUM(HX16:ID16) -> 114 | IF16: =HX16+HY16+HZ16*1.5+IA16*2.3+IB16*2+IC16*0.4+ID16*0.2 -> 119.1 | IG16: =IG15+"00:15" -> 0.32291667 | IH16: 0 | II16: 0 | IJ16: 0 | IK16: 0 | IL16: 0 | IM16: 0 | IN16: 0 | IO16: =SUM(IH16:IN16) -> 0 | IP16: =IH16+II16+IJ16*1.5+IK16*2.3+IL16*2+IM16*0.4+IN16*0.2 -> 0 | IQ16: =IQ15+"00:15" -> 0.32291667 | IR16: =SUM(AP16,AZ16,DH16,FP16,HX16) -> 213 | IS16: =SUM(AQ16,BA16,DI16,FQ16,HY16) -> 32 | IT16: =SUM(AR16,BB16,DJ16,FR16,HZ16) -> 10 | IU16: =SUM(AS16,BC16,DK16,FS16,IA16) -> 8 | IV16: =SUM(AT16,BD16,DL16,FT16,IB16) -> 1 | IW16: =SUM(AU16,BE16,DM16,FU16,IC16) -> 3 | IX16: =SUM(AV16,BF16,DN16,FV16,ID16) -> 0 | IY16: =SUM(IR16:IX16) -> 267 | IZ16: =IR16+IS16+IT16*1.5+IU16*2.3+IV16*2+IW16*0.4+IX16*0.2 -> 281.6 | JA16: =JA15+"00:15" -> 0.32291667 | JB16: =SUM(B16,L16,V16,AF16,AP16) -> 182 | JC16: =SUM(C16,M16,W16,AG16,AQ16) -> 35 | JD16: =SUM(D16,N16,X16,AH16,AR16) -> 13 | JE16: =SUM(E16,O16,Y16,AI16,AS16) -> 1 | JF16: =SUM(F16,P16,Z16,AJ16,AT16) -> 0 | JG16: =SUM(G16,Q16,AA16,AK16,AU16) -> 2 | JH16: =SUM(H16,R16,AB16,AL16,AV16) -> 0 | JI16: =SUM(JB16:JH16) -> 233 | JJ16: =JB16+JC16+JD16*1.5+JE16*2.3+JF16*2+JG16*0.4+JH16*0.2 -> 239.6 | JK16: =JK15+"00:15" -> 0.32291667 | JL16: =SUM(AF16,CN16,CX16,FF16,HN16) -> 186 | JM16: =SUM(AG16,CO16,CY16,FG16,HO16) -> 33 | JN16: =SUM(AH16,CP16,CZ16,FH16,HP16) -> 0 | JO16: =SUM(AI16,CQ16,DA16,FI16,HQ16) -> 0 | JP16: =SUM(AJ16,CR16,DB16,FJ16,HR16) -> 0 | JQ16: =SUM(AK16,CS16,DC16,FK16,HS16) -> 1 | JR16: =SUM(AL16,CT16,DD16,FL16,HT16) -> 0 | JS16: =SUM(JL16:JR16) -> 220 | JT16: =JL16+JM16+JN16*1.5+JO16*2.3+JP16*2+JQ16*0.4+JR16*0.2 -> 219.4 | JU16: =JU15+"00:15" -> 0.32291667 | JV16: =SUM(AZ16,BJ16,BT16,CD16,CN16) -> 205 | JW16: =SUM(BA16,BK16,BU16,CE16,CO16) -> 42 | JX16: =SUM(BB16,BL16,BV16,CF16,CP16) -> 8 | JY16: =SUM(BC16,BM16,BW16,CG16,CQ16) -> 2 | JZ16: =SUM(BD16,BN16,BX16,CH16,CR16) -> 1 | KA16: =SUM(BE16,BO16,BY16,CI16,CS16) -> 1 | KB16: =SUM(BF16,BP16,BZ16,CJ16,CT16) -> 0 | KC16: =SUM(JV16:KB16) -> 259 | KD16: =JV16+JW16+JX16*1.5+JY16*2.3+JZ16*2+KA16*0.4+KB16*0.2 -> 266 | KE16: =KE15+"00:15" -> 0.32291667 | KF16: =SUM(V16,CD16,EL16,EV16,HD16) -> 166 | KG16: =SUM(W16,CE16,EM16,EW16,HE16) -> 36 | KH16: =SUM(X16,CF16,EN16,EX16,HF16) -> 9 | KI16: =SUM(Y16,CG16,EO16,EY16,HG16) -> 1 | KJ16: =SUM(Z16,CH16,EP16,EZ16,HH16) -> 0 | KK16: =SUM(AA16,CI16,EQ16,FA16,HI16) -> 2 | KL16: =SUM(AB16,CJ16,ER16,FB16,HJ16) -> 0 | KM16: =SUM(KF16:KL16) -> 214 | KN16: =KF16+KG16+KH16*1.5+KI16*2.3+KJ16*2+KK16*0.4+KL16*0.2 -> 218.6 | KO16: =KO15+"00:15" -> 0.32291667 | KP16: =SUM(CX16,DH16,DR16,EB16,EL16) -> 106 | KQ16: =SUM(CY16,DI16,DS16,EC16,EM16) -> 30 | KR16: =SUM(CZ16,DJ16,DT16,ED16,EN16) -> 4 | KS16: =SUM(DA16,DK16,DU16,EE16,EO16) -> 5 | KT16: =SUM(DB16,DL16,DV16,EF16,EP16) -> 0 | KU16: =SUM(DC16,DM16,DW16,EG16,EQ16) -> 0 | KV16: =SUM(DD16,DN16,DX16,EH16,ER16) -> 0 | KW16: =SUM(KP16:KV16) -> 145 | KX16: =KP16+KQ16+KR16*1.5+KS16*2.3+KT16*2+KU16*0.4+KV16*0.2 -> 153.5 | KY16: =KY15+"00:15" -> 0.32291667 | KZ16: =SUM(L16,BT16,EB16,GJ16,GT16) -> 278 | LA16: =SUM(M16,BU16,EC16,GK16,GU16) -> 70 | LB16: =SUM(N16,BV16,ED16,GL16,GV16) -> 5 | LC16: =SUM(O16,BW16,EE16,GM16,GW16) -> 4 | LD16: =SUM(P16,BX16,EF16,GN16,GX16) -> 2 | LE16: =SUM(Q16,BY16,EG16,GO16,GY16) -> 1 | LF16: =SUM(R16,BZ16,EH16,GP16,GZ16) -> 0 | LG16: =SUM(KZ16:LF16) -> 360 | LH16: =KZ16+LA16+LB16*1.5+LC16*2.3+LD16*2+LE16*0.4+LF16*0.2 -> 369.1 | LI16: =LI15+"00:15" -> 0.32291667 | LJ16: =SUM(EV16,FF16,FP16,FZ16,GJ16) -> 246 | LK16: =SUM(EW16,FG16,FQ16,GA16,GK16) -> 33 | LL16: =SUM(EX16,FH16,FR16,GB16,GL16) -> 10 | LM16: =SUM(EY16,FI16,FS16,GC16,GM16) -> 6 | LN16: =SUM(EZ16,FJ16,FT16,GD16,GN16) -> 1 | LO16: =SUM(FA16,FK16,FU16,GE16,GO16) -> 5 | LP16: =SUM(FB16,FL16,FV16,GF16,GP16) -> 0 | LQ16: =SUM(LJ16:LP16) -> 301 | LR16: =LJ16+LK16+LL16*1.5+LM16*2.3+LN16*2+LO16*0.4+LP16*0.2 -> 311.8 | LS16: =LS15+"00:15" -> 0.32291667 | LT16: =SUM(B16,BJ16,DR16,FZ16,IH16) -> 295 | LU16: =SUM(C16,BK16,DS16,GA16,II16) -> 47 | LV16: =SUM(D16,BL16,DT16,GB16,IJ16) -> 18 | LW16: =SUM(E16,BM16,DU16,GC16,IK16) -> 4 | LX16: =SUM(F16,BN16,DV16,GD16,IL16) -> 0 | LY16: =SUM(G16,BO16,DW16,GE16,IM16) -> 2 | LZ16: =SUM(H16,BP16,DX16,GF16,IN16) -> 0 | MA16: =SUM(LT16:LZ16) -> 366 | MB16: =LT16+LU16+LV16*1.5+LW16*2.3+LX16*2+LY16*0.4+LZ16*0.2 -> 379 | MC16: =MC15+"00:15" -> 0.32291667 | MD16: =SUM(GT16,HD16,HN16,HX16,IH16) -> 399 | ME16: =SUM(GU16,HE16,HO16,HY16,II16) -> 78 | MF16: =SUM(GV16,HF16,HP16,HZ16,IJ16) -> 7 | MG16: =SUM(GW16,HG16,HQ16,IA16,IK16) -> 3 | MH16: =SUM(GX16,HH16,HR16,IB16,IL16) -> 1 | MI16: =SUM(GY16,HI16,HS16,IC16,IM16) -> 1 | MJ16: =SUM(GZ16,HJ16,HT16,ID16,IN16) -> 0 | MK16: =SUM(MD16:MJ16) -> 489 | ML16: =MD16+ME16+MF16*1.5+MG16*2.3+MH16*2+MI16*0.4+MJ16*0.2 -> 496.8 | MM16: =MM15+"00:15" -> 0.32291667 | MN16: =SUM(IR16,JL16,KF16,KZ16,LT16) -> 1138 | MO16: =SUM(IS16,JM16,KG16,LA16,LU16) -> 218 | MP16: =SUM(IT16,JN16,KH16,LB16,LV16) -> 42 | MQ16: =SUM(IU16,JO16,KI16,LC16,LW16) -> 17 | MR16: =SUM(IV16,JP16,KJ16,LD16,LX16) -> 3 | MS16: =SUM(IW16,JQ16,KK16,LE16,LY16) -> 9 | MT16: =SUM(IX16,JR16,KL16,LF16,LZ16) -> 0 | MU16: =SUM(MN16:MT16) -> 1427 | MV16: =MN16+MO16+MP16*1.5+MQ16*2.3+MR16*2+MS16*0.4+MT16*0.2 -> 1467.7
