Workbook
Name Summary: 'Room Data'!#REF!

Sheet Room Data
S1: Flooring | W1: Ceilings
A2: Room No | B2: Description | C2: To Refurb? | D2: Area | E2: Height | F2: Volume | G2: Perimiter | H2: Gross Wall Area | I2: Doors | J2: Doors to Paint | K2: Window Area | L2: Net Wall | M2: Decorate Walls (£) | N2: Skirting & Architrave | O2: Decorate Woodwork (£) | P2: Paint Doors | R2: Uplift Area | S2: Replace Carpet (£) | T2: LVT Tiles (£) | U2: New Vinyl (£) | V2: Barrier Matting (£) | W2: Ceiling Type | X2: Area | Y2: Remove Ceiling (£) | Z2: New Ceiling (600 tile) (£) | AA2: Paint Ceiling | AB2: Renew Metal
A3: 1-001 | B3: Stairs | C3: Y | D3: 12.76 | F3: =D3*E3 -> 0 | H3: =G3*E3 -> 0 | L3: =H3-K3-(I3*4) -> 0 | M3: =L3*(Rates!C$14+Rates!C$37+Rates!C$38) -> 0 | R3: =IF(SUM(S3:V3) > 0, D3, "") -> 12.76 | S3: =D3*(Rates!$C$4+Rates!$C$5) -> 1004.9776
A4: 1-002 | B4: Longmore Room | C4: Y | D4: 85.25 | E4: 4 | F4: =D4*E4 -> 341 | G4: 39.65 | H4: =G4*E4 -> 158.6 | I4: 2 | J4: 2 | K4: 20 | L4: =H4-K4-(I4*4) -> 130.6 | M4: =L4*(Rates!C$14+Rates!C$37+Rates!C$38) -> 1358.24 | N4: =G4+I4*5 -> 49.65 | O4: =N4*(Rates!C$34+2*Rates!C$40) -> 454.2975 | P4: =J4*Rates!$C$46 -> 120 | Q4: Carpet | R4: =IF(SUM(S4:V4) > 0, D4, "") -> 85.25 | S4: =D4*(Rates!$C$4+Rates!$C$5) -> 6714.29 | W4: Hidden Grid | Y4: =D4*Rates!$C$48 -> 852.5 | Z4: =D4*Rates!$C$51 -> 5115
A5: 1-003 | B5: Office | C5: Y | D5: 18.46 | E5: 2.3 | F5: =D5*E5 -> 42.458 | G5: 17.89 | H5: =G5*E5 -> 41.147 | I5: 2 | J5: 2 | L5: =H5-K5-(I5*4) -> 33.147 | M5: =L5*(Rates!C$14+Rates!C$37+Rates!C$38) -> 344.7288 | N5: =G5+I5*5 -> 27.89 | O5: =N5*(Rates!C$34+2*Rates!C$40) -> 255.1935 | P5: =J5*Rates!$C$46 -> 120 | Q5: Carpet | R5: =IF(SUM(S5:V5) > 0, D5, "") -> 18.46 | S5: =D5*(Rates!$C$4+Rates!$C$5) -> 1453.9096 | W5: Textured Coating | AA5: =D5*Rates!C$29 -> 280.4074
A6: 1-004 | B6: Office | C6: Y | D6: 42.78 | E6: 2.3 | F6: =D6*E6 -> 98.394 | G6: 32.98 | H6: =G6*E6 -> 75.854 | I6: 2 | J6: 2 | L6: =H6-K6-(I6*4) -> 67.854 | M6: =L6*(Rates!C$14+Rates!C$37+Rates!C$38) -> 705.6816 | N6: =G6+I6*5 -> 42.98 | O6: =N6*(Rates!C$34+2*Rates!C$40) -> 393.267 | P6: =J6*Rates!$C$46 -> 120 | Q6: Carpet | R6: =IF(SUM(S6:V6) > 0, D6, "") -> 42.78 | S6: =D6*(Rates!$C$4+Rates!$C$5) -> 3369.3528 | W6: Textured Coating | AA6: =D6*Rates!C$29 -> 649.8282
A7: 1-005 | B7: Classroom | C7: Y | D7: 54.17 | E7: 3 | F7: =D7*E7 -> 162.51 | G7: 31.08 | H7: =G7*E7 -> 93.24 | I7: 2 | J7: 1 | L7: =H7-K7-(I7*4) -> 85.24 | M7: =L7*(Rates!C$14+Rates!C$37+Rates!C$38) -> 886.496 | N7: =G7+I7*5 -> 41.08 | O7: =N7*(Rates!C$34+2*Rates!C$40) -> 375.882 | P7: =J7*Rates!$C$46 -> 60 | Q7: Vinyl | R7: =IF(SUM(S7:V7) > 0, D7, "") | W7: Hidden Grid | Y7: =D7*Rates!$C$48 -> 541.7 | Z7: =D7*Rates!$C$51 -> 3250.2
A8: 1-006 | B8: Corridor/stairs | C8: Y | D8: 26.9 | E8: 2.5 | F8: =D8*E8 -> 67.25 | G8: 29.8 | H8: =G8*E8 -> 74.5 | I8: 5 | J8: 4 | L8: =H8-K8-(I8*4) -> 54.5 | M8: =L8*(Rates!C$14+Rates!C$37+Rates!C$38) -> 566.8 | N8: =G8+I8*5 -> 54.8 | O8: =N8*(Rates!C$34+2*Rates!C$40) -> 501.42 | P8: =J8*Rates!$C$46 -> 240 | Q8: Carpet | R8: =IF(SUM(S8:V8) > 0, D8, "") -> 26.9 | S8: =D8*(Rates!$C$4+Rates!$C$5) -> 2118.644 | W8: Hidden Grid | Y8: =D8*Rates!$C$48 -> 269 | Z8: =D8*Rates!$C$51 -> 1614
A9: 1-007 | B9: WC | C9: N | D9: 20.18 | E9: 2.5 | F9: =D9*E9 -> 50.45 | G9: 29.03 | H9: =G9*E9 -> 72.575 | J9: 1 | L9: =H9-K9-(I9*4) -> 72.575 | P9: =J9*Rates!$C$46 -> 60 | R9: =IF(SUM(S9:V9) > 0, D9, "")
A10: 1-008 | B10: Lobby | C10: Y | D10: 3.45 | E10: 2.5 | F10: =D10*E10 -> 8.625 | G10: 7.75 | H10: =G10*E10 -> 19.375 | I10: 2 | J10: 0 | L10: =H10-K10-(I10*4) -> 11.375 | M10: =L10*(Rates!C$14+Rates!C$37+Rates!C$38) -> 118.3 | N10: =G10+I10*5 -> 17.75 | O10: =N10*(Rates!C$34+2*Rates!C$40) -> 162.4125 | P10: =J10*Rates!$C$46 -> 0 | Q10: Carpet | R10: =IF(SUM(S10:V10) > 0, D10, "") | W10: Plastered
A11: 1-009 | B11: Classroom | C11: Y | D11: 57.45 | E11: 3 | F11: =D11*E11 -> 172.35 | G11: 33.72 | H11: =G11*E11 -> 101.16 | I11: 2 | J11: 2 | L11: =H11-K11-(I11*4) -> 93.16 | M11: =L11*(Rates!C$14+Rates!C$37+Rates!C$38) -> 968.864 | N11: =G11+I11*5 -> 43.72 | O11: =N11*(Rates!C$34+2*Rates!C$40) -> 400.038 | P11: =J11*Rates!$C$46 -> 120 | Q11: Carpet | R11: =IF(SUM(S11:V11) > 0, D11, "") -> 57.45 | S11: =D11*(Rates!$C$4+Rates!$C$5) -> 4524.762 | W11: Hidden Grid | Y11: =D11*Rates!$C$48 -> 574.5 | Z11: =D11*Rates!$C$51 -> 3447
A12: 1-010 | B12: Stairs | C12: Y | D12: 22.75 | E12: 2.5 | F12: =D12*E12 -> 56.875 | G12: 19.92 | H12: =G12*E12 -> 49.8 | I12: 2 | J12: 0 | L12: =H12-K12-(I12*4) -> 41.8 | M12: =L12*(Rates!C$14+Rates!C$37+Rates!C$38) -> 434.72 | N12: =G12+I12*5 -> 29.92 | O12: =N12*(Rates!C$34+2*Rates!C$40) -> 273.768 | P12: =J12*Rates!$C$46 -> 0 | Q12: Carpet | R12: =IF(SUM(S12:V12) > 0, D12, "") -> 22.75 | S12: =D12*(Rates!$C$4+Rates!$C$5) -> 1791.79 | W12: Hidden Grid | Y12: =D12*Rates!$C$48 -> 227.5 | Z12: =D12*Rates!$C$51 -> 1365
A13: 1-011 | B13: WC | C13: N | D13: 20.08 | E13: 2.5 | F13: =D13*E13 -> 50.2 | G13: 37.3 | H13: =G13*E13 -> 93.25 | I13: 1 | J13: 0 | L13: =H13-K13-(I13*4) -> 89.25 | O13: =N13*(Rates!C$34+2*Rates!C$40) -> 0 | P13: =J13*Rates!$C$46 -> 0 | R13: =IF(SUM(S13:V13) > 0, D13, "")
A14: 1-012 | B14: WC Lobby | C14: Y | D14: 3.22 | E14: 2.5 | F14: =D14*E14 -> 8.05 | G14: 7.44 | H14: =G14*E14 -> 18.6 | I14: 2 | J14: 1 | L14: =H14-K14-(I14*4) -> 10.6 | M14: =L14*(Rates!C$14+Rates!C$37+Rates!C$38) -> 110.24 | N14: =G14+I14*5 -> 17.44 | O14: =N14*(Rates!C$34+2*Rates!C$40) -> 159.576 | P14: =J14*Rates!$C$46 -> 60 | Q14: Vinyl | R14: =IF(SUM(S14:V14) > 0, D14, "") | W14: Plastered
A15: 1-013 | B15: Classroom | C15: Y | D15: 46.04 | E15: 3 | F15: =D15*E15 -> 138.12 | G15: 28.26 | H15: =G15*E15 -> 84.78 | I15: 1 | J15: 1 | L15: =H15-K15-(I15*4) -> 80.78 | M15: =L15*(Rates!C$14+Rates!C$37+Rates!C$38) -> 840.112 | N15: =G15+I15*5 -> 33.26 | O15: =N15*(Rates!C$34+2*Rates!C$40) -> 304.329 | P15: =J15*Rates!$C$46 -> 60 | Q15: Vinyl | R15: =IF(SUM(S15:V15) > 0, D15, "") | W15: 600 Grid
A16: 1-014 | B16: Plant | C16: N | D16: 6.61 | E16: 3 | F16: =D16*E16 -> 19.83 | G16: 11.04 | H16: =G16*E16 -> 33.12 | I16: 1 | J16: 1 | L16: =H16-K16-(I16*4) -> 29.12 | P16: =J16*Rates!$C$46 -> 60 | R16: =IF(SUM(S16:V16) > 0, D16, "") | W16: Hidden Grid
A17: 1-015 | B17: Multi Faith Rm | C17: Y | D17: 8.22 | E17: 3 | F17: =D17*E17 -> 24.66 | G17: 12.57 | H17: =G17*E17 -> 37.71 | I17: 1 | J17: 1 | L17: =H17-K17-(I17*4) -> 33.71 | M17: =L17*(Rates!C$14+Rates!C$37+Rates!C$38) -> 350.584 | N17: =G17+I17*5 -> 17.57 | O17: =N17*(Rates!C$34+2*Rates!C$40) -> 160.7655 | P17: =J17*Rates!$C$46 -> 60 | Q17: Carpet | R17: =IF(SUM(S17:V17) > 0, D17, "") -> 8.22 | S17: =D17*(Rates!$C$4+Rates!$C$5) -> 647.4072 | W17: Hidden Grid | Y17: =D17*Rates!$C$48 -> 82.2 | Z17: =D17*Rates!$C$51 -> 493.2
A18: 1-016 | B18: Corridor | C18: Y | D18: 30.99 | E18: 3 | F18: =D18*E18 -> 92.97 | G18: 36.63 | H18: =G18*E18 -> 109.89 | I18: 8 | J18: 3 | L18: =H18-K18-(I18*4) -> 77.89 | M18: =L18*(Rates!C$14+Rates!C$37+Rates!C$38) -> 810.056 | N18: =G18+I18*5 -> 76.63 | O18: =N18*(Rates!C$34+2*Rates!C$40) -> 701.1645 | P18: =J18*Rates!$C$46 -> 180 | Q18: Carpet | R18: =IF(SUM(S18:V18) > 0, D18, "") -> 30.99 | S18: =D18*(Rates!$C$4+Rates!$C$5) -> 2440.7724 | W18: Hidden Grid | Y18: =D18*Rates!$C$48 -> 309.9 | Z18: =D18*Rates!$C$51 -> 1859.4
A19: 1-016B | B19: Corridor | C19: Y | D19: 69.25 | E19: 3 | F19: =D19*E19 -> 207.75 | G19: 69.34 | H19: =G19*E19 -> 208.02 | I19: 5 | J19: 0 | L19: =H19-K19-(I19*4) -> 188.02 | M19: =L19*(Rates!C$14+Rates!C$37+Rates!C$38) -> 1955.408 | N19: =G19+I19*5 -> 94.34 | O19: =N19*(Rates!C$34+2*Rates!C$40) -> 863.211 | P19: =J19*Rates!$C$46 -> 0 | Q19: Carpet | R19: =IF(SUM(S19:V19) > 0, D19, "") -> 69.25 | S19: =D19*(Rates!$C$4+Rates!$C$5) -> 5454.13
A20: 1-017 | B20: Classroom | C20: Y | D20: 48.78 | E20: 3 | F20: =D20*E20 -> 146.34 | G20: 28.63 | H20: =G20*E20 -> 85.89 | I20: 2 | J20: 2 | L20: =H20-K20-(I20*4) -> 77.89 | M20: =L20*(Rates!C$14+Rates!C$37+Rates!C$38) -> 810.056 | N20: =G20+I20*5 -> 38.63 | O20: =N20*(Rates!C$34+2*Rates!C$40) -> 353.4645 | P20: =J20*Rates!$C$46 -> 120 | R20: =IF(SUM(S20:V20) > 0, D20, "") -> 48.78 | S20: =D20*(Rates!$C$4+Rates!$C$5) -> 3841.9128 | W20: Hidden Grid | Y20: =D20*Rates!$C$48 -> 487.8 | Z20: =D20*Rates!$C$51 -> 2926.8
A21: 1-018 | B21: Office | C21: Y | D21: 65.69 | E21: 3 | F21: =D21*E21 -> 197.07 | G21: 36.8 | H21: =G21*E21 -> 110.4 | I21: 4 | J21: 4 | L21: =H21-K21-(I21*4) -> 94.4 | M21: =L21*(Rates!C$14+Rates!C$37+Rates!C$38) -> 981.76 | N21: =G21+I21*5 -> 56.8 | O21: =N21*(Rates!C$34+2*Rates!C$40) -> 519.72 | P21: =J21*Rates!$C$46 -> 240 | R21: =IF(SUM(S21:V21) > 0, D21, "") -> 65.69 | S21: =D21*(Rates!$C$4+Rates!$C$5) -> 5173.7444 | W21: Mix
A22: 1-018A | B22: Office | C22: Y | D22: 96.52 | E22: 3 | F22: =D22*E22 -> 289.56 | G22: 45.48 | H22: =G22*E22 -> 136.44 | I22: 2 | J22: 4 | L22: =H22-K22-(I22*4) -> 128.44 | M22: =L22*(Rates!C$14+Rates!C$37+Rates!C$38) -> 1335.776 | N22: =G22+I22*5 -> 55.48 | O22: =N22*(Rates!C$34+2*Rates!C$40) -> 507.642 | P22: =J22*Rates!$C$46 -> 240 | R22: =IF(SUM(S22:V22) > 0, D22, "") -> 96.52 | S22: =D22*(Rates!$C$4+Rates!$C$5) -> 7601.9152 | W22: Mix
A23: 1-019 | B23: Store | C23: Y | D23: 4.71 | E23: 3 | F23: =D23*E23 -> 14.13 | G23: 8.77 | H23: =G23*E23 -> 26.31 | I23: 1 | J23: 1 | L23: =H23-K23-(I23*4) -> 22.31 | M23: =L23*(Rates!C$14+Rates!C$37+Rates!C$38) -> 232.024 | N23: =G23+I23*5 -> 13.77 | O23: =N23*(Rates!C$34+2*Rates!C$40) -> 125.9955 | P23: =J23*Rates!$C$46 -> 60 | R23: =IF(SUM(S23:V23) > 0, D23, "") | W23: Hidden Grid | Y23: =D23*Rates!$C$48 -> 47.1 | Z23: =D23*Rates!$C$51 -> 282.6
A24: 1-020 | B24: WC | C24: N | D24: 3.2 | E24: 2.5 | F24: =D24*E24 -> 8 | G24: 7.17 | H24: =G24*E24 -> 17.925 | J24: 1 | L24: =H24-K24-(I24*4) -> 17.925 | P24: =J24*Rates!$C$46 -> 60 | Q24: Vinyl | R24: =IF(SUM(S24:V24) > 0, D24, "")
A25: 1-021 | B25: Kitchenette | C25: N | D25: 10.76 | E25: 2.5 | F25: =D25*E25 -> 26.9 | G25: 15.56 | H25: =G25*E25 -> 38.9 | I25: 1 | J25: 1 | K25: 7.8 | L25: =H25-K25-(I25*4) -> 27.1 | P25: =J25*Rates!$C$46 -> 60 | Q25: Vinyl | R25: =IF(SUM(S25:V25) > 0, D25, "")
A26: 1-022 | B26: Classroom | C26: Y | D26: 30.88 | E26: 3 | F26: =D26*E26 -> 92.64 | G26: 23.24 | H26: =G26*E26 -> 69.72 | I26: 2 | J26: 1 | K26: 5.2 | L26: =H26-K26-(I26*4) -> 56.52 | M26: =L26*(Rates!C$14+Rates!C$37+Rates!C$38) -> 587.808 | N26: =G26+I26*5 -> 33.24 | O26: =N26*(Rates!C$34+2*Rates!C$40) -> 304.146 | P26: =J26*Rates!$C$46 -> 60 | Q26: Carpet | R26: =IF(SUM(S26:V26) > 0, D26, "") -> 30.88 | S26: =D26*(Rates!$C$4+Rates!$C$5) -> 2432.1088 | W26: Hidden Grid | Y26: =D26*Rates!$C$48 -> 308.8 | Z26: =D26*Rates!$C$51 -> 1852.8
A27: 1-023 | B27: Office | C27: Y | D27: 13.42 | E27: 3 | F27: =D27*E27 -> 40.26 | G27: 16.08 | H27: =G27*E27 -> 48.24 | I27: 1 | J27: 1 | K27: 2.6 | L27: =H27-K27-(I27*4) -> 41.64 | M27: =L27*(Rates!C$14+Rates!C$37+Rates!C$38) -> 433.056 | N27: =G27+I27*5 -> 21.08 | O27: =N27*(Rates!C$34+2*Rates!C$40) -> 192.882 | P27: =J27*Rates!$C$46 -> 60 | Q27: Carpet | R27: =IF(SUM(S27:V27) > 0, D27, "") -> 13.42 | S27: =D27*(Rates!$C$4+Rates!$C$5) -> 1056.9592 | W27: Hidden Grid | Y27: =D27*Rates!$C$48 -> 134.2 | Z27: =D27*Rates!$C$51 -> 805.2
A28: 1-024 | B28: Office | C28: Y | D28: 25.13 | E28: 3 | F28: =D28*E28 -> 75.39 | G28: 20.21 | H28: =G28*E28 -> 60.63 | I28: 1 | J28: 1 | K28: 6.1 | L28: =H28-K28-(I28*4) -> 50.53 | M28: =L28*(Rates!C$14+Rates!C$37+Rates!C$38) -> 525.512 | N28: =G28+I28*5 -> 25.21 | O28: =N28*(Rates!C$34+2*Rates!C$40) -> 230.6715 | P28: =J28*Rates!$C$46 -> 60 | Q28: Carpet | R28: =IF(SUM(S28:V28) > 0, D28, "") -> 25.13 | S28: =D28*(Rates!$C$4+Rates!$C$5) -> 1979.2388 | W28: Hidden Grid | Y28: =D28*Rates!$C$48 -> 251.3 | Z28: =D28*Rates!$C$51 -> 1507.8
A29: 1-025 | B29: Office | C29: Y | D29: 13.37 | E29: 3 | F29: =D29*E29 -> 40.11 | G29: 16.05 | H29: =G29*E29 -> 48.15 | I29: 1 | J29: 1 | K29: 2.6 | L29: =H29-K29-(I29*4) -> 41.55 | M29: =L29*(Rates!C$14+Rates!C$37+Rates!C$38) -> 432.12 | N29: =G29+I29*5 -> 21.05 | O29: =N29*(Rates!C$34+2*Rates!C$40) -> 192.6075 | P29: =J29*Rates!$C$46 -> 60 | Q29: Carpet | R29: =IF(SUM(S29:V29) > 0, D29, "") -> 13.37 | S29: =D29*(Rates!$C$4+Rates!$C$5) -> 1053.0212 | W29: 600 Grid
A30: 1-026 | B30: Interview Room | C30: Y | D30: 16.21 | E30: 3 | F30: =D30*E30 -> 48.63 | G30: 17.67 | H30: =G30*E30 -> 53.01 | I30: 5 | J30: 3 | L30: =H30-K30-(I30*4) -> 33.01 | M30: =L30*(Rates!C$14+Rates!C$37+Rates!C$38) -> 343.304 | N30: =G30+I30*5 -> 42.67 | O30: =N30*(Rates!C$34+2*Rates!C$40) -> 390.4305 | P30: =J30*Rates!$C$46 -> 180 | Q30: Carpet | R30: =IF(SUM(S30:V30) > 0, D30, "") -> 16.21 | S30: =D30*(Rates!$C$4+Rates!$C$5) -> 1276.6996 | W30: Hidden Grid | Y30: =D30*Rates!$C$48 -> 162.1 | Z30: =D30*Rates!$C$51 -> 972.6
A31: 1-026A | B31: Cupboard | C31: N | D31: 1.78 | F31: =D31*E31 -> 0 | H31: =G31*E31 -> 0 | L31: =H31-K31-(I31*4) -> 0 | M31: =L31*(Rates!C$14+Rates!C$37+Rates!C$38) -> 0 | N31: =G31+I31*5 -> 0 | P31: =J31*Rates!$C$46 -> 0 | R31: =IF(SUM(S31:V31) > 0, D31, "")
A32: 1-026B | B32: Cupboard | C32: N | D32: 1.55 | F32: =D32*E32 -> 0 | H32: =G32*E32 -> 0 | L32: =H32-K32-(I32*4) -> 0 | M32: =L32*(Rates!C$14+Rates!C$37+Rates!C$38) -> 0 | N32: =G32+I32*5 -> 0 | P32: =J32*Rates!$C$46 -> 0 | R32: =IF(SUM(S32:V32) > 0, D32, "")
A33: 1-027 | B33: Corridor | C33: Y | D33: 28.7 | E33: 3 | F33: =D33*E33 -> 86.1 | G33: 35.95 | H33: =G33*E33 -> 107.85 | I33: 10 | J33: 2 | K33: 0 | L33: =H33-K33-(I33*4) -> 67.85 | M33: =L33*(Rates!C$14+Rates!C$37+Rates!C$38) -> 705.64 | N33: =G33+I33*5 -> 85.95 | O33: =N33*(Rates!C$34+2*Rates!C$40) -> 786.4425 | P33: =J33*Rates!$C$46 -> 120 | Q33: Carpet | R33: =IF(SUM(S33:V33) > 0, D33, "") -> 28.7 | S33: =D33*(Rates!$C$4+Rates!$C$5) -> 2260.412 | W33: Hidden Grid | Y33: =D33*Rates!$C$48 -> 287 | Z33: =D33*Rates!$C$51 -> 1722
A34: 1-028 | B34: Classroom | C34: Y | D34: 30.73 | E34: 3.2 | F34: =D34*E34 -> 98.336 | G34: 22.79 | H34: =G34*E34 -> 72.928 | I34: 2 | J34: 1 | L34: =H34-K34-(I34*4) -> 64.928 | M34: =L34*(Rates!C$14+Rates!C$37+Rates!C$38) -> 675.2512 | N34: =G34+I34*5 -> 32.79 | O34: =N34*(Rates!C$34+2*Rates!C$40) -> 300.0285 | P34: =J34*Rates!$C$46 -> 60 | Q34: Carpet | R34: =IF(SUM(S34:V34) > 0, D34, "") -> 30.73 | S34: =D34*(Rates!$C$4+Rates!$C$5) -> 2420.2948 | W34: Hidden Grid | Y34: =D34*Rates!$C$48 -> 307.3 | Z34: =D34*Rates!$C$51 -> 1843.8
A35: 1-029 | B35: Classroom | C35: Y | D35: 48.66 | E35: 3.2 | F35: =D35*E35 -> 155.712 | G35: 28.58 | H35: =G35*E35 -> 91.456 | I35: 2 | J35: 2 | L35: =H35-K35-(I35*4) -> 83.456 | M35: =L35*(Rates!C$14+Rates!C$37+Rates!C$38) -> 867.9424 | N35: =G35+I35*5 -> 38.58 | O35: =N35*(Rates!C$34+2*Rates!C$40) -> 353.007 | P35: =J35*Rates!$C$46 -> 120 | Q35: Carpet | R35: =IF(SUM(S35:V35) > 0, D35, "") -> 48.66 | S35: =D35*(Rates!$C$4+Rates!$C$5) -> 3832.4616 | W35: Hidden Grid | Y35: =D35*Rates!$C$48 -> 486.6 | Z35: =D35*Rates!$C$51 -> 2919.6
A36: 1-030 | B36: Studio | C36: Y | D36: 15.25 | E36: 3.2 | F36: =D36*E36 -> 48.8 | G36: 15.88 | H36: =G36*E36 -> 50.816 | I36: 2 | J36: 2 | L36: =H36-K36-(I36*4) -> 42.816 | M36: =L36*(Rates!C$14+Rates!C$37+Rates!C$38) -> 445.2864 | N36: =G36+I36*5 -> 25.88 | O36: =N36*(Rates!C$34+2*Rates!C$40) -> 236.802 | P36: =J36*Rates!$C$46 -> 120 | Q36: Carpet | R36: =IF(SUM(S36:V36) > 0, D36, "") -> 15.25 | S36: =D36*(Rates!$C$4+Rates!$C$5) -> 1201.09 | W36: 600 Grid
A37: 1-031 | B37: Classroom | C37: Y | D37: 49.24 | E37: 3.2 | F37: =D37*E37 -> 157.568 | G37: 28.6 | H37: =G37*E37 -> 91.52 | I37: 1 | J37: 1 | L37: =H37-K37-(I37*4) -> 87.52 | M37: =L37*(Rates!C$14+Rates!C$37+Rates!C$38) -> 910.208 | N37: =G37+I37*5 -> 33.6 | O37: =N37*(Rates!C$34+2*Rates!C$40) -> 307.44 | P37: =J37*Rates!$C$46 -> 60 | Q37: Carpet | R37: =IF(SUM(S37:V37) > 0, D37, "") -> 49.24 | S37: =D37*(Rates!$C$4+Rates!$C$5) -> 3878.1424 | W37: Hidden Grid | Y37: =D37*Rates!$C$48 -> 492.4 | Z37: =D37*Rates!$C$51 -> 2954.4
A38: 1-032 | B38: WC | C38: N | D38: 19.87 | E38: 2.5 | F38: =D38*E38 -> 49.675 | G38: 36.24 | H38: =G38*E38 -> 90.6 | I38: 1 | J38: 1 | L38: =H38-K38-(I38*4) -> 86.6 | P38: =J38*Rates!$C$46 -> 60 | R38: =IF(SUM(S38:V38) > 0, D38, "")
A39: 1-033 | B39: WC Lobby | C39: Y | D39: 3.37 | E39: 2.5 | F39: =D39*E39 -> 8.425 | G39: 7.62 | H39: =G39*E39 -> 19.05 | I39: 2 | J39: 1 | L39: =H39-K39-(I39*4) -> 11.05 | M39: =L39*(Rates!C$14+Rates!C$37+Rates!C$38) -> 114.92 | N39: =G39+I39*5 -> 17.62 | O39: =N39*(Rates!C$34+2*Rates!C$40) -> 161.223 | P39: =J39*Rates!$C$46 -> 60 | R39: =IF(SUM(S39:V39) > 0, D39, "") | W39: Plastered
A40: 1-034 | B40: Corridor | C40: Y | D40: 30.4 | E40: 3.2 | F40: =D40*E40 -> 97.28 | G40: 35.96 | H40: =G40*E40 -> 115.072 | I40: 8 | J40: 3 | L40: =H40-K40-(I40*4) -> 83.072 | M40: =L40*(Rates!C$14+Rates!C$37+Rates!C$38) -> 863.9488 | N40: =G40+I40*5 -> 75.96 | O40: =N40*(Rates!C$34+2*Rates!C$40) -> 695.034 | P40: =J40*Rates!$C$46 -> 180 | Q40: Carpet | R40: =IF(SUM(S40:V40) > 0, D40, "") -> 30.4 | S40: =D40*(Rates!$C$4+Rates!$C$5) -> 2394.304 | W40: Hidden Grid | Y40: =D40*Rates!$C$48 -> 304 | Z40: =D40*Rates!$C$51 -> 1824
A41: 1-035 | B41: Stairs | C41: Y | D41: 23.85 | E41: 3.2 | F41: =D41*E41 -> 76.32 | G41: 20.41 | H41: =G41*E41 -> 65.312 | I41: 2 | J41: 0 | L41: =H41-K41-(I41*4) -> 57.312 | M41: =L41*(Rates!C$14+Rates!C$37+Rates!C$38) -> 596.0448 | N41: =G41+I41*5 -> 30.41 | O41: =N41*(Rates!C$34+2*Rates!C$40) -> 278.2515 | P41: =J41*Rates!$C$46 -> 0 | Q41: Carpet | R41: =IF(SUM(S41:V41) > 0, D41, "") -> 23.85 | S41: =D41*(Rates!$C$4+Rates!$C$5) -> 1878.426 | W41: Hidden Grid | Y41: =D41*Rates!$C$48 -> 238.5 | Z41: =D41*Rates!$C$51 -> 1431
A42: 1-036 | B42: Classroom | C42: Y | D42: 56.61 | E42: 3.2 | F42: =D42*E42 -> 181.152 | G42: 31.42 | H42: =G42*E42 -> 100.544 | I42: 2 | J42: 2 | L42: =H42-K42-(I42*4) -> 92.544 | M42: =L42*(Rates!C$14+Rates!C$37+Rates!C$38) -> 962.4576 | N42: =G42+I42*5 -> 41.42 | O42: =N42*(Rates!C$34+2*Rates!C$40) -> 378.993 | P42: =J42*Rates!$C$46 -> 120 | Q42: Carpet | R42: =IF(SUM(S42:V42) > 0, D42, "") -> 56.61 | S42: =D42*(Rates!$C$4+Rates!$C$5) -> 4458.6036 | W42: Hidden Grid | Y42: =D42*Rates!$C$48 -> 566.1 | Z42: =D42*Rates!$C$51 -> 3396.6
A43: 1-038 | B43: Corridor / Stairs | C43: Y | D43: 29.14 | E43: 3.2 | F43: =D43*E43 -> 93.248 | G43: 28.39 | H43: =G43*E43 -> 90.848 | I43: 5 | J43: 2 | L43: =H43-K43-(I43*4) -> 70.848 | M43: =L43*(Rates!C$14+Rates!C$37+Rates!C$38) -> 736.8192 | N43: =G43+I43*5 -> 53.39 | O43: =N43*(Rates!C$34+2*Rates!C$40) -> 488.5185 | P43: =J43*Rates!$C$46 -> 120 | Q43: Carpet | R43: =IF(SUM(S43:V43) > 0, D43, "") -> 29.14 | S43: =D43*(Rates!$C$4+Rates!$C$5) -> 2295.0664 | W43: Hidden Grid | Y43: =D43*Rates!$C$48 -> 291.4 | Z43: =D43*Rates!$C$51 -> 1748.4
A44: 1-039 | B44: Store | C44: Y | D44: 4.47 | E44: 2.5 | F44: =D44*E44 -> 11.175 | G44: 9.32 | H44: =G44*E44 -> 23.3 | I44: 3 | J44: 1 | L44: =H44-K44-(I44*4) -> 11.3 | M44: =L44*(Rates!C$14+Rates!C$37+Rates!C$38) -> 117.52 | N44: =G44+I44*5 -> 24.32 | O44: =N44*(Rates!C$34+2*Rates!C$40) -> 222.528 | P44: =J44*Rates!$C$46 -> 60 | R44: =IF(SUM(S44:V44) > 0, D44, "") -> 4.47 | S44: =D44*(Rates!$C$4+Rates!$C$5) -> 352.0572 | W44: 600 Grid
A45: 1-040 | B45: WC | C45: N | D45: 12.76 | F45: =D45*E45 -> 0 | G45: 15.42 | H45: =G45*E45 -> 0 | J45: 1 | L45: =H45-K45-(I45*4) -> 0 | P45: =J45*Rates!$C$46 -> 60 | R45: =IF(SUM(S45:V45) > 0, D45, "")
A46: 1-041 | B46: Store | C46: N | D46: 2.91 | F46: =D46*E46 -> 0 | G46: 6.88 | H46: =G46*E46 -> 0 | J46: 1 | L46: =H46-K46-(I46*4) -> 0 | M46: =L46*(Rates!C$14+Rates!C$37+Rates!C$38) -> 0 | P46: =J46*Rates!$C$46 -> 60 | R46: =IF(SUM(S46:V46) > 0, D46, "")
A47: 1-042 | B47: Classroom | C47: Y | D47: 52.26 | E47: 3.2 | F47: =D47*E47 -> 167.232 | G47: 30.21 | H47: =G47*E47 -> 96.672 | I47: 2 | J47: 1 | L47: =H47-K47-(I47*4) -> 88.672 | M47: =L47*(Rates!C$14+Rates!C$37+Rates!C$38) -> 922.1888 | N47: =G47+I47*5 -> 40.21 | O47: =N47*(Rates!C$34+2*Rates!C$40) -> 367.9215 | P47: =J47*Rates!$C$46 -> 60 | Q47: Vinyl | R47: =IF(SUM(S47:V47) > 0, D47, "") | W47: Hidden Grid | Y47: =D47*Rates!$C$48 -> 522.6 | Z47: =D47*Rates!$C$51 -> 3135.6
A48: 1-043 | B48: Office | C48: Y | D48: 31.87 | E48: 2.3 | F48: =D48*E48 -> 73.301 | G48: 26.94 | H48: =G48*E48 -> 61.962 | I48: 3 | J48: 2 | L48: =H48-K48-(I48*4) -> 49.962 | M48: =L48*(Rates!C$14+Rates!C$37+Rates!C$38) -> 519.6048 | N48: =G48+I48*5 -> 41.94 | O48: =N48*(Rates!C$34+2*Rates!C$40) -> 383.751 | P48: =J48*Rates!$C$46 -> 120 | Q48: Carpet | R48: =IF(SUM(S48:V48) > 0, D48, "") -> 31.87 | S48: =D48*(Rates!$C$4+Rates!$C$5) -> 2510.0812 | W48: Plasterboard
A49: 1-044 | B49: Office | C49: Y | D49: 28.98 | E49: 2.3 | F49: =D49*E49 -> 66.654 | G49: 25.77 | H49: =G49*E49 -> 59.271 | I49: 4 | J49: 4 | L49: =H49-K49-(I49*4) -> 43.271 | M49: =L49*(Rates!C$14+Rates!C$37+Rates!C$38) -> 450.0184 | N49: =G49+I49*5 -> 45.77 | O49: =N49*(Rates!C$34+2*Rates!C$40) -> 418.7955 | P49: =J49*Rates!$C$46 -> 240 | Q49: Carpet | R49: =IF(SUM(S49:V49) > 0, D49, "") -> 28.98 | S49: =D49*(Rates!$C$4+Rates!$C$5) -> 2282.4648 | W49: Plasterboard
A50: 1-045 | B50: Corridor | C50: Y | D50: 174.97 | E50: 3 | F50: =D50*E50 -> 524.91 | G50: 86.07 | H50: =G50*E50 -> 258.21 | I50: 9 | J50: 1 | K50: 71 | L50: =H50-K50-(I50*4) -> 151.21 | M50: =L50*(Rates!C$14+Rates!C$37+Rates!C$38) -> 1572.584 | N50: =G50+I50*5 -> 131.07 | O50: =N50*(Rates!C$34+2*Rates!C$40) -> 1199.2905 | P50: =J50*Rates!$C$46 -> 60 | Q50: Carpet | R50: =IF(SUM(S50:V50) > 0, D50, "") -> 174.97 | S50: =D50*(Rates!$C$4+Rates!$C$5) -> 13780.637
A51: G-001 | B51: Public Entrance | C51: Y | D51: 70.1 | E51: 3 | F51: =D51*E51 -> 210.3 | G51: 58 | H51: =G51*E51 -> 174 | L51: =H51-K51-(I51*4) -> 174 | M51: =L51*(Rates!C$14+Rates!C$37+Rates!C$38) -> 1809.6 | N51: =G51+I51*5 -> 58 | O51: =N51*(Rates!C$34+2*Rates!C$40) -> 530.7 | P51: =J51*Rates!$C$46 -> 0 | R51: =IF(SUM(S51:V51) > 0, D51, "")
A52: G-001A | B52: Reception Area | C52: Y | D52: 17.25 | E52: 3 | F52: =D52*E52 -> 51.75 | G52: 16.89 | H52: =G52*E52 -> 50.67 | L52: =H52-K52-(I52*4) -> 50.67 | M52: =L52*(Rates!C$14+Rates!C$37+Rates!C$38) -> 526.968 | N52: =G52+I52*5 -> 16.89 | O52: =N52*(Rates!C$34+2*Rates!C$40) -> 154.5435 | P52: =J52*Rates!$C$46 -> 0 | R52: =IF(SUM(S52:V52) > 0, D52, "")
A53: G-003 | B53: Store | C53: N | D53: 15.67 | F53: =D53*E53 -> 0 | G53: 16.01 | H53: =G53*E53 -> 0 | L53: =H53-K53-(I53*4) -> 0 | M53: =L53*(Rates!C$14+Rates!C$37+Rates!C$38) -> 0 | P53: =J53*Rates!$C$46 -> 0 | R53: =IF(SUM(S53:V53) > 0, D53, "")
A54: G-004 | B54: Corridor | C54: Y | D54: 6 | E54: 3 | F54: =D54*E54 -> 18 | G54: 11.37 | H54: =G54*E54 -> 34.11 | I54: 4 | L54: =H54-K54-(I54*4) -> 18.11 | M54: =L54*(Rates!C$14+Rates!C$37+Rates!C$38) -> 188.344 | N54: =G54+I54*5 -> 31.37 | O54: =N54*(Rates!C$34+2*Rates!C$40) -> 287.0355 | P54: =J54*Rates!$C$46 -> 0 | Q54: Carpet | R54: =IF(SUM(S54:V54) > 0, D54, "") -> 6 | S54: =D54*(Rates!$C$4+Rates!$C$5) -> 472.56 | W54: Hidden Grid | Y54: =D54*Rates!$C$48 -> 60 | Z54: =D54*Rates!$C$51 -> 360
A55: G-004A | B55: Bowden Room | C55: Y | D55: 20.02 | E55: 3 | F55: =D55*E55 -> 60.06 | G55: 19.81 | H55: =G55*E55 -> 59.43 | I55: 1 | L55: =H55-K55-(I55*4) -> 55.43 | M55: =L55*(Rates!C$14+Rates!C$37+Rates!C$38) -> 576.472 | N55: =G55+I55*5 -> 24.81 | O55: =N55*(Rates!C$34+2*Rates!C$40) -> 227.0115 | P55: =J55*Rates!$C$46 -> 0 | Q55: Carpet | R55: =IF(SUM(S55:V55) > 0, D55, "") -> 20.02 | S55: =D55*(Rates!$C$4+Rates!$C$5) -> 1576.7752 | W55: Hidden Grid | Y55: =D55*Rates!$C$48 -> 200.2 | Z55: =D55*Rates!$C$51 -> 1201.2
A56: G-006 | B56: Office | C56: Y | D56: 76.8 | E56: 3 | F56: =D56*E56 -> 230.4 | G56: 49.72 | H56: =G56*E56 -> 149.16 | I56: 6 | L56: =H56-K56-(I56*4) -> 125.16 | M56: =L56*(Rates!C$14+Rates!C$37+Rates!C$38) -> 1301.664 | N56: =G56+I56*5 -> 79.72 | O56: =N56*(Rates!C$34+2*Rates!C$40) -> 729.438 | P56: =J56*Rates!$C$46 -> 0 | Q56: Carpet | R56: =IF(SUM(S56:V56) > 0, D56, "") -> 76.8 | S56: =D56*(Rates!$C$4+Rates!$C$5) -> 6048.768 | W56: Hidden Grid | Y56: =D56*Rates!$C$48 -> 768 | Z56: =D56*Rates!$C$51 -> 4608
A57: G-007 | B57: Store | C57: N | D57: 3.55 | F57: =D57*E57 -> 0 | G57: 9.04 | H57: =G57*E57 -> 0 | L57: =H57-K57-(I57*4) -> 0 | M57: =L57*(Rates!C$14+Rates!C$37+Rates!C$38) -> 0 | P57: =J57*Rates!$C$46 -> 0 | R57: =IF(SUM(S57:V57) > 0, D57, "") | W57: Hidden Grid | Y57: =D57*Rates!$C$48 -> 35.5 | Z57: =D57*Rates!$C$51 -> 213
A58: G-008 | B58: Office | C58: Y | D58: 10.22 | E58: 3 | F58: =D58*E58 -> 30.66 | G58: 12.94 | H58: =G58*E58 -> 38.82 | I58: 1 | L58: =H58-K58-(I58*4) -> 34.82 | M58: =L58*(Rates!C$14+Rates!C$37+Rates!C$38) -> 362.128 | N58: =G58+I58*5 -> 17.94 | O58: =N58*(Rates!C$34+2*Rates!C$40) -> 164.151 | P58: =J58*Rates!$C$46 -> 0 | Q58: Carpet | R58: =IF(SUM(S58:V58) > 0, D58, "") -> 10.22 | S58: =D58*(Rates!$C$4+Rates!$C$5) -> 804.9272 | W58: Hidden Grid | Y58: =D58*Rates!$C$48 -> 102.2 | Z58: =D58*Rates!$C$51 -> 613.2
A59: G-009 | B59: Office | C59: Y | D59: 12.43 | E59: 3 | F59: =D59*E59 -> 37.29 | G59: 14.21 | H59: =G59*E59 -> 42.63 | I59: 1 | L59: =H59-K59-(I59*4) -> 38.63 | M59: =L59*(Rates!C$14+Rates!C$37+Rates!C$38) -> 401.752 | N59: =G59+I59*5 -> 19.21 | O59: =N59*(Rates!C$34+2*Rates!C$40) -> 175.7715 | P59: =J59*Rates!$C$46 -> 0 | Q59: Carpet | R59: =IF(SUM(S59:V59) > 0, D59, "") -> 12.43 | S59: =D59*(Rates!$C$4+Rates!$C$5) -> 978.9868 | W59: Hidden Grid | Y59: =D59*Rates!$C$48 -> 124.3 | Z59: =D59*Rates!$C$51 -> 745.8
A60: G-010 | B60: Corridor | C60: Y | D60: 4.89 | E60: 3 | F60: =D60*E60 -> 14.67 | G60: 10.37 | H60: =G60*E60 -> 31.11 | I60: 2 | L60: =H60-K60-(I60*4) -> 23.11 | M60: =L60*(Rates!C$14+Rates!C$37+Rates!C$38) -> 240.344 | N60: =G60+I60*5 -> 20.37 | O60: =N60*(Rates!C$34+2*Rates!C$40) -> 186.3855 | P60: =J60*Rates!$C$46 -> 0 | R60: =IF(SUM(S60:V60) > 0, D60, "") -> 4.89 | U60: =D60*(Rates!$C$4+Rates!$C$7) -> 293.4 | W60: Hidden Grid | Y60: =D60*Rates!$C$48 -> 48.9 | Z60: =D60*Rates!$C$51 -> 293.4
A61: G-011 | B61: Store | C61: N | D61: 24.66 | F61: =D61*E61 -> 0 | G61: 20.09 | H61: =G61*E61 -> 0 | L61: =H61-K61-(I61*4) -> 0 | M61: =L61*(Rates!C$14+Rates!C$37+Rates!C$38) -> 0 | P61: =J61*Rates!$C$46 -> 0 | R61: =IF(SUM(S61:V61) > 0, D61, "")
A62: G-012 | B62: Office | D62: 17.58 | E62: 3 | F62: =D62*E62 -> 52.74 | G62: 18.8 | H62: =G62*E62 -> 56.4 | I62: 2 | L62: =H62-K62-(I62*4) -> 48.4 | M62: =L62*(Rates!C$14+Rates!C$37+Rates!C$38) -> 503.36 | N62: =G62+I62*5 -> 28.8 | O62: =N62*(Rates!C$34+2*Rates!C$40) -> 263.52 | P62: =J62*Rates!$C$46 -> 0 | Q62: Carpet | R62: =IF(SUM(S62:V62) > 0, D62, "") -> 17.58 | S62: =D62*(Rates!$C$4+Rates!$C$5) -> 1384.6008
A63: G-012A | B63: Cupboard | C63: N | D63: 3.14 | F63: =D63*E63 -> 0 | H63: =G63*E63 -> 0 | L63: =H63-K63-(I63*4) -> 0 | M63: =L63*(Rates!C$14+Rates!C$37+Rates!C$38) -> 0 | N63: =G63+I63*5 -> 0 | P63: =J63*Rates!$C$46 -> 0 | R63: =IF(SUM(S63:V63) > 0, D63, "")
A64: G-013 | B64: Courtyard | C64: N | D64: 87.52 | F64: =D64*E64 -> 0 | H64: =G64*E64 -> 0 | L64: =H64-K64-(I64*4) -> 0 | M64: =L64*(Rates!C$14+Rates!C$37+Rates!C$38) -> 0 | N64: =G64+I64*5 -> 0 | P64: =J64*Rates!$C$46 -> 0 | R64: =IF(SUM(S64:V64) > 0, D64, "")
A65: G-014 | B65: Store | C65: N | D65: 23.76 | F65: =D65*E65 -> 0 | H65: =G65*E65 -> 0 | L65: =H65-K65-(I65*4) -> 0 | M65: =L65*(Rates!C$14+Rates!C$37+Rates!C$38) -> 0 | N65: =G65+I65*5 -> 0 | P65: =J65*Rates!$C$46 -> 0 | R65: =IF(SUM(S65:V65) > 0, D65, "")
A66: G-015 | B66: Store | C66: N | D66: 13.79 | F66: =D66*E66 -> 0 | H66: =G66*E66 -> 0 | L66: =H66-K66-(I66*4) -> 0 | M66: =L66*(Rates!C$14+Rates!C$37+Rates!C$38) -> 0 | N66: =G66+I66*5 -> 0 | P66: =J66*Rates!$C$46 -> 0 | R66: =IF(SUM(S66:V66) > 0, D66, "")
A67: G-016 | B67: Store | C67: N | D67: 13.99 | F67: =D67*E67 -> 0 | H67: =G67*E67 -> 0 | L67: =H67-K67-(I67*4) -> 0 | M67: =L67*(Rates!C$14+Rates!C$37+Rates!C$38) -> 0 | N67: =G67+I67*5 -> 0 | P67: =J67*Rates!$C$46 -> 0 | R67: =IF(SUM(S67:V67) > 0, D67, "")
A68: G-017 | B68: Store | C68: N | D68: 55.76 | F68: =D68*E68 -> 0 | H68: =G68*E68 -> 0 | L68: =H68-K68-(I68*4) -> 0 | M68: =L68*(Rates!C$14+Rates!C$37+Rates!C$38) -> 0 | N68: =G68+I68*5 -> 0 | P68: =J68*Rates!$C$46 -> 0 | R68: =IF(SUM(S68:V68) > 0, D68, "")
A69: G-018 | B69: Corridor / Stairs | D69: 30.47 | E69: 3 | F69: =D69*E69 -> 91.41 | G69: 29.63 | H69: =G69*E69 -> 88.89 | I69: 4 | L69: =H69-K69-(I69*4) -> 72.89 | M69: =L69*(Rates!C$14+Rates!C$37+Rates!C$38) -> 758.056 | N69: =G69+I69*5 -> 49.63 | O69: =N69*(Rates!C$34+2*Rates!C$40) -> 454.1145 | P69: =J69*Rates!$C$46 -> 0 | Q69: Vinyl | R69: =IF(SUM(S69:V69) > 0, D69, "") -> 30.47 | U69: =D69*(Rates!$C$4+Rates!$C$7) -> 1828.2 | W69: Hidden Grid | Y69: =D69*Rates!$C$48 -> 304.7 | Z69: =D69*Rates!$C$51 -> 1828.2
A70: G-019 | B70: Store | D70: 2.19 | E70: 3 | F70: =D70*E70 -> 6.57 | G70: 6.85 | H70: =G70*E70 -> 20.55 | I70: 1 | L70: =H70-K70-(I70*4) -> 16.55 | M70: =L70*(Rates!C$14+Rates!C$37+Rates!C$38) -> 172.12 | N70: =G70+I70*5 -> 11.85 | O70: =N70*(Rates!C$34+2*Rates!C$40) -> 108.4275 | P70: =J70*Rates!$C$46 -> 0 | R70: =IF(SUM(S70:V70) > 0, D70, "")
A71: G-020 | B71: Lobby | D71: 16.55 | E71: 3 | F71: =D71*E71 -> 49.65 | G71: 17.89 | H71: =G71*E71 -> 53.67 | I71: 2 | L71: =H71-K71-(I71*4) -> 45.67 | M71: =L71*(Rates!C$14+Rates!C$37+Rates!C$38) -> 474.968 | N71: =G71+I71*5 -> 27.89 | O71: =N71*(Rates!C$34+2*Rates!C$40) -> 255.1935 | P71: =J71*Rates!$C$46 -> 0 | R71: =IF(SUM(S71:V71) > 0, D71, "") -> 16.55 | V71: =D71*(Rates!$C$4+Rates!$C$8) -> 1075.75
A72: G-021 | B72: Library | C72: Y | D72: 57.67 | E72: 3 | F72: =D72*E72 -> 173.01 | G72: 31.63 | H72: =G72*E72 -> 94.89 | I72: 2 | L72: =H72-K72-(I72*4) -> 86.89 | M72: =L72*(Rates!C$14+Rates!C$37+Rates!C$38) -> 903.656 | N72: =G72+I72*5 -> 41.63 | O72: =N72*(Rates!C$34+2*Rates!C$40) -> 380.9145 | P72: =J72*Rates!$C$46 -> 0 | Q72: Carpet | R72: =IF(SUM(S72:V72) > 0, D72, "") -> 57.67 | S72: =D72*(Rates!$C$4+Rates!$C$5) -> 4542.0892 | W72: Hidden Grid
A73: G-022 | B73: Elec Intake Rm | C73: N | D73: 4.3 | F73: =D73*E73 -> 0 | G73: 8.51 | H73: =G73*E73 -> 0 | I73: 1 | L73: =H73-K73-(I73*4) -> -4 | P73: =J73*Rates!$C$46 -> 0 | R73: =IF(SUM(S73:V73) > 0, D73, "")
A74: G-023 | B74: Stairs | D74: 4.57 | E74: 3 | F74: =D74*E74 -> 13.71 | G74: 8.76 | H74: =G74*E74 -> 26.28 | I74: 3 | L74: =H74-K74-(I74*4) -> 14.28 | M74: =L74*(Rates!C$14+Rates!C$37+Rates!C$38) -> 148.512 | N74: =G74+I74*5 -> 23.76 | O74: =N74*(Rates!C$34+2*Rates!C$40) -> 217.404 | P74: =J74*Rates!$C$46 -> 0 | R74: =IF(SUM(S74:V74) > 0, D74, "") -> 4.57 | S74: =D74*(Rates!$C$4+Rates!$C$5) -> 359.9332 | W74: Hidden Grid | Y74: =D74*Rates!$C$48 -> 45.7 | Z74: =D74*Rates!$C$51 -> 274.2
A75: G-024 | B75: Corridor | D75: 30.5 | E75: 3 | F75: =D75*E75 -> 91.5 | G75: 31.09 | H75: =G75*E75 -> 93.27 | I75: 6 | L75: =H75-K75-(I75*4) -> 69.27 | M75: =L75*(Rates!C$14+Rates!C$37+Rates!C$38) -> 720.408 | N75: =G75+I75*5 -> 61.09 | O75: =N75*(Rates!C$34+2*Rates!C$40) -> 558.9735 | P75: =J75*Rates!$C$46 -> 0 | R75: =IF(SUM(S75:V75) > 0, D75, "") -> 30.5 | U75: =D75*(Rates!$C$4+Rates!$C$7) -> 1830 | W75: Hidden Grid | Y75: =D75*Rates!$C$48 -> 305 | Z75: =D75*Rates!$C$51 -> 1830
A76: G-025 | B76: Office | C76: Y | D76: 20.12 | E76: 3 | F76: =D76*E76 -> 60.36 | G76: 18.67 | H76: =G76*E76 -> 56.01 | I76: 1 | J76: 1 | L76: =H76-K76-(I76*4) -> 52.01 | M76: =L76*(Rates!C$14+Rates!C$37+Rates!C$38) -> 540.904 | N76: =G76+I76*5 -> 23.67 | O76: =N76*(Rates!C$34+2*Rates!C$40) -> 216.5805 | P76: =J76*Rates!$C$46 -> 60 | Q76: Carpet | R76: =IF(SUM(S76:V76) > 0, D76, "") -> 20.12 | S76: =D76*(Rates!$C$4+Rates!$C$5) -> 1584.6512 | W76: Hidden Grid | Y76: =D76*Rates!$C$48 -> 201.2 | Z76: =D76*Rates!$C$51 -> 1207.2
A77: G-026 | B77: Hamble Room | C77: Y | D77: 46.04 | E77: 3 | F77: =D77*E77 -> 138.12 | G77: 28.31 | H77: =G77*E77 -> 84.93 | I77: 1 | J77: 1 | K77: 26 | L77: =H77-K77-(I77*4) -> 54.93 | M77: =L77*(Rates!C$14+Rates!C$37+Rates!C$38) -> 571.272 | N77: =G77+I77*5 -> 33.31 | O77: =N77*(Rates!C$34+2*Rates!C$40) -> 304.7865 | P77: =J77*Rates!$C$46 -> 60 | Q77: Vinyl | R77: =IF(SUM(S77:V77) > 0, D77, "") | W77: 600 Grid
A78: G-027 | B78: Store | C78: N | D78: 6.09 | E78: 3 | F78: =D78*E78 -> 18.27 | G78: 11.4 | H78: =G78*E78 -> 34.2 | I78: 1 | J78: 1 | K78: 0 | L78: =H78-K78-(I78*4) -> 30.2 | P78: =J78*Rates!$C$46 -> 60 | R78: =IF(SUM(S78:V78) > 0, D78, "")
A79: G-028 | B79: Kitchen | C79: Y | D79: 9.28 | E79: 3 | F79: =D79*E79 -> 27.84 | G79: 13.15 | H79: =G79*E79 -> 39.45 | I79: 1 | J79: 1 | L79: =H79-K79-(I79*4) -> 35.45 | M79: =L79*(Rates!C$14+Rates!C$37+Rates!C$38) -> 368.68 | N79: =G79+I79*5 -> 18.15 | O79: =N79*(Rates!C$34+2*Rates!C$40) -> 166.0725 | P79: =J79*Rates!$C$46 -> 60 | R79: =IF(SUM(S79:V79) > 0, D79, "")
A80: G-029 | B80: Corridor | D80: 37.98 | E80: 3 | F80: =D80*E80 -> 113.94 | G80: 39.4 | H80: =G80*E80 -> 118.2 | I80: 9 | J80: 4 | L80: =H80-K80-(I80*4) -> 82.2 | M80: =L80*(Rates!C$14+Rates!C$37+Rates!C$38) -> 854.88 | N80: =G80+I80*5 -> 84.4 | O80: =N80*(Rates!C$34+2*Rates!C$40) -> 772.26 | P80: =J80*Rates!$C$46 -> 240 | Q80: Vinyl | R80: =IF(SUM(S80:V80) > 0, D80, "") -> 37.98 | U80: =D80*(Rates!$C$4+Rates!$C$7) -> 2278.8 | W80: Hidden Grid | Y80: =D80*Rates!$C$48 -> 379.8
A81: G-030 | B81: Corridor | D81: 48.46 | E81: 3 | F81: =D81*E81 -> 145.38 | G81: 52.14 | H81: =G81*E81 -> 156.42 | I81: 7 | J81: 7 | K81: 29 | L81: =H81-K81-(I81*4) -> 99.42 | M81: =L81*(Rates!C$14+Rates!C$37+Rates!C$38) -> 1033.968 | N81: =G81+I81*5 -> 87.14 | O81: =N81*(Rates!C$34+2*Rates!C$40) -> 797.331 | P81: =J81*Rates!$C$46 -> 420 | Q81: Vinyl | R81: =IF(SUM(S81:V81) > 0, D81, "") -> 48.46 | U81: =D81*(Rates!$C$4+Rates!$C$7) -> 2907.6 | W81: Metal | X81: 48.46 | AB81: =X81*Rates!$C$50 -> 7566.0598
A82: G-031 | B82: Stairlift | C82: Y | D82: 3.95 | E82: 5 | F82: =D82*E82 -> 19.75 | H82: =G82*E82 -> 0 | L82: =H82-K82-(I82*4) -> 0 | M82: =L82*(Rates!C$14+Rates!C$37+Rates!C$38) -> 0 | N82: =G82+I82*5 -> 0 | O82: =N82*(Rates!C$34+2*Rates!C$40) -> 0 | P82: =J82*Rates!$C$46 -> 0 | R82: =IF(SUM(S82:V82) > 0, D82, "")
A83: G-032 | B83: Lecture Theatre | C83: Y | D83: 132.92 | E83: 5 | F83: =D83*E83 -> 664.6 | G83: 49.1 | H83: =G83*E83 -> 245.5 | I83: 4 | J83: 4 | K83: 132 | L83: =H83-K83-(I83*4) -> 97.5 | M83: =L83*(Rates!C$14+Rates!C$37+Rates!C$38) -> 1014 | N83: =G83+I83*5 -> 69.1 | O83: =N83*(Rates!C$34+2*Rates!C$40) -> 632.265 | P83: =J83*Rates!$C$46 -> 240 | Q83: Carpet | R83: =IF(SUM(S83:V83) > 0, D83, "") -> 132.92 | S83: =D83*(Rates!$C$4+Rates!$C$5) -> 10468.779 | W83: 600 Grid
A84: G-033 | B84: Stairs | C84: Y | D84: 3.95 | E84: 5 | F84: =D84*E84 -> 19.75 | H84: =G84*E84 -> 0 | L84: =H84-K84-(I84*4) -> 0 | M84: =L84*(Rates!C$14+Rates!C$37+Rates!C$38) -> 0 | N84: =G84+I84*5 -> 0 | O84: =N84*(Rates!C$34+2*Rates!C$40) -> 0 | P84: =J84*Rates!$C$46 -> 0 | Q84: Carpet | R84: =IF(SUM(S84:V84) > 0, D84, "") -> 3.95 | S84: =D84*(Rates!$C$4+Rates!$C$5) -> 311.102
A85: G-034 | B85: Office | C85: Y | D85: 80.02 | E85: 3 | F85: =D85*E85 -> 240.06 | G85: 43.8 | H85: =G85*E85 -> 131.4 | I85: 7 | L85: =H85-K85-(I85*4) -> 103.4 | M85: =L85*(Rates!C$14+Rates!C$37+Rates!C$38) -> 1075.36 | N85: =G85+I85*5 -> 78.8 | O85: =N85*(Rates!C$34+2*Rates!C$40) -> 721.02 | P85: =J85*Rates!$C$46 -> 0 | Q85: Carpet | R85: =IF(SUM(S85:V85) > 0, D85, "") -> 80.02 | S85: =D85*(Rates!$C$4+Rates!$C$5) -> 6302.3752
A86: G-035 | B86: Office | C86: Y | D86: 5.78 | E86: 3 | F86: =D86*E86 -> 17.34 | G86: 10.3 | H86: =G86*E86 -> 30.9 | I86: 2 | L86: =H86-K86-(I86*4) -> 22.9 | M86: =L86*(Rates!C$14+Rates!C$37+Rates!C$38) -> 238.16 | N86: =G86+I86*5 -> 20.3 | O86: =N86*(Rates!C$34+2*Rates!C$40) -> 185.745 | P86: =J86*Rates!$C$46 -> 0 | Q86: Carpet | R86: =IF(SUM(S86:V86) > 0, D86, "") -> 5.78 | S86: =D86*(Rates!$C$4+Rates!$C$5) -> 455.2328
A87: G-036 | B87: Office | C87: Y | D87: 7.15 | E87: 3 | F87: =D87*E87 -> 21.45 | G87: 11.6 | H87: =G87*E87 -> 34.8 | I87: 2 | L87: =H87-K87-(I87*4) -> 26.8 | M87: =L87*(Rates!C$14+Rates!C$37+Rates!C$38) -> 278.72 | N87: =G87+I87*5 -> 21.6 | O87: =N87*(Rates!C$34+2*Rates!C$40) -> 197.64 | P87: =J87*Rates!$C$46 -> 0 | Q87: Carpet | R87: =IF(SUM(S87:V87) > 0, D87, "") -> 7.15 | S87: =D87*(Rates!$C$4+Rates!$C$5) -> 563.134
A88: G-037 | B88: WC | C88: N | D88: 8.89 | F88: =D88*E88 -> 0 | G88: 12.34 | H88: =G88*E88 -> 0 | L88: =H88-K88-(I88*4) -> 0 | M88: =L88*(Rates!C$14+Rates!C$37+Rates!C$38) -> 0 | P88: =J88*Rates!$C$46 -> 0 | R88: =IF(SUM(S88:V88) > 0, D88, "")
A89: G-038 | B89: WC | C89: N | D89: 10.55 | F89: =D89*E89 -> 0 | G89: 16.3 | H89: =G89*E89 -> 0 | L89: =H89-K89-(I89*4) -> 0 | M89: =L89*(Rates!C$14+Rates!C$37+Rates!C$38) -> 0 | P89: =J89*Rates!$C$46 -> 0 | R89: =IF(SUM(S89:V89) > 0, D89, "")
A90: G-039 | B90: WC | C90: N | D90: 3.07 | F90: =D90*E90 -> 0 | G90: 7.78 | H90: =G90*E90 -> 0 | L90: =H90-K90-(I90*4) -> 0 | M90: =L90*(Rates!C$14+Rates!C$37+Rates!C$38) -> 0 | P90: =J90*Rates!$C$46 -> 0 | R90: =IF(SUM(S90:V90) > 0, D90, "")
A91: G-040 | B91: Duke Room | C91: Y | D91: 77.78 | E91: 3 | F91: =D91*E91 -> 233.34 | G91: 43.38 | H91: =G91*E91 -> 130.14 | I91: 10 | J91: 4 | K91: 4.5 | L91: =H91-K91-(I91*4) -> 85.64 | M91: =L91*(Rates!C$14+Rates!C$37+Rates!C$38) -> 890.656 | N91: =G91+I91*5 -> 93.38 | O91: =N91*(Rates!C$34+2*Rates!C$40) -> 854.427 | P91: =J91*Rates!$C$46 -> 240 | Q91: LVT | R91: =IF(SUM(S91:V91) > 0, D91, "") -> 77.78 | T91: =D91*(Rates!$C$6+Rates!$C$4) -> 6222.4 | W91: 600 Grid
A92: G-040A | B92: Corridor | C92: Y | D92: 5.13 | E92: 3 | F92: =D92*E92 -> 15.39 | G92: 12.24 | H92: =G92*E92 -> 36.72 | I92: 4 | J92: 4 | L92: =H92-K92-(I92*4) -> 20.72 | M92: =L92*(Rates!C$14+Rates!C$37+Rates!C$38) -> 215.488 | N92: =G92+I92*5 -> 32.24 | O92: =N92*(Rates!C$34+2*Rates!C$40) -> 294.996 | P92: =J92*Rates!$C$46 -> 240 | Q92: Vinyl | R92: =IF(SUM(S92:V92) > 0, D92, "") -> 5.13 | U92: =D92*(Rates!$C$4+Rates!$C$7) -> 307.8
A93: G-041 | B93: Bar | C93: N | D93: 21.87 | F93: =D93*E93 -> 0 | G93: 33.4 | H93: =G93*E93 -> 0 | L93: =H93-K93-(I93*4) -> 0 | M93: =L93*(Rates!C$14+Rates!C$37+Rates!C$38) -> 0 | P93: =J93*Rates!$C$46 -> 0 | R93: =IF(SUM(S93:V93) > 0, D93, "")
A94: G-041A | B94: Nightingale Suite | C94: Y | D94: 83.52 | E94: 3 | F94: =D94*E94 -> 250.56 | G94: 72 | H94: =G94*E94 -> 216 | I94: 12 | L94: =H94-K94-(I94*4) -> 168 | M94: =L94*(Rates!C$14+Rates!C$37+Rates!C$38) -> 1747.2 | N94: =G94+I94*5 -> 132 | O94: =N94*(Rates!C$34+2*Rates!C$40) -> 1207.8 | P94: =J94*Rates!$C$46 -> 0 | Q94: Wood | R94: =IF(SUM(S94:V94) > 0, D94, "") | W94: 600 Grid
A95: G-042 | B95: Restaurant | C95: Y | D95: 278.61 | E95: 3 | F95: =D95*E95 -> 835.83 | G95: 57 | H95: =G95*E95 -> 171 | I95: 10 | L95: =H95-K95-(I95*4) -> 131 | M95: =L95*(Rates!C$14+Rates!C$37+Rates!C$38) -> 1362.4 | N95: =G95+I95*5 -> 107 | O95: =N95*(Rates!C$34+2*Rates!C$40) -> 979.05 | P95: =J95*Rates!$C$46 -> 0 | Q95: Wood | R95: =IF(SUM(S95:V95) > 0, D95, "") | W95: Metal | X95: 167 | AB95: =X95*Rates!$C$50 -> 26073.71
A96: G-043 | B96: Office | C96: Y | D96: 14.52 | E96: 3 | F96: =D96*E96 -> 43.56 | G96: 15.6 | H96: =G96*E96 -> 46.8 | I96: 3 | J96: 1 | L96: =H96-K96-(I96*4) -> 34.8 | M96: =L96*(Rates!C$14+Rates!C$37+Rates!C$38) -> 361.92 | N96: =G96+I96*5 -> 30.6 | O96: =N96*(Rates!C$34+2*Rates!C$40) -> 279.99 | P96: =J96*Rates!$C$46 -> 60 | R96: =IF(SUM(S96:V96) > 0, D96, "") | W96: Hidden Grid | Y96: =D96*Rates!$C$48 -> 145.2 | Z96: =D96*Rates!$C$51 -> 871.2
A97: G-044 | B97: Office | C97: Y | D97: 7.52 | E97: 3 | F97: =D97*E97 -> 22.56 | G97: 11.64 | H97: =G97*E97 -> 34.92 | I97: 1 | J97: 1 | L97: =H97-K97-(I97*4) -> 30.92 | M97: =L97*(Rates!C$14+Rates!C$37+Rates!C$38) -> 321.568 | N97: =G97+I97*5 -> 16.64 | O97: =N97*(Rates!C$34+2*Rates!C$40) -> 152.256 | P97: =J97*Rates!$C$46 -> 60 | Q97: Carpet | R97: =IF(SUM(S97:V97) > 0, D97, "") -> 7.52 | S97: =D97*(Rates!$C$4+Rates!$C$5) -> 592.2752 | W97: Hidden Grid | Y97: =D97*Rates!$C$48 -> 75.2 | Z97: =D97*Rates!$C$51 -> 451.2
A98: G-048 | B98: Office | C98: Y | D98: 36.78 | E98: 3 | F98: =D98*E98 -> 110.34 | G98: 23.49 | H98: =G98*E98 -> 70.47 | I98: 3 | J98: 0 | L98: =H98-K98-(I98*4) -> 58.47 | M98: =L98*(Rates!C$14+Rates!C$37+Rates!C$38) -> 608.088 | N98: =G98+I98*5 -> 38.49 | O98: =N98*(Rates!C$34+2*Rates!C$40) -> 352.1835 | P98: =J98*Rates!$C$46 -> 0 | Q98: Carpet | R98: =IF(SUM(S98:V98) > 0, D98, "") -> 36.78 | S98: =D98*(Rates!$C$4+Rates!$C$5) -> 2896.7928 | W98: Hidden Grid | Y98: =D98*Rates!$C$48 -> 367.8 | Z98: =D98*Rates!$C$51 -> 2206.8
A99: G-049 | B99: Lobby | C99: Y | D99: 4.6 | E99: 3 | F99: =D99*E99 -> 13.8 | G99: 9.12 | H99: =G99*E99 -> 27.36 | I99: 1 | L99: =H99-K99-(I99*4) -> 23.36 | M99: =L99*(Rates!C$14+Rates!C$37+Rates!C$38) -> 242.944 | N99: =G99+I99*5 -> 14.12 | O99: =N99*(Rates!C$34+2*Rates!C$40) -> 129.198 | P99: =J99*Rates!$C$46 -> 0 | Q99: Carpet | R99: =IF(SUM(S99:V99) > 0, D99, "") -> 4.6 | S99: =D99*(Rates!$C$4+Rates!$C$5) -> 362.296 | W99: 600 Grid
A100: G-050 | B100: Office | C100: Y | D100: 20.89 | E100: 3 | F100: =D100*E100 -> 62.67 | G100: 18.44 | H100: =G100*E100 -> 55.32 | I100: 1 | L100: =H100-K100-(I100*4) -> 51.32 | M100: =L100*(Rates!C$14+Rates!C$37+Rates!C$38) -> 533.728 | N100: =G100+I100*5 -> 23.44 | O100: =N100*(Rates!C$34+2*Rates!C$40) -> 214.476 | P100: =J100*Rates!$C$46 -> 0 | Q100: Carpet | R100: =IF(SUM(S100:V100) > 0, D100, "") -> 20.89 | S100: =D100*(Rates!$C$4+Rates!$C$5) -> 1645.2964 | W100: 600 Grid
...

Sheet Floor 0
A2: Room Name | B2: =VLOOKUP(B3,'Room Data'!$A$3:$D$142,2) -> Public Entrance | C2: =VLOOKUP(C3,'Room Data'!$A$3:$D$142,2) -> Reception Area | D2: =VLOOKUP(D3,'Room Data'!$A$3:$D$142,2) -> Store | E2: =VLOOKUP(E3,'Room Data'!$A$3:$D$142,2) -> Corridor | F2: =VLOOKUP(F3,'Room Data'!$A$3:$D$142,2) -> Bowden Room | G2: =VLOOKUP(G3,'Room Data'!$A$3:$D$142,2) -> Office | H2: =VLOOKUP(H3,'Room Data'!$A$3:$D$142,2) -> Store | I2: =VLOOKUP(I3,'Room Data'!$A$3:$D$142,2) -> Office | ... BY2: =VLOOKUP(BY3,'Room Data'!$A$3:$D$142,2) -> WC | BZ2: Store
A3: Room No | B3: G-001 | C3: G-001A | D3: G-003 | E3: G-004 | F3: G-004A | G3: G-006 | H3: G-007 | I3: G-008 | J3: G-009 | K3: G-010 | L3: G-011 | M3: G-012 | N3: G-015 | O3: G-016 | P3: G-017 | Q3: G-018 | R3: G-019 | S3: G-020 | T3: G-021 | U3: G-022 | V3: G-023 | W3: G-024 | X3: G-025 | Y3: G-026 | Z3: G-027 | AA3: G-028 | AB3: G-029 | AC3: G-030 | AD3: G-031 | AE3: G-032 | AF3: G-033 | AG3: G-034 | AH3: G-035 | AI3: G-036 | AJ3: G-037 | AK3: G-038 | AL3: G-039 | AM3: G-040 | AN3: G-041 | AO3: G-041A | AP3: G-042 | AQ3: G-043 | AR3: G-044 | AS3: G-048 | AT3: G-049 | AU3: G-050 | AV3: G-051 | AW3: G-052 | AX3: G-053 | AY3: G-054 | AZ3: G-055 | BA3: G-056 | BB3: G-057 | BC3: G-060 | BD3: G-061 | BE3: G-062 | BF3: G-063A | BG3: G-064 | BH3: G-065 | BI3: G-066 | BJ3: G-067 | BK3: G-068 | BL3: G-069 | BM3: G-071 | BN3: G-072 | BO3: G-073 | BP3: G-074 | BQ3: G-075 | BR3: G-076 | BS3: G-077 | BT3: G-079 | BU3: G-080 | BV3: G-081 | BW3: G-081A | BX3: G-082 | BY3: G-083 | BZ3: G-088
A4: Area (m2) | B4: =VLOOKUP(B3,'Room Data'!$A$3:$D$142,4) -> 70.1 | C4: =VLOOKUP(C3,'Room Data'!$A$3:$D$142,4) -> 17.25 | D4: =VLOOKUP(D3,'Room Data'!$A$3:$D$142,4) -> 15.67 | E4: =VLOOKUP(E3,'Room Data'!$A$3:$D$142,4) -> 6 | F4: =VLOOKUP(F3,'Room Data'!$A$3:$D$142,4) -> 20.02 | G4: =VLOOKUP(G3,'Room Data'!$A$3:$D$142,4) -> 76.8 | H4: =VLOOKUP(H3,'Room Data'!$A$3:$D$142,4) -> 3.55 | I4: =VLOOKUP(I3,'Room Data'!$A$3:$D$142,4) -> 10.22 | ... BY4: =VLOOKUP(BY3,'Room Data'!$A$3:$D$142,4) -> 18.18 | BZ4: 14.64
A5: Height (m) | B5: 3 | C5: 3 | E5: 3 | F5: 3 | G5: 3 | I5: 3 | J5: 3 | K5: 3 | M5: 3 | Q5: 3 | R5: 3 | S5: 3 | T5: 3 | V5: 3 | W5: 3 | X5: 3 | Y5: 3 | Z5: 3 | AA5: 3 | AB5: 3 | AC5: 3 | AD5: 5 | AE5: 5 | AF5: 5 | AG5: 3 | AH5: 3 | AI5: 3 | AM5: 3 | AO5: 3 | AP5: 3 | AQ5: 3 | AR5: 3 | AS5: 3 | AT5: 3 | AU5: 3 | AV5: 3 | AW5: 3 | AZ5: 2.5 | BA5: 3 | BB5: 3 | BC5: 2.5 | BD5: 2.5 | BF5: 3 | BO5: 2.5 | BS5: 2.2 | BT5: 3 | BV5: 3 | BW5: 3
A6: Ceiling Specification See drawing 2403 | B6: No Works | C6: No Works | D6: Repair Only | E6: Remove existing. Supply and install new as per K40/115B. | F6: Remove existing. Supply and install new as per K40/115B. | G6: Remove existing. Supply and install new as per K40/115B. | H6: No Works | I6: Remove existing. Supply and install new as per K40/115B. | J6: Remove existing. Supply and install new as per K40/115B. | K6: Remove existing. Supply and install new as per K40/115B. | L6: Repair Only | N6: No Works | O6: No Works | P6: No Works | Q6: Remove existing. Supply and install new as per K40/115B. | S6: Remove existing. Supply and install new as per K40/115B. | T6: Remove existing. Supply and install new as per K40/115B. | U6: No works | V6: Remove existing. Supply and install new as per K40/115B. | W6: Remove existing. Supply and install new as per K40/115B. | X6: Remove existing tiles, retain grid and replace with new as per K45/370 | Y6: No Works | Z6: No Works | AA6: Remove existing. Supply and install new as per K40/115B. | AB6: Remove existing. Supply and install new as per K40/115B. | AD6: Remove existing. Supply and install new as per K40/115B. | AE6: Remove existing. Supply and install new as per K40/115B. | AF6: Remove existing. Supply and install new as per K40/115B. | AG6: No works | AH6: No works | AI6: No works | AJ6: No works | AK6: No works | AL6: No works | AM6: Remove existing. Supply and install new MF plasterboard ceiling as per K40/ | AQ6: Remove existing. Supply and install new as per K40/115B. | AR6: Remove existing. Supply and install new as per K40/115B. | AS6: Remove existing. Supply and install new as per K40/115B. | AW6: Remove existing. Supply and install new as per K40/115B. | AX6: No works | AY6: No works | AZ6: No works | BA6: Remove existing. Supply and install new as per K40/115B. | BB6: Remove existing. Supply and install new as per K40/115B. | BC6: No works | BD6: No works | BE6: No works | BF6: No works | BG6: No works | BH6: No works | BI6: No works | BJ6: No works | BK6: No works | BL6: No works | BM6: No works | BN6: No works | BO6: Remove existing. Supply and install new as per K40/115B. | BP6: No works | BQ6: No works | BR6: No works | BS6: No works | BT6: No works | BU6: No works | BV6: No works | BW6: No works | BX6: No works | BY6: No works | BZ6: No works
A7: Floor Specification See drawing 2603 | B7: No Works | C7: No Works | D7: No Works | E7: Uplift existing. Lay new Interface Transformation Fern carpet tiles (M50/130) | F7: Uplift existing. Lay new Interface Transformation Fern carpet tiles (M50/130) | G7: Uplift existing. Lay new Interface Transformation Fern carpet tiles (M50/130) | H7: No Works | I7: Uplift existing. Lay new Interface Transformation Fern carpet tiles (M50/130) | J7: Uplift existing. Lay new Interface Transformation Fern carpet tiles (M50/130) | K7: Uplift Existing. Lay new Altro Suprema vinyl floor in Cicely SY20006 (M50/150) | L7: No Works | M7: Uplift existing. Lay new Interface Transformation Fern carpet tiles (M50/130) | N7: No Works | O7: No Works | P7: No Works | Q7: Uplift Existing. Lay new Altro Suprema vinyl floor in Cicely SY20006 (M50/150) | R7: No Works | S7: Uplift Existing. Supply and lay new Heckmondwike Battleship carpet (M50/170) | T7: Uplift existing. Lay new Interface Transformation Fern carpet tiles (M50/130) | U7: No works | V7: Uplift existing. Lay new Interface Transformation Fern carpet tiles to stairs only (M50/130) Lay new Altro Suprema vinyl floor in Cicely SY20006 to lobby area (M50/150) | W7: Uplift Existing. Lay new Altro Suprema vinyl floor in Cicely SY20006 (M50/150) | X7: Uplift existing. Lay new Interface Transformation Fern carpet tiles (M50/130) | Y7: No Works | Z7: No Works | AA7: Uplift Existing. Lay new Altro Suprema vinyl floor in Cicely SY20006 (M50/150) | AB7: Uplift Existing. Lay new Altro Suprema vinyl floor in Cicely SY20006 (M50/150) | AC7: Uplift Existing. Lay new Altro Suprema vinyl floor in Cicely SY20006 (M50/150) | AD7: Uplift existing. Lay new Interface Transformation Fern carpet tiles (M50/130) Stair nosings as per M50/750 | AE7: Uplift existing. Lay new Interface Transformation Fern carpet tiles (M50/130) Stair nosings as per M50/750 | AF7: Uplift existing. Lay new Interface Transformation Fern carpet tiles (M50/130) Stair nosings as per M50/750 | AG7: Uplift existing. Lay new Interface Transformation Fern carpet tiles (M50/130) | AH7: Uplift existing. Lay new Interface Transformation Fern carpet tiles (M50/130) | AI7: Uplift existing. Lay new Interface Transformation Fern carpet tiles (M50/130) | AJ7: No Works | AK7: No Works | AL7: No Works | AM7: Uplift existing. Lay new LVT timber effect plank. Lay new vinyl flooring to bar area as per drawing. | AN7: Supply and lay new non slip vinyl, Altro Suprema. Allow to replace floor coverings to inspection chamber lids, but they are not to be lifted or replaced. | AO7: Allow to fully clean existing varnished timber floor, removing all wax residue. | AP7: Allow to fully clean existing varnished timber floor, removing all wax residue. | AQ7: No Works | AR7: Uplift existing. Lay new Interface Transformation Fern carpet tiles (M50/130) | AS7: Uplift existing. Lay new Interface Transformation Fern carpet tiles (M50/130) | AT7: Uplift existing. Lay new Interface Transformation Fern carpet tiles (M50/130) | AU7: Uplift existing. Lay new Interface Transformation Fern carpet tiles (M50/130) | AV7: Uplift existing. Lay new Interface Transformation Fern carpet tiles (M50/130) | AW7: Uplift existing. Lay new Interface Transformation Fern carpet tiles to stairs only (M50/130) Lay new Altro Suprema vinyl floor in Cicely SY20006 to lobby area (M50/150) | AX7: No works | AY7: No works | AZ7: No works | BA7: No works | BB7: Uplift Existing. Supply and lay new Heckmondwike Battleship carpet (M50/170) | BC7: No works | BD7: No works | BE7: No works | BF7: No works | BG7: No works | BH7: No works | BI7: No works | BJ7: No works | BK7: No works | BL7: No works | BM7: No works | BN7: No works | BO7: Uplift existing. Lay new Interface Transformation Fern carpet tiles (M50/130) | BP7: No works | BQ7: No works | BR7: No works | BS7: No works | BZ7: Supply and lay new non slip vinyl, Altro Suprema. Allow to replace floor coverings to inspection chamber lids, but they are not to be lifted or replaced.
A8: Skirting | B8: No Works | C8: Decorate: Dulux 93YY 89/012 White Eggshell (M60/150A) | D8: No Works | E8: Decorate: Dulux 93YY 89/012 White Eggshell (M60/150A) | F8: Decorate: Dulux 93YY 89/012 White Eggshell (M60/150A) | G8: Decorate: Dulux 93YY 89/012 White Eggshell (M60/150A) | H8: No Works | I8: Decorate: Dulux 93YY 89/012 White Eggshell (M60/150A) | J8: Decorate: Dulux 93YY 89/012 White Eggshell (M60/150A) | K8: Decorate: Dulux 93YY 89/012 White Eggshell (M60/150A) | L8: No Works | M8: Decorate: Dulux 93YY 89/012 White Eggshell (M60/150A) | N8: No Works | O8: No Works | P8: No Works | Q8: Decorate: Dulux 93YY 89/012 White Eggshell (M60/150A) | R8: No Works | S8: Decorate: Dulux 93YY 89/012 White Eggshell (M60/150A) | T8: Decorate: Dulux 93YY 89/012 White Eggshell (M60/150A) | U8: No Works | V8: Decorate: Dulux 93YY 89/012 White Eggshell (M60/150A) | W8: Decorate: Dulux 93YY 89/012 White Eggshell (M60/150A) | X8: Decorate: Dulux 93YY 89/012 White Eggshell (M60/150A) | Y8: No Works | Z8: No Works | AA8: No Works | AB8: Decorate: Dulux 93YY 89/012 White Eggshell (M60/150A) | AC8: Decorate: Dulux 93YY 89/012 White Eggshell (M60/150A) | AD8: Decorate: Dulux 93YY 89/012 White Eggshell (M60/150A) | AE8: Decorate: Dulux 93YY 89/012 White Eggshell (M60/150A) | AF8: Decorate: Dulux 93YY 89/012 White Eggshell (M60/150A) | AG8: Decorate: Dulux 93YY 89/012 White Eggshell (M60/150A) | AH8: Decorate: Dulux 93YY 89/012 White Eggshell (M60/150A) | AI8: Decorate: Dulux 93YY 89/012 White Eggshell (M60/150A) | AJ8: No Works | AK8: No Works | AL8: No Works | AM8: Deorate: Dulux | AN8: Deorate: Dulux | AO8: Decorate: Dulux 93YY 89/012 White Eggshell (M60/150A) | AP8: Decorate: Dulux 93YY 89/012 White Eggshell (M60/150A) | AQ8: Decorate: Dulux 93YY 89/012 White Eggshell (M60/150A) | AR8: Decorate: Dulux 93YY 89/012 White Eggshell (M60/150A) | AS8: Decorate: Dulux 93YY 89/012 White Eggshell (M60/150A) | AT8: Decorate: Dulux 93YY 89/012 White Eggshell (M60/150A) | AU8: Decorate: Dulux 93YY 89/012 White Eggshell (M60/150A) | AV8: Decorate: Dulux 93YY 89/012 White Eggshell (M60/150A) | AW8: Decorate: Dulux 93YY 89/012 White Eggshell (M60/150A) | BA8: Decorate: Dulux 93YY 89/012 White Eggshell (M60/150A) | BB8: Decorate: Dulux 93YY 89/012 White Eggshell (M60/150A) | BN8: Decorate: Dulux 93YY 89/012 White Eggshell (M60/150A) | BO8: Decorate: Dulux 93YY 89/012 White Eggshell (M60/150A) | BR8: Decorate: Dulux 93YY 89/012 White Eggshell (M60/150A) | BV8: Decorate: Dulux 93YY 89/012 White Eggshell (M60/150A)
A9: Architrave | C9: Decorate: Dulux 50RR 54/018. (RAL 860-3) (M60/150A) | D9: No Works | E9: Decorate: Dulux 50RR 54/018. (RAL 860-3) (M60/150A) | F9: Decorate: Dulux 50RR 54/018. (RAL 860-3) (M60/150A) | G9: Decorate: Dulux 50RR 54/018. (RAL 860-3) (M60/150A) | H9: No Works | I9: Decorate: Dulux 50RR 54/018. (RAL 860-3) (M60/150A) | J9: Decorate: Dulux 50RR 54/018. (RAL 860-3) (M60/150A) | K9: Decorate: Dulux 50RR 54/018. (RAL 860-3) (M60/150A) | L9: No Works | M9: Decorate: Dulux 50RR 54/018. (RAL 860-3) (M60/150A) | N9: No Works | O9: No Works | P9: No Works | Q9: Decorate: Dulux 50RR 54/018. (RAL 860-3) (M60/150A) | R9: No Works | S9: Decorate: Dulux 50RR 54/018. (RAL 860-3) (M60/150A) | T9: Decorate: Dulux 50RR 54/018. (RAL 860-3) (M60/150A) | U9: No Works | V9: Decorate: Dulux 50RR 54/018. (RAL 860-3) (M60/150A) | W9: Decorate: Dulux 50RR 54/018. (RAL 860-3) (M60/150A) | X9: Decorate: Dulux 50RR 54/018. (RAL 860-3) (M60/150A) | Y9: No Works | Z9: No Works | AA9: No Works | AB9: Decorate: Dulux 50RR 54/018. (RAL 860-3) (M60/150A) | AC9: Decorate: Dulux 50RR 54/018. (RAL 860-3) (M60/150A) | AD9: Decorate: Dulux 50RR 54/018. (RAL 860-3) (M60/150A) | AE9: Decorate: Dulux 50RR 54/018. (RAL 860-3) (M60/150A) | AF9: Decorate: Dulux 50RR 54/018. (RAL 860-3) (M60/150A) | AG9: Decorate: Dulux 50RR 54/018. (RAL 860-3) (M60/150A) | AH9: Decorate: Dulux 50RR 54/018. (RAL 860-3) (M60/150A) | AI9: Decorate: Dulux 50RR 54/018. (RAL 860-3) (M60/150A) | AJ9: No Works | AK9: No Works | AL9: No Works | AM9: No Works | AN9: No Works | AO9: Decorate: Dulux 50RR 54/018. (RAL 860-3) (M60/150A) | AP9: Decorate: Dulux 50RR 54/018. (RAL 860-3) (M60/150A) | AQ9: Decorate: Dulux 50RR 54/018. (RAL 860-3) (M60/150A) | AR9: Decorate: Dulux 50RR 54/018. (RAL 860-3) (M60/150A) | AS9: Decorate: Dulux 50RR 54/018. (RAL 860-3) (M60/150A) | AT9: Decorate: Dulux 50RR 54/018. (RAL 860-3) (M60/150A) | AU9: Decorate: Dulux 50RR 54/018. (RAL 860-3) (M60/150A) | AV9: Decorate: Dulux 50RR 54/018. (RAL 860-3) (M60/150A) | AW9: Decorate: Dulux 50RR 54/018. (RAL 860-3) (M60/150A) | BA9: Decorate: Dulux 50RR 54/018. (RAL 860-3) (M60/150A) | BB9: Decorate: Dulux 50RR 54/018. (RAL 860-3) (M60/150A) | BN9: Decorate: Dulux 50RR 54/018. (RAL 860-3) (M60/150A) | BO9: Decorate: Dulux 50RR 54/018. (RAL 860-3) (M60/150A) | BR9: Decorate: Dulux 50RR 54/018. (RAL 860-3) (M60/150A) | BV9: Decorate: Dulux 50RR 54/018. (RAL 860-3) (M60/150A)
A10: Wall Spec | B10: Decorate: Dulux Pure Brilliant White Matt Emulsion (M60/110A). Blue feature wall to remain. | C10: Decorate: Dulux Pure Brilliant White Matt Emulsion (M60/110A) Blue feature wall to remain. | D10: No Works | E10: Decorate: Dulux Pure Brilliant White Matt Emulsion (M60/110A) | F10: Decorate: Dulux Pure Brilliant White Matt Emulsion (M60/110A) | G10: Decorate: Dulux Pure Brilliant White Matt Emulsion (M60/110A) | H10: No Works | I10: Decorate: Dulux Pure Brilliant White Matt Emulsion (M60/110A) | J10: Decorate: Dulux Pure Brilliant White Matt Emulsion (M60/110A) | K10: Decorate: Dulux Pure Brilliant White Matt Emulsion (M60/110A) | L10: No Works | M10: Decorate: Dulux Pure Brilliant White Matt Emulsion (M60/110A) | N10: No Works | O10: No Works | P10: No Works | Q10: Decorate: Dulux Pure Brilliant White Matt Emulsion (M60/110A) | R10: No Works | S10: Decorate: Dulux Pure Brilliant White Matt Emulsion (M60/110A) | T10: Decorate: Dulux Pure Brilliant White Matt Emulsion (M60/110A) | U10: No works | V10: Decorate: Dulux Pure Brilliant White Matt Emulsion (M60/110A) | W10: Decorate: Dulux Pure Brilliant White Matt Emulsion (M60/110A) | X10: Decorate: Dulux Pure Brilliant White Matt Emulsion (M60/110A) | Y10: No works | Z10: No works | AA10: Decorate: Dulux Pure Brilliant White Matt Emulsion (M60/110A) | AB10: Decorate: Dulux Pure Brilliant White Matt Emulsion (M60/110A) | AC10: Decorate: Dulux Pure Brilliant White Matt Emulsion (M60/110A) | AD10: Decorate: Dulux Pure Brilliant White Matt Emulsion (M60/110A) | AE10: Decorate: Dulux Pure Brilliant White Matt Emulsion (M60/110A) | AF10: Decorate: Dulux Pure Brilliant White Matt Emulsion (M60/110A) | AG10: Decorate: Dulux Pure Brilliant White Matt Emulsion (M60/110A) | AH10: Decorate: Dulux Pure Brilliant White Matt Emulsion (M60/110A) | AI10: Decorate: Dulux Pure Brilliant White Matt Emulsion (M60/110A) | AJ10: No works | AK10: No works | AL10: No works | AM10: Decorate: Dulux eggshell, colour Dulux Dried Sage - 90YY 35/169 (M60/150) | AN10: Decorate: Dulux eggshell, colour Dulux Dried Sage - 90YY 35/169 (M60/150) | AO10: Decorate: Dulux Pure Brilliant White Matt Emulsion (M60/110A) | AP10: Decorate: Dulux Pure Brilliant White Matt Emulsion (M60/110A) | AQ10: Decorate: Dulux Pure Brilliant White Matt Emulsion (M60/110A) | AR10: Decorate: Dulux Pure Brilliant White Matt Emulsion (M60/110A) | AS10: Decorate: Dulux Pure Brilliant White Matt Emulsion (M60/110A) | AT10: Decorate: Dulux Pure Brilliant White Matt Emulsion (M60/110A) | AU10: Decorate: Dulux Pure Brilliant White Matt Emulsion (M60/110A) | AV10: Decorate: Dulux Pure Brilliant White Matt Emulsion (M60/110A) | AW10: Decorate: Dulux Pure Brilliant White Matt Emulsion (M60/110A) | AX10: No works | AY10: No works | AZ10: No works | BA10: Decorate: Dulux Pure Brilliant White Matt Emulsion (M60/110A) | BB10: Decorate: Dulux Pure Brilliant White Matt Emulsion (M60/110A) | BC10: No works | BD10: No works | BE10: No works | BF10: No works | BG10: No works | BH10: No works | BI10: No works | BJ10: No works | BK10: No works | BL10: No works | BM10: No works | BN10: Decorate: Dulux Pure Brilliant White Matt Emulsion (M60/110A) | BO10: Decorate: Dulux Pure Brilliant White Matt Emulsion (M60/110A) | BP10: No works | BQ10: No works | BR10: Decorate: Dulux Pure Brilliant White Matt Emulsion (M60/110A) | BS10: No works | BT10: No works | BU10: No works | BV10: Decorate: Dulux Pure Brilliant White Matt Emulsion (M60/110A) | BW10: No works | BX10: No works | BY10: No works
A11: Metalwork | B11: None | C11: None | D11: None | E11: None | F11: None | G11: None | H11: None | I11: None | J11: None | K11: None | L11: None | M11: None | N11: None | O11: None | P11: None | Q11: None | R11: None | S11: None | T11: None | U11: None | V11: None | W11: None | X11: None | Y11: None | Z11: None | AA11: None | AB11: None | AC11: None | AD11: None | AE11: None | AF11: None | AG11: None | AH11: None | AP11: Decorate: Dulux Pure Brilliant White Gloss (M60/130)
A12: Wall Protection | E12: None | K12: Altro Fortis Titanium, Colour FT/41 Perl (M50/110)
A13: Door Spec | B13: No Works
A14: Blind Spec | L14: N/A

Sheet Floor 1
A2: Room Name | B2: =VLOOKUP(B3,'Room Data'!$A$3:$D$142,2) -> Stairs | C2: =VLOOKUP(C3,'Room Data'!$A$3:$D$142,2) -> Longmore Room | D2: =VLOOKUP(D3,'Room Data'!$A$3:$D$142,2) -> Office | E2: =VLOOKUP(E3,'Room Data'!$A$3:$D$142,2) -> Office | F2: =VLOOKUP(F3,'Room Data'!$A$3:$D$142,2) -> Classroom | G2: =VLOOKUP(G3,'Room Data'!$A$3:$D$142,2) -> Corridor/stairs | H2: =VLOOKUP(H3,'Room Data'!$A$3:$D$142,2) -> WC | I2: =VLOOKUP(I3,'Room Data'!$A$3:$D$142,2) -> Lobby | ... AU2: =VLOOKUP(AU3,'Room Data'!$A$3:$D$142,2) -> Corridor
A3: Room No | B3: 1-001 | C3: 1-002 | D3: 1-003 | E3: 1-004 | F3: 1-005 | G3: 1-006 | H3: 1-007 | I3: 1-008 | J3: 1-009 | K3: 1-010 | L3: 1-011 | M3: 1-012 | N3: 1-013 | O3: 1-014 | P3: 1-015 | Q3: 1-016 | R3: 1-016B | S3: 1-017 | T3: 1-018 | U3: 1-018A | V3: 1-019 | W3: 1-020 | X3: 1-021 | Y3: 1-022 | Z3: 1-023 | AA3: 1-024 | AB3: 1-025 | AC3: 1-026 | AD3: 1-027 | AE3: 1-028 | AF3: 1-029 | AG3: 1-030 | AH3: 1-031 | AI3: 1-032 | AJ3: 1-033 | AK3: 1-034 | AL3: 1-035 | AM3: 1-036 | AN3: 1-038 | AO3: 1-039 | AP3: 1-040 | AQ3: 1-041 | AR3: 1-042 | AS3: 1-043 | AT3: 1-044 | AU3: 1-045
A4: Area (m2) | B4: =VLOOKUP(B3,'Room Data'!$A$3:$D$142,4) -> 12.76 | C4: =VLOOKUP(C3,'Room Data'!$A$3:$D$142,4) -> 85.25 | D4: =VLOOKUP(D3,'Room Data'!$A$3:$D$142,4) -> 18.46 | E4: =VLOOKUP(E3,'Room Data'!$A$3:$D$142,4) -> 42.78 | F4: =VLOOKUP(F3,'Room Data'!$A$3:$D$142,4) -> 54.17 | G4: =VLOOKUP(G3,'Room Data'!$A$3:$D$142,4) -> 26.9 | H4: =VLOOKUP(H3,'Room Data'!$A$3:$D$142,4) -> 20.18 | I4: =VLOOKUP(I3,'Room Data'!$A$3:$D$142,4) -> 3.45 | ... AU4: =VLOOKUP(AU3,'Room Data'!$A$3:$D$142,4) -> 174.97
A5: Height | C5: 4 | D5: 2.3 | E5: 2.3 | F5: 3 | G5: 2.5 | H5: 2.5 | I5: 2.5 | J5: 3 | K5: 2.5 | L5: 2.5 | M5: 2.5 | N5: 3 | O5: 3 | P5: 3 | Q5: 3 | R5: 3 | S5: 3 | T5: 3 | U5: 3 | V5: 3 | W5: 2.5 | X5: 2.5 | Y5: 3 | Z5: 3 | AA5: 3 | AB5: 3 | AC5: 3 | AD5: 3 | AE5: 3.2 | AF5: 3.2 | AG5: 3.2 | AH5: 3.2 | AI5: 2.5 | AJ5: 2.5 | AK5: 3.2 | AL5: 3.2 | AM5: 3.2 | AN5: 3.2 | AO5: 2.5 | AR5: 3.2 | AS5: 2.3 | AT5: 2.3 | AU5: 3
A6: Ceiling Specification See drawing 2404 | B6: No Works | C6: Remove existing. Supply and install new as per K40/115B. | D6: Make good, paint as per M60/110. | E6: Make good, paint as per M60/110. | F6: Remove existing. Supply and install new as per K40/115B. | G6: Remove existing. Supply and install new as per K40/115B. | H6: Repair Only | I6: Make good, paint as per M60/110. | J6: Remove existing. Supply and install new as per K40/115B. | K6: Remove existing. Supply and install new as per K40/115B. | L6: Repair Only | M6: Make good, paint as per M60/110. | N6: Repair Only | O6: No Works | P6: Remove existing. Supply and install new as per K40/115B. | Q6: Remove existing. Supply and install new as per K40/115B. | R6: Remove existing. Supply and install new as per K40/115B. | S6: Remove existing. Supply and install new as per K40/115B. | T6: Repair Only | U6: Repair Only | V6: Repair Only | W6: No works | X6: No works | Y6: Remove existing. Supply and install new as per K40/115B. | Z6: Remove existing. Supply and install new as per K40/115B. | AA6: Remove existing. Supply and install new as per K40/115B. | AB6: No Works | AC6: Remove existing. Supply and install new as per K40/115B. | AD6: Remove existing. Supply and install new as per K40/115B. | AE6: Remove existing. Supply and install new as per K40/115B. | AF6: Remove existing. Supply and install new as per K40/115B. | AI6: Repair Only | AJ6: Make good, paint as per M60/110. | AK6: Remove existing. Supply and install new as per K40/115B. | AL6: Remove existing. Supply and install new as per K40/115B. | AM6: Remove existing. Supply and install new as per K40/115B. | AN6: Remove existing. Supply and install new as per K40/115B. | AO6: Repair Only | AP6: Repair Only | AQ6: Repair Only | AR6: Remove existing. Supply and install new as per K40/115B. | AS6: Make good, paint as per M60/110. | AT6: Make good, paint as per M60/110. | AU6: Repair metal grid where damaged by fire alarm / lighting installation. Remove existing small sections of hidden grid mineral fibre ceiling. Supply and install new as per K40/115B.
A7: Floor Specification See drawing 2604 | B7: Uplift existing. Lay new Interface Transformation Fern carpet tiles (M50/130) Stair nosings as per M50/750 | C7: Uplift existing. Lay new Interface Transformation Fern carpet tiles (M50/130) | D7: Uplift existing. Lay new Interface Transformation Fern carpet tiles (M50/130) | E7: Uplift existing. Lay new Interface Transformation Fern carpet tiles (M50/130) | G7: Uplift existing. Lay new Interface Transformation Fern carpet tiles (M50/130) | H7: No Works | I7: No works | J7: Uplift existing. Lay new Interface Transformation Fern carpet tiles (M50/130) | K7: Uplift Existing. Lay new Altro Suprema vinyl floor in Cicely SY20006 | L7: No Works | M7: Uplift existing. Lay new Interface Transformation Fern carpet tiles (M50/130) | N7: No Works | O7: No Works | P7: No Works | Q7: Uplift Existing. Lay new Altro Suprema vinyl floor in Cicely SY20006 (M50/150) | R7: Uplift existing. Lay new Interface Transformation Fern carpet tiles (M50/130) | S7: No Works | T7: Uplift Existing. Supply and lay new Heckmondwike Battleship carpet (M50/170) | V7: Uplift existing. Lay new Interface Transformation Fern carpet tiles (M50/130) | X7: Uplift existing. Lay new Interface Transformation Fern carpet tiles to stairs only (M50/130) Lay new Altro Suprema vinyl floor in Cicely SY20006 to lobby area (M50/150) | Y7: Uplift Existing. Lay new Altro Suprema vinyl floor in Cicely SY20006 (M50/150) | Z7: Uplift existing. Lay new Interface Transformation Fern carpet tiles (M50/130) | AA7: No Works | AB7: No Works | AC7: Uplift Existing. Lay new Altro Suprema vinyl floor in Cicely SY20006 (M50/150) | AD7: Uplift Existing. Lay new Altro Suprema vinyl floor in Cicely SY20006 (M50/150) | AE7: Uplift Existing. Lay new Altro Suprema vinyl floor in Cicely SY20006 (M50/150)
A8: Skirting | B8: No Works | C8: Decorate: Dulux 93YY 89/012 White Eggshell | D8: No Works | E8: Decorate: Dulux 93YY 89/012 White Eggshell (M60/150A) | F8: Decorate: Dulux 93YY 89/012 White Eggshell (M60/150A) | G8: Decorate: Dulux 93YY 89/012 White Eggshell (M60/150A) | H8: No Works | I8: Decorate: Dulux 93YY 89/012 White Eggshell | J8: Decorate: Dulux 93YY 89/012 White Eggshell | K8: Decorate: Dulux 93YY 89/012 White Eggshell | L8: No Works | M8: Decorate: Dulux 93YY 89/012 White Eggshell | N8: No Works | O8: No Works | P8: No Works | Q8: Decorate: Dulux 93YY 89/012 White Eggshell | S8: No Works
A9: Architrave | D9: No Works | E9: Decorate: Dulux 50RR 54/018. (RAL 860-3) (M60/150A) | F9: Decorate: Dulux 50RR 54/018. (RAL 860-3) (M60/150A) | G9: Decorate: Dulux 50RR 54/018. (RAL 860-3) (M60/150A) | H9: No Works | I9: Decorate: Dulux 50RR 54/018. (RAL 860-3) | J9: Decorate: Dulux 50RR 54/018. (RAL 860-3) | K9: Decorate: Dulux 50RR 54/018. (RAL 860-3) | L9: No Works | M9: Decorate: Dulux 50RR 54/018. (RAL 860-3) | N9: No Works | O9: No Works | P9: No Works | Q9: Decorate: Dulux 50RR 54/018. (RAL 860-3) | S9: No Works
A10: Wall Spec | B10: Decorate: Dulux Pure Brilliant White Matt Emulsion. Blue feature wall to remain | C10: Decorate: Dulux Pure Brilliant White Matt Emulsion | D10: No Works | E10: Decorate: Dulux Pure Brilliant White Matt Emulsion (M60/110A) | F10: Decorate: Dulux Pure Brilliant White Matt Emulsion (M60/110A) | G10: Decorate: Dulux Pure Brilliant White Matt Emulsion (M60/110A) | H10: No Works | I10: Decorate: Dulux Pure Brilliant White Matt Emulsion | J10: Decorate: Dulux Pure Brilliant White Matt Emulsion | K10: Decorate: Dulux Pure Brilliant White Matt Emulsion | L10: No Works | M10: Decorate: Dulux Pure Brilliant White Matt Emulsion | N10: No Works | O10: No Works | P10: No Works | Q10: Decorate: Dulux Pure Brilliant White Matt Emulsion | S10: No Works
A11: Metalwork | B11: Decorate: Dulux Pure Brilliant White Gloss (M60/130) | E11: None | F11: None | G11: None | T11: Decorate: Dulux Pure Brilliant White Gloss (M60/130) | U11: Decorate: Dulux Pure Brilliant White Gloss (M60/130) | AU11: Decorate: Dulux Pure Brilliant White Gloss (M60/130)
A12: Wall Protection | E12: None
A13: Door Spec | B13: No Works
A14: Blind Spec | L14: N/A

Sheet Rates
A3: 1 | B3: Flooring | C3: Rate
A4: 1.1 | B4: Uplift carpet or carpet tiles and cart away | C4: 10
A5: 1.2 | B5: Latex floor, supply and install new carpet tiles. | C5: 68.76 | I5: 45757.2 | J5: =I5/C5 -> 665.46248
A6: 1.3 | B6: Prepare floor, supply and lay glue down LVT flooring. | C6: 70 | I6: 6222.4 | J6: =I6/C6 -> 88.891429
A7: 1.4 | B7: Prepare floor, supply and lay new vinyl flooring. | C7: 50 | I7: 10149 | J7: =I7/C7 -> 202.98
A8: 1.5 | B8: Prepare floor, supply and lay new Barrier matting. | C8: 55 | I8: 2956.85 | J8: =I8/C8 -> 53.760909
A13: 2 | B13: Decoration
A14: 2.1 | B14: Wet and clean down painted wall | C14: 1.32
B15: Remove poorly adhering, flaky, powdery, friable paint cut back to a firm edge; stop in cracks and rub down; one coat acrylic primer/undercoat; walls | C15: 16.973 | I15: 4277.7 | J15: =I15/C48 -> 427.77
B16: Emulsion
B18: Apply white vinyl matt emulsion paint to plastered wall
B19: Apply 1st coat to old painted surfaces | C19: 3.608
B20: Apply additional coat | C20: 3.608
B22: Apply coloured vinyl matt emulsion paint to plastered wall
B23: Apply 1st coat to old painted surfaces | C23: 3.608
B24: Apply additional coat | C24: 3.608
B25: Apply white vinyl silk emulsion paint to plastered ceiling
B26: apply 1st coat to old painted surfaces | C26: 3.773
B27: apply additional coat | C27: 3.773
B28: Apply white vinyl silk emulsion to Artex surfaces
B29: 1st coat on prepared surface | C29: 15.19
B30: Frames, Skirting etc
B31: Clean down and prepare painted wood surfaces
B32: general surfaces | C32: 3.06
B33: frames, etc. not exceeding 150mm girth | C33: 1.53
B34: frames, etc. 150 - 300mm girth | C34: 2.15
B35: Eggshell finish paint
B36: Apply white eggshell paint to plaster or plasterboard walls
B37: to prepared surface, first coat | C37: 4.76 | D37: m2
B38: 2nd coat | C38: 4.32 | D38: m2
B39: frames, etc. not exceeding 150mm girth | C39: 2.8 | D39: m | E39: JJ Rate
B40: frames, etc. 150 - 300mm girth | C40: 3.5 | D40: m | E40: JJ Rate
B41: Gloss
B42: general surfaces | C42: 6.92 | D42: m2
B43: frames, etc. not exceeding 150mm girth | C43: 3.18 | D43: m
B44: frames, etc. 150 - 300mm girth | C44: 4.82 | D44: m
B46: Prepare and decorate a door - 826 x 2040 both sides. | C46: 60
B47: Ceiling
B48: Take down hidden grid ceiling and skip | C48: 10
B49: Supply and fit new suspended ceilings
B50: perforated metal planks | C50: 156.13
B51: good quality 600 x 600mm boards | C51: 60
B55: Auditoria Services
B56: 98 No. LT4 Lecture theatre chairs fully upholstered with continuous writing ledges to the rear. | C56: 20448.45
B57: Upgrade for LT5 | C57: 2998.8

Sheet Door Schedule
B2: Fire Rating | C2: No of leaves | D2: Painted | E2: Paint (£)
A3: D001 | C3: 2 | D3: No | E3: =IF(D3="Yes", (C3*Rates!$C$46), 0) -> 0
A4: D002 | C4: 1.5 | D4: Yes | E4: =IF(D4="Yes", (C4*Rates!$C$46), 0) -> 90
A5: D003 | C5: 1 | D5: Yes | E5: =IF(D5="Yes", (C5*Rates!$C$46), 0) -> 60
A6: D004 | C6: 1 | D6: Yes | E6: =IF(D6="Yes", (C6*Rates!$C$46), 0) -> 60
A7: D005 | C7: 1 | D7: Yes | E7: =IF(D7="Yes", (C7*Rates!$C$46), 0) -> 60
A8: D006 | C8: 1 | D8: Yes | E8: =IF(D8="Yes", (C8*Rates!$C$46), 0) -> 60
A9: D007 | C9: 1 | D9: Yes | E9: =IF(D9="Yes", (C9*Rates!$C$46), 0) -> 60
A10: D008 | C10: 1 | D10: Yes | E10: =IF(D10="Yes", (C10*Rates!$C$46), 0) -> 60
A11: D009 | C11: 2 | D11: No | E11: =IF(D11="Yes", (C11*Rates!$C$46), 0) -> 0
A12: D010 | C12: 1 | D12: Yes | E12: =IF(D12="Yes", (C12*Rates!$C$46), 0) -> 60
A13: D011 | C13: 1 | D13: Yes | E13: =IF(D13="Yes", (C13*Rates!$C$46), 0) -> 60
A14: D012 | C14: 1 | D14: Yes | E14: =IF(D14="Yes", (C14*Rates!$C$46), 0) -> 60
... A134: D1-58 | C134: 1 | D134: Yes | E134: =IF(D134="Yes", (C134*Rates!$C$46), 0) -> 60
E136: =SUM(E3:E134) -> 8760
D138: Ground | E138: =SUM(E3:E76) -> 4920
D139: First | E139: =SUM(E77:E134) -> 3840
