Workbook

Sheet Intro
M12: Image Source: Neil Howard The River Itchen near Winchester Copyright: © Neil Howard 2012

Sheet Background
B3: Background
B7: There have been a series of court cases in recent years relating to how new plans or projects interact with the Habitats Regulations process where there are existing high levels of background nutrients. These decisions have led Natural England to review its advice on water quality effects on Habitats sites.
B8: The additional nutrient load from the increase in wastewater and/or the change in the land use of the development land created by a new residential development can create an impact pathway for potential negative effects on Habitats sites that are already suffering from problems related to nutrient loading. This impact pathway is shown diagrammatically in Figure 1.
B34: Habitats Regulations Assessments (HRAs) of new residential developments need to consider whether nutrient loading will result in ‘Likely Significant Effects’ (LSE) on a Habitats site. If an HRA finds LSE due to nutrient loading, the Appropriate Assessment will need to consider whether this nutrient load needs to be mitigated in order to remove adverse effects on the Habitats site.
B35: The first step in an HRA involving nutrient neutrality is understanding both whether a residential development will need mitigation to achieve nutrient neutrality and, if so, the amount of nutrients that require mitigating on an annual basis. In order to understand the amount of nutrients a new residential development will create, a nutrient budget for the development is required.
B36: This tool provides a step-by-step approach to calculating the nutrient budget for a new residential development. Before a nutrient budget can be completed using the methodology, certain site-specific details for the Habitats Site in question need to be determined. The required details for each stage of the nutrient budget methodology are shown in the instructions tab, with an associated guidance document that informs users of this calculator how to generate certain inputs to the calculator.

Sheet River Itchen SAC
B3: River Itchen Special Area of Conservation (SAC)
B6: The River Itchen SAC is a Habitats site with water pollution and eutrophication considered as a threat to its condition.
B7: The Itchen is a chalk river, which is a rare type of river habitat that can support a diverse ecology along its entire length.
B8: The river’s vegetation is exceptionally species rich, with many of the typical chalk stream plants present in abundance, including species such as river water-crowfoot and stream water-crowfoot.
B9: The river is rich in invertebrates, including Southern Damselfly, and supports diverse populations of aquatic molluscs. The Itchen supports one of the few populations of the native freshwater crayfish remaining in the rivers of southern England, along with fish species such as Atlantic salmon, bullhead and brook lamprey, along with a population of otters.
B10: Increased levels of nitrogen and phosphorus entering aquatic environments via surface water and groundwater can severely threaten these sensitive habitats and species within the SAC. The elevated levels of nutrients can cause eutrophication, leading to algal blooms which disrupt normal ecosystem function and cause major changes in the aquatic community. These algal blooms can result in reduced levels of oxygen within the water, which in turn can lead to the death of many aquatic organisms including invertebrates and fish.
B11: More detailed information on the qualifying features of the SAC and details of water quality data highlighting the current nutrient problems in the river are available in the Natural England River Itchen SAC evidence summary.

Sheet Instructions
B3: Instructions
B7: The nutrient budget for a site is calculated in four stages, with each stage implemented in the following worksheets.
B20: 1. General tips:
C22: Key:
D23: Values to be entered by the user
D24: Fixed or calculated values
D25: Lookup tables
B27: When a cell is selected, instructions are shown on how to fill out the cell:
B37: It is advisable to retain a blank copy of this workbook and "Save as" a new copy each time you calculate a budget, in case of any mistakes in data inputs or to ease calculation of new nutrient budgets .
B39: Note:
B40: The values already included in this tool have been chosen based on research to determine suitable inputs to the nutrient budget that meet the HRA tests of beyond reasonable scientific doubt, in perpetuity (practically speaking this is 80-125 years) and in accordance with the precautionary principle. If editing any values in this tool, you must make sure there is a sufficient evidence base to justify these changes and that the new inputs are selected in accordance with the precautionary principle.
B42: 2. Stage specific instructions:
B44: 2.1 Stage 1: calculate the new nutrient load associated with the additional wastewater:
B46: In this section the user will need to enter:
B47: The date of first occupancy. This is because some wastewater treatment works (WwTW) may be due an upgrade in 2025 which will change the nutrient concentration permit values. This will be shown through two values for the permits and nutrients load from before and after the upgrade.
B48: The average occupancy rate of the development will need to be entered. The default setting is the national occupancy rate of 2.4 people per dwelling/unit. Only change this value if there is sufficient evidence that the development will be different to the national average.
B49: The number of dwellings/units that will be in the development at the time of completion.
B50: Whether the catchment of the proposed development has a deductible acceptable loading or not.
B51: The receiving WwTW that the development will drain to. If it is uncertain what WwTW the site will drain to, please find this information from your sewerage company before completing the calculator. If it is not feasable to connect to a WwTW and a septic tank or package treatment plant is being used, please select this option. Please be aware that if the total nitrogen (TN) or total phosphorus (TP) final effluent concentrations (in mg/l) are specified by the manufacturer, please select 'Septic Tank user defined' or 'Package Treatment Plant user defined' and enter the manufacturer specified value in the cell where prompted.
... B75: 3.1 Instructions for finding the Operational Catchment that the development is situated within:
B76: a) Go to this link: | D76: http://environment.data.gov.uk/catchment-planning/
B77: b) Search the location by place name, postcode etc. This will give a high-level view of the area. Use the zoom feature to find the exact location of the development.
B78: c) Click on the light blue area on the map in which the development is located. This will bring the user to the Operational Catchment page
B79: d) Make note of the name of the Operational Catchment and select it from the dropdown list in the relevant cell.
B81: 3.2 Instructions for finding the drainage associated with the predominant soil type within development site:
B82: a) Go to this link: | D82: http://www.landis.org.uk/soilscapes/#.
B83: b) Find the site location on the map by using the search bar on the right side of the map in the 'Search' tab. Searching an area will generate a pop up window in which you can view the soil information by clicking 'View soil information'. If this is not an option then click on the relevant soil type on the map and click on the 'Soil information' tab on the right hand side of the map, below the 'Search' tab.
B84: c) The 'Soil drainage type' value can be found In the 'Soil information' under the title 'Drainage:'
B85: d) Make a note of this soil type and select the relevant soil drainage type from the drop down list in the relevant cell.
B87: 3.3 Instructions for finding the annual average rainfall that the development will receive using the National River Flow Archive:
B88: a) Go to this link: | D88: https://nrfa.ceh.ac.uk/data/station/spatial/42023
B89: b) This link will bring the user to the Itchen at Riverside Park flow gauge catchment information page.
B90: c) Click on the dropdown list next to the title 'Select spatial data type to view:' on the left of the map and select 'Rainfall'. Next select the Legend tab.
B91: d) Zoom in on the map to find the location of the development and find the corresponding rainfall range from the Legend.
B92: e) Select the rainfall band from the drop down list in the table. If your rainfall band is not in the drop down list, please select the closest band shown in the list.
B94: 3.4 Instructions for finding out whether the development is in a Nitrate Vulnerable Zone (NVZ):
B95: a) Go to this link: | D95: http://mapapps2.bgs.ac.uk/ukso/home.html?layers=NVZEng
B96: b) Enter the location of the development site in the search bar.
B97: c) Once the area has been located, click on the map where the development is located to find out if is within an NVZ.
B98: d) Make note of this and select this in the dropdown list.

Sheet Development site details
B3: Development site details
C7: Date (dd/mm/yyyy): | D7: 45321
C8: Site Name: | D8: Black Horse Inn
C9: Planning Application number: | D9: 23/02770/FUL
C10: Site Address: | D10: Black Horse, 47 Main Road, Colden Common, Winchester, Hampshire SO21 1RP

Sheet Stage 1
B3: Stage 1
C7: User Inputs
C9: Date of first occupancy: | D9: 45689
C10: Average occupancy rate: | D10: 2.4 | G10: =IFERROR(IF(AND($D$9<DATE(2025,1,1),OR((VLOOKUP($D$14,Lookups!$C$8:$G$13,2,FALSE))>(VLOOKUP($D$14,Lookups!$C$8:$G$13,4,FALSE)),(VLOOKUP($D$14,Lookups!$C$8:$G$13,3,FALSE))>(VLOOKUP($D$14,Lookups!$C$8:$G$13,5,FALSE)))),"A nutrient permit is changing for the selected WwTW as of 01/01/2025. Therefore, two nutrient budgets will be calculated for the loading before and after the 2025 WwTW permit upgrade.",""),"")
C11: Water usage (litres/person/day): | D11: 120
C12: Development Proposal (dwellings/units): | D12: 3
C13: Include deductible acceptable loading? | D13: No
C14: Wastewater treatment works: | D14: Chickenhall Eastleigh WwTW
C15: Wastewater treatment works P permit (mg TP/litre): | D15: =(IFERROR(IF(OR(D14="Package Treatment Plant user defined",D14="Septic Tank user defined"),"Please enter value in cell to the right:",IF('Stage 1'!D9<DATE(2025,1,1),VLOOKUP('Stage 1'!D14,Lookups!C8:G16,2,FALSE),VLOOKUP('Stage 1'!D14,Lookups!C8:G15,4,FALSE))),"")) -> 0.6 | F15: =IFERROR(IF(AND($D$9<DATE(2025,1,1),(VLOOKUP($D$14,Lookups!$C$8:$G$13,2,FALSE))>(VLOOKUP($D$14,Lookups!$C$8:$G$13,4,FALSE))), "Post 2025 WwTW P permit:",""),"") | G15: =IFERROR(IF(AND($D$9<DATE(2025,1,1),(VLOOKUP($D$14,Lookups!$C$8:$G$13,2,FALSE))>(VLOOKUP($D$14,Lookups!$C$8:$G$13,4,FALSE))), VLOOKUP('Stage 1'!D14,Lookups!C8:G16,4,FALSE),""),"") | H15: =IFERROR(IF(AND($D$9<DATE(2025,1,1),(VLOOKUP($D$14,Lookups!$C$8:$G$13,2,FALSE))>(VLOOKUP($D$14,Lookups!$C$8:$G$13,4,FALSE))), "mg TP/litre",""),"")
C16: Wastewater treatment works N permit (mg TN/litre): | D16: =IFERROR(IF(OR(D14="Package Treatment Plant user defined",D14="Septic Tank user defined"),"Please enter value in cell to the right:",IF(AND('Stage 1'!D9<DATE(2025,1,1),D13="Yes"),VLOOKUP('Stage 1'!D14,Lookups!$C$8:$I$15,6,FALSE),IF(AND('Stage 1'!D9<DATE(2025,1,1),D13="No"),VLOOKUP('Stage 1'!D14,Lookups!$C$8:$I$15,3,FALSE),IF(AND('Stage 1'!D9>DATE(2025,1,1),D13="Yes"),VLOOKUP('Stage 1'!D14,Lookups!$C$8:$I$15,7,FALSE),IF(AND('Stage 1'!D9>DATE(2025,1,1),D13="No"),VLOOKUP('Stage 1'!D14,Lookups!$C$8:$I$15,5,FALSE),""))))),"") -> 27 | F16: =IFERROR(IF(AND($D$9<DATE(2025,1,1),(VLOOKUP($D$14,Lookups!$C$8:$G$13,3,FALSE))>(VLOOKUP($D$14,Lookups!$C$8:$G$13,5,FALSE))), "Post 2025 WwTW N permit:",""),"") | G16: =IFERROR(IF(AND($D$9<DATE(2025,1,1),(VLOOKUP($D$14,Lookups!$C$8:$G$13,3,FALSE))>(VLOOKUP($D$14,Lookups!$C$8:$G$13,5,FALSE))), VLOOKUP('Stage 1'!D14,Lookups!$C$8:$G$16,5,FALSE),""),"") | H16: =IFERROR(IF(AND($D$9<DATE(2025,1,1),(VLOOKUP($D$14,Lookups!$C$8:$G$13,3,FALSE))>(VLOOKUP($D$14,Lookups!$C$8:$G$13,5,FALSE))), "mg TN/litre",""),"")
C18: Stage 1 Calculated Loading
N20: AND($C$9<DATE(2025,1,1),OR((VLOOKUP($C$13,Lookups!$A$9:$E$14,2,FALSE))>(VLOOKUP($C$13,Lookups!$A$9:$E$14,4,FALSE)),(VLOOKUP($C$13,Lookups!$A$9:$E$14,3,FALSE))>(VLOOKUP($C$13,Lookups!$A$9:$E$14,5,FALSE))))
C21: =IFERROR(IF(AND($D$9<DATE(2025,1,1),OR((VLOOKUP($D$14,Lookups!$C$8:$G$13,2,FALSE))>(VLOOKUP($D$14,Lookups!$C$8:$G$13,4,FALSE)),(VLOOKUP($D$14,Lookups!$C$8:$G$13,3,FALSE))>(VLOOKUP($D$14,Lookups!$C$8:$G$13,5,FALSE)))),"Post-2025 Stage 1 Nutrient Loading","Stage 1 Nutrient Loading"),"") -> Stage 1 Nutrient Loading | G21: =IFERROR(IF(AND($D$9<DATE(2025,1,1),OR((VLOOKUP($D$14,Lookups!$C$8:$G$13,2,FALSE))>(VLOOKUP($D$14,Lookups!$C$8:$G$13,4,FALSE)),(VLOOKUP($D$14,Lookups!$C$8:$G$13,3,FALSE))>(VLOOKUP($D$14,Lookups!$C$8:$G$13,5,FALSE)))),"Pre-2025 Stage 1 Nutrient Loading",""),"")
C23: Additional population | D23: =IF(ISBLANK(D12),"",D10*D12) -> 7.2 | E23: people | G23: =IFERROR(IF(AND($D$9<DATE(2025,1,1),OR((VLOOKUP($D$14,Lookups!$C$8:$G$13,2,FALSE))>(VLOOKUP($D$14,Lookups!$C$8:$G$13,4,FALSE)),(VLOOKUP($D$14,Lookups!$C$8:$G$13,3,FALSE))>(VLOOKUP($D$14,Lookups!$C$8:$G$13,5,FALSE)))),"Annual wastewater TP load:",""),"") | H23: =IFERROR(IF(AND($D$9<DATE(2025,1,1),OR((VLOOKUP($D$14,Lookups!$C$8:$G$13,2,FALSE))>(VLOOKUP($D$14,Lookups!$C$8:$G$13,4,FALSE)),(VLOOKUP($D$14,Lookups!$C$8:$G$13,3,FALSE))>(VLOOKUP($D$14,Lookups!$C$8:$G$13,5,FALSE)))),IF(D15=8,(D15*D$24)/1000000*365.25,(D15*D$24*0.9)/1000000*365.25),""),"") | I23: =IFERROR(IF(AND($D$9<DATE(2025,1,1),OR((VLOOKUP($D$14,Lookups!$C$8:$G$13,2,FALSE))>(VLOOKUP($D$14,Lookups!$C$8:$G$13,4,FALSE)),(VLOOKUP($D$14,Lookups!$C$8:$G$13,3,FALSE))>(VLOOKUP($D$14,Lookups!$C$8:$G$13,5,FALSE)))),"kg TP/yr",""),"")
C24: Wastewater by development | D24: =IFERROR(D23*D11,"") -> 864 | E24: litres/day | G24: =IFERROR(IF(AND($D$9<DATE(2025,1,1),OR((VLOOKUP($D$14,Lookups!$C$8:$G$13,2,FALSE))>(VLOOKUP($D$14,Lookups!$C$8:$G$13,4,FALSE)),(VLOOKUP($D$14,Lookups!$C$8:$G$13,3,FALSE))>(VLOOKUP($D$14,Lookups!$C$8:$G$13,5,FALSE)))),"Annual wastewater TN load:",""),"") | H24: =IFERROR(IF(AND($D$9<DATE(2025,1,1),OR((VLOOKUP($D$14,Lookups!$C$8:$G$13,2,FALSE))>(VLOOKUP($D$14,Lookups!$C$8:$G$13,4,FALSE)),(VLOOKUP($D$14,Lookups!$C$8:$G$13,3,FALSE))>(VLOOKUP($D$14,Lookups!$C$8:$G$13,5,FALSE)))),IF(D16=25,(D16*D$24)/1000000*365.25,(D16*D$24*0.9)/1000000*365.25),""),"") | I24: =IFERROR(IF(AND($D$9<DATE(2025,1,1),OR((VLOOKUP($D$14,Lookups!$C$8:$G$13,2,FALSE))>(VLOOKUP($D$14,Lookups!$C$8:$G$13,4,FALSE)),(VLOOKUP($D$14,Lookups!$C$8:$G$13,3,FALSE))>(VLOOKUP($D$14,Lookups!$C$8:$G$13,5,FALSE)))),"kg TN/yr",""),"")
C27: TP discharge from WwTW | D27: =IFERROR(IF(ISNUMBER(G15),G15*D24*0.9,IF(D15="Please enter value in cell to the right:",IF(AND(D15="Please enter value in cell to the right:",ISNUMBER(E15)),D24*E15, VLOOKUP((LEFT(D14,(LEN(D14)-13))&" default"),Lookups!C12:E13,2,FALSE)*D24),IF(OR(D14="Package Treatment Plant default",D14="Septic Tank default"),D15*D24,IF(D15=8,D15*D24,D15*D24*0.9)))),"") -> 466.56 | E27: mg TP/day
C28: Convert to kg/TP/d | D28: =IFERROR($D$27/1000000,"") -> 0.00046656 | E28: kg TP/day
C29: Convert to kg/TP/yr | D29: =IFERROR($D$28*365.25,"") -> 0.17041104 | E29: kg TP/yr
C30: Annual wastewater TP load | D30: =D29 -> 0.17041104 | E30: kg TP/yr
C33: TN discharge from WwTW | D33: =IFERROR(IF(ISNUMBER(G16),G16*D24*0.9,IF(D16="Please enter value in cell to the right:",IF(AND(D16="Please enter value in cell to the right:",ISNUMBER(E16)),D24*(IF(E16-2<0,E16,E16-2)), VLOOKUP((LEFT(D14,(LEN(D14)-13))&" default"),Lookups!C12:E13,3,FALSE)*D24),IF(OR(D14="Package Treatment Plant default",D14="Septic Tank default"),D16*D24,IF(D16=25,D16*D24,D16*D24*0.9)))),"") -> 20995.2 | E33: mg TN/day
C34: Convert to kg/TN/d | D34: =IFERROR($D$33/1000000,"") -> 0.0209952 | E34: kg TN/day
C35: Convert to kg/TN/yr | D35: =IFERROR($D$34*365.25,"") -> 7.6684968 | E35: kg TN/yr
C36: Annual wastewater TN load | D36: =D35 -> 7.6684968 | E36: kg TN/yr

Sheet Stage 2
B3: Stage 2
C7: User Inputs
C9: Catchment: | E9: Itchen
C10: Soil drainage type: | E10: Slightly impeded drainage
C11: Annual average rainfall (mm): | E11: 850.1 - 900
C12: Within Nitrate Vulnerable Zone (NVZ): | E12: Yes
C14: Existing land use type(s) | D14: Area (ha) | E14: Annual phosphorus nutrient export (kg TP) | F14: Annual nitrogen nutrient export (kg TN)
C15: Residential urban land | D15: 0.085 | E15: =IF(OR(ISBLANK($C15),ISBLANK($D15),ISBLANK($E$10),ISBLANK($E$11)),"",IFERROR($D15*VLOOKUP((IF(OR($C15="Residential urban land",$C15="Commercial/industrial urban land",$C15="Open urban land",$C15="Greenspace",$C15="Community food growing",$C15="Woodland",$C15="Shrub", $C15="Water"), "|||"&$C15, (VLOOKUP('Stage 2'!$E$9,Lookups!$C$130:$D$130,2,FALSE)&"|"&$C15&"|"&VLOOKUP('Stage 2'!$E$12,Lookups!$C$144:$D$145,2,FALSE)&"|"&VLOOKUP('Stage 2'!$E$11,Lookups!$C$104:$E$126,3,FALSE)&"|"&VLOOKUP($E$10,Lookups!$C$135:$D$140,2,FALSE)))),Lookups!$H$19:$J$100,2,FALSE), IFERROR(IFERROR($D15*VLOOKUP($C15&"|"&VLOOKUP('Stage 2'!$E$12,Lookups!$C$144:$D$145,2,FALSE)&"|"&VLOOKUP('Stage 2'!$E$11,Lookups!$C$104:$E$126,3,FALSE)&"|"&VLOOKUP($E$10,Lookups!$C$135:$D$140,2,FALSE),Lookups!$H$19:$J$100,2,FALSE),IFERROR($D15*VLOOKUP($C15&"|"&"TRUE"&"|"&VLOOKUP('Stage 2'!$E$11,Lookups!$C$104:$E$126,3,FALSE)&"|"&VLOOKUP($E$10,Lookups!$C$135:$D$140,2,FALSE),Lookups!$H$19:$J$100,2,FALSE),$D15*VLOOKUP($C15&"|"&VLOOKUP('Stage 2'!$E$12,Lookups!$C$144:$D$145,2,FALSE)&"|"&VLOOKUP('Stage 2'!$E$11,Lookups!$C$104:$E$126,3,FALSE)&"|"&"DrainedArGr",Lookups!$H$19:$J$100,2,FALSE))),IFERROR($D15*VLOOKUP($C15&"|"&VLOOKUP('Stage 2'!$E$11,Lookups!$C$104:$E$126,3,FALSE),Lookups!$K$19:$M$92,2,FALSE),$D15*VLOOKUP($C15,Lookups!$D$19:$O$92,11,FALSE))))) -> 0.1488729 | F15: =IF(OR(ISBLANK($C15),ISBLANK($D15),ISBLANK($E$10),ISBLANK($E$11)),"",IFERROR($D15*VLOOKUP((IF(OR($C15="Residential urban land",$C15="Commercial/industrial urban land",$C15="Open urban land",$C15="Greenspace",$C15="Community food growing",$C15="Woodland",$C15="Shrub", $C15="Water"), "|||"&$C15, (VLOOKUP('Stage 2'!$E$9,Lookups!$C$130:$D$130,2,FALSE)&"|"&$C15&"|"&VLOOKUP('Stage 2'!$E$12,Lookups!$C$144:$D$145,2,FALSE)&"|"&VLOOKUP('Stage 2'!$E$11,Lookups!$C$104:$E$126,3,FALSE)&"|"&VLOOKUP($E$10,Lookups!$C$135:$D$140,2,FALSE)))),Lookups!$H$19:$J$100,3,FALSE), IFERROR(IFERROR($D15*VLOOKUP($C15&"|"&VLOOKUP('Stage 2'!$E$12,Lookups!$C$144:$D$145,2,FALSE)&"|"&VLOOKUP('Stage 2'!$E$11,Lookups!$C$104:$E$126,3,FALSE)&"|"&VLOOKUP($E$10,Lookups!$C$135:$D$140,2,FALSE),Lookups!$H$19:$J$100,3,FALSE),IFERROR($D15*VLOOKUP($C15&"|"&"TRUE"&"|"&VLOOKUP('Stage 2'!$E$11,Lookups!$C$104:$E$126,3,FALSE)&"|"&VLOOKUP($E$10,Lookups!$C$135:$D$140,2,FALSE),Lookups!$H$19:$J$100,3,FALSE),$D15*VLOOKUP($C15&"|"&VLOOKUP('Stage 2'!$E$12,Lookups!$C$144:$D$145,2,FALSE)&"|"&VLOOKUP('Stage 2'!$E$11,Lookups!$C$104:$E$126,3,FALSE)&"|"&"DrainedArGr",Lookups!$H$19:$J$100,3,FALSE))),IFERROR($D15*VLOOKUP($C15&"|"&VLOOKUP('Stage 2'!$E$11,Lookups!$C$104:$E$126,3,FALSE),Lookups!$K$19:$M$92,3,FALSE),$D15*VLOOKUP($C15,Lookups!$D$19:$O$92,12,FALSE))))) -> 1.3863124 | G15: =IF( OR(ISBLANK($C15),ISBLANK($D15),ISBLANK($E$10),ISBLANK($E$9),ISBLANK($E$11),$C15="Residential urban land",$C15="Commercial/industrial urban land",$C15="Open urban land",$C15="Greenspace",$C15="Community food growing",$C15="Woodland",$C15="Shrub",$C15="Water"),"",IFERROR($D15*VLOOKUP((IF( OR($C15="Residential urban land",$C15="Commercial/industrial urban land",$C15="Open urban land",$C15="Greenspace",$C15="Community food growing",$C15="Woodland",$C15="Shrub",$C15="Water"),"|||"&$C15,(VLOOKUP('Stage 2'!$E$9,Lookups!$C$135:$D$140,2,FALSE)&"|"&$C15&"|"&VLOOKUP('Stage 2'!$E$12,Lookups!$C$144:$D$145,2,FALSE)&"|"&VLOOKUP('Stage 2'!$E$11,Lookups!$C$104:$E$126,3,FALSE)&"|"&VLOOKUP($E$10,Lookups!$C$135:$D$140,2,FALSE)))),Lookups!$H$19:$J$100,3,FALSE), IFERROR($D15*VLOOKUP($C15&"|"&VLOOKUP('Stage 2'!$E$12,Lookups!$C$144:$D$145,2,FALSE)&"|"&VLOOKUP('Stage 2'!$E$11,Lookups!$C$104:$E$126,3,FALSE)&"|"&VLOOKUP($E$10,Lookups!$C$135:$D$140,2,FALSE),Lookups!$H$43:$J$92,3,FALSE),"In the absence of real world data, this figure has been generated using the most relevant average nutrient reduction coefficient.")))
E16: =IF(OR(ISBLANK($C16),ISBLANK($D16),ISBLANK($E$10),ISBLANK($E$11)),"",IFERROR($D16*VLOOKUP((IF(OR($C16="Residential urban land",$C16="Commercial/industrial urban land",$C16="Open urban land",$C16="Greenspace",$C16="Community food growing",$C16="Woodland",$C16="Shrub", $C16="Water"), "|||"&$C16, (VLOOKUP('Stage 2'!$E$9,Lookups!$C$130:$D$130,2,FALSE)&"|"&$C16&"|"&VLOOKUP('Stage 2'!$E$12,Lookups!$C$144:$D$145,2,FALSE)&"|"&VLOOKUP('Stage 2'!$E$11,Lookups!$C$104:$E$126,3,FALSE)&"|"&VLOOKUP($E$10,Lookups!$C$135:$D$140,2,FALSE)))),Lookups!$H$19:$J$100,2,FALSE), IFERROR(IFERROR($D16*VLOOKUP($C16&"|"&VLOOKUP('Stage 2'!$E$12,Lookups!$C$144:$D$145,2,FALSE)&"|"&VLOOKUP('Stage 2'!$E$11,Lookups!$C$104:$E$126,3,FALSE)&"|"&VLOOKUP($E$10,Lookups!$C$135:$D$140,2,FALSE),Lookups!$H$19:$J$100,2,FALSE),IFERROR($D16*VLOOKUP($C16&"|"&"TRUE"&"|"&VLOOKUP('Stage 2'!$E$11,Lookups!$C$104:$E$126,3,FALSE)&"|"&VLOOKUP($E$10,Lookups!$C$135:$D$140,2,FALSE),Lookups!$H$19:$J$100,2,FALSE),$D16*VLOOKUP($C16&"|"&VLOOKUP('Stage 2'!$E$12,Lookups!$C$144:$D$145,2,FALSE)&"|"&VLOOKUP('Stage 2'!$E$11,Lookups!$C$104:$E$126,3,FALSE)&"|"&"DrainedArGr",Lookups!$H$19:$J$100,2,FALSE))),IFERROR($D16*VLOOKUP($C16&"|"&VLOOKUP('Stage 2'!$E$11,Lookups!$C$104:$E$126,3,FALSE),Lookups!$K$19:$M$92,2,FALSE),$D16*VLOOKUP($C16,Lookups!$D$19:$O$92,11,FALSE))))) | F16: =IF(OR(ISBLANK($C16),ISBLANK($D16),ISBLANK($E$10),ISBLANK($E$11)),"",IFERROR($D16*VLOOKUP((IF(OR($C16="Residential urban land",$C16="Commercial/industrial urban land",$C16="Open urban land",$C16="Greenspace",$C16="Community food growing",$C16="Woodland",$C16="Shrub", $C16="Water"), "|||"&$C16, (VLOOKUP('Stage 2'!$E$9,Lookups!$C$130:$D$130,2,FALSE)&"|"&$C16&"|"&VLOOKUP('Stage 2'!$E$12,Lookups!$C$144:$D$145,2,FALSE)&"|"&VLOOKUP('Stage 2'!$E$11,Lookups!$C$104:$E$126,3,FALSE)&"|"&VLOOKUP($E$10,Lookups!$C$135:$D$140,2,FALSE)))),Lookups!$H$19:$J$100,3,FALSE), IFERROR(IFERROR($D16*VLOOKUP($C16&"|"&VLOOKUP('Stage 2'!$E$12,Lookups!$C$144:$D$145,2,FALSE)&"|"&VLOOKUP('Stage 2'!$E$11,Lookups!$C$104:$E$126,3,FALSE)&"|"&VLOOKUP($E$10,Lookups!$C$135:$D$140,2,FALSE),Lookups!$H$19:$J$100,3,FALSE),IFERROR($D16*VLOOKUP($C16&"|"&"TRUE"&"|"&VLOOKUP('Stage 2'!$E$11,Lookups!$C$104:$E$126,3,FALSE)&"|"&VLOOKUP($E$10,Lookups!$C$135:$D$140,2,FALSE),Lookups!$H$19:$J$100,3,FALSE),$D16*VLOOKUP($C16&"|"&VLOOKUP('Stage 2'!$E$12,Lookups!$C$144:$D$145,2,FALSE)&"|"&VLOOKUP('Stage 2'!$E$11,Lookups!$C$104:$E$126,3,FALSE)&"|"&"DrainedArGr",Lookups!$H$19:$J$100,3,FALSE))),IFERROR($D16*VLOOKUP($C16&"|"&VLOOKUP('Stage 2'!$E$11,Lookups!$C$104:$E$126,3,FALSE),Lookups!$K$19:$M$92,3,FALSE),$D16*VLOOKUP($C16,Lookups!$D$19:$O$92,12,FALSE))))) | G16: =IF( OR(ISBLANK($C16),ISBLANK($D16),ISBLANK($E$10),ISBLANK($E$9),ISBLANK($E$11),$C16="Residential urban land",$C16="Commercial/industrial urban land",$C16="Open urban land",$C16="Greenspace",$C16="Community food growing",$C16="Woodland",$C16="Shrub",$C16="Water"),"",IFERROR($D16*VLOOKUP((IF( OR($C16="Residential urban land",$C16="Commercial/industrial urban land",$C16="Open urban land",$C16="Greenspace",$C16="Community food growing",$C16="Woodland",$C16="Shrub",$C16="Water"),"|||"&$C16,(VLOOKUP('Stage 2'!$E$9,Lookups!$C$135:$D$140,2,FALSE)&"|"&$C16&"|"&VLOOKUP('Stage 2'!$E$12,Lookups!$C$144:$D$145,2,FALSE)&"|"&VLOOKUP('Stage 2'!$E$11,Lookups!$C$104:$E$126,3,FALSE)&"|"&VLOOKUP($E$10,Lookups!$C$135:$D$140,2,FALSE)))),Lookups!$H$19:$J$100,3,FALSE), IFERROR($D16*VLOOKUP($C16&"|"&VLOOKUP('Stage 2'!$E$12,Lookups!$C$144:$D$145,2,FALSE)&"|"&VLOOKUP('Stage 2'!$E$11,Lookups!$C$104:$E$126,3,FALSE)&"|"&VLOOKUP($E$10,Lookups!$C$135:$D$140,2,FALSE),Lookups!$H$43:$J$92,3,FALSE),"In the absence of real world data, this figure has been generated using the most relevant average nutrient reduction coefficient.")))
E17: =IF(OR(ISBLANK($C17),ISBLANK($D17),ISBLANK($E$10),ISBLANK($E$11)),"",IFERROR($D17*VLOOKUP((IF(OR($C17="Residential urban land",$C17="Commercial/industrial urban land",$C17="Open urban land",$C17="Greenspace",$C17="Community food growing",$C17="Woodland",$C17="Shrub", $C17="Water"), "|||"&$C17, (VLOOKUP('Stage 2'!$E$9,Lookups!$C$130:$D$130,2,FALSE)&"|"&$C17&"|"&VLOOKUP('Stage 2'!$E$12,Lookups!$C$144:$D$145,2,FALSE)&"|"&VLOOKUP('Stage 2'!$E$11,Lookups!$C$104:$E$126,3,FALSE)&"|"&VLOOKUP($E$10,Lookups!$C$135:$D$140,2,FALSE)))),Lookups!$H$19:$J$100,2,FALSE), IFERROR(IFERROR($D17*VLOOKUP($C17&"|"&VLOOKUP('Stage 2'!$E$12,Lookups!$C$144:$D$145,2,FALSE)&"|"&VLOOKUP('Stage 2'!$E$11,Lookups!$C$104:$E$126,3,FALSE)&"|"&VLOOKUP($E$10,Lookups!$C$135:$D$140,2,FALSE),Lookups!$H$19:$J$100,2,FALSE),IFERROR($D17*VLOOKUP($C17&"|"&"TRUE"&"|"&VLOOKUP('Stage 2'!$E$11,Lookups!$C$104:$E$126,3,FALSE)&"|"&VLOOKUP($E$10,Lookups!$C$135:$D$140,2,FALSE),Lookups!$H$19:$J$100,2,FALSE),$D17*VLOOKUP($C17&"|"&VLOOKUP('Stage 2'!$E$12,Lookups!$C$144:$D$145,2,FALSE)&"|"&VLOOKUP('Stage 2'!$E$11,Lookups!$C$104:$E$126,3,FALSE)&"|"&"DrainedArGr",Lookups!$H$19:$J$100,2,FALSE))),IFERROR($D17*VLOOKUP($C17&"|"&VLOOKUP('Stage 2'!$E$11,Lookups!$C$104:$E$126,3,FALSE),Lookups!$K$19:$M$92,2,FALSE),$D17*VLOOKUP($C17,Lookups!$D$19:$O$92,11,FALSE))))) | F17: =IF(OR(ISBLANK($C17),ISBLANK($D17),ISBLANK($E$10),ISBLANK($E$11)),"",IFERROR($D17*VLOOKUP((IF(OR($C17="Residential urban land",$C17="Commercial/industrial urban land",$C17="Open urban land",$C17="Greenspace",$C17="Community food growing",$C17="Woodland",$C17="Shrub", $C17="Water"), "|||"&$C17, (VLOOKUP('Stage 2'!$E$9,Lookups!$C$130:$D$130,2,FALSE)&"|"&$C17&"|"&VLOOKUP('Stage 2'!$E$12,Lookups!$C$144:$D$145,2,FALSE)&"|"&VLOOKUP('Stage 2'!$E$11,Lookups!$C$104:$E$126,3,FALSE)&"|"&VLOOKUP($E$10,Lookups!$C$135:$D$140,2,FALSE)))),Lookups!$H$19:$J$100,3,FALSE), IFERROR(IFERROR($D17*VLOOKUP($C17&"|"&VLOOKUP('Stage 2'!$E$12,Lookups!$C$144:$D$145,2,FALSE)&"|"&VLOOKUP('Stage 2'!$E$11,Lookups!$C$104:$E$126,3,FALSE)&"|"&VLOOKUP($E$10,Lookups!$C$135:$D$140,2,FALSE),Lookups!$H$19:$J$100,3,FALSE),IFERROR($D17*VLOOKUP($C17&"|"&"TRUE"&"|"&VLOOKUP('Stage 2'!$E$11,Lookups!$C$104:$E$126,3,FALSE)&"|"&VLOOKUP($E$10,Lookups!$C$135:$D$140,2,FALSE),Lookups!$H$19:$J$100,3,FALSE),$D17*VLOOKUP($C17&"|"&VLOOKUP('Stage 2'!$E$12,Lookups!$C$144:$D$145,2,FALSE)&"|"&VLOOKUP('Stage 2'!$E$11,Lookups!$C$104:$E$126,3,FALSE)&"|"&"DrainedArGr",Lookups!$H$19:$J$100,3,FALSE))),IFERROR($D17*VLOOKUP($C17&"|"&VLOOKUP('Stage 2'!$E$11,Lookups!$C$104:$E$126,3,FALSE),Lookups!$K$19:$M$92,3,FALSE),$D17*VLOOKUP($C17,Lookups!$D$19:$O$92,12,FALSE))))) | G17: =IF( OR(ISBLANK($C17),ISBLANK($D17),ISBLANK($E$10),ISBLANK($E$9),ISBLANK($E$11),$C17="Residential urban land",$C17="Commercial/industrial urban land",$C17="Open urban land",$C17="Greenspace",$C17="Community food growing",$C17="Woodland",$C17="Shrub",$C17="Water"),"",IFERROR($D17*VLOOKUP((IF( OR($C17="Residential urban land",$C17="Commercial/industrial urban land",$C17="Open urban land",$C17="Greenspace",$C17="Community food growing",$C17="Woodland",$C17="Shrub",$C17="Water"),"|||"&$C17,(VLOOKUP('Stage 2'!$E$9,Lookups!$C$135:$D$140,2,FALSE)&"|"&$C17&"|"&VLOOKUP('Stage 2'!$E$12,Lookups!$C$144:$D$145,2,FALSE)&"|"&VLOOKUP('Stage 2'!$E$11,Lookups!$C$104:$E$126,3,FALSE)&"|"&VLOOKUP($E$10,Lookups!$C$135:$D$140,2,FALSE)))),Lookups!$H$19:$J$100,3,FALSE), IFERROR($D17*VLOOKUP($C17&"|"&VLOOKUP('Stage 2'!$E$12,Lookups!$C$144:$D$145,2,FALSE)&"|"&VLOOKUP('Stage 2'!$E$11,Lookups!$C$104:$E$126,3,FALSE)&"|"&VLOOKUP($E$10,Lookups!$C$135:$D$140,2,FALSE),Lookups!$H$43:$J$92,3,FALSE),"In the absence of real world data, this figure has been generated using the most relevant average nutrient reduction coefficient.")))
E18: =IF(OR(ISBLANK($C18),ISBLANK($D18),ISBLANK($E$10),ISBLANK($E$11)),"",IFERROR($D18*VLOOKUP((IF(OR($C18="Residential urban land",$C18="Commercial/industrial urban land",$C18="Open urban land",$C18="Greenspace",$C18="Community food growing",$C18="Woodland",$C18="Shrub", $C18="Water"), "|||"&$C18, (VLOOKUP('Stage 2'!$E$9,Lookups!$C$130:$D$130,2,FALSE)&"|"&$C18&"|"&VLOOKUP('Stage 2'!$E$12,Lookups!$C$144:$D$145,2,FALSE)&"|"&VLOOKUP('Stage 2'!$E$11,Lookups!$C$104:$E$126,3,FALSE)&"|"&VLOOKUP($E$10,Lookups!$C$135:$D$140,2,FALSE)))),Lookups!$H$19:$J$100,2,FALSE), IFERROR(IFERROR($D18*VLOOKUP($C18&"|"&VLOOKUP('Stage 2'!$E$12,Lookups!$C$144:$D$145,2,FALSE)&"|"&VLOOKUP('Stage 2'!$E$11,Lookups!$C$104:$E$126,3,FALSE)&"|"&VLOOKUP($E$10,Lookups!$C$135:$D$140,2,FALSE),Lookups!$H$19:$J$100,2,FALSE),IFERROR($D18*VLOOKUP($C18&"|"&"TRUE"&"|"&VLOOKUP('Stage 2'!$E$11,Lookups!$C$104:$E$126,3,FALSE)&"|"&VLOOKUP($E$10,Lookups!$C$135:$D$140,2,FALSE),Lookups!$H$19:$J$100,2,FALSE),$D18*VLOOKUP($C18&"|"&VLOOKUP('Stage 2'!$E$12,Lookups!$C$144:$D$145,2,FALSE)&"|"&VLOOKUP('Stage 2'!$E$11,Lookups!$C$104:$E$126,3,FALSE)&"|"&"DrainedArGr",Lookups!$H$19:$J$100,2,FALSE))),IFERROR($D18*VLOOKUP($C18&"|"&VLOOKUP('Stage 2'!$E$11,Lookups!$C$104:$E$126,3,FALSE),Lookups!$K$19:$M$92,2,FALSE),$D18*VLOOKUP($C18,Lookups!$D$19:$O$92,11,FALSE))))) | F18: =IF(OR(ISBLANK($C18),ISBLANK($D18),ISBLANK($E$10),ISBLANK($E$11)),"",IFERROR($D18*VLOOKUP((IF(OR($C18="Residential urban land",$C18="Commercial/industrial urban land",$C18="Open urban land",$C18="Greenspace",$C18="Community food growing",$C18="Woodland",$C18="Shrub", $C18="Water"), "|||"&$C18, (VLOOKUP('Stage 2'!$E$9,Lookups!$C$130:$D$130,2,FALSE)&"|"&$C18&"|"&VLOOKUP('Stage 2'!$E$12,Lookups!$C$144:$D$145,2,FALSE)&"|"&VLOOKUP('Stage 2'!$E$11,Lookups!$C$104:$E$126,3,FALSE)&"|"&VLOOKUP($E$10,Lookups!$C$135:$D$140,2,FALSE)))),Lookups!$H$19:$J$100,3,FALSE), IFERROR(IFERROR($D18*VLOOKUP($C18&"|"&VLOOKUP('Stage 2'!$E$12,Lookups!$C$144:$D$145,2,FALSE)&"|"&VLOOKUP('Stage 2'!$E$11,Lookups!$C$104:$E$126,3,FALSE)&"|"&VLOOKUP($E$10,Lookups!$C$135:$D$140,2,FALSE),Lookups!$H$19:$J$100,3,FALSE),IFERROR($D18*VLOOKUP($C18&"|"&"TRUE"&"|"&VLOOKUP('Stage 2'!$E$11,Lookups!$C$104:$E$126,3,FALSE)&"|"&VLOOKUP($E$10,Lookups!$C$135:$D$140,2,FALSE),Lookups!$H$19:$J$100,3,FALSE),$D18*VLOOKUP($C18&"|"&VLOOKUP('Stage 2'!$E$12,Lookups!$C$144:$D$145,2,FALSE)&"|"&VLOOKUP('Stage 2'!$E$11,Lookups!$C$104:$E$126,3,FALSE)&"|"&"DrainedArGr",Lookups!$H$19:$J$100,3,FALSE))),IFERROR($D18*VLOOKUP($C18&"|"&VLOOKUP('Stage 2'!$E$11,Lookups!$C$104:$E$126,3,FALSE),Lookups!$K$19:$M$92,3,FALSE),$D18*VLOOKUP($C18,Lookups!$D$19:$O$92,12,FALSE))))) | G18: =IF( OR(ISBLANK($C18),ISBLANK($D18),ISBLANK($E$10),ISBLANK($E$9),ISBLANK($E$11),$C18="Residential urban land",$C18="Commercial/industrial urban land",$C18="Open urban land",$C18="Greenspace",$C18="Community food growing",$C18="Woodland",$C18="Shrub",$C18="Water"),"",IFERROR($D18*VLOOKUP((IF( OR($C18="Residential urban land",$C18="Commercial/industrial urban land",$C18="Open urban land",$C18="Greenspace",$C18="Community food growing",$C18="Woodland",$C18="Shrub",$C18="Water"),"|||"&$C18,(VLOOKUP('Stage 2'!$E$9,Lookups!$C$135:$D$140,2,FALSE)&"|"&$C18&"|"&VLOOKUP('Stage 2'!$E$12,Lookups!$C$144:$D$145,2,FALSE)&"|"&VLOOKUP('Stage 2'!$E$11,Lookups!$C$104:$E$126,3,FALSE)&"|"&VLOOKUP($E$10,Lookups!$C$135:$D$140,2,FALSE)))),Lookups!$H$19:$J$100,3,FALSE), IFERROR($D18*VLOOKUP($C18&"|"&VLOOKUP('Stage 2'!$E$12,Lookups!$C$144:$D$145,2,FALSE)&"|"&VLOOKUP('Stage 2'!$E$11,Lookups!$C$104:$E$126,3,FALSE)&"|"&VLOOKUP($E$10,Lookups!$C$135:$D$140,2,FALSE),Lookups!$H$43:$J$92,3,FALSE),"In the absence of real world data, this figure has been generated using the most relevant average nutrient reduction coefficient.")))
E19: =IF(OR(ISBLANK($C19),ISBLANK($D19),ISBLANK($E$10),ISBLANK($E$11)),"",IFERROR($D19*VLOOKUP((IF(OR($C19="Residential urban land",$C19="Commercial/industrial urban land",$C19="Open urban land",$C19="Greenspace",$C19="Community food growing",$C19="Woodland",$C19="Shrub", $C19="Water"), "|||"&$C19, (VLOOKUP('Stage 2'!$E$9,Lookups!$C$130:$D$130,2,FALSE)&"|"&$C19&"|"&VLOOKUP('Stage 2'!$E$12,Lookups!$C$144:$D$145,2,FALSE)&"|"&VLOOKUP('Stage 2'!$E$11,Lookups!$C$104:$E$126,3,FALSE)&"|"&VLOOKUP($E$10,Lookups!$C$135:$D$140,2,FALSE)))),Lookups!$H$19:$J$100,2,FALSE), IFERROR(IFERROR($D19*VLOOKUP($C19&"|"&VLOOKUP('Stage 2'!$E$12,Lookups!$C$144:$D$145,2,FALSE)&"|"&VLOOKUP('Stage 2'!$E$11,Lookups!$C$104:$E$126,3,FALSE)&"|"&VLOOKUP($E$10,Lookups!$C$135:$D$140,2,FALSE),Lookups!$H$19:$J$100,2,FALSE),IFERROR($D19*VLOOKUP($C19&"|"&"TRUE"&"|"&VLOOKUP('Stage 2'!$E$11,Lookups!$C$104:$E$126,3,FALSE)&"|"&VLOOKUP($E$10,Lookups!$C$135:$D$140,2,FALSE),Lookups!$H$19:$J$100,2,FALSE),$D19*VLOOKUP($C19&"|"&VLOOKUP('Stage 2'!$E$12,Lookups!$C$144:$D$145,2,FALSE)&"|"&VLOOKUP('Stage 2'!$E$11,Lookups!$C$104:$E$126,3,FALSE)&"|"&"DrainedArGr",Lookups!$H$19:$J$100,2,FALSE))),IFERROR($D19*VLOOKUP($C19&"|"&VLOOKUP('Stage 2'!$E$11,Lookups!$C$104:$E$126,3,FALSE),Lookups!$K$19:$M$92,2,FALSE),$D19*VLOOKUP($C19,Lookups!$D$19:$O$92,11,FALSE))))) | F19: =IF(OR(ISBLANK($C19),ISBLANK($D19),ISBLANK($E$10),ISBLANK($E$11)),"",IFERROR($D19*VLOOKUP((IF(OR($C19="Residential urban land",$C19="Commercial/industrial urban land",$C19="Open urban land",$C19="Greenspace",$C19="Community food growing",$C19="Woodland",$C19="Shrub", $C19="Water"), "|||"&$C19, (VLOOKUP('Stage 2'!$E$9,Lookups!$C$130:$D$130,2,FALSE)&"|"&$C19&"|"&VLOOKUP('Stage 2'!$E$12,Lookups!$C$144:$D$145,2,FALSE)&"|"&VLOOKUP('Stage 2'!$E$11,Lookups!$C$104:$E$126,3,FALSE)&"|"&VLOOKUP($E$10,Lookups!$C$135:$D$140,2,FALSE)))),Lookups!$H$19:$J$100,3,FALSE), IFERROR(IFERROR($D19*VLOOKUP($C19&"|"&VLOOKUP('Stage 2'!$E$12,Lookups!$C$144:$D$145,2,FALSE)&"|"&VLOOKUP('Stage 2'!$E$11,Lookups!$C$104:$E$126,3,FALSE)&"|"&VLOOKUP($E$10,Lookups!$C$135:$D$140,2,FALSE),Lookups!$H$19:$J$100,3,FALSE),IFERROR($D19*VLOOKUP($C19&"|"&"TRUE"&"|"&VLOOKUP('Stage 2'!$E$11,Lookups!$C$104:$E$126,3,FALSE)&"|"&VLOOKUP($E$10,Lookups!$C$135:$D$140,2,FALSE),Lookups!$H$19:$J$100,3,FALSE),$D19*VLOOKUP($C19&"|"&VLOOKUP('Stage 2'!$E$12,Lookups!$C$144:$D$145,2,FALSE)&"|"&VLOOKUP('Stage 2'!$E$11,Lookups!$C$104:$E$126,3,FALSE)&"|"&"DrainedArGr",Lookups!$H$19:$J$100,3,FALSE))),IFERROR($D19*VLOOKUP($C19&"|"&VLOOKUP('Stage 2'!$E$11,Lookups!$C$104:$E$126,3,FALSE),Lookups!$K$19:$M$92,3,FALSE),$D19*VLOOKUP($C19,Lookups!$D$19:$O$92,12,FALSE))))) | G19: =IF( OR(ISBLANK($C19),ISBLANK($D19),ISBLANK($E$10),ISBLANK($E$9),ISBLANK($E$11),$C19="Residential urban land",$C19="Commercial/industrial urban land",$C19="Open urban land",$C19="Greenspace",$C19="Community food growing",$C19="Woodland",$C19="Shrub",$C19="Water"),"",IFERROR($D19*VLOOKUP((IF( OR($C19="Residential urban land",$C19="Commercial/industrial urban land",$C19="Open urban land",$C19="Greenspace",$C19="Community food growing",$C19="Woodland",$C19="Shrub",$C19="Water"),"|||"&$C19,(VLOOKUP('Stage 2'!$E$9,Lookups!$C$135:$D$140,2,FALSE)&"|"&$C19&"|"&VLOOKUP('Stage 2'!$E$12,Lookups!$C$144:$D$145,2,FALSE)&"|"&VLOOKUP('Stage 2'!$E$11,Lookups!$C$104:$E$126,3,FALSE)&"|"&VLOOKUP($E$10,Lookups!$C$135:$D$140,2,FALSE)))),Lookups!$H$19:$J$100,3,FALSE), IFERROR($D19*VLOOKUP($C19&"|"&VLOOKUP('Stage 2'!$E$12,Lookups!$C$144:$D$145,2,FALSE)&"|"&VLOOKUP('Stage 2'!$E$11,Lookups!$C$104:$E$126,3,FALSE)&"|"&VLOOKUP($E$10,Lookups!$C$135:$D$140,2,FALSE),Lookups!$H$43:$J$92,3,FALSE),"In the absence of real world data, this figure has been generated using the most relevant average nutrient reduction coefficient.")))
E20: =IF(OR(ISBLANK($C20),ISBLANK($D20),ISBLANK($E$10),ISBLANK($E$11)),"",IFERROR($D20*VLOOKUP((IF(OR($C20="Residential urban land",$C20="Commercial/industrial urban land",$C20="Open urban land",$C20="Greenspace",$C20="Community food growing",$C20="Woodland",$C20="Shrub", $C20="Water"), "|||"&$C20, (VLOOKUP('Stage 2'!$E$9,Lookups!$C$130:$D$130,2,FALSE)&"|"&$C20&"|"&VLOOKUP('Stage 2'!$E$12,Lookups!$C$144:$D$145,2,FALSE)&"|"&VLOOKUP('Stage 2'!$E$11,Lookups!$C$104:$E$126,3,FALSE)&"|"&VLOOKUP($E$10,Lookups!$C$135:$D$140,2,FALSE)))),Lookups!$H$19:$J$100,2,FALSE), IFERROR(IFERROR($D20*VLOOKUP($C20&"|"&VLOOKUP('Stage 2'!$E$12,Lookups!$C$144:$D$145,2,FALSE)&"|"&VLOOKUP('Stage 2'!$E$11,Lookups!$C$104:$E$126,3,FALSE)&"|"&VLOOKUP($E$10,Lookups!$C$135:$D$140,2,FALSE),Lookups!$H$19:$J$100,2,FALSE),IFERROR($D20*VLOOKUP($C20&"|"&"TRUE"&"|"&VLOOKUP('Stage 2'!$E$11,Lookups!$C$104:$E$126,3,FALSE)&"|"&VLOOKUP($E$10,Lookups!$C$135:$D$140,2,FALSE),Lookups!$H$19:$J$100,2,FALSE),$D20*VLOOKUP($C20&"|"&VLOOKUP('Stage 2'!$E$12,Lookups!$C$144:$D$145,2,FALSE)&"|"&VLOOKUP('Stage 2'!$E$11,Lookups!$C$104:$E$126,3,FALSE)&"|"&"DrainedArGr",Lookups!$H$19:$J$100,2,FALSE))),IFERROR($D20*VLOOKUP($C20&"|"&VLOOKUP('Stage 2'!$E$11,Lookups!$C$104:$E$126,3,FALSE),Lookups!$K$19:$M$92,2,FALSE),$D20*VLOOKUP($C20,Lookups!$D$19:$O$92,11,FALSE))))) | F20: =IF(OR(ISBLANK($C20),ISBLANK($D20),ISBLANK($E$10),ISBLANK($E$11)),"",IFERROR($D20*VLOOKUP((IF(OR($C20="Residential urban land",$C20="Commercial/industrial urban land",$C20="Open urban land",$C20="Greenspace",$C20="Community food growing",$C20="Woodland",$C20="Shrub", $C20="Water"), "|||"&$C20, (VLOOKUP('Stage 2'!$E$9,Lookups!$C$130:$D$130,2,FALSE)&"|"&$C20&"|"&VLOOKUP('Stage 2'!$E$12,Lookups!$C$144:$D$145,2,FALSE)&"|"&VLOOKUP('Stage 2'!$E$11,Lookups!$C$104:$E$126,3,FALSE)&"|"&VLOOKUP($E$10,Lookups!$C$135:$D$140,2,FALSE)))),Lookups!$H$19:$J$100,3,FALSE), IFERROR(IFERROR($D20*VLOOKUP($C20&"|"&VLOOKUP('Stage 2'!$E$12,Lookups!$C$144:$D$145,2,FALSE)&"|"&VLOOKUP('Stage 2'!$E$11,Lookups!$C$104:$E$126,3,FALSE)&"|"&VLOOKUP($E$10,Lookups!$C$135:$D$140,2,FALSE),Lookups!$H$19:$J$100,3,FALSE),IFERROR($D20*VLOOKUP($C20&"|"&"TRUE"&"|"&VLOOKUP('Stage 2'!$E$11,Lookups!$C$104:$E$126,3,FALSE)&"|"&VLOOKUP($E$10,Lookups!$C$135:$D$140,2,FALSE),Lookups!$H$19:$J$100,3,FALSE),$D20*VLOOKUP($C20&"|"&VLOOKUP('Stage 2'!$E$12,Lookups!$C$144:$D$145,2,FALSE)&"|"&VLOOKUP('Stage 2'!$E$11,Lookups!$C$104:$E$126,3,FALSE)&"|"&"DrainedArGr",Lookups!$H$19:$J$100,3,FALSE))),IFERROR($D20*VLOOKUP($C20&"|"&VLOOKUP('Stage 2'!$E$11,Lookups!$C$104:$E$126,3,FALSE),Lookups!$K$19:$M$92,3,FALSE),$D20*VLOOKUP($C20,Lookups!$D$19:$O$92,12,FALSE))))) | G20: =IF( OR(ISBLANK($C20),ISBLANK($D20),ISBLANK($E$10),ISBLANK($E$9),ISBLANK($E$11),$C20="Residential urban land",$C20="Commercial/industrial urban land",$C20="Open urban land",$C20="Greenspace",$C20="Community food growing",$C20="Woodland",$C20="Shrub",$C20="Water"),"",IFERROR($D20*VLOOKUP((IF( OR($C20="Residential urban land",$C20="Commercial/industrial urban land",$C20="Open urban land",$C20="Greenspace",$C20="Community food growing",$C20="Woodland",$C20="Shrub",$C20="Water"),"|||"&$C20,(VLOOKUP('Stage 2'!$E$9,Lookups!$C$135:$D$140,2,FALSE)&"|"&$C20&"|"&VLOOKUP('Stage 2'!$E$12,Lookups!$C$144:$D$145,2,FALSE)&"|"&VLOOKUP('Stage 2'!$E$11,Lookups!$C$104:$E$126,3,FALSE)&"|"&VLOOKUP($E$10,Lookups!$C$135:$D$140,2,FALSE)))),Lookups!$H$19:$J$100,3,FALSE), IFERROR($D20*VLOOKUP($C20&"|"&VLOOKUP('Stage 2'!$E$12,Lookups!$C$144:$D$145,2,FALSE)&"|"&VLOOKUP('Stage 2'!$E$11,Lookups!$C$104:$E$126,3,FALSE)&"|"&VLOOKUP($E$10,Lookups!$C$135:$D$140,2,FALSE),Lookups!$H$43:$J$92,3,FALSE),"In the absence of real world data, this figure has been generated using the most relevant average nutrient reduction coefficient.")))
E21: =IF(OR(ISBLANK($C21),ISBLANK($D21),ISBLANK($E$10),ISBLANK($E$11)),"",IFERROR($D21*VLOOKUP((IF(OR($C21="Residential urban land",$C21="Commercial/industrial urban land",$C21="Open urban land",$C21="Greenspace",$C21="Community food growing",$C21="Woodland",$C21="Shrub", $C21="Water"), "|||"&$C21, (VLOOKUP('Stage 2'!$E$9,Lookups!$C$130:$D$130,2,FALSE)&"|"&$C21&"|"&VLOOKUP('Stage 2'!$E$12,Lookups!$C$144:$D$145,2,FALSE)&"|"&VLOOKUP('Stage 2'!$E$11,Lookups!$C$104:$E$126,3,FALSE)&"|"&VLOOKUP($E$10,Lookups!$C$135:$D$140,2,FALSE)))),Lookups!$H$19:$J$100,2,FALSE), IFERROR(IFERROR($D21*VLOOKUP($C21&"|"&VLOOKUP('Stage 2'!$E$12,Lookups!$C$144:$D$145,2,FALSE)&"|"&VLOOKUP('Stage 2'!$E$11,Lookups!$C$104:$E$126,3,FALSE)&"|"&VLOOKUP($E$10,Lookups!$C$135:$D$140,2,FALSE),Lookups!$H$19:$J$100,2,FALSE),IFERROR($D21*VLOOKUP($C21&"|"&"TRUE"&"|"&VLOOKUP('Stage 2'!$E$11,Lookups!$C$104:$E$126,3,FALSE)&"|"&VLOOKUP($E$10,Lookups!$C$135:$D$140,2,FALSE),Lookups!$H$19:$J$100,2,FALSE),$D21*VLOOKUP($C21&"|"&VLOOKUP('Stage 2'!$E$12,Lookups!$C$144:$D$145,2,FALSE)&"|"&VLOOKUP('Stage 2'!$E$11,Lookups!$C$104:$E$126,3,FALSE)&"|"&"DrainedArGr",Lookups!$H$19:$J$100,2,FALSE))),IFERROR($D21*VLOOKUP($C21&"|"&VLOOKUP('Stage 2'!$E$11,Lookups!$C$104:$E$126,3,FALSE),Lookups!$K$19:$M$92,2,FALSE),$D21*VLOOKUP($C21,Lookups!$D$19:$O$92,11,FALSE))))) | F21: =IF(OR(ISBLANK($C21),ISBLANK($D21),ISBLANK($E$10),ISBLANK($E$11)),"",IFERROR($D21*VLOOKUP((IF(OR($C21="Residential urban land",$C21="Commercial/industrial urban land",$C21="Open urban land",$C21="Greenspace",$C21="Community food growing",$C21="Woodland",$C21="Shrub", $C21="Water"), "|||"&$C21, (VLOOKUP('Stage 2'!$E$9,Lookups!$C$130:$D$130,2,FALSE)&"|"&$C21&"|"&VLOOKUP('Stage 2'!$E$12,Lookups!$C$144:$D$145,2,FALSE)&"|"&VLOOKUP('Stage 2'!$E$11,Lookups!$C$104:$E$126,3,FALSE)&"|"&VLOOKUP($E$10,Lookups!$C$135:$D$140,2,FALSE)))),Lookups!$H$19:$J$100,3,FALSE), IFERROR(IFERROR($D21*VLOOKUP($C21&"|"&VLOOKUP('Stage 2'!$E$12,Lookups!$C$144:$D$145,2,FALSE)&"|"&VLOOKUP('Stage 2'!$E$11,Lookups!$C$104:$E$126,3,FALSE)&"|"&VLOOKUP($E$10,Lookups!$C$135:$D$140,2,FALSE),Lookups!$H$19:$J$100,3,FALSE),IFERROR($D21*VLOOKUP($C21&"|"&"TRUE"&"|"&VLOOKUP('Stage 2'!$E$11,Lookups!$C$104:$E$126,3,FALSE)&"|"&VLOOKUP($E$10,Lookups!$C$135:$D$140,2,FALSE),Lookups!$H$19:$J$100,3,FALSE),$D21*VLOOKUP($C21&"|"&VLOOKUP('Stage 2'!$E$12,Lookups!$C$144:$D$145,2,FALSE)&"|"&VLOOKUP('Stage 2'!$E$11,Lookups!$C$104:$E$126,3,FALSE)&"|"&"DrainedArGr",Lookups!$H$19:$J$100,3,FALSE))),IFERROR($D21*VLOOKUP($C21&"|"&VLOOKUP('Stage 2'!$E$11,Lookups!$C$104:$E$126,3,FALSE),Lookups!$K$19:$M$92,3,FALSE),$D21*VLOOKUP($C21,Lookups!$D$19:$O$92,12,FALSE))))) | G21: =IF( OR(ISBLANK($C21),ISBLANK($D21),ISBLANK($E$10),ISBLANK($E$9),ISBLANK($E$11),$C21="Residential urban land",$C21="Commercial/industrial urban land",$C21="Open urban land",$C21="Greenspace",$C21="Community food growing",$C21="Woodland",$C21="Shrub",$C21="Water"),"",IFERROR($D21*VLOOKUP((IF( OR($C21="Residential urban land",$C21="Commercial/industrial urban land",$C21="Open urban land",$C21="Greenspace",$C21="Community food growing",$C21="Woodland",$C21="Shrub",$C21="Water"),"|||"&$C21,(VLOOKUP('Stage 2'!$E$9,Lookups!$C$135:$D$140,2,FALSE)&"|"&$C21&"|"&VLOOKUP('Stage 2'!$E$12,Lookups!$C$144:$D$145,2,FALSE)&"|"&VLOOKUP('Stage 2'!$E$11,Lookups!$C$104:$E$126,3,FALSE)&"|"&VLOOKUP($E$10,Lookups!$C$135:$D$140,2,FALSE)))),Lookups!$H$19:$J$100,3,FALSE), IFERROR($D21*VLOOKUP($C21&"|"&VLOOKUP('Stage 2'!$E$12,Lookups!$C$144:$D$145,2,FALSE)&"|"&VLOOKUP('Stage 2'!$E$11,Lookups!$C$104:$E$126,3,FALSE)&"|"&VLOOKUP($E$10,Lookups!$C$135:$D$140,2,FALSE),Lookups!$H$43:$J$92,3,FALSE),"In the absence of real world data, this figure has been generated using the most relevant average nutrient reduction coefficient.")))
E22: =IF(OR(ISBLANK($C22),ISBLANK($D22),ISBLANK($E$10),ISBLANK($E$11)),"",IFERROR($D22*VLOOKUP((IF(OR($C22="Residential urban land",$C22="Commercial/industrial urban land",$C22="Open urban land",$C22="Greenspace",$C22="Community food growing",$C22="Woodland",$C22="Shrub", $C22="Water"), "|||"&$C22, (VLOOKUP('Stage 2'!$E$9,Lookups!$C$130:$D$130,2,FALSE)&"|"&$C22&"|"&VLOOKUP('Stage 2'!$E$12,Lookups!$C$144:$D$145,2,FALSE)&"|"&VLOOKUP('Stage 2'!$E$11,Lookups!$C$104:$E$126,3,FALSE)&"|"&VLOOKUP($E$10,Lookups!$C$135:$D$140,2,FALSE)))),Lookups!$H$19:$J$100,2,FALSE), IFERROR(IFERROR($D22*VLOOKUP($C22&"|"&VLOOKUP('Stage 2'!$E$12,Lookups!$C$144:$D$145,2,FALSE)&"|"&VLOOKUP('Stage 2'!$E$11,Lookups!$C$104:$E$126,3,FALSE)&"|"&VLOOKUP($E$10,Lookups!$C$135:$D$140,2,FALSE),Lookups!$H$19:$J$100,2,FALSE),IFERROR($D22*VLOOKUP($C22&"|"&"TRUE"&"|"&VLOOKUP('Stage 2'!$E$11,Lookups!$C$104:$E$126,3,FALSE)&"|"&VLOOKUP($E$10,Lookups!$C$135:$D$140,2,FALSE),Lookups!$H$19:$J$100,2,FALSE),$D22*VLOOKUP($C22&"|"&VLOOKUP('Stage 2'!$E$12,Lookups!$C$144:$D$145,2,FALSE)&"|"&VLOOKUP('Stage 2'!$E$11,Lookups!$C$104:$E$126,3,FALSE)&"|"&"DrainedArGr",Lookups!$H$19:$J$100,2,FALSE))),IFERROR($D22*VLOOKUP($C22&"|"&VLOOKUP('Stage 2'!$E$11,Lookups!$C$104:$E$126,3,FALSE),Lookups!$K$19:$M$92,2,FALSE),$D22*VLOOKUP($C22,Lookups!$D$19:$O$92,11,FALSE))))) | F22: =IF(OR(ISBLANK($C22),ISBLANK($D22),ISBLANK($E$10),ISBLANK($E$11)),"",IFERROR($D22*VLOOKUP((IF(OR($C22="Residential urban land",$C22="Commercial/industrial urban land",$C22="Open urban land",$C22="Greenspace",$C22="Community food growing",$C22="Woodland",$C22="Shrub", $C22="Water"), "|||"&$C22, (VLOOKUP('Stage 2'!$E$9,Lookups!$C$130:$D$130,2,FALSE)&"|"&$C22&"|"&VLOOKUP('Stage 2'!$E$12,Lookups!$C$144:$D$145,2,FALSE)&"|"&VLOOKUP('Stage 2'!$E$11,Lookups!$C$104:$E$126,3,FALSE)&"|"&VLOOKUP($E$10,Lookups!$C$135:$D$140,2,FALSE)))),Lookups!$H$19:$J$100,3,FALSE), IFERROR(IFERROR($D22*VLOOKUP($C22&"|"&VLOOKUP('Stage 2'!$E$12,Lookups!$C$144:$D$145,2,FALSE)&"|"&VLOOKUP('Stage 2'!$E$11,Lookups!$C$104:$E$126,3,FALSE)&"|"&VLOOKUP($E$10,Lookups!$C$135:$D$140,2,FALSE),Lookups!$H$19:$J$100,3,FALSE),IFERROR($D22*VLOOKUP($C22&"|"&"TRUE"&"|"&VLOOKUP('Stage 2'!$E$11,Lookups!$C$104:$E$126,3,FALSE)&"|"&VLOOKUP($E$10,Lookups!$C$135:$D$140,2,FALSE),Lookups!$H$19:$J$100,3,FALSE),$D22*VLOOKUP($C22&"|"&VLOOKUP('Stage 2'!$E$12,Lookups!$C$144:$D$145,2,FALSE)&"|"&VLOOKUP('Stage 2'!$E$11,Lookups!$C$104:$E$126,3,FALSE)&"|"&"DrainedArGr",Lookups!$H$19:$J$100,3,FALSE))),IFERROR($D22*VLOOKUP($C22&"|"&VLOOKUP('Stage 2'!$E$11,Lookups!$C$104:$E$126,3,FALSE),Lookups!$K$19:$M$92,3,FALSE),$D22*VLOOKUP($C22,Lookups!$D$19:$O$92,12,FALSE))))) | G22: =IF( OR(ISBLANK($C22),ISBLANK($D22),ISBLANK($E$10),ISBLANK($E$9),ISBLANK($E$11),$C22="Residential urban land",$C22="Commercial/industrial urban land",$C22="Open urban land",$C22="Greenspace",$C22="Community food growing",$C22="Woodland",$C22="Shrub",$C22="Water"),"",IFERROR($D22*VLOOKUP((IF( OR($C22="Residential urban land",$C22="Commercial/industrial urban land",$C22="Open urban land",$C22="Greenspace",$C22="Community food growing",$C22="Woodland",$C22="Shrub",$C22="Water"),"|||"&$C22,(VLOOKUP('Stage 2'!$E$9,Lookups!$C$135:$D$140,2,FALSE)&"|"&$C22&"|"&VLOOKUP('Stage 2'!$E$12,Lookups!$C$144:$D$145,2,FALSE)&"|"&VLOOKUP('Stage 2'!$E$11,Lookups!$C$104:$E$126,3,FALSE)&"|"&VLOOKUP($E$10,Lookups!$C$135:$D$140,2,FALSE)))),Lookups!$H$19:$J$100,3,FALSE), IFERROR($D22*VLOOKUP($C22&"|"&VLOOKUP('Stage 2'!$E$12,Lookups!$C$144:$D$145,2,FALSE)&"|"&VLOOKUP('Stage 2'!$E$11,Lookups!$C$104:$E$126,3,FALSE)&"|"&VLOOKUP($E$10,Lookups!$C$135:$D$140,2,FALSE),Lookups!$H$43:$J$92,3,FALSE),"In the absence of real world data, this figure has been generated using the most relevant average nutrient reduction coefficient.")))
E23: =IF(OR(ISBLANK($C23),ISBLANK($D23),ISBLANK($E$10),ISBLANK($E$11)),"",IFERROR($D23*VLOOKUP((IF(OR($C23="Residential urban land",$C23="Commercial/industrial urban land",$C23="Open urban land",$C23="Greenspace",$C23="Community food growing",$C23="Woodland",$C23="Shrub", $C23="Water"), "|||"&$C23, (VLOOKUP('Stage 2'!$E$9,Lookups!$C$130:$D$130,2,FALSE)&"|"&$C23&"|"&VLOOKUP('Stage 2'!$E$12,Lookups!$C$144:$D$145,2,FALSE)&"|"&VLOOKUP('Stage 2'!$E$11,Lookups!$C$104:$E$126,3,FALSE)&"|"&VLOOKUP($E$10,Lookups!$C$135:$D$140,2,FALSE)))),Lookups!$H$19:$J$100,2,FALSE), IFERROR(IFERROR($D23*VLOOKUP($C23&"|"&VLOOKUP('Stage 2'!$E$12,Lookups!$C$144:$D$145,2,FALSE)&"|"&VLOOKUP('Stage 2'!$E$11,Lookups!$C$104:$E$126,3,FALSE)&"|"&VLOOKUP($E$10,Lookups!$C$135:$D$140,2,FALSE),Lookups!$H$19:$J$100,2,FALSE),IFERROR($D23*VLOOKUP($C23&"|"&"TRUE"&"|"&VLOOKUP('Stage 2'!$E$11,Lookups!$C$104:$E$126,3,FALSE)&"|"&VLOOKUP($E$10,Lookups!$C$135:$D$140,2,FALSE),Lookups!$H$19:$J$100,2,FALSE),$D23*VLOOKUP($C23&"|"&VLOOKUP('Stage 2'!$E$12,Lookups!$C$144:$D$145,2,FALSE)&"|"&VLOOKUP('Stage 2'!$E$11,Lookups!$C$104:$E$126,3,FALSE)&"|"&"DrainedArGr",Lookups!$H$19:$J$100,2,FALSE))),IFERROR($D23*VLOOKUP($C23&"|"&VLOOKUP('Stage 2'!$E$11,Lookups!$C$104:$E$126,3,FALSE),Lookups!$K$19:$M$92,2,FALSE),$D23*VLOOKUP($C23,Lookups!$D$19:$O$92,11,FALSE))))) | F23: =IF(OR(ISBLANK($C23),ISBLANK($D23),ISBLANK($E$10),ISBLANK($E$11)),"",IFERROR($D23*VLOOKUP((IF(OR($C23="Residential urban land",$C23="Commercial/industrial urban land",$C23="Open urban land",$C23="Greenspace",$C23="Community food growing",$C23="Woodland",$C23="Shrub", $C23="Water"), "|||"&$C23, (VLOOKUP('Stage 2'!$E$9,Lookups!$C$130:$D$130,2,FALSE)&"|"&$C23&"|"&VLOOKUP('Stage 2'!$E$12,Lookups!$C$144:$D$145,2,FALSE)&"|"&VLOOKUP('Stage 2'!$E$11,Lookups!$C$104:$E$126,3,FALSE)&"|"&VLOOKUP($E$10,Lookups!$C$135:$D$140,2,FALSE)))),Lookups!$H$19:$J$100,3,FALSE), IFERROR(IFERROR($D23*VLOOKUP($C23&"|"&VLOOKUP('Stage 2'!$E$12,Lookups!$C$144:$D$145,2,FALSE)&"|"&VLOOKUP('Stage 2'!$E$11,Lookups!$C$104:$E$126,3,FALSE)&"|"&VLOOKUP($E$10,Lookups!$C$135:$D$140,2,FALSE),Lookups!$H$19:$J$100,3,FALSE),IFERROR($D23*VLOOKUP($C23&"|"&"TRUE"&"|"&VLOOKUP('Stage 2'!$E$11,Lookups!$C$104:$E$126,3,FALSE)&"|"&VLOOKUP($E$10,Lookups!$C$135:$D$140,2,FALSE),Lookups!$H$19:$J$100,3,FALSE),$D23*VLOOKUP($C23&"|"&VLOOKUP('Stage 2'!$E$12,Lookups!$C$144:$D$145,2,FALSE)&"|"&VLOOKUP('Stage 2'!$E$11,Lookups!$C$104:$E$126,3,FALSE)&"|"&"DrainedArGr",Lookups!$H$19:$J$100,3,FALSE))),IFERROR($D23*VLOOKUP($C23&"|"&VLOOKUP('Stage 2'!$E$11,Lookups!$C$104:$E$126,3,FALSE),Lookups!$K$19:$M$92,3,FALSE),$D23*VLOOKUP($C23,Lookups!$D$19:$O$92,12,FALSE))))) | G23: =IF( OR(ISBLANK($C23),ISBLANK($D23),ISBLANK($E$10),ISBLANK($E$9),ISBLANK($E$11),$C23="Residential urban land",$C23="Commercial/industrial urban land",$C23="Open urban land",$C23="Greenspace",$C23="Community food growing",$C23="Woodland",$C23="Shrub",$C23="Water"),"",IFERROR($D23*VLOOKUP((IF( OR($C23="Residential urban land",$C23="Commercial/industrial urban land",$C23="Open urban land",$C23="Greenspace",$C23="Community food growing",$C23="Woodland",$C23="Shrub",$C23="Water"),"|||"&$C23,(VLOOKUP('Stage 2'!$E$9,Lookups!$C$135:$D$140,2,FALSE)&"|"&$C23&"|"&VLOOKUP('Stage 2'!$E$12,Lookups!$C$144:$D$145,2,FALSE)&"|"&VLOOKUP('Stage 2'!$E$11,Lookups!$C$104:$E$126,3,FALSE)&"|"&VLOOKUP($E$10,Lookups!$C$135:$D$140,2,FALSE)))),Lookups!$H$19:$J$100,3,FALSE), IFERROR($D23*VLOOKUP($C23&"|"&VLOOKUP('Stage 2'!$E$12,Lookups!$C$144:$D$145,2,FALSE)&"|"&VLOOKUP('Stage 2'!$E$11,Lookups!$C$104:$E$126,3,FALSE)&"|"&VLOOKUP($E$10,Lookups!$C$135:$D$140,2,FALSE),Lookups!$H$43:$J$92,3,FALSE),"In the absence of real world data, this figure has been generated using the most relevant average nutrient reduction coefficient.")))
E24: =IF(OR(ISBLANK($C24),ISBLANK($D24),ISBLANK($E$10),ISBLANK($E$11)),"",IFERROR($D24*VLOOKUP((IF(OR($C24="Residential urban land",$C24="Commercial/industrial urban land",$C24="Open urban land",$C24="Greenspace",$C24="Community food growing",$C24="Woodland",$C24="Shrub", $C24="Water"), "|||"&$C24, (VLOOKUP('Stage 2'!$E$9,Lookups!$C$130:$D$130,2,FALSE)&"|"&$C24&"|"&VLOOKUP('Stage 2'!$E$12,Lookups!$C$144:$D$145,2,FALSE)&"|"&VLOOKUP('Stage 2'!$E$11,Lookups!$C$104:$E$126,3,FALSE)&"|"&VLOOKUP($E$10,Lookups!$C$135:$D$140,2,FALSE)))),Lookups!$H$19:$J$100,2,FALSE), IFERROR(IFERROR($D24*VLOOKUP($C24&"|"&VLOOKUP('Stage 2'!$E$12,Lookups!$C$144:$D$145,2,FALSE)&"|"&VLOOKUP('Stage 2'!$E$11,Lookups!$C$104:$E$126,3,FALSE)&"|"&VLOOKUP($E$10,Lookups!$C$135:$D$140,2,FALSE),Lookups!$H$19:$J$100,2,FALSE),IFERROR($D24*VLOOKUP($C24&"|"&"TRUE"&"|"&VLOOKUP('Stage 2'!$E$11,Lookups!$C$104:$E$126,3,FALSE)&"|"&VLOOKUP($E$10,Lookups!$C$135:$D$140,2,FALSE),Lookups!$H$19:$J$100,2,FALSE),$D24*VLOOKUP($C24&"|"&VLOOKUP('Stage 2'!$E$12,Lookups!$C$144:$D$145,2,FALSE)&"|"&VLOOKUP('Stage 2'!$E$11,Lookups!$C$104:$E$126,3,FALSE)&"|"&"DrainedArGr",Lookups!$H$19:$J$100,2,FALSE))),IFERROR($D24*VLOOKUP($C24&"|"&VLOOKUP('Stage 2'!$E$11,Lookups!$C$104:$E$126,3,FALSE),Lookups!$K$19:$M$92,2,FALSE),$D24*VLOOKUP($C24,Lookups!$D$19:$O$92,11,FALSE))))) | F24: =IF(OR(ISBLANK($C24),ISBLANK($D24),ISBLANK($E$10),ISBLANK($E$11)),"",IFERROR($D24*VLOOKUP((IF(OR($C24="Residential urban land",$C24="Commercial/industrial urban land",$C24="Open urban land",$C24="Greenspace",$C24="Community food growing",$C24="Woodland",$C24="Shrub", $C24="Water"), "|||"&$C24, (VLOOKUP('Stage 2'!$E$9,Lookups!$C$130:$D$130,2,FALSE)&"|"&$C24&"|"&VLOOKUP('Stage 2'!$E$12,Lookups!$C$144:$D$145,2,FALSE)&"|"&VLOOKUP('Stage 2'!$E$11,Lookups!$C$104:$E$126,3,FALSE)&"|"&VLOOKUP($E$10,Lookups!$C$135:$D$140,2,FALSE)))),Lookups!$H$19:$J$100,3,FALSE), IFERROR(IFERROR($D24*VLOOKUP($C24&"|"&VLOOKUP('Stage 2'!$E$12,Lookups!$C$144:$D$145,2,FALSE)&"|"&VLOOKUP('Stage 2'!$E$11,Lookups!$C$104:$E$126,3,FALSE)&"|"&VLOOKUP($E$10,Lookups!$C$135:$D$140,2,FALSE),Lookups!$H$19:$J$100,3,FALSE),IFERROR($D24*VLOOKUP($C24&"|"&"TRUE"&"|"&VLOOKUP('Stage 2'!$E$11,Lookups!$C$104:$E$126,3,FALSE)&"|"&VLOOKUP($E$10,Lookups!$C$135:$D$140,2,FALSE),Lookups!$H$19:$J$100,3,FALSE),$D24*VLOOKUP($C24&"|"&VLOOKUP('Stage 2'!$E$12,Lookups!$C$144:$D$145,2,FALSE)&"|"&VLOOKUP('Stage 2'!$E$11,Lookups!$C$104:$E$126,3,FALSE)&"|"&"DrainedArGr",Lookups!$H$19:$J$100,3,FALSE))),IFERROR($D24*VLOOKUP($C24&"|"&VLOOKUP('Stage 2'!$E$11,Lookups!$C$104:$E$126,3,FALSE),Lookups!$K$19:$M$92,3,FALSE),$D24*VLOOKUP($C24,Lookups!$D$19:$O$92,12,FALSE))))) | G24: =IF( OR(ISBLANK($C24),ISBLANK($D24),ISBLANK($E$10),ISBLANK($E$9),ISBLANK($E$11),$C24="Residential urban land",$C24="Commercial/industrial urban land",$C24="Open urban land",$C24="Greenspace",$C24="Community food growing",$C24="Woodland",$C24="Shrub",$C24="Water"),"",IFERROR($D24*VLOOKUP((IF( OR($C24="Residential urban land",$C24="Commercial/industrial urban land",$C24="Open urban land",$C24="Greenspace",$C24="Community food growing",$C24="Woodland",$C24="Shrub",$C24="Water"),"|||"&$C24,(VLOOKUP('Stage 2'!$E$9,Lookups!$C$135:$D$140,2,FALSE)&"|"&$C24&"|"&VLOOKUP('Stage 2'!$E$12,Lookups!$C$144:$D$145,2,FALSE)&"|"&VLOOKUP('Stage 2'!$E$11,Lookups!$C$104:$E$126,3,FALSE)&"|"&VLOOKUP($E$10,Lookups!$C$135:$D$140,2,FALSE)))),Lookups!$H$19:$J$100,3,FALSE), IFERROR($D24*VLOOKUP($C24&"|"&VLOOKUP('Stage 2'!$E$12,Lookups!$C$144:$D$145,2,FALSE)&"|"&VLOOKUP('Stage 2'!$E$11,Lookups!$C$104:$E$126,3,FALSE)&"|"&VLOOKUP($E$10,Lookups!$C$135:$D$140,2,FALSE),Lookups!$H$43:$J$92,3,FALSE),"In the absence of real world data, this figure has been generated using the most relevant average nutrient reduction coefficient.")))
E25: =IF(OR(ISBLANK($C25),ISBLANK($D25),ISBLANK($E$10),ISBLANK($E$11)),"",IFERROR($D25*VLOOKUP((IF(OR($C25="Residential urban land",$C25="Commercial/industrial urban land",$C25="Open urban land",$C25="Greenspace",$C25="Community food growing",$C25="Woodland",$C25="Shrub", $C25="Water"), "|||"&$C25, (VLOOKUP('Stage 2'!$E$9,Lookups!$C$130:$D$130,2,FALSE)&"|"&$C25&"|"&VLOOKUP('Stage 2'!$E$12,Lookups!$C$144:$D$145,2,FALSE)&"|"&VLOOKUP('Stage 2'!$E$11,Lookups!$C$104:$E$126,3,FALSE)&"|"&VLOOKUP($E$10,Lookups!$C$135:$D$140,2,FALSE)))),Lookups!$H$19:$J$100,2,FALSE), IFERROR(IFERROR($D25*VLOOKUP($C25&"|"&VLOOKUP('Stage 2'!$E$12,Lookups!$C$144:$D$145,2,FALSE)&"|"&VLOOKUP('Stage 2'!$E$11,Lookups!$C$104:$E$126,3,FALSE)&"|"&VLOOKUP($E$10,Lookups!$C$135:$D$140,2,FALSE),Lookups!$H$19:$J$100,2,FALSE),IFERROR($D25*VLOOKUP($C25&"|"&"TRUE"&"|"&VLOOKUP('Stage 2'!$E$11,Lookups!$C$104:$E$126,3,FALSE)&"|"&VLOOKUP($E$10,Lookups!$C$135:$D$140,2,FALSE),Lookups!$H$19:$J$100,2,FALSE),$D25*VLOOKUP($C25&"|"&VLOOKUP('Stage 2'!$E$12,Lookups!$C$144:$D$145,2,FALSE)&"|"&VLOOKUP('Stage 2'!$E$11,Lookups!$C$104:$E$126,3,FALSE)&"|"&"DrainedArGr",Lookups!$H$19:$J$100,2,FALSE))),IFERROR($D25*VLOOKUP($C25&"|"&VLOOKUP('Stage 2'!$E$11,Lookups!$C$104:$E$126,3,FALSE),Lookups!$K$19:$M$92,2,FALSE),$D25*VLOOKUP($C25,Lookups!$D$19:$O$92,11,FALSE))))) | F25: =IF(OR(ISBLANK($C25),ISBLANK($D25),ISBLANK($E$10),ISBLANK($E$11)),"",IFERROR($D25*VLOOKUP((IF(OR($C25="Residential urban land",$C25="Commercial/industrial urban land",$C25="Open urban land",$C25="Greenspace",$C25="Community food growing",$C25="Woodland",$C25="Shrub", $C25="Water"), "|||"&$C25, (VLOOKUP('Stage 2'!$E$9,Lookups!$C$130:$D$130,2,FALSE)&"|"&$C25&"|"&VLOOKUP('Stage 2'!$E$12,Lookups!$C$144:$D$145,2,FALSE)&"|"&VLOOKUP('Stage 2'!$E$11,Lookups!$C$104:$E$126,3,FALSE)&"|"&VLOOKUP($E$10,Lookups!$C$135:$D$140,2,FALSE)))),Lookups!$H$19:$J$100,3,FALSE), IFERROR(IFERROR($D25*VLOOKUP($C25&"|"&VLOOKUP('Stage 2'!$E$12,Lookups!$C$144:$D$145,2,FALSE)&"|"&VLOOKUP('Stage 2'!$E$11,Lookups!$C$104:$E$126,3,FALSE)&"|"&VLOOKUP($E$10,Lookups!$C$135:$D$140,2,FALSE),Lookups!$H$19:$J$100,3,FALSE),IFERROR($D25*VLOOKUP($C25&"|"&"TRUE"&"|"&VLOOKUP('Stage 2'!$E$11,Lookups!$C$104:$E$126,3,FALSE)&"|"&VLOOKUP($E$10,Lookups!$C$135:$D$140,2,FALSE),Lookups!$H$19:$J$100,3,FALSE),$D25*VLOOKUP($C25&"|"&VLOOKUP('Stage 2'!$E$12,Lookups!$C$144:$D$145,2,FALSE)&"|"&VLOOKUP('Stage 2'!$E$11,Lookups!$C$104:$E$126,3,FALSE)&"|"&"DrainedArGr",Lookups!$H$19:$J$100,3,FALSE))),IFERROR($D25*VLOOKUP($C25&"|"&VLOOKUP('Stage 2'!$E$11,Lookups!$C$104:$E$126,3,FALSE),Lookups!$K$19:$M$92,3,FALSE),$D25*VLOOKUP($C25,Lookups!$D$19:$O$92,12,FALSE))))) | G25: =IF( OR(ISBLANK($C25),ISBLANK($D25),ISBLANK($E$10),ISBLANK($E$9),ISBLANK($E$11),$C25="Residential urban land",$C25="Commercial/industrial urban land",$C25="Open urban land",$C25="Greenspace",$C25="Community food growing",$C25="Woodland",$C25="Shrub",$C25="Water"),"",IFERROR($D25*VLOOKUP((IF( OR($C25="Residential urban land",$C25="Commercial/industrial urban land",$C25="Open urban land",$C25="Greenspace",$C25="Community food growing",$C25="Woodland",$C25="Shrub",$C25="Water"),"|||"&$C25,(VLOOKUP('Stage 2'!$E$9,Lookups!$C$135:$D$140,2,FALSE)&"|"&$C25&"|"&VLOOKUP('Stage 2'!$E$12,Lookups!$C$144:$D$145,2,FALSE)&"|"&VLOOKUP('Stage 2'!$E$11,Lookups!$C$104:$E$126,3,FALSE)&"|"&VLOOKUP($E$10,Lookups!$C$135:$D$140,2,FALSE)))),Lookups!$H$19:$J$100,3,FALSE), IFERROR($D25*VLOOKUP($C25&"|"&VLOOKUP('Stage 2'!$E$12,Lookups!$C$144:$D$145,2,FALSE)&"|"&VLOOKUP('Stage 2'!$E$11,Lookups!$C$104:$E$126,3,FALSE)&"|"&VLOOKUP($E$10,Lookups!$C$135:$D$140,2,FALSE),Lookups!$H$43:$J$92,3,FALSE),"In the absence of real world data, this figure has been generated using the most relevant average nutrient reduction coefficient.")))
